{"text_format":"1","workbook":"xlsx","n_sheets":26,"sheets":["COVER","INDEX","Basic Instructions","Methodology","Validation rules","GETTING STARTED","Footnotes list","Table_1","ErrorLog","Table_1 (COPY-PASTING)","StandardFootnotes","Pre-filling parameters","Changelog","MacroBehaviour","Lists","Locks","Summations","Mandatory","SimpleRatios","Thresholds","x IsFormula","MustNotBeNegative","FootnoteContent","ForbiddenStrings","IsNumeric","Table_1 (COPY)"],"not_rendered":{"charts":0,"images":3,"macros":1,"external_links":0,"defined_names":2,"comments":0,"pivot_tables":0},"unopened":[],"bounds":{"document_bytes":16777216,"sheet_cells":100000,"rows_first":2000,"rows_last":500,"rows_between":2000,"halvings":0,"cell_chars":16384,"cell_head_chars":4096},"cells_cut":0,"cells_raw":0,"read":"whole","date_system":"1900"}

{"sheet":"COVER","index":0,"n_rows":9,"n_cols":3,"rows_kept":9,"cut":false,"hidden":false,"merged":[]}
[]
[]
[null,null,{"$f":"UPPER(Lists!K3)","v":"STATISTICAL OFFICE OF THE EUROPEAN UNION"}]
[]
[null,null,{"$f":"Lists!K4","v":"Directorate E: Sectoral and regional statistics"}]
[null,null,{"$f":"Lists!K5","v":"Unit E-2: Environmental statistics and accounts; sustainable development"}]
[null,null,{"$f":"UPPER(Lists!K7)","v":"BIENNIAL WASTE STATISTICS REGULATION - WASTE GENERATION"}]
[null,null,{"$f":"CONCATENATE(Lists!K8,\" DATA COLLECTION\")","v":"2026 DATA COLLECTION"}]
[null,null,{"$f":"CONCATENATE(\"Launching date: \",Lists!K9)","v":"Launching date: 19 May 2026"}]

{"sheet":"INDEX","index":1,"n_rows":19,"n_cols":5,"rows_kept":19,"cut":false,"hidden":false,"merged":[[14,2,14,4],[1,2,1,4],[3,2,3,4],[4,2,4,4],[6,2,6,4],[8,2,8,4]]}
[]
[]
[null,null,null,null,{"$f":"UPPER(Lists!K3)","v":"STATISTICAL OFFICE OF THE EUROPEAN UNION"}]
[null,null,{"$f":"UPPER(Lists!K7)","v":"BIENNIAL WASTE STATISTICS REGULATION - WASTE GENERATION"}]
[null,null,{"$f":"CONCATENATE(Lists!K8,\" DATA COLLECTION\")","v":"2026 DATA COLLECTION"}]
[]
[null,null," INDEX - STRUCTURE OF THE QUESTIONNAIRE"]
[]
[null,null,"I. Basic information"]
[null,null,"TITLE","DESCRIPTION","TYPE"]
[null,null,"Index","Structure of the questionnaire","for information"]
[null,null,"Basic instructions ","Basic instructions","for reading before filling in the questionnaire"]
[null,null,"Methodology","Explanatory notes and methodology","for reading before filling in the questionnaire"]
[null,null,"Validation rules","Validation performed by the 'Validate questionnaire' button","for reading before filling in the questionnaire"]
[null,null,"II. Reporting data (To be filled in by the country)"]
[null,null,"TITLE","DESCRIPTION","TYPE"]
[null,null,"GETTING STARTED","Country and data collection definition. Administrative data.","for filling in"]
[null,null,"Footnotes list","List of country-specific explanatory footnotes","for filling in"]
[null,null,"Table 1","WASTE GENERATION by waste category (EWC-STAT) and economic activity (NACE)","for filling in."]

{"sheet":"Basic Instructions","index":2,"n_rows":88,"n_cols":6,"rows_kept":88,"cut":false,"hidden":false,"merged":[[84,2,84,5],[85,2,85,5],[86,2,86,5],[87,2,87,5],[76,2,76,5],[77,2,77,5],[79,2,79,5],[81,2,81,5],[82,2,82,5],[83,2,83,5],[75,2,75,5],[55,2,55,5],[58,2,58,5],[59,3,59,5],[62,2,62,5],[65,2,65,5],[66,2,66,5],[67,2,67,5],[69,2,69,5],[71,2,71,5],[72,2,72,5],[74,2,74,5],[54,2,54,5],[33,2,33,5],[35,2,35,5],[40,2,40,5],[41,2,41,5],[42,2,42,5],[44,2,44,5],[46,2,46,5],[47,2,47,5],[49,2,49,5],[51,2,51,5],[53,2,53,5],[27,3,27,5],[10,2,10,5],[11,2,11,5],[12,2,12,5],[13,2,13,5],[14,2,14,5],[15,2,15,5],[16,2,16,5],[18,2,18,5],[20,2,20,5],[22,2,22,5],[26,2,26,5],[9,2,9,5],[3,2,3,5],[4,2,4,5],[6,2,6,5],[7,2,7,5],[8,2,8,5]]}
[]
[]
[null,null,null,null,null,{"$f":"UPPER(Lists!K3)","v":"STATISTICAL OFFICE OF THE EUROPEAN UNION"}]
[null,null,{"$f":"UPPER(Lists!K7)","v":"BIENNIAL WASTE STATISTICS REGULATION - WASTE GENERATION"}]
[null,null,{"$f":"CONCATENATE(Lists!K8,\" DATA COLLECTION\")","v":"2026 DATA COLLECTION"}]
[]
[null,null,"BASIC INSTRUCTIONS"]
[null,null,"Before filling in the questionnaire please read carefully the instructions below. This EXCEL workbook is the questionnaire. Please do not  delete or add rows in the questionnaire."]
[null,null,"This EXCEL workbook contains macros. In order to make them work you need to save the file in your computer and then reopen it and enable macros resp. make it a trusted document."]
[null,null,"Once you filled in all the required fields, you have to validate the data before submitting the questionnaire (clicking on the button 'Validate questionnaire' on the top left-hand corner of the worksheets). It is of the utmost importance to confirm that there are no pending errors (see 'Errorlog' worksheet), since a questionnaire with errors (red shadowed cells) will be rejected. You can restore the color of the table clicking on 'Restore table color'."]
[null,null,"Table of contents"]
[null,null,"   1. Data transmission"]
[null,null,"   2. Reporting conventions"]
[null,null,"   3. Metadata"]
[" ","  ","   4. Footnotes"]
[null,null,"   5. Methodology and questions"]
[null,null,"   Annex: How to fill in the data sheets of the questionnaire"]
[]
[null,null,"1. Data transmission:"]
[]
[null,null,"The standard tool for the transmission of statistical data is the eDAMIS system. The system creates a secure environment for the transmission of data, it records all data submissions and acknowledges the data delivery. The eDAMIS system has been installed in the National Statistical Institutes."]
[]
[null,null,"Please submit this questionnaire to Eurostat using the eDAMIS reporting system. Use the following details: "]
[null,null,"Domain name:",{"$f":"Lists!K12","v":"WASTE"}]
[null,null,"Dataset name:",{"$f":"Lists!K13","v":"WASTE_GEN"}]
[]
[null,null,"Should you have any questions regarding data transmission do not hesitate to contact your local eDAMIS coordinator or the Eurostat eDAMIS helpdesk at: "]
[null,null,"   web page:",{"$f":"Lists!K14","v":"https://webgate.ec.europa.eu/edamis/helpcenter/website/index.htm"}]
[null,null,"   e-mail address:",{"$f":"Lists!K15","v":"estat-support-edamis@ec.europa.eu"}]
[null,null,"   telephone:",{"$f":"Lists!K17","v":"(+352) 4301 33213"}]
[null,null,"For methodological questions please contact:"]
[null,null,"   e-mail address:",{"$f":"Lists!K18","v":"ESTAT-WASTE-STATISTICS@EC.EUROPA.EU"}]
[]
[null,null,"2.  Reporting conventions:"]
[]
[null,null,"Reporting of zeroes and not availble data must follow this convention:"]
[null,null,"Description","Symbol"]
[null,null,"Real zero",0]
[null,null,"Not available",null," (empty cell)"]
[]
[null,null,"1. White shaded (uncoloured) boxes: Provision of data is mandatory"]
[null,null,"2. Black shaded boxes: reporting is not applicable"]
[null,null,"3. Grey shaded boxes: calculation is automatic; do not input any data into these cells. IF exceptionally you need to input data in a grey cell, first press the \"unlock formulas\" button situated in the top left-hand corner of each sheet."]
[]
[null,null,"3. Metadata:"]
[]
[null,null,"Please provide data by means of the Metadatahandler, available in the following link: "]
[null,null,"https://webgate.ec.europa.eu/estat/spe/metaconv/home.htm"]
[]
[null,null,"4. Footnotes:"]
[]
[null,null,"You are asked to report data that follow as closely as possible the Waste Statistics Regulation waste definitions and reporting rules (see paragraphs below). Please report problems with the coverage or data quality in the Metadatahandler."]
[]
[null,null,"Flags (footnote symbols) should be entered in the reporting tables in the footnote columns, next to the value cell. There are two types of footnotes: "]
[null,null,"- Letters for standard footnotes (as defined by Eurostat) and…"]
[null,null,"- Numbers for country-specific footnotes (to be defined by the data compilers). "]
[]
[null,null,"4.1 Standard footnotes"]
[null,null,"The following footnotes will be used for the automatic data processing and data dissemination. Hence, they cannot be changed:"]
[null,null,"B) break in series","Please use this flag when the reported figure cannot be compared to the data reported for the previous year, e.g. because of new methods or sources being used or when you move from the old calculation rules to the new calculation rules. Please use this flag only when the change in methods, sources or calculation rules has a substantial impact."]
[null,null,"E) estimated data"]
[null,null,"P) provisional"]
[null,null,"The drop-down menu includes as well combinations of footnotes. If you need to put more than one footnote in a field, please, use these combinations in the drop-down menu."]
[]
[null,null,"4.2 Country-specific explanatory footnotes"]
[null,null,"The explanatory footnotes can be used for any meaning beyond the pre-defined footnotes."]
[null,null,"To include an explanatory footnote, please first insert the text in the “Footnote list” sheet starting from number 1. Then in the data table please select the corresponding footnote reference number from the drop-down menu in the footnote column next to the value cell. The text you entered in the “Footnote list” sheet will then appear automatically next to the footnote reference number. The same explanatory footnote can be chosen for all the values for which the same explanation applies. If by mistake a number is chosen from the drop-down menu, it is sufficient to press the key delete to clean the cell."]
[null,null,"Please do not report footnotes that elaborate on e.g. source data and compilation methods; these are to be described in the quality report and the metadata sheets. "]
[]
[null,null,"5. Methodology and questions:"]
[]
[null,null,"Guidance and the Manual on waste statistics are available on Eurostat website:"]
[null,null,{"$f":"Lists!K19","v":"https://ec.europa.eu/eurostat/web/waste/methodology"}]
[]
[null,null,"The guidelines contain definitions, examples and recommendations to ensure that data are compiled and maintained on a consistent basis. They explain the scope and the reasoning behind the terms of the tables, and provide extra information necessary to allow a consistent collection and interpretation of the data to be reported by countries."]
[null,null,"A summary methodology is presented in this questionnaire, in the sheet named 'Methodology'. It is essential to read this sheet before filling in the questionnaire as it contains, beside the summary methodology, important information on priorities for filling in the tables, data sources and hints for establishing a methodology at national level."]
[null,null,"If you have questions, please send them to the following email addresses:"]
[null,null,{"$f":"Lists!K18","v":"ESTAT-WASTE-STATISTICS@EC.EUROPA.EU"}]
[]
[null,null,"Annex: How to fill in the data sheets of the questionnaire"]
[]
[null,null,"You are kindly requested to:"]
[null,null,"1)    All mandatory data cells (whilte cells) must be filled in with a positive value or a zero."]
[null,null,"2)    Cells, which contain sums, are filled in automatically, unless there are empty fields in one of the summands. In this case, the field containing the sum has to be filled as well. In case, you  assume that a formula should be added in a cell, please, send us an email with this formula. Please, do not add the formula yourself. The formula may be helpful all countries."]
[null,null,"3)    Flags (footnote symbols) can be entered in the reporting tables in the footnote columns."]
[null,null,"4)    To include standard footnotes use the drop-down menu."]
[null,null,"5)    The text of specific footnotes can be entered in the worksheet 'Footnotes list'."]
[null,null,"6)    Empty fields are a breach of the Regulation 2150/2002. An explanation, why the value is not available, has to be entered."]

{"sheet":"Methodology","index":3,"n_rows":34,"n_cols":6,"rows_kept":34,"cut":false,"hidden":false,"merged":[[31,2,31,5],[32,2,32,5],[33,2,33,5],[24,2,24,5],[3,2,3,5],[4,2,4,5],[6,2,6,5],[7,2,7,5],[8,2,8,5],[23,2,23,5],[18,2,18,5],[27,2,27,5],[25,2,25,5],[9,2,9,5],[10,2,10,5],[14,2,14,5],[16,2,16,5],[19,2,19,5],[26,2,26,5]]}
[]
[]
[null,null,null,null,null,{"$f":"UPPER(Lists!K3)","v":"STATISTICAL OFFICE OF THE EUROPEAN UNION"}]
[null,null,{"$f":"UPPER(Lists!K7)","v":"BIENNIAL WASTE STATISTICS REGULATION - WASTE GENERATION"}]
[null,null,{"$f":"CONCATENATE(Lists!K8,\" DATA COLLECTION\")","v":"2026 DATA COLLECTION"}]
[]
[null,null,"METHODOLOGY AND LEGAL ACTS"]
[null,null,"Table of contents"]
[null,null,"   1. Background"]
[null,null,"   2. Legal acts"]
[null,null,"   3. Data reporting - questionnaire"]
[]
[null,null,"1. Background"]
[]
[null,null,"Regular Community statistics on the production and management of waste from businesses and private households are required by the Community for monitoring the implementation of waste policy. Regulation (EC) No 2150/2002 of the European Parliament and of the Council of 25 November 2002 on waste statistics creates the basis for monitoring compliance with the principles of maximisation of recovery and safe disposal."]
[]
[null,null,"This reporting template allows Member States to report waste generation pursuant to the requirements of this Regulation and the amending Commission Regulation (EU) No 849/2010."]
[]
[null,null,"The guidelines are available here:"]
[null,null,{"$f":"Lists!K19","v":"https://ec.europa.eu/eurostat/web/waste/methodology"}]
[]
[null,null,"2.  Legal acts"]
[]
[null,null,"European Parliament and Council Regulation 2002/2150 was last amended by amending Commission Regulation (EU) No 849/2010."]
[null,null,"Definitions and classifications in these Regulations are based on the Waste Framework Directive - Directive 2008/98/EC of the European Parliament and the Council  (https://eur-lex.europa.eu/legal-content/EN/TXT/?uri=CELEX:02008L0098-20180705)"]
[null,null,"The legislation is available here:"]
[null,null,"https://ec.europa.eu/eurostat/web/waste/legislation"]
[null,null,"https://eur-lex.europa.eu/legal-content/EN/TXT/?uri=CELEX:02008L0098-20180705"]
[]
[null,null,"3. Data reporting - questionnaire"]
[]
[null,null,"This document assists Member States to report high quality, harmonised and efficient statistics. Detailed instructions can be found in the guidance document referred to above."]
[null,null,"The reporting shall cover a full calendar year."]
[null,null,"The basic instructions sheet consists of some information necessary for filling in this questionnaire correctly, like unit of measure, allowed symbols, metadata, footnotes, and transmission to Eurostat."]

{"sheet":"Validation rules","index":4,"n_rows":31,"n_cols":6,"rows_kept":31,"cut":false,"hidden":false,"merged":[[21,2,21,5],[30,2,30,5],[10,2,10,5],[14,2,14,5],[15,2,15,5],[16,2,16,5],[20,2,20,5],[22,2,22,5],[23,2,23,5],[24,2,24,5],[25,2,25,5],[26,2,26,5],[9,2,9,5],[3,2,3,5],[4,2,4,5],[6,2,6,5],[7,2,7,5],[8,2,8,5]]}
[]
[]
[null,null,null,null,null,{"$f":"UPPER(Lists!K3)","v":"STATISTICAL OFFICE OF THE EUROPEAN UNION"}]
[null,null,{"$f":"UPPER(Lists!K7)","v":"BIENNIAL WASTE STATISTICS REGULATION - WASTE GENERATION"}]
[null,null,{"$f":"CONCATENATE(Lists!K8,\" DATA COLLECTION\")","v":"2026 DATA COLLECTION"}]
[]
[null,null,"VALIDATION RULES"]
[null,null,"Table of contents"]
[null,null,"  1. Mandatory data"]
[null,null,"  2. Arithmetic rules"]
[null,null,"  3. Explanatory footnotes"]
[]
[null,null,"1. Mandatory Data:"]
[]
[null,null,"All the information requested in the sheet \"GETTING STARTED\" must be filled in."]
[null,null,"All the mandatory cells (white cells) in table 1 must be filled-in."]
[null,null,"If mandatory cells are left empty, an explanation why the data is missing has to be provided by means of the \"Explanatory footnote\" next to the missing value. "]
[]
[null,null,"2. Arithmetic rules"]
[]
[null,null,"All reported values must be equal or bigger than 0 (positive values)."]
[null,null,"Hazardous plus non-hazardous waste must be equal to the total for each waste category."]
[null,null,"Total waste (coded as TOTAL) must equal to the sum of all EWCstat. categories"]
[null,null,"Total Waste (excluding mineral waste) coded as TOT_X_MIN must be equal to the sum of all EWCstat. minus the following categories:\n  - 12.1 Mineral waste from construction and demolition (coded W121)\n  - 12.2,12.3 and 12.5 Other mineral wastes (Coded W12B)\n  - 12.6 Soils (coded W126)\n  - 12.7 Dredging spoils (coded W127)"]
[null,null,"Primary waste, coded as PRIM, must be equal to the sum of all EWCstat. categories minus\n  - 03.3 Sludges and liquid waste from waste treatment (Coded W033)\n  - 10.3 Sorting residues (Coded W103)\n  - 128_13 Mineral waste from waste treatment and stabilised waste (Coded W128_13)"]
[null,null,"Secondary waste, coded as SEC, must be equal to the sum of the following EWCstat. categories                                                \n- 03.3 Sludges and liquid waste from waste treatment (Coded W033)\n  - 10.3 Sorting residues (Coded W103)\n  - 128_13 Mineral waste from waste treatment and stabilised waste (Coded W128_13)"]
[null,null,"All NACE activities plus households, coded as TOTAL_HH, must equal the sum of the all NACE classes plus households."]
[]
[null,null,"3. Explanatory footnotes"]
[]
[null,null,"When an explanatory footnote is referenced (by means of a number selected from the drop-down list), the referenced footnote in the sheet \"Footnotes list\" must not be empty."]

{"sheet":"GETTING STARTED","index":5,"n_rows":23,"n_cols":7,"rows_kept":23,"cut":false,"hidden":false,"merged":[[17,3,17,6],[19,3,19,6],[21,3,21,6],[22,2,22,6],[3,2,3,6],[4,2,4,6],[6,2,6,6],[11,2,11,6],[13,3,13,6],[15,3,15,6]]}
[]
[]
[null,null,null,null,null,null,{"$f":"UPPER(Lists!K3)","v":"STATISTICAL OFFICE OF THE EUROPEAN UNION"}]
[null,null,{"$f":"UPPER(Lists!K7)","v":"BIENNIAL WASTE STATISTICS REGULATION - WASTE GENERATION"}]
[null,null,{"$f":"CONCATENATE(Lists!K8,\" DATA COLLECTION\")","v":"2026 DATA COLLECTION"}]
[]
[null,null," GETTING STARTED"]
[]
[null,null,"Please select your country (click on the white cell):",null,"Croatia",null,{"$f":"IF(E9=\"\",\"\",VLOOKUP(E9,Lists!A2:B44,2,FALSE))","v":"HR"}]
[null,null,"Reference year:    ",null,2024]
[null,null,{"$f":"CONCATENATE(\"The due date for reporting is \",Lists!K10)","v":"The due date for reporting is 30 June 2026"}]
[null,null,{"$f":"\"Who is the primary contact point for the data collection '\" &  Lists!K7&\"' in your country?\"","v":"Who is the primary contact point for the data collection 'Biennial Waste Statistics Regulation - Waste Generation' in your country?"}]
[]
[null,null,"Name:","Antonija Šemanjski"]
[]
[null,null,"Institution:","Ministry of Environmental Protection and Green Transition"]
[]
[null,null,"Unit:","Institute for Environment and Nature"]
[]
[null,null,"Telephone:","+385 1 5581 667"]
[]
[null,null,"Email adress:","antonija.semanjski@mzozt.hr"]
[null,null,"Eurostat would be grateful if you could send us the completed questionnaire ahead of the deadline. "]

{"sheet":"Footnotes list","index":6,"n_rows":58,"n_cols":5,"rows_kept":58,"cut":false,"hidden":false,"merged":[[1,3,1,4],[3,3,3,4],[4,3,4,4],[6,3,6,4],[7,3,7,4]]}
[]
[]
[null,null,null,null,{"$f":"UPPER(Lists!K3)","v":"STATISTICAL OFFICE OF THE EUROPEAN UNION"}]
[null,null,null,{"$f":"UPPER(Lists!K7)","v":"BIENNIAL WASTE STATISTICS REGULATION - WASTE GENERATION"}]
[null,null,null,{"$f":"CONCATENATE(Lists!K8,\" DATA COLLECTION\")","v":"2026 DATA COLLECTION"}]
[]
[null,null,null,"EXPLANATORY FOOTNOTES"]
[null,null,null,{"$f":"IF('GETTING STARTED'!E9=\"\",\"\",'GETTING STARTED'!E9)","v":"Croatia"}]
[null,null,null,1,"Type your text here."]
[null,null,null,2]
[null,null,null,3]
[null,null,null,4]
[null,null,null,5]
[null,null,null,6]
[null,null,null,7]
[null,null,null,8]
[null,null,null,9]
[null,null,null,10]
[null,null,null,11]
[null,null,null,12]
[null,null,null,13]
[null,null,null,14]
[null,null,null,15]
[null,null,null,16]
[null,null,null,17]
[null,null,null,18]
[null,null,null,19]
[null,null,null,20]
[null,null,null,21]
[null,null,null,22]
[null,null,null,23]
[null,null,null,24]
[null,null,null,25]
[null,null,null,26]
[null,null,null,27]
[null,null,null,28]
[null,null,null,29]
[null,null,null,30]
[null,null,null,31]
[null,null,null,32]
[null,null,null,33]
[null,null,null,34]
[null,null,null,35]
[null,null,null,36]
[null,null,null,37]
[null,null,null,38]
[null,null,null,39]
[null,null,null,40]
[null,null,null,41]
[null,null,null,42]
[null,null,null,43]
[null,null,null,44]
[null,null,null,45]
[null,null,null,46]
[null,null,null,47]
[null,null,null,48]
[null,null,null,49]
[null,null,null,50]

{"sheet":"Table_1","index":7,"n_rows":136,"n_cols":116,"rows_kept":136,"cut":false,"hidden":false,"merged":[[25,3,27,3],[37,1,39,1],[34,1,36,1],[31,1,33,1],[28,1,30,1],[7,1,9,1],[10,1,12,1],[13,1,15,1],[6,1,6,5],[16,1,18,1],[19,1,21,1],[22,1,24,1],[7,3,9,3],[10,3,12,3],[13,3,15,3],[16,3,18,3],[19,3,21,3],[22,3,24,3],[28,3,30,3],[31,3,33,3],[34,3,36,3],[37,3,39,3],[40,3,42,3],[94,3,96,3],[97,3,99,3],[46,3,48,3],[58,3,60,3],[61,3,63,3],[64,3,66,3],[67,3,69,3],[49,3,51,3],[52,3,54,3],[55,3,57,3],[43,3,45,3],[88,3,90,3],[91,3,93,3],[76,3,78,3],[79,3,81,3],[82,3,84,3],[85,3,87,3],[70,3,72,3],[73,3,75,3],[97,1,99,1],[94,1,96,1],[91,1,93,1],[100,3,102,3],[103,3,105,3],[115,3,117,3],[115,1,117,1],[103,1,105,1],[100,1,102,1],[106,1,108,1],[106,3,108,3],[109,1,111,1],[109,3,111,3],[112,1,114,1],[112,3,114,3],[88,1,90,1],[85,1,87,1],[82,1,84,1],[79,1,81,1],[76,1,78,1],[73,1,75,1],[25,1,27,1],[67,1,69,1],[64,1,66,1],[61,1,63,1],[58,1,60,1],[55,1,57,1],[52,1,54,1],[49,1,51,1],[70,1,72,1],[46,1,48,1],[43,1,45,1],[40,1,42,1],[5,6,5,10],[5,11,5,15],[6,44,6,45],[5,41,5,45],[5,36,5,40],[5,31,5,35],[5,26,5,30],[5,21,5,25],[5,16,5,20],[6,9,6,10],[6,14,6,15],[6,19,6,20],[6,24,6,25],[6,29,6,30],[6,34,6,35],[6,39,6,40],[6,114,6,115],[5,111,5,115],[5,106,5,110],[5,101,5,105],[5,96,5,100],[6,74,6,75],[6,79,6,80],[6,84,6,85],[6,89,6,90],[6,94,6,95],[5,46,5,50],[5,91,5,95],[5,86,5,90],[5,81,5,85],[5,76,5,80],[5,71,5,75],[6,99,6,100],[6,104,6,105],[6,109,6,110],[6,54,6,55],[6,59,6,60],[6,64,6,65],[6,69,6,70],[5,66,5,70],[5,61,5,65],[5,56,5,60],[5,51,5,55],[6,49,6,50]]}
[]
[]
[null,"Country:",null,{"$f":"IF('GETTING STARTED'!E9=\"\",\"\",'GETTING STARTED'!$E$9)","v":"Croatia"},null,{"$f":"IF('GETTING STARTED'!G9=\"\",\"\",'GETTING STARTED'!$G$9)","v":"HR"}]
[null,"Reference year:",null,{"$f":"IF('GETTING STARTED'!E10=\"\",\"\",'GETTING STARTED'!$E$10)","v":2024}]
[null,null,null,null,null,null,"A",null,null,null,null,"B",null,null,null,null,"C10-C12",null,null,null,null,"C13-C15",null,null,null,null,"C16",null,null,null,null,"C17_C18",null,null,null,null,"C19",null,null,null,null,"C20-C22",null,null,null,null,"C23",null,null,null,null,"C24_C25",null,null,null,null,"C26-C30",null,null,null,null,"C31-C33",null,null,null,null,"C",null,null,null,null,"D",null,null,null,null,"E36_E37_E39",null,null,null,null,"E38",null,null,null,null,"E",null,null,null,null,"F",null,null,null,null,"G-U_X_G4677",null,null,null,null,"G4677",null,null,null,null,"EP_HH",null,null,null,null,"TOTAL_HH"]
[null,"Unit: Tonnes",null,"T",null,null,{"$f":"G5","v":"A"},null,null,null,null,{"$f":"L5","v":"B"},null,null,null,null,{"$f":"Q5","v":"C10-C12"},null,null,null,null,{"$f":"V5","v":"C13-C15"},null,null,null,null,{"$f":"AA5","v":"C16"},null,null,null,null,{"$f":"AF5","v":"C17_C18"},null,null,null,null,{"$f":"AK5","v":"C19"},null,null,null,null,{"$f":"AP5","v":"C20-C22"},null,null,null,null,{"$f":"AU5","v":"C23"},null,null,null,null,{"$f":"AZ5","v":"C24_C25"},null,null,null,null,{"$f":"BE5","v":"C26-C30"},null,null,null,null,{"$f":"BJ5","v":"C31-C33"},null,null,null,null,{"$f":"BO5","v":"C"},null,null,null,null,{"$f":"BT5","v":"D"},null,null,null,null,{"$f":"BY5","v":"E36_E37_E39"},null,null,null,null,{"$f":"CD5","v":"E38"},null,null,null,null,{"$f":"CI5","v":"E"},null,null,null,null,{"$f":"CN5","v":"F"},null,null,null,null,{"$f":"CS5","v":"G-U_X_G4677"},null,null,null,null,{"$f":"CX5","v":"G4677"},null,null,null,null,{"$f":"DC5","v":"EP_HH"},null,null,null,null,{"$f":"DH5","v":"TOTAL_HH"}]
[null,"WASTE GENERATION\nby waste category (EWC-STAT)\nand economic activity (NACE)",null,null,null,null,"Agriculture, forestry and fishing","Standard footnote","Confidentiality footnote","Explanatory footnote",null,"Mining and quarrying","Standard footnote","Confidentiality footnote","Explanatory footnote",null,"Manufacture of food products; beverages and tobacco products","Standard footnote","Confidentiality footnote","Explanatory footnote",null,"Manufacture of textiles, wearing apparel, leather and related products","Standard footnote","Confidentiality footnote","Explanatory footnote",null,"Manufacture of wood and of products of wood and cork, except furniture; manufacture of articles of straw and plaiting materials","Standard footnote","Confidentiality footnote","Explanatory footnote",null,"Manufacture of paper and paper products; printing and reproduction of recorded media","Standard footnote","Confidentiality footnote","Explanatory footnote",null,"Manufacture of coke and refined petroleum products","Standard footnote","Confidentiality footnote","Explanatory footnote",null,"Manufacture of chemical, pharmaceutical, rubber and plastic products","Standard footnote","Confidentiality footnote","Explanatory footnote",null,"Manufacture of other non-metallic mineral products","Standard footnote","Confidentiality footnote","Explanatory footnote",null,"Manufacture of basic metals and fabricated metal products, except machinery and equipment","Standard footnote","Confidentiality footnote","Explanatory footnote",null,"Manufacture of computer, electronic and optical products, electrical equipment, motor vehicles and other transport equipment","Standard footnote","Confidentiality footnote","Explanatory footnote",null,"Manufacture of furniture; jewellery, musical instruments, toys; repair and installation of machinery and equipment","Standard footnote","Confidentiality footnote","Explanatory footnote",null,"Manufacturing","Standard footnote","Confidentiality footnote","Explanatory footnote",null,"Electricity, gas, steam and air conditioning supply","Standard footnote","Confidentiality footnote","Explanatory footnote",null,"Water collection, treatment and supply; sewerage; remediation activities and other waste management services","Standard footnote","Confidentiality footnote","Explanatory footnote",null,"Waste collection, treatment and disposal activities; materials recovery","Standard footnote","Confidentiality footnote","Explanatory footnote",null,"Water supply; sewerage, waste management and remediation activities","Standard footnote","Confidentiality footnote","Explanatory footnote",null,"Construction","Standard footnote","Confidentiality footnote","Explanatory footnote",null,"Services (except wholesale of waste and scrap)","Standard footnote","Confidentiality footnote","Explanatory footnote",null,"Wholesale of waste and scrap","Standard footnote","Confidentiality footnote","Explanatory footnote",null,"Households","Standard footnote","Confidentiality footnote","Explanatory footnote",null,"All NACE activities plus households","Standard footnote","Confidentiality footnote","Explanatory footnote"]
[null,"W011","W011","Spent solvents ","HAZ","Hazardous ",0,null,null,null,{"$f":"IF(TRIM(J8)=\"\", \"\", IF(VLOOKUP(J8,'Footnotes list'!$D$9:$E$58,2,FALSE)=0,\"\",VLOOKUP(J8,'Footnotes list'!$D$9:$E$58,2,FALSE) ) )","v":""},5.9550000000000001,null,null,null,{"$f":"IF(TRIM(O8)=\"\", \"\", IF(VLOOKUP(O8,'Footnotes list'!$D$9:$E$58,2,FALSE)=0,\"\",VLOOKUP(O8,'Footnotes list'!$D$9:$E$58,2,FALSE) ) )","v":""},0.17899999999999999,null,null,null,{"$f":"IF(TRIM(T8)=\"\", \"\", IF(VLOOKUP(T8,'Footnotes list'!$D$9:$E$58,2,FALSE)=0,\"\",VLOOKUP(T8,'Footnotes list'!$D$9:$E$58,2,FALSE) ) )","v":""},22.358000000000001,null,null,null,{"$f":"IF(TRIM(Y8)=\"\", \"\", IF(VLOOKUP(Y8,'Footnotes list'!$D$9:$E$58,2,FALSE)=0,\"\",VLOOKUP(Y8,'Footnotes list'!$D$9:$E$58,2,FALSE) ) )","v":""},1.579,null,null,null,{"$f":"IF(TRIM(AD8)=\"\", \"\", IF(VLOOKUP(AD8,'Footnotes list'!$D$9:$E$58,2,FALSE)=0,\"\",VLOOKUP(AD8,'Footnotes list'!$D$9:$E$58,2,FALSE) ) )","v":""},52.997999999999998,null,null,null,{"$f":"IF(TRIM(AI8)=\"\", \"\", IF(VLOOKUP(AI8,'Footnotes list'!$D$9:$E$58,2,FALSE)=0,\"\",VLOOKUP(AI8,'Footnotes list'!$D$9:$E$58,2,FALSE) ) )","v":""},73.48,null,null,null,{"$f":"IF(TRIM(AN8)=\"\", \"\", IF(VLOOKUP(AN8,'Footnotes list'!$D$9:$E$58,2,FALSE)=0,\"\",VLOOKUP(AN8,'Footnotes list'!$D$9:$E$58,2,FALSE) ) )","v":""},1533.9259999999999,null,null,null,{"$f":"IF(TRIM(AS8)=\"\", \"\", IF(VLOOKUP(AS8,'Footnotes list'!$D$9:$E$58,2,FALSE)=0,\"\",VLOOKUP(AS8,'Footnotes list'!$D$9:$E$58,2,FALSE) ) )","v":""},1.504,null,null,null,{"$f":"IF(TRIM(AX8)=\"\", \"\", IF(VLOOKUP(AX8,'Footnotes list'!$D$9:$E$58,2,FALSE)=0,\"\",VLOOKUP(AX8,'Footnotes list'!$D$9:$E$58,2,FALSE) ) )","v":""},26.655999999999999,null,null,null,{"$f":"IF(TRIM(BC8)=\"\", \"\", IF(VLOOKUP(BC8,'Footnotes list'!$D$9:$E$58,2,FALSE)=0,\"\",VLOOKUP(BC8,'Footnotes list'!$D$9:$E$58,2,FALSE) ) )","v":""},292.8,null,null,null,{"$f":"IF(TRIM(BH8)=\"\", \"\", IF(VLOOKUP(BH8,'Footnotes list'!$D$9:$E$58,2,FALSE)=0,\"\",VLOOKUP(BH8,'Footnotes list'!$D$9:$E$58,2,FALSE) ) )","v":""},2.4950000000000001,null,null,null,{"$f":"IF(TRIM(BM8)=\"\", \"\", IF(VLOOKUP(BM8,'Footnotes list'!$D$9:$E$58,2,FALSE)=0,\"\",VLOOKUP(BM8,'Footnotes list'!$D$9:$E$58,2,FALSE) ) )","v":""},{"$f":"IF(AND(TRIM(Q8)=\"\",TRIM(V8)=\"\",TRIM(AA8)=\"\", TRIM(AF8)=\"\", TRIM(AK8)=\"\", TRIM(AP8)=\"\", TRIM(AU8)=\"\", TRIM(AZ8)=\"\", TRIM(BE8)=\"\", TRIM(BJ8)=\"\"),\"\",Q8+V8+AA8+AF8+AK8+AP8+AU8+AZ8+BE8+BJ8)","v":2007.9749999999999},null,null,null,{"$f":"IF(TRIM(BR8)=\"\", \"\", IF(VLOOKUP(BR8,'Footnotes list'!$D$9:$E$58,2,FALSE)=0,\"\",VLOOKUP(BR8,'Footnotes list'!$D$9:$E$58,2,FALSE) ) )","v":""},5.3999999999999999E-2,null,null,null,{"$f":"IF(TRIM(BW8)=\"\", \"\", IF(VLOOKUP(BW8,'Footnotes list'!$D$9:$E$58,2,FALSE)=0,\"\",VLOOKUP(BW8,'Footnotes list'!$D$9:$E$58,2,FALSE) ) )","v":""},9.3119999999999994,null,null,null,{"$f":"IF(TRIM(CB8)=\"\", \"\", IF(VLOOKUP(CB8,'Footnotes list'!$D$9:$E$58,2,FALSE)=0,\"\",VLOOKUP(CB8,'Footnotes list'!$D$9:$E$58,2,FALSE) ) )","v":""},0.25,null,null,null,{"$f":"IF(TRIM(CG8)=\"\", \"\", IF(VLOOKUP(CG8,'Footnotes list'!$D$9:$E$58,2,FALSE)=0,\"\",VLOOKUP(CG8,'Footnotes list'!$D$9:$E$58,2,FALSE) ) )","v":""},{"$f":"IF(AND(TRIM(BY8)=\"\",TRIM(CD8)=\"\"),\"\",BY8+CD8)","v":9.5619999999999994},null,null,null,{"$f":"IF(TRIM(CL8)=\"\", \"\", IF(VLOOKUP(CL8,'Footnotes list'!$D$9:$E$58,2,FALSE)=0,\"\",VLOOKUP(CL8,'Footnotes list'!$D$9:$E$58,2,FALSE) ) )","v":""},0.66700000000000004,null,null,null,{"$f":"IF(TRIM(CQ8)=\"\", \"\", IF(VLOOKUP(CQ8,'Footnotes list'!$D$9:$E$58,2,FALSE)=0,\"\",VLOOKUP(CQ8,'Footnotes list'!$D$9:$E$58,2,FALSE) ) )","v":""},59.612000000000002,null,null,null,{"$f":"IF(TRIM(CV8)=\"\", \"\", IF(VLOOKUP(CV8,'Footnotes list'!$D$9:$E$58,2,FALSE)=0,\"\",VLOOKUP(CV8,'Footnotes list'!$D$9:$E$58,2,FALSE) ) )","v":""},0,null,null,null,{"$f":"IF(TRIM(DA8)=\"\", \"\", IF(VLOOKUP(DA8,'Footnotes list'!$D$9:$E$58,2,FALSE)=0,\"\",VLOOKUP(DA8,'Footnotes list'!$D$9:$E$58,2,FALSE) ) )","v":""},0.79,null,null,null,{"$f":"IF(TRIM(DF8)=\"\", \"\", IF(VLOOKUP(DF8,'Footnotes list'!$D$9:$E$58,2,FALSE)=0,\"\",VLOOKUP(DF8,'Footnotes list'!$D$9:$E$58,2,FALSE) ) )","v":""},{"$f":"IF(AND(TRIM(G8)=\"\",TRIM(L8)=\"\",TRIM(BO8)=\"\",TRIM(BT8)=\"\",TRIM(CI8)=\"\",TRIM(CN8)=\"\",TRIM(CS8)=\"\",TRIM(CX8)=\"\",TRIM(DC8)=\"\"),\"\",SUM(G8,L8,BO8,BT8,CI8,CN8,CS8,CX8,DC8))","v":2084.6149999999998},null,null,null,{"$f":"IF(TRIM(DK8)=\"\", \"\", IF(VLOOKUP(DK8,'Footnotes list'!$D$9:$E$58,2,FALSE)=0,\"\",VLOOKUP(DK8,'Footnotes list'!$D$9:$E$58,2,FALSE) ) )","v":""}]
[null,null,null,null,null,"Not applicable"]
[null,null,"W011",null,"HAZ_NHAZ","Total",{"$f":"IF(AND(TRIM(G8)=\"\",TRIM(G9)=\"\"),\"\",G8+G9)","v":0},null,null,null,{"$f":"IF(TRIM(J10)=\"\", \"\", IF(VLOOKUP(J10,'Footnotes list'!$D$9:$E$58,2,FALSE)=0,\"\",VLOOKUP(J10,'Footnotes list'!$D$9:$E$58,2,FALSE) ) )","v":""},{"$f":"IF(AND(TRIM(L8)=\"\",TRIM(L9)=\"\"),\"\",L8+L9)","v":5.9550000000000001},null,null,null,{"$f":"IF(TRIM(O10)=\"\", \"\", IF(VLOOKUP(O10,'Footnotes list'!$D$9:$E$58,2,FALSE)=0,\"\",VLOOKUP(O10,'Footnotes list'!$D$9:$E$58,2,FALSE) ) )","v":""},{"$f":"IF(AND(TRIM(Q8)=\"\",TRIM(Q9)=\"\"),\"\",Q8+Q9)","v":0.17899999999999999},null,null,null,{"$f":"IF(TRIM(T10)=\"\", \"\", IF(VLOOKUP(T10,'Footnotes list'!$D$9:$E$58,2,FALSE)=0,\"\",VLOOKUP(T10,'Footnotes list'!$D$9:$E$58,2,FALSE) ) )","v":""},{"$f":"IF(AND(TRIM(V8)=\"\",TRIM(V9)=\"\"),\"\",V8+V9)","v":22.358000000000001},null,null,null,{"$f":"IF(TRIM(Y10)=\"\", \"\", IF(VLOOKUP(Y10,'Footnotes list'!$D$9:$E$58,2,FALSE)=0,\"\",VLOOKUP(Y10,'Footnotes list'!$D$9:$E$58,2,FALSE) ) )","v":""},{"$f":"IF(AND(TRIM(AA8)=\"\",TRIM(AA9)=\"\"),\"\",AA8+AA9)","v":1.579},null,null,null,{"$f":"IF(TRIM(AD10)=\"\", \"\", IF(VLOOKUP(AD10,'Footnotes list'!$D$9:$E$58,2,FALSE)=0,\"\",VLOOKUP(AD10,'Footnotes list'!$D$9:$E$58,2,FALSE) ) )","v":""},{"$f":"IF(AND(TRIM(AF8)=\"\",TRIM(AF9)=\"\"),\"\",AF8+AF9)","v":52.997999999999998},null,null,null,{"$f":"IF(TRIM(AI10)=\"\", \"\", IF(VLOOKUP(AI10,'Footnotes list'!$D$9:$E$58,2,FALSE)=0,\"\",VLOOKUP(AI10,'Footnotes list'!$D$9:$E$58,2,FALSE) ) )","v":""},{"$f":"IF(AND(TRIM(AK8)=\"\",TRIM(AK9)=\"\"),\"\",AK8+AK9)","v":73.48},null,null,null,{"$f":"IF(TRIM(AN10)=\"\", \"\", IF(VLOOKUP(AN10,'Footnotes list'!$D$9:$E$58,2,FALSE)=0,\"\",VLOOKUP(AN10,'Footnotes list'!$D$9:$E$58,2,FALSE) ) )","v":""},{"$f":"IF(AND(TRIM(AP8)=\"\",TRIM(AP9)=\"\"),\"\",AP8+AP9)","v":1533.9259999999999},null,null,null,{"$f":"IF(TRIM(AS10)=\"\", \"\", IF(VLOOKUP(AS10,'Footnotes list'!$D$9:$E$58,2,FALSE)=0,\"\",VLOOKUP(AS10,'Footnotes list'!$D$9:$E$58,2,FALSE) ) )","v":""},{"$f":"IF(AND(TRIM(AU8)=\"\",TRIM(AU9)=\"\"),\"\",AU8+AU9)","v":1.504},null,null,null,{"$f":"IF(TRIM(AX10)=\"\", \"\", IF(VLOOKUP(AX10,'Footnotes list'!$D$9:$E$58,2,FALSE)=0,\"\",VLOOKUP(AX10,'Footnotes list'!$D$9:$E$58,2,FALSE) ) )","v":""},{"$f":"IF(AND(TRIM(AZ8)=\"\",TRIM(AZ9)=\"\"),\"\",AZ8+AZ9)","v":26.655999999999999},null,null,null,{"$f":"IF(TRIM(BC10)=\"\", \"\", IF(VLOOKUP(BC10,'Footnotes list'!$D$9:$E$58,2,FALSE)=0,\"\",VLOOKUP(BC10,'Footnotes list'!$D$9:$E$58,2,FALSE) ) )","v":""},{"$f":"IF(AND(TRIM(BE8)=\"\",TRIM(BE9)=\"\"),\"\",BE8+BE9)","v":292.8},null,null,null,{"$f":"IF(TRIM(BH10)=\"\", \"\", IF(VLOOKUP(BH10,'Footnotes list'!$D$9:$E$58,2,FALSE)=0,\"\",VLOOKUP(BH10,'Footnotes list'!$D$9:$E$58,2,FALSE) ) )","v":""},{"$f":"IF(AND(TRIM(BJ8)=\"\",TRIM(BJ9)=\"\"),\"\",BJ8+BJ9)","v":2.4950000000000001},null,null,null,{"$f":"IF(TRIM(BM10)=\"\", \"\", IF(VLOOKUP(BM10,'Footnotes list'!$D$9:$E$58,2,FALSE)=0,\"\",VLOOKUP(BM10,'Footnotes list'!$D$9:$E$58,2,FALSE) ) )","v":""},{"$f":"IF(AND(TRIM(BO8)=\"\", TRIM(BO9)=\"\"), \"\", (IF(ISNUMBER(BO8),BO8,0)+IF(ISNUMBER(BO9),BO9,0)))","v":2007.9749999999999},null,null,null,{"$f":"IF(TRIM(BR10)=\"\", \"\", IF(VLOOKUP(BR10,'Footnotes list'!$D$9:$E$58,2,FALSE)=0,\"\",VLOOKUP(BR10,'Footnotes list'!$D$9:$E$58,2,FALSE) ) )","v":""},{"$f":"IF(AND(TRIM(BT8)=\"\",TRIM(BT9)=\"\"),\"\",BT8+BT9)","v":5.3999999999999999E-2},null,null,null,{"$f":"IF(TRIM(BW10)=\"\", \"\", IF(VLOOKUP(BW10,'Footnotes list'!$D$9:$E$58,2,FALSE)=0,\"\",VLOOKUP(BW10,'Footnotes list'!$D$9:$E$58,2,FALSE) ) )","v":""},{"$f":"IF(AND(TRIM(BY8)=\"\",TRIM(BY9)=\"\"),\"\",BY8+BY9)","v":9.3119999999999994},null,null,null,{"$f":"IF(TRIM(CB10)=\"\", \"\", IF(VLOOKUP(CB10,'Footnotes list'!$D$9:$E$58,2,FALSE)=0,\"\",VLOOKUP(CB10,'Footnotes list'!$D$9:$E$58,2,FALSE) ) )","v":""},{"$f":"IF(AND(TRIM(CD8)=\"\",TRIM(CD9)=\"\"),\"\",CD8+CD9)","v":0.25},null,null,null,{"$f":"IF(TRIM(CG10)=\"\", \"\", IF(VLOOKUP(CG10,'Footnotes list'!$D$9:$E$58,2,FALSE)=0,\"\",VLOOKUP(CG10,'Footnotes list'!$D$9:$E$58,2,FALSE) ) )","v":""},{"$f":"IF(AND(TRIM(CI8)=\"\", TRIM(CI9)=\"\"), \"\", (IF(ISNUMBER(CI8),CI8,0)+IF(ISNUMBER(CI9),CI9,0)))","v":9.5619999999999994},null,null,null,{"$f":"IF(TRIM(CL10)=\"\", \"\", IF(VLOOKUP(CL10,'Footnotes list'!$D$9:$E$58,2,FALSE)=0,\"\",VLOOKUP(CL10,'Footnotes list'!$D$9:$E$58,2,FALSE) ) )","v":""},{"$f":"IF(AND(TRIM(CN8)=\"\",TRIM(CN9)=\"\"),\"\",CN8+CN9)","v":0.66700000000000004},null,null,null,{"$f":"IF(TRIM(CQ10)=\"\", \"\", IF(VLOOKUP(CQ10,'Footnotes list'!$D$9:$E$58,2,FALSE)=0,\"\",VLOOKUP(CQ10,'Footnotes list'!$D$9:$E$58,2,FALSE) ) )","v":""},{"$f":"IF(AND(TRIM(CS8)=\"\",TRIM(CS9)=\"\"),\"\",CS8+CS9)","v":59.612000000000002},null,null,null,{"$f":"IF(TRIM(CV10)=\"\", \"\", IF(VLOOKUP(CV10,'Footnotes list'!$D$9:$E$58,2,FALSE)=0,\"\",VLOOKUP(CV10,'Footnotes list'!$D$9:$E$58,2,FALSE) ) )","v":""},{"$f":"IF(AND(TRIM(CX8)=\"\",TRIM(CX9)=\"\"),\"\",CX8+CX9)","v":0},null,null,null,{"$f":"IF(TRIM(DA10)=\"\", \"\", IF(VLOOKUP(DA10,'Footnotes list'!$D$9:$E$58,2,FALSE)=0,\"\",VLOOKUP(DA10,'Footnotes list'!$D$9:$E$58,2,FALSE) ) )","v":""},{"$f":"IF(AND(TRIM(DC8)=\"\",TRIM(DC9)=\"\"),\"\",DC8+DC9)","v":0.79},null,null,null,{"$f":"IF(TRIM(DF10)=\"\", \"\", IF(VLOOKUP(DF10,'Footnotes list'!$D$9:$E$58,2,FALSE)=0,\"\",VLOOKUP(DF10,'Footnotes list'!$D$9:$E$58,2,FALSE) ) )","v":""},{"$f":"IF(AND(TRIM(DH8)=\"\", TRIM(DH9)=\"\"), \"\", SUM(DH8,DH9) )","v":2084.6149999999998},null,null,null,{"$f":"IF(TRIM(DK10)=\"\", \"\", IF(VLOOKUP(DK10,'Footnotes list'!$D$9:$E$58,2,FALSE)=0,\"\",VLOOKUP(DK10,'Footnotes list'!$D$9:$E$58,2,FALSE) ) )","v":""}]
[null,"W012","W012","Acid, alkaline or saline wastes ","HAZ","Hazardous ",0.39,null,null,null,{"$f":"IF(TRIM(J11)=\"\", \"\", IF(VLOOKUP(J11,'Footnotes list'!$D$9:$E$58,2,FALSE)=0,\"\",VLOOKUP(J11,'Footnotes list'!$D$9:$E$58,2,FALSE) ) )","v":""},18.937999999999999,null,null,null,{"$f":"IF(TRIM(O11)=\"\", \"\", IF(VLOOKUP(O11,'Footnotes list'!$D$9:$E$58,2,FALSE)=0,\"\",VLOOKUP(O11,'Footnotes list'!$D$9:$E$58,2,FALSE) ) )","v":""},22.003,null,null,null,{"$f":"IF(TRIM(T11)=\"\", \"\", IF(VLOOKUP(T11,'Footnotes list'!$D$9:$E$58,2,FALSE)=0,\"\",VLOOKUP(T11,'Footnotes list'!$D$9:$E$58,2,FALSE) ) )","v":""},0,null,null,null,{"$f":"IF(TRIM(Y11)=\"\", \"\", IF(VLOOKUP(Y11,'Footnotes list'!$D$9:$E$58,2,FALSE)=0,\"\",VLOOKUP(Y11,'Footnotes list'!$D$9:$E$58,2,FALSE) ) )","v":""},0,null,null,null,{"$f":"IF(TRIM(AD11)=\"\", \"\", IF(VLOOKUP(AD11,'Footnotes list'!$D$9:$E$58,2,FALSE)=0,\"\",VLOOKUP(AD11,'Footnotes list'!$D$9:$E$58,2,FALSE) ) )","v":""},120.124,null,null,null,{"$f":"IF(TRIM(AI11)=\"\", \"\", IF(VLOOKUP(AI11,'Footnotes list'!$D$9:$E$58,2,FALSE)=0,\"\",VLOOKUP(AI11,'Footnotes list'!$D$9:$E$58,2,FALSE) ) )","v":""},2.08,null,null,null,{"$f":"IF(TRIM(AN11)=\"\", \"\", IF(VLOOKUP(AN11,'Footnotes list'!$D$9:$E$58,2,FALSE)=0,\"\",VLOOKUP(AN11,'Footnotes list'!$D$9:$E$58,2,FALSE) ) )","v":""},277.17599999999999,null,null,null,{"$f":"IF(TRIM(AS11)=\"\", \"\", IF(VLOOKUP(AS11,'Footnotes list'!$D$9:$E$58,2,FALSE)=0,\"\",VLOOKUP(AS11,'Footnotes list'!$D$9:$E$58,2,FALSE) ) )","v":""},2.1320000000000001,null,null,null,{"$f":"IF(TRIM(AX11)=\"\", \"\", IF(VLOOKUP(AX11,'Footnotes list'!$D$9:$E$58,2,FALSE)=0,\"\",VLOOKUP(AX11,'Footnotes list'!$D$9:$E$58,2,FALSE) ) )","v":""},3320.6819999999998,null,null,null,{"$f":"IF(TRIM(BC11)=\"\", \"\", IF(VLOOKUP(BC11,'Footnotes list'!$D$9:$E$58,2,FALSE)=0,\"\",VLOOKUP(BC11,'Footnotes list'!$D$9:$E$58,2,FALSE) ) )","v":""},88.019000000000005,null,null,null,{"$f":"IF(TRIM(BH11)=\"\", \"\", IF(VLOOKUP(BH11,'Footnotes list'!$D$9:$E$58,2,FALSE)=0,\"\",VLOOKUP(BH11,'Footnotes list'!$D$9:$E$58,2,FALSE) ) )","v":""},2,null,null,null,{"$f":"IF(TRIM(BM11)=\"\", \"\", IF(VLOOKUP(BM11,'Footnotes list'!$D$9:$E$58,2,FALSE)=0,\"\",VLOOKUP(BM11,'Footnotes list'!$D$9:$E$58,2,FALSE) ) )","v":""},{"$f":"IF(AND(TRIM(Q11)=\"\",TRIM(V11)=\"\",TRIM(AA11)=\"\", TRIM(AF11)=\"\", TRIM(AK11)=\"\", TRIM(AP11)=\"\", TRIM(AU11)=\"\", TRIM(AZ11)=\"\", TRIM(BE11)=\"\", TRIM(BJ11)=\"\"),\"\",Q11+V11+AA11+AF11+AK11+AP11+AU11+AZ11+BE11+BJ11)","v":3834.2159999999999},null,null,null,{"$f":"IF(TRIM(BR11)=\"\", \"\", IF(VLOOKUP(BR11,'Footnotes list'!$D$9:$E$58,2,FALSE)=0,\"\",VLOOKUP(BR11,'Footnotes list'!$D$9:$E$58,2,FALSE) ) )","v":""},0.8,null,null,null,{"$f":"IF(TRIM(BW11)=\"\", \"\", IF(VLOOKUP(BW11,'Footnotes list'!$D$9:$E$58,2,FALSE)=0,\"\",VLOOKUP(BW11,'Footnotes list'!$D$9:$E$58,2,FALSE) ) )","v":""},0.53,null,null,null,{"$f":"IF(TRIM(CB11)=\"\", \"\", IF(VLOOKUP(CB11,'Footnotes list'!$D$9:$E$58,2,FALSE)=0,\"\",VLOOKUP(CB11,'Footnotes list'!$D$9:$E$58,2,FALSE) ) )","v":""},65.082999999999998,null,null,null,{"$f":"IF(TRIM(CG11)=\"\", \"\", IF(VLOOKUP(CG11,'Footnotes list'!$D$9:$E$58,2,FALSE)=0,\"\",VLOOKUP(CG11,'Footnotes list'!$D$9:$E$58,2,FALSE) ) )","v":""},{"$f":"IF(AND(TRIM(BY11)=\"\",TRIM(CD11)=\"\"),\"\",BY11+CD11)","v":65.613},null,null,null,{"$f":"IF(TRIM(CL11)=\"\", \"\", IF(VLOOKUP(CL11,'Footnotes list'!$D$9:$E$58,2,FALSE)=0,\"\",VLOOKUP(CL11,'Footnotes list'!$D$9:$E$58,2,FALSE) ) )","v":""},12.5,null,null,null,{"$f":"IF(TRIM(CQ11)=\"\", \"\", IF(VLOOKUP(CQ11,'Footnotes list'!$D$9:$E$58,2,FALSE)=0,\"\",VLOOKUP(CQ11,'Footnotes list'!$D$9:$E$58,2,FALSE) ) )","v":""},14.68,null,null,null,{"$f":"IF(TRIM(CV11)=\"\", \"\", IF(VLOOKUP(CV11,'Footnotes list'!$D$9:$E$58,2,FALSE)=0,\"\",VLOOKUP(CV11,'Footnotes list'!$D$9:$E$58,2,FALSE) ) )","v":""},0,null,null,null,{"$f":"IF(TRIM(DA11)=\"\", \"\", IF(VLOOKUP(DA11,'Footnotes list'!$D$9:$E$58,2,FALSE)=0,\"\",VLOOKUP(DA11,'Footnotes list'!$D$9:$E$58,2,FALSE) ) )","v":""},0.16700000000000001,null,null,null,{"$f":"IF(TRIM(DF11)=\"\", \"\", IF(VLOOKUP(DF11,'Footnotes list'!$D$9:$E$58,2,FALSE)=0,\"\",VLOOKUP(DF11,'Footnotes list'!$D$9:$E$58,2,FALSE) ) )","v":""},{"$f":"IF(AND(TRIM(G11)=\"\",TRIM(L11)=\"\",TRIM(BO11)=\"\",TRIM(BT11)=\"\",TRIM(CI11)=\"\",TRIM(CN11)=\"\",TRIM(CS11)=\"\",TRIM(CX11)=\"\",TRIM(DC11)=\"\"),\"\",SUM(G11,L11,BO11,BT11,CI11,CN11,CS11,CX11,DC11))","v":3947.3040000000001},null,null,null,{"$f":"IF(TRIM(DK11)=\"\", \"\", IF(VLOOKUP(DK11,'Footnotes list'!$D$9:$E$58,2,FALSE)=0,\"\",VLOOKUP(DK11,'Footnotes list'!$D$9:$E$58,2,FALSE) ) )","v":""}]
[null,null,"W012",null,"NHAZ","Non-hazardous",0,null,null,null,{"$f":"IF(TRIM(J12)=\"\", \"\", IF(VLOOKUP(J12,'Footnotes list'!$D$9:$E$58,2,FALSE)=0,\"\",VLOOKUP(J12,'Footnotes list'!$D$9:$E$58,2,FALSE) ) )","v":""},215.82,null,null,null,{"$f":"IF(TRIM(O12)=\"\", \"\", IF(VLOOKUP(O12,'Footnotes list'!$D$9:$E$58,2,FALSE)=0,\"\",VLOOKUP(O12,'Footnotes list'!$D$9:$E$58,2,FALSE) ) )","v":""},0,null,null,null,{"$f":"IF(TRIM(T12)=\"\", \"\", IF(VLOOKUP(T12,'Footnotes list'!$D$9:$E$58,2,FALSE)=0,\"\",VLOOKUP(T12,'Footnotes list'!$D$9:$E$58,2,FALSE) ) )","v":""},0,null,null,null,{"$f":"IF(TRIM(Y12)=\"\", \"\", IF(VLOOKUP(Y12,'Footnotes list'!$D$9:$E$58,2,FALSE)=0,\"\",VLOOKUP(Y12,'Footnotes list'!$D$9:$E$58,2,FALSE) ) )","v":""},0,null,null,null,{"$f":"IF(TRIM(AD12)=\"\", \"\", IF(VLOOKUP(AD12,'Footnotes list'!$D$9:$E$58,2,FALSE)=0,\"\",VLOOKUP(AD12,'Footnotes list'!$D$9:$E$58,2,FALSE) ) )","v":""},3.0710000000000002,null,null,null,{"$f":"IF(TRIM(AI12)=\"\", \"\", IF(VLOOKUP(AI12,'Footnotes list'!$D$9:$E$58,2,FALSE)=0,\"\",VLOOKUP(AI12,'Footnotes list'!$D$9:$E$58,2,FALSE) ) )","v":""},6.96,null,null,null,{"$f":"IF(TRIM(AN12)=\"\", \"\", IF(VLOOKUP(AN12,'Footnotes list'!$D$9:$E$58,2,FALSE)=0,\"\",VLOOKUP(AN12,'Footnotes list'!$D$9:$E$58,2,FALSE) ) )","v":""},0.125,null,null,null,{"$f":"IF(TRIM(AS12)=\"\", \"\", IF(VLOOKUP(AS12,'Footnotes list'!$D$9:$E$58,2,FALSE)=0,\"\",VLOOKUP(AS12,'Footnotes list'!$D$9:$E$58,2,FALSE) ) )","v":""},0,null,null,null,{"$f":"IF(TRIM(AX12)=\"\", \"\", IF(VLOOKUP(AX12,'Footnotes list'!$D$9:$E$58,2,FALSE)=0,\"\",VLOOKUP(AX12,'Footnotes list'!$D$9:$E$58,2,FALSE) ) )","v":""},260,null,null,null,{"$f":"IF(TRIM(BC12)=\"\", \"\", IF(VLOOKUP(BC12,'Footnotes list'!$D$9:$E$58,2,FALSE)=0,\"\",VLOOKUP(BC12,'Footnotes list'!$D$9:$E$58,2,FALSE) ) )","v":""},2.56,null,null,null,{"$f":"IF(TRIM(BH12)=\"\", \"\", IF(VLOOKUP(BH12,'Footnotes list'!$D$9:$E$58,2,FALSE)=0,\"\",VLOOKUP(BH12,'Footnotes list'!$D$9:$E$58,2,FALSE) ) )","v":""},0,null,null,null,{"$f":"IF(TRIM(BM12)=\"\", \"\", IF(VLOOKUP(BM12,'Footnotes list'!$D$9:$E$58,2,FALSE)=0,\"\",VLOOKUP(BM12,'Footnotes list'!$D$9:$E$58,2,FALSE) ) )","v":""},{"$f":"IF(AND(TRIM(Q12)=\"\",TRIM(V12)=\"\",TRIM(AA12)=\"\", TRIM(AF12)=\"\", TRIM(AK12)=\"\", TRIM(AP12)=\"\", TRIM(AU12)=\"\", TRIM(AZ12)=\"\", TRIM(BE12)=\"\", TRIM(BJ12)=\"\"),\"\",Q12+V12+AA12+AF12+AK12+AP12+AU12+AZ12+BE12+BJ12)","v":272.71600000000001},null,null,null,{"$f":"IF(TRIM(BR12)=\"\", \"\", IF(VLOOKUP(BR12,'Footnotes list'!$D$9:$E$58,2,FALSE)=0,\"\",VLOOKUP(BR12,'Footnotes list'!$D$9:$E$58,2,FALSE) ) )","v":""},0,null,null,null,{"$f":"IF(TRIM(BW12)=\"\", \"\", IF(VLOOKUP(BW12,'Footnotes list'!$D$9:$E$58,2,FALSE)=0,\"\",VLOOKUP(BW12,'Footnotes list'!$D$9:$E$58,2,FALSE) ) )","v":""},0,null,null,null,{"$f":"IF(TRIM(CB12)=\"\", \"\", IF(VLOOKUP(CB12,'Footnotes list'!$D$9:$E$58,2,FALSE)=0,\"\",VLOOKUP(CB12,'Footnotes list'!$D$9:$E$58,2,FALSE) ) )","v":""},0,null,null,null,{"$f":"IF(TRIM(CG12)=\"\", \"\", IF(VLOOKUP(CG12,'Footnotes list'!$D$9:$E$58,2,FALSE)=0,\"\",VLOOKUP(CG12,'Footnotes list'!$D$9:$E$58,2,FALSE) ) )","v":""},{"$f":"IF(AND(TRIM(BY12)=\"\",TRIM(CD12)=\"\"),\"\",BY12+CD12)","v":0},null,null,null,{"$f":"IF(TRIM(CL12)=\"\", \"\", IF(VLOOKUP(CL12,'Footnotes list'!$D$9:$E$58,2,FALSE)=0,\"\",VLOOKUP(CL12,'Footnotes list'!$D$9:$E$58,2,FALSE) ) )","v":""},0,null,null,null,{"$f":"IF(TRIM(CQ12)=\"\", \"\", IF(VLOOKUP(CQ12,'Footnotes list'!$D$9:$E$58,2,FALSE)=0,\"\",VLOOKUP(CQ12,'Footnotes list'!$D$9:$E$58,2,FALSE) ) )","v":""},0,null,null,null,{"$f":"IF(TRIM(CV12)=\"\", \"\", IF(VLOOKUP(CV12,'Footnotes list'!$D$9:$E$58,2,FALSE)=0,\"\",VLOOKUP(CV12,'Footnotes list'!$D$9:$E$58,2,FALSE) ) )","v":""},0,null,null,null,{"$f":"IF(TRIM(DA12)=\"\", \"\", IF(VLOOKUP(DA12,'Footnotes list'!$D$9:$E$58,2,FALSE)=0,\"\",VLOOKUP(DA12,'Footnotes list'!$D$9:$E$58,2,FALSE) ) )","v":""},0,null,null,null,{"$f":"IF(TRIM(DF12)=\"\", \"\", IF(VLOOKUP(DF12,'Footnotes list'!$D$9:$E$58,2,FALSE)=0,\"\",VLOOKUP(DF12,'Footnotes list'!$D$9:$E$58,2,FALSE) ) )","v":""},{"$f":"IF(AND(TRIM(G12)=\"\",TRIM(L12)=\"\",TRIM(BO12)=\"\",TRIM(BT12)=\"\",TRIM(CI12)=\"\",TRIM(CN12)=\"\",TRIM(CS12)=\"\",TRIM(CX12)=\"\",TRIM(DC12)=\"\"),\"\",SUM(G12,L12,BO12,BT12,CI12,CN12,CS12,CX12,DC12))","v":488.536},null,null,null,{"$f":"IF(TRIM(DK12)=\"\", \"\", IF(VLOOKUP(DK12,'Footnotes list'!$D$9:$E$58,2,FALSE)=0,\"\",VLOOKUP(DK12,'Footnotes list'!$D$9:$E$58,2,FALSE) ) )","v":""}]
[null,null,"W012",null,"HAZ_NHAZ","Total",{"$f":"IF(AND(TRIM(G11)=\"\",TRIM(G12)=\"\"),\"\",G11+G12)","v":0.39},null,null,null,{"$f":"IF(TRIM(J13)=\"\", \"\", IF(VLOOKUP(J13,'Footnotes list'!$D$9:$E$58,2,FALSE)=0,\"\",VLOOKUP(J13,'Footnotes list'!$D$9:$E$58,2,FALSE) ) )","v":""},{"$f":"IF(AND(TRIM(L11)=\"\",TRIM(L12)=\"\"),\"\",L11+L12)","v":234.75800000000001},null,null,null,{"$f":"IF(TRIM(O13)=\"\", \"\", IF(VLOOKUP(O13,'Footnotes list'!$D$9:$E$58,2,FALSE)=0,\"\",VLOOKUP(O13,'Footnotes list'!$D$9:$E$58,2,FALSE) ) )","v":""},{"$f":"IF(AND(TRIM(Q11)=\"\",TRIM(Q12)=\"\"),\"\",Q11+Q12)","v":22.003},null,null,null,{"$f":"IF(TRIM(T13)=\"\", \"\", IF(VLOOKUP(T13,'Footnotes list'!$D$9:$E$58,2,FALSE)=0,\"\",VLOOKUP(T13,'Footnotes list'!$D$9:$E$58,2,FALSE) ) )","v":""},{"$f":"IF(AND(TRIM(V11)=\"\",TRIM(V12)=\"\"),\"\",V11+V12)","v":0},null,null,null,{"$f":"IF(TRIM(Y13)=\"\", \"\", IF(VLOOKUP(Y13,'Footnotes list'!$D$9:$E$58,2,FALSE)=0,\"\",VLOOKUP(Y13,'Footnotes list'!$D$9:$E$58,2,FALSE) ) )","v":""},{"$f":"IF(AND(TRIM(AA11)=\"\",TRIM(AA12)=\"\"),\"\",AA11+AA12)","v":0},null,null,null,{"$f":"IF(TRIM(AD13)=\"\", \"\", IF(VLOOKUP(AD13,'Footnotes list'!$D$9:$E$58,2,FALSE)=0,\"\",VLOOKUP(AD13,'Footnotes list'!$D$9:$E$58,2,FALSE) ) )","v":""},{"$f":"IF(AND(TRIM(AF11)=\"\",TRIM(AF12)=\"\"),\"\",AF11+AF12)","v":123.19499999999999},null,null,null,{"$f":"IF(TRIM(AI13)=\"\", \"\", IF(VLOOKUP(AI13,'Footnotes list'!$D$9:$E$58,2,FALSE)=0,\"\",VLOOKUP(AI13,'Footnotes list'!$D$9:$E$58,2,FALSE) ) )","v":""},{"$f":"IF(AND(TRIM(AK11)=\"\",TRIM(AK12)=\"\"),\"\",AK11+AK12)","v":9.0399999999999991},null,null,null,{"$f":"IF(TRIM(AN13)=\"\", \"\", IF(VLOOKUP(AN13,'Footnotes list'!$D$9:$E$58,2,FALSE)=0,\"\",VLOOKUP(AN13,'Footnotes list'!$D$9:$E$58,2,FALSE) ) )","v":""},{"$f":"IF(AND(TRIM(AP11)=\"\",TRIM(AP12)=\"\"),\"\",AP11+AP12)","v":277.30099999999999},null,null,null,{"$f":"IF(TRIM(AS13)=\"\", \"\", IF(VLOOKUP(AS13,'Footnotes list'!$D$9:$E$58,2,FALSE)=0,\"\",VLOOKUP(AS13,'Footnotes list'!$D$9:$E$58,2,FALSE) ) )","v":""},{"$f":"IF(AND(TRIM(AU11)=\"\",TRIM(AU12)=\"\"),\"\",AU11+AU12)","v":2.1320000000000001},null,null,null,{"$f":"IF(TRIM(AX13)=\"\", \"\", IF(VLOOKUP(AX13,'Footnotes list'!$D$9:$E$58,2,FALSE)=0,\"\",VLOOKUP(AX13,'Footnotes list'!$D$9:$E$58,2,FALSE) ) )","v":""},{"$f":"IF(AND(TRIM(AZ11)=\"\",TRIM(AZ12)=\"\"),\"\",AZ11+AZ12)","v":3580.6819999999998},null,null,null,{"$f":"IF(TRIM(BC13)=\"\", \"\", IF(VLOOKUP(BC13,'Footnotes list'!$D$9:$E$58,2,FALSE)=0,\"\",VLOOKUP(BC13,'Footnotes list'!$D$9:$E$58,2,FALSE) ) )","v":""},{"$f":"IF(AND(TRIM(BE11)=\"\",TRIM(BE12)=\"\"),\"\",BE11+BE12)","v":90.578999999999994},null,null,null,{"$f":"IF(TRIM(BH13)=\"\", \"\", IF(VLOOKUP(BH13,'Footnotes list'!$D$9:$E$58,2,FALSE)=0,\"\",VLOOKUP(BH13,'Footnotes list'!$D$9:$E$58,2,FALSE) ) )","v":""},{"$f":"IF(AND(TRIM(BJ11)=\"\",TRIM(BJ12)=\"\"),\"\",BJ11+BJ12)","v":2},null,null,null,{"$f":"IF(TRIM(BM13)=\"\", \"\", IF(VLOOKUP(BM13,'Footnotes list'!$D$9:$E$58,2,FALSE)=0,\"\",VLOOKUP(BM13,'Footnotes list'!$D$9:$E$58,2,FALSE) ) )","v":""},{"$f":"IF(AND(TRIM(BO11)=\"\", TRIM(BO12)=\"\"), \"\", (IF(ISNUMBER(BO11),BO11,0)+IF(ISNUMBER(BO12),BO12,0)))","v":4106.9319999999998},null,null,null,{"$f":"IF(TRIM(BR13)=\"\", \"\", IF(VLOOKUP(BR13,'Footnotes list'!$D$9:$E$58,2,FALSE)=0,\"\",VLOOKUP(BR13,'Footnotes list'!$D$9:$E$58,2,FALSE) ) )","v":""},{"$f":"IF(AND(TRIM(BT11)=\"\",TRIM(BT12)=\"\"),\"\",BT11+BT12)","v":0.8},null,null,null,{"$f":"IF(TRIM(BW13)=\"\", \"\", IF(VLOOKUP(BW13,'Footnotes list'!$D$9:$E$58,2,FALSE)=0,\"\",VLOOKUP(BW13,'Footnotes list'!$D$9:$E$58,2,FALSE) ) )","v":""},{"$f":"IF(AND(TRIM(BY11)=\"\",TRIM(BY12)=\"\"),\"\",BY11+BY12)","v":0.53},null,null,null,{"$f":"IF(TRIM(CB13)=\"\", \"\", IF(VLOOKUP(CB13,'Footnotes list'!$D$9:$E$58,2,FALSE)=0,\"\",VLOOKUP(CB13,'Footnotes list'!$D$9:$E$58,2,FALSE) ) )","v":""},{"$f":"IF(AND(TRIM(CD11)=\"\",TRIM(CD12)=\"\"),\"\",CD11+CD12)","v":65.082999999999998},null,null,null,{"$f":"IF(TRIM(CG13)=\"\", \"\", IF(VLOOKUP(CG13,'Footnotes list'!$D$9:$E$58,2,FALSE)=0,\"\",VLOOKUP(CG13,'Footnotes list'!$D$9:$E$58,2,FALSE) ) )","v":""},{"$f":"IF(AND(TRIM(CI11)=\"\", TRIM(CI12)=\"\"), \"\", (IF(ISNUMBER(CI11),CI11,0)+IF(ISNUMBER(CI12),CI12,0)))","v":65.613},null,null,null,{"$f":"IF(TRIM(CL13)=\"\", \"\", IF(VLOOKUP(CL13,'Footnotes list'!$D$9:$E$58,2,FALSE)=0,\"\",VLOOKUP(CL13,'Footnotes list'!$D$9:$E$58,2,FALSE) ) )","v":""},{"$f":"IF(AND(TRIM(CN11)=\"\",TRIM(CN12)=\"\"),\"\",CN11+CN12)","v":12.5},null,null,null,{"$f":"IF(TRIM(CQ13)=\"\", \"\", IF(VLOOKUP(CQ13,'Footnotes list'!$D$9:$E$58,2,FALSE)=0,\"\",VLOOKUP(CQ13,'Footnotes list'!$D$9:$E$58,2,FALSE) ) )","v":""},{"$f":"IF(AND(TRIM(CS11)=\"\",TRIM(CS12)=\"\"),\"\",CS11+CS12)","v":14.68},null,null,null,{"$f":"IF(TRIM(CV13)=\"\", \"\", IF(VLOOKUP(CV13,'Footnotes list'!$D$9:$E$58,2,FALSE)=0,\"\",VLOOKUP(CV13,'Footnotes list'!$D$9:$E$58,2,FALSE) ) )","v":""},{"$f":"IF(AND(TRIM(CX11)=\"\",TRIM(CX12)=\"\"),\"\",CX11+CX12)","v":0},null,null,null,{"$f":"IF(TRIM(DA13)=\"\", \"\", IF(VLOOKUP(DA13,'Footnotes list'!$D$9:$E$58,2,FALSE)=0,\"\",VLOOKUP(DA13,'Footnotes list'!$D$9:$E$58,2,FALSE) ) )","v":""},{"$f":"IF(AND(TRIM(DC11)=\"\",TRIM(DC12)=\"\"),\"\",DC11+DC12)","v":0.16700000000000001},null,null,null,{"$f":"IF(TRIM(DF13)=\"\", \"\", IF(VLOOKUP(DF13,'Footnotes list'!$D$9:$E$58,2,FALSE)=0,\"\",VLOOKUP(DF13,'Footnotes list'!$D$9:$E$58,2,FALSE) ) )","v":""},{"$f":"IF(AND(TRIM(DH11)=\"\", TRIM(DH12)=\"\"), \"\", SUM(DH11,DH12) )","v":4435.84},null,null,null,{"$f":"IF(TRIM(DK13)=\"\", \"\", IF(VLOOKUP(DK13,'Footnotes list'!$D$9:$E$58,2,FALSE)=0,\"\",VLOOKUP(DK13,'Footnotes list'!$D$9:$E$58,2,FALSE) ) )","v":""}]
[null,"W013","W013","Used oils ","HAZ","Hazardous ",140.73699999999999,null,null,null,{"$f":"IF(TRIM(J14)=\"\", \"\", IF(VLOOKUP(J14,'Footnotes list'!$D$9:$E$58,2,FALSE)=0,\"\",VLOOKUP(J14,'Footnotes list'!$D$9:$E$58,2,FALSE) ) )","v":""},925.36,null,null,null,{"$f":"IF(TRIM(O14)=\"\", \"\", IF(VLOOKUP(O14,'Footnotes list'!$D$9:$E$58,2,FALSE)=0,\"\",VLOOKUP(O14,'Footnotes list'!$D$9:$E$58,2,FALSE) ) )","v":""},64.736000000000004,null,null,null,{"$f":"IF(TRIM(T14)=\"\", \"\", IF(VLOOKUP(T14,'Footnotes list'!$D$9:$E$58,2,FALSE)=0,\"\",VLOOKUP(T14,'Footnotes list'!$D$9:$E$58,2,FALSE) ) )","v":""},13.61,null,null,null,{"$f":"IF(TRIM(Y14)=\"\", \"\", IF(VLOOKUP(Y14,'Footnotes list'!$D$9:$E$58,2,FALSE)=0,\"\",VLOOKUP(Y14,'Footnotes list'!$D$9:$E$58,2,FALSE) ) )","v":""},33.585000000000001,null,null,null,{"$f":"IF(TRIM(AD14)=\"\", \"\", IF(VLOOKUP(AD14,'Footnotes list'!$D$9:$E$58,2,FALSE)=0,\"\",VLOOKUP(AD14,'Footnotes list'!$D$9:$E$58,2,FALSE) ) )","v":""},46.552999999999997,null,null,null,{"$f":"IF(TRIM(AI14)=\"\", \"\", IF(VLOOKUP(AI14,'Footnotes list'!$D$9:$E$58,2,FALSE)=0,\"\",VLOOKUP(AI14,'Footnotes list'!$D$9:$E$58,2,FALSE) ) )","v":""},1015.539,null,null,null,{"$f":"IF(TRIM(AN14)=\"\", \"\", IF(VLOOKUP(AN14,'Footnotes list'!$D$9:$E$58,2,FALSE)=0,\"\",VLOOKUP(AN14,'Footnotes list'!$D$9:$E$58,2,FALSE) ) )","v":""},67.323999999999998,null,null,null,{"$f":"IF(TRIM(AS14)=\"\", \"\", IF(VLOOKUP(AS14,'Footnotes list'!$D$9:$E$58,2,FALSE)=0,\"\",VLOOKUP(AS14,'Footnotes list'!$D$9:$E$58,2,FALSE) ) )","v":""},143.58500000000001,null,null,null,{"$f":"IF(TRIM(AX14)=\"\", \"\", IF(VLOOKUP(AX14,'Footnotes list'!$D$9:$E$58,2,FALSE)=0,\"\",VLOOKUP(AX14,'Footnotes list'!$D$9:$E$58,2,FALSE) ) )","v":""},1645.9829999999999,null,null,null,{"$f":"IF(TRIM(BC14)=\"\", \"\", IF(VLOOKUP(BC14,'Footnotes list'!$D$9:$E$58,2,FALSE)=0,\"\",VLOOKUP(BC14,'Footnotes list'!$D$9:$E$58,2,FALSE) ) )","v":""},1882.8430000000001,null,null,null,{"$f":"IF(TRIM(BH14)=\"\", \"\", IF(VLOOKUP(BH14,'Footnotes list'!$D$9:$E$58,2,FALSE)=0,\"\",VLOOKUP(BH14,'Footnotes list'!$D$9:$E$58,2,FALSE) ) )","v":""},327.25099999999998,null,null,null,{"$f":"IF(TRIM(BM14)=\"\", \"\", IF(VLOOKUP(BM14,'Footnotes list'!$D$9:$E$58,2,FALSE)=0,\"\",VLOOKUP(BM14,'Footnotes list'!$D$9:$E$58,2,FALSE) ) )","v":""},{"$f":"IF(AND(TRIM(Q14)=\"\",TRIM(V14)=\"\",TRIM(AA14)=\"\", TRIM(AF14)=\"\", TRIM(AK14)=\"\", TRIM(AP14)=\"\", TRIM(AU14)=\"\", TRIM(AZ14)=\"\", TRIM(BE14)=\"\", TRIM(BJ14)=\"\"),\"\",Q14+V14+AA14+AF14+AK14+AP14+AU14+AZ14+BE14+BJ14)","v":5241.009},null,null,null,{"$f":"IF(TRIM(BR14)=\"\", \"\", IF(VLOOKUP(BR14,'Footnotes list'!$D$9:$E$58,2,FALSE)=0,\"\",VLOOKUP(BR14,'Footnotes list'!$D$9:$E$58,2,FALSE) ) )","v":""},320.673,null,null,null,{"$f":"IF(TRIM(BW14)=\"\", \"\", IF(VLOOKUP(BW14,'Footnotes list'!$D$9:$E$58,2,FALSE)=0,\"\",VLOOKUP(BW14,'Footnotes list'!$D$9:$E$58,2,FALSE) ) )","v":""},68.242999999999995,null,null,null,{"$f":"IF(TRIM(CB14)=\"\", \"\", IF(VLOOKUP(CB14,'Footnotes list'!$D$9:$E$58,2,FALSE)=0,\"\",VLOOKUP(CB14,'Footnotes list'!$D$9:$E$58,2,FALSE) ) )","v":""},159.12299999999999,null,null,null,{"$f":"IF(TRIM(CG14)=\"\", \"\", IF(VLOOKUP(CG14,'Footnotes list'!$D$9:$E$58,2,FALSE)=0,\"\",VLOOKUP(CG14,'Footnotes list'!$D$9:$E$58,2,FALSE) ) )","v":""},{"$f":"IF(AND(TRIM(BY14)=\"\",TRIM(CD14)=\"\"),\"\",BY14+CD14)","v":227.36600000000001},null,null,null,{"$f":"IF(TRIM(CL14)=\"\", \"\", IF(VLOOKUP(CL14,'Footnotes list'!$D$9:$E$58,2,FALSE)=0,\"\",VLOOKUP(CL14,'Footnotes list'!$D$9:$E$58,2,FALSE) ) )","v":""},174.57400000000001,null,null,null,{"$f":"IF(TRIM(CQ14)=\"\", \"\", IF(VLOOKUP(CQ14,'Footnotes list'!$D$9:$E$58,2,FALSE)=0,\"\",VLOOKUP(CQ14,'Footnotes list'!$D$9:$E$58,2,FALSE) ) )","v":""},5891.4650000000001,null,null,null,{"$f":"IF(TRIM(CV14)=\"\", \"\", IF(VLOOKUP(CV14,'Footnotes list'!$D$9:$E$58,2,FALSE)=0,\"\",VLOOKUP(CV14,'Footnotes list'!$D$9:$E$58,2,FALSE) ) )","v":""},0,null,null,null,{"$f":"IF(TRIM(DA14)=\"\", \"\", IF(VLOOKUP(DA14,'Footnotes list'!$D$9:$E$58,2,FALSE)=0,\"\",VLOOKUP(DA14,'Footnotes list'!$D$9:$E$58,2,FALSE) ) )","v":""},120.629,null,null,null,{"$f":"IF(TRIM(DF14)=\"\", \"\", IF(VLOOKUP(DF14,'Footnotes list'!$D$9:$E$58,2,FALSE)=0,\"\",VLOOKUP(DF14,'Footnotes list'!$D$9:$E$58,2,FALSE) ) )","v":""},{"$f":"IF(AND(TRIM(G14)=\"\",TRIM(L14)=\"\",TRIM(BO14)=\"\",TRIM(BT14)=\"\",TRIM(CI14)=\"\",TRIM(CN14)=\"\",TRIM(CS14)=\"\",TRIM(CX14)=\"\",TRIM(DC14)=\"\"),\"\",SUM(G14,L14,BO14,BT14,CI14,CN14,CS14,CX14,DC14))","v":13041.813},null,null,null,{"$f":"IF(TRIM(DK14)=\"\", \"\", IF(VLOOKUP(DK14,'Footnotes list'!$D$9:$E$58,2,FALSE)=0,\"\",VLOOKUP(DK14,'Footnotes list'!$D$9:$E$58,2,FALSE) ) )","v":""}]
[null,null,null,null,null,"Not applicable"]
[null,null,"W013",null,"HAZ_NHAZ","Total",{"$f":"IF(AND(TRIM(G14)=\"\",TRIM(G15)=\"\"),\"\",G14+G15)","v":140.73699999999999},null,null,null,{"$f":"IF(TRIM(J16)=\"\", \"\", IF(VLOOKUP(J16,'Footnotes list'!$D$9:$E$58,2,FALSE)=0,\"\",VLOOKUP(J16,'Footnotes list'!$D$9:$E$58,2,FALSE) ) )","v":""},{"$f":"IF(AND(TRIM(L14)=\"\",TRIM(L15)=\"\"),\"\",L14+L15)","v":925.36},null,null,null,{"$f":"IF(TRIM(O16)=\"\", \"\", IF(VLOOKUP(O16,'Footnotes list'!$D$9:$E$58,2,FALSE)=0,\"\",VLOOKUP(O16,'Footnotes list'!$D$9:$E$58,2,FALSE) ) )","v":""},{"$f":"IF(AND(TRIM(Q14)=\"\",TRIM(Q15)=\"\"),\"\",Q14+Q15)","v":64.736000000000004},null,null,null,{"$f":"IF(TRIM(T16)=\"\", \"\", IF(VLOOKUP(T16,'Footnotes list'!$D$9:$E$58,2,FALSE)=0,\"\",VLOOKUP(T16,'Footnotes list'!$D$9:$E$58,2,FALSE) ) )","v":""},{"$f":"IF(AND(TRIM(V14)=\"\",TRIM(V15)=\"\"),\"\",V14+V15)","v":13.61},null,null,null,{"$f":"IF(TRIM(Y16)=\"\", \"\", IF(VLOOKUP(Y16,'Footnotes list'!$D$9:$E$58,2,FALSE)=0,\"\",VLOOKUP(Y16,'Footnotes list'!$D$9:$E$58,2,FALSE) ) )","v":""},{"$f":"IF(AND(TRIM(AA14)=\"\",TRIM(AA15)=\"\"),\"\",AA14+AA15)","v":33.585000000000001},null,null,null,{"$f":"IF(TRIM(AD16)=\"\", \"\", IF(VLOOKUP(AD16,'Footnotes list'!$D$9:$E$58,2,FALSE)=0,\"\",VLOOKUP(AD16,'Footnotes list'!$D$9:$E$58,2,FALSE) ) )","v":""},{"$f":"IF(AND(TRIM(AF14)=\"\",TRIM(AF15)=\"\"),\"\",AF14+AF15)","v":46.552999999999997},null,null,null,{"$f":"IF(TRIM(AI16)=\"\", \"\", IF(VLOOKUP(AI16,'Footnotes list'!$D$9:$E$58,2,FALSE)=0,\"\",VLOOKUP(AI16,'Footnotes list'!$D$9:$E$58,2,FALSE) ) )","v":""},{"$f":"IF(AND(TRIM(AK14)=\"\",TRIM(AK15)=\"\"),\"\",AK14+AK15)","v":1015.539},null,null,null,{"$f":"IF(TRIM(AN16)=\"\", \"\", IF(VLOOKUP(AN16,'Footnotes list'!$D$9:$E$58,2,FALSE)=0,\"\",VLOOKUP(AN16,'Footnotes list'!$D$9:$E$58,2,FALSE) ) )","v":""},{"$f":"IF(AND(TRIM(AP14)=\"\",TRIM(AP15)=\"\"),\"\",AP14+AP15)","v":67.323999999999998},null,null,null,{"$f":"IF(TRIM(AS16)=\"\", \"\", IF(VLOOKUP(AS16,'Footnotes list'!$D$9:$E$58,2,FALSE)=0,\"\",VLOOKUP(AS16,'Footnotes list'!$D$9:$E$58,2,FALSE) ) )","v":""},{"$f":"IF(AND(TRIM(AU14)=\"\",TRIM(AU15)=\"\"),\"\",AU14+AU15)","v":143.58500000000001},null,null,null,{"$f":"IF(TRIM(AX16)=\"\", \"\", IF(VLOOKUP(AX16,'Footnotes list'!$D$9:$E$58,2,FALSE)=0,\"\",VLOOKUP(AX16,'Footnotes list'!$D$9:$E$58,2,FALSE) ) )","v":""},{"$f":"IF(AND(TRIM(AZ14)=\"\",TRIM(AZ15)=\"\"),\"\",AZ14+AZ15)","v":1645.9829999999999},null,null,null,{"$f":"IF(TRIM(BC16)=\"\", \"\", IF(VLOOKUP(BC16,'Footnotes list'!$D$9:$E$58,2,FALSE)=0,\"\",VLOOKUP(BC16,'Footnotes list'!$D$9:$E$58,2,FALSE) ) )","v":""},{"$f":"IF(AND(TRIM(BE14)=\"\",TRIM(BE15)=\"\"),\"\",BE14+BE15)","v":1882.8430000000001},null,null,null,{"$f":"IF(TRIM(BH16)=\"\", \"\", IF(VLOOKUP(BH16,'Footnotes list'!$D$9:$E$58,2,FALSE)=0,\"\",VLOOKUP(BH16,'Footnotes list'!$D$9:$E$58,2,FALSE) ) )","v":""},{"$f":"IF(AND(TRIM(BJ14)=\"\",TRIM(BJ15)=\"\"),\"\",BJ14+BJ15)","v":327.25099999999998},null,null,null,{"$f":"IF(TRIM(BM16)=\"\", \"\", IF(VLOOKUP(BM16,'Footnotes list'!$D$9:$E$58,2,FALSE)=0,\"\",VLOOKUP(BM16,'Footnotes list'!$D$9:$E$58,2,FALSE) ) )","v":""},{"$f":"IF(AND(TRIM(BO14)=\"\", TRIM(BO15)=\"\"), \"\", (IF(ISNUMBER(BO14),BO14,0)+IF(ISNUMBER(BO15),BO15,0)))","v":5241.009},null,null,null,{"$f":"IF(TRIM(BR16)=\"\", \"\", IF(VLOOKUP(BR16,'Footnotes list'!$D$9:$E$58,2,FALSE)=0,\"\",VLOOKUP(BR16,'Footnotes list'!$D$9:$E$58,2,FALSE) ) )","v":""},{"$f":"IF(AND(TRIM(BT14)=\"\",TRIM(BT15)=\"\"),\"\",BT14+BT15)","v":320.673},null,null,null,{"$f":"IF(TRIM(BW16)=\"\", \"\", IF(VLOOKUP(BW16,'Footnotes list'!$D$9:$E$58,2,FALSE)=0,\"\",VLOOKUP(BW16,'Footnotes list'!$D$9:$E$58,2,FALSE) ) )","v":""},{"$f":"IF(AND(TRIM(BY14)=\"\",TRIM(BY15)=\"\"),\"\",BY14+BY15)","v":68.242999999999995},null,null,null,{"$f":"IF(TRIM(CB16)=\"\", \"\", IF(VLOOKUP(CB16,'Footnotes list'!$D$9:$E$58,2,FALSE)=0,\"\",VLOOKUP(CB16,'Footnotes list'!$D$9:$E$58,2,FALSE) ) )","v":""},{"$f":"IF(AND(TRIM(CD14)=\"\",TRIM(CD15)=\"\"),\"\",CD14+CD15)","v":159.12299999999999},null,null,null,{"$f":"IF(TRIM(CG16)=\"\", \"\", IF(VLOOKUP(CG16,'Footnotes list'!$D$9:$E$58,2,FALSE)=0,\"\",VLOOKUP(CG16,'Footnotes list'!$D$9:$E$58,2,FALSE) ) )","v":""},{"$f":"IF(AND(TRIM(CI14)=\"\", TRIM(CI15)=\"\"), \"\", (IF(ISNUMBER(CI14),CI14,0)+IF(ISNUMBER(CI15),CI15,0)))","v":227.36600000000001},null,null,null,{"$f":"IF(TRIM(CL16)=\"\", \"\", IF(VLOOKUP(CL16,'Footnotes list'!$D$9:$E$58,2,FALSE)=0,\"\",VLOOKUP(CL16,'Footnotes list'!$D$9:$E$58,2,FALSE) ) )","v":""},{"$f":"IF(AND(TRIM(CN14)=\"\",TRIM(CN15)=\"\"),\"\",CN14+CN15)","v":174.57400000000001},null,null,null,{"$f":"IF(TRIM(CQ16)=\"\", \"\", IF(VLOOKUP(CQ16,'Footnotes list'!$D$9:$E$58,2,FALSE)=0,\"\",VLOOKUP(CQ16,'Footnotes list'!$D$9:$E$58,2,FALSE) ) )","v":""},{"$f":"IF(AND(TRIM(CS14)=\"\",TRIM(CS15)=\"\"),\"\",CS14+CS15)","v":5891.4650000000001},null,null,null,{"$f":"IF(TRIM(CV16)=\"\", \"\", IF(VLOOKUP(CV16,'Footnotes list'!$D$9:$E$58,2,FALSE)=0,\"\",VLOOKUP(CV16,'Footnotes list'!$D$9:$E$58,2,FALSE) ) )","v":""},{"$f":"IF(AND(TRIM(CX14)=\"\",TRIM(CX15)=\"\"),\"\",CX14+CX15)","v":0},null,null,null,{"$f":"IF(TRIM(DA16)=\"\", \"\", IF(VLOOKUP(DA16,'Footnotes list'!$D$9:$E$58,2,FALSE)=0,\"\",VLOOKUP(DA16,'Footnotes list'!$D$9:$E$58,2,FALSE) ) )","v":""},{"$f":"IF(AND(TRIM(DC14)=\"\",TRIM(DC15)=\"\"),\"\",DC14+DC15)","v":120.629},null,null,null,{"$f":"IF(TRIM(DF16)=\"\", \"\", IF(VLOOKUP(DF16,'Footnotes list'!$D$9:$E$58,2,FALSE)=0,\"\",VLOOKUP(DF16,'Footnotes list'!$D$9:$E$58,2,FALSE) ) )","v":""},{"$f":"IF(AND(TRIM(DH14)=\"\", TRIM(DH15)=\"\"), \"\", SUM(DH14,DH15) )","v":13041.813},null,null,null,{"$f":"IF(TRIM(DK16)=\"\", \"\", IF(VLOOKUP(DK16,'Footnotes list'!$D$9:$E$58,2,FALSE)=0,\"\",VLOOKUP(DK16,'Footnotes list'!$D$9:$E$58,2,FALSE) ) )","v":""}]
[null,"W02A","W02A","Chemical wastes ","HAZ","Hazardous ",229.08799999999999,null,null,null,{"$f":"IF(TRIM(J17)=\"\", \"\", IF(VLOOKUP(J17,'Footnotes list'!$D$9:$E$58,2,FALSE)=0,\"\",VLOOKUP(J17,'Footnotes list'!$D$9:$E$58,2,FALSE) ) )","v":""},903.32799999999997,null,null,null,{"$f":"IF(TRIM(O17)=\"\", \"\", IF(VLOOKUP(O17,'Footnotes list'!$D$9:$E$58,2,FALSE)=0,\"\",VLOOKUP(O17,'Footnotes list'!$D$9:$E$58,2,FALSE) ) )","v":""},272.81599999999997,null,null,null,{"$f":"IF(TRIM(T17)=\"\", \"\", IF(VLOOKUP(T17,'Footnotes list'!$D$9:$E$58,2,FALSE)=0,\"\",VLOOKUP(T17,'Footnotes list'!$D$9:$E$58,2,FALSE) ) )","v":""},221.42599999999999,null,null,null,{"$f":"IF(TRIM(Y17)=\"\", \"\", IF(VLOOKUP(Y17,'Footnotes list'!$D$9:$E$58,2,FALSE)=0,\"\",VLOOKUP(Y17,'Footnotes list'!$D$9:$E$58,2,FALSE) ) )","v":""},163.423,null,null,null,{"$f":"IF(TRIM(AD17)=\"\", \"\", IF(VLOOKUP(AD17,'Footnotes list'!$D$9:$E$58,2,FALSE)=0,\"\",VLOOKUP(AD17,'Footnotes list'!$D$9:$E$58,2,FALSE) ) )","v":""},1246.2260000000001,null,null,null,{"$f":"IF(TRIM(AI17)=\"\", \"\", IF(VLOOKUP(AI17,'Footnotes list'!$D$9:$E$58,2,FALSE)=0,\"\",VLOOKUP(AI17,'Footnotes list'!$D$9:$E$58,2,FALSE) ) )","v":""},1975.7380000000001,null,null,null,{"$f":"IF(TRIM(AN17)=\"\", \"\", IF(VLOOKUP(AN17,'Footnotes list'!$D$9:$E$58,2,FALSE)=0,\"\",VLOOKUP(AN17,'Footnotes list'!$D$9:$E$58,2,FALSE) ) )","v":""},1865.942,null,null,null,{"$f":"IF(TRIM(AS17)=\"\", \"\", IF(VLOOKUP(AS17,'Footnotes list'!$D$9:$E$58,2,FALSE)=0,\"\",VLOOKUP(AS17,'Footnotes list'!$D$9:$E$58,2,FALSE) ) )","v":""},663.69,null,null,null,{"$f":"IF(TRIM(AX17)=\"\", \"\", IF(VLOOKUP(AX17,'Footnotes list'!$D$9:$E$58,2,FALSE)=0,\"\",VLOOKUP(AX17,'Footnotes list'!$D$9:$E$58,2,FALSE) ) )","v":""},3833.8919999999998,null,null,null,{"$f":"IF(TRIM(BC17)=\"\", \"\", IF(VLOOKUP(BC17,'Footnotes list'!$D$9:$E$58,2,FALSE)=0,\"\",VLOOKUP(BC17,'Footnotes list'!$D$9:$E$58,2,FALSE) ) )","v":""},1765.7840000000001,null,null,null,{"$f":"IF(TRIM(BH17)=\"\", \"\", IF(VLOOKUP(BH17,'Footnotes list'!$D$9:$E$58,2,FALSE)=0,\"\",VLOOKUP(BH17,'Footnotes list'!$D$9:$E$58,2,FALSE) ) )","v":""},945.38499999999999,null,null,null,{"$f":"IF(TRIM(BM17)=\"\", \"\", IF(VLOOKUP(BM17,'Footnotes list'!$D$9:$E$58,2,FALSE)=0,\"\",VLOOKUP(BM17,'Footnotes list'!$D$9:$E$58,2,FALSE) ) )","v":""},{"$f":"IF(AND(TRIM(Q17)=\"\",TRIM(V17)=\"\",TRIM(AA17)=\"\", TRIM(AF17)=\"\", TRIM(AK17)=\"\", TRIM(AP17)=\"\", TRIM(AU17)=\"\", TRIM(AZ17)=\"\", TRIM(BE17)=\"\", TRIM(BJ17)=\"\"),\"\",Q17+V17+AA17+AF17+AK17+AP17+AU17+AZ17+BE17+BJ17)","v":12954.322},null,null,null,{"$f":"IF(TRIM(BR17)=\"\", \"\", IF(VLOOKUP(BR17,'Footnotes list'!$D$9:$E$58,2,FALSE)=0,\"\",VLOOKUP(BR17,'Footnotes list'!$D$9:$E$58,2,FALSE) ) )","v":""},375.10199999999998,null,null,null,{"$f":"IF(TRIM(BW17)=\"\", \"\", IF(VLOOKUP(BW17,'Footnotes list'!$D$9:$E$58,2,FALSE)=0,\"\",VLOOKUP(BW17,'Footnotes list'!$D$9:$E$58,2,FALSE) ) )","v":""},79.134,null,null,null,{"$f":"IF(TRIM(CB17)=\"\", \"\", IF(VLOOKUP(CB17,'Footnotes list'!$D$9:$E$58,2,FALSE)=0,\"\",VLOOKUP(CB17,'Footnotes list'!$D$9:$E$58,2,FALSE) ) )","v":""},2413.4549999999999,null,null,null,{"$f":"IF(TRIM(CG17)=\"\", \"\", IF(VLOOKUP(CG17,'Footnotes list'!$D$9:$E$58,2,FALSE)=0,\"\",VLOOKUP(CG17,'Footnotes list'!$D$9:$E$58,2,FALSE) ) )","v":""},{"$f":"IF(AND(TRIM(BY17)=\"\",TRIM(CD17)=\"\"),\"\",BY17+CD17)","v":2492.5889999999999},null,null,null,{"$f":"IF(TRIM(CL17)=\"\", \"\", IF(VLOOKUP(CL17,'Footnotes list'!$D$9:$E$58,2,FALSE)=0,\"\",VLOOKUP(CL17,'Footnotes list'!$D$9:$E$58,2,FALSE) ) )","v":""},911.46799999999996,null,null,null,{"$f":"IF(TRIM(CQ17)=\"\", \"\", IF(VLOOKUP(CQ17,'Footnotes list'!$D$9:$E$58,2,FALSE)=0,\"\",VLOOKUP(CQ17,'Footnotes list'!$D$9:$E$58,2,FALSE) ) )","v":""},9237.527,null,null,null,{"$f":"IF(TRIM(CV17)=\"\", \"\", IF(VLOOKUP(CV17,'Footnotes list'!$D$9:$E$58,2,FALSE)=0,\"\",VLOOKUP(CV17,'Footnotes list'!$D$9:$E$58,2,FALSE) ) )","v":""},4.0000000000000001E-3,null,null,null,{"$f":"IF(TRIM(DA17)=\"\", \"\", IF(VLOOKUP(DA17,'Footnotes list'!$D$9:$E$58,2,FALSE)=0,\"\",VLOOKUP(DA17,'Footnotes list'!$D$9:$E$58,2,FALSE) ) )","v":""},551.173,null,null,null,{"$f":"IF(TRIM(DF17)=\"\", \"\", IF(VLOOKUP(DF17,'Footnotes list'!$D$9:$E$58,2,FALSE)=0,\"\",VLOOKUP(DF17,'Footnotes list'!$D$9:$E$58,2,FALSE) ) )","v":""},{"$f":"IF(AND(TRIM(G17)=\"\",TRIM(L17)=\"\",TRIM(BO17)=\"\",TRIM(BT17)=\"\",TRIM(CI17)=\"\",TRIM(CN17)=\"\",TRIM(CS17)=\"\",TRIM(CX17)=\"\",TRIM(DC17)=\"\"),\"\",SUM(G17,L17,BO17,BT17,CI17,CN17,CS17,CX17,DC17))","v":27654.600999999999},null,null,null,{"$f":"IF(TRIM(DK17)=\"\", \"\", IF(VLOOKUP(DK17,'Footnotes list'!$D$9:$E$58,2,FALSE)=0,\"\",VLOOKUP(DK17,'Footnotes list'!$D$9:$E$58,2,FALSE) ) )","v":""}]
[null,null,"W02A",null,"NHAZ","Non-hazardous",5.657,null,null,null,{"$f":"IF(TRIM(J18)=\"\", \"\", IF(VLOOKUP(J18,'Footnotes list'!$D$9:$E$58,2,FALSE)=0,\"\",VLOOKUP(J18,'Footnotes list'!$D$9:$E$58,2,FALSE) ) )","v":""},2.2349999999999999,null,null,null,{"$f":"IF(TRIM(O18)=\"\", \"\", IF(VLOOKUP(O18,'Footnotes list'!$D$9:$E$58,2,FALSE)=0,\"\",VLOOKUP(O18,'Footnotes list'!$D$9:$E$58,2,FALSE) ) )","v":""},436.94099999999997,null,null,null,{"$f":"IF(TRIM(T18)=\"\", \"\", IF(VLOOKUP(T18,'Footnotes list'!$D$9:$E$58,2,FALSE)=0,\"\",VLOOKUP(T18,'Footnotes list'!$D$9:$E$58,2,FALSE) ) )","v":""},1084.702,null,null,null,{"$f":"IF(TRIM(Y18)=\"\", \"\", IF(VLOOKUP(Y18,'Footnotes list'!$D$9:$E$58,2,FALSE)=0,\"\",VLOOKUP(Y18,'Footnotes list'!$D$9:$E$58,2,FALSE) ) )","v":""},92.257000000000005,null,null,null,{"$f":"IF(TRIM(AD18)=\"\", \"\", IF(VLOOKUP(AD18,'Footnotes list'!$D$9:$E$58,2,FALSE)=0,\"\",VLOOKUP(AD18,'Footnotes list'!$D$9:$E$58,2,FALSE) ) )","v":""},69.715000000000003,null,null,null,{"$f":"IF(TRIM(AI18)=\"\", \"\", IF(VLOOKUP(AI18,'Footnotes list'!$D$9:$E$58,2,FALSE)=0,\"\",VLOOKUP(AI18,'Footnotes list'!$D$9:$E$58,2,FALSE) ) )","v":""},1.1000000000000001,null,null,null,{"$f":"IF(TRIM(AN18)=\"\", \"\", IF(VLOOKUP(AN18,'Footnotes list'!$D$9:$E$58,2,FALSE)=0,\"\",VLOOKUP(AN18,'Footnotes list'!$D$9:$E$58,2,FALSE) ) )","v":""},492.07,null,null,null,{"$f":"IF(TRIM(AS18)=\"\", \"\", IF(VLOOKUP(AS18,'Footnotes list'!$D$9:$E$58,2,FALSE)=0,\"\",VLOOKUP(AS18,'Footnotes list'!$D$9:$E$58,2,FALSE) ) )","v":""},49.956000000000003,null,null,null,{"$f":"IF(TRIM(AX18)=\"\", \"\", IF(VLOOKUP(AX18,'Footnotes list'!$D$9:$E$58,2,FALSE)=0,\"\",VLOOKUP(AX18,'Footnotes list'!$D$9:$E$58,2,FALSE) ) )","v":""},205.39099999999999,null,null,null,{"$f":"IF(TRIM(BC18)=\"\", \"\", IF(VLOOKUP(BC18,'Footnotes list'!$D$9:$E$58,2,FALSE)=0,\"\",VLOOKUP(BC18,'Footnotes list'!$D$9:$E$58,2,FALSE) ) )","v":""},87.745000000000005,null,null,null,{"$f":"IF(TRIM(BH18)=\"\", \"\", IF(VLOOKUP(BH18,'Footnotes list'!$D$9:$E$58,2,FALSE)=0,\"\",VLOOKUP(BH18,'Footnotes list'!$D$9:$E$58,2,FALSE) ) )","v":""},155.93299999999999,null,null,null,{"$f":"IF(TRIM(BM18)=\"\", \"\", IF(VLOOKUP(BM18,'Footnotes list'!$D$9:$E$58,2,FALSE)=0,\"\",VLOOKUP(BM18,'Footnotes list'!$D$9:$E$58,2,FALSE) ) )","v":""},{"$f":"IF(AND(TRIM(Q18)=\"\",TRIM(V18)=\"\",TRIM(AA18)=\"\", TRIM(AF18)=\"\", TRIM(AK18)=\"\", TRIM(AP18)=\"\", TRIM(AU18)=\"\", TRIM(AZ18)=\"\", TRIM(BE18)=\"\", TRIM(BJ18)=\"\"),\"\",Q18+V18+AA18+AF18+AK18+AP18+AU18+AZ18+BE18+BJ18)","v":2675.81},null,null,null,{"$f":"IF(TRIM(BR18)=\"\", \"\", IF(VLOOKUP(BR18,'Footnotes list'!$D$9:$E$58,2,FALSE)=0,\"\",VLOOKUP(BR18,'Footnotes list'!$D$9:$E$58,2,FALSE) ) )","v":""},186.73,null,null,null,{"$f":"IF(TRIM(BW18)=\"\", \"\", IF(VLOOKUP(BW18,'Footnotes list'!$D$9:$E$58,2,FALSE)=0,\"\",VLOOKUP(BW18,'Footnotes list'!$D$9:$E$58,2,FALSE) ) )","v":""},21.207999999999998,null,null,null,{"$f":"IF(TRIM(CB18)=\"\", \"\", IF(VLOOKUP(CB18,'Footnotes list'!$D$9:$E$58,2,FALSE)=0,\"\",VLOOKUP(CB18,'Footnotes list'!$D$9:$E$58,2,FALSE) ) )","v":""},61.576999999999998,null,null,null,{"$f":"IF(TRIM(CG18)=\"\", \"\", IF(VLOOKUP(CG18,'Footnotes list'!$D$9:$E$58,2,FALSE)=0,\"\",VLOOKUP(CG18,'Footnotes list'!$D$9:$E$58,2,FALSE) ) )","v":""},{"$f":"IF(AND(TRIM(BY18)=\"\",TRIM(CD18)=\"\"),\"\",BY18+CD18)","v":82.784999999999997},null,null,null,{"$f":"IF(TRIM(CL18)=\"\", \"\", IF(VLOOKUP(CL18,'Footnotes list'!$D$9:$E$58,2,FALSE)=0,\"\",VLOOKUP(CL18,'Footnotes list'!$D$9:$E$58,2,FALSE) ) )","v":""},83.263000000000005,null,null,null,{"$f":"IF(TRIM(CQ18)=\"\", \"\", IF(VLOOKUP(CQ18,'Footnotes list'!$D$9:$E$58,2,FALSE)=0,\"\",VLOOKUP(CQ18,'Footnotes list'!$D$9:$E$58,2,FALSE) ) )","v":""},146.05099999999999,null,null,null,{"$f":"IF(TRIM(CV18)=\"\", \"\", IF(VLOOKUP(CV18,'Footnotes list'!$D$9:$E$58,2,FALSE)=0,\"\",VLOOKUP(CV18,'Footnotes list'!$D$9:$E$58,2,FALSE) ) )","v":""},0,null,null,null,{"$f":"IF(TRIM(DA18)=\"\", \"\", IF(VLOOKUP(DA18,'Footnotes list'!$D$9:$E$58,2,FALSE)=0,\"\",VLOOKUP(DA18,'Footnotes list'!$D$9:$E$58,2,FALSE) ) )","v":""},503.06599999999997,null,null,null,{"$f":"IF(TRIM(DF18)=\"\", \"\", IF(VLOOKUP(DF18,'Footnotes list'!$D$9:$E$58,2,FALSE)=0,\"\",VLOOKUP(DF18,'Footnotes list'!$D$9:$E$58,2,FALSE) ) )","v":""},{"$f":"IF(AND(TRIM(G18)=\"\",TRIM(L18)=\"\",TRIM(BO18)=\"\",TRIM(BT18)=\"\",TRIM(CI18)=\"\",TRIM(CN18)=\"\",TRIM(CS18)=\"\",TRIM(CX18)=\"\",TRIM(DC18)=\"\"),\"\",SUM(G18,L18,BO18,BT18,CI18,CN18,CS18,CX18,DC18))","v":3685.5970000000002},null,null,null,{"$f":"IF(TRIM(DK18)=\"\", \"\", IF(VLOOKUP(DK18,'Footnotes list'!$D$9:$E$58,2,FALSE)=0,\"\",VLOOKUP(DK18,'Footnotes list'!$D$9:$E$58,2,FALSE) ) )","v":""}]
[null,null,"W02A",null,"HAZ_NHAZ","Total",{"$f":"IF(AND(TRIM(G17)=\"\",TRIM(G18)=\"\"),\"\",G17+G18)","v":234.745},null,null,null,{"$f":"IF(TRIM(J19)=\"\", \"\", IF(VLOOKUP(J19,'Footnotes list'!$D$9:$E$58,2,FALSE)=0,\"\",VLOOKUP(J19,'Footnotes list'!$D$9:$E$58,2,FALSE) ) )","v":""},{"$f":"IF(AND(TRIM(L17)=\"\",TRIM(L18)=\"\"),\"\",L17+L18)","v":905.56299999999999},null,null,null,{"$f":"IF(TRIM(O19)=\"\", \"\", IF(VLOOKUP(O19,'Footnotes list'!$D$9:$E$58,2,FALSE)=0,\"\",VLOOKUP(O19,'Footnotes list'!$D$9:$E$58,2,FALSE) ) )","v":""},{"$f":"IF(AND(TRIM(Q17)=\"\",TRIM(Q18)=\"\"),\"\",Q17+Q18)","v":709.75699999999995},null,null,null,{"$f":"IF(TRIM(T19)=\"\", \"\", IF(VLOOKUP(T19,'Footnotes list'!$D$9:$E$58,2,FALSE)=0,\"\",VLOOKUP(T19,'Footnotes list'!$D$9:$E$58,2,FALSE) ) )","v":""},{"$f":"IF(AND(TRIM(V17)=\"\",TRIM(V18)=\"\"),\"\",V17+V18)","v":1306.1279999999999},null,null,null,{"$f":"IF(TRIM(Y19)=\"\", \"\", IF(VLOOKUP(Y19,'Footnotes list'!$D$9:$E$58,2,FALSE)=0,\"\",VLOOKUP(Y19,'Footnotes list'!$D$9:$E$58,2,FALSE) ) )","v":""},{"$f":"IF(AND(TRIM(AA17)=\"\",TRIM(AA18)=\"\"),\"\",AA17+AA18)","v":255.68},null,null,null,{"$f":"IF(TRIM(AD19)=\"\", \"\", IF(VLOOKUP(AD19,'Footnotes list'!$D$9:$E$58,2,FALSE)=0,\"\",VLOOKUP(AD19,'Footnotes list'!$D$9:$E$58,2,FALSE) ) )","v":""},{"$f":"IF(AND(TRIM(AF17)=\"\",TRIM(AF18)=\"\"),\"\",AF17+AF18)","v":1315.941},null,null,null,{"$f":"IF(TRIM(AI19)=\"\", \"\", IF(VLOOKUP(AI19,'Footnotes list'!$D$9:$E$58,2,FALSE)=0,\"\",VLOOKUP(AI19,'Footnotes list'!$D$9:$E$58,2,FALSE) ) )","v":""},{"$f":"IF(AND(TRIM(AK17)=\"\",TRIM(AK18)=\"\"),\"\",AK17+AK18)","v":1976.838},null,null,null,{"$f":"IF(TRIM(AN19)=\"\", \"\", IF(VLOOKUP(AN19,'Footnotes list'!$D$9:$E$58,2,FALSE)=0,\"\",VLOOKUP(AN19,'Footnotes list'!$D$9:$E$58,2,FALSE) ) )","v":""},{"$f":"IF(AND(TRIM(AP17)=\"\",TRIM(AP18)=\"\"),\"\",AP17+AP18)","v":2358.0120000000002},null,null,null,{"$f":"IF(TRIM(AS19)=\"\", \"\", IF(VLOOKUP(AS19,'Footnotes list'!$D$9:$E$58,2,FALSE)=0,\"\",VLOOKUP(AS19,'Footnotes list'!$D$9:$E$58,2,FALSE) ) )","v":""},{"$f":"IF(AND(TRIM(AU17)=\"\",TRIM(AU18)=\"\"),\"\",AU17+AU18)","v":713.64599999999996},null,null,null,{"$f":"IF(TRIM(AX19)=\"\", \"\", IF(VLOOKUP(AX19,'Footnotes list'!$D$9:$E$58,2,FALSE)=0,\"\",VLOOKUP(AX19,'Footnotes list'!$D$9:$E$58,2,FALSE) ) )","v":""},{"$f":"IF(AND(TRIM(AZ17)=\"\",TRIM(AZ18)=\"\"),\"\",AZ17+AZ18)","v":4039.2829999999999},null,null,null,{"$f":"IF(TRIM(BC19)=\"\", \"\", IF(VLOOKUP(BC19,'Footnotes list'!$D$9:$E$58,2,FALSE)=0,\"\",VLOOKUP(BC19,'Footnotes list'!$D$9:$E$58,2,FALSE) ) )","v":""},{"$f":"IF(AND(TRIM(BE17)=\"\",TRIM(BE18)=\"\"),\"\",BE17+BE18)","v":1853.529},null,null,null,{"$f":"IF(TRIM(BH19)=\"\", \"\", IF(VLOOKUP(BH19,'Footnotes list'!$D$9:$E$58,2,FALSE)=0,\"\",VLOOKUP(BH19,'Footnotes list'!$D$9:$E$58,2,FALSE) ) )","v":""},{"$f":"IF(AND(TRIM(BJ17)=\"\",TRIM(BJ18)=\"\"),\"\",BJ17+BJ18)","v":1101.318},null,null,null,{"$f":"IF(TRIM(BM19)=\"\", \"\", IF(VLOOKUP(BM19,'Footnotes list'!$D$9:$E$58,2,FALSE)=0,\"\",VLOOKUP(BM19,'Footnotes list'!$D$9:$E$58,2,FALSE) ) )","v":""},{"$f":"IF(AND(TRIM(BO17)=\"\", TRIM(BO18)=\"\"), \"\", (IF(ISNUMBER(BO17),BO17,0)+IF(ISNUMBER(BO18),BO18,0)))","v":15630.132},null,null,null,{"$f":"IF(TRIM(BR19)=\"\", \"\", IF(VLOOKUP(BR19,'Footnotes list'!$D$9:$E$58,2,FALSE)=0,\"\",VLOOKUP(BR19,'Footnotes list'!$D$9:$E$58,2,FALSE) ) )","v":""},{"$f":"IF(AND(TRIM(BT17)=\"\",TRIM(BT18)=\"\"),\"\",BT17+BT18)","v":561.83199999999999},null,null,null,{"$f":"IF(TRIM(BW19)=\"\", \"\", IF(VLOOKUP(BW19,'Footnotes list'!$D$9:$E$58,2,FALSE)=0,\"\",VLOOKUP(BW19,'Footnotes list'!$D$9:$E$58,2,FALSE) ) )","v":""},{"$f":"IF(AND(TRIM(BY17)=\"\",TRIM(BY18)=\"\"),\"\",BY17+BY18)","v":100.342},null,null,null,{"$f":"IF(TRIM(CB19)=\"\", \"\", IF(VLOOKUP(CB19,'Footnotes list'!$D$9:$E$58,2,FALSE)=0,\"\",VLOOKUP(CB19,'Footnotes list'!$D$9:$E$58,2,FALSE) ) )","v":""},{"$f":"IF(AND(TRIM(CD17)=\"\",TRIM(CD18)=\"\"),\"\",CD17+CD18)","v":2475.0320000000002},null,null,null,{"$f":"IF(TRIM(CG19)=\"\", \"\", IF(VLOOKUP(CG19,'Footnotes list'!$D$9:$E$58,2,FALSE)=0,\"\",VLOOKUP(CG19,'Footnotes list'!$D$9:$E$58,2,FALSE) ) )","v":""},{"$f":"IF(AND(TRIM(CI17)=\"\", TRIM(CI18)=\"\"), \"\", (IF(ISNUMBER(CI17),CI17,0)+IF(ISNUMBER(CI18),CI18,0)))","v":2575.3739999999998},null,null,null,{"$f":"IF(TRIM(CL19)=\"\", \"\", IF(VLOOKUP(CL19,'Footnotes list'!$D$9:$E$58,2,FALSE)=0,\"\",VLOOKUP(CL19,'Footnotes list'!$D$9:$E$58,2,FALSE) ) )","v":""},{"$f":"IF(AND(TRIM(CN17)=\"\",TRIM(CN18)=\"\"),\"\",CN17+CN18)","v":994.73099999999999},null,null,null,{"$f":"IF(TRIM(CQ19)=\"\", \"\", IF(VLOOKUP(CQ19,'Footnotes list'!$D$9:$E$58,2,FALSE)=0,\"\",VLOOKUP(CQ19,'Footnotes list'!$D$9:$E$58,2,FALSE) ) )","v":""},{"$f":"IF(AND(TRIM(CS17)=\"\",TRIM(CS18)=\"\"),\"\",CS17+CS18)","v":9383.5779999999995},null,null,null,{"$f":"IF(TRIM(CV19)=\"\", \"\", IF(VLOOKUP(CV19,'Footnotes list'!$D$9:$E$58,2,FALSE)=0,\"\",VLOOKUP(CV19,'Footnotes list'!$D$9:$E$58,2,FALSE) ) )","v":""},{"$f":"IF(AND(TRIM(CX17)=\"\",TRIM(CX18)=\"\"),\"\",CX17+CX18)","v":4.0000000000000001E-3},null,null,null,{"$f":"IF(TRIM(DA19)=\"\", \"\", IF(VLOOKUP(DA19,'Footnotes list'!$D$9:$E$58,2,FALSE)=0,\"\",VLOOKUP(DA19,'Footnotes list'!$D$9:$E$58,2,FALSE) ) )","v":""},{"$f":"IF(AND(TRIM(DC17)=\"\",TRIM(DC18)=\"\"),\"\",DC17+DC18)","v":1054.239},null,null,null,{"$f":"IF(TRIM(DF19)=\"\", \"\", IF(VLOOKUP(DF19,'Footnotes list'!$D$9:$E$58,2,FALSE)=0,\"\",VLOOKUP(DF19,'Footnotes list'!$D$9:$E$58,2,FALSE) ) )","v":""},{"$f":"IF(AND(TRIM(DH17)=\"\", TRIM(DH18)=\"\"), \"\", SUM(DH17,DH18) )","v":31340.198},null,null,null,{"$f":"IF(TRIM(DK19)=\"\", \"\", IF(VLOOKUP(DK19,'Footnotes list'!$D$9:$E$58,2,FALSE)=0,\"\",VLOOKUP(DK19,'Footnotes list'!$D$9:$E$58,2,FALSE) ) )","v":""}]
[null,"W032","W032","Industrial effluent sludges ","HAZ","Hazardous ",14.769,null,null,null,{"$f":"IF(TRIM(J20)=\"\", \"\", IF(VLOOKUP(J20,'Footnotes list'!$D$9:$E$58,2,FALSE)=0,\"\",VLOOKUP(J20,'Footnotes list'!$D$9:$E$58,2,FALSE) ) )","v":""},14.087999999999999,null,null,null,{"$f":"IF(TRIM(O20)=\"\", \"\", IF(VLOOKUP(O20,'Footnotes list'!$D$9:$E$58,2,FALSE)=0,\"\",VLOOKUP(O20,'Footnotes list'!$D$9:$E$58,2,FALSE) ) )","v":""},19.994,null,null,null,{"$f":"IF(TRIM(T20)=\"\", \"\", IF(VLOOKUP(T20,'Footnotes list'!$D$9:$E$58,2,FALSE)=0,\"\",VLOOKUP(T20,'Footnotes list'!$D$9:$E$58,2,FALSE) ) )","v":""},2.452,null,null,null,{"$f":"IF(TRIM(Y20)=\"\", \"\", IF(VLOOKUP(Y20,'Footnotes list'!$D$9:$E$58,2,FALSE)=0,\"\",VLOOKUP(Y20,'Footnotes list'!$D$9:$E$58,2,FALSE) ) )","v":""},0.43,null,null,null,{"$f":"IF(TRIM(AD20)=\"\", \"\", IF(VLOOKUP(AD20,'Footnotes list'!$D$9:$E$58,2,FALSE)=0,\"\",VLOOKUP(AD20,'Footnotes list'!$D$9:$E$58,2,FALSE) ) )","v":""},0.43,null,null,null,{"$f":"IF(TRIM(AI20)=\"\", \"\", IF(VLOOKUP(AI20,'Footnotes list'!$D$9:$E$58,2,FALSE)=0,\"\",VLOOKUP(AI20,'Footnotes list'!$D$9:$E$58,2,FALSE) ) )","v":""},260.642,null,null,null,{"$f":"IF(TRIM(AN20)=\"\", \"\", IF(VLOOKUP(AN20,'Footnotes list'!$D$9:$E$58,2,FALSE)=0,\"\",VLOOKUP(AN20,'Footnotes list'!$D$9:$E$58,2,FALSE) ) )","v":""},164.428,null,null,null,{"$f":"IF(TRIM(AS20)=\"\", \"\", IF(VLOOKUP(AS20,'Footnotes list'!$D$9:$E$58,2,FALSE)=0,\"\",VLOOKUP(AS20,'Footnotes list'!$D$9:$E$58,2,FALSE) ) )","v":""},8.5679999999999996,null,null,null,{"$f":"IF(TRIM(AX20)=\"\", \"\", IF(VLOOKUP(AX20,'Footnotes list'!$D$9:$E$58,2,FALSE)=0,\"\",VLOOKUP(AX20,'Footnotes list'!$D$9:$E$58,2,FALSE) ) )","v":""},116.28400000000001,null,null,null,{"$f":"IF(TRIM(BC20)=\"\", \"\", IF(VLOOKUP(BC20,'Footnotes list'!$D$9:$E$58,2,FALSE)=0,\"\",VLOOKUP(BC20,'Footnotes list'!$D$9:$E$58,2,FALSE) ) )","v":""},579.68600000000004,null,null,null,{"$f":"IF(TRIM(BH20)=\"\", \"\", IF(VLOOKUP(BH20,'Footnotes list'!$D$9:$E$58,2,FALSE)=0,\"\",VLOOKUP(BH20,'Footnotes list'!$D$9:$E$58,2,FALSE) ) )","v":""},128.40199999999999,null,null,null,{"$f":"IF(TRIM(BM20)=\"\", \"\", IF(VLOOKUP(BM20,'Footnotes list'!$D$9:$E$58,2,FALSE)=0,\"\",VLOOKUP(BM20,'Footnotes list'!$D$9:$E$58,2,FALSE) ) )","v":""},{"$f":"IF(AND(TRIM(Q20)=\"\",TRIM(V20)=\"\",TRIM(AA20)=\"\", TRIM(AF20)=\"\", TRIM(AK20)=\"\", TRIM(AP20)=\"\", TRIM(AU20)=\"\", TRIM(AZ20)=\"\", TRIM(BE20)=\"\", TRIM(BJ20)=\"\"),\"\",Q20+V20+AA20+AF20+AK20+AP20+AU20+AZ20+BE20+BJ20)","v":1281.316},null,null,null,{"$f":"IF(TRIM(BR20)=\"\", \"\", IF(VLOOKUP(BR20,'Footnotes list'!$D$9:$E$58,2,FALSE)=0,\"\",VLOOKUP(BR20,'Footnotes list'!$D$9:$E$58,2,FALSE) ) )","v":""},47.311999999999998,null,null,null,{"$f":"IF(TRIM(BW20)=\"\", \"\", IF(VLOOKUP(BW20,'Footnotes list'!$D$9:$E$58,2,FALSE)=0,\"\",VLOOKUP(BW20,'Footnotes list'!$D$9:$E$58,2,FALSE) ) )","v":""},25.68,null,null,null,{"$f":"IF(TRIM(CB20)=\"\", \"\", IF(VLOOKUP(CB20,'Footnotes list'!$D$9:$E$58,2,FALSE)=0,\"\",VLOOKUP(CB20,'Footnotes list'!$D$9:$E$58,2,FALSE) ) )","v":""},126.104,null,null,null,{"$f":"IF(TRIM(CG20)=\"\", \"\", IF(VLOOKUP(CG20,'Footnotes list'!$D$9:$E$58,2,FALSE)=0,\"\",VLOOKUP(CG20,'Footnotes list'!$D$9:$E$58,2,FALSE) ) )","v":""},{"$f":"IF(AND(TRIM(BY20)=\"\",TRIM(CD20)=\"\"),\"\",BY20+CD20)","v":151.78399999999999},null,null,null,{"$f":"IF(TRIM(CL20)=\"\", \"\", IF(VLOOKUP(CL20,'Footnotes list'!$D$9:$E$58,2,FALSE)=0,\"\",VLOOKUP(CL20,'Footnotes list'!$D$9:$E$58,2,FALSE) ) )","v":""},0.14899999999999999,null,null,null,{"$f":"IF(TRIM(CQ20)=\"\", \"\", IF(VLOOKUP(CQ20,'Footnotes list'!$D$9:$E$58,2,FALSE)=0,\"\",VLOOKUP(CQ20,'Footnotes list'!$D$9:$E$58,2,FALSE) ) )","v":""},308.14,null,null,null,{"$f":"IF(TRIM(CV20)=\"\", \"\", IF(VLOOKUP(CV20,'Footnotes list'!$D$9:$E$58,2,FALSE)=0,\"\",VLOOKUP(CV20,'Footnotes list'!$D$9:$E$58,2,FALSE) ) )","v":""},0,null,null,null,{"$f":"IF(TRIM(DA20)=\"\", \"\", IF(VLOOKUP(DA20,'Footnotes list'!$D$9:$E$58,2,FALSE)=0,\"\",VLOOKUP(DA20,'Footnotes list'!$D$9:$E$58,2,FALSE) ) )","v":""},0,null,null,null,{"$f":"IF(TRIM(DF20)=\"\", \"\", IF(VLOOKUP(DF20,'Footnotes list'!$D$9:$E$58,2,FALSE)=0,\"\",VLOOKUP(DF20,'Footnotes list'!$D$9:$E$58,2,FALSE) ) )","v":""},{"$f":"IF(AND(TRIM(G20)=\"\",TRIM(L20)=\"\",TRIM(BO20)=\"\",TRIM(BT20)=\"\",TRIM(CI20)=\"\",TRIM(CN20)=\"\",TRIM(CS20)=\"\",TRIM(CX20)=\"\",TRIM(DC20)=\"\"),\"\",SUM(G20,L20,BO20,BT20,CI20,CN20,CS20,CX20,DC20))","v":1817.558},null,null,null,{"$f":"IF(TRIM(DK20)=\"\", \"\", IF(VLOOKUP(DK20,'Footnotes list'!$D$9:$E$58,2,FALSE)=0,\"\",VLOOKUP(DK20,'Footnotes list'!$D$9:$E$58,2,FALSE) ) )","v":""}]
[null,null,"W032",null,"NHAZ","Non-hazardous",0,null,null,null,{"$f":"IF(TRIM(J21)=\"\", \"\", IF(VLOOKUP(J21,'Footnotes list'!$D$9:$E$58,2,FALSE)=0,\"\",VLOOKUP(J21,'Footnotes list'!$D$9:$E$58,2,FALSE) ) )","v":""},20.725000000000001,null,null,null,{"$f":"IF(TRIM(O21)=\"\", \"\", IF(VLOOKUP(O21,'Footnotes list'!$D$9:$E$58,2,FALSE)=0,\"\",VLOOKUP(O21,'Footnotes list'!$D$9:$E$58,2,FALSE) ) )","v":""},663.56100000000004,null,null,null,{"$f":"IF(TRIM(T21)=\"\", \"\", IF(VLOOKUP(T21,'Footnotes list'!$D$9:$E$58,2,FALSE)=0,\"\",VLOOKUP(T21,'Footnotes list'!$D$9:$E$58,2,FALSE) ) )","v":""},88.256,null,null,null,{"$f":"IF(TRIM(Y21)=\"\", \"\", IF(VLOOKUP(Y21,'Footnotes list'!$D$9:$E$58,2,FALSE)=0,\"\",VLOOKUP(Y21,'Footnotes list'!$D$9:$E$58,2,FALSE) ) )","v":""},0,null,null,null,{"$f":"IF(TRIM(AD21)=\"\", \"\", IF(VLOOKUP(AD21,'Footnotes list'!$D$9:$E$58,2,FALSE)=0,\"\",VLOOKUP(AD21,'Footnotes list'!$D$9:$E$58,2,FALSE) ) )","v":""},2413.951,null,null,null,{"$f":"IF(TRIM(AI21)=\"\", \"\", IF(VLOOKUP(AI21,'Footnotes list'!$D$9:$E$58,2,FALSE)=0,\"\",VLOOKUP(AI21,'Footnotes list'!$D$9:$E$58,2,FALSE) ) )","v":""},0,null,null,null,{"$f":"IF(TRIM(AN21)=\"\", \"\", IF(VLOOKUP(AN21,'Footnotes list'!$D$9:$E$58,2,FALSE)=0,\"\",VLOOKUP(AN21,'Footnotes list'!$D$9:$E$58,2,FALSE) ) )","v":""},170.82499999999999,null,null,null,{"$f":"IF(TRIM(AS21)=\"\", \"\", IF(VLOOKUP(AS21,'Footnotes list'!$D$9:$E$58,2,FALSE)=0,\"\",VLOOKUP(AS21,'Footnotes list'!$D$9:$E$58,2,FALSE) ) )","v":""},1.0449999999999999,null,null,null,{"$f":"IF(TRIM(AX21)=\"\", \"\", IF(VLOOKUP(AX21,'Footnotes list'!$D$9:$E$58,2,FALSE)=0,\"\",VLOOKUP(AX21,'Footnotes list'!$D$9:$E$58,2,FALSE) ) )","v":""},22.488,null,null,null,{"$f":"IF(TRIM(BC21)=\"\", \"\", IF(VLOOKUP(BC21,'Footnotes list'!$D$9:$E$58,2,FALSE)=0,\"\",VLOOKUP(BC21,'Footnotes list'!$D$9:$E$58,2,FALSE) ) )","v":""},13.429,null,null,null,{"$f":"IF(TRIM(BH21)=\"\", \"\", IF(VLOOKUP(BH21,'Footnotes list'!$D$9:$E$58,2,FALSE)=0,\"\",VLOOKUP(BH21,'Footnotes list'!$D$9:$E$58,2,FALSE) ) )","v":""},2.7,null,null,null,{"$f":"IF(TRIM(BM21)=\"\", \"\", IF(VLOOKUP(BM21,'Footnotes list'!$D$9:$E$58,2,FALSE)=0,\"\",VLOOKUP(BM21,'Footnotes list'!$D$9:$E$58,2,FALSE) ) )","v":""},{"$f":"IF(AND(TRIM(Q21)=\"\",TRIM(V21)=\"\",TRIM(AA21)=\"\", TRIM(AF21)=\"\", TRIM(AK21)=\"\", TRIM(AP21)=\"\", TRIM(AU21)=\"\", TRIM(AZ21)=\"\", TRIM(BE21)=\"\", TRIM(BJ21)=\"\"),\"\",Q21+V21+AA21+AF21+AK21+AP21+AU21+AZ21+BE21+BJ21)","v":3376.2550000000001},null,null,null,{"$f":"IF(TRIM(BR21)=\"\", \"\", IF(VLOOKUP(BR21,'Footnotes list'!$D$9:$E$58,2,FALSE)=0,\"\",VLOOKUP(BR21,'Footnotes list'!$D$9:$E$58,2,FALSE) ) )","v":""},54.448,null,null,null,{"$f":"IF(TRIM(BW21)=\"\", \"\", IF(VLOOKUP(BW21,'Footnotes list'!$D$9:$E$58,2,FALSE)=0,\"\",VLOOKUP(BW21,'Footnotes list'!$D$9:$E$58,2,FALSE) ) )","v":""},100.373,null,null,null,{"$f":"IF(TRIM(CB21)=\"\", \"\", IF(VLOOKUP(CB21,'Footnotes list'!$D$9:$E$58,2,FALSE)=0,\"\",VLOOKUP(CB21,'Footnotes list'!$D$9:$E$58,2,FALSE) ) )","v":""},103.89100000000001,null,null,null,{"$f":"IF(TRIM(CG21)=\"\", \"\", IF(VLOOKUP(CG21,'Footnotes list'!$D$9:$E$58,2,FALSE)=0,\"\",VLOOKUP(CG21,'Footnotes list'!$D$9:$E$58,2,FALSE) ) )","v":""},{"$f":"IF(AND(TRIM(BY21)=\"\",TRIM(CD21)=\"\"),\"\",BY21+CD21)","v":204.26400000000001},null,null,null,{"$f":"IF(TRIM(CL21)=\"\", \"\", IF(VLOOKUP(CL21,'Footnotes list'!$D$9:$E$58,2,FALSE)=0,\"\",VLOOKUP(CL21,'Footnotes list'!$D$9:$E$58,2,FALSE) ) )","v":""},72.403000000000006,null,null,null,{"$f":"IF(TRIM(CQ21)=\"\", \"\", IF(VLOOKUP(CQ21,'Footnotes list'!$D$9:$E$58,2,FALSE)=0,\"\",VLOOKUP(CQ21,'Footnotes list'!$D$9:$E$58,2,FALSE) ) )","v":""},126.947,null,null,null,{"$f":"IF(TRIM(CV21)=\"\", \"\", IF(VLOOKUP(CV21,'Footnotes list'!$D$9:$E$58,2,FALSE)=0,\"\",VLOOKUP(CV21,'Footnotes list'!$D$9:$E$58,2,FALSE) ) )","v":""},0,null,null,null,{"$f":"IF(TRIM(DA21)=\"\", \"\", IF(VLOOKUP(DA21,'Footnotes list'!$D$9:$E$58,2,FALSE)=0,\"\",VLOOKUP(DA21,'Footnotes list'!$D$9:$E$58,2,FALSE) ) )","v":""},0,null,null,null,{"$f":"IF(TRIM(DF21)=\"\", \"\", IF(VLOOKUP(DF21,'Footnotes list'!$D$9:$E$58,2,FALSE)=0,\"\",VLOOKUP(DF21,'Footnotes list'!$D$9:$E$58,2,FALSE) ) )","v":""},{"$f":"IF(AND(TRIM(G21)=\"\",TRIM(L21)=\"\",TRIM(BO21)=\"\",TRIM(BT21)=\"\",TRIM(CI21)=\"\",TRIM(CN21)=\"\",TRIM(CS21)=\"\",TRIM(CX21)=\"\",TRIM(DC21)=\"\"),\"\",SUM(G21,L21,BO21,BT21,CI21,CN21,CS21,CX21,DC21))","v":3855.0419999999999},null,null,null,{"$f":"IF(TRIM(DK21)=\"\", \"\", IF(VLOOKUP(DK21,'Footnotes list'!$D$9:$E$58,2,FALSE)=0,\"\",VLOOKUP(DK21,'Footnotes list'!$D$9:$E$58,2,FALSE) ) )","v":""}]
[null,null,"W032",null,"HAZ_NHAZ","Total",{"$f":"IF(AND(TRIM(G20)=\"\",TRIM(G21)=\"\"),\"\",G20+G21)","v":14.769},null,null,null,{"$f":"IF(TRIM(J22)=\"\", \"\", IF(VLOOKUP(J22,'Footnotes list'!$D$9:$E$58,2,FALSE)=0,\"\",VLOOKUP(J22,'Footnotes list'!$D$9:$E$58,2,FALSE) ) )","v":""},{"$f":"IF(AND(TRIM(L20)=\"\",TRIM(L21)=\"\"),\"\",L20+L21)","v":34.813000000000002},null,null,null,{"$f":"IF(TRIM(O22)=\"\", \"\", IF(VLOOKUP(O22,'Footnotes list'!$D$9:$E$58,2,FALSE)=0,\"\",VLOOKUP(O22,'Footnotes list'!$D$9:$E$58,2,FALSE) ) )","v":""},{"$f":"IF(AND(TRIM(Q20)=\"\",TRIM(Q21)=\"\"),\"\",Q20+Q21)","v":683.55499999999995},null,null,null,{"$f":"IF(TRIM(T22)=\"\", \"\", IF(VLOOKUP(T22,'Footnotes list'!$D$9:$E$58,2,FALSE)=0,\"\",VLOOKUP(T22,'Footnotes list'!$D$9:$E$58,2,FALSE) ) )","v":""},{"$f":"IF(AND(TRIM(V20)=\"\",TRIM(V21)=\"\"),\"\",V20+V21)","v":90.707999999999998},null,null,null,{"$f":"IF(TRIM(Y22)=\"\", \"\", IF(VLOOKUP(Y22,'Footnotes list'!$D$9:$E$58,2,FALSE)=0,\"\",VLOOKUP(Y22,'Footnotes list'!$D$9:$E$58,2,FALSE) ) )","v":""},{"$f":"IF(AND(TRIM(AA20)=\"\",TRIM(AA21)=\"\"),\"\",AA20+AA21)","v":0.43},null,null,null,{"$f":"IF(TRIM(AD22)=\"\", \"\", IF(VLOOKUP(AD22,'Footnotes list'!$D$9:$E$58,2,FALSE)=0,\"\",VLOOKUP(AD22,'Footnotes list'!$D$9:$E$58,2,FALSE) ) )","v":""},{"$f":"IF(AND(TRIM(AF20)=\"\",TRIM(AF21)=\"\"),\"\",AF20+AF21)","v":2414.3809999999999},null,null,null,{"$f":"IF(TRIM(AI22)=\"\", \"\", IF(VLOOKUP(AI22,'Footnotes list'!$D$9:$E$58,2,FALSE)=0,\"\",VLOOKUP(AI22,'Footnotes list'!$D$9:$E$58,2,FALSE) ) )","v":""},{"$f":"IF(AND(TRIM(AK20)=\"\",TRIM(AK21)=\"\"),\"\",AK20+AK21)","v":260.642},null,null,null,{"$f":"IF(TRIM(AN22)=\"\", \"\", IF(VLOOKUP(AN22,'Footnotes list'!$D$9:$E$58,2,FALSE)=0,\"\",VLOOKUP(AN22,'Footnotes list'!$D$9:$E$58,2,FALSE) ) )","v":""},{"$f":"IF(AND(TRIM(AP20)=\"\",TRIM(AP21)=\"\"),\"\",AP20+AP21)","v":335.25299999999999},null,null,null,{"$f":"IF(TRIM(AS22)=\"\", \"\", IF(VLOOKUP(AS22,'Footnotes list'!$D$9:$E$58,2,FALSE)=0,\"\",VLOOKUP(AS22,'Footnotes list'!$D$9:$E$58,2,FALSE) ) )","v":""},{"$f":"IF(AND(TRIM(AU20)=\"\",TRIM(AU21)=\"\"),\"\",AU20+AU21)","v":9.6129999999999995},null,null,null,{"$f":"IF(TRIM(AX22)=\"\", \"\", IF(VLOOKUP(AX22,'Footnotes list'!$D$9:$E$58,2,FALSE)=0,\"\",VLOOKUP(AX22,'Footnotes list'!$D$9:$E$58,2,FALSE) ) )","v":""},{"$f":"IF(AND(TRIM(AZ20)=\"\",TRIM(AZ21)=\"\"),\"\",AZ20+AZ21)","v":138.77199999999999},null,null,null,{"$f":"IF(TRIM(BC22)=\"\", \"\", IF(VLOOKUP(BC22,'Footnotes list'!$D$9:$E$58,2,FALSE)=0,\"\",VLOOKUP(BC22,'Footnotes list'!$D$9:$E$58,2,FALSE) ) )","v":""},{"$f":"IF(AND(TRIM(BE20)=\"\",TRIM(BE21)=\"\"),\"\",BE20+BE21)","v":593.11500000000001},null,null,null,{"$f":"IF(TRIM(BH22)=\"\", \"\", IF(VLOOKUP(BH22,'Footnotes list'!$D$9:$E$58,2,FALSE)=0,\"\",VLOOKUP(BH22,'Footnotes list'!$D$9:$E$58,2,FALSE) ) )","v":""},{"$f":"IF(AND(TRIM(BJ20)=\"\",TRIM(BJ21)=\"\"),\"\",BJ20+BJ21)","v":131.102},null,null,null,{"$f":"IF(TRIM(BM22)=\"\", \"\", IF(VLOOKUP(BM22,'Footnotes list'!$D$9:$E$58,2,FALSE)=0,\"\",VLOOKUP(BM22,'Footnotes list'!$D$9:$E$58,2,FALSE) ) )","v":""},{"$f":"IF(AND(TRIM(BO20)=\"\", TRIM(BO21)=\"\"), \"\", (IF(ISNUMBER(BO20),BO20,0)+IF(ISNUMBER(BO21),BO21,0)))","v":4657.5709999999999},null,null,null,{"$f":"IF(TRIM(BR22)=\"\", \"\", IF(VLOOKUP(BR22,'Footnotes list'!$D$9:$E$58,2,FALSE)=0,\"\",VLOOKUP(BR22,'Footnotes list'!$D$9:$E$58,2,FALSE) ) )","v":""},{"$f":"IF(AND(TRIM(BT20)=\"\",TRIM(BT21)=\"\"),\"\",BT20+BT21)","v":101.76},null,null,null,{"$f":"IF(TRIM(BW22)=\"\", \"\", IF(VLOOKUP(BW22,'Footnotes list'!$D$9:$E$58,2,FALSE)=0,\"\",VLOOKUP(BW22,'Footnotes list'!$D$9:$E$58,2,FALSE) ) )","v":""},{"$f":"IF(AND(TRIM(BY20)=\"\",TRIM(BY21)=\"\"),\"\",BY20+BY21)","v":126.053},null,null,null,{"$f":"IF(TRIM(CB22)=\"\", \"\", IF(VLOOKUP(CB22,'Footnotes list'!$D$9:$E$58,2,FALSE)=0,\"\",VLOOKUP(CB22,'Footnotes list'!$D$9:$E$58,2,FALSE) ) )","v":""},{"$f":"IF(AND(TRIM(CD20)=\"\",TRIM(CD21)=\"\"),\"\",CD20+CD21)","v":229.995},null,null,null,{"$f":"IF(TRIM(CG22)=\"\", \"\", IF(VLOOKUP(CG22,'Footnotes list'!$D$9:$E$58,2,FALSE)=0,\"\",VLOOKUP(CG22,'Footnotes list'!$D$9:$E$58,2,FALSE) ) )","v":""},{"$f":"IF(AND(TRIM(CI20)=\"\", TRIM(CI21)=\"\"), \"\", (IF(ISNUMBER(CI20),CI20,0)+IF(ISNUMBER(CI21),CI21,0)))","v":356.048},null,null,null,{"$f":"IF(TRIM(CL22)=\"\", \"\", IF(VLOOKUP(CL22,'Footnotes list'!$D$9:$E$58,2,FALSE)=0,\"\",VLOOKUP(CL22,'Footnotes list'!$D$9:$E$58,2,FALSE) ) )","v":""},{"$f":"IF(AND(TRIM(CN20)=\"\",TRIM(CN21)=\"\"),\"\",CN20+CN21)","v":72.552000000000007},null,null,null,{"$f":"IF(TRIM(CQ22)=\"\", \"\", IF(VLOOKUP(CQ22,'Footnotes list'!$D$9:$E$58,2,FALSE)=0,\"\",VLOOKUP(CQ22,'Footnotes list'!$D$9:$E$58,2,FALSE) ) )","v":""},{"$f":"IF(AND(TRIM(CS20)=\"\",TRIM(CS21)=\"\"),\"\",CS20+CS21)","v":435.08699999999999},null,null,null,{"$f":"IF(TRIM(CV22)=\"\", \"\", IF(VLOOKUP(CV22,'Footnotes list'!$D$9:$E$58,2,FALSE)=0,\"\",VLOOKUP(CV22,'Footnotes list'!$D$9:$E$58,2,FALSE) ) )","v":""},{"$f":"IF(AND(TRIM(CX20)=\"\",TRIM(CX21)=\"\"),\"\",CX20+CX21)","v":0},null,null,null,{"$f":"IF(TRIM(DA22)=\"\", \"\", IF(VLOOKUP(DA22,'Footnotes list'!$D$9:$E$58,2,FALSE)=0,\"\",VLOOKUP(DA22,'Footnotes list'!$D$9:$E$58,2,FALSE) ) )","v":""},{"$f":"IF(AND(TRIM(DC20)=\"\",TRIM(DC21)=\"\"),\"\",DC20+DC21)","v":0},null,null,null,{"$f":"IF(TRIM(DF22)=\"\", \"\", IF(VLOOKUP(DF22,'Footnotes list'!$D$9:$E$58,2,FALSE)=0,\"\",VLOOKUP(DF22,'Footnotes list'!$D$9:$E$58,2,FALSE) ) )","v":""},{"$f":"IF(AND(TRIM(DH20)=\"\", TRIM(DH21)=\"\"), \"\", SUM(DH20,DH21) )","v":5672.6},null,null,null,{"$f":"IF(TRIM(DK22)=\"\", \"\", IF(VLOOKUP(DK22,'Footnotes list'!$D$9:$E$58,2,FALSE)=0,\"\",VLOOKUP(DK22,'Footnotes list'!$D$9:$E$58,2,FALSE) ) )","v":""}]
[null,"W033","W033","Sludges and liquid wastes from waste treatment","HAZ","Hazardous ",0,null,null,null,{"$f":"IF(TRIM(J23)=\"\", \"\", IF(VLOOKUP(J23,'Footnotes list'!$D$9:$E$58,2,FALSE)=0,\"\",VLOOKUP(J23,'Footnotes list'!$D$9:$E$58,2,FALSE) ) )","v":""},0,null,null,null,{"$f":"IF(TRIM(O23)=\"\", \"\", IF(VLOOKUP(O23,'Footnotes list'!$D$9:$E$58,2,FALSE)=0,\"\",VLOOKUP(O23,'Footnotes list'!$D$9:$E$58,2,FALSE) ) )","v":""},0,null,null,null,{"$f":"IF(TRIM(T23)=\"\", \"\", IF(VLOOKUP(T23,'Footnotes list'!$D$9:$E$58,2,FALSE)=0,\"\",VLOOKUP(T23,'Footnotes list'!$D$9:$E$58,2,FALSE) ) )","v":""},2.1999999999999999E-2,null,null,null,{"$f":"IF(TRIM(Y23)=\"\", \"\", IF(VLOOKUP(Y23,'Footnotes list'!$D$9:$E$58,2,FALSE)=0,\"\",VLOOKUP(Y23,'Footnotes list'!$D$9:$E$58,2,FALSE) ) )","v":""},0,null,null,null,{"$f":"IF(TRIM(AD23)=\"\", \"\", IF(VLOOKUP(AD23,'Footnotes list'!$D$9:$E$58,2,FALSE)=0,\"\",VLOOKUP(AD23,'Footnotes list'!$D$9:$E$58,2,FALSE) ) )","v":""},0,null,null,null,{"$f":"IF(TRIM(AI23)=\"\", \"\", IF(VLOOKUP(AI23,'Footnotes list'!$D$9:$E$58,2,FALSE)=0,\"\",VLOOKUP(AI23,'Footnotes list'!$D$9:$E$58,2,FALSE) ) )","v":""},0,null,null,null,{"$f":"IF(TRIM(AN23)=\"\", \"\", IF(VLOOKUP(AN23,'Footnotes list'!$D$9:$E$58,2,FALSE)=0,\"\",VLOOKUP(AN23,'Footnotes list'!$D$9:$E$58,2,FALSE) ) )","v":""},0,null,null,null,{"$f":"IF(TRIM(AS23)=\"\", \"\", IF(VLOOKUP(AS23,'Footnotes list'!$D$9:$E$58,2,FALSE)=0,\"\",VLOOKUP(AS23,'Footnotes list'!$D$9:$E$58,2,FALSE) ) )","v":""},0,null,null,null,{"$f":"IF(TRIM(AX23)=\"\", \"\", IF(VLOOKUP(AX23,'Footnotes list'!$D$9:$E$58,2,FALSE)=0,\"\",VLOOKUP(AX23,'Footnotes list'!$D$9:$E$58,2,FALSE) ) )","v":""},91.245999999999995,null,null,null,{"$f":"IF(TRIM(BC23)=\"\", \"\", IF(VLOOKUP(BC23,'Footnotes list'!$D$9:$E$58,2,FALSE)=0,\"\",VLOOKUP(BC23,'Footnotes list'!$D$9:$E$58,2,FALSE) ) )","v":""},0,null,null,null,{"$f":"IF(TRIM(BH23)=\"\", \"\", IF(VLOOKUP(BH23,'Footnotes list'!$D$9:$E$58,2,FALSE)=0,\"\",VLOOKUP(BH23,'Footnotes list'!$D$9:$E$58,2,FALSE) ) )","v":""},6.4000000000000001E-2,null,null,null,{"$f":"IF(TRIM(BM23)=\"\", \"\", IF(VLOOKUP(BM23,'Footnotes list'!$D$9:$E$58,2,FALSE)=0,\"\",VLOOKUP(BM23,'Footnotes list'!$D$9:$E$58,2,FALSE) ) )","v":""},{"$f":"IF(AND(TRIM(Q23)=\"\",TRIM(V23)=\"\",TRIM(AA23)=\"\", TRIM(AF23)=\"\", TRIM(AK23)=\"\", TRIM(AP23)=\"\", TRIM(AU23)=\"\", TRIM(AZ23)=\"\", TRIM(BE23)=\"\", TRIM(BJ23)=\"\"),\"\",Q23+V23+AA23+AF23+AK23+AP23+AU23+AZ23+BE23+BJ23)","v":91.331999999999994},null,null,null,{"$f":"IF(TRIM(BR23)=\"\", \"\", IF(VLOOKUP(BR23,'Footnotes list'!$D$9:$E$58,2,FALSE)=0,\"\",VLOOKUP(BR23,'Footnotes list'!$D$9:$E$58,2,FALSE) ) )","v":""},0,null,null,null,{"$f":"IF(TRIM(BW23)=\"\", \"\", IF(VLOOKUP(BW23,'Footnotes list'!$D$9:$E$58,2,FALSE)=0,\"\",VLOOKUP(BW23,'Footnotes list'!$D$9:$E$58,2,FALSE) ) )","v":""},116.59099999999999,null,null,null,{"$f":"IF(TRIM(CB23)=\"\", \"\", IF(VLOOKUP(CB23,'Footnotes list'!$D$9:$E$58,2,FALSE)=0,\"\",VLOOKUP(CB23,'Footnotes list'!$D$9:$E$58,2,FALSE) ) )","v":""},759.66399999999999,null,null,null,{"$f":"IF(TRIM(CG23)=\"\", \"\", IF(VLOOKUP(CG23,'Footnotes list'!$D$9:$E$58,2,FALSE)=0,\"\",VLOOKUP(CG23,'Footnotes list'!$D$9:$E$58,2,FALSE) ) )","v":""},{"$f":"IF(AND(TRIM(BY23)=\"\",TRIM(CD23)=\"\"),\"\",BY23+CD23)","v":876.255},null,null,null,{"$f":"IF(TRIM(CL23)=\"\", \"\", IF(VLOOKUP(CL23,'Footnotes list'!$D$9:$E$58,2,FALSE)=0,\"\",VLOOKUP(CL23,'Footnotes list'!$D$9:$E$58,2,FALSE) ) )","v":""},0,null,null,null,{"$f":"IF(TRIM(CQ23)=\"\", \"\", IF(VLOOKUP(CQ23,'Footnotes list'!$D$9:$E$58,2,FALSE)=0,\"\",VLOOKUP(CQ23,'Footnotes list'!$D$9:$E$58,2,FALSE) ) )","v":""},138.822,null,null,null,{"$f":"IF(TRIM(CV23)=\"\", \"\", IF(VLOOKUP(CV23,'Footnotes list'!$D$9:$E$58,2,FALSE)=0,\"\",VLOOKUP(CV23,'Footnotes list'!$D$9:$E$58,2,FALSE) ) )","v":""},0,null,null,null,{"$f":"IF(TRIM(DA23)=\"\", \"\", IF(VLOOKUP(DA23,'Footnotes list'!$D$9:$E$58,2,FALSE)=0,\"\",VLOOKUP(DA23,'Footnotes list'!$D$9:$E$58,2,FALSE) ) )","v":""},0,null,null,null,{"$f":"IF(TRIM(DF23)=\"\", \"\", IF(VLOOKUP(DF23,'Footnotes list'!$D$9:$E$58,2,FALSE)=0,\"\",VLOOKUP(DF23,'Footnotes list'!$D$9:$E$58,2,FALSE) ) )","v":""},{"$f":"IF(AND(TRIM(G23)=\"\",TRIM(L23)=\"\",TRIM(BO23)=\"\",TRIM(BT23)=\"\",TRIM(CI23)=\"\",TRIM(CN23)=\"\",TRIM(CS23)=\"\",TRIM(CX23)=\"\",TRIM(DC23)=\"\"),\"\",SUM(G23,L23,BO23,BT23,CI23,CN23,CS23,CX23,DC23))","v":1106.4090000000001},null,null,null,{"$f":"IF(TRIM(DK23)=\"\", \"\", IF(VLOOKUP(DK23,'Footnotes list'!$D$9:$E$58,2,FALSE)=0,\"\",VLOOKUP(DK23,'Footnotes list'!$D$9:$E$58,2,FALSE) ) )","v":""}]
[null,null,"W033",null,"NHAZ","Non-hazardous",0,null,null,null,{"$f":"IF(TRIM(J24)=\"\", \"\", IF(VLOOKUP(J24,'Footnotes list'!$D$9:$E$58,2,FALSE)=0,\"\",VLOOKUP(J24,'Footnotes list'!$D$9:$E$58,2,FALSE) ) )","v":""},0,null,null,null,{"$f":"IF(TRIM(O24)=\"\", \"\", IF(VLOOKUP(O24,'Footnotes list'!$D$9:$E$58,2,FALSE)=0,\"\",VLOOKUP(O24,'Footnotes list'!$D$9:$E$58,2,FALSE) ) )","v":""},0,null,null,null,{"$f":"IF(TRIM(T24)=\"\", \"\", IF(VLOOKUP(T24,'Footnotes list'!$D$9:$E$58,2,FALSE)=0,\"\",VLOOKUP(T24,'Footnotes list'!$D$9:$E$58,2,FALSE) ) )","v":""},0,null,null,null,{"$f":"IF(TRIM(Y24)=\"\", \"\", IF(VLOOKUP(Y24,'Footnotes list'!$D$9:$E$58,2,FALSE)=0,\"\",VLOOKUP(Y24,'Footnotes list'!$D$9:$E$58,2,FALSE) ) )","v":""},0,null,null,null,{"$f":"IF(TRIM(AD24)=\"\", \"\", IF(VLOOKUP(AD24,'Footnotes list'!$D$9:$E$58,2,FALSE)=0,\"\",VLOOKUP(AD24,'Footnotes list'!$D$9:$E$58,2,FALSE) ) )","v":""},0,null,null,null,{"$f":"IF(TRIM(AI24)=\"\", \"\", IF(VLOOKUP(AI24,'Footnotes list'!$D$9:$E$58,2,FALSE)=0,\"\",VLOOKUP(AI24,'Footnotes list'!$D$9:$E$58,2,FALSE) ) )","v":""},0,null,null,null,{"$f":"IF(TRIM(AN24)=\"\", \"\", IF(VLOOKUP(AN24,'Footnotes list'!$D$9:$E$58,2,FALSE)=0,\"\",VLOOKUP(AN24,'Footnotes list'!$D$9:$E$58,2,FALSE) ) )","v":""},6.3E-2,null,null,null,{"$f":"IF(TRIM(AS24)=\"\", \"\", IF(VLOOKUP(AS24,'Footnotes list'!$D$9:$E$58,2,FALSE)=0,\"\",VLOOKUP(AS24,'Footnotes list'!$D$9:$E$58,2,FALSE) ) )","v":""},0,null,null,null,{"$f":"IF(TRIM(AX24)=\"\", \"\", IF(VLOOKUP(AX24,'Footnotes list'!$D$9:$E$58,2,FALSE)=0,\"\",VLOOKUP(AX24,'Footnotes list'!$D$9:$E$58,2,FALSE) ) )","v":""},99.001000000000005,null,null,null,{"$f":"IF(TRIM(BC24)=\"\", \"\", IF(VLOOKUP(BC24,'Footnotes list'!$D$9:$E$58,2,FALSE)=0,\"\",VLOOKUP(BC24,'Footnotes list'!$D$9:$E$58,2,FALSE) ) )","v":""},0,null,null,null,{"$f":"IF(TRIM(BH24)=\"\", \"\", IF(VLOOKUP(BH24,'Footnotes list'!$D$9:$E$58,2,FALSE)=0,\"\",VLOOKUP(BH24,'Footnotes list'!$D$9:$E$58,2,FALSE) ) )","v":""},0,null,null,null,{"$f":"IF(TRIM(BM24)=\"\", \"\", IF(VLOOKUP(BM24,'Footnotes list'!$D$9:$E$58,2,FALSE)=0,\"\",VLOOKUP(BM24,'Footnotes list'!$D$9:$E$58,2,FALSE) ) )","v":""},{"$f":"IF(AND(TRIM(Q24)=\"\",TRIM(V24)=\"\",TRIM(AA24)=\"\", TRIM(AF24)=\"\", TRIM(AK24)=\"\", TRIM(AP24)=\"\", TRIM(AU24)=\"\", TRIM(AZ24)=\"\", TRIM(BE24)=\"\", TRIM(BJ24)=\"\"),\"\",Q24+V24+AA24+AF24+AK24+AP24+AU24+AZ24+BE24+BJ24)","v":99.063999999999993},null,null,null,{"$f":"IF(TRIM(BR24)=\"\", \"\", IF(VLOOKUP(BR24,'Footnotes list'!$D$9:$E$58,2,FALSE)=0,\"\",VLOOKUP(BR24,'Footnotes list'!$D$9:$E$58,2,FALSE) ) )","v":""},9455.7980000000007,null,null,null,{"$f":"IF(TRIM(BW24)=\"\", \"\", IF(VLOOKUP(BW24,'Footnotes list'!$D$9:$E$58,2,FALSE)=0,\"\",VLOOKUP(BW24,'Footnotes list'!$D$9:$E$58,2,FALSE) ) )","v":""},0.64500000000000002,null,null,null,{"$f":"IF(TRIM(CB24)=\"\", \"\", IF(VLOOKUP(CB24,'Footnotes list'!$D$9:$E$58,2,FALSE)=0,\"\",VLOOKUP(CB24,'Footnotes list'!$D$9:$E$58,2,FALSE) ) )","v":""},847.495,null,null,null,{"$f":"IF(TRIM(CG24)=\"\", \"\", IF(VLOOKUP(CG24,'Footnotes list'!$D$9:$E$58,2,FALSE)=0,\"\",VLOOKUP(CG24,'Footnotes list'!$D$9:$E$58,2,FALSE) ) )","v":""},{"$f":"IF(AND(TRIM(BY24)=\"\",TRIM(CD24)=\"\"),\"\",BY24+CD24)","v":848.14},null,null,null,{"$f":"IF(TRIM(CL24)=\"\", \"\", IF(VLOOKUP(CL24,'Footnotes list'!$D$9:$E$58,2,FALSE)=0,\"\",VLOOKUP(CL24,'Footnotes list'!$D$9:$E$58,2,FALSE) ) )","v":""},0,null,null,null,{"$f":"IF(TRIM(CQ24)=\"\", \"\", IF(VLOOKUP(CQ24,'Footnotes list'!$D$9:$E$58,2,FALSE)=0,\"\",VLOOKUP(CQ24,'Footnotes list'!$D$9:$E$58,2,FALSE) ) )","v":""},3.08,null,null,null,{"$f":"IF(TRIM(CV24)=\"\", \"\", IF(VLOOKUP(CV24,'Footnotes list'!$D$9:$E$58,2,FALSE)=0,\"\",VLOOKUP(CV24,'Footnotes list'!$D$9:$E$58,2,FALSE) ) )","v":""},0,null,null,null,{"$f":"IF(TRIM(DA24)=\"\", \"\", IF(VLOOKUP(DA24,'Footnotes list'!$D$9:$E$58,2,FALSE)=0,\"\",VLOOKUP(DA24,'Footnotes list'!$D$9:$E$58,2,FALSE) ) )","v":""},0,null,null,null,{"$f":"IF(TRIM(DF24)=\"\", \"\", IF(VLOOKUP(DF24,'Footnotes list'!$D$9:$E$58,2,FALSE)=0,\"\",VLOOKUP(DF24,'Footnotes list'!$D$9:$E$58,2,FALSE) ) )","v":""},{"$f":"IF(AND(TRIM(G24)=\"\",TRIM(L24)=\"\",TRIM(BO24)=\"\",TRIM(BT24)=\"\",TRIM(CI24)=\"\",TRIM(CN24)=\"\",TRIM(CS24)=\"\",TRIM(CX24)=\"\",TRIM(DC24)=\"\"),\"\",SUM(G24,L24,BO24,BT24,CI24,CN24,CS24,CX24,DC24))","v":10406.082},null,null,null,{"$f":"IF(TRIM(DK24)=\"\", \"\", IF(VLOOKUP(DK24,'Footnotes list'!$D$9:$E$58,2,FALSE)=0,\"\",VLOOKUP(DK24,'Footnotes list'!$D$9:$E$58,2,FALSE) ) )","v":""}]
[null,null,"W033",null,"HAZ_NHAZ","Total",{"$f":"IF(AND(TRIM(G23)=\"\",TRIM(G24)=\"\"),\"\",G23+G24)","v":0},null,null,null,{"$f":"IF(TRIM(J25)=\"\", \"\", IF(VLOOKUP(J25,'Footnotes list'!$D$9:$E$58,2,FALSE)=0,\"\",VLOOKUP(J25,'Footnotes list'!$D$9:$E$58,2,FALSE) ) )","v":""},{"$f":"IF(AND(TRIM(L23)=\"\",TRIM(L24)=\"\"),\"\",L23+L24)","v":0},null,null,null,{"$f":"IF(TRIM(O25)=\"\", \"\", IF(VLOOKUP(O25,'Footnotes list'!$D$9:$E$58,2,FALSE)=0,\"\",VLOOKUP(O25,'Footnotes list'!$D$9:$E$58,2,FALSE) ) )","v":""},{"$f":"IF(AND(TRIM(Q23)=\"\",TRIM(Q24)=\"\"),\"\",Q23+Q24)","v":0},null,null,null,{"$f":"IF(TRIM(T25)=\"\", \"\", IF(VLOOKUP(T25,'Footnotes list'!$D$9:$E$58,2,FALSE)=0,\"\",VLOOKUP(T25,'Footnotes list'!$D$9:$E$58,2,FALSE) ) )","v":""},{"$f":"IF(AND(TRIM(V23)=\"\",TRIM(V24)=\"\"),\"\",V23+V24)","v":2.1999999999999999E-2},null,null,null,{"$f":"IF(TRIM(Y25)=\"\", \"\", IF(VLOOKUP(Y25,'Footnotes list'!$D$9:$E$58,2,FALSE)=0,\"\",VLOOKUP(Y25,'Footnotes list'!$D$9:$E$58,2,FALSE) ) )","v":""},{"$f":"IF(AND(TRIM(AA23)=\"\",TRIM(AA24)=\"\"),\"\",AA23+AA24)","v":0},null,null,null,{"$f":"IF(TRIM(AD25)=\"\", \"\", IF(VLOOKUP(AD25,'Footnotes list'!$D$9:$E$58,2,FALSE)=0,\"\",VLOOKUP(AD25,'Footnotes list'!$D$9:$E$58,2,FALSE) ) )","v":""},{"$f":"IF(AND(TRIM(AF23)=\"\",TRIM(AF24)=\"\"),\"\",AF23+AF24)","v":0},null,null,null,{"$f":"IF(TRIM(AI25)=\"\", \"\", IF(VLOOKUP(AI25,'Footnotes list'!$D$9:$E$58,2,FALSE)=0,\"\",VLOOKUP(AI25,'Footnotes list'!$D$9:$E$58,2,FALSE) ) )","v":""},{"$f":"IF(AND(TRIM(AK23)=\"\",TRIM(AK24)=\"\"),\"\",AK23+AK24)","v":0},null,null,null,{"$f":"IF(TRIM(AN25)=\"\", \"\", IF(VLOOKUP(AN25,'Footnotes list'!$D$9:$E$58,2,FALSE)=0,\"\",VLOOKUP(AN25,'Footnotes list'!$D$9:$E$58,2,FALSE) ) )","v":""},{"$f":"IF(AND(TRIM(AP23)=\"\",TRIM(AP24)=\"\"),\"\",AP23+AP24)","v":6.3E-2},null,null,null,{"$f":"IF(TRIM(AS25)=\"\", \"\", IF(VLOOKUP(AS25,'Footnotes list'!$D$9:$E$58,2,FALSE)=0,\"\",VLOOKUP(AS25,'Footnotes list'!$D$9:$E$58,2,FALSE) ) )","v":""},{"$f":"IF(AND(TRIM(AU23)=\"\",TRIM(AU24)=\"\"),\"\",AU23+AU24)","v":0},null,null,null,{"$f":"IF(TRIM(AX25)=\"\", \"\", IF(VLOOKUP(AX25,'Footnotes list'!$D$9:$E$58,2,FALSE)=0,\"\",VLOOKUP(AX25,'Footnotes list'!$D$9:$E$58,2,FALSE) ) )","v":""},{"$f":"IF(AND(TRIM(AZ23)=\"\",TRIM(AZ24)=\"\"),\"\",AZ23+AZ24)","v":190.24700000000001},null,null,null,{"$f":"IF(TRIM(BC25)=\"\", \"\", IF(VLOOKUP(BC25,'Footnotes list'!$D$9:$E$58,2,FALSE)=0,\"\",VLOOKUP(BC25,'Footnotes list'!$D$9:$E$58,2,FALSE) ) )","v":""},{"$f":"IF(AND(TRIM(BE23)=\"\",TRIM(BE24)=\"\"),\"\",BE23+BE24)","v":0},null,null,null,{"$f":"IF(TRIM(BH25)=\"\", \"\", IF(VLOOKUP(BH25,'Footnotes list'!$D$9:$E$58,2,FALSE)=0,\"\",VLOOKUP(BH25,'Footnotes list'!$D$9:$E$58,2,FALSE) ) )","v":""},{"$f":"IF(AND(TRIM(BJ23)=\"\",TRIM(BJ24)=\"\"),\"\",BJ23+BJ24)","v":6.4000000000000001E-2},null,null,null,{"$f":"IF(TRIM(BM25)=\"\", \"\", IF(VLOOKUP(BM25,'Footnotes list'!$D$9:$E$58,2,FALSE)=0,\"\",VLOOKUP(BM25,'Footnotes list'!$D$9:$E$58,2,FALSE) ) )","v":""},{"$f":"IF(AND(TRIM(BO23)=\"\", TRIM(BO24)=\"\"), \"\", (IF(ISNUMBER(BO23),BO23,0)+IF(ISNUMBER(BO24),BO24,0)))","v":190.39599999999999},null,null,null,{"$f":"IF(TRIM(BR25)=\"\", \"\", IF(VLOOKUP(BR25,'Footnotes list'!$D$9:$E$58,2,FALSE)=0,\"\",VLOOKUP(BR25,'Footnotes list'!$D$9:$E$58,2,FALSE) ) )","v":""},{"$f":"IF(AND(TRIM(BT23)=\"\",TRIM(BT24)=\"\"),\"\",BT23+BT24)","v":9455.7980000000007},null,null,null,{"$f":"IF(TRIM(BW25)=\"\", \"\", IF(VLOOKUP(BW25,'Footnotes list'!$D$9:$E$58,2,FALSE)=0,\"\",VLOOKUP(BW25,'Footnotes list'!$D$9:$E$58,2,FALSE) ) )","v":""},{"$f":"IF(AND(TRIM(BY23)=\"\",TRIM(BY24)=\"\"),\"\",BY23+BY24)","v":117.236},null,null,null,{"$f":"IF(TRIM(CB25)=\"\", \"\", IF(VLOOKUP(CB25,'Footnotes list'!$D$9:$E$58,2,FALSE)=0,\"\",VLOOKUP(CB25,'Footnotes list'!$D$9:$E$58,2,FALSE) ) )","v":""},{"$f":"IF(AND(TRIM(CD23)=\"\",TRIM(CD24)=\"\"),\"\",CD23+CD24)","v":1607.1590000000001},null,null,null,{"$f":"IF(TRIM(CG25)=\"\", \"\", IF(VLOOKUP(CG25,'Footnotes list'!$D$9:$E$58,2,FALSE)=0,\"\",VLOOKUP(CG25,'Footnotes list'!$D$9:$E$58,2,FALSE) ) )","v":""},{"$f":"IF(AND(TRIM(CI23)=\"\", TRIM(CI24)=\"\"), \"\", (IF(ISNUMBER(CI23),CI23,0)+IF(ISNUMBER(CI24),CI24,0)))","v":1724.395},null,null,null,{"$f":"IF(TRIM(CL25)=\"\", \"\", IF(VLOOKUP(CL25,'Footnotes list'!$D$9:$E$58,2,FALSE)=0,\"\",VLOOKUP(CL25,'Footnotes list'!$D$9:$E$58,2,FALSE) ) )","v":""},{"$f":"IF(AND(TRIM(CN23)=\"\",TRIM(CN24)=\"\"),\"\",CN23+CN24)","v":0},null,null,null,{"$f":"IF(TRIM(CQ25)=\"\", \"\", IF(VLOOKUP(CQ25,'Footnotes list'!$D$9:$E$58,2,FALSE)=0,\"\",VLOOKUP(CQ25,'Footnotes list'!$D$9:$E$58,2,FALSE) ) )","v":""},{"$f":"IF(AND(TRIM(CS23)=\"\",TRIM(CS24)=\"\"),\"\",CS23+CS24)","v":141.90199999999999},null,null,null,{"$f":"IF(TRIM(CV25)=\"\", \"\", IF(VLOOKUP(CV25,'Footnotes list'!$D$9:$E$58,2,FALSE)=0,\"\",VLOOKUP(CV25,'Footnotes list'!$D$9:$E$58,2,FALSE) ) )","v":""},{"$f":"IF(AND(TRIM(CX23)=\"\",TRIM(CX24)=\"\"),\"\",CX23+CX24)","v":0},null,null,null,{"$f":"IF(TRIM(DA25)=\"\", \"\", IF(VLOOKUP(DA25,'Footnotes list'!$D$9:$E$58,2,FALSE)=0,\"\",VLOOKUP(DA25,'Footnotes list'!$D$9:$E$58,2,FALSE) ) )","v":""},{"$f":"IF(AND(TRIM(DC23)=\"\",TRIM(DC24)=\"\"),\"\",DC23+DC24)","v":0},null,null,null,{"$f":"IF(TRIM(DF25)=\"\", \"\", IF(VLOOKUP(DF25,'Footnotes list'!$D$9:$E$58,2,FALSE)=0,\"\",VLOOKUP(DF25,'Footnotes list'!$D$9:$E$58,2,FALSE) ) )","v":""},{"$f":"IF(AND(TRIM(DH23)=\"\", TRIM(DH24)=\"\"), \"\", SUM(DH23,DH24) )","v":11512.491},null,null,null,{"$f":"IF(TRIM(DK25)=\"\", \"\", IF(VLOOKUP(DK25,'Footnotes list'!$D$9:$E$58,2,FALSE)=0,\"\",VLOOKUP(DK25,'Footnotes list'!$D$9:$E$58,2,FALSE) ) )","v":""}]
[null,"W05","W05","Health care and biological wastes ","HAZ","Hazardous ",11.688000000000001,null,null,null,{"$f":"IF(TRIM(J26)=\"\", \"\", IF(VLOOKUP(J26,'Footnotes list'!$D$9:$E$58,2,FALSE)=0,\"\",VLOOKUP(J26,'Footnotes list'!$D$9:$E$58,2,FALSE) ) )","v":""},0,null,null,null,{"$f":"IF(TRIM(O26)=\"\", \"\", IF(VLOOKUP(O26,'Footnotes list'!$D$9:$E$58,2,FALSE)=0,\"\",VLOOKUP(O26,'Footnotes list'!$D$9:$E$58,2,FALSE) ) )","v":""},8.3000000000000007,null,null,null,{"$f":"IF(TRIM(T26)=\"\", \"\", IF(VLOOKUP(T26,'Footnotes list'!$D$9:$E$58,2,FALSE)=0,\"\",VLOOKUP(T26,'Footnotes list'!$D$9:$E$58,2,FALSE) ) )","v":""},0,null,null,null,{"$f":"IF(TRIM(Y26)=\"\", \"\", IF(VLOOKUP(Y26,'Footnotes list'!$D$9:$E$58,2,FALSE)=0,\"\",VLOOKUP(Y26,'Footnotes list'!$D$9:$E$58,2,FALSE) ) )","v":""},0,null,null,null,{"$f":"IF(TRIM(AD26)=\"\", \"\", IF(VLOOKUP(AD26,'Footnotes list'!$D$9:$E$58,2,FALSE)=0,\"\",VLOOKUP(AD26,'Footnotes list'!$D$9:$E$58,2,FALSE) ) )","v":""},0,null,null,null,{"$f":"IF(TRIM(AI26)=\"\", \"\", IF(VLOOKUP(AI26,'Footnotes list'!$D$9:$E$58,2,FALSE)=0,\"\",VLOOKUP(AI26,'Footnotes list'!$D$9:$E$58,2,FALSE) ) )","v":""},0,null,null,null,{"$f":"IF(TRIM(AN26)=\"\", \"\", IF(VLOOKUP(AN26,'Footnotes list'!$D$9:$E$58,2,FALSE)=0,\"\",VLOOKUP(AN26,'Footnotes list'!$D$9:$E$58,2,FALSE) ) )","v":""},36.947000000000003,null,null,null,{"$f":"IF(TRIM(AS26)=\"\", \"\", IF(VLOOKUP(AS26,'Footnotes list'!$D$9:$E$58,2,FALSE)=0,\"\",VLOOKUP(AS26,'Footnotes list'!$D$9:$E$58,2,FALSE) ) )","v":""},0,null,null,null,{"$f":"IF(TRIM(AX26)=\"\", \"\", IF(VLOOKUP(AX26,'Footnotes list'!$D$9:$E$58,2,FALSE)=0,\"\",VLOOKUP(AX26,'Footnotes list'!$D$9:$E$58,2,FALSE) ) )","v":""},0,null,null,null,{"$f":"IF(TRIM(BC26)=\"\", \"\", IF(VLOOKUP(BC26,'Footnotes list'!$D$9:$E$58,2,FALSE)=0,\"\",VLOOKUP(BC26,'Footnotes list'!$D$9:$E$58,2,FALSE) ) )","v":""},0,null,null,null,{"$f":"IF(TRIM(BH26)=\"\", \"\", IF(VLOOKUP(BH26,'Footnotes list'!$D$9:$E$58,2,FALSE)=0,\"\",VLOOKUP(BH26,'Footnotes list'!$D$9:$E$58,2,FALSE) ) )","v":""},0,null,null,null,{"$f":"IF(TRIM(BM26)=\"\", \"\", IF(VLOOKUP(BM26,'Footnotes list'!$D$9:$E$58,2,FALSE)=0,\"\",VLOOKUP(BM26,'Footnotes list'!$D$9:$E$58,2,FALSE) ) )","v":""},{"$f":"IF(AND(TRIM(Q26)=\"\",TRIM(V26)=\"\",TRIM(AA26)=\"\", TRIM(AF26)=\"\", TRIM(AK26)=\"\", TRIM(AP26)=\"\", TRIM(AU26)=\"\", TRIM(AZ26)=\"\", TRIM(BE26)=\"\", TRIM(BJ26)=\"\"),\"\",Q26+V26+AA26+AF26+AK26+AP26+AU26+AZ26+BE26+BJ26)","v":45.247},null,null,null,{"$f":"IF(TRIM(BR26)=\"\", \"\", IF(VLOOKUP(BR26,'Footnotes list'!$D$9:$E$58,2,FALSE)=0,\"\",VLOOKUP(BR26,'Footnotes list'!$D$9:$E$58,2,FALSE) ) )","v":""},0.40200000000000002,null,null,null,{"$f":"IF(TRIM(BW26)=\"\", \"\", IF(VLOOKUP(BW26,'Footnotes list'!$D$9:$E$58,2,FALSE)=0,\"\",VLOOKUP(BW26,'Footnotes list'!$D$9:$E$58,2,FALSE) ) )","v":""},0.64800000000000002,null,null,null,{"$f":"IF(TRIM(CB26)=\"\", \"\", IF(VLOOKUP(CB26,'Footnotes list'!$D$9:$E$58,2,FALSE)=0,\"\",VLOOKUP(CB26,'Footnotes list'!$D$9:$E$58,2,FALSE) ) )","v":""},0,null,null,null,{"$f":"IF(TRIM(CG26)=\"\", \"\", IF(VLOOKUP(CG26,'Footnotes list'!$D$9:$E$58,2,FALSE)=0,\"\",VLOOKUP(CG26,'Footnotes list'!$D$9:$E$58,2,FALSE) ) )","v":""},{"$f":"IF(AND(TRIM(BY26)=\"\",TRIM(CD26)=\"\"),\"\",BY26+CD26)","v":0.64800000000000002},null,null,null,{"$f":"IF(TRIM(CL26)=\"\", \"\", IF(VLOOKUP(CL26,'Footnotes list'!$D$9:$E$58,2,FALSE)=0,\"\",VLOOKUP(CL26,'Footnotes list'!$D$9:$E$58,2,FALSE) ) )","v":""},0,null,null,null,{"$f":"IF(TRIM(CQ26)=\"\", \"\", IF(VLOOKUP(CQ26,'Footnotes list'!$D$9:$E$58,2,FALSE)=0,\"\",VLOOKUP(CQ26,'Footnotes list'!$D$9:$E$58,2,FALSE) ) )","v":""},5455.085,null,null,null,{"$f":"IF(TRIM(CV26)=\"\", \"\", IF(VLOOKUP(CV26,'Footnotes list'!$D$9:$E$58,2,FALSE)=0,\"\",VLOOKUP(CV26,'Footnotes list'!$D$9:$E$58,2,FALSE) ) )","v":""},0,null,null,null,{"$f":"IF(TRIM(DA26)=\"\", \"\", IF(VLOOKUP(DA26,'Footnotes list'!$D$9:$E$58,2,FALSE)=0,\"\",VLOOKUP(DA26,'Footnotes list'!$D$9:$E$58,2,FALSE) ) )","v":""},0,null,null,null,{"$f":"IF(TRIM(DF26)=\"\", \"\", IF(VLOOKUP(DF26,'Footnotes list'!$D$9:$E$58,2,FALSE)=0,\"\",VLOOKUP(DF26,'Footnotes list'!$D$9:$E$58,2,FALSE) ) )","v":""},{"$f":"IF(AND(TRIM(G26)=\"\",TRIM(L26)=\"\",TRIM(BO26)=\"\",TRIM(BT26)=\"\",TRIM(CI26)=\"\",TRIM(CN26)=\"\",TRIM(CS26)=\"\",TRIM(CX26)=\"\",TRIM(DC26)=\"\"),\"\",SUM(G26,L26,BO26,BT26,CI26,CN26,CS26,CX26,DC26))","v":5513.07},null,null,null,{"$f":"IF(TRIM(DK26)=\"\", \"\", IF(VLOOKUP(DK26,'Footnotes list'!$D$9:$E$58,2,FALSE)=0,\"\",VLOOKUP(DK26,'Footnotes list'!$D$9:$E$58,2,FALSE) ) )","v":""}]
[null,null,"W05",null,"NHAZ","Non-hazardous",2.5979999999999999,null,null,null,{"$f":"IF(TRIM(J27)=\"\", \"\", IF(VLOOKUP(J27,'Footnotes list'!$D$9:$E$58,2,FALSE)=0,\"\",VLOOKUP(J27,'Footnotes list'!$D$9:$E$58,2,FALSE) ) )","v":""},0,null,null,null,{"$f":"IF(TRIM(O27)=\"\", \"\", IF(VLOOKUP(O27,'Footnotes list'!$D$9:$E$58,2,FALSE)=0,\"\",VLOOKUP(O27,'Footnotes list'!$D$9:$E$58,2,FALSE) ) )","v":""},8.32,null,null,null,{"$f":"IF(TRIM(T27)=\"\", \"\", IF(VLOOKUP(T27,'Footnotes list'!$D$9:$E$58,2,FALSE)=0,\"\",VLOOKUP(T27,'Footnotes list'!$D$9:$E$58,2,FALSE) ) )","v":""},0,null,null,null,{"$f":"IF(TRIM(Y27)=\"\", \"\", IF(VLOOKUP(Y27,'Footnotes list'!$D$9:$E$58,2,FALSE)=0,\"\",VLOOKUP(Y27,'Footnotes list'!$D$9:$E$58,2,FALSE) ) )","v":""},0,null,null,null,{"$f":"IF(TRIM(AD27)=\"\", \"\", IF(VLOOKUP(AD27,'Footnotes list'!$D$9:$E$58,2,FALSE)=0,\"\",VLOOKUP(AD27,'Footnotes list'!$D$9:$E$58,2,FALSE) ) )","v":""},0,null,null,null,{"$f":"IF(TRIM(AI27)=\"\", \"\", IF(VLOOKUP(AI27,'Footnotes list'!$D$9:$E$58,2,FALSE)=0,\"\",VLOOKUP(AI27,'Footnotes list'!$D$9:$E$58,2,FALSE) ) )","v":""},0,null,null,null,{"$f":"IF(TRIM(AN27)=\"\", \"\", IF(VLOOKUP(AN27,'Footnotes list'!$D$9:$E$58,2,FALSE)=0,\"\",VLOOKUP(AN27,'Footnotes list'!$D$9:$E$58,2,FALSE) ) )","v":""},16.672000000000001,null,null,null,{"$f":"IF(TRIM(AS27)=\"\", \"\", IF(VLOOKUP(AS27,'Footnotes list'!$D$9:$E$58,2,FALSE)=0,\"\",VLOOKUP(AS27,'Footnotes list'!$D$9:$E$58,2,FALSE) ) )","v":""},0,null,null,null,{"$f":"IF(TRIM(AX27)=\"\", \"\", IF(VLOOKUP(AX27,'Footnotes list'!$D$9:$E$58,2,FALSE)=0,\"\",VLOOKUP(AX27,'Footnotes list'!$D$9:$E$58,2,FALSE) ) )","v":""},0,null,null,null,{"$f":"IF(TRIM(BC27)=\"\", \"\", IF(VLOOKUP(BC27,'Footnotes list'!$D$9:$E$58,2,FALSE)=0,\"\",VLOOKUP(BC27,'Footnotes list'!$D$9:$E$58,2,FALSE) ) )","v":""},0,null,null,null,{"$f":"IF(TRIM(BH27)=\"\", \"\", IF(VLOOKUP(BH27,'Footnotes list'!$D$9:$E$58,2,FALSE)=0,\"\",VLOOKUP(BH27,'Footnotes list'!$D$9:$E$58,2,FALSE) ) )","v":""},0,null,null,null,{"$f":"IF(TRIM(BM27)=\"\", \"\", IF(VLOOKUP(BM27,'Footnotes list'!$D$9:$E$58,2,FALSE)=0,\"\",VLOOKUP(BM27,'Footnotes list'!$D$9:$E$58,2,FALSE) ) )","v":""},{"$f":"IF(AND(TRIM(Q27)=\"\",TRIM(V27)=\"\",TRIM(AA27)=\"\", TRIM(AF27)=\"\", TRIM(AK27)=\"\", TRIM(AP27)=\"\", TRIM(AU27)=\"\", TRIM(AZ27)=\"\", TRIM(BE27)=\"\", TRIM(BJ27)=\"\"),\"\",Q27+V27+AA27+AF27+AK27+AP27+AU27+AZ27+BE27+BJ27)","v":24.992000000000001},null,null,null,{"$f":"IF(TRIM(BR27)=\"\", \"\", IF(VLOOKUP(BR27,'Footnotes list'!$D$9:$E$58,2,FALSE)=0,\"\",VLOOKUP(BR27,'Footnotes list'!$D$9:$E$58,2,FALSE) ) )","v":""},0,null,null,null,{"$f":"IF(TRIM(BW27)=\"\", \"\", IF(VLOOKUP(BW27,'Footnotes list'!$D$9:$E$58,2,FALSE)=0,\"\",VLOOKUP(BW27,'Footnotes list'!$D$9:$E$58,2,FALSE) ) )","v":""},0,null,null,null,{"$f":"IF(TRIM(CB27)=\"\", \"\", IF(VLOOKUP(CB27,'Footnotes list'!$D$9:$E$58,2,FALSE)=0,\"\",VLOOKUP(CB27,'Footnotes list'!$D$9:$E$58,2,FALSE) ) )","v":""},0,null,null,null,{"$f":"IF(TRIM(CG27)=\"\", \"\", IF(VLOOKUP(CG27,'Footnotes list'!$D$9:$E$58,2,FALSE)=0,\"\",VLOOKUP(CG27,'Footnotes list'!$D$9:$E$58,2,FALSE) ) )","v":""},{"$f":"IF(AND(TRIM(BY27)=\"\",TRIM(CD27)=\"\"),\"\",BY27+CD27)","v":0},null,null,null,{"$f":"IF(TRIM(CL27)=\"\", \"\", IF(VLOOKUP(CL27,'Footnotes list'!$D$9:$E$58,2,FALSE)=0,\"\",VLOOKUP(CL27,'Footnotes list'!$D$9:$E$58,2,FALSE) ) )","v":""},0,null,null,null,{"$f":"IF(TRIM(CQ27)=\"\", \"\", IF(VLOOKUP(CQ27,'Footnotes list'!$D$9:$E$58,2,FALSE)=0,\"\",VLOOKUP(CQ27,'Footnotes list'!$D$9:$E$58,2,FALSE) ) )","v":""},1009.306,null,null,null,{"$f":"IF(TRIM(CV27)=\"\", \"\", IF(VLOOKUP(CV27,'Footnotes list'!$D$9:$E$58,2,FALSE)=0,\"\",VLOOKUP(CV27,'Footnotes list'!$D$9:$E$58,2,FALSE) ) )","v":""},0,null,null,null,{"$f":"IF(TRIM(DA27)=\"\", \"\", IF(VLOOKUP(DA27,'Footnotes list'!$D$9:$E$58,2,FALSE)=0,\"\",VLOOKUP(DA27,'Footnotes list'!$D$9:$E$58,2,FALSE) ) )","v":""},0.01,null,null,null,{"$f":"IF(TRIM(DF27)=\"\", \"\", IF(VLOOKUP(DF27,'Footnotes list'!$D$9:$E$58,2,FALSE)=0,\"\",VLOOKUP(DF27,'Footnotes list'!$D$9:$E$58,2,FALSE) ) )","v":""},{"$f":"IF(AND(TRIM(G27)=\"\",TRIM(L27)=\"\",TRIM(BO27)=\"\",TRIM(BT27)=\"\",TRIM(CI27)=\"\",TRIM(CN27)=\"\",TRIM(CS27)=\"\",TRIM(CX27)=\"\",TRIM(DC27)=\"\"),\"\",SUM(G27,L27,BO27,BT27,CI27,CN27,CS27,CX27,DC27))","v":1036.9059999999999},null,null,null,{"$f":"IF(TRIM(DK27)=\"\", \"\", IF(VLOOKUP(DK27,'Footnotes list'!$D$9:$E$58,2,FALSE)=0,\"\",VLOOKUP(DK27,'Footnotes list'!$D$9:$E$58,2,FALSE) ) )","v":""}]
[null,null,"W05",null,"HAZ_NHAZ","Total",{"$f":"IF(AND(TRIM(G26)=\"\",TRIM(G27)=\"\"),\"\",G26+G27)","v":14.286},null,null,null,{"$f":"IF(TRIM(J28)=\"\", \"\", IF(VLOOKUP(J28,'Footnotes list'!$D$9:$E$58,2,FALSE)=0,\"\",VLOOKUP(J28,'Footnotes list'!$D$9:$E$58,2,FALSE) ) )","v":""},{"$f":"IF(AND(TRIM(L26)=\"\",TRIM(L27)=\"\"),\"\",L26+L27)","v":0},null,null,null,{"$f":"IF(TRIM(O28)=\"\", \"\", IF(VLOOKUP(O28,'Footnotes list'!$D$9:$E$58,2,FALSE)=0,\"\",VLOOKUP(O28,'Footnotes list'!$D$9:$E$58,2,FALSE) ) )","v":""},{"$f":"IF(AND(TRIM(Q26)=\"\",TRIM(Q27)=\"\"),\"\",Q26+Q27)","v":16.62},null,null,null,{"$f":"IF(TRIM(T28)=\"\", \"\", IF(VLOOKUP(T28,'Footnotes list'!$D$9:$E$58,2,FALSE)=0,\"\",VLOOKUP(T28,'Footnotes list'!$D$9:$E$58,2,FALSE) ) )","v":""},{"$f":"IF(AND(TRIM(V26)=\"\",TRIM(V27)=\"\"),\"\",V26+V27)","v":0},null,null,null,{"$f":"IF(TRIM(Y28)=\"\", \"\", IF(VLOOKUP(Y28,'Footnotes list'!$D$9:$E$58,2,FALSE)=0,\"\",VLOOKUP(Y28,'Footnotes list'!$D$9:$E$58,2,FALSE) ) )","v":""},{"$f":"IF(AND(TRIM(AA26)=\"\",TRIM(AA27)=\"\"),\"\",AA26+AA27)","v":0},null,null,null,{"$f":"IF(TRIM(AD28)=\"\", \"\", IF(VLOOKUP(AD28,'Footnotes list'!$D$9:$E$58,2,FALSE)=0,\"\",VLOOKUP(AD28,'Footnotes list'!$D$9:$E$58,2,FALSE) ) )","v":""},{"$f":"IF(AND(TRIM(AF26)=\"\",TRIM(AF27)=\"\"),\"\",AF26+AF27)","v":0},null,null,null,{"$f":"IF(TRIM(AI28)=\"\", \"\", IF(VLOOKUP(AI28,'Footnotes list'!$D$9:$E$58,2,FALSE)=0,\"\",VLOOKUP(AI28,'Footnotes list'!$D$9:$E$58,2,FALSE) ) )","v":""},{"$f":"IF(AND(TRIM(AK26)=\"\",TRIM(AK27)=\"\"),\"\",AK26+AK27)","v":0},null,null,null,{"$f":"IF(TRIM(AN28)=\"\", \"\", IF(VLOOKUP(AN28,'Footnotes list'!$D$9:$E$58,2,FALSE)=0,\"\",VLOOKUP(AN28,'Footnotes list'!$D$9:$E$58,2,FALSE) ) )","v":""},{"$f":"IF(AND(TRIM(AP26)=\"\",TRIM(AP27)=\"\"),\"\",AP26+AP27)","v":53.619},null,null,null,{"$f":"IF(TRIM(AS28)=\"\", \"\", IF(VLOOKUP(AS28,'Footnotes list'!$D$9:$E$58,2,FALSE)=0,\"\",VLOOKUP(AS28,'Footnotes list'!$D$9:$E$58,2,FALSE) ) )","v":""},{"$f":"IF(AND(TRIM(AU26)=\"\",TRIM(AU27)=\"\"),\"\",AU26+AU27)","v":0},null,null,null,{"$f":"IF(TRIM(AX28)=\"\", \"\", IF(VLOOKUP(AX28,'Footnotes list'!$D$9:$E$58,2,FALSE)=0,\"\",VLOOKUP(AX28,'Footnotes list'!$D$9:$E$58,2,FALSE) ) )","v":""},{"$f":"IF(AND(TRIM(AZ26)=\"\",TRIM(AZ27)=\"\"),\"\",AZ26+AZ27)","v":0},null,null,null,{"$f":"IF(TRIM(BC28)=\"\", \"\", IF(VLOOKUP(BC28,'Footnotes list'!$D$9:$E$58,2,FALSE)=0,\"\",VLOOKUP(BC28,'Footnotes list'!$D$9:$E$58,2,FALSE) ) )","v":""},{"$f":"IF(AND(TRIM(BE26)=\"\",TRIM(BE27)=\"\"),\"\",BE26+BE27)","v":0},null,null,null,{"$f":"IF(TRIM(BH28)=\"\", \"\", IF(VLOOKUP(BH28,'Footnotes list'!$D$9:$E$58,2,FALSE)=0,\"\",VLOOKUP(BH28,'Footnotes list'!$D$9:$E$58,2,FALSE) ) )","v":""},{"$f":"IF(AND(TRIM(BJ26)=\"\",TRIM(BJ27)=\"\"),\"\",BJ26+BJ27)","v":0},null,null,null,{"$f":"IF(TRIM(BM28)=\"\", \"\", IF(VLOOKUP(BM28,'Footnotes list'!$D$9:$E$58,2,FALSE)=0,\"\",VLOOKUP(BM28,'Footnotes list'!$D$9:$E$58,2,FALSE) ) )","v":""},{"$f":"IF(AND(TRIM(BO26)=\"\", TRIM(BO27)=\"\"), \"\", (IF(ISNUMBER(BO26),BO26,0)+IF(ISNUMBER(BO27),BO27,0)))","v":70.239000000000004},null,null,null,{"$f":"IF(TRIM(BR28)=\"\", \"\", IF(VLOOKUP(BR28,'Footnotes list'!$D$9:$E$58,2,FALSE)=0,\"\",VLOOKUP(BR28,'Footnotes list'!$D$9:$E$58,2,FALSE) ) )","v":""},{"$f":"IF(AND(TRIM(BT26)=\"\",TRIM(BT27)=\"\"),\"\",BT26+BT27)","v":0.40200000000000002},null,null,null,{"$f":"IF(TRIM(BW28)=\"\", \"\", IF(VLOOKUP(BW28,'Footnotes list'!$D$9:$E$58,2,FALSE)=0,\"\",VLOOKUP(BW28,'Footnotes list'!$D$9:$E$58,2,FALSE) ) )","v":""},{"$f":"IF(AND(TRIM(BY26)=\"\",TRIM(BY27)=\"\"),\"\",BY26+BY27)","v":0.64800000000000002},null,null,null,{"$f":"IF(TRIM(CB28)=\"\", \"\", IF(VLOOKUP(CB28,'Footnotes list'!$D$9:$E$58,2,FALSE)=0,\"\",VLOOKUP(CB28,'Footnotes list'!$D$9:$E$58,2,FALSE) ) )","v":""},{"$f":"IF(AND(TRIM(CD26)=\"\",TRIM(CD27)=\"\"),\"\",CD26+CD27)","v":0},null,null,null,{"$f":"IF(TRIM(CG28)=\"\", \"\", IF(VLOOKUP(CG28,'Footnotes list'!$D$9:$E$58,2,FALSE)=0,\"\",VLOOKUP(CG28,'Footnotes list'!$D$9:$E$58,2,FALSE) ) )","v":""},{"$f":"IF(AND(TRIM(CI26)=\"\", TRIM(CI27)=\"\"), \"\", (IF(ISNUMBER(CI26),CI26,0)+IF(ISNUMBER(CI27),CI27,0)))","v":0.64800000000000002},null,null,null,{"$f":"IF(TRIM(CL28)=\"\", \"\", IF(VLOOKUP(CL28,'Footnotes list'!$D$9:$E$58,2,FALSE)=0,\"\",VLOOKUP(CL28,'Footnotes list'!$D$9:$E$58,2,FALSE) ) )","v":""},{"$f":"IF(AND(TRIM(CN26)=\"\",TRIM(CN27)=\"\"),\"\",CN26+CN27)","v":0},null,null,null,{"$f":"IF(TRIM(CQ28)=\"\", \"\", IF(VLOOKUP(CQ28,'Footnotes list'!$D$9:$E$58,2,FALSE)=0,\"\",VLOOKUP(CQ28,'Footnotes list'!$D$9:$E$58,2,FALSE) ) )","v":""},{"$f":"IF(AND(TRIM(CS26)=\"\",TRIM(CS27)=\"\"),\"\",CS26+CS27)","v":6464.3909999999996},null,null,null,{"$f":"IF(TRIM(CV28)=\"\", \"\", IF(VLOOKUP(CV28,'Footnotes list'!$D$9:$E$58,2,FALSE)=0,\"\",VLOOKUP(CV28,'Footnotes list'!$D$9:$E$58,2,FALSE) ) )","v":""},{"$f":"IF(AND(TRIM(CX26)=\"\",TRIM(CX27)=\"\"),\"\",CX26+CX27)","v":0},null,null,null,{"$f":"IF(TRIM(DA28)=\"\", \"\", IF(VLOOKUP(DA28,'Footnotes list'!$D$9:$E$58,2,FALSE)=0,\"\",VLOOKUP(DA28,'Footnotes list'!$D$9:$E$58,2,FALSE) ) )","v":""},{"$f":"IF(AND(TRIM(DC26)=\"\",TRIM(DC27)=\"\"),\"\",DC26+DC27)","v":0.01},null,null,null,{"$f":"IF(TRIM(DF28)=\"\", \"\", IF(VLOOKUP(DF28,'Footnotes list'!$D$9:$E$58,2,FALSE)=0,\"\",VLOOKUP(DF28,'Footnotes list'!$D$9:$E$58,2,FALSE) ) )","v":""},{"$f":"IF(AND(TRIM(DH26)=\"\", TRIM(DH27)=\"\"), \"\", SUM(DH26,DH27) )","v":6549.9759999999997},null,null,null,{"$f":"IF(TRIM(DK28)=\"\", \"\", IF(VLOOKUP(DK28,'Footnotes list'!$D$9:$E$58,2,FALSE)=0,\"\",VLOOKUP(DK28,'Footnotes list'!$D$9:$E$58,2,FALSE) ) )","v":""}]
[null,"W061",null,"Metallic wastes, ferrous ",null,"Not applicable"]
[null,null,"W061",null,"NHAZ","Non-hazardous",46.738,null,null,null,{"$f":"IF(TRIM(J30)=\"\", \"\", IF(VLOOKUP(J30,'Footnotes list'!$D$9:$E$58,2,FALSE)=0,\"\",VLOOKUP(J30,'Footnotes list'!$D$9:$E$58,2,FALSE) ) )","v":""},35.96,null,null,null,{"$f":"IF(TRIM(O30)=\"\", \"\", IF(VLOOKUP(O30,'Footnotes list'!$D$9:$E$58,2,FALSE)=0,\"\",VLOOKUP(O30,'Footnotes list'!$D$9:$E$58,2,FALSE) ) )","v":""},32.99,null,null,null,{"$f":"IF(TRIM(T30)=\"\", \"\", IF(VLOOKUP(T30,'Footnotes list'!$D$9:$E$58,2,FALSE)=0,\"\",VLOOKUP(T30,'Footnotes list'!$D$9:$E$58,2,FALSE) ) )","v":""},44.78,null,null,null,{"$f":"IF(TRIM(Y30)=\"\", \"\", IF(VLOOKUP(Y30,'Footnotes list'!$D$9:$E$58,2,FALSE)=0,\"\",VLOOKUP(Y30,'Footnotes list'!$D$9:$E$58,2,FALSE) ) )","v":""},1662.86,null,null,null,{"$f":"IF(TRIM(AD30)=\"\", \"\", IF(VLOOKUP(AD30,'Footnotes list'!$D$9:$E$58,2,FALSE)=0,\"\",VLOOKUP(AD30,'Footnotes list'!$D$9:$E$58,2,FALSE) ) )","v":""},39.662999999999997,null,null,null,{"$f":"IF(TRIM(AI30)=\"\", \"\", IF(VLOOKUP(AI30,'Footnotes list'!$D$9:$E$58,2,FALSE)=0,\"\",VLOOKUP(AI30,'Footnotes list'!$D$9:$E$58,2,FALSE) ) )","v":""},0,null,null,null,{"$f":"IF(TRIM(AN30)=\"\", \"\", IF(VLOOKUP(AN30,'Footnotes list'!$D$9:$E$58,2,FALSE)=0,\"\",VLOOKUP(AN30,'Footnotes list'!$D$9:$E$58,2,FALSE) ) )","v":""},3956.2339999999999,null,null,null,{"$f":"IF(TRIM(AS30)=\"\", \"\", IF(VLOOKUP(AS30,'Footnotes list'!$D$9:$E$58,2,FALSE)=0,\"\",VLOOKUP(AS30,'Footnotes list'!$D$9:$E$58,2,FALSE) ) )","v":""},844.27200000000005,null,null,null,{"$f":"IF(TRIM(AX30)=\"\", \"\", IF(VLOOKUP(AX30,'Footnotes list'!$D$9:$E$58,2,FALSE)=0,\"\",VLOOKUP(AX30,'Footnotes list'!$D$9:$E$58,2,FALSE) ) )","v":""},44802.896000000001,null,null,null,{"$f":"IF(TRIM(BC30)=\"\", \"\", IF(VLOOKUP(BC30,'Footnotes list'!$D$9:$E$58,2,FALSE)=0,\"\",VLOOKUP(BC30,'Footnotes list'!$D$9:$E$58,2,FALSE) ) )","v":""},17420.957999999999,null,null,null,{"$f":"IF(TRIM(BH30)=\"\", \"\", IF(VLOOKUP(BH30,'Footnotes list'!$D$9:$E$58,2,FALSE)=0,\"\",VLOOKUP(BH30,'Footnotes list'!$D$9:$E$58,2,FALSE) ) )","v":""},5313.7359999999999,null,null,null,{"$f":"IF(TRIM(BM30)=\"\", \"\", IF(VLOOKUP(BM30,'Footnotes list'!$D$9:$E$58,2,FALSE)=0,\"\",VLOOKUP(BM30,'Footnotes list'!$D$9:$E$58,2,FALSE) ) )","v":""},{"$f":"IF(AND(TRIM(Q30)=\"\",TRIM(V30)=\"\",TRIM(AA30)=\"\", TRIM(AF30)=\"\", TRIM(AK30)=\"\", TRIM(AP30)=\"\", TRIM(AU30)=\"\", TRIM(AZ30)=\"\", TRIM(BE30)=\"\", TRIM(BJ30)=\"\"),\"\",Q30+V30+AA30+AF30+AK30+AP30+AU30+AZ30+BE30+BJ30)","v":74118.388999999996},null,null,null,{"$f":"IF(TRIM(BR30)=\"\", \"\", IF(VLOOKUP(BR30,'Footnotes list'!$D$9:$E$58,2,FALSE)=0,\"\",VLOOKUP(BR30,'Footnotes list'!$D$9:$E$58,2,FALSE) ) )","v":""},0.37,null,null,null,{"$f":"IF(TRIM(BW30)=\"\", \"\", IF(VLOOKUP(BW30,'Footnotes list'!$D$9:$E$58,2,FALSE)=0,\"\",VLOOKUP(BW30,'Footnotes list'!$D$9:$E$58,2,FALSE) ) )","v":""},224.49600000000001,null,null,null,{"$f":"IF(TRIM(CB30)=\"\", \"\", IF(VLOOKUP(CB30,'Footnotes list'!$D$9:$E$58,2,FALSE)=0,\"\",VLOOKUP(CB30,'Footnotes list'!$D$9:$E$58,2,FALSE) ) )","v":""},647549.54,null,null,null,{"$f":"IF(TRIM(CG30)=\"\", \"\", IF(VLOOKUP(CG30,'Footnotes list'!$D$9:$E$58,2,FALSE)=0,\"\",VLOOKUP(CG30,'Footnotes list'!$D$9:$E$58,2,FALSE) ) )","v":""},{"$f":"IF(AND(TRIM(BY30)=\"\",TRIM(CD30)=\"\"),\"\",BY30+CD30)","v":647774.03599999996},null,null,null,{"$f":"IF(TRIM(CL30)=\"\", \"\", IF(VLOOKUP(CL30,'Footnotes list'!$D$9:$E$58,2,FALSE)=0,\"\",VLOOKUP(CL30,'Footnotes list'!$D$9:$E$58,2,FALSE) ) )","v":""},224693.24100000001,null,null,null,{"$f":"IF(TRIM(CQ30)=\"\", \"\", IF(VLOOKUP(CQ30,'Footnotes list'!$D$9:$E$58,2,FALSE)=0,\"\",VLOOKUP(CQ30,'Footnotes list'!$D$9:$E$58,2,FALSE) ) )","v":""},5563.8580000000002,null,null,null,{"$f":"IF(TRIM(CV30)=\"\", \"\", IF(VLOOKUP(CV30,'Footnotes list'!$D$9:$E$58,2,FALSE)=0,\"\",VLOOKUP(CV30,'Footnotes list'!$D$9:$E$58,2,FALSE) ) )","v":""},1303.0550000000001,null,null,null,{"$f":"IF(TRIM(DA30)=\"\", \"\", IF(VLOOKUP(DA30,'Footnotes list'!$D$9:$E$58,2,FALSE)=0,\"\",VLOOKUP(DA30,'Footnotes list'!$D$9:$E$58,2,FALSE) ) )","v":""},2154.9859999999999,null,null,null,{"$f":"IF(TRIM(DF30)=\"\", \"\", IF(VLOOKUP(DF30,'Footnotes list'!$D$9:$E$58,2,FALSE)=0,\"\",VLOOKUP(DF30,'Footnotes list'!$D$9:$E$58,2,FALSE) ) )","v":""},{"$f":"IF(AND(TRIM(G30)=\"\",TRIM(L30)=\"\",TRIM(BO30)=\"\",TRIM(BT30)=\"\",TRIM(CI30)=\"\",TRIM(CN30)=\"\",TRIM(CS30)=\"\",TRIM(CX30)=\"\",TRIM(DC30)=\"\"),\"\",SUM(G30,L30,BO30,BT30,CI30,CN30,CS30,CX30,DC30))","v":955690.63300000003},null,null,null,{"$f":"IF(TRIM(DK30)=\"\", \"\", IF(VLOOKUP(DK30,'Footnotes list'!$D$9:$E$58,2,FALSE)=0,\"\",VLOOKUP(DK30,'Footnotes list'!$D$9:$E$58,2,FALSE) ) )","v":""}]
[null,null,"W061",null,"HAZ_NHAZ","Total",{"$f":"IF(AND(TRIM(G29)=\"\",TRIM(G30)=\"\"),\"\",G29+G30)","v":46.738},null,null,null,{"$f":"IF(TRIM(J31)=\"\", \"\", IF(VLOOKUP(J31,'Footnotes list'!$D$9:$E$58,2,FALSE)=0,\"\",VLOOKUP(J31,'Footnotes list'!$D$9:$E$58,2,FALSE) ) )","v":""},{"$f":"IF(AND(TRIM(L29)=\"\",TRIM(L30)=\"\"),\"\",L29+L30)","v":35.96},null,null,null,{"$f":"IF(TRIM(O31)=\"\", \"\", IF(VLOOKUP(O31,'Footnotes list'!$D$9:$E$58,2,FALSE)=0,\"\",VLOOKUP(O31,'Footnotes list'!$D$9:$E$58,2,FALSE) ) )","v":""},{"$f":"IF(AND(TRIM(Q29)=\"\",TRIM(Q30)=\"\"),\"\",Q29+Q30)","v":32.99},null,null,null,{"$f":"IF(TRIM(T31)=\"\", \"\", IF(VLOOKUP(T31,'Footnotes list'!$D$9:$E$58,2,FALSE)=0,\"\",VLOOKUP(T31,'Footnotes list'!$D$9:$E$58,2,FALSE) ) )","v":""},{"$f":"IF(AND(TRIM(V29)=\"\",TRIM(V30)=\"\"),\"\",V29+V30)","v":44.78},null,null,null,{"$f":"IF(TRIM(Y31)=\"\", \"\", IF(VLOOKUP(Y31,'Footnotes list'!$D$9:$E$58,2,FALSE)=0,\"\",VLOOKUP(Y31,'Footnotes list'!$D$9:$E$58,2,FALSE) ) )","v":""},{"$f":"IF(AND(TRIM(AA29)=\"\",TRIM(AA30)=\"\"),\"\",AA29+AA30)","v":1662.86},null,null,null,{"$f":"IF(TRIM(AD31)=\"\", \"\", IF(VLOOKUP(AD31,'Footnotes list'!$D$9:$E$58,2,FALSE)=0,\"\",VLOOKUP(AD31,'Footnotes list'!$D$9:$E$58,2,FALSE) ) )","v":""},{"$f":"IF(AND(TRIM(AF29)=\"\",TRIM(AF30)=\"\"),\"\",AF29+AF30)","v":39.662999999999997},null,null,null,{"$f":"IF(TRIM(AI31)=\"\", \"\", IF(VLOOKUP(AI31,'Footnotes list'!$D$9:$E$58,2,FALSE)=0,\"\",VLOOKUP(AI31,'Footnotes list'!$D$9:$E$58,2,FALSE) ) )","v":""},{"$f":"IF(AND(TRIM(AK29)=\"\",TRIM(AK30)=\"\"),\"\",AK29+AK30)","v":0},null,null,null,{"$f":"IF(TRIM(AN31)=\"\", \"\", IF(VLOOKUP(AN31,'Footnotes list'!$D$9:$E$58,2,FALSE)=0,\"\",VLOOKUP(AN31,'Footnotes list'!$D$9:$E$58,2,FALSE) ) )","v":""},{"$f":"IF(AND(TRIM(AP29)=\"\",TRIM(AP30)=\"\"),\"\",AP29+AP30)","v":3956.2339999999999},null,null,null,{"$f":"IF(TRIM(AS31)=\"\", \"\", IF(VLOOKUP(AS31,'Footnotes list'!$D$9:$E$58,2,FALSE)=0,\"\",VLOOKUP(AS31,'Footnotes list'!$D$9:$E$58,2,FALSE) ) )","v":""},{"$f":"IF(AND(TRIM(AU29)=\"\",TRIM(AU30)=\"\"),\"\",AU29+AU30)","v":844.27200000000005},null,null,null,{"$f":"IF(TRIM(AX31)=\"\", \"\", IF(VLOOKUP(AX31,'Footnotes list'!$D$9:$E$58,2,FALSE)=0,\"\",VLOOKUP(AX31,'Footnotes list'!$D$9:$E$58,2,FALSE) ) )","v":""},{"$f":"IF(AND(TRIM(AZ29)=\"\",TRIM(AZ30)=\"\"),\"\",AZ29+AZ30)","v":44802.896000000001},null,null,null,{"$f":"IF(TRIM(BC31)=\"\", \"\", IF(VLOOKUP(BC31,'Footnotes list'!$D$9:$E$58,2,FALSE)=0,\"\",VLOOKUP(BC31,'Footnotes list'!$D$9:$E$58,2,FALSE) ) )","v":""},{"$f":"IF(AND(TRIM(BE29)=\"\",TRIM(BE30)=\"\"),\"\",BE29+BE30)","v":17420.957999999999},null,null,null,{"$f":"IF(TRIM(BH31)=\"\", \"\", IF(VLOOKUP(BH31,'Footnotes list'!$D$9:$E$58,2,FALSE)=0,\"\",VLOOKUP(BH31,'Footnotes list'!$D$9:$E$58,2,FALSE) ) )","v":""},{"$f":"IF(AND(TRIM(BJ29)=\"\",TRIM(BJ30)=\"\"),\"\",BJ29+BJ30)","v":5313.7359999999999},null,null,null,{"$f":"IF(TRIM(BM31)=\"\", \"\", IF(VLOOKUP(BM31,'Footnotes list'!$D$9:$E$58,2,FALSE)=0,\"\",VLOOKUP(BM31,'Footnotes list'!$D$9:$E$58,2,FALSE) ) )","v":""},{"$f":"IF(AND(TRIM(BO29)=\"\", TRIM(BO30)=\"\"), \"\", (IF(ISNUMBER(BO29),BO29,0)+IF(ISNUMBER(BO30),BO30,0)))","v":74118.388999999996},null,null,null,{"$f":"IF(TRIM(BR31)=\"\", \"\", IF(VLOOKUP(BR31,'Footnotes list'!$D$9:$E$58,2,FALSE)=0,\"\",VLOOKUP(BR31,'Footnotes list'!$D$9:$E$58,2,FALSE) ) )","v":""},{"$f":"IF(AND(TRIM(BT29)=\"\",TRIM(BT30)=\"\"),\"\",BT29+BT30)","v":0.37},null,null,null,{"$f":"IF(TRIM(BW31)=\"\", \"\", IF(VLOOKUP(BW31,'Footnotes list'!$D$9:$E$58,2,FALSE)=0,\"\",VLOOKUP(BW31,'Footnotes list'!$D$9:$E$58,2,FALSE) ) )","v":""},{"$f":"IF(AND(TRIM(BY29)=\"\",TRIM(BY30)=\"\"),\"\",BY29+BY30)","v":224.49600000000001},null,null,null,{"$f":"IF(TRIM(CB31)=\"\", \"\", IF(VLOOKUP(CB31,'Footnotes list'!$D$9:$E$58,2,FALSE)=0,\"\",VLOOKUP(CB31,'Footnotes list'!$D$9:$E$58,2,FALSE) ) )","v":""},{"$f":"IF(AND(TRIM(CD29)=\"\",TRIM(CD30)=\"\"),\"\",CD29+CD30)","v":647549.54},null,null,null,{"$f":"IF(TRIM(CG31)=\"\", \"\", IF(VLOOKUP(CG31,'Footnotes list'!$D$9:$E$58,2,FALSE)=0,\"\",VLOOKUP(CG31,'Footnotes list'!$D$9:$E$58,2,FALSE) ) )","v":""},{"$f":"IF(AND(TRIM(CI29)=\"\", TRIM(CI30)=\"\"), \"\", (IF(ISNUMBER(CI29),CI29,0)+IF(ISNUMBER(CI30),CI30,0)))","v":647774.03599999996},null,null,null,{"$f":"IF(TRIM(CL31)=\"\", \"\", IF(VLOOKUP(CL31,'Footnotes list'!$D$9:$E$58,2,FALSE)=0,\"\",VLOOKUP(CL31,'Footnotes list'!$D$9:$E$58,2,FALSE) ) )","v":""},{"$f":"IF(AND(TRIM(CN29)=\"\",TRIM(CN30)=\"\"),\"\",CN29+CN30)","v":224693.24100000001},null,null,null,{"$f":"IF(TRIM(CQ31)=\"\", \"\", IF(VLOOKUP(CQ31,'Footnotes list'!$D$9:$E$58,2,FALSE)=0,\"\",VLOOKUP(CQ31,'Footnotes list'!$D$9:$E$58,2,FALSE) ) )","v":""},{"$f":"IF(AND(TRIM(CS29)=\"\",TRIM(CS30)=\"\"),\"\",CS29+CS30)","v":5563.8580000000002},null,null,null,{"$f":"IF(TRIM(CV31)=\"\", \"\", IF(VLOOKUP(CV31,'Footnotes list'!$D$9:$E$58,2,FALSE)=0,\"\",VLOOKUP(CV31,'Footnotes list'!$D$9:$E$58,2,FALSE) ) )","v":""},{"$f":"IF(AND(TRIM(CX29)=\"\",TRIM(CX30)=\"\"),\"\",CX29+CX30)","v":1303.0550000000001},null,null,null,{"$f":"IF(TRIM(DA31)=\"\", \"\", IF(VLOOKUP(DA31,'Footnotes list'!$D$9:$E$58,2,FALSE)=0,\"\",VLOOKUP(DA31,'Footnotes list'!$D$9:$E$58,2,FALSE) ) )","v":""},{"$f":"IF(AND(TRIM(DC29)=\"\",TRIM(DC30)=\"\"),\"\",DC29+DC30)","v":2154.9859999999999},null,null,null,{"$f":"IF(TRIM(DF31)=\"\", \"\", IF(VLOOKUP(DF31,'Footnotes list'!$D$9:$E$58,2,FALSE)=0,\"\",VLOOKUP(DF31,'Footnotes list'!$D$9:$E$58,2,FALSE) ) )","v":""},{"$f":"IF(AND(TRIM(DH29)=\"\", TRIM(DH30)=\"\"), \"\", SUM(DH29,DH30) )","v":955690.63300000003},null,null,null,{"$f":"IF(TRIM(DK31)=\"\", \"\", IF(VLOOKUP(DK31,'Footnotes list'!$D$9:$E$58,2,FALSE)=0,\"\",VLOOKUP(DK31,'Footnotes list'!$D$9:$E$58,2,FALSE) ) )","v":""}]
[null,"W062",null,"Metallic wastes, non-ferrous ",null,"Not applicable"]
[null,null,"W062",null,"NHAZ","Non-hazardous",0,null,null,null,{"$f":"IF(TRIM(J33)=\"\", \"\", IF(VLOOKUP(J33,'Footnotes list'!$D$9:$E$58,2,FALSE)=0,\"\",VLOOKUP(J33,'Footnotes list'!$D$9:$E$58,2,FALSE) ) )","v":""},0.46,null,null,null,{"$f":"IF(TRIM(O33)=\"\", \"\", IF(VLOOKUP(O33,'Footnotes list'!$D$9:$E$58,2,FALSE)=0,\"\",VLOOKUP(O33,'Footnotes list'!$D$9:$E$58,2,FALSE) ) )","v":""},17.510999999999999,null,null,null,{"$f":"IF(TRIM(T33)=\"\", \"\", IF(VLOOKUP(T33,'Footnotes list'!$D$9:$E$58,2,FALSE)=0,\"\",VLOOKUP(T33,'Footnotes list'!$D$9:$E$58,2,FALSE) ) )","v":""},5.94,null,null,null,{"$f":"IF(TRIM(Y33)=\"\", \"\", IF(VLOOKUP(Y33,'Footnotes list'!$D$9:$E$58,2,FALSE)=0,\"\",VLOOKUP(Y33,'Footnotes list'!$D$9:$E$58,2,FALSE) ) )","v":""},93.88,null,null,null,{"$f":"IF(TRIM(AD33)=\"\", \"\", IF(VLOOKUP(AD33,'Footnotes list'!$D$9:$E$58,2,FALSE)=0,\"\",VLOOKUP(AD33,'Footnotes list'!$D$9:$E$58,2,FALSE) ) )","v":""},435.01799999999997,null,null,null,{"$f":"IF(TRIM(AI33)=\"\", \"\", IF(VLOOKUP(AI33,'Footnotes list'!$D$9:$E$58,2,FALSE)=0,\"\",VLOOKUP(AI33,'Footnotes list'!$D$9:$E$58,2,FALSE) ) )","v":""},0,null,null,null,{"$f":"IF(TRIM(AN33)=\"\", \"\", IF(VLOOKUP(AN33,'Footnotes list'!$D$9:$E$58,2,FALSE)=0,\"\",VLOOKUP(AN33,'Footnotes list'!$D$9:$E$58,2,FALSE) ) )","v":""},32.999000000000002,null,null,null,{"$f":"IF(TRIM(AS33)=\"\", \"\", IF(VLOOKUP(AS33,'Footnotes list'!$D$9:$E$58,2,FALSE)=0,\"\",VLOOKUP(AS33,'Footnotes list'!$D$9:$E$58,2,FALSE) ) )","v":""},10.903,null,null,null,{"$f":"IF(TRIM(AX33)=\"\", \"\", IF(VLOOKUP(AX33,'Footnotes list'!$D$9:$E$58,2,FALSE)=0,\"\",VLOOKUP(AX33,'Footnotes list'!$D$9:$E$58,2,FALSE) ) )","v":""},20828.467000000001,null,null,null,{"$f":"IF(TRIM(BC33)=\"\", \"\", IF(VLOOKUP(BC33,'Footnotes list'!$D$9:$E$58,2,FALSE)=0,\"\",VLOOKUP(BC33,'Footnotes list'!$D$9:$E$58,2,FALSE) ) )","v":""},1066.299,null,null,null,{"$f":"IF(TRIM(BH33)=\"\", \"\", IF(VLOOKUP(BH33,'Footnotes list'!$D$9:$E$58,2,FALSE)=0,\"\",VLOOKUP(BH33,'Footnotes list'!$D$9:$E$58,2,FALSE) ) )","v":""},223.27699999999999,null,null,null,{"$f":"IF(TRIM(BM33)=\"\", \"\", IF(VLOOKUP(BM33,'Footnotes list'!$D$9:$E$58,2,FALSE)=0,\"\",VLOOKUP(BM33,'Footnotes list'!$D$9:$E$58,2,FALSE) ) )","v":""},{"$f":"IF(AND(TRIM(Q33)=\"\",TRIM(V33)=\"\",TRIM(AA33)=\"\", TRIM(AF33)=\"\", TRIM(AK33)=\"\", TRIM(AP33)=\"\", TRIM(AU33)=\"\", TRIM(AZ33)=\"\", TRIM(BE33)=\"\", TRIM(BJ33)=\"\"),\"\",Q33+V33+AA33+AF33+AK33+AP33+AU33+AZ33+BE33+BJ33)","v":22714.294000000002},null,null,null,{"$f":"IF(TRIM(BR33)=\"\", \"\", IF(VLOOKUP(BR33,'Footnotes list'!$D$9:$E$58,2,FALSE)=0,\"\",VLOOKUP(BR33,'Footnotes list'!$D$9:$E$58,2,FALSE) ) )","v":""},0,null,null,null,{"$f":"IF(TRIM(BW33)=\"\", \"\", IF(VLOOKUP(BW33,'Footnotes list'!$D$9:$E$58,2,FALSE)=0,\"\",VLOOKUP(BW33,'Footnotes list'!$D$9:$E$58,2,FALSE) ) )","v":""},0,null,null,null,{"$f":"IF(TRIM(CB33)=\"\", \"\", IF(VLOOKUP(CB33,'Footnotes list'!$D$9:$E$58,2,FALSE)=0,\"\",VLOOKUP(CB33,'Footnotes list'!$D$9:$E$58,2,FALSE) ) )","v":""},11167.74,null,null,null,{"$f":"IF(TRIM(CG33)=\"\", \"\", IF(VLOOKUP(CG33,'Footnotes list'!$D$9:$E$58,2,FALSE)=0,\"\",VLOOKUP(CG33,'Footnotes list'!$D$9:$E$58,2,FALSE) ) )","v":""},{"$f":"IF(AND(TRIM(BY33)=\"\",TRIM(CD33)=\"\"),\"\",BY33+CD33)","v":11167.74},null,null,null,{"$f":"IF(TRIM(CL33)=\"\", \"\", IF(VLOOKUP(CL33,'Footnotes list'!$D$9:$E$58,2,FALSE)=0,\"\",VLOOKUP(CL33,'Footnotes list'!$D$9:$E$58,2,FALSE) ) )","v":""},20419.36,null,null,null,{"$f":"IF(TRIM(CQ33)=\"\", \"\", IF(VLOOKUP(CQ33,'Footnotes list'!$D$9:$E$58,2,FALSE)=0,\"\",VLOOKUP(CQ33,'Footnotes list'!$D$9:$E$58,2,FALSE) ) )","v":""},209.36199999999999,null,null,null,{"$f":"IF(TRIM(CV33)=\"\", \"\", IF(VLOOKUP(CV33,'Footnotes list'!$D$9:$E$58,2,FALSE)=0,\"\",VLOOKUP(CV33,'Footnotes list'!$D$9:$E$58,2,FALSE) ) )","v":""},417.55500000000001,null,null,null,{"$f":"IF(TRIM(DA33)=\"\", \"\", IF(VLOOKUP(DA33,'Footnotes list'!$D$9:$E$58,2,FALSE)=0,\"\",VLOOKUP(DA33,'Footnotes list'!$D$9:$E$58,2,FALSE) ) )","v":""},356.71499999999997,null,null,null,{"$f":"IF(TRIM(DF33)=\"\", \"\", IF(VLOOKUP(DF33,'Footnotes list'!$D$9:$E$58,2,FALSE)=0,\"\",VLOOKUP(DF33,'Footnotes list'!$D$9:$E$58,2,FALSE) ) )","v":""},{"$f":"IF(AND(TRIM(G33)=\"\",TRIM(L33)=\"\",TRIM(BO33)=\"\",TRIM(BT33)=\"\",TRIM(CI33)=\"\",TRIM(CN33)=\"\",TRIM(CS33)=\"\",TRIM(CX33)=\"\",TRIM(DC33)=\"\"),\"\",SUM(G33,L33,BO33,BT33,CI33,CN33,CS33,CX33,DC33))","v":55285.485999999997},null,null,null,{"$f":"IF(TRIM(DK33)=\"\", \"\", IF(VLOOKUP(DK33,'Footnotes list'!$D$9:$E$58,2,FALSE)=0,\"\",VLOOKUP(DK33,'Footnotes list'!$D$9:$E$58,2,FALSE) ) )","v":""}]
[null,null,"W062",null,"HAZ_NHAZ","Total",{"$f":"IF(AND(TRIM(G32)=\"\",TRIM(G33)=\"\"),\"\",G32+G33)","v":0},null,null,null,{"$f":"IF(TRIM(J34)=\"\", \"\", IF(VLOOKUP(J34,'Footnotes list'!$D$9:$E$58,2,FALSE)=0,\"\",VLOOKUP(J34,'Footnotes list'!$D$9:$E$58,2,FALSE) ) )","v":""},{"$f":"IF(AND(TRIM(L32)=\"\",TRIM(L33)=\"\"),\"\",L32+L33)","v":0.46},null,null,null,{"$f":"IF(TRIM(O34)=\"\", \"\", IF(VLOOKUP(O34,'Footnotes list'!$D$9:$E$58,2,FALSE)=0,\"\",VLOOKUP(O34,'Footnotes list'!$D$9:$E$58,2,FALSE) ) )","v":""},{"$f":"IF(AND(TRIM(Q32)=\"\",TRIM(Q33)=\"\"),\"\",Q32+Q33)","v":17.510999999999999},null,null,null,{"$f":"IF(TRIM(T34)=\"\", \"\", IF(VLOOKUP(T34,'Footnotes list'!$D$9:$E$58,2,FALSE)=0,\"\",VLOOKUP(T34,'Footnotes list'!$D$9:$E$58,2,FALSE) ) )","v":""},{"$f":"IF(AND(TRIM(V32)=\"\",TRIM(V33)=\"\"),\"\",V32+V33)","v":5.94},null,null,null,{"$f":"IF(TRIM(Y34)=\"\", \"\", IF(VLOOKUP(Y34,'Footnotes list'!$D$9:$E$58,2,FALSE)=0,\"\",VLOOKUP(Y34,'Footnotes list'!$D$9:$E$58,2,FALSE) ) )","v":""},{"$f":"IF(AND(TRIM(AA32)=\"\",TRIM(AA33)=\"\"),\"\",AA32+AA33)","v":93.88},null,null,null,{"$f":"IF(TRIM(AD34)=\"\", \"\", IF(VLOOKUP(AD34,'Footnotes list'!$D$9:$E$58,2,FALSE)=0,\"\",VLOOKUP(AD34,'Footnotes list'!$D$9:$E$58,2,FALSE) ) )","v":""},{"$f":"IF(AND(TRIM(AF32)=\"\",TRIM(AF33)=\"\"),\"\",AF32+AF33)","v":435.01799999999997},null,null,null,{"$f":"IF(TRIM(AI34)=\"\", \"\", IF(VLOOKUP(AI34,'Footnotes list'!$D$9:$E$58,2,FALSE)=0,\"\",VLOOKUP(AI34,'Footnotes list'!$D$9:$E$58,2,FALSE) ) )","v":""},{"$f":"IF(AND(TRIM(AK32)=\"\",TRIM(AK33)=\"\"),\"\",AK32+AK33)","v":0},null,null,null,{"$f":"IF(TRIM(AN34)=\"\", \"\", IF(VLOOKUP(AN34,'Footnotes list'!$D$9:$E$58,2,FALSE)=0,\"\",VLOOKUP(AN34,'Footnotes list'!$D$9:$E$58,2,FALSE) ) )","v":""},{"$f":"IF(AND(TRIM(AP32)=\"\",TRIM(AP33)=\"\"),\"\",AP32+AP33)","v":32.999000000000002},null,null,null,{"$f":"IF(TRIM(AS34)=\"\", \"\", IF(VLOOKUP(AS34,'Footnotes list'!$D$9:$E$58,2,FALSE)=0,\"\",VLOOKUP(AS34,'Footnotes list'!$D$9:$E$58,2,FALSE) ) )","v":""},{"$f":"IF(AND(TRIM(AU32)=\"\",TRIM(AU33)=\"\"),\"\",AU32+AU33)","v":10.903},null,null,null,{"$f":"IF(TRIM(AX34)=\"\", \"\", IF(VLOOKUP(AX34,'Footnotes list'!$D$9:$E$58,2,FALSE)=0,\"\",VLOOKUP(AX34,'Footnotes list'!$D$9:$E$58,2,FALSE) ) )","v":""},{"$f":"IF(AND(TRIM(AZ32)=\"\",TRIM(AZ33)=\"\"),\"\",AZ32+AZ33)","v":20828.467000000001},null,null,null,{"$f":"IF(TRIM(BC34)=\"\", \"\", IF(VLOOKUP(BC34,'Footnotes list'!$D$9:$E$58,2,FALSE)=0,\"\",VLOOKUP(BC34,'Footnotes list'!$D$9:$E$58,2,FALSE) ) )","v":""},{"$f":"IF(AND(TRIM(BE32)=\"\",TRIM(BE33)=\"\"),\"\",BE32+BE33)","v":1066.299},null,null,null,{"$f":"IF(TRIM(BH34)=\"\", \"\", IF(VLOOKUP(BH34,'Footnotes list'!$D$9:$E$58,2,FALSE)=0,\"\",VLOOKUP(BH34,'Footnotes list'!$D$9:$E$58,2,FALSE) ) )","v":""},{"$f":"IF(AND(TRIM(BJ32)=\"\",TRIM(BJ33)=\"\"),\"\",BJ32+BJ33)","v":223.27699999999999},null,null,null,{"$f":"IF(TRIM(BM34)=\"\", \"\", IF(VLOOKUP(BM34,'Footnotes list'!$D$9:$E$58,2,FALSE)=0,\"\",VLOOKUP(BM34,'Footnotes list'!$D$9:$E$58,2,FALSE) ) )","v":""},{"$f":"IF(AND(TRIM(BO32)=\"\", TRIM(BO33)=\"\"), \"\", (IF(ISNUMBER(BO32),BO32,0)+IF(ISNUMBER(BO33),BO33,0)))","v":22714.294000000002},null,null,null,{"$f":"IF(TRIM(BR34)=\"\", \"\", IF(VLOOKUP(BR34,'Footnotes list'!$D$9:$E$58,2,FALSE)=0,\"\",VLOOKUP(BR34,'Footnotes list'!$D$9:$E$58,2,FALSE) ) )","v":""},{"$f":"IF(AND(TRIM(BT32)=\"\",TRIM(BT33)=\"\"),\"\",BT32+BT33)","v":0},null,null,null,{"$f":"IF(TRIM(BW34)=\"\", \"\", IF(VLOOKUP(BW34,'Footnotes list'!$D$9:$E$58,2,FALSE)=0,\"\",VLOOKUP(BW34,'Footnotes list'!$D$9:$E$58,2,FALSE) ) )","v":""},{"$f":"IF(AND(TRIM(BY32)=\"\",TRIM(BY33)=\"\"),\"\",BY32+BY33)","v":0},null,null,null,{"$f":"IF(TRIM(CB34)=\"\", \"\", IF(VLOOKUP(CB34,'Footnotes list'!$D$9:$E$58,2,FALSE)=0,\"\",VLOOKUP(CB34,'Footnotes list'!$D$9:$E$58,2,FALSE) ) )","v":""},{"$f":"IF(AND(TRIM(CD32)=\"\",TRIM(CD33)=\"\"),\"\",CD32+CD33)","v":11167.74},null,null,null,{"$f":"IF(TRIM(CG34)=\"\", \"\", IF(VLOOKUP(CG34,'Footnotes list'!$D$9:$E$58,2,FALSE)=0,\"\",VLOOKUP(CG34,'Footnotes list'!$D$9:$E$58,2,FALSE) ) )","v":""},{"$f":"IF(AND(TRIM(CI32)=\"\", TRIM(CI33)=\"\"), \"\", (IF(ISNUMBER(CI32),CI32,0)+IF(ISNUMBER(CI33),CI33,0)))","v":11167.74},null,null,null,{"$f":"IF(TRIM(CL34)=\"\", \"\", IF(VLOOKUP(CL34,'Footnotes list'!$D$9:$E$58,2,FALSE)=0,\"\",VLOOKUP(CL34,'Footnotes list'!$D$9:$E$58,2,FALSE) ) )","v":""},{"$f":"IF(AND(TRIM(CN32)=\"\",TRIM(CN33)=\"\"),\"\",CN32+CN33)","v":20419.36},null,null,null,{"$f":"IF(TRIM(CQ34)=\"\", \"\", IF(VLOOKUP(CQ34,'Footnotes list'!$D$9:$E$58,2,FALSE)=0,\"\",VLOOKUP(CQ34,'Footnotes list'!$D$9:$E$58,2,FALSE) ) )","v":""},{"$f":"IF(AND(TRIM(CS32)=\"\",TRIM(CS33)=\"\"),\"\",CS32+CS33)","v":209.36199999999999},null,null,null,{"$f":"IF(TRIM(CV34)=\"\", \"\", IF(VLOOKUP(CV34,'Footnotes list'!$D$9:$E$58,2,FALSE)=0,\"\",VLOOKUP(CV34,'Footnotes list'!$D$9:$E$58,2,FALSE) ) )","v":""},{"$f":"IF(AND(TRIM(CX32)=\"\",TRIM(CX33)=\"\"),\"\",CX32+CX33)","v":417.55500000000001},null,null,null,{"$f":"IF(TRIM(DA34)=\"\", \"\", IF(VLOOKUP(DA34,'Footnotes list'!$D$9:$E$58,2,FALSE)=0,\"\",VLOOKUP(DA34,'Footnotes list'!$D$9:$E$58,2,FALSE) ) )","v":""},{"$f":"IF(AND(TRIM(DC32)=\"\",TRIM(DC33)=\"\"),\"\",DC32+DC33)","v":356.71499999999997},null,null,null,{"$f":"IF(TRIM(DF34)=\"\", \"\", IF(VLOOKUP(DF34,'Footnotes list'!$D$9:$E$58,2,FALSE)=0,\"\",VLOOKUP(DF34,'Footnotes list'!$D$9:$E$58,2,FALSE) ) )","v":""},{"$f":"IF(AND(TRIM(DH32)=\"\", TRIM(DH33)=\"\"), \"\", SUM(DH32,DH33) )","v":55285.485999999997},null,null,null,{"$f":"IF(TRIM(DK34)=\"\", \"\", IF(VLOOKUP(DK34,'Footnotes list'!$D$9:$E$58,2,FALSE)=0,\"\",VLOOKUP(DK34,'Footnotes list'!$D$9:$E$58,2,FALSE) ) )","v":""}]
[null,"W063",null,"Metal wastes, mixed ferrous and non-ferrous",null,"Not applicable"]
[null,null,"W063",null,"NHAZ","Non-hazardous",5.72,null,null,null,{"$f":"IF(TRIM(J36)=\"\", \"\", IF(VLOOKUP(J36,'Footnotes list'!$D$9:$E$58,2,FALSE)=0,\"\",VLOOKUP(J36,'Footnotes list'!$D$9:$E$58,2,FALSE) ) )","v":""},159.79599999999999,null,null,null,{"$f":"IF(TRIM(O36)=\"\", \"\", IF(VLOOKUP(O36,'Footnotes list'!$D$9:$E$58,2,FALSE)=0,\"\",VLOOKUP(O36,'Footnotes list'!$D$9:$E$58,2,FALSE) ) )","v":""},503.69200000000001,null,null,null,{"$f":"IF(TRIM(T36)=\"\", \"\", IF(VLOOKUP(T36,'Footnotes list'!$D$9:$E$58,2,FALSE)=0,\"\",VLOOKUP(T36,'Footnotes list'!$D$9:$E$58,2,FALSE) ) )","v":""},61.81,null,null,null,{"$f":"IF(TRIM(Y36)=\"\", \"\", IF(VLOOKUP(Y36,'Footnotes list'!$D$9:$E$58,2,FALSE)=0,\"\",VLOOKUP(Y36,'Footnotes list'!$D$9:$E$58,2,FALSE) ) )","v":""},7.4,null,null,null,{"$f":"IF(TRIM(AD36)=\"\", \"\", IF(VLOOKUP(AD36,'Footnotes list'!$D$9:$E$58,2,FALSE)=0,\"\",VLOOKUP(AD36,'Footnotes list'!$D$9:$E$58,2,FALSE) ) )","v":""},5.8049999999999997,null,null,null,{"$f":"IF(TRIM(AI36)=\"\", \"\", IF(VLOOKUP(AI36,'Footnotes list'!$D$9:$E$58,2,FALSE)=0,\"\",VLOOKUP(AI36,'Footnotes list'!$D$9:$E$58,2,FALSE) ) )","v":""},5.63,null,null,null,{"$f":"IF(TRIM(AN36)=\"\", \"\", IF(VLOOKUP(AN36,'Footnotes list'!$D$9:$E$58,2,FALSE)=0,\"\",VLOOKUP(AN36,'Footnotes list'!$D$9:$E$58,2,FALSE) ) )","v":""},493.48099999999999,null,null,null,{"$f":"IF(TRIM(AS36)=\"\", \"\", IF(VLOOKUP(AS36,'Footnotes list'!$D$9:$E$58,2,FALSE)=0,\"\",VLOOKUP(AS36,'Footnotes list'!$D$9:$E$58,2,FALSE) ) )","v":""},32.72,null,null,null,{"$f":"IF(TRIM(AX36)=\"\", \"\", IF(VLOOKUP(AX36,'Footnotes list'!$D$9:$E$58,2,FALSE)=0,\"\",VLOOKUP(AX36,'Footnotes list'!$D$9:$E$58,2,FALSE) ) )","v":""},93.480999999999995,null,null,null,{"$f":"IF(TRIM(BC36)=\"\", \"\", IF(VLOOKUP(BC36,'Footnotes list'!$D$9:$E$58,2,FALSE)=0,\"\",VLOOKUP(BC36,'Footnotes list'!$D$9:$E$58,2,FALSE) ) )","v":""},69.165999999999997,null,null,null,{"$f":"IF(TRIM(BH36)=\"\", \"\", IF(VLOOKUP(BH36,'Footnotes list'!$D$9:$E$58,2,FALSE)=0,\"\",VLOOKUP(BH36,'Footnotes list'!$D$9:$E$58,2,FALSE) ) )","v":""},2.4660000000000002,null,null,null,{"$f":"IF(TRIM(BM36)=\"\", \"\", IF(VLOOKUP(BM36,'Footnotes list'!$D$9:$E$58,2,FALSE)=0,\"\",VLOOKUP(BM36,'Footnotes list'!$D$9:$E$58,2,FALSE) ) )","v":""},{"$f":"IF(AND(TRIM(Q36)=\"\",TRIM(V36)=\"\",TRIM(AA36)=\"\", TRIM(AF36)=\"\", TRIM(AK36)=\"\", TRIM(AP36)=\"\", TRIM(AU36)=\"\", TRIM(AZ36)=\"\", TRIM(BE36)=\"\", TRIM(BJ36)=\"\"),\"\",Q36+V36+AA36+AF36+AK36+AP36+AU36+AZ36+BE36+BJ36)","v":1275.6510000000001},null,null,null,{"$f":"IF(TRIM(BR36)=\"\", \"\", IF(VLOOKUP(BR36,'Footnotes list'!$D$9:$E$58,2,FALSE)=0,\"\",VLOOKUP(BR36,'Footnotes list'!$D$9:$E$58,2,FALSE) ) )","v":""},0.36,null,null,null,{"$f":"IF(TRIM(BW36)=\"\", \"\", IF(VLOOKUP(BW36,'Footnotes list'!$D$9:$E$58,2,FALSE)=0,\"\",VLOOKUP(BW36,'Footnotes list'!$D$9:$E$58,2,FALSE) ) )","v":""},44.417000000000002,null,null,null,{"$f":"IF(TRIM(CB36)=\"\", \"\", IF(VLOOKUP(CB36,'Footnotes list'!$D$9:$E$58,2,FALSE)=0,\"\",VLOOKUP(CB36,'Footnotes list'!$D$9:$E$58,2,FALSE) ) )","v":""},6346.3559999999998,null,null,null,{"$f":"IF(TRIM(CG36)=\"\", \"\", IF(VLOOKUP(CG36,'Footnotes list'!$D$9:$E$58,2,FALSE)=0,\"\",VLOOKUP(CG36,'Footnotes list'!$D$9:$E$58,2,FALSE) ) )","v":""},{"$f":"IF(AND(TRIM(BY36)=\"\",TRIM(CD36)=\"\"),\"\",BY36+CD36)","v":6390.7730000000001},null,null,null,{"$f":"IF(TRIM(CL36)=\"\", \"\", IF(VLOOKUP(CL36,'Footnotes list'!$D$9:$E$58,2,FALSE)=0,\"\",VLOOKUP(CL36,'Footnotes list'!$D$9:$E$58,2,FALSE) ) )","v":""},3087.3620000000001,null,null,null,{"$f":"IF(TRIM(CQ36)=\"\", \"\", IF(VLOOKUP(CQ36,'Footnotes list'!$D$9:$E$58,2,FALSE)=0,\"\",VLOOKUP(CQ36,'Footnotes list'!$D$9:$E$58,2,FALSE) ) )","v":""},5010.317,null,null,null,{"$f":"IF(TRIM(CV36)=\"\", \"\", IF(VLOOKUP(CV36,'Footnotes list'!$D$9:$E$58,2,FALSE)=0,\"\",VLOOKUP(CV36,'Footnotes list'!$D$9:$E$58,2,FALSE) ) )","v":""},25440.27,null,null,null,{"$f":"IF(TRIM(DA36)=\"\", \"\", IF(VLOOKUP(DA36,'Footnotes list'!$D$9:$E$58,2,FALSE)=0,\"\",VLOOKUP(DA36,'Footnotes list'!$D$9:$E$58,2,FALSE) ) )","v":""},33921.701999999997,null,null,null,{"$f":"IF(TRIM(DF36)=\"\", \"\", IF(VLOOKUP(DF36,'Footnotes list'!$D$9:$E$58,2,FALSE)=0,\"\",VLOOKUP(DF36,'Footnotes list'!$D$9:$E$58,2,FALSE) ) )","v":""},{"$f":"IF(AND(TRIM(G36)=\"\",TRIM(L36)=\"\",TRIM(BO36)=\"\",TRIM(BT36)=\"\",TRIM(CI36)=\"\",TRIM(CN36)=\"\",TRIM(CS36)=\"\",TRIM(CX36)=\"\",TRIM(DC36)=\"\"),\"\",SUM(G36,L36,BO36,BT36,CI36,CN36,CS36,CX36,DC36))","v":75291.951000000001},null,null,null,{"$f":"IF(TRIM(DK36)=\"\", \"\", IF(VLOOKUP(DK36,'Footnotes list'!$D$9:$E$58,2,FALSE)=0,\"\",VLOOKUP(DK36,'Footnotes list'!$D$9:$E$58,2,FALSE) ) )","v":""}]
[null,null,"W063",null,"HAZ_NHAZ","Total",{"$f":"IF(AND(TRIM(G35)=\"\",TRIM(G36)=\"\"),\"\",G35+G36)","v":5.72},null,null,null,{"$f":"IF(TRIM(J37)=\"\", \"\", IF(VLOOKUP(J37,'Footnotes list'!$D$9:$E$58,2,FALSE)=0,\"\",VLOOKUP(J37,'Footnotes list'!$D$9:$E$58,2,FALSE) ) )","v":""},{"$f":"IF(AND(TRIM(L35)=\"\",TRIM(L36)=\"\"),\"\",L35+L36)","v":159.79599999999999},null,null,null,{"$f":"IF(TRIM(O37)=\"\", \"\", IF(VLOOKUP(O37,'Footnotes list'!$D$9:$E$58,2,FALSE)=0,\"\",VLOOKUP(O37,'Footnotes list'!$D$9:$E$58,2,FALSE) ) )","v":""},{"$f":"IF(AND(TRIM(Q35)=\"\",TRIM(Q36)=\"\"),\"\",Q35+Q36)","v":503.69200000000001},null,null,null,{"$f":"IF(TRIM(T37)=\"\", \"\", IF(VLOOKUP(T37,'Footnotes list'!$D$9:$E$58,2,FALSE)=0,\"\",VLOOKUP(T37,'Footnotes list'!$D$9:$E$58,2,FALSE) ) )","v":""},{"$f":"IF(AND(TRIM(V35)=\"\",TRIM(V36)=\"\"),\"\",V35+V36)","v":61.81},null,null,null,{"$f":"IF(TRIM(Y37)=\"\", \"\", IF(VLOOKUP(Y37,'Footnotes list'!$D$9:$E$58,2,FALSE)=0,\"\",VLOOKUP(Y37,'Footnotes list'!$D$9:$E$58,2,FALSE) ) )","v":""},{"$f":"IF(AND(TRIM(AA35)=\"\",TRIM(AA36)=\"\"),\"\",AA35+AA36)","v":7.4},null,null,null,{"$f":"IF(TRIM(AD37)=\"\", \"\", IF(VLOOKUP(AD37,'Footnotes list'!$D$9:$E$58,2,FALSE)=0,\"\",VLOOKUP(AD37,'Footnotes list'!$D$9:$E$58,2,FALSE) ) )","v":""},{"$f":"IF(AND(TRIM(AF35)=\"\",TRIM(AF36)=\"\"),\"\",AF35+AF36)","v":5.8049999999999997},null,null,null,{"$f":"IF(TRIM(AI37)=\"\", \"\", IF(VLOOKUP(AI37,'Footnotes list'!$D$9:$E$58,2,FALSE)=0,\"\",VLOOKUP(AI37,'Footnotes list'!$D$9:$E$58,2,FALSE) ) )","v":""},{"$f":"IF(AND(TRIM(AK35)=\"\",TRIM(AK36)=\"\"),\"\",AK35+AK36)","v":5.63},null,null,null,{"$f":"IF(TRIM(AN37)=\"\", \"\", IF(VLOOKUP(AN37,'Footnotes list'!$D$9:$E$58,2,FALSE)=0,\"\",VLOOKUP(AN37,'Footnotes list'!$D$9:$E$58,2,FALSE) ) )","v":""},{"$f":"IF(AND(TRIM(AP35)=\"\",TRIM(AP36)=\"\"),\"\",AP35+AP36)","v":493.48099999999999},null,null,null,{"$f":"IF(TRIM(AS37)=\"\", \"\", IF(VLOOKUP(AS37,'Footnotes list'!$D$9:$E$58,2,FALSE)=0,\"\",VLOOKUP(AS37,'Footnotes list'!$D$9:$E$58,2,FALSE) ) )","v":""},{"$f":"IF(AND(TRIM(AU35)=\"\",TRIM(AU36)=\"\"),\"\",AU35+AU36)","v":32.72},null,null,null,{"$f":"IF(TRIM(AX37)=\"\", \"\", IF(VLOOKUP(AX37,'Footnotes list'!$D$9:$E$58,2,FALSE)=0,\"\",VLOOKUP(AX37,'Footnotes list'!$D$9:$E$58,2,FALSE) ) )","v":""},{"$f":"IF(AND(TRIM(AZ35)=\"\",TRIM(AZ36)=\"\"),\"\",AZ35+AZ36)","v":93.480999999999995},null,null,null,{"$f":"IF(TRIM(BC37)=\"\", \"\", IF(VLOOKUP(BC37,'Footnotes list'!$D$9:$E$58,2,FALSE)=0,\"\",VLOOKUP(BC37,'Footnotes list'!$D$9:$E$58,2,FALSE) ) )","v":""},{"$f":"IF(AND(TRIM(BE35)=\"\",TRIM(BE36)=\"\"),\"\",BE35+BE36)","v":69.165999999999997},null,null,null,{"$f":"IF(TRIM(BH37)=\"\", \"\", IF(VLOOKUP(BH37,'Footnotes list'!$D$9:$E$58,2,FALSE)=0,\"\",VLOOKUP(BH37,'Footnotes list'!$D$9:$E$58,2,FALSE) ) )","v":""},{"$f":"IF(AND(TRIM(BJ35)=\"\",TRIM(BJ36)=\"\"),\"\",BJ35+BJ36)","v":2.4660000000000002},null,null,null,{"$f":"IF(TRIM(BM37)=\"\", \"\", IF(VLOOKUP(BM37,'Footnotes list'!$D$9:$E$58,2,FALSE)=0,\"\",VLOOKUP(BM37,'Footnotes list'!$D$9:$E$58,2,FALSE) ) )","v":""},{"$f":"IF(AND(TRIM(BO35)=\"\", TRIM(BO36)=\"\"), \"\", (IF(ISNUMBER(BO35),BO35,0)+IF(ISNUMBER(BO36),BO36,0)))","v":1275.6510000000001},null,null,null,{"$f":"IF(TRIM(BR37)=\"\", \"\", IF(VLOOKUP(BR37,'Footnotes list'!$D$9:$E$58,2,FALSE)=0,\"\",VLOOKUP(BR37,'Footnotes list'!$D$9:$E$58,2,FALSE) ) )","v":""},{"$f":"IF(AND(TRIM(BT35)=\"\",TRIM(BT36)=\"\"),\"\",BT35+BT36)","v":0.36},null,null,null,{"$f":"IF(TRIM(BW37)=\"\", \"\", IF(VLOOKUP(BW37,'Footnotes list'!$D$9:$E$58,2,FALSE)=0,\"\",VLOOKUP(BW37,'Footnotes list'!$D$9:$E$58,2,FALSE) ) )","v":""},{"$f":"IF(AND(TRIM(BY35)=\"\",TRIM(BY36)=\"\"),\"\",BY35+BY36)","v":44.417000000000002},null,null,null,{"$f":"IF(TRIM(CB37)=\"\", \"\", IF(VLOOKUP(CB37,'Footnotes list'!$D$9:$E$58,2,FALSE)=0,\"\",VLOOKUP(CB37,'Footnotes list'!$D$9:$E$58,2,FALSE) ) )","v":""},{"$f":"IF(AND(TRIM(CD35)=\"\",TRIM(CD36)=\"\"),\"\",CD35+CD36)","v":6346.3559999999998},null,null,null,{"$f":"IF(TRIM(CG37)=\"\", \"\", IF(VLOOKUP(CG37,'Footnotes list'!$D$9:$E$58,2,FALSE)=0,\"\",VLOOKUP(CG37,'Footnotes list'!$D$9:$E$58,2,FALSE) ) )","v":""},{"$f":"IF(AND(TRIM(CI35)=\"\", TRIM(CI36)=\"\"), \"\", (IF(ISNUMBER(CI35),CI35,0)+IF(ISNUMBER(CI36),CI36,0)))","v":6390.7730000000001},null,null,null,{"$f":"IF(TRIM(CL37)=\"\", \"\", IF(VLOOKUP(CL37,'Footnotes list'!$D$9:$E$58,2,FALSE)=0,\"\",VLOOKUP(CL37,'Footnotes list'!$D$9:$E$58,2,FALSE) ) )","v":""},{"$f":"IF(AND(TRIM(CN35)=\"\",TRIM(CN36)=\"\"),\"\",CN35+CN36)","v":3087.3620000000001},null,null,null,{"$f":"IF(TRIM(CQ37)=\"\", \"\", IF(VLOOKUP(CQ37,'Footnotes list'!$D$9:$E$58,2,FALSE)=0,\"\",VLOOKUP(CQ37,'Footnotes list'!$D$9:$E$58,2,FALSE) ) )","v":""},{"$f":"IF(AND(TRIM(CS35)=\"\",TRIM(CS36)=\"\"),\"\",CS35+CS36)","v":5010.317},null,null,null,{"$f":"IF(TRIM(CV37)=\"\", \"\", IF(VLOOKUP(CV37,'Footnotes list'!$D$9:$E$58,2,FALSE)=0,\"\",VLOOKUP(CV37,'Footnotes list'!$D$9:$E$58,2,FALSE) ) )","v":""},{"$f":"IF(AND(TRIM(CX35)=\"\",TRIM(CX36)=\"\"),\"\",CX35+CX36)","v":25440.27},null,null,null,{"$f":"IF(TRIM(DA37)=\"\", \"\", IF(VLOOKUP(DA37,'Footnotes list'!$D$9:$E$58,2,FALSE)=0,\"\",VLOOKUP(DA37,'Footnotes list'!$D$9:$E$58,2,FALSE) ) )","v":""},{"$f":"IF(AND(TRIM(DC35)=\"\",TRIM(DC36)=\"\"),\"\",DC35+DC36)","v":33921.701999999997},null,null,null,{"$f":"IF(TRIM(DF37)=\"\", \"\", IF(VLOOKUP(DF37,'Footnotes list'!$D$9:$E$58,2,FALSE)=0,\"\",VLOOKUP(DF37,'Footnotes list'!$D$9:$E$58,2,FALSE) ) )","v":""},{"$f":"IF(AND(TRIM(DH35)=\"\", TRIM(DH36)=\"\"), \"\", SUM(DH35,DH36) )","v":75291.951000000001},null,null,null,{"$f":"IF(TRIM(DK37)=\"\", \"\", IF(VLOOKUP(DK37,'Footnotes list'!$D$9:$E$58,2,FALSE)=0,\"\",VLOOKUP(DK37,'Footnotes list'!$D$9:$E$58,2,FALSE) ) )","v":""}]
[null,"W071","W071","Glass wastes ","HAZ","Hazardous ",0,null,null,null,{"$f":"IF(TRIM(J38)=\"\", \"\", IF(VLOOKUP(J38,'Footnotes list'!$D$9:$E$58,2,FALSE)=0,\"\",VLOOKUP(J38,'Footnotes list'!$D$9:$E$58,2,FALSE) ) )","v":""},0,null,null,null,{"$f":"IF(TRIM(O38)=\"\", \"\", IF(VLOOKUP(O38,'Footnotes list'!$D$9:$E$58,2,FALSE)=0,\"\",VLOOKUP(O38,'Footnotes list'!$D$9:$E$58,2,FALSE) ) )","v":""},0,null,null,null,{"$f":"IF(TRIM(T38)=\"\", \"\", IF(VLOOKUP(T38,'Footnotes list'!$D$9:$E$58,2,FALSE)=0,\"\",VLOOKUP(T38,'Footnotes list'!$D$9:$E$58,2,FALSE) ) )","v":""},0,null,null,null,{"$f":"IF(TRIM(Y38)=\"\", \"\", IF(VLOOKUP(Y38,'Footnotes list'!$D$9:$E$58,2,FALSE)=0,\"\",VLOOKUP(Y38,'Footnotes list'!$D$9:$E$58,2,FALSE) ) )","v":""},0,null,null,null,{"$f":"IF(TRIM(AD38)=\"\", \"\", IF(VLOOKUP(AD38,'Footnotes list'!$D$9:$E$58,2,FALSE)=0,\"\",VLOOKUP(AD38,'Footnotes list'!$D$9:$E$58,2,FALSE) ) )","v":""},0,null,null,null,{"$f":"IF(TRIM(AI38)=\"\", \"\", IF(VLOOKUP(AI38,'Footnotes list'!$D$9:$E$58,2,FALSE)=0,\"\",VLOOKUP(AI38,'Footnotes list'!$D$9:$E$58,2,FALSE) ) )","v":""},0,null,null,null,{"$f":"IF(TRIM(AN38)=\"\", \"\", IF(VLOOKUP(AN38,'Footnotes list'!$D$9:$E$58,2,FALSE)=0,\"\",VLOOKUP(AN38,'Footnotes list'!$D$9:$E$58,2,FALSE) ) )","v":""},0,null,null,null,{"$f":"IF(TRIM(AS38)=\"\", \"\", IF(VLOOKUP(AS38,'Footnotes list'!$D$9:$E$58,2,FALSE)=0,\"\",VLOOKUP(AS38,'Footnotes list'!$D$9:$E$58,2,FALSE) ) )","v":""},0,null,null,null,{"$f":"IF(TRIM(AX38)=\"\", \"\", IF(VLOOKUP(AX38,'Footnotes list'!$D$9:$E$58,2,FALSE)=0,\"\",VLOOKUP(AX38,'Footnotes list'!$D$9:$E$58,2,FALSE) ) )","v":""},0,null,null,null,{"$f":"IF(TRIM(BC38)=\"\", \"\", IF(VLOOKUP(BC38,'Footnotes list'!$D$9:$E$58,2,FALSE)=0,\"\",VLOOKUP(BC38,'Footnotes list'!$D$9:$E$58,2,FALSE) ) )","v":""},0,null,null,null,{"$f":"IF(TRIM(BH38)=\"\", \"\", IF(VLOOKUP(BH38,'Footnotes list'!$D$9:$E$58,2,FALSE)=0,\"\",VLOOKUP(BH38,'Footnotes list'!$D$9:$E$58,2,FALSE) ) )","v":""},0,null,null,null,{"$f":"IF(TRIM(BM38)=\"\", \"\", IF(VLOOKUP(BM38,'Footnotes list'!$D$9:$E$58,2,FALSE)=0,\"\",VLOOKUP(BM38,'Footnotes list'!$D$9:$E$58,2,FALSE) ) )","v":""},{"$f":"IF(AND(TRIM(Q38)=\"\",TRIM(V38)=\"\",TRIM(AA38)=\"\", TRIM(AF38)=\"\", TRIM(AK38)=\"\", TRIM(AP38)=\"\", TRIM(AU38)=\"\", TRIM(AZ38)=\"\", TRIM(BE38)=\"\", TRIM(BJ38)=\"\"),\"\",Q38+V38+AA38+AF38+AK38+AP38+AU38+AZ38+BE38+BJ38)","v":0},null,null,null,{"$f":"IF(TRIM(BR38)=\"\", \"\", IF(VLOOKUP(BR38,'Footnotes list'!$D$9:$E$58,2,FALSE)=0,\"\",VLOOKUP(BR38,'Footnotes list'!$D$9:$E$58,2,FALSE) ) )","v":""},0,null,null,null,{"$f":"IF(TRIM(BW38)=\"\", \"\", IF(VLOOKUP(BW38,'Footnotes list'!$D$9:$E$58,2,FALSE)=0,\"\",VLOOKUP(BW38,'Footnotes list'!$D$9:$E$58,2,FALSE) ) )","v":""},0,null,null,null,{"$f":"IF(TRIM(CB38)=\"\", \"\", IF(VLOOKUP(CB38,'Footnotes list'!$D$9:$E$58,2,FALSE)=0,\"\",VLOOKUP(CB38,'Footnotes list'!$D$9:$E$58,2,FALSE) ) )","v":""},0,null,null,null,{"$f":"IF(TRIM(CG38)=\"\", \"\", IF(VLOOKUP(CG38,'Footnotes list'!$D$9:$E$58,2,FALSE)=0,\"\",VLOOKUP(CG38,'Footnotes list'!$D$9:$E$58,2,FALSE) ) )","v":""},{"$f":"IF(AND(TRIM(BY38)=\"\",TRIM(CD38)=\"\"),\"\",BY38+CD38)","v":0},null,null,null,{"$f":"IF(TRIM(CL38)=\"\", \"\", IF(VLOOKUP(CL38,'Footnotes list'!$D$9:$E$58,2,FALSE)=0,\"\",VLOOKUP(CL38,'Footnotes list'!$D$9:$E$58,2,FALSE) ) )","v":""},0,null,null,null,{"$f":"IF(TRIM(CQ38)=\"\", \"\", IF(VLOOKUP(CQ38,'Footnotes list'!$D$9:$E$58,2,FALSE)=0,\"\",VLOOKUP(CQ38,'Footnotes list'!$D$9:$E$58,2,FALSE) ) )","v":""},0,null,null,null,{"$f":"IF(TRIM(CV38)=\"\", \"\", IF(VLOOKUP(CV38,'Footnotes list'!$D$9:$E$58,2,FALSE)=0,\"\",VLOOKUP(CV38,'Footnotes list'!$D$9:$E$58,2,FALSE) ) )","v":""},0,null,null,null,{"$f":"IF(TRIM(DA38)=\"\", \"\", IF(VLOOKUP(DA38,'Footnotes list'!$D$9:$E$58,2,FALSE)=0,\"\",VLOOKUP(DA38,'Footnotes list'!$D$9:$E$58,2,FALSE) ) )","v":""},0,null,null,null,{"$f":"IF(TRIM(DF38)=\"\", \"\", IF(VLOOKUP(DF38,'Footnotes list'!$D$9:$E$58,2,FALSE)=0,\"\",VLOOKUP(DF38,'Footnotes list'!$D$9:$E$58,2,FALSE) ) )","v":""},{"$f":"IF(AND(TRIM(G38)=\"\",TRIM(L38)=\"\",TRIM(BO38)=\"\",TRIM(BT38)=\"\",TRIM(CI38)=\"\",TRIM(CN38)=\"\",TRIM(CS38)=\"\",TRIM(CX38)=\"\",TRIM(DC38)=\"\"),\"\",SUM(G38,L38,BO38,BT38,CI38,CN38,CS38,CX38,DC38))","v":0},null,null,null,{"$f":"IF(TRIM(DK38)=\"\", \"\", IF(VLOOKUP(DK38,'Footnotes list'!$D$9:$E$58,2,FALSE)=0,\"\",VLOOKUP(DK38,'Footnotes list'!$D$9:$E$58,2,FALSE) ) )","v":""}]
[null,null,"W071",null,"NHAZ","Non-hazardous",1.37,null,null,null,{"$f":"IF(TRIM(J39)=\"\", \"\", IF(VLOOKUP(J39,'Footnotes list'!$D$9:$E$58,2,FALSE)=0,\"\",VLOOKUP(J39,'Footnotes list'!$D$9:$E$58,2,FALSE) ) )","v":""},0,null,null,null,{"$f":"IF(TRIM(O39)=\"\", \"\", IF(VLOOKUP(O39,'Footnotes list'!$D$9:$E$58,2,FALSE)=0,\"\",VLOOKUP(O39,'Footnotes list'!$D$9:$E$58,2,FALSE) ) )","v":""},6439.8789999999999,null,null,null,{"$f":"IF(TRIM(T39)=\"\", \"\", IF(VLOOKUP(T39,'Footnotes list'!$D$9:$E$58,2,FALSE)=0,\"\",VLOOKUP(T39,'Footnotes list'!$D$9:$E$58,2,FALSE) ) )","v":""},2.028,null,null,null,{"$f":"IF(TRIM(Y39)=\"\", \"\", IF(VLOOKUP(Y39,'Footnotes list'!$D$9:$E$58,2,FALSE)=0,\"\",VLOOKUP(Y39,'Footnotes list'!$D$9:$E$58,2,FALSE) ) )","v":""},7.3,null,null,null,{"$f":"IF(TRIM(AD39)=\"\", \"\", IF(VLOOKUP(AD39,'Footnotes list'!$D$9:$E$58,2,FALSE)=0,\"\",VLOOKUP(AD39,'Footnotes list'!$D$9:$E$58,2,FALSE) ) )","v":""},1.645,null,null,null,{"$f":"IF(TRIM(AI39)=\"\", \"\", IF(VLOOKUP(AI39,'Footnotes list'!$D$9:$E$58,2,FALSE)=0,\"\",VLOOKUP(AI39,'Footnotes list'!$D$9:$E$58,2,FALSE) ) )","v":""},0.06,null,null,null,{"$f":"IF(TRIM(AN39)=\"\", \"\", IF(VLOOKUP(AN39,'Footnotes list'!$D$9:$E$58,2,FALSE)=0,\"\",VLOOKUP(AN39,'Footnotes list'!$D$9:$E$58,2,FALSE) ) )","v":""},223.155,null,null,null,{"$f":"IF(TRIM(AS39)=\"\", \"\", IF(VLOOKUP(AS39,'Footnotes list'!$D$9:$E$58,2,FALSE)=0,\"\",VLOOKUP(AS39,'Footnotes list'!$D$9:$E$58,2,FALSE) ) )","v":""},22170.54,null,null,null,{"$f":"IF(TRIM(AX39)=\"\", \"\", IF(VLOOKUP(AX39,'Footnotes list'!$D$9:$E$58,2,FALSE)=0,\"\",VLOOKUP(AX39,'Footnotes list'!$D$9:$E$58,2,FALSE) ) )","v":""},19.350000000000001,null,null,null,{"$f":"IF(TRIM(BC39)=\"\", \"\", IF(VLOOKUP(BC39,'Footnotes list'!$D$9:$E$58,2,FALSE)=0,\"\",VLOOKUP(BC39,'Footnotes list'!$D$9:$E$58,2,FALSE) ) )","v":""},7.5810000000000004,null,null,null,{"$f":"IF(TRIM(BH39)=\"\", \"\", IF(VLOOKUP(BH39,'Footnotes list'!$D$9:$E$58,2,FALSE)=0,\"\",VLOOKUP(BH39,'Footnotes list'!$D$9:$E$58,2,FALSE) ) )","v":""},9.2270000000000003,null,null,null,{"$f":"IF(TRIM(BM39)=\"\", \"\", IF(VLOOKUP(BM39,'Footnotes list'!$D$9:$E$58,2,FALSE)=0,\"\",VLOOKUP(BM39,'Footnotes list'!$D$9:$E$58,2,FALSE) ) )","v":""},{"$f":"IF(AND(TRIM(Q39)=\"\",TRIM(V39)=\"\",TRIM(AA39)=\"\", TRIM(AF39)=\"\", TRIM(AK39)=\"\", TRIM(AP39)=\"\", TRIM(AU39)=\"\", TRIM(AZ39)=\"\", TRIM(BE39)=\"\", TRIM(BJ39)=\"\"),\"\",Q39+V39+AA39+AF39+AK39+AP39+AU39+AZ39+BE39+BJ39)","v":28880.764999999999},null,null,null,{"$f":"IF(TRIM(BR39)=\"\", \"\", IF(VLOOKUP(BR39,'Footnotes list'!$D$9:$E$58,2,FALSE)=0,\"\",VLOOKUP(BR39,'Footnotes list'!$D$9:$E$58,2,FALSE) ) )","v":""},1.0049999999999999,null,null,null,{"$f":"IF(TRIM(BW39)=\"\", \"\", IF(VLOOKUP(BW39,'Footnotes list'!$D$9:$E$58,2,FALSE)=0,\"\",VLOOKUP(BW39,'Footnotes list'!$D$9:$E$58,2,FALSE) ) )","v":""},0,null,null,null,{"$f":"IF(TRIM(CB39)=\"\", \"\", IF(VLOOKUP(CB39,'Footnotes list'!$D$9:$E$58,2,FALSE)=0,\"\",VLOOKUP(CB39,'Footnotes list'!$D$9:$E$58,2,FALSE) ) )","v":""},26911.330999999998,null,null,null,{"$f":"IF(TRIM(CG39)=\"\", \"\", IF(VLOOKUP(CG39,'Footnotes list'!$D$9:$E$58,2,FALSE)=0,\"\",VLOOKUP(CG39,'Footnotes list'!$D$9:$E$58,2,FALSE) ) )","v":""},{"$f":"IF(AND(TRIM(BY39)=\"\",TRIM(CD39)=\"\"),\"\",BY39+CD39)","v":26911.330999999998},null,null,null,{"$f":"IF(TRIM(CL39)=\"\", \"\", IF(VLOOKUP(CL39,'Footnotes list'!$D$9:$E$58,2,FALSE)=0,\"\",VLOOKUP(CL39,'Footnotes list'!$D$9:$E$58,2,FALSE) ) )","v":""},9974.4210000000003,null,null,null,{"$f":"IF(TRIM(CQ39)=\"\", \"\", IF(VLOOKUP(CQ39,'Footnotes list'!$D$9:$E$58,2,FALSE)=0,\"\",VLOOKUP(CQ39,'Footnotes list'!$D$9:$E$58,2,FALSE) ) )","v":""},41283.500999999997,null,null,null,{"$f":"IF(TRIM(CV39)=\"\", \"\", IF(VLOOKUP(CV39,'Footnotes list'!$D$9:$E$58,2,FALSE)=0,\"\",VLOOKUP(CV39,'Footnotes list'!$D$9:$E$58,2,FALSE) ) )","v":""},283.35899999999998,null,null,null,{"$f":"IF(TRIM(DA39)=\"\", \"\", IF(VLOOKUP(DA39,'Footnotes list'!$D$9:$E$58,2,FALSE)=0,\"\",VLOOKUP(DA39,'Footnotes list'!$D$9:$E$58,2,FALSE) ) )","v":""},20483.185000000001,null,null,null,{"$f":"IF(TRIM(DF39)=\"\", \"\", IF(VLOOKUP(DF39,'Footnotes list'!$D$9:$E$58,2,FALSE)=0,\"\",VLOOKUP(DF39,'Footnotes list'!$D$9:$E$58,2,FALSE) ) )","v":""},{"$f":"IF(AND(TRIM(G39)=\"\",TRIM(L39)=\"\",TRIM(BO39)=\"\",TRIM(BT39)=\"\",TRIM(CI39)=\"\",TRIM(CN39)=\"\",TRIM(CS39)=\"\",TRIM(CX39)=\"\",TRIM(DC39)=\"\"),\"\",SUM(G39,L39,BO39,BT39,CI39,CN39,CS39,CX39,DC39))","v":127818.93700000001},null,null,null,{"$f":"IF(TRIM(DK39)=\"\", \"\", IF(VLOOKUP(DK39,'Footnotes list'!$D$9:$E$58,2,FALSE)=0,\"\",VLOOKUP(DK39,'Footnotes list'!$D$9:$E$58,2,FALSE) ) )","v":""}]
[null,null,"W071",null,"HAZ_NHAZ","Total",{"$f":"IF(AND(TRIM(G38)=\"\",TRIM(G39)=\"\"),\"\",G38+G39)","v":1.37},null,null,null,{"$f":"IF(TRIM(J40)=\"\", \"\", IF(VLOOKUP(J40,'Footnotes list'!$D$9:$E$58,2,FALSE)=0,\"\",VLOOKUP(J40,'Footnotes list'!$D$9:$E$58,2,FALSE) ) )","v":""},{"$f":"IF(AND(TRIM(L38)=\"\",TRIM(L39)=\"\"),\"\",L38+L39)","v":0},null,null,null,{"$f":"IF(TRIM(O40)=\"\", \"\", IF(VLOOKUP(O40,'Footnotes list'!$D$9:$E$58,2,FALSE)=0,\"\",VLOOKUP(O40,'Footnotes list'!$D$9:$E$58,2,FALSE) ) )","v":""},{"$f":"IF(AND(TRIM(Q38)=\"\",TRIM(Q39)=\"\"),\"\",Q38+Q39)","v":6439.8789999999999},null,null,null,{"$f":"IF(TRIM(T40)=\"\", \"\", IF(VLOOKUP(T40,'Footnotes list'!$D$9:$E$58,2,FALSE)=0,\"\",VLOOKUP(T40,'Footnotes list'!$D$9:$E$58,2,FALSE) ) )","v":""},{"$f":"IF(AND(TRIM(V38)=\"\",TRIM(V39)=\"\"),\"\",V38+V39)","v":2.028},null,null,null,{"$f":"IF(TRIM(Y40)=\"\", \"\", IF(VLOOKUP(Y40,'Footnotes list'!$D$9:$E$58,2,FALSE)=0,\"\",VLOOKUP(Y40,'Footnotes list'!$D$9:$E$58,2,FALSE) ) )","v":""},{"$f":"IF(AND(TRIM(AA38)=\"\",TRIM(AA39)=\"\"),\"\",AA38+AA39)","v":7.3},null,null,null,{"$f":"IF(TRIM(AD40)=\"\", \"\", IF(VLOOKUP(AD40,'Footnotes list'!$D$9:$E$58,2,FALSE)=0,\"\",VLOOKUP(AD40,'Footnotes list'!$D$9:$E$58,2,FALSE) ) )","v":""},{"$f":"IF(AND(TRIM(AF38)=\"\",TRIM(AF39)=\"\"),\"\",AF38+AF39)","v":1.645},null,null,null,{"$f":"IF(TRIM(AI40)=\"\", \"\", IF(VLOOKUP(AI40,'Footnotes list'!$D$9:$E$58,2,FALSE)=0,\"\",VLOOKUP(AI40,'Footnotes list'!$D$9:$E$58,2,FALSE) ) )","v":""},{"$f":"IF(AND(TRIM(AK38)=\"\",TRIM(AK39)=\"\"),\"\",AK38+AK39)","v":0.06},null,null,null,{"$f":"IF(TRIM(AN40)=\"\", \"\", IF(VLOOKUP(AN40,'Footnotes list'!$D$9:$E$58,2,FALSE)=0,\"\",VLOOKUP(AN40,'Footnotes list'!$D$9:$E$58,2,FALSE) ) )","v":""},{"$f":"IF(AND(TRIM(AP38)=\"\",TRIM(AP39)=\"\"),\"\",AP38+AP39)","v":223.155},null,null,null,{"$f":"IF(TRIM(AS40)=\"\", \"\", IF(VLOOKUP(AS40,'Footnotes list'!$D$9:$E$58,2,FALSE)=0,\"\",VLOOKUP(AS40,'Footnotes list'!$D$9:$E$58,2,FALSE) ) )","v":""},{"$f":"IF(AND(TRIM(AU38)=\"\",TRIM(AU39)=\"\"),\"\",AU38+AU39)","v":22170.54},null,null,null,{"$f":"IF(TRIM(AX40)=\"\", \"\", IF(VLOOKUP(AX40,'Footnotes list'!$D$9:$E$58,2,FALSE)=0,\"\",VLOOKUP(AX40,'Footnotes list'!$D$9:$E$58,2,FALSE) ) )","v":""},{"$f":"IF(AND(TRIM(AZ38)=\"\",TRIM(AZ39)=\"\"),\"\",AZ38+AZ39)","v":19.350000000000001},null,null,null,{"$f":"IF(TRIM(BC40)=\"\", \"\", IF(VLOOKUP(BC40,'Footnotes list'!$D$9:$E$58,2,FALSE)=0,\"\",VLOOKUP(BC40,'Footnotes list'!$D$9:$E$58,2,FALSE) ) )","v":""},{"$f":"IF(AND(TRIM(BE38)=\"\",TRIM(BE39)=\"\"),\"\",BE38+BE39)","v":7.5810000000000004},null,null,null,{"$f":"IF(TRIM(BH40)=\"\", \"\", IF(VLOOKUP(BH40,'Footnotes list'!$D$9:$E$58,2,FALSE)=0,\"\",VLOOKUP(BH40,'Footnotes list'!$D$9:$E$58,2,FALSE) ) )","v":""},{"$f":"IF(AND(TRIM(BJ38)=\"\",TRIM(BJ39)=\"\"),\"\",BJ38+BJ39)","v":9.2270000000000003},null,null,null,{"$f":"IF(TRIM(BM40)=\"\", \"\", IF(VLOOKUP(BM40,'Footnotes list'!$D$9:$E$58,2,FALSE)=0,\"\",VLOOKUP(BM40,'Footnotes list'!$D$9:$E$58,2,FALSE) ) )","v":""},{"$f":"IF(AND(TRIM(BO38)=\"\", TRIM(BO39)=\"\"), \"\", (IF(ISNUMBER(BO38),BO38,0)+IF(ISNUMBER(BO39),BO39,0)))","v":28880.764999999999},null,null,null,{"$f":"IF(TRIM(BR40)=\"\", \"\", IF(VLOOKUP(BR40,'Footnotes list'!$D$9:$E$58,2,FALSE)=0,\"\",VLOOKUP(BR40,'Footnotes list'!$D$9:$E$58,2,FALSE) ) )","v":""},{"$f":"IF(AND(TRIM(BT38)=\"\",TRIM(BT39)=\"\"),\"\",BT38+BT39)","v":1.0049999999999999},null,null,null,{"$f":"IF(TRIM(BW40)=\"\", \"\", IF(VLOOKUP(BW40,'Footnotes list'!$D$9:$E$58,2,FALSE)=0,\"\",VLOOKUP(BW40,'Footnotes list'!$D$9:$E$58,2,FALSE) ) )","v":""},{"$f":"IF(AND(TRIM(BY38)=\"\",TRIM(BY39)=\"\"),\"\",BY38+BY39)","v":0},null,null,null,{"$f":"IF(TRIM(CB40)=\"\", \"\", IF(VLOOKUP(CB40,'Footnotes list'!$D$9:$E$58,2,FALSE)=0,\"\",VLOOKUP(CB40,'Footnotes list'!$D$9:$E$58,2,FALSE) ) )","v":""},{"$f":"IF(AND(TRIM(CD38)=\"\",TRIM(CD39)=\"\"),\"\",CD38+CD39)","v":26911.330999999998},null,null,null,{"$f":"IF(TRIM(CG40)=\"\", \"\", IF(VLOOKUP(CG40,'Footnotes list'!$D$9:$E$58,2,FALSE)=0,\"\",VLOOKUP(CG40,'Footnotes list'!$D$9:$E$58,2,FALSE) ) )","v":""},{"$f":"IF(AND(TRIM(CI38)=\"\", TRIM(CI39)=\"\"), \"\", (IF(ISNUMBER(CI38),CI38,0)+IF(ISNUMBER(CI39),CI39,0)))","v":26911.330999999998},null,null,null,{"$f":"IF(TRIM(CL40)=\"\", \"\", IF(VLOOKUP(CL40,'Footnotes list'!$D$9:$E$58,2,FALSE)=0,\"\",VLOOKUP(CL40,'Footnotes list'!$D$9:$E$58,2,FALSE) ) )","v":""},{"$f":"IF(AND(TRIM(CN38)=\"\",TRIM(CN39)=\"\"),\"\",CN38+CN39)","v":9974.4210000000003},null,null,null,{"$f":"IF(TRIM(CQ40)=\"\", \"\", IF(VLOOKUP(CQ40,'Footnotes list'!$D$9:$E$58,2,FALSE)=0,\"\",VLOOKUP(CQ40,'Footnotes list'!$D$9:$E$58,2,FALSE) ) )","v":""},{"$f":"IF(AND(TRIM(CS38)=\"\",TRIM(CS39)=\"\"),\"\",CS38+CS39)","v":41283.500999999997},null,null,null,{"$f":"IF(TRIM(CV40)=\"\", \"\", IF(VLOOKUP(CV40,'Footnotes list'!$D$9:$E$58,2,FALSE)=0,\"\",VLOOKUP(CV40,'Footnotes list'!$D$9:$E$58,2,FALSE) ) )","v":""},{"$f":"IF(AND(TRIM(CX38)=\"\",TRIM(CX39)=\"\"),\"\",CX38+CX39)","v":283.35899999999998},null,null,null,{"$f":"IF(TRIM(DA40)=\"\", \"\", IF(VLOOKUP(DA40,'Footnotes list'!$D$9:$E$58,2,FALSE)=0,\"\",VLOOKUP(DA40,'Footnotes list'!$D$9:$E$58,2,FALSE) ) )","v":""},{"$f":"IF(AND(TRIM(DC38)=\"\",TRIM(DC39)=\"\"),\"\",DC38+DC39)","v":20483.185000000001},null,null,null,{"$f":"IF(TRIM(DF40)=\"\", \"\", IF(VLOOKUP(DF40,'Footnotes list'!$D$9:$E$58,2,FALSE)=0,\"\",VLOOKUP(DF40,'Footnotes list'!$D$9:$E$58,2,FALSE) ) )","v":""},{"$f":"IF(AND(TRIM(DH38)=\"\", TRIM(DH39)=\"\"), \"\", SUM(DH38,DH39) )","v":127818.93700000001},null,null,null,{"$f":"IF(TRIM(DK40)=\"\", \"\", IF(VLOOKUP(DK40,'Footnotes list'!$D$9:$E$58,2,FALSE)=0,\"\",VLOOKUP(DK40,'Footnotes list'!$D$9:$E$58,2,FALSE) ) )","v":""}]
[null,"W072",null,"Paper and cardboard wastes ",null,"Not applicable"]
[null,null,"W072",null,"NHAZ","Non-hazardous",1099.675,null,null,null,{"$f":"IF(TRIM(J42)=\"\", \"\", IF(VLOOKUP(J42,'Footnotes list'!$D$9:$E$58,2,FALSE)=0,\"\",VLOOKUP(J42,'Footnotes list'!$D$9:$E$58,2,FALSE) ) )","v":""},65.709000000000003,null,null,null,{"$f":"IF(TRIM(O42)=\"\", \"\", IF(VLOOKUP(O42,'Footnotes list'!$D$9:$E$58,2,FALSE)=0,\"\",VLOOKUP(O42,'Footnotes list'!$D$9:$E$58,2,FALSE) ) )","v":""},10533.758,null,null,null,{"$f":"IF(TRIM(T42)=\"\", \"\", IF(VLOOKUP(T42,'Footnotes list'!$D$9:$E$58,2,FALSE)=0,\"\",VLOOKUP(T42,'Footnotes list'!$D$9:$E$58,2,FALSE) ) )","v":""},1311.7819999999999,null,null,null,{"$f":"IF(TRIM(Y42)=\"\", \"\", IF(VLOOKUP(Y42,'Footnotes list'!$D$9:$E$58,2,FALSE)=0,\"\",VLOOKUP(Y42,'Footnotes list'!$D$9:$E$58,2,FALSE) ) )","v":""},148.971,null,null,null,{"$f":"IF(TRIM(AD42)=\"\", \"\", IF(VLOOKUP(AD42,'Footnotes list'!$D$9:$E$58,2,FALSE)=0,\"\",VLOOKUP(AD42,'Footnotes list'!$D$9:$E$58,2,FALSE) ) )","v":""},29247.39,null,null,null,{"$f":"IF(TRIM(AI42)=\"\", \"\", IF(VLOOKUP(AI42,'Footnotes list'!$D$9:$E$58,2,FALSE)=0,\"\",VLOOKUP(AI42,'Footnotes list'!$D$9:$E$58,2,FALSE) ) )","v":""},159.72999999999999,null,null,null,{"$f":"IF(TRIM(AN42)=\"\", \"\", IF(VLOOKUP(AN42,'Footnotes list'!$D$9:$E$58,2,FALSE)=0,\"\",VLOOKUP(AN42,'Footnotes list'!$D$9:$E$58,2,FALSE) ) )","v":""},3419.9789999999998,null,null,null,{"$f":"IF(TRIM(AS42)=\"\", \"\", IF(VLOOKUP(AS42,'Footnotes list'!$D$9:$E$58,2,FALSE)=0,\"\",VLOOKUP(AS42,'Footnotes list'!$D$9:$E$58,2,FALSE) ) )","v":""},408.46,null,null,null,{"$f":"IF(TRIM(AX42)=\"\", \"\", IF(VLOOKUP(AX42,'Footnotes list'!$D$9:$E$58,2,FALSE)=0,\"\",VLOOKUP(AX42,'Footnotes list'!$D$9:$E$58,2,FALSE) ) )","v":""},1166.2280000000001,null,null,null,{"$f":"IF(TRIM(BC42)=\"\", \"\", IF(VLOOKUP(BC42,'Footnotes list'!$D$9:$E$58,2,FALSE)=0,\"\",VLOOKUP(BC42,'Footnotes list'!$D$9:$E$58,2,FALSE) ) )","v":""},1842.999,null,null,null,{"$f":"IF(TRIM(BH42)=\"\", \"\", IF(VLOOKUP(BH42,'Footnotes list'!$D$9:$E$58,2,FALSE)=0,\"\",VLOOKUP(BH42,'Footnotes list'!$D$9:$E$58,2,FALSE) ) )","v":""},806.875,null,null,null,{"$f":"IF(TRIM(BM42)=\"\", \"\", IF(VLOOKUP(BM42,'Footnotes list'!$D$9:$E$58,2,FALSE)=0,\"\",VLOOKUP(BM42,'Footnotes list'!$D$9:$E$58,2,FALSE) ) )","v":""},{"$f":"IF(AND(TRIM(Q42)=\"\",TRIM(V42)=\"\",TRIM(AA42)=\"\", TRIM(AF42)=\"\", TRIM(AK42)=\"\", TRIM(AP42)=\"\", TRIM(AU42)=\"\", TRIM(AZ42)=\"\", TRIM(BE42)=\"\", TRIM(BJ42)=\"\"),\"\",Q42+V42+AA42+AF42+AK42+AP42+AU42+AZ42+BE42+BJ42)","v":49046.171999999999},null,null,null,{"$f":"IF(TRIM(BR42)=\"\", \"\", IF(VLOOKUP(BR42,'Footnotes list'!$D$9:$E$58,2,FALSE)=0,\"\",VLOOKUP(BR42,'Footnotes list'!$D$9:$E$58,2,FALSE) ) )","v":""},79.438000000000002,null,null,null,{"$f":"IF(TRIM(BW42)=\"\", \"\", IF(VLOOKUP(BW42,'Footnotes list'!$D$9:$E$58,2,FALSE)=0,\"\",VLOOKUP(BW42,'Footnotes list'!$D$9:$E$58,2,FALSE) ) )","v":""},28.024000000000001,null,null,null,{"$f":"IF(TRIM(CB42)=\"\", \"\", IF(VLOOKUP(CB42,'Footnotes list'!$D$9:$E$58,2,FALSE)=0,\"\",VLOOKUP(CB42,'Footnotes list'!$D$9:$E$58,2,FALSE) ) )","v":""},274004.33199999999,null,null,null,{"$f":"IF(TRIM(CG42)=\"\", \"\", IF(VLOOKUP(CG42,'Footnotes list'!$D$9:$E$58,2,FALSE)=0,\"\",VLOOKUP(CG42,'Footnotes list'!$D$9:$E$58,2,FALSE) ) )","v":""},{"$f":"IF(AND(TRIM(BY42)=\"\",TRIM(CD42)=\"\"),\"\",BY42+CD42)","v":274032.35600000003},null,null,null,{"$f":"IF(TRIM(CL42)=\"\", \"\", IF(VLOOKUP(CL42,'Footnotes list'!$D$9:$E$58,2,FALSE)=0,\"\",VLOOKUP(CL42,'Footnotes list'!$D$9:$E$58,2,FALSE) ) )","v":""},218.09,null,null,null,{"$f":"IF(TRIM(CQ42)=\"\", \"\", IF(VLOOKUP(CQ42,'Footnotes list'!$D$9:$E$58,2,FALSE)=0,\"\",VLOOKUP(CQ42,'Footnotes list'!$D$9:$E$58,2,FALSE) ) )","v":""},163129.522,null,null,null,{"$f":"IF(TRIM(CV42)=\"\", \"\", IF(VLOOKUP(CV42,'Footnotes list'!$D$9:$E$58,2,FALSE)=0,\"\",VLOOKUP(CV42,'Footnotes list'!$D$9:$E$58,2,FALSE) ) )","v":""},1695.194,null,null,null,{"$f":"IF(TRIM(DA42)=\"\", \"\", IF(VLOOKUP(DA42,'Footnotes list'!$D$9:$E$58,2,FALSE)=0,\"\",VLOOKUP(DA42,'Footnotes list'!$D$9:$E$58,2,FALSE) ) )","v":""},93078.846000000005,null,null,null,{"$f":"IF(TRIM(DF42)=\"\", \"\", IF(VLOOKUP(DF42,'Footnotes list'!$D$9:$E$58,2,FALSE)=0,\"\",VLOOKUP(DF42,'Footnotes list'!$D$9:$E$58,2,FALSE) ) )","v":""},{"$f":"IF(AND(TRIM(G42)=\"\",TRIM(L42)=\"\",TRIM(BO42)=\"\",TRIM(BT42)=\"\",TRIM(CI42)=\"\",TRIM(CN42)=\"\",TRIM(CS42)=\"\",TRIM(CX42)=\"\",TRIM(DC42)=\"\"),\"\",SUM(G42,L42,BO42,BT42,CI42,CN42,CS42,CX42,DC42))","v":582445.00199999998},null,null,null,{"$f":"IF(TRIM(DK42)=\"\", \"\", IF(VLOOKUP(DK42,'Footnotes list'!$D$9:$E$58,2,FALSE)=0,\"\",VLOOKUP(DK42,'Footnotes list'!$D$9:$E$58,2,FALSE) ) )","v":""}]
[null,null,"W072",null,"HAZ_NHAZ","Total",{"$f":"IF(AND(TRIM(G41)=\"\",TRIM(G42)=\"\"),\"\",G41+G42)","v":1099.675},null,null,null,{"$f":"IF(TRIM(J43)=\"\", \"\", IF(VLOOKUP(J43,'Footnotes list'!$D$9:$E$58,2,FALSE)=0,\"\",VLOOKUP(J43,'Footnotes list'!$D$9:$E$58,2,FALSE) ) )","v":""},{"$f":"IF(AND(TRIM(L41)=\"\",TRIM(L42)=\"\"),\"\",L41+L42)","v":65.709000000000003},null,null,null,{"$f":"IF(TRIM(O43)=\"\", \"\", IF(VLOOKUP(O43,'Footnotes list'!$D$9:$E$58,2,FALSE)=0,\"\",VLOOKUP(O43,'Footnotes list'!$D$9:$E$58,2,FALSE) ) )","v":""},{"$f":"IF(AND(TRIM(Q41)=\"\",TRIM(Q42)=\"\"),\"\",Q41+Q42)","v":10533.758},null,null,null,{"$f":"IF(TRIM(T43)=\"\", \"\", IF(VLOOKUP(T43,'Footnotes list'!$D$9:$E$58,2,FALSE)=0,\"\",VLOOKUP(T43,'Footnotes list'!$D$9:$E$58,2,FALSE) ) )","v":""},{"$f":"IF(AND(TRIM(V41)=\"\",TRIM(V42)=\"\"),\"\",V41+V42)","v":1311.7819999999999},null,null,null,{"$f":"IF(TRIM(Y43)=\"\", \"\", IF(VLOOKUP(Y43,'Footnotes list'!$D$9:$E$58,2,FALSE)=0,\"\",VLOOKUP(Y43,'Footnotes list'!$D$9:$E$58,2,FALSE) ) )","v":""},{"$f":"IF(AND(TRIM(AA41)=\"\",TRIM(AA42)=\"\"),\"\",AA41+AA42)","v":148.971},null,null,null,{"$f":"IF(TRIM(AD43)=\"\", \"\", IF(VLOOKUP(AD43,'Footnotes list'!$D$9:$E$58,2,FALSE)=0,\"\",VLOOKUP(AD43,'Footnotes list'!$D$9:$E$58,2,FALSE) ) )","v":""},{"$f":"IF(AND(TRIM(AF41)=\"\",TRIM(AF42)=\"\"),\"\",AF41+AF42)","v":29247.39},null,null,null,{"$f":"IF(TRIM(AI43)=\"\", \"\", IF(VLOOKUP(AI43,'Footnotes list'!$D$9:$E$58,2,FALSE)=0,\"\",VLOOKUP(AI43,'Footnotes list'!$D$9:$E$58,2,FALSE) ) )","v":""},{"$f":"IF(AND(TRIM(AK41)=\"\",TRIM(AK42)=\"\"),\"\",AK41+AK42)","v":159.72999999999999},null,null,null,{"$f":"IF(TRIM(AN43)=\"\", \"\", IF(VLOOKUP(AN43,'Footnotes list'!$D$9:$E$58,2,FALSE)=0,\"\",VLOOKUP(AN43,'Footnotes list'!$D$9:$E$58,2,FALSE) ) )","v":""},{"$f":"IF(AND(TRIM(AP41)=\"\",TRIM(AP42)=\"\"),\"\",AP41+AP42)","v":3419.9789999999998},null,null,null,{"$f":"IF(TRIM(AS43)=\"\", \"\", IF(VLOOKUP(AS43,'Footnotes list'!$D$9:$E$58,2,FALSE)=0,\"\",VLOOKUP(AS43,'Footnotes list'!$D$9:$E$58,2,FALSE) ) )","v":""},{"$f":"IF(AND(TRIM(AU41)=\"\",TRIM(AU42)=\"\"),\"\",AU41+AU42)","v":408.46},null,null,null,{"$f":"IF(TRIM(AX43)=\"\", \"\", IF(VLOOKUP(AX43,'Footnotes list'!$D$9:$E$58,2,FALSE)=0,\"\",VLOOKUP(AX43,'Footnotes list'!$D$9:$E$58,2,FALSE) ) )","v":""},{"$f":"IF(AND(TRIM(AZ41)=\"\",TRIM(AZ42)=\"\"),\"\",AZ41+AZ42)","v":1166.2280000000001},null,null,null,{"$f":"IF(TRIM(BC43)=\"\", \"\", IF(VLOOKUP(BC43,'Footnotes list'!$D$9:$E$58,2,FALSE)=0,\"\",VLOOKUP(BC43,'Footnotes list'!$D$9:$E$58,2,FALSE) ) )","v":""},{"$f":"IF(AND(TRIM(BE41)=\"\",TRIM(BE42)=\"\"),\"\",BE41+BE42)","v":1842.999},null,null,null,{"$f":"IF(TRIM(BH43)=\"\", \"\", IF(VLOOKUP(BH43,'Footnotes list'!$D$9:$E$58,2,FALSE)=0,\"\",VLOOKUP(BH43,'Footnotes list'!$D$9:$E$58,2,FALSE) ) )","v":""},{"$f":"IF(AND(TRIM(BJ41)=\"\",TRIM(BJ42)=\"\"),\"\",BJ41+BJ42)","v":806.875},null,null,null,{"$f":"IF(TRIM(BM43)=\"\", \"\", IF(VLOOKUP(BM43,'Footnotes list'!$D$9:$E$58,2,FALSE)=0,\"\",VLOOKUP(BM43,'Footnotes list'!$D$9:$E$58,2,FALSE) ) )","v":""},{"$f":"IF(AND(TRIM(BO41)=\"\", TRIM(BO42)=\"\"), \"\", (IF(ISNUMBER(BO41),BO41,0)+IF(ISNUMBER(BO42),BO42,0)))","v":49046.171999999999},null,null,null,{"$f":"IF(TRIM(BR43)=\"\", \"\", IF(VLOOKUP(BR43,'Footnotes list'!$D$9:$E$58,2,FALSE)=0,\"\",VLOOKUP(BR43,'Footnotes list'!$D$9:$E$58,2,FALSE) ) )","v":""},{"$f":"IF(AND(TRIM(BT41)=\"\",TRIM(BT42)=\"\"),\"\",BT41+BT42)","v":79.438000000000002},null,null,null,{"$f":"IF(TRIM(BW43)=\"\", \"\", IF(VLOOKUP(BW43,'Footnotes list'!$D$9:$E$58,2,FALSE)=0,\"\",VLOOKUP(BW43,'Footnotes list'!$D$9:$E$58,2,FALSE) ) )","v":""},{"$f":"IF(AND(TRIM(BY41)=\"\",TRIM(BY42)=\"\"),\"\",BY41+BY42)","v":28.024000000000001},null,null,null,{"$f":"IF(TRIM(CB43)=\"\", \"\", IF(VLOOKUP(CB43,'Footnotes list'!$D$9:$E$58,2,FALSE)=0,\"\",VLOOKUP(CB43,'Footnotes list'!$D$9:$E$58,2,FALSE) ) )","v":""},{"$f":"IF(AND(TRIM(CD41)=\"\",TRIM(CD42)=\"\"),\"\",CD41+CD42)","v":274004.33199999999},null,null,null,{"$f":"IF(TRIM(CG43)=\"\", \"\", IF(VLOOKUP(CG43,'Footnotes list'!$D$9:$E$58,2,FALSE)=0,\"\",VLOOKUP(CG43,'Footnotes list'!$D$9:$E$58,2,FALSE) ) )","v":""},{"$f":"IF(AND(TRIM(CI41)=\"\", TRIM(CI42)=\"\"), \"\", (IF(ISNUMBER(CI41),CI41,0)+IF(ISNUMBER(CI42),CI42,0)))","v":274032.35600000003},null,null,null,{"$f":"IF(TRIM(CL43)=\"\", \"\", IF(VLOOKUP(CL43,'Footnotes list'!$D$9:$E$58,2,FALSE)=0,\"\",VLOOKUP(CL43,'Footnotes list'!$D$9:$E$58,2,FALSE) ) )","v":""},{"$f":"IF(AND(TRIM(CN41)=\"\",TRIM(CN42)=\"\"),\"\",CN41+CN42)","v":218.09},null,null,null,{"$f":"IF(TRIM(CQ43)=\"\", \"\", IF(VLOOKUP(CQ43,'Footnotes list'!$D$9:$E$58,2,FALSE)=0,\"\",VLOOKUP(CQ43,'Footnotes list'!$D$9:$E$58,2,FALSE) ) )","v":""},{"$f":"IF(AND(TRIM(CS41)=\"\",TRIM(CS42)=\"\"),\"\",CS41+CS42)","v":163129.522},null,null,null,{"$f":"IF(TRIM(CV43)=\"\", \"\", IF(VLOOKUP(CV43,'Footnotes list'!$D$9:$E$58,2,FALSE)=0,\"\",VLOOKUP(CV43,'Footnotes list'!$D$9:$E$58,2,FALSE) ) )","v":""},{"$f":"IF(AND(TRIM(CX41)=\"\",TRIM(CX42)=\"\"),\"\",CX41+CX42)","v":1695.194},null,null,null,{"$f":"IF(TRIM(DA43)=\"\", \"\", IF(VLOOKUP(DA43,'Footnotes list'!$D$9:$E$58,2,FALSE)=0,\"\",VLOOKUP(DA43,'Footnotes list'!$D$9:$E$58,2,FALSE) ) )","v":""},{"$f":"IF(AND(TRIM(DC41)=\"\",TRIM(DC42)=\"\"),\"\",DC41+DC42)","v":93078.846000000005},null,null,null,{"$f":"IF(TRIM(DF43)=\"\", \"\", IF(VLOOKUP(DF43,'Footnotes list'!$D$9:$E$58,2,FALSE)=0,\"\",VLOOKUP(DF43,'Footnotes list'!$D$9:$E$58,2,FALSE) ) )","v":""},{"$f":"IF(AND(TRIM(DH41)=\"\", TRIM(DH42)=\"\"), \"\", SUM(DH41,DH42) )","v":582445.00199999998},null,null,null,{"$f":"IF(TRIM(DK43)=\"\", \"\", IF(VLOOKUP(DK43,'Footnotes list'!$D$9:$E$58,2,FALSE)=0,\"\",VLOOKUP(DK43,'Footnotes list'!$D$9:$E$58,2,FALSE) ) )","v":""}]
[null,"W073",null,"Rubber wastes ",null,"Not applicable"]
[null,null,"W073",null,"NHAZ","Non-hazardous",196.755,null,null,null,{"$f":"IF(TRIM(J45)=\"\", \"\", IF(VLOOKUP(J45,'Footnotes list'!$D$9:$E$58,2,FALSE)=0,\"\",VLOOKUP(J45,'Footnotes list'!$D$9:$E$58,2,FALSE) ) )","v":""},43.393000000000001,null,null,null,{"$f":"IF(TRIM(O45)=\"\", \"\", IF(VLOOKUP(O45,'Footnotes list'!$D$9:$E$58,2,FALSE)=0,\"\",VLOOKUP(O45,'Footnotes list'!$D$9:$E$58,2,FALSE) ) )","v":""},39.276000000000003,null,null,null,{"$f":"IF(TRIM(T45)=\"\", \"\", IF(VLOOKUP(T45,'Footnotes list'!$D$9:$E$58,2,FALSE)=0,\"\",VLOOKUP(T45,'Footnotes list'!$D$9:$E$58,2,FALSE) ) )","v":""},0.87,null,null,null,{"$f":"IF(TRIM(Y45)=\"\", \"\", IF(VLOOKUP(Y45,'Footnotes list'!$D$9:$E$58,2,FALSE)=0,\"\",VLOOKUP(Y45,'Footnotes list'!$D$9:$E$58,2,FALSE) ) )","v":""},19.448,null,null,null,{"$f":"IF(TRIM(AD45)=\"\", \"\", IF(VLOOKUP(AD45,'Footnotes list'!$D$9:$E$58,2,FALSE)=0,\"\",VLOOKUP(AD45,'Footnotes list'!$D$9:$E$58,2,FALSE) ) )","v":""},0.56599999999999995,null,null,null,{"$f":"IF(TRIM(AI45)=\"\", \"\", IF(VLOOKUP(AI45,'Footnotes list'!$D$9:$E$58,2,FALSE)=0,\"\",VLOOKUP(AI45,'Footnotes list'!$D$9:$E$58,2,FALSE) ) )","v":""},0,null,null,null,{"$f":"IF(TRIM(AN45)=\"\", \"\", IF(VLOOKUP(AN45,'Footnotes list'!$D$9:$E$58,2,FALSE)=0,\"\",VLOOKUP(AN45,'Footnotes list'!$D$9:$E$58,2,FALSE) ) )","v":""},2485.8719999999998,null,null,null,{"$f":"IF(TRIM(AS45)=\"\", \"\", IF(VLOOKUP(AS45,'Footnotes list'!$D$9:$E$58,2,FALSE)=0,\"\",VLOOKUP(AS45,'Footnotes list'!$D$9:$E$58,2,FALSE) ) )","v":""},109.976,null,null,null,{"$f":"IF(TRIM(AX45)=\"\", \"\", IF(VLOOKUP(AX45,'Footnotes list'!$D$9:$E$58,2,FALSE)=0,\"\",VLOOKUP(AX45,'Footnotes list'!$D$9:$E$58,2,FALSE) ) )","v":""},78.131,null,null,null,{"$f":"IF(TRIM(BC45)=\"\", \"\", IF(VLOOKUP(BC45,'Footnotes list'!$D$9:$E$58,2,FALSE)=0,\"\",VLOOKUP(BC45,'Footnotes list'!$D$9:$E$58,2,FALSE) ) )","v":""},77.135999999999996,null,null,null,{"$f":"IF(TRIM(BH45)=\"\", \"\", IF(VLOOKUP(BH45,'Footnotes list'!$D$9:$E$58,2,FALSE)=0,\"\",VLOOKUP(BH45,'Footnotes list'!$D$9:$E$58,2,FALSE) ) )","v":""},92.680999999999997,null,null,null,{"$f":"IF(TRIM(BM45)=\"\", \"\", IF(VLOOKUP(BM45,'Footnotes list'!$D$9:$E$58,2,FALSE)=0,\"\",VLOOKUP(BM45,'Footnotes list'!$D$9:$E$58,2,FALSE) ) )","v":""},{"$f":"IF(AND(TRIM(Q45)=\"\",TRIM(V45)=\"\",TRIM(AA45)=\"\", TRIM(AF45)=\"\", TRIM(AK45)=\"\", TRIM(AP45)=\"\", TRIM(AU45)=\"\", TRIM(AZ45)=\"\", TRIM(BE45)=\"\", TRIM(BJ45)=\"\"),\"\",Q45+V45+AA45+AF45+AK45+AP45+AU45+AZ45+BE45+BJ45)","v":2903.9560000000001},null,null,null,{"$f":"IF(TRIM(BR45)=\"\", \"\", IF(VLOOKUP(BR45,'Footnotes list'!$D$9:$E$58,2,FALSE)=0,\"\",VLOOKUP(BR45,'Footnotes list'!$D$9:$E$58,2,FALSE) ) )","v":""},16.818000000000001,null,null,null,{"$f":"IF(TRIM(BW45)=\"\", \"\", IF(VLOOKUP(BW45,'Footnotes list'!$D$9:$E$58,2,FALSE)=0,\"\",VLOOKUP(BW45,'Footnotes list'!$D$9:$E$58,2,FALSE) ) )","v":""},9.24,null,null,null,{"$f":"IF(TRIM(CB45)=\"\", \"\", IF(VLOOKUP(CB45,'Footnotes list'!$D$9:$E$58,2,FALSE)=0,\"\",VLOOKUP(CB45,'Footnotes list'!$D$9:$E$58,2,FALSE) ) )","v":""},1905.6959999999999,null,null,null,{"$f":"IF(TRIM(CG45)=\"\", \"\", IF(VLOOKUP(CG45,'Footnotes list'!$D$9:$E$58,2,FALSE)=0,\"\",VLOOKUP(CG45,'Footnotes list'!$D$9:$E$58,2,FALSE) ) )","v":""},{"$f":"IF(AND(TRIM(BY45)=\"\",TRIM(CD45)=\"\"),\"\",BY45+CD45)","v":1914.9359999999999},null,null,null,{"$f":"IF(TRIM(CL45)=\"\", \"\", IF(VLOOKUP(CL45,'Footnotes list'!$D$9:$E$58,2,FALSE)=0,\"\",VLOOKUP(CL45,'Footnotes list'!$D$9:$E$58,2,FALSE) ) )","v":""},219.77099999999999,null,null,null,{"$f":"IF(TRIM(CQ45)=\"\", \"\", IF(VLOOKUP(CQ45,'Footnotes list'!$D$9:$E$58,2,FALSE)=0,\"\",VLOOKUP(CQ45,'Footnotes list'!$D$9:$E$58,2,FALSE) ) )","v":""},21466.359,null,null,null,{"$f":"IF(TRIM(CV45)=\"\", \"\", IF(VLOOKUP(CV45,'Footnotes list'!$D$9:$E$58,2,FALSE)=0,\"\",VLOOKUP(CV45,'Footnotes list'!$D$9:$E$58,2,FALSE) ) )","v":""},2.085,null,null,null,{"$f":"IF(TRIM(DA45)=\"\", \"\", IF(VLOOKUP(DA45,'Footnotes list'!$D$9:$E$58,2,FALSE)=0,\"\",VLOOKUP(DA45,'Footnotes list'!$D$9:$E$58,2,FALSE) ) )","v":""},2634.8359999999998,null,null,null,{"$f":"IF(TRIM(DF45)=\"\", \"\", IF(VLOOKUP(DF45,'Footnotes list'!$D$9:$E$58,2,FALSE)=0,\"\",VLOOKUP(DF45,'Footnotes list'!$D$9:$E$58,2,FALSE) ) )","v":""},{"$f":"IF(AND(TRIM(G45)=\"\",TRIM(L45)=\"\",TRIM(BO45)=\"\",TRIM(BT45)=\"\",TRIM(CI45)=\"\",TRIM(CN45)=\"\",TRIM(CS45)=\"\",TRIM(CX45)=\"\",TRIM(DC45)=\"\"),\"\",SUM(G45,L45,BO45,BT45,CI45,CN45,CS45,CX45,DC45))","v":29398.909},null,null,null,{"$f":"IF(TRIM(DK45)=\"\", \"\", IF(VLOOKUP(DK45,'Footnotes list'!$D$9:$E$58,2,FALSE)=0,\"\",VLOOKUP(DK45,'Footnotes list'!$D$9:$E$58,2,FALSE) ) )","v":""}]
[null,null,"W073",null,"HAZ_NHAZ","Total",{"$f":"IF(AND(TRIM(G44)=\"\",TRIM(G45)=\"\"),\"\",G44+G45)","v":196.755},null,null,null,{"$f":"IF(TRIM(J46)=\"\", \"\", IF(VLOOKUP(J46,'Footnotes list'!$D$9:$E$58,2,FALSE)=0,\"\",VLOOKUP(J46,'Footnotes list'!$D$9:$E$58,2,FALSE) ) )","v":""},{"$f":"IF(AND(TRIM(L44)=\"\",TRIM(L45)=\"\"),\"\",L44+L45)","v":43.393000000000001},null,null,null,{"$f":"IF(TRIM(O46)=\"\", \"\", IF(VLOOKUP(O46,'Footnotes list'!$D$9:$E$58,2,FALSE)=0,\"\",VLOOKUP(O46,'Footnotes list'!$D$9:$E$58,2,FALSE) ) )","v":""},{"$f":"IF(AND(TRIM(Q44)=\"\",TRIM(Q45)=\"\"),\"\",Q44+Q45)","v":39.276000000000003},null,null,null,{"$f":"IF(TRIM(T46)=\"\", \"\", IF(VLOOKUP(T46,'Footnotes list'!$D$9:$E$58,2,FALSE)=0,\"\",VLOOKUP(T46,'Footnotes list'!$D$9:$E$58,2,FALSE) ) )","v":""},{"$f":"IF(AND(TRIM(V44)=\"\",TRIM(V45)=\"\"),\"\",V44+V45)","v":0.87},null,null,null,{"$f":"IF(TRIM(Y46)=\"\", \"\", IF(VLOOKUP(Y46,'Footnotes list'!$D$9:$E$58,2,FALSE)=0,\"\",VLOOKUP(Y46,'Footnotes list'!$D$9:$E$58,2,FALSE) ) )","v":""},{"$f":"IF(AND(TRIM(AA44)=\"\",TRIM(AA45)=\"\"),\"\",AA44+AA45)","v":19.448},null,null,null,{"$f":"IF(TRIM(AD46)=\"\", \"\", IF(VLOOKUP(AD46,'Footnotes list'!$D$9:$E$58,2,FALSE)=0,\"\",VLOOKUP(AD46,'Footnotes list'!$D$9:$E$58,2,FALSE) ) )","v":""},{"$f":"IF(AND(TRIM(AF44)=\"\",TRIM(AF45)=\"\"),\"\",AF44+AF45)","v":0.56599999999999995},null,null,null,{"$f":"IF(TRIM(AI46)=\"\", \"\", IF(VLOOKUP(AI46,'Footnotes list'!$D$9:$E$58,2,FALSE)=0,\"\",VLOOKUP(AI46,'Footnotes list'!$D$9:$E$58,2,FALSE) ) )","v":""},{"$f":"IF(AND(TRIM(AK44)=\"\",TRIM(AK45)=\"\"),\"\",AK44+AK45)","v":0},null,null,null,{"$f":"IF(TRIM(AN46)=\"\", \"\", IF(VLOOKUP(AN46,'Footnotes list'!$D$9:$E$58,2,FALSE)=0,\"\",VLOOKUP(AN46,'Footnotes list'!$D$9:$E$58,2,FALSE) ) )","v":""},{"$f":"IF(AND(TRIM(AP44)=\"\",TRIM(AP45)=\"\"),\"\",AP44+AP45)","v":2485.8719999999998},null,null,null,{"$f":"IF(TRIM(AS46)=\"\", \"\", IF(VLOOKUP(AS46,'Footnotes list'!$D$9:$E$58,2,FALSE)=0,\"\",VLOOKUP(AS46,'Footnotes list'!$D$9:$E$58,2,FALSE) ) )","v":""},{"$f":"IF(AND(TRIM(AU44)=\"\",TRIM(AU45)=\"\"),\"\",AU44+AU45)","v":109.976},null,null,null,{"$f":"IF(TRIM(AX46)=\"\", \"\", IF(VLOOKUP(AX46,'Footnotes list'!$D$9:$E$58,2,FALSE)=0,\"\",VLOOKUP(AX46,'Footnotes list'!$D$9:$E$58,2,FALSE) ) )","v":""},{"$f":"IF(AND(TRIM(AZ44)=\"\",TRIM(AZ45)=\"\"),\"\",AZ44+AZ45)","v":78.131},null,null,null,{"$f":"IF(TRIM(BC46)=\"\", \"\", IF(VLOOKUP(BC46,'Footnotes list'!$D$9:$E$58,2,FALSE)=0,\"\",VLOOKUP(BC46,'Footnotes list'!$D$9:$E$58,2,FALSE) ) )","v":""},{"$f":"IF(AND(TRIM(BE44)=\"\",TRIM(BE45)=\"\"),\"\",BE44+BE45)","v":77.135999999999996},null,null,null,{"$f":"IF(TRIM(BH46)=\"\", \"\", IF(VLOOKUP(BH46,'Footnotes list'!$D$9:$E$58,2,FALSE)=0,\"\",VLOOKUP(BH46,'Footnotes list'!$D$9:$E$58,2,FALSE) ) )","v":""},{"$f":"IF(AND(TRIM(BJ44)=\"\",TRIM(BJ45)=\"\"),\"\",BJ44+BJ45)","v":92.680999999999997},null,null,null,{"$f":"IF(TRIM(BM46)=\"\", \"\", IF(VLOOKUP(BM46,'Footnotes list'!$D$9:$E$58,2,FALSE)=0,\"\",VLOOKUP(BM46,'Footnotes list'!$D$9:$E$58,2,FALSE) ) )","v":""},{"$f":"IF(AND(TRIM(BO44)=\"\", TRIM(BO45)=\"\"), \"\", (IF(ISNUMBER(BO44),BO44,0)+IF(ISNUMBER(BO45),BO45,0)))","v":2903.9560000000001},null,null,null,{"$f":"IF(TRIM(BR46)=\"\", \"\", IF(VLOOKUP(BR46,'Footnotes list'!$D$9:$E$58,2,FALSE)=0,\"\",VLOOKUP(BR46,'Footnotes list'!$D$9:$E$58,2,FALSE) ) )","v":""},{"$f":"IF(AND(TRIM(BT44)=\"\",TRIM(BT45)=\"\"),\"\",BT44+BT45)","v":16.818000000000001},null,null,null,{"$f":"IF(TRIM(BW46)=\"\", \"\", IF(VLOOKUP(BW46,'Footnotes list'!$D$9:$E$58,2,FALSE)=0,\"\",VLOOKUP(BW46,'Footnotes list'!$D$9:$E$58,2,FALSE) ) )","v":""},{"$f":"IF(AND(TRIM(BY44)=\"\",TRIM(BY45)=\"\"),\"\",BY44+BY45)","v":9.24},null,null,null,{"$f":"IF(TRIM(CB46)=\"\", \"\", IF(VLOOKUP(CB46,'Footnotes list'!$D$9:$E$58,2,FALSE)=0,\"\",VLOOKUP(CB46,'Footnotes list'!$D$9:$E$58,2,FALSE) ) )","v":""},{"$f":"IF(AND(TRIM(CD44)=\"\",TRIM(CD45)=\"\"),\"\",CD44+CD45)","v":1905.6959999999999},null,null,null,{"$f":"IF(TRIM(CG46)=\"\", \"\", IF(VLOOKUP(CG46,'Footnotes list'!$D$9:$E$58,2,FALSE)=0,\"\",VLOOKUP(CG46,'Footnotes list'!$D$9:$E$58,2,FALSE) ) )","v":""},{"$f":"IF(AND(TRIM(CI44)=\"\", TRIM(CI45)=\"\"), \"\", (IF(ISNUMBER(CI44),CI44,0)+IF(ISNUMBER(CI45),CI45,0)))","v":1914.9359999999999},null,null,null,{"$f":"IF(TRIM(CL46)=\"\", \"\", IF(VLOOKUP(CL46,'Footnotes list'!$D$9:$E$58,2,FALSE)=0,\"\",VLOOKUP(CL46,'Footnotes list'!$D$9:$E$58,2,FALSE) ) )","v":""},{"$f":"IF(AND(TRIM(CN44)=\"\",TRIM(CN45)=\"\"),\"\",CN44+CN45)","v":219.77099999999999},null,null,null,{"$f":"IF(TRIM(CQ46)=\"\", \"\", IF(VLOOKUP(CQ46,'Footnotes list'!$D$9:$E$58,2,FALSE)=0,\"\",VLOOKUP(CQ46,'Footnotes list'!$D$9:$E$58,2,FALSE) ) )","v":""},{"$f":"IF(AND(TRIM(CS44)=\"\",TRIM(CS45)=\"\"),\"\",CS44+CS45)","v":21466.359},null,null,null,{"$f":"IF(TRIM(CV46)=\"\", \"\", IF(VLOOKUP(CV46,'Footnotes list'!$D$9:$E$58,2,FALSE)=0,\"\",VLOOKUP(CV46,'Footnotes list'!$D$9:$E$58,2,FALSE) ) )","v":""},{"$f":"IF(AND(TRIM(CX44)=\"\",TRIM(CX45)=\"\"),\"\",CX44+CX45)","v":2.085},null,null,null,{"$f":"IF(TRIM(DA46)=\"\", \"\", IF(VLOOKUP(DA46,'Footnotes list'!$D$9:$E$58,2,FALSE)=0,\"\",VLOOKUP(DA46,'Footnotes list'!$D$9:$E$58,2,FALSE) ) )","v":""},{"$f":"IF(AND(TRIM(DC44)=\"\",TRIM(DC45)=\"\"),\"\",DC44+DC45)","v":2634.8359999999998},null,null,null,{"$f":"IF(TRIM(DF46)=\"\", \"\", IF(VLOOKUP(DF46,'Footnotes list'!$D$9:$E$58,2,FALSE)=0,\"\",VLOOKUP(DF46,'Footnotes list'!$D$9:$E$58,2,FALSE) ) )","v":""},{"$f":"IF(AND(TRIM(DH44)=\"\", TRIM(DH45)=\"\"), \"\", SUM(DH44,DH45) )","v":29398.909},null,null,null,{"$f":"IF(TRIM(DK46)=\"\", \"\", IF(VLOOKUP(DK46,'Footnotes list'!$D$9:$E$58,2,FALSE)=0,\"\",VLOOKUP(DK46,'Footnotes list'!$D$9:$E$58,2,FALSE) ) )","v":""}]
[null,"W074",null,"Plastic wastes ",null,"Not applicable"]
[null,null,"W074",null,"NHAZ","Non-hazardous",586.42999999999995,null,null,null,{"$f":"IF(TRIM(J48)=\"\", \"\", IF(VLOOKUP(J48,'Footnotes list'!$D$9:$E$58,2,FALSE)=0,\"\",VLOOKUP(J48,'Footnotes list'!$D$9:$E$58,2,FALSE) ) )","v":""},48.061999999999998,null,null,null,{"$f":"IF(TRIM(O48)=\"\", \"\", IF(VLOOKUP(O48,'Footnotes list'!$D$9:$E$58,2,FALSE)=0,\"\",VLOOKUP(O48,'Footnotes list'!$D$9:$E$58,2,FALSE) ) )","v":""},3831.7240000000002,null,null,null,{"$f":"IF(TRIM(T48)=\"\", \"\", IF(VLOOKUP(T48,'Footnotes list'!$D$9:$E$58,2,FALSE)=0,\"\",VLOOKUP(T48,'Footnotes list'!$D$9:$E$58,2,FALSE) ) )","v":""},231.93600000000001,null,null,null,{"$f":"IF(TRIM(Y48)=\"\", \"\", IF(VLOOKUP(Y48,'Footnotes list'!$D$9:$E$58,2,FALSE)=0,\"\",VLOOKUP(Y48,'Footnotes list'!$D$9:$E$58,2,FALSE) ) )","v":""},185.643,null,null,null,{"$f":"IF(TRIM(AD48)=\"\", \"\", IF(VLOOKUP(AD48,'Footnotes list'!$D$9:$E$58,2,FALSE)=0,\"\",VLOOKUP(AD48,'Footnotes list'!$D$9:$E$58,2,FALSE) ) )","v":""},1165.0530000000001,null,null,null,{"$f":"IF(TRIM(AI48)=\"\", \"\", IF(VLOOKUP(AI48,'Footnotes list'!$D$9:$E$58,2,FALSE)=0,\"\",VLOOKUP(AI48,'Footnotes list'!$D$9:$E$58,2,FALSE) ) )","v":""},12.5,null,null,null,{"$f":"IF(TRIM(AN48)=\"\", \"\", IF(VLOOKUP(AN48,'Footnotes list'!$D$9:$E$58,2,FALSE)=0,\"\",VLOOKUP(AN48,'Footnotes list'!$D$9:$E$58,2,FALSE) ) )","v":""},18293.517,null,null,null,{"$f":"IF(TRIM(AS48)=\"\", \"\", IF(VLOOKUP(AS48,'Footnotes list'!$D$9:$E$58,2,FALSE)=0,\"\",VLOOKUP(AS48,'Footnotes list'!$D$9:$E$58,2,FALSE) ) )","v":""},436.995,null,null,null,{"$f":"IF(TRIM(AX48)=\"\", \"\", IF(VLOOKUP(AX48,'Footnotes list'!$D$9:$E$58,2,FALSE)=0,\"\",VLOOKUP(AX48,'Footnotes list'!$D$9:$E$58,2,FALSE) ) )","v":""},1466.1769999999999,null,null,null,{"$f":"IF(TRIM(BC48)=\"\", \"\", IF(VLOOKUP(BC48,'Footnotes list'!$D$9:$E$58,2,FALSE)=0,\"\",VLOOKUP(BC48,'Footnotes list'!$D$9:$E$58,2,FALSE) ) )","v":""},1605.0360000000001,null,null,null,{"$f":"IF(TRIM(BH48)=\"\", \"\", IF(VLOOKUP(BH48,'Footnotes list'!$D$9:$E$58,2,FALSE)=0,\"\",VLOOKUP(BH48,'Footnotes list'!$D$9:$E$58,2,FALSE) ) )","v":""},680.10900000000004,null,null,null,{"$f":"IF(TRIM(BM48)=\"\", \"\", IF(VLOOKUP(BM48,'Footnotes list'!$D$9:$E$58,2,FALSE)=0,\"\",VLOOKUP(BM48,'Footnotes list'!$D$9:$E$58,2,FALSE) ) )","v":""},{"$f":"IF(AND(TRIM(Q48)=\"\",TRIM(V48)=\"\",TRIM(AA48)=\"\", TRIM(AF48)=\"\", TRIM(AK48)=\"\", TRIM(AP48)=\"\", TRIM(AU48)=\"\", TRIM(AZ48)=\"\", TRIM(BE48)=\"\", TRIM(BJ48)=\"\"),\"\",Q48+V48+AA48+AF48+AK48+AP48+AU48+AZ48+BE48+BJ48)","v":27908.69},null,null,null,{"$f":"IF(TRIM(BR48)=\"\", \"\", IF(VLOOKUP(BR48,'Footnotes list'!$D$9:$E$58,2,FALSE)=0,\"\",VLOOKUP(BR48,'Footnotes list'!$D$9:$E$58,2,FALSE) ) )","v":""},94.984999999999999,null,null,null,{"$f":"IF(TRIM(BW48)=\"\", \"\", IF(VLOOKUP(BW48,'Footnotes list'!$D$9:$E$58,2,FALSE)=0,\"\",VLOOKUP(BW48,'Footnotes list'!$D$9:$E$58,2,FALSE) ) )","v":""},17.09,null,null,null,{"$f":"IF(TRIM(CB48)=\"\", \"\", IF(VLOOKUP(CB48,'Footnotes list'!$D$9:$E$58,2,FALSE)=0,\"\",VLOOKUP(CB48,'Footnotes list'!$D$9:$E$58,2,FALSE) ) )","v":""},118161.652,null,null,null,{"$f":"IF(TRIM(CG48)=\"\", \"\", IF(VLOOKUP(CG48,'Footnotes list'!$D$9:$E$58,2,FALSE)=0,\"\",VLOOKUP(CG48,'Footnotes list'!$D$9:$E$58,2,FALSE) ) )","v":""},{"$f":"IF(AND(TRIM(BY48)=\"\",TRIM(CD48)=\"\"),\"\",BY48+CD48)","v":118178.742},null,null,null,{"$f":"IF(TRIM(CL48)=\"\", \"\", IF(VLOOKUP(CL48,'Footnotes list'!$D$9:$E$58,2,FALSE)=0,\"\",VLOOKUP(CL48,'Footnotes list'!$D$9:$E$58,2,FALSE) ) )","v":""},1763.173,null,null,null,{"$f":"IF(TRIM(CQ48)=\"\", \"\", IF(VLOOKUP(CQ48,'Footnotes list'!$D$9:$E$58,2,FALSE)=0,\"\",VLOOKUP(CQ48,'Footnotes list'!$D$9:$E$58,2,FALSE) ) )","v":""},44892.391000000003,null,null,null,{"$f":"IF(TRIM(CV48)=\"\", \"\", IF(VLOOKUP(CV48,'Footnotes list'!$D$9:$E$58,2,FALSE)=0,\"\",VLOOKUP(CV48,'Footnotes list'!$D$9:$E$58,2,FALSE) ) )","v":""},371.00200000000001,null,null,null,{"$f":"IF(TRIM(DA48)=\"\", \"\", IF(VLOOKUP(DA48,'Footnotes list'!$D$9:$E$58,2,FALSE)=0,\"\",VLOOKUP(DA48,'Footnotes list'!$D$9:$E$58,2,FALSE) ) )","v":""},66931.692999999999,null,null,null,{"$f":"IF(TRIM(DF48)=\"\", \"\", IF(VLOOKUP(DF48,'Footnotes list'!$D$9:$E$58,2,FALSE)=0,\"\",VLOOKUP(DF48,'Footnotes list'!$D$9:$E$58,2,FALSE) ) )","v":""},{"$f":"IF(AND(TRIM(G48)=\"\",TRIM(L48)=\"\",TRIM(BO48)=\"\",TRIM(BT48)=\"\",TRIM(CI48)=\"\",TRIM(CN48)=\"\",TRIM(CS48)=\"\",TRIM(CX48)=\"\",TRIM(DC48)=\"\"),\"\",SUM(G48,L48,BO48,BT48,CI48,CN48,CS48,CX48,DC48))","v":260775.16800000001},null,null,null,{"$f":"IF(TRIM(DK48)=\"\", \"\", IF(VLOOKUP(DK48,'Footnotes list'!$D$9:$E$58,2,FALSE)=0,\"\",VLOOKUP(DK48,'Footnotes list'!$D$9:$E$58,2,FALSE) ) )","v":""}]
[null,null,"W074",null,"HAZ_NHAZ","Total",{"$f":"IF(AND(TRIM(G47)=\"\",TRIM(G48)=\"\"),\"\",G47+G48)","v":586.42999999999995},null,null,null,{"$f":"IF(TRIM(J49)=\"\", \"\", IF(VLOOKUP(J49,'Footnotes list'!$D$9:$E$58,2,FALSE)=0,\"\",VLOOKUP(J49,'Footnotes list'!$D$9:$E$58,2,FALSE) ) )","v":""},{"$f":"IF(AND(TRIM(L47)=\"\",TRIM(L48)=\"\"),\"\",L47+L48)","v":48.061999999999998},null,null,null,{"$f":"IF(TRIM(O49)=\"\", \"\", IF(VLOOKUP(O49,'Footnotes list'!$D$9:$E$58,2,FALSE)=0,\"\",VLOOKUP(O49,'Footnotes list'!$D$9:$E$58,2,FALSE) ) )","v":""},{"$f":"IF(AND(TRIM(Q47)=\"\",TRIM(Q48)=\"\"),\"\",Q47+Q48)","v":3831.7240000000002},null,null,null,{"$f":"IF(TRIM(T49)=\"\", \"\", IF(VLOOKUP(T49,'Footnotes list'!$D$9:$E$58,2,FALSE)=0,\"\",VLOOKUP(T49,'Footnotes list'!$D$9:$E$58,2,FALSE) ) )","v":""},{"$f":"IF(AND(TRIM(V47)=\"\",TRIM(V48)=\"\"),\"\",V47+V48)","v":231.93600000000001},null,null,null,{"$f":"IF(TRIM(Y49)=\"\", \"\", IF(VLOOKUP(Y49,'Footnotes list'!$D$9:$E$58,2,FALSE)=0,\"\",VLOOKUP(Y49,'Footnotes list'!$D$9:$E$58,2,FALSE) ) )","v":""},{"$f":"IF(AND(TRIM(AA47)=\"\",TRIM(AA48)=\"\"),\"\",AA47+AA48)","v":185.643},null,null,null,{"$f":"IF(TRIM(AD49)=\"\", \"\", IF(VLOOKUP(AD49,'Footnotes list'!$D$9:$E$58,2,FALSE)=0,\"\",VLOOKUP(AD49,'Footnotes list'!$D$9:$E$58,2,FALSE) ) )","v":""},{"$f":"IF(AND(TRIM(AF47)=\"\",TRIM(AF48)=\"\"),\"\",AF47+AF48)","v":1165.0530000000001},null,null,null,{"$f":"IF(TRIM(AI49)=\"\", \"\", IF(VLOOKUP(AI49,'Footnotes list'!$D$9:$E$58,2,FALSE)=0,\"\",VLOOKUP(AI49,'Footnotes list'!$D$9:$E$58,2,FALSE) ) )","v":""},{"$f":"IF(AND(TRIM(AK47)=\"\",TRIM(AK48)=\"\"),\"\",AK47+AK48)","v":12.5},null,null,null,{"$f":"IF(TRIM(AN49)=\"\", \"\", IF(VLOOKUP(AN49,'Footnotes list'!$D$9:$E$58,2,FALSE)=0,\"\",VLOOKUP(AN49,'Footnotes list'!$D$9:$E$58,2,FALSE) ) )","v":""},{"$f":"IF(AND(TRIM(AP47)=\"\",TRIM(AP48)=\"\"),\"\",AP47+AP48)","v":18293.517},null,null,null,{"$f":"IF(TRIM(AS49)=\"\", \"\", IF(VLOOKUP(AS49,'Footnotes list'!$D$9:$E$58,2,FALSE)=0,\"\",VLOOKUP(AS49,'Footnotes list'!$D$9:$E$58,2,FALSE) ) )","v":""},{"$f":"IF(AND(TRIM(AU47)=\"\",TRIM(AU48)=\"\"),\"\",AU47+AU48)","v":436.995},null,null,null,{"$f":"IF(TRIM(AX49)=\"\", \"\", IF(VLOOKUP(AX49,'Footnotes list'!$D$9:$E$58,2,FALSE)=0,\"\",VLOOKUP(AX49,'Footnotes list'!$D$9:$E$58,2,FALSE) ) )","v":""},{"$f":"IF(AND(TRIM(AZ47)=\"\",TRIM(AZ48)=\"\"),\"\",AZ47+AZ48)","v":1466.1769999999999},null,null,null,{"$f":"IF(TRIM(BC49)=\"\", \"\", IF(VLOOKUP(BC49,'Footnotes list'!$D$9:$E$58,2,FALSE)=0,\"\",VLOOKUP(BC49,'Footnotes list'!$D$9:$E$58,2,FALSE) ) )","v":""},{"$f":"IF(AND(TRIM(BE47)=\"\",TRIM(BE48)=\"\"),\"\",BE47+BE48)","v":1605.0360000000001},null,null,null,{"$f":"IF(TRIM(BH49)=\"\", \"\", IF(VLOOKUP(BH49,'Footnotes list'!$D$9:$E$58,2,FALSE)=0,\"\",VLOOKUP(BH49,'Footnotes list'!$D$9:$E$58,2,FALSE) ) )","v":""},{"$f":"IF(AND(TRIM(BJ47)=\"\",TRIM(BJ48)=\"\"),\"\",BJ47+BJ48)","v":680.10900000000004},null,null,null,{"$f":"IF(TRIM(BM49)=\"\", \"\", IF(VLOOKUP(BM49,'Footnotes list'!$D$9:$E$58,2,FALSE)=0,\"\",VLOOKUP(BM49,'Footnotes list'!$D$9:$E$58,2,FALSE) ) )","v":""},{"$f":"IF(AND(TRIM(BO47)=\"\", TRIM(BO48)=\"\"), \"\", (IF(ISNUMBER(BO47),BO47,0)+IF(ISNUMBER(BO48),BO48,0)))","v":27908.69},null,null,null,{"$f":"IF(TRIM(BR49)=\"\", \"\", IF(VLOOKUP(BR49,'Footnotes list'!$D$9:$E$58,2,FALSE)=0,\"\",VLOOKUP(BR49,'Footnotes list'!$D$9:$E$58,2,FALSE) ) )","v":""},{"$f":"IF(AND(TRIM(BT47)=\"\",TRIM(BT48)=\"\"),\"\",BT47+BT48)","v":94.984999999999999},null,null,null,{"$f":"IF(TRIM(BW49)=\"\", \"\", IF(VLOOKUP(BW49,'Footnotes list'!$D$9:$E$58,2,FALSE)=0,\"\",VLOOKUP(BW49,'Footnotes list'!$D$9:$E$58,2,FALSE) ) )","v":""},{"$f":"IF(AND(TRIM(BY47)=\"\",TRIM(BY48)=\"\"),\"\",BY47+BY48)","v":17.09},null,null,null,{"$f":"IF(TRIM(CB49)=\"\", \"\", IF(VLOOKUP(CB49,'Footnotes list'!$D$9:$E$58,2,FALSE)=0,\"\",VLOOKUP(CB49,'Footnotes list'!$D$9:$E$58,2,FALSE) ) )","v":""},{"$f":"IF(AND(TRIM(CD47)=\"\",TRIM(CD48)=\"\"),\"\",CD47+CD48)","v":118161.652},null,null,null,{"$f":"IF(TRIM(CG49)=\"\", \"\", IF(VLOOKUP(CG49,'Footnotes list'!$D$9:$E$58,2,FALSE)=0,\"\",VLOOKUP(CG49,'Footnotes list'!$D$9:$E$58,2,FALSE) ) )","v":""},{"$f":"IF(AND(TRIM(CI47)=\"\", TRIM(CI48)=\"\"), \"\", (IF(ISNUMBER(CI47),CI47,0)+IF(ISNUMBER(CI48),CI48,0)))","v":118178.742},null,null,null,{"$f":"IF(TRIM(CL49)=\"\", \"\", IF(VLOOKUP(CL49,'Footnotes list'!$D$9:$E$58,2,FALSE)=0,\"\",VLOOKUP(CL49,'Footnotes list'!$D$9:$E$58,2,FALSE) ) )","v":""},{"$f":"IF(AND(TRIM(CN47)=\"\",TRIM(CN48)=\"\"),\"\",CN47+CN48)","v":1763.173},null,null,null,{"$f":"IF(TRIM(CQ49)=\"\", \"\", IF(VLOOKUP(CQ49,'Footnotes list'!$D$9:$E$58,2,FALSE)=0,\"\",VLOOKUP(CQ49,'Footnotes list'!$D$9:$E$58,2,FALSE) ) )","v":""},{"$f":"IF(AND(TRIM(CS47)=\"\",TRIM(CS48)=\"\"),\"\",CS47+CS48)","v":44892.391000000003},null,null,null,{"$f":"IF(TRIM(CV49)=\"\", \"\", IF(VLOOKUP(CV49,'Footnotes list'!$D$9:$E$58,2,FALSE)=0,\"\",VLOOKUP(CV49,'Footnotes list'!$D$9:$E$58,2,FALSE) ) )","v":""},{"$f":"IF(AND(TRIM(CX47)=\"\",TRIM(CX48)=\"\"),\"\",CX47+CX48)","v":371.00200000000001},null,null,null,{"$f":"IF(TRIM(DA49)=\"\", \"\", IF(VLOOKUP(DA49,'Footnotes list'!$D$9:$E$58,2,FALSE)=0,\"\",VLOOKUP(DA49,'Footnotes list'!$D$9:$E$58,2,FALSE) ) )","v":""},{"$f":"IF(AND(TRIM(DC47)=\"\",TRIM(DC48)=\"\"),\"\",DC47+DC48)","v":66931.692999999999},null,null,null,{"$f":"IF(TRIM(DF49)=\"\", \"\", IF(VLOOKUP(DF49,'Footnotes list'!$D$9:$E$58,2,FALSE)=0,\"\",VLOOKUP(DF49,'Footnotes list'!$D$9:$E$58,2,FALSE) ) )","v":""},{"$f":"IF(AND(TRIM(DH47)=\"\", TRIM(DH48)=\"\"), \"\", SUM(DH47,DH48) )","v":260775.16800000001},null,null,null,{"$f":"IF(TRIM(DK49)=\"\", \"\", IF(VLOOKUP(DK49,'Footnotes list'!$D$9:$E$58,2,FALSE)=0,\"\",VLOOKUP(DK49,'Footnotes list'!$D$9:$E$58,2,FALSE) ) )","v":""}]
[null,"W075","W075","Wood wastes ","HAZ","Hazardous ",0,null,null,null,{"$f":"IF(TRIM(J50)=\"\", \"\", IF(VLOOKUP(J50,'Footnotes list'!$D$9:$E$58,2,FALSE)=0,\"\",VLOOKUP(J50,'Footnotes list'!$D$9:$E$58,2,FALSE) ) )","v":""},0,null,null,null,{"$f":"IF(TRIM(O50)=\"\", \"\", IF(VLOOKUP(O50,'Footnotes list'!$D$9:$E$58,2,FALSE)=0,\"\",VLOOKUP(O50,'Footnotes list'!$D$9:$E$58,2,FALSE) ) )","v":""},0,null,null,null,{"$f":"IF(TRIM(T50)=\"\", \"\", IF(VLOOKUP(T50,'Footnotes list'!$D$9:$E$58,2,FALSE)=0,\"\",VLOOKUP(T50,'Footnotes list'!$D$9:$E$58,2,FALSE) ) )","v":""},0,null,null,null,{"$f":"IF(TRIM(Y50)=\"\", \"\", IF(VLOOKUP(Y50,'Footnotes list'!$D$9:$E$58,2,FALSE)=0,\"\",VLOOKUP(Y50,'Footnotes list'!$D$9:$E$58,2,FALSE) ) )","v":""},1.093,null,null,null,{"$f":"IF(TRIM(AD50)=\"\", \"\", IF(VLOOKUP(AD50,'Footnotes list'!$D$9:$E$58,2,FALSE)=0,\"\",VLOOKUP(AD50,'Footnotes list'!$D$9:$E$58,2,FALSE) ) )","v":""},0,null,null,null,{"$f":"IF(TRIM(AI50)=\"\", \"\", IF(VLOOKUP(AI50,'Footnotes list'!$D$9:$E$58,2,FALSE)=0,\"\",VLOOKUP(AI50,'Footnotes list'!$D$9:$E$58,2,FALSE) ) )","v":""},0,null,null,null,{"$f":"IF(TRIM(AN50)=\"\", \"\", IF(VLOOKUP(AN50,'Footnotes list'!$D$9:$E$58,2,FALSE)=0,\"\",VLOOKUP(AN50,'Footnotes list'!$D$9:$E$58,2,FALSE) ) )","v":""},11.532,null,null,null,{"$f":"IF(TRIM(AS50)=\"\", \"\", IF(VLOOKUP(AS50,'Footnotes list'!$D$9:$E$58,2,FALSE)=0,\"\",VLOOKUP(AS50,'Footnotes list'!$D$9:$E$58,2,FALSE) ) )","v":""},0,null,null,null,{"$f":"IF(TRIM(AX50)=\"\", \"\", IF(VLOOKUP(AX50,'Footnotes list'!$D$9:$E$58,2,FALSE)=0,\"\",VLOOKUP(AX50,'Footnotes list'!$D$9:$E$58,2,FALSE) ) )","v":""},1.57,null,null,null,{"$f":"IF(TRIM(BC50)=\"\", \"\", IF(VLOOKUP(BC50,'Footnotes list'!$D$9:$E$58,2,FALSE)=0,\"\",VLOOKUP(BC50,'Footnotes list'!$D$9:$E$58,2,FALSE) ) )","v":""},6.1319999999999997,null,null,null,{"$f":"IF(TRIM(BH50)=\"\", \"\", IF(VLOOKUP(BH50,'Footnotes list'!$D$9:$E$58,2,FALSE)=0,\"\",VLOOKUP(BH50,'Footnotes list'!$D$9:$E$58,2,FALSE) ) )","v":""},3.5999999999999997E-2,null,null,null,{"$f":"IF(TRIM(BM50)=\"\", \"\", IF(VLOOKUP(BM50,'Footnotes list'!$D$9:$E$58,2,FALSE)=0,\"\",VLOOKUP(BM50,'Footnotes list'!$D$9:$E$58,2,FALSE) ) )","v":""},{"$f":"IF(AND(TRIM(Q50)=\"\",TRIM(V50)=\"\",TRIM(AA50)=\"\", TRIM(AF50)=\"\", TRIM(AK50)=\"\", TRIM(AP50)=\"\", TRIM(AU50)=\"\", TRIM(AZ50)=\"\", TRIM(BE50)=\"\", TRIM(BJ50)=\"\"),\"\",Q50+V50+AA50+AF50+AK50+AP50+AU50+AZ50+BE50+BJ50)","v":20.363},null,null,null,{"$f":"IF(TRIM(BR50)=\"\", \"\", IF(VLOOKUP(BR50,'Footnotes list'!$D$9:$E$58,2,FALSE)=0,\"\",VLOOKUP(BR50,'Footnotes list'!$D$9:$E$58,2,FALSE) ) )","v":""},0,null,null,null,{"$f":"IF(TRIM(BW50)=\"\", \"\", IF(VLOOKUP(BW50,'Footnotes list'!$D$9:$E$58,2,FALSE)=0,\"\",VLOOKUP(BW50,'Footnotes list'!$D$9:$E$58,2,FALSE) ) )","v":""},0,null,null,null,{"$f":"IF(TRIM(CB50)=\"\", \"\", IF(VLOOKUP(CB50,'Footnotes list'!$D$9:$E$58,2,FALSE)=0,\"\",VLOOKUP(CB50,'Footnotes list'!$D$9:$E$58,2,FALSE) ) )","v":""},3.1949999999999998,null,null,null,{"$f":"IF(TRIM(CG50)=\"\", \"\", IF(VLOOKUP(CG50,'Footnotes list'!$D$9:$E$58,2,FALSE)=0,\"\",VLOOKUP(CG50,'Footnotes list'!$D$9:$E$58,2,FALSE) ) )","v":""},{"$f":"IF(AND(TRIM(BY50)=\"\",TRIM(CD50)=\"\"),\"\",BY50+CD50)","v":3.1949999999999998},null,null,null,{"$f":"IF(TRIM(CL50)=\"\", \"\", IF(VLOOKUP(CL50,'Footnotes list'!$D$9:$E$58,2,FALSE)=0,\"\",VLOOKUP(CL50,'Footnotes list'!$D$9:$E$58,2,FALSE) ) )","v":""},13.55,null,null,null,{"$f":"IF(TRIM(CQ50)=\"\", \"\", IF(VLOOKUP(CQ50,'Footnotes list'!$D$9:$E$58,2,FALSE)=0,\"\",VLOOKUP(CQ50,'Footnotes list'!$D$9:$E$58,2,FALSE) ) )","v":""},32.533000000000001,null,null,null,{"$f":"IF(TRIM(CV50)=\"\", \"\", IF(VLOOKUP(CV50,'Footnotes list'!$D$9:$E$58,2,FALSE)=0,\"\",VLOOKUP(CV50,'Footnotes list'!$D$9:$E$58,2,FALSE) ) )","v":""},0,null,null,null,{"$f":"IF(TRIM(DA50)=\"\", \"\", IF(VLOOKUP(DA50,'Footnotes list'!$D$9:$E$58,2,FALSE)=0,\"\",VLOOKUP(DA50,'Footnotes list'!$D$9:$E$58,2,FALSE) ) )","v":""},30.917000000000002,null,null,null,{"$f":"IF(TRIM(DF50)=\"\", \"\", IF(VLOOKUP(DF50,'Footnotes list'!$D$9:$E$58,2,FALSE)=0,\"\",VLOOKUP(DF50,'Footnotes list'!$D$9:$E$58,2,FALSE) ) )","v":""},{"$f":"IF(AND(TRIM(G50)=\"\",TRIM(L50)=\"\",TRIM(BO50)=\"\",TRIM(BT50)=\"\",TRIM(CI50)=\"\",TRIM(CN50)=\"\",TRIM(CS50)=\"\",TRIM(CX50)=\"\",TRIM(DC50)=\"\"),\"\",SUM(G50,L50,BO50,BT50,CI50,CN50,CS50,CX50,DC50))","v":100.55800000000001},null,null,null,{"$f":"IF(TRIM(DK50)=\"\", \"\", IF(VLOOKUP(DK50,'Footnotes list'!$D$9:$E$58,2,FALSE)=0,\"\",VLOOKUP(DK50,'Footnotes list'!$D$9:$E$58,2,FALSE) ) )","v":""}]
[null,null,"W075",null,"NHAZ","Non-hazardous",215.24,null,null,null,{"$f":"IF(TRIM(J51)=\"\", \"\", IF(VLOOKUP(J51,'Footnotes list'!$D$9:$E$58,2,FALSE)=0,\"\",VLOOKUP(J51,'Footnotes list'!$D$9:$E$58,2,FALSE) ) )","v":""},89.09,null,null,null,{"$f":"IF(TRIM(O51)=\"\", \"\", IF(VLOOKUP(O51,'Footnotes list'!$D$9:$E$58,2,FALSE)=0,\"\",VLOOKUP(O51,'Footnotes list'!$D$9:$E$58,2,FALSE) ) )","v":""},1009.835,null,null,null,{"$f":"IF(TRIM(T51)=\"\", \"\", IF(VLOOKUP(T51,'Footnotes list'!$D$9:$E$58,2,FALSE)=0,\"\",VLOOKUP(T51,'Footnotes list'!$D$9:$E$58,2,FALSE) ) )","v":""},230.07,null,null,null,{"$f":"IF(TRIM(Y51)=\"\", \"\", IF(VLOOKUP(Y51,'Footnotes list'!$D$9:$E$58,2,FALSE)=0,\"\",VLOOKUP(Y51,'Footnotes list'!$D$9:$E$58,2,FALSE) ) )","v":""},43260.226999999999,null,null,null,{"$f":"IF(TRIM(AD51)=\"\", \"\", IF(VLOOKUP(AD51,'Footnotes list'!$D$9:$E$58,2,FALSE)=0,\"\",VLOOKUP(AD51,'Footnotes list'!$D$9:$E$58,2,FALSE) ) )","v":""},260.00200000000001,null,null,null,{"$f":"IF(TRIM(AI51)=\"\", \"\", IF(VLOOKUP(AI51,'Footnotes list'!$D$9:$E$58,2,FALSE)=0,\"\",VLOOKUP(AI51,'Footnotes list'!$D$9:$E$58,2,FALSE) ) )","v":""},99.11,null,null,null,{"$f":"IF(TRIM(AN51)=\"\", \"\", IF(VLOOKUP(AN51,'Footnotes list'!$D$9:$E$58,2,FALSE)=0,\"\",VLOOKUP(AN51,'Footnotes list'!$D$9:$E$58,2,FALSE) ) )","v":""},1475.884,null,null,null,{"$f":"IF(TRIM(AS51)=\"\", \"\", IF(VLOOKUP(AS51,'Footnotes list'!$D$9:$E$58,2,FALSE)=0,\"\",VLOOKUP(AS51,'Footnotes list'!$D$9:$E$58,2,FALSE) ) )","v":""},471.56,null,null,null,{"$f":"IF(TRIM(AX51)=\"\", \"\", IF(VLOOKUP(AX51,'Footnotes list'!$D$9:$E$58,2,FALSE)=0,\"\",VLOOKUP(AX51,'Footnotes list'!$D$9:$E$58,2,FALSE) ) )","v":""},1468.623,null,null,null,{"$f":"IF(TRIM(BC51)=\"\", \"\", IF(VLOOKUP(BC51,'Footnotes list'!$D$9:$E$58,2,FALSE)=0,\"\",VLOOKUP(BC51,'Footnotes list'!$D$9:$E$58,2,FALSE) ) )","v":""},3195.3389999999999,null,null,null,{"$f":"IF(TRIM(BH51)=\"\", \"\", IF(VLOOKUP(BH51,'Footnotes list'!$D$9:$E$58,2,FALSE)=0,\"\",VLOOKUP(BH51,'Footnotes list'!$D$9:$E$58,2,FALSE) ) )","v":""},8084.3779999999997,null,null,null,{"$f":"IF(TRIM(BM51)=\"\", \"\", IF(VLOOKUP(BM51,'Footnotes list'!$D$9:$E$58,2,FALSE)=0,\"\",VLOOKUP(BM51,'Footnotes list'!$D$9:$E$58,2,FALSE) ) )","v":""},{"$f":"IF(AND(TRIM(Q51)=\"\",TRIM(V51)=\"\",TRIM(AA51)=\"\", TRIM(AF51)=\"\", TRIM(AK51)=\"\", TRIM(AP51)=\"\", TRIM(AU51)=\"\", TRIM(AZ51)=\"\", TRIM(BE51)=\"\", TRIM(BJ51)=\"\"),\"\",Q51+V51+AA51+AF51+AK51+AP51+AU51+AZ51+BE51+BJ51)","v":59555.027999999998},null,null,null,{"$f":"IF(TRIM(BR51)=\"\", \"\", IF(VLOOKUP(BR51,'Footnotes list'!$D$9:$E$58,2,FALSE)=0,\"\",VLOOKUP(BR51,'Footnotes list'!$D$9:$E$58,2,FALSE) ) )","v":""},787.048,null,null,null,{"$f":"IF(TRIM(BW51)=\"\", \"\", IF(VLOOKUP(BW51,'Footnotes list'!$D$9:$E$58,2,FALSE)=0,\"\",VLOOKUP(BW51,'Footnotes list'!$D$9:$E$58,2,FALSE) ) )","v":""},169.262,null,null,null,{"$f":"IF(TRIM(CB51)=\"\", \"\", IF(VLOOKUP(CB51,'Footnotes list'!$D$9:$E$58,2,FALSE)=0,\"\",VLOOKUP(CB51,'Footnotes list'!$D$9:$E$58,2,FALSE) ) )","v":""},61719.754000000001,null,null,null,{"$f":"IF(TRIM(CG51)=\"\", \"\", IF(VLOOKUP(CG51,'Footnotes list'!$D$9:$E$58,2,FALSE)=0,\"\",VLOOKUP(CG51,'Footnotes list'!$D$9:$E$58,2,FALSE) ) )","v":""},{"$f":"IF(AND(TRIM(BY51)=\"\",TRIM(CD51)=\"\"),\"\",BY51+CD51)","v":61889.016000000003},null,null,null,{"$f":"IF(TRIM(CL51)=\"\", \"\", IF(VLOOKUP(CL51,'Footnotes list'!$D$9:$E$58,2,FALSE)=0,\"\",VLOOKUP(CL51,'Footnotes list'!$D$9:$E$58,2,FALSE) ) )","v":""},17150.11,null,null,null,{"$f":"IF(TRIM(CQ51)=\"\", \"\", IF(VLOOKUP(CQ51,'Footnotes list'!$D$9:$E$58,2,FALSE)=0,\"\",VLOOKUP(CQ51,'Footnotes list'!$D$9:$E$58,2,FALSE) ) )","v":""},5407.9930000000004,null,null,null,{"$f":"IF(TRIM(CV51)=\"\", \"\", IF(VLOOKUP(CV51,'Footnotes list'!$D$9:$E$58,2,FALSE)=0,\"\",VLOOKUP(CV51,'Footnotes list'!$D$9:$E$58,2,FALSE) ) )","v":""},1246.55,null,null,null,{"$f":"IF(TRIM(DA51)=\"\", \"\", IF(VLOOKUP(DA51,'Footnotes list'!$D$9:$E$58,2,FALSE)=0,\"\",VLOOKUP(DA51,'Footnotes list'!$D$9:$E$58,2,FALSE) ) )","v":""},27110.035,null,null,null,{"$f":"IF(TRIM(DF51)=\"\", \"\", IF(VLOOKUP(DF51,'Footnotes list'!$D$9:$E$58,2,FALSE)=0,\"\",VLOOKUP(DF51,'Footnotes list'!$D$9:$E$58,2,FALSE) ) )","v":""},{"$f":"IF(AND(TRIM(G51)=\"\",TRIM(L51)=\"\",TRIM(BO51)=\"\",TRIM(BT51)=\"\",TRIM(CI51)=\"\",TRIM(CN51)=\"\",TRIM(CS51)=\"\",TRIM(CX51)=\"\",TRIM(DC51)=\"\"),\"\",SUM(G51,L51,BO51,BT51,CI51,CN51,CS51,CX51,DC51))","v":173450.11},null,null,null,{"$f":"IF(TRIM(DK51)=\"\", \"\", IF(VLOOKUP(DK51,'Footnotes list'!$D$9:$E$58,2,FALSE)=0,\"\",VLOOKUP(DK51,'Footnotes list'!$D$9:$E$58,2,FALSE) ) )","v":""}]
[null,null,"W075",null,"HAZ_NHAZ","Total",{"$f":"IF(AND(TRIM(G50)=\"\",TRIM(G51)=\"\"),\"\",G50+G51)","v":215.24},null,null,null,{"$f":"IF(TRIM(J52)=\"\", \"\", IF(VLOOKUP(J52,'Footnotes list'!$D$9:$E$58,2,FALSE)=0,\"\",VLOOKUP(J52,'Footnotes list'!$D$9:$E$58,2,FALSE) ) )","v":""},{"$f":"IF(AND(TRIM(L50)=\"\",TRIM(L51)=\"\"),\"\",L50+L51)","v":89.09},null,null,null,{"$f":"IF(TRIM(O52)=\"\", \"\", IF(VLOOKUP(O52,'Footnotes list'!$D$9:$E$58,2,FALSE)=0,\"\",VLOOKUP(O52,'Footnotes list'!$D$9:$E$58,2,FALSE) ) )","v":""},{"$f":"IF(AND(TRIM(Q50)=\"\",TRIM(Q51)=\"\"),\"\",Q50+Q51)","v":1009.835},null,null,null,{"$f":"IF(TRIM(T52)=\"\", \"\", IF(VLOOKUP(T52,'Footnotes list'!$D$9:$E$58,2,FALSE)=0,\"\",VLOOKUP(T52,'Footnotes list'!$D$9:$E$58,2,FALSE) ) )","v":""},{"$f":"IF(AND(TRIM(V50)=\"\",TRIM(V51)=\"\"),\"\",V50+V51)","v":230.07},null,null,null,{"$f":"IF(TRIM(Y52)=\"\", \"\", IF(VLOOKUP(Y52,'Footnotes list'!$D$9:$E$58,2,FALSE)=0,\"\",VLOOKUP(Y52,'Footnotes list'!$D$9:$E$58,2,FALSE) ) )","v":""},{"$f":"IF(AND(TRIM(AA50)=\"\",TRIM(AA51)=\"\"),\"\",AA50+AA51)","v":43261.32},null,null,null,{"$f":"IF(TRIM(AD52)=\"\", \"\", IF(VLOOKUP(AD52,'Footnotes list'!$D$9:$E$58,2,FALSE)=0,\"\",VLOOKUP(AD52,'Footnotes list'!$D$9:$E$58,2,FALSE) ) )","v":""},{"$f":"IF(AND(TRIM(AF50)=\"\",TRIM(AF51)=\"\"),\"\",AF50+AF51)","v":260.00200000000001},null,null,null,{"$f":"IF(TRIM(AI52)=\"\", \"\", IF(VLOOKUP(AI52,'Footnotes list'!$D$9:$E$58,2,FALSE)=0,\"\",VLOOKUP(AI52,'Footnotes list'!$D$9:$E$58,2,FALSE) ) )","v":""},{"$f":"IF(AND(TRIM(AK50)=\"\",TRIM(AK51)=\"\"),\"\",AK50+AK51)","v":99.11},null,null,null,{"$f":"IF(TRIM(AN52)=\"\", \"\", IF(VLOOKUP(AN52,'Footnotes list'!$D$9:$E$58,2,FALSE)=0,\"\",VLOOKUP(AN52,'Footnotes list'!$D$9:$E$58,2,FALSE) ) )","v":""},{"$f":"IF(AND(TRIM(AP50)=\"\",TRIM(AP51)=\"\"),\"\",AP50+AP51)","v":1487.4159999999999},null,null,null,{"$f":"IF(TRIM(AS52)=\"\", \"\", IF(VLOOKUP(AS52,'Footnotes list'!$D$9:$E$58,2,FALSE)=0,\"\",VLOOKUP(AS52,'Footnotes list'!$D$9:$E$58,2,FALSE) ) )","v":""},{"$f":"IF(AND(TRIM(AU50)=\"\",TRIM(AU51)=\"\"),\"\",AU50+AU51)","v":471.56},null,null,null,{"$f":"IF(TRIM(AX52)=\"\", \"\", IF(VLOOKUP(AX52,'Footnotes list'!$D$9:$E$58,2,FALSE)=0,\"\",VLOOKUP(AX52,'Footnotes list'!$D$9:$E$58,2,FALSE) ) )","v":""},{"$f":"IF(AND(TRIM(AZ50)=\"\",TRIM(AZ51)=\"\"),\"\",AZ50+AZ51)","v":1470.193},null,null,null,{"$f":"IF(TRIM(BC52)=\"\", \"\", IF(VLOOKUP(BC52,'Footnotes list'!$D$9:$E$58,2,FALSE)=0,\"\",VLOOKUP(BC52,'Footnotes list'!$D$9:$E$58,2,FALSE) ) )","v":""},{"$f":"IF(AND(TRIM(BE50)=\"\",TRIM(BE51)=\"\"),\"\",BE50+BE51)","v":3201.471},null,null,null,{"$f":"IF(TRIM(BH52)=\"\", \"\", IF(VLOOKUP(BH52,'Footnotes list'!$D$9:$E$58,2,FALSE)=0,\"\",VLOOKUP(BH52,'Footnotes list'!$D$9:$E$58,2,FALSE) ) )","v":""},{"$f":"IF(AND(TRIM(BJ50)=\"\",TRIM(BJ51)=\"\"),\"\",BJ50+BJ51)","v":8084.4139999999998},null,null,null,{"$f":"IF(TRIM(BM52)=\"\", \"\", IF(VLOOKUP(BM52,'Footnotes list'!$D$9:$E$58,2,FALSE)=0,\"\",VLOOKUP(BM52,'Footnotes list'!$D$9:$E$58,2,FALSE) ) )","v":""},{"$f":"IF(AND(TRIM(BO50)=\"\", TRIM(BO51)=\"\"), \"\", (IF(ISNUMBER(BO50),BO50,0)+IF(ISNUMBER(BO51),BO51,0)))","v":59575.391000000003},null,null,null,{"$f":"IF(TRIM(BR52)=\"\", \"\", IF(VLOOKUP(BR52,'Footnotes list'!$D$9:$E$58,2,FALSE)=0,\"\",VLOOKUP(BR52,'Footnotes list'!$D$9:$E$58,2,FALSE) ) )","v":""},{"$f":"IF(AND(TRIM(BT50)=\"\",TRIM(BT51)=\"\"),\"\",BT50+BT51)","v":787.048},null,null,null,{"$f":"IF(TRIM(BW52)=\"\", \"\", IF(VLOOKUP(BW52,'Footnotes list'!$D$9:$E$58,2,FALSE)=0,\"\",VLOOKUP(BW52,'Footnotes list'!$D$9:$E$58,2,FALSE) ) )","v":""},{"$f":"IF(AND(TRIM(BY50)=\"\",TRIM(BY51)=\"\"),\"\",BY50+BY51)","v":169.262},null,null,null,{"$f":"IF(TRIM(CB52)=\"\", \"\", IF(VLOOKUP(CB52,'Footnotes list'!$D$9:$E$58,2,FALSE)=0,\"\",VLOOKUP(CB52,'Footnotes list'!$D$9:$E$58,2,FALSE) ) )","v":""},{"$f":"IF(AND(TRIM(CD50)=\"\",TRIM(CD51)=\"\"),\"\",CD50+CD51)","v":61722.949000000001},null,null,null,{"$f":"IF(TRIM(CG52)=\"\", \"\", IF(VLOOKUP(CG52,'Footnotes list'!$D$9:$E$58,2,FALSE)=0,\"\",VLOOKUP(CG52,'Footnotes list'!$D$9:$E$58,2,FALSE) ) )","v":""},{"$f":"IF(AND(TRIM(CI50)=\"\", TRIM(CI51)=\"\"), \"\", (IF(ISNUMBER(CI50),CI50,0)+IF(ISNUMBER(CI51),CI51,0)))","v":61892.211000000003},null,null,null,{"$f":"IF(TRIM(CL52)=\"\", \"\", IF(VLOOKUP(CL52,'Footnotes list'!$D$9:$E$58,2,FALSE)=0,\"\",VLOOKUP(CL52,'Footnotes list'!$D$9:$E$58,2,FALSE) ) )","v":""},{"$f":"IF(AND(TRIM(CN50)=\"\",TRIM(CN51)=\"\"),\"\",CN50+CN51)","v":17163.66},null,null,null,{"$f":"IF(TRIM(CQ52)=\"\", \"\", IF(VLOOKUP(CQ52,'Footnotes list'!$D$9:$E$58,2,FALSE)=0,\"\",VLOOKUP(CQ52,'Footnotes list'!$D$9:$E$58,2,FALSE) ) )","v":""},{"$f":"IF(AND(TRIM(CS50)=\"\",TRIM(CS51)=\"\"),\"\",CS50+CS51)","v":5440.5259999999998},null,null,null,{"$f":"IF(TRIM(CV52)=\"\", \"\", IF(VLOOKUP(CV52,'Footnotes list'!$D$9:$E$58,2,FALSE)=0,\"\",VLOOKUP(CV52,'Footnotes list'!$D$9:$E$58,2,FALSE) ) )","v":""},{"$f":"IF(AND(TRIM(CX50)=\"\",TRIM(CX51)=\"\"),\"\",CX50+CX51)","v":1246.55},null,null,null,{"$f":"IF(TRIM(DA52)=\"\", \"\", IF(VLOOKUP(DA52,'Footnotes list'!$D$9:$E$58,2,FALSE)=0,\"\",VLOOKUP(DA52,'Footnotes list'!$D$9:$E$58,2,FALSE) ) )","v":""},{"$f":"IF(AND(TRIM(DC50)=\"\",TRIM(DC51)=\"\"),\"\",DC50+DC51)","v":27140.952000000001},null,null,null,{"$f":"IF(TRIM(DF52)=\"\", \"\", IF(VLOOKUP(DF52,'Footnotes list'!$D$9:$E$58,2,FALSE)=0,\"\",VLOOKUP(DF52,'Footnotes list'!$D$9:$E$58,2,FALSE) ) )","v":""},{"$f":"IF(AND(TRIM(DH50)=\"\", TRIM(DH51)=\"\"), \"\", SUM(DH50,DH51) )","v":173550.66800000001},null,null,null,{"$f":"IF(TRIM(DK52)=\"\", \"\", IF(VLOOKUP(DK52,'Footnotes list'!$D$9:$E$58,2,FALSE)=0,\"\",VLOOKUP(DK52,'Footnotes list'!$D$9:$E$58,2,FALSE) ) )","v":""}]
[null,"W076",null,"Textile wastes ",null,"Not applicable"]
[null,null,"W076",null,"NHAZ","Non-hazardous",3.5000000000000003E-2,null,null,null,{"$f":"IF(TRIM(J54)=\"\", \"\", IF(VLOOKUP(J54,'Footnotes list'!$D$9:$E$58,2,FALSE)=0,\"\",VLOOKUP(J54,'Footnotes list'!$D$9:$E$58,2,FALSE) ) )","v":""},0,null,null,null,{"$f":"IF(TRIM(O54)=\"\", \"\", IF(VLOOKUP(O54,'Footnotes list'!$D$9:$E$58,2,FALSE)=0,\"\",VLOOKUP(O54,'Footnotes list'!$D$9:$E$58,2,FALSE) ) )","v":""},16.065000000000001,null,null,null,{"$f":"IF(TRIM(T54)=\"\", \"\", IF(VLOOKUP(T54,'Footnotes list'!$D$9:$E$58,2,FALSE)=0,\"\",VLOOKUP(T54,'Footnotes list'!$D$9:$E$58,2,FALSE) ) )","v":""},2848.3690000000001,null,null,null,{"$f":"IF(TRIM(Y54)=\"\", \"\", IF(VLOOKUP(Y54,'Footnotes list'!$D$9:$E$58,2,FALSE)=0,\"\",VLOOKUP(Y54,'Footnotes list'!$D$9:$E$58,2,FALSE) ) )","v":""},2.5999999999999999E-2,null,null,null,{"$f":"IF(TRIM(AD54)=\"\", \"\", IF(VLOOKUP(AD54,'Footnotes list'!$D$9:$E$58,2,FALSE)=0,\"\",VLOOKUP(AD54,'Footnotes list'!$D$9:$E$58,2,FALSE) ) )","v":""},8.3030000000000008,null,null,null,{"$f":"IF(TRIM(AI54)=\"\", \"\", IF(VLOOKUP(AI54,'Footnotes list'!$D$9:$E$58,2,FALSE)=0,\"\",VLOOKUP(AI54,'Footnotes list'!$D$9:$E$58,2,FALSE) ) )","v":""},0,null,null,null,{"$f":"IF(TRIM(AN54)=\"\", \"\", IF(VLOOKUP(AN54,'Footnotes list'!$D$9:$E$58,2,FALSE)=0,\"\",VLOOKUP(AN54,'Footnotes list'!$D$9:$E$58,2,FALSE) ) )","v":""},2289.3510000000001,null,null,null,{"$f":"IF(TRIM(AS54)=\"\", \"\", IF(VLOOKUP(AS54,'Footnotes list'!$D$9:$E$58,2,FALSE)=0,\"\",VLOOKUP(AS54,'Footnotes list'!$D$9:$E$58,2,FALSE) ) )","v":""},22,null,null,null,{"$f":"IF(TRIM(AX54)=\"\", \"\", IF(VLOOKUP(AX54,'Footnotes list'!$D$9:$E$58,2,FALSE)=0,\"\",VLOOKUP(AX54,'Footnotes list'!$D$9:$E$58,2,FALSE) ) )","v":""},8.2200000000000006,null,null,null,{"$f":"IF(TRIM(BC54)=\"\", \"\", IF(VLOOKUP(BC54,'Footnotes list'!$D$9:$E$58,2,FALSE)=0,\"\",VLOOKUP(BC54,'Footnotes list'!$D$9:$E$58,2,FALSE) ) )","v":""},147.26,null,null,null,{"$f":"IF(TRIM(BH54)=\"\", \"\", IF(VLOOKUP(BH54,'Footnotes list'!$D$9:$E$58,2,FALSE)=0,\"\",VLOOKUP(BH54,'Footnotes list'!$D$9:$E$58,2,FALSE) ) )","v":""},167.024,null,null,null,{"$f":"IF(TRIM(BM54)=\"\", \"\", IF(VLOOKUP(BM54,'Footnotes list'!$D$9:$E$58,2,FALSE)=0,\"\",VLOOKUP(BM54,'Footnotes list'!$D$9:$E$58,2,FALSE) ) )","v":""},{"$f":"IF(AND(TRIM(Q54)=\"\",TRIM(V54)=\"\",TRIM(AA54)=\"\", TRIM(AF54)=\"\", TRIM(AK54)=\"\", TRIM(AP54)=\"\", TRIM(AU54)=\"\", TRIM(AZ54)=\"\", TRIM(BE54)=\"\", TRIM(BJ54)=\"\"),\"\",Q54+V54+AA54+AF54+AK54+AP54+AU54+AZ54+BE54+BJ54)","v":5506.6180000000004},null,null,null,{"$f":"IF(TRIM(BR54)=\"\", \"\", IF(VLOOKUP(BR54,'Footnotes list'!$D$9:$E$58,2,FALSE)=0,\"\",VLOOKUP(BR54,'Footnotes list'!$D$9:$E$58,2,FALSE) ) )","v":""},0.27600000000000002,null,null,null,{"$f":"IF(TRIM(BW54)=\"\", \"\", IF(VLOOKUP(BW54,'Footnotes list'!$D$9:$E$58,2,FALSE)=0,\"\",VLOOKUP(BW54,'Footnotes list'!$D$9:$E$58,2,FALSE) ) )","v":""},0,null,null,null,{"$f":"IF(TRIM(CB54)=\"\", \"\", IF(VLOOKUP(CB54,'Footnotes list'!$D$9:$E$58,2,FALSE)=0,\"\",VLOOKUP(CB54,'Footnotes list'!$D$9:$E$58,2,FALSE) ) )","v":""},738.91,null,null,null,{"$f":"IF(TRIM(CG54)=\"\", \"\", IF(VLOOKUP(CG54,'Footnotes list'!$D$9:$E$58,2,FALSE)=0,\"\",VLOOKUP(CG54,'Footnotes list'!$D$9:$E$58,2,FALSE) ) )","v":""},{"$f":"IF(AND(TRIM(BY54)=\"\",TRIM(CD54)=\"\"),\"\",BY54+CD54)","v":738.91},null,null,null,{"$f":"IF(TRIM(CL54)=\"\", \"\", IF(VLOOKUP(CL54,'Footnotes list'!$D$9:$E$58,2,FALSE)=0,\"\",VLOOKUP(CL54,'Footnotes list'!$D$9:$E$58,2,FALSE) ) )","v":""},570.08199999999999,null,null,null,{"$f":"IF(TRIM(CQ54)=\"\", \"\", IF(VLOOKUP(CQ54,'Footnotes list'!$D$9:$E$58,2,FALSE)=0,\"\",VLOOKUP(CQ54,'Footnotes list'!$D$9:$E$58,2,FALSE) ) )","v":""},879.85400000000004,null,null,null,{"$f":"IF(TRIM(CV54)=\"\", \"\", IF(VLOOKUP(CV54,'Footnotes list'!$D$9:$E$58,2,FALSE)=0,\"\",VLOOKUP(CV54,'Footnotes list'!$D$9:$E$58,2,FALSE) ) )","v":""},0,null,null,null,{"$f":"IF(TRIM(DA54)=\"\", \"\", IF(VLOOKUP(DA54,'Footnotes list'!$D$9:$E$58,2,FALSE)=0,\"\",VLOOKUP(DA54,'Footnotes list'!$D$9:$E$58,2,FALSE) ) )","v":""},4667.6289999999999,null,null,null,{"$f":"IF(TRIM(DF54)=\"\", \"\", IF(VLOOKUP(DF54,'Footnotes list'!$D$9:$E$58,2,FALSE)=0,\"\",VLOOKUP(DF54,'Footnotes list'!$D$9:$E$58,2,FALSE) ) )","v":""},{"$f":"IF(AND(TRIM(G54)=\"\",TRIM(L54)=\"\",TRIM(BO54)=\"\",TRIM(BT54)=\"\",TRIM(CI54)=\"\",TRIM(CN54)=\"\",TRIM(CS54)=\"\",TRIM(CX54)=\"\",TRIM(DC54)=\"\"),\"\",SUM(G54,L54,BO54,BT54,CI54,CN54,CS54,CX54,DC54))","v":12363.404},null,null,null,{"$f":"IF(TRIM(DK54)=\"\", \"\", IF(VLOOKUP(DK54,'Footnotes list'!$D$9:$E$58,2,FALSE)=0,\"\",VLOOKUP(DK54,'Footnotes list'!$D$9:$E$58,2,FALSE) ) )","v":""}]
[null,null,"W076",null,"HAZ_NHAZ","Total",{"$f":"IF(AND(TRIM(G53)=\"\",TRIM(G54)=\"\"),\"\",G53+G54)","v":3.5000000000000003E-2},null,null,null,{"$f":"IF(TRIM(J55)=\"\", \"\", IF(VLOOKUP(J55,'Footnotes list'!$D$9:$E$58,2,FALSE)=0,\"\",VLOOKUP(J55,'Footnotes list'!$D$9:$E$58,2,FALSE) ) )","v":""},{"$f":"IF(AND(TRIM(L53)=\"\",TRIM(L54)=\"\"),\"\",L53+L54)","v":0},null,null,null,{"$f":"IF(TRIM(O55)=\"\", \"\", IF(VLOOKUP(O55,'Footnotes list'!$D$9:$E$58,2,FALSE)=0,\"\",VLOOKUP(O55,'Footnotes list'!$D$9:$E$58,2,FALSE) ) )","v":""},{"$f":"IF(AND(TRIM(Q53)=\"\",TRIM(Q54)=\"\"),\"\",Q53+Q54)","v":16.065000000000001},null,null,null,{"$f":"IF(TRIM(T55)=\"\", \"\", IF(VLOOKUP(T55,'Footnotes list'!$D$9:$E$58,2,FALSE)=0,\"\",VLOOKUP(T55,'Footnotes list'!$D$9:$E$58,2,FALSE) ) )","v":""},{"$f":"IF(AND(TRIM(V53)=\"\",TRIM(V54)=\"\"),\"\",V53+V54)","v":2848.3690000000001},null,null,null,{"$f":"IF(TRIM(Y55)=\"\", \"\", IF(VLOOKUP(Y55,'Footnotes list'!$D$9:$E$58,2,FALSE)=0,\"\",VLOOKUP(Y55,'Footnotes list'!$D$9:$E$58,2,FALSE) ) )","v":""},{"$f":"IF(AND(TRIM(AA53)=\"\",TRIM(AA54)=\"\"),\"\",AA53+AA54)","v":2.5999999999999999E-2},null,null,null,{"$f":"IF(TRIM(AD55)=\"\", \"\", IF(VLOOKUP(AD55,'Footnotes list'!$D$9:$E$58,2,FALSE)=0,\"\",VLOOKUP(AD55,'Footnotes list'!$D$9:$E$58,2,FALSE) ) )","v":""},{"$f":"IF(AND(TRIM(AF53)=\"\",TRIM(AF54)=\"\"),\"\",AF53+AF54)","v":8.3030000000000008},null,null,null,{"$f":"IF(TRIM(AI55)=\"\", \"\", IF(VLOOKUP(AI55,'Footnotes list'!$D$9:$E$58,2,FALSE)=0,\"\",VLOOKUP(AI55,'Footnotes list'!$D$9:$E$58,2,FALSE) ) )","v":""},{"$f":"IF(AND(TRIM(AK53)=\"\",TRIM(AK54)=\"\"),\"\",AK53+AK54)","v":0},null,null,null,{"$f":"IF(TRIM(AN55)=\"\", \"\", IF(VLOOKUP(AN55,'Footnotes list'!$D$9:$E$58,2,FALSE)=0,\"\",VLOOKUP(AN55,'Footnotes list'!$D$9:$E$58,2,FALSE) ) )","v":""},{"$f":"IF(AND(TRIM(AP53)=\"\",TRIM(AP54)=\"\"),\"\",AP53+AP54)","v":2289.3510000000001},null,null,null,{"$f":"IF(TRIM(AS55)=\"\", \"\", IF(VLOOKUP(AS55,'Footnotes list'!$D$9:$E$58,2,FALSE)=0,\"\",VLOOKUP(AS55,'Footnotes list'!$D$9:$E$58,2,FALSE) ) )","v":""},{"$f":"IF(AND(TRIM(AU53)=\"\",TRIM(AU54)=\"\"),\"\",AU53+AU54)","v":22},null,null,null,{"$f":"IF(TRIM(AX55)=\"\", \"\", IF(VLOOKUP(AX55,'Footnotes list'!$D$9:$E$58,2,FALSE)=0,\"\",VLOOKUP(AX55,'Footnotes list'!$D$9:$E$58,2,FALSE) ) )","v":""},{"$f":"IF(AND(TRIM(AZ53)=\"\",TRIM(AZ54)=\"\"),\"\",AZ53+AZ54)","v":8.2200000000000006},null,null,null,{"$f":"IF(TRIM(BC55)=\"\", \"\", IF(VLOOKUP(BC55,'Footnotes list'!$D$9:$E$58,2,FALSE)=0,\"\",VLOOKUP(BC55,'Footnotes list'!$D$9:$E$58,2,FALSE) ) )","v":""},{"$f":"IF(AND(TRIM(BE53)=\"\",TRIM(BE54)=\"\"),\"\",BE53+BE54)","v":147.26},null,null,null,{"$f":"IF(TRIM(BH55)=\"\", \"\", IF(VLOOKUP(BH55,'Footnotes list'!$D$9:$E$58,2,FALSE)=0,\"\",VLOOKUP(BH55,'Footnotes list'!$D$9:$E$58,2,FALSE) ) )","v":""},{"$f":"IF(AND(TRIM(BJ53)=\"\",TRIM(BJ54)=\"\"),\"\",BJ53+BJ54)","v":167.024},null,null,null,{"$f":"IF(TRIM(BM55)=\"\", \"\", IF(VLOOKUP(BM55,'Footnotes list'!$D$9:$E$58,2,FALSE)=0,\"\",VLOOKUP(BM55,'Footnotes list'!$D$9:$E$58,2,FALSE) ) )","v":""},{"$f":"IF(AND(TRIM(BO53)=\"\", TRIM(BO54)=\"\"), \"\", (IF(ISNUMBER(BO53),BO53,0)+IF(ISNUMBER(BO54),BO54,0)))","v":5506.6180000000004},null,null,null,{"$f":"IF(TRIM(BR55)=\"\", \"\", IF(VLOOKUP(BR55,'Footnotes list'!$D$9:$E$58,2,FALSE)=0,\"\",VLOOKUP(BR55,'Footnotes list'!$D$9:$E$58,2,FALSE) ) )","v":""},{"$f":"IF(AND(TRIM(BT53)=\"\",TRIM(BT54)=\"\"),\"\",BT53+BT54)","v":0.27600000000000002},null,null,null,{"$f":"IF(TRIM(BW55)=\"\", \"\", IF(VLOOKUP(BW55,'Footnotes list'!$D$9:$E$58,2,FALSE)=0,\"\",VLOOKUP(BW55,'Footnotes list'!$D$9:$E$58,2,FALSE) ) )","v":""},{"$f":"IF(AND(TRIM(BY53)=\"\",TRIM(BY54)=\"\"),\"\",BY53+BY54)","v":0},null,null,null,{"$f":"IF(TRIM(CB55)=\"\", \"\", IF(VLOOKUP(CB55,'Footnotes list'!$D$9:$E$58,2,FALSE)=0,\"\",VLOOKUP(CB55,'Footnotes list'!$D$9:$E$58,2,FALSE) ) )","v":""},{"$f":"IF(AND(TRIM(CD53)=\"\",TRIM(CD54)=\"\"),\"\",CD53+CD54)","v":738.91},null,null,null,{"$f":"IF(TRIM(CG55)=\"\", \"\", IF(VLOOKUP(CG55,'Footnotes list'!$D$9:$E$58,2,FALSE)=0,\"\",VLOOKUP(CG55,'Footnotes list'!$D$9:$E$58,2,FALSE) ) )","v":""},{"$f":"IF(AND(TRIM(CI53)=\"\", TRIM(CI54)=\"\"), \"\", (IF(ISNUMBER(CI53),CI53,0)+IF(ISNUMBER(CI54),CI54,0)))","v":738.91},null,null,null,{"$f":"IF(TRIM(CL55)=\"\", \"\", IF(VLOOKUP(CL55,'Footnotes list'!$D$9:$E$58,2,FALSE)=0,\"\",VLOOKUP(CL55,'Footnotes list'!$D$9:$E$58,2,FALSE) ) )","v":""},{"$f":"IF(AND(TRIM(CN53)=\"\",TRIM(CN54)=\"\"),\"\",CN53+CN54)","v":570.08199999999999},null,null,null,{"$f":"IF(TRIM(CQ55)=\"\", \"\", IF(VLOOKUP(CQ55,'Footnotes list'!$D$9:$E$58,2,FALSE)=0,\"\",VLOOKUP(CQ55,'Footnotes list'!$D$9:$E$58,2,FALSE) ) )","v":""},{"$f":"IF(AND(TRIM(CS53)=\"\",TRIM(CS54)=\"\"),\"\",CS53+CS54)","v":879.85400000000004},null,null,null,{"$f":"IF(TRIM(CV55)=\"\", \"\", IF(VLOOKUP(CV55,'Footnotes list'!$D$9:$E$58,2,FALSE)=0,\"\",VLOOKUP(CV55,'Footnotes list'!$D$9:$E$58,2,FALSE) ) )","v":""},{"$f":"IF(AND(TRIM(CX53)=\"\",TRIM(CX54)=\"\"),\"\",CX53+CX54)","v":0},null,null,null,{"$f":"IF(TRIM(DA55)=\"\", \"\", IF(VLOOKUP(DA55,'Footnotes list'!$D$9:$E$58,2,FALSE)=0,\"\",VLOOKUP(DA55,'Footnotes list'!$D$9:$E$58,2,FALSE) ) )","v":""},{"$f":"IF(AND(TRIM(DC53)=\"\",TRIM(DC54)=\"\"),\"\",DC53+DC54)","v":4667.6289999999999},null,null,null,{"$f":"IF(TRIM(DF55)=\"\", \"\", IF(VLOOKUP(DF55,'Footnotes list'!$D$9:$E$58,2,FALSE)=0,\"\",VLOOKUP(DF55,'Footnotes list'!$D$9:$E$58,2,FALSE) ) )","v":""},{"$f":"IF(AND(TRIM(DH53)=\"\", TRIM(DH54)=\"\"), \"\", SUM(DH53,DH54) )","v":12363.404},null,null,null,{"$f":"IF(TRIM(DK55)=\"\", \"\", IF(VLOOKUP(DK55,'Footnotes list'!$D$9:$E$58,2,FALSE)=0,\"\",VLOOKUP(DK55,'Footnotes list'!$D$9:$E$58,2,FALSE) ) )","v":""}]
[null,"W077","W077","Waste containing PCB ","HAZ","Hazardous ",0,null,null,null,{"$f":"IF(TRIM(J56)=\"\", \"\", IF(VLOOKUP(J56,'Footnotes list'!$D$9:$E$58,2,FALSE)=0,\"\",VLOOKUP(J56,'Footnotes list'!$D$9:$E$58,2,FALSE) ) )","v":""},0,null,null,null,{"$f":"IF(TRIM(O56)=\"\", \"\", IF(VLOOKUP(O56,'Footnotes list'!$D$9:$E$58,2,FALSE)=0,\"\",VLOOKUP(O56,'Footnotes list'!$D$9:$E$58,2,FALSE) ) )","v":""},0,null,null,null,{"$f":"IF(TRIM(T56)=\"\", \"\", IF(VLOOKUP(T56,'Footnotes list'!$D$9:$E$58,2,FALSE)=0,\"\",VLOOKUP(T56,'Footnotes list'!$D$9:$E$58,2,FALSE) ) )","v":""},1.42,null,null,null,{"$f":"IF(TRIM(Y56)=\"\", \"\", IF(VLOOKUP(Y56,'Footnotes list'!$D$9:$E$58,2,FALSE)=0,\"\",VLOOKUP(Y56,'Footnotes list'!$D$9:$E$58,2,FALSE) ) )","v":""},0,null,null,null,{"$f":"IF(TRIM(AD56)=\"\", \"\", IF(VLOOKUP(AD56,'Footnotes list'!$D$9:$E$58,2,FALSE)=0,\"\",VLOOKUP(AD56,'Footnotes list'!$D$9:$E$58,2,FALSE) ) )","v":""},0,null,null,null,{"$f":"IF(TRIM(AI56)=\"\", \"\", IF(VLOOKUP(AI56,'Footnotes list'!$D$9:$E$58,2,FALSE)=0,\"\",VLOOKUP(AI56,'Footnotes list'!$D$9:$E$58,2,FALSE) ) )","v":""},0,null,null,null,{"$f":"IF(TRIM(AN56)=\"\", \"\", IF(VLOOKUP(AN56,'Footnotes list'!$D$9:$E$58,2,FALSE)=0,\"\",VLOOKUP(AN56,'Footnotes list'!$D$9:$E$58,2,FALSE) ) )","v":""},0,null,null,null,{"$f":"IF(TRIM(AS56)=\"\", \"\", IF(VLOOKUP(AS56,'Footnotes list'!$D$9:$E$58,2,FALSE)=0,\"\",VLOOKUP(AS56,'Footnotes list'!$D$9:$E$58,2,FALSE) ) )","v":""},1.33,null,null,null,{"$f":"IF(TRIM(AX56)=\"\", \"\", IF(VLOOKUP(AX56,'Footnotes list'!$D$9:$E$58,2,FALSE)=0,\"\",VLOOKUP(AX56,'Footnotes list'!$D$9:$E$58,2,FALSE) ) )","v":""},33.103999999999999,null,null,null,{"$f":"IF(TRIM(BC56)=\"\", \"\", IF(VLOOKUP(BC56,'Footnotes list'!$D$9:$E$58,2,FALSE)=0,\"\",VLOOKUP(BC56,'Footnotes list'!$D$9:$E$58,2,FALSE) ) )","v":""},0.17,null,null,null,{"$f":"IF(TRIM(BH56)=\"\", \"\", IF(VLOOKUP(BH56,'Footnotes list'!$D$9:$E$58,2,FALSE)=0,\"\",VLOOKUP(BH56,'Footnotes list'!$D$9:$E$58,2,FALSE) ) )","v":""},0,null,null,null,{"$f":"IF(TRIM(BM56)=\"\", \"\", IF(VLOOKUP(BM56,'Footnotes list'!$D$9:$E$58,2,FALSE)=0,\"\",VLOOKUP(BM56,'Footnotes list'!$D$9:$E$58,2,FALSE) ) )","v":""},{"$f":"IF(AND(TRIM(Q56)=\"\",TRIM(V56)=\"\",TRIM(AA56)=\"\", TRIM(AF56)=\"\", TRIM(AK56)=\"\", TRIM(AP56)=\"\", TRIM(AU56)=\"\", TRIM(AZ56)=\"\", TRIM(BE56)=\"\", TRIM(BJ56)=\"\"),\"\",Q56+V56+AA56+AF56+AK56+AP56+AU56+AZ56+BE56+BJ56)","v":36.024000000000001},null,null,null,{"$f":"IF(TRIM(BR56)=\"\", \"\", IF(VLOOKUP(BR56,'Footnotes list'!$D$9:$E$58,2,FALSE)=0,\"\",VLOOKUP(BR56,'Footnotes list'!$D$9:$E$58,2,FALSE) ) )","v":""},3.7999999999999999E-2,null,null,null,{"$f":"IF(TRIM(BW56)=\"\", \"\", IF(VLOOKUP(BW56,'Footnotes list'!$D$9:$E$58,2,FALSE)=0,\"\",VLOOKUP(BW56,'Footnotes list'!$D$9:$E$58,2,FALSE) ) )","v":""},0,null,null,null,{"$f":"IF(TRIM(CB56)=\"\", \"\", IF(VLOOKUP(CB56,'Footnotes list'!$D$9:$E$58,2,FALSE)=0,\"\",VLOOKUP(CB56,'Footnotes list'!$D$9:$E$58,2,FALSE) ) )","v":""},0,null,null,null,{"$f":"IF(TRIM(CG56)=\"\", \"\", IF(VLOOKUP(CG56,'Footnotes list'!$D$9:$E$58,2,FALSE)=0,\"\",VLOOKUP(CG56,'Footnotes list'!$D$9:$E$58,2,FALSE) ) )","v":""},{"$f":"IF(AND(TRIM(BY56)=\"\",TRIM(CD56)=\"\"),\"\",BY56+CD56)","v":0},null,null,null,{"$f":"IF(TRIM(CL56)=\"\", \"\", IF(VLOOKUP(CL56,'Footnotes list'!$D$9:$E$58,2,FALSE)=0,\"\",VLOOKUP(CL56,'Footnotes list'!$D$9:$E$58,2,FALSE) ) )","v":""},0,null,null,null,{"$f":"IF(TRIM(CQ56)=\"\", \"\", IF(VLOOKUP(CQ56,'Footnotes list'!$D$9:$E$58,2,FALSE)=0,\"\",VLOOKUP(CQ56,'Footnotes list'!$D$9:$E$58,2,FALSE) ) )","v":""},2.75,null,null,null,{"$f":"IF(TRIM(CV56)=\"\", \"\", IF(VLOOKUP(CV56,'Footnotes list'!$D$9:$E$58,2,FALSE)=0,\"\",VLOOKUP(CV56,'Footnotes list'!$D$9:$E$58,2,FALSE) ) )","v":""},0,null,null,null,{"$f":"IF(TRIM(DA56)=\"\", \"\", IF(VLOOKUP(DA56,'Footnotes list'!$D$9:$E$58,2,FALSE)=0,\"\",VLOOKUP(DA56,'Footnotes list'!$D$9:$E$58,2,FALSE) ) )","v":""},0,null,null,null,{"$f":"IF(TRIM(DF56)=\"\", \"\", IF(VLOOKUP(DF56,'Footnotes list'!$D$9:$E$58,2,FALSE)=0,\"\",VLOOKUP(DF56,'Footnotes list'!$D$9:$E$58,2,FALSE) ) )","v":""},{"$f":"IF(AND(TRIM(G56)=\"\",TRIM(L56)=\"\",TRIM(BO56)=\"\",TRIM(BT56)=\"\",TRIM(CI56)=\"\",TRIM(CN56)=\"\",TRIM(CS56)=\"\",TRIM(CX56)=\"\",TRIM(DC56)=\"\"),\"\",SUM(G56,L56,BO56,BT56,CI56,CN56,CS56,CX56,DC56))","v":38.811999999999998},null,null,null,{"$f":"IF(TRIM(DK56)=\"\", \"\", IF(VLOOKUP(DK56,'Footnotes list'!$D$9:$E$58,2,FALSE)=0,\"\",VLOOKUP(DK56,'Footnotes list'!$D$9:$E$58,2,FALSE) ) )","v":""}]
[null,null,null,null,null,"Not applicable"]
[null,null,"W077",null,"HAZ_NHAZ","Total",{"$f":"IF(AND(TRIM(G56)=\"\",TRIM(G57)=\"\"),\"\",G56+G57)","v":0},null,null,null,{"$f":"IF(TRIM(J58)=\"\", \"\", IF(VLOOKUP(J58,'Footnotes list'!$D$9:$E$58,2,FALSE)=0,\"\",VLOOKUP(J58,'Footnotes list'!$D$9:$E$58,2,FALSE) ) )","v":""},{"$f":"IF(AND(TRIM(L56)=\"\",TRIM(L57)=\"\"),\"\",L56+L57)","v":0},null,null,null,{"$f":"IF(TRIM(O58)=\"\", \"\", IF(VLOOKUP(O58,'Footnotes list'!$D$9:$E$58,2,FALSE)=0,\"\",VLOOKUP(O58,'Footnotes list'!$D$9:$E$58,2,FALSE) ) )","v":""},{"$f":"IF(AND(TRIM(Q56)=\"\",TRIM(Q57)=\"\"),\"\",Q56+Q57)","v":0},null,null,null,{"$f":"IF(TRIM(T58)=\"\", \"\", IF(VLOOKUP(T58,'Footnotes list'!$D$9:$E$58,2,FALSE)=0,\"\",VLOOKUP(T58,'Footnotes list'!$D$9:$E$58,2,FALSE) ) )","v":""},{"$f":"IF(AND(TRIM(V56)=\"\",TRIM(V57)=\"\"),\"\",V56+V57)","v":1.42},null,null,null,{"$f":"IF(TRIM(Y58)=\"\", \"\", IF(VLOOKUP(Y58,'Footnotes list'!$D$9:$E$58,2,FALSE)=0,\"\",VLOOKUP(Y58,'Footnotes list'!$D$9:$E$58,2,FALSE) ) )","v":""},{"$f":"IF(AND(TRIM(AA56)=\"\",TRIM(AA57)=\"\"),\"\",AA56+AA57)","v":0},null,null,null,{"$f":"IF(TRIM(AD58)=\"\", \"\", IF(VLOOKUP(AD58,'Footnotes list'!$D$9:$E$58,2,FALSE)=0,\"\",VLOOKUP(AD58,'Footnotes list'!$D$9:$E$58,2,FALSE) ) )","v":""},{"$f":"IF(AND(TRIM(AF56)=\"\",TRIM(AF57)=\"\"),\"\",AF56+AF57)","v":0},null,null,null,{"$f":"IF(TRIM(AI58)=\"\", \"\", IF(VLOOKUP(AI58,'Footnotes list'!$D$9:$E$58,2,FALSE)=0,\"\",VLOOKUP(AI58,'Footnotes list'!$D$9:$E$58,2,FALSE) ) )","v":""},{"$f":"IF(AND(TRIM(AK56)=\"\",TRIM(AK57)=\"\"),\"\",AK56+AK57)","v":0},null,null,null,{"$f":"IF(TRIM(AN58)=\"\", \"\", IF(VLOOKUP(AN58,'Footnotes list'!$D$9:$E$58,2,FALSE)=0,\"\",VLOOKUP(AN58,'Footnotes list'!$D$9:$E$58,2,FALSE) ) )","v":""},{"$f":"IF(AND(TRIM(AP56)=\"\",TRIM(AP57)=\"\"),\"\",AP56+AP57)","v":0},null,null,null,{"$f":"IF(TRIM(AS58)=\"\", \"\", IF(VLOOKUP(AS58,'Footnotes list'!$D$9:$E$58,2,FALSE)=0,\"\",VLOOKUP(AS58,'Footnotes list'!$D$9:$E$58,2,FALSE) ) )","v":""},{"$f":"IF(AND(TRIM(AU56)=\"\",TRIM(AU57)=\"\"),\"\",AU56+AU57)","v":1.33},null,null,null,{"$f":"IF(TRIM(AX58)=\"\", \"\", IF(VLOOKUP(AX58,'Footnotes list'!$D$9:$E$58,2,FALSE)=0,\"\",VLOOKUP(AX58,'Footnotes list'!$D$9:$E$58,2,FALSE) ) )","v":""},{"$f":"IF(AND(TRIM(AZ56)=\"\",TRIM(AZ57)=\"\"),\"\",AZ56+AZ57)","v":33.103999999999999},null,null,null,{"$f":"IF(TRIM(BC58)=\"\", \"\", IF(VLOOKUP(BC58,'Footnotes list'!$D$9:$E$58,2,FALSE)=0,\"\",VLOOKUP(BC58,'Footnotes list'!$D$9:$E$58,2,FALSE) ) )","v":""},{"$f":"IF(AND(TRIM(BE56)=\"\",TRIM(BE57)=\"\"),\"\",BE56+BE57)","v":0.17},null,null,null,{"$f":"IF(TRIM(BH58)=\"\", \"\", IF(VLOOKUP(BH58,'Footnotes list'!$D$9:$E$58,2,FALSE)=0,\"\",VLOOKUP(BH58,'Footnotes list'!$D$9:$E$58,2,FALSE) ) )","v":""},{"$f":"IF(AND(TRIM(BJ56)=\"\",TRIM(BJ57)=\"\"),\"\",BJ56+BJ57)","v":0},null,null,null,{"$f":"IF(TRIM(BM58)=\"\", \"\", IF(VLOOKUP(BM58,'Footnotes list'!$D$9:$E$58,2,FALSE)=0,\"\",VLOOKUP(BM58,'Footnotes list'!$D$9:$E$58,2,FALSE) ) )","v":""},{"$f":"IF(AND(TRIM(BO56)=\"\", TRIM(BO57)=\"\"), \"\", (IF(ISNUMBER(BO56),BO56,0)+IF(ISNUMBER(BO57),BO57,0)))","v":36.024000000000001},null,null,null,{"$f":"IF(TRIM(BR58)=\"\", \"\", IF(VLOOKUP(BR58,'Footnotes list'!$D$9:$E$58,2,FALSE)=0,\"\",VLOOKUP(BR58,'Footnotes list'!$D$9:$E$58,2,FALSE) ) )","v":""},{"$f":"IF(AND(TRIM(BT56)=\"\",TRIM(BT57)=\"\"),\"\",BT56+BT57)","v":3.7999999999999999E-2},null,null,null,{"$f":"IF(TRIM(BW58)=\"\", \"\", IF(VLOOKUP(BW58,'Footnotes list'!$D$9:$E$58,2,FALSE)=0,\"\",VLOOKUP(BW58,'Footnotes list'!$D$9:$E$58,2,FALSE) ) )","v":""},{"$f":"IF(AND(TRIM(BY56)=\"\",TRIM(BY57)=\"\"),\"\",BY56+BY57)","v":0},null,null,null,{"$f":"IF(TRIM(CB58)=\"\", \"\", IF(VLOOKUP(CB58,'Footnotes list'!$D$9:$E$58,2,FALSE)=0,\"\",VLOOKUP(CB58,'Footnotes list'!$D$9:$E$58,2,FALSE) ) )","v":""},{"$f":"IF(AND(TRIM(CD56)=\"\",TRIM(CD57)=\"\"),\"\",CD56+CD57)","v":0},null,null,null,{"$f":"IF(TRIM(CG58)=\"\", \"\", IF(VLOOKUP(CG58,'Footnotes list'!$D$9:$E$58,2,FALSE)=0,\"\",VLOOKUP(CG58,'Footnotes list'!$D$9:$E$58,2,FALSE) ) )","v":""},{"$f":"IF(AND(TRIM(CI56)=\"\", TRIM(CI57)=\"\"), \"\", (IF(ISNUMBER(CI56),CI56,0)+IF(ISNUMBER(CI57),CI57,0)))","v":0},null,null,null,{"$f":"IF(TRIM(CL58)=\"\", \"\", IF(VLOOKUP(CL58,'Footnotes list'!$D$9:$E$58,2,FALSE)=0,\"\",VLOOKUP(CL58,'Footnotes list'!$D$9:$E$58,2,FALSE) ) )","v":""},{"$f":"IF(AND(TRIM(CN56)=\"\",TRIM(CN57)=\"\"),\"\",CN56+CN57)","v":0},null,null,null,{"$f":"IF(TRIM(CQ58)=\"\", \"\", IF(VLOOKUP(CQ58,'Footnotes list'!$D$9:$E$58,2,FALSE)=0,\"\",VLOOKUP(CQ58,'Footnotes list'!$D$9:$E$58,2,FALSE) ) )","v":""},{"$f":"IF(AND(TRIM(CS56)=\"\",TRIM(CS57)=\"\"),\"\",CS56+CS57)","v":2.75},null,null,null,{"$f":"IF(TRIM(CV58)=\"\", \"\", IF(VLOOKUP(CV58,'Footnotes list'!$D$9:$E$58,2,FALSE)=0,\"\",VLOOKUP(CV58,'Footnotes list'!$D$9:$E$58,2,FALSE) ) )","v":""},{"$f":"IF(AND(TRIM(CX56)=\"\",TRIM(CX57)=\"\"),\"\",CX56+CX57)","v":0},null,null,null,{"$f":"IF(TRIM(DA58)=\"\", \"\", IF(VLOOKUP(DA58,'Footnotes list'!$D$9:$E$58,2,FALSE)=0,\"\",VLOOKUP(DA58,'Footnotes list'!$D$9:$E$58,2,FALSE) ) )","v":""},{"$f":"IF(AND(TRIM(DC56)=\"\",TRIM(DC57)=\"\"),\"\",DC56+DC57)","v":0},null,null,null,{"$f":"IF(TRIM(DF58)=\"\", \"\", IF(VLOOKUP(DF58,'Footnotes list'!$D$9:$E$58,2,FALSE)=0,\"\",VLOOKUP(DF58,'Footnotes list'!$D$9:$E$58,2,FALSE) ) )","v":""},{"$f":"IF(AND(TRIM(DH56)=\"\", TRIM(DH57)=\"\"), \"\", SUM(DH56,DH57) )","v":38.811999999999998},null,null,null,{"$f":"IF(TRIM(DK58)=\"\", \"\", IF(VLOOKUP(DK58,'Footnotes list'!$D$9:$E$58,2,FALSE)=0,\"\",VLOOKUP(DK58,'Footnotes list'!$D$9:$E$58,2,FALSE) ) )","v":""}]
[null,"W08A","W08A","Discarded equipment (except discarded vehicles and batteries and accumulators waste) (W08 except W081, W0841)","HAZ","Hazardous ",38.402999999999999,null,null,null,{"$f":"IF(TRIM(J59)=\"\", \"\", IF(VLOOKUP(J59,'Footnotes list'!$D$9:$E$58,2,FALSE)=0,\"\",VLOOKUP(J59,'Footnotes list'!$D$9:$E$58,2,FALSE) ) )","v":""},21.937999999999999,null,null,null,{"$f":"IF(TRIM(O59)=\"\", \"\", IF(VLOOKUP(O59,'Footnotes list'!$D$9:$E$58,2,FALSE)=0,\"\",VLOOKUP(O59,'Footnotes list'!$D$9:$E$58,2,FALSE) ) )","v":""},593.87599999999998,null,null,null,{"$f":"IF(TRIM(T59)=\"\", \"\", IF(VLOOKUP(T59,'Footnotes list'!$D$9:$E$58,2,FALSE)=0,\"\",VLOOKUP(T59,'Footnotes list'!$D$9:$E$58,2,FALSE) ) )","v":""},8.09,null,null,null,{"$f":"IF(TRIM(Y59)=\"\", \"\", IF(VLOOKUP(Y59,'Footnotes list'!$D$9:$E$58,2,FALSE)=0,\"\",VLOOKUP(Y59,'Footnotes list'!$D$9:$E$58,2,FALSE) ) )","v":""},7.2939999999999996,null,null,null,{"$f":"IF(TRIM(AD59)=\"\", \"\", IF(VLOOKUP(AD59,'Footnotes list'!$D$9:$E$58,2,FALSE)=0,\"\",VLOOKUP(AD59,'Footnotes list'!$D$9:$E$58,2,FALSE) ) )","v":""},12.786,null,null,null,{"$f":"IF(TRIM(AI59)=\"\", \"\", IF(VLOOKUP(AI59,'Footnotes list'!$D$9:$E$58,2,FALSE)=0,\"\",VLOOKUP(AI59,'Footnotes list'!$D$9:$E$58,2,FALSE) ) )","v":""},10.843,null,null,null,{"$f":"IF(TRIM(AN59)=\"\", \"\", IF(VLOOKUP(AN59,'Footnotes list'!$D$9:$E$58,2,FALSE)=0,\"\",VLOOKUP(AN59,'Footnotes list'!$D$9:$E$58,2,FALSE) ) )","v":""},39.991,null,null,null,{"$f":"IF(TRIM(AS59)=\"\", \"\", IF(VLOOKUP(AS59,'Footnotes list'!$D$9:$E$58,2,FALSE)=0,\"\",VLOOKUP(AS59,'Footnotes list'!$D$9:$E$58,2,FALSE) ) )","v":""},26.55,null,null,null,{"$f":"IF(TRIM(AX59)=\"\", \"\", IF(VLOOKUP(AX59,'Footnotes list'!$D$9:$E$58,2,FALSE)=0,\"\",VLOOKUP(AX59,'Footnotes list'!$D$9:$E$58,2,FALSE) ) )","v":""},81.722999999999999,null,null,null,{"$f":"IF(TRIM(BC59)=\"\", \"\", IF(VLOOKUP(BC59,'Footnotes list'!$D$9:$E$58,2,FALSE)=0,\"\",VLOOKUP(BC59,'Footnotes list'!$D$9:$E$58,2,FALSE) ) )","v":""},269.51,null,null,null,{"$f":"IF(TRIM(BH59)=\"\", \"\", IF(VLOOKUP(BH59,'Footnotes list'!$D$9:$E$58,2,FALSE)=0,\"\",VLOOKUP(BH59,'Footnotes list'!$D$9:$E$58,2,FALSE) ) )","v":""},54.237000000000002,null,null,null,{"$f":"IF(TRIM(BM59)=\"\", \"\", IF(VLOOKUP(BM59,'Footnotes list'!$D$9:$E$58,2,FALSE)=0,\"\",VLOOKUP(BM59,'Footnotes list'!$D$9:$E$58,2,FALSE) ) )","v":""},{"$f":"IF(AND(TRIM(Q59)=\"\",TRIM(V59)=\"\",TRIM(AA59)=\"\", TRIM(AF59)=\"\", TRIM(AK59)=\"\", TRIM(AP59)=\"\", TRIM(AU59)=\"\", TRIM(AZ59)=\"\", TRIM(BE59)=\"\", TRIM(BJ59)=\"\"),\"\",Q59+V59+AA59+AF59+AK59+AP59+AU59+AZ59+BE59+BJ59)","v":1104.9000000000001},null,null,null,{"$f":"IF(TRIM(BR59)=\"\", \"\", IF(VLOOKUP(BR59,'Footnotes list'!$D$9:$E$58,2,FALSE)=0,\"\",VLOOKUP(BR59,'Footnotes list'!$D$9:$E$58,2,FALSE) ) )","v":""},158.375,null,null,null,{"$f":"IF(TRIM(BW59)=\"\", \"\", IF(VLOOKUP(BW59,'Footnotes list'!$D$9:$E$58,2,FALSE)=0,\"\",VLOOKUP(BW59,'Footnotes list'!$D$9:$E$58,2,FALSE) ) )","v":""},15.791,null,null,null,{"$f":"IF(TRIM(CB59)=\"\", \"\", IF(VLOOKUP(CB59,'Footnotes list'!$D$9:$E$58,2,FALSE)=0,\"\",VLOOKUP(CB59,'Footnotes list'!$D$9:$E$58,2,FALSE) ) )","v":""},228.61099999999999,null,null,null,{"$f":"IF(TRIM(CG59)=\"\", \"\", IF(VLOOKUP(CG59,'Footnotes list'!$D$9:$E$58,2,FALSE)=0,\"\",VLOOKUP(CG59,'Footnotes list'!$D$9:$E$58,2,FALSE) ) )","v":""},{"$f":"IF(AND(TRIM(BY59)=\"\",TRIM(CD59)=\"\"),\"\",BY59+CD59)","v":244.40199999999999},null,null,null,{"$f":"IF(TRIM(CL59)=\"\", \"\", IF(VLOOKUP(CL59,'Footnotes list'!$D$9:$E$58,2,FALSE)=0,\"\",VLOOKUP(CL59,'Footnotes list'!$D$9:$E$58,2,FALSE) ) )","v":""},67.394999999999996,null,null,null,{"$f":"IF(TRIM(CQ59)=\"\", \"\", IF(VLOOKUP(CQ59,'Footnotes list'!$D$9:$E$58,2,FALSE)=0,\"\",VLOOKUP(CQ59,'Footnotes list'!$D$9:$E$58,2,FALSE) ) )","v":""},2410.4490000000001,null,null,null,{"$f":"IF(TRIM(CV59)=\"\", \"\", IF(VLOOKUP(CV59,'Footnotes list'!$D$9:$E$58,2,FALSE)=0,\"\",VLOOKUP(CV59,'Footnotes list'!$D$9:$E$58,2,FALSE) ) )","v":""},2.1000000000000001E-2,null,null,null,{"$f":"IF(TRIM(DA59)=\"\", \"\", IF(VLOOKUP(DA59,'Footnotes list'!$D$9:$E$58,2,FALSE)=0,\"\",VLOOKUP(DA59,'Footnotes list'!$D$9:$E$58,2,FALSE) ) )","v":""},26197.762999999999,null,null,null,{"$f":"IF(TRIM(DF59)=\"\", \"\", IF(VLOOKUP(DF59,'Footnotes list'!$D$9:$E$58,2,FALSE)=0,\"\",VLOOKUP(DF59,'Footnotes list'!$D$9:$E$58,2,FALSE) ) )","v":""},{"$f":"IF(AND(TRIM(G59)=\"\",TRIM(L59)=\"\",TRIM(BO59)=\"\",TRIM(BT59)=\"\",TRIM(CI59)=\"\",TRIM(CN59)=\"\",TRIM(CS59)=\"\",TRIM(CX59)=\"\",TRIM(DC59)=\"\"),\"\",SUM(G59,L59,BO59,BT59,CI59,CN59,CS59,CX59,DC59))","v":30243.646000000001},null,null,null,{"$f":"IF(TRIM(DK59)=\"\", \"\", IF(VLOOKUP(DK59,'Footnotes list'!$D$9:$E$58,2,FALSE)=0,\"\",VLOOKUP(DK59,'Footnotes list'!$D$9:$E$58,2,FALSE) ) )","v":""}]
[null,null,"W08A",null,"NHAZ","Non-hazardous",0,null,null,null,{"$f":"IF(TRIM(J60)=\"\", \"\", IF(VLOOKUP(J60,'Footnotes list'!$D$9:$E$58,2,FALSE)=0,\"\",VLOOKUP(J60,'Footnotes list'!$D$9:$E$58,2,FALSE) ) )","v":""},1.7569999999999999,null,null,null,{"$f":"IF(TRIM(O60)=\"\", \"\", IF(VLOOKUP(O60,'Footnotes list'!$D$9:$E$58,2,FALSE)=0,\"\",VLOOKUP(O60,'Footnotes list'!$D$9:$E$58,2,FALSE) ) )","v":""},60.744999999999997,null,null,null,{"$f":"IF(TRIM(T60)=\"\", \"\", IF(VLOOKUP(T60,'Footnotes list'!$D$9:$E$58,2,FALSE)=0,\"\",VLOOKUP(T60,'Footnotes list'!$D$9:$E$58,2,FALSE) ) )","v":""},0.77300000000000002,null,null,null,{"$f":"IF(TRIM(Y60)=\"\", \"\", IF(VLOOKUP(Y60,'Footnotes list'!$D$9:$E$58,2,FALSE)=0,\"\",VLOOKUP(Y60,'Footnotes list'!$D$9:$E$58,2,FALSE) ) )","v":""},60.06,null,null,null,{"$f":"IF(TRIM(AD60)=\"\", \"\", IF(VLOOKUP(AD60,'Footnotes list'!$D$9:$E$58,2,FALSE)=0,\"\",VLOOKUP(AD60,'Footnotes list'!$D$9:$E$58,2,FALSE) ) )","v":""},4.7919999999999998,null,null,null,{"$f":"IF(TRIM(AI60)=\"\", \"\", IF(VLOOKUP(AI60,'Footnotes list'!$D$9:$E$58,2,FALSE)=0,\"\",VLOOKUP(AI60,'Footnotes list'!$D$9:$E$58,2,FALSE) ) )","v":""},68.683000000000007,null,null,null,{"$f":"IF(TRIM(AN60)=\"\", \"\", IF(VLOOKUP(AN60,'Footnotes list'!$D$9:$E$58,2,FALSE)=0,\"\",VLOOKUP(AN60,'Footnotes list'!$D$9:$E$58,2,FALSE) ) )","v":""},1.355,null,null,null,{"$f":"IF(TRIM(AS60)=\"\", \"\", IF(VLOOKUP(AS60,'Footnotes list'!$D$9:$E$58,2,FALSE)=0,\"\",VLOOKUP(AS60,'Footnotes list'!$D$9:$E$58,2,FALSE) ) )","v":""},13.573,null,null,null,{"$f":"IF(TRIM(AX60)=\"\", \"\", IF(VLOOKUP(AX60,'Footnotes list'!$D$9:$E$58,2,FALSE)=0,\"\",VLOOKUP(AX60,'Footnotes list'!$D$9:$E$58,2,FALSE) ) )","v":""},4.7640000000000002,null,null,null,{"$f":"IF(TRIM(BC60)=\"\", \"\", IF(VLOOKUP(BC60,'Footnotes list'!$D$9:$E$58,2,FALSE)=0,\"\",VLOOKUP(BC60,'Footnotes list'!$D$9:$E$58,2,FALSE) ) )","v":""},77.557000000000002,null,null,null,{"$f":"IF(TRIM(BH60)=\"\", \"\", IF(VLOOKUP(BH60,'Footnotes list'!$D$9:$E$58,2,FALSE)=0,\"\",VLOOKUP(BH60,'Footnotes list'!$D$9:$E$58,2,FALSE) ) )","v":""},222.46,null,null,null,{"$f":"IF(TRIM(BM60)=\"\", \"\", IF(VLOOKUP(BM60,'Footnotes list'!$D$9:$E$58,2,FALSE)=0,\"\",VLOOKUP(BM60,'Footnotes list'!$D$9:$E$58,2,FALSE) ) )","v":""},{"$f":"IF(AND(TRIM(Q60)=\"\",TRIM(V60)=\"\",TRIM(AA60)=\"\", TRIM(AF60)=\"\", TRIM(AK60)=\"\", TRIM(AP60)=\"\", TRIM(AU60)=\"\", TRIM(AZ60)=\"\", TRIM(BE60)=\"\", TRIM(BJ60)=\"\"),\"\",Q60+V60+AA60+AF60+AK60+AP60+AU60+AZ60+BE60+BJ60)","v":514.76199999999994},null,null,null,{"$f":"IF(TRIM(BR60)=\"\", \"\", IF(VLOOKUP(BR60,'Footnotes list'!$D$9:$E$58,2,FALSE)=0,\"\",VLOOKUP(BR60,'Footnotes list'!$D$9:$E$58,2,FALSE) ) )","v":""},6.8490000000000002,null,null,null,{"$f":"IF(TRIM(BW60)=\"\", \"\", IF(VLOOKUP(BW60,'Footnotes list'!$D$9:$E$58,2,FALSE)=0,\"\",VLOOKUP(BW60,'Footnotes list'!$D$9:$E$58,2,FALSE) ) )","v":""},0.11,null,null,null,{"$f":"IF(TRIM(CB60)=\"\", \"\", IF(VLOOKUP(CB60,'Footnotes list'!$D$9:$E$58,2,FALSE)=0,\"\",VLOOKUP(CB60,'Footnotes list'!$D$9:$E$58,2,FALSE) ) )","v":""},4105.7070000000003,null,null,null,{"$f":"IF(TRIM(CG60)=\"\", \"\", IF(VLOOKUP(CG60,'Footnotes list'!$D$9:$E$58,2,FALSE)=0,\"\",VLOOKUP(CG60,'Footnotes list'!$D$9:$E$58,2,FALSE) ) )","v":""},{"$f":"IF(AND(TRIM(BY60)=\"\",TRIM(CD60)=\"\"),\"\",BY60+CD60)","v":4105.817},null,null,null,{"$f":"IF(TRIM(CL60)=\"\", \"\", IF(VLOOKUP(CL60,'Footnotes list'!$D$9:$E$58,2,FALSE)=0,\"\",VLOOKUP(CL60,'Footnotes list'!$D$9:$E$58,2,FALSE) ) )","v":""},1.9550000000000001,null,null,null,{"$f":"IF(TRIM(CQ60)=\"\", \"\", IF(VLOOKUP(CQ60,'Footnotes list'!$D$9:$E$58,2,FALSE)=0,\"\",VLOOKUP(CQ60,'Footnotes list'!$D$9:$E$58,2,FALSE) ) )","v":""},239.90600000000001,null,null,null,{"$f":"IF(TRIM(CV60)=\"\", \"\", IF(VLOOKUP(CV60,'Footnotes list'!$D$9:$E$58,2,FALSE)=0,\"\",VLOOKUP(CV60,'Footnotes list'!$D$9:$E$58,2,FALSE) ) )","v":""},45.94,null,null,null,{"$f":"IF(TRIM(DA60)=\"\", \"\", IF(VLOOKUP(DA60,'Footnotes list'!$D$9:$E$58,2,FALSE)=0,\"\",VLOOKUP(DA60,'Footnotes list'!$D$9:$E$58,2,FALSE) ) )","v":""},9770.2129999999997,null,null,null,{"$f":"IF(TRIM(DF60)=\"\", \"\", IF(VLOOKUP(DF60,'Footnotes list'!$D$9:$E$58,2,FALSE)=0,\"\",VLOOKUP(DF60,'Footnotes list'!$D$9:$E$58,2,FALSE) ) )","v":""},{"$f":"IF(AND(TRIM(G60)=\"\",TRIM(L60)=\"\",TRIM(BO60)=\"\",TRIM(BT60)=\"\",TRIM(CI60)=\"\",TRIM(CN60)=\"\",TRIM(CS60)=\"\",TRIM(CX60)=\"\",TRIM(DC60)=\"\"),\"\",SUM(G60,L60,BO60,BT60,CI60,CN60,CS60,CX60,DC60))","v":14687.199000000001},null,null,null,{"$f":"IF(TRIM(DK60)=\"\", \"\", IF(VLOOKUP(DK60,'Footnotes list'!$D$9:$E$58,2,FALSE)=0,\"\",VLOOKUP(DK60,'Footnotes list'!$D$9:$E$58,2,FALSE) ) )","v":""}]
[null,null,"W08A",null,"HAZ_NHAZ","Total",{"$f":"IF(AND(TRIM(G59)=\"\",TRIM(G60)=\"\"),\"\",G59+G60)","v":38.402999999999999},null,null,null,{"$f":"IF(TRIM(J61)=\"\", \"\", IF(VLOOKUP(J61,'Footnotes list'!$D$9:$E$58,2,FALSE)=0,\"\",VLOOKUP(J61,'Footnotes list'!$D$9:$E$58,2,FALSE) ) )","v":""},{"$f":"IF(AND(TRIM(L59)=\"\",TRIM(L60)=\"\"),\"\",L59+L60)","v":23.695},null,null,null,{"$f":"IF(TRIM(O61)=\"\", \"\", IF(VLOOKUP(O61,'Footnotes list'!$D$9:$E$58,2,FALSE)=0,\"\",VLOOKUP(O61,'Footnotes list'!$D$9:$E$58,2,FALSE) ) )","v":""},{"$f":"IF(AND(TRIM(Q59)=\"\",TRIM(Q60)=\"\"),\"\",Q59+Q60)","v":654.62099999999998},null,null,null,{"$f":"IF(TRIM(T61)=\"\", \"\", IF(VLOOKUP(T61,'Footnotes list'!$D$9:$E$58,2,FALSE)=0,\"\",VLOOKUP(T61,'Footnotes list'!$D$9:$E$58,2,FALSE) ) )","v":""},{"$f":"IF(AND(TRIM(V59)=\"\",TRIM(V60)=\"\"),\"\",V59+V60)","v":8.8629999999999995},null,null,null,{"$f":"IF(TRIM(Y61)=\"\", \"\", IF(VLOOKUP(Y61,'Footnotes list'!$D$9:$E$58,2,FALSE)=0,\"\",VLOOKUP(Y61,'Footnotes list'!$D$9:$E$58,2,FALSE) ) )","v":""},{"$f":"IF(AND(TRIM(AA59)=\"\",TRIM(AA60)=\"\"),\"\",AA59+AA60)","v":67.353999999999999},null,null,null,{"$f":"IF(TRIM(AD61)=\"\", \"\", IF(VLOOKUP(AD61,'Footnotes list'!$D$9:$E$58,2,FALSE)=0,\"\",VLOOKUP(AD61,'Footnotes list'!$D$9:$E$58,2,FALSE) ) )","v":""},{"$f":"IF(AND(TRIM(AF59)=\"\",TRIM(AF60)=\"\"),\"\",AF59+AF60)","v":17.577999999999999},null,null,null,{"$f":"IF(TRIM(AI61)=\"\", \"\", IF(VLOOKUP(AI61,'Footnotes list'!$D$9:$E$58,2,FALSE)=0,\"\",VLOOKUP(AI61,'Footnotes list'!$D$9:$E$58,2,FALSE) ) )","v":""},{"$f":"IF(AND(TRIM(AK59)=\"\",TRIM(AK60)=\"\"),\"\",AK59+AK60)","v":79.525999999999996},null,null,null,{"$f":"IF(TRIM(AN61)=\"\", \"\", IF(VLOOKUP(AN61,'Footnotes list'!$D$9:$E$58,2,FALSE)=0,\"\",VLOOKUP(AN61,'Footnotes list'!$D$9:$E$58,2,FALSE) ) )","v":""},{"$f":"IF(AND(TRIM(AP59)=\"\",TRIM(AP60)=\"\"),\"\",AP59+AP60)","v":41.345999999999997},null,null,null,{"$f":"IF(TRIM(AS61)=\"\", \"\", IF(VLOOKUP(AS61,'Footnotes list'!$D$9:$E$58,2,FALSE)=0,\"\",VLOOKUP(AS61,'Footnotes list'!$D$9:$E$58,2,FALSE) ) )","v":""},{"$f":"IF(AND(TRIM(AU59)=\"\",TRIM(AU60)=\"\"),\"\",AU59+AU60)","v":40.122999999999998},null,null,null,{"$f":"IF(TRIM(AX61)=\"\", \"\", IF(VLOOKUP(AX61,'Footnotes list'!$D$9:$E$58,2,FALSE)=0,\"\",VLOOKUP(AX61,'Footnotes list'!$D$9:$E$58,2,FALSE) ) )","v":""},{"$f":"IF(AND(TRIM(AZ59)=\"\",TRIM(AZ60)=\"\"),\"\",AZ59+AZ60)","v":86.486999999999995},null,null,null,{"$f":"IF(TRIM(BC61)=\"\", \"\", IF(VLOOKUP(BC61,'Footnotes list'!$D$9:$E$58,2,FALSE)=0,\"\",VLOOKUP(BC61,'Footnotes list'!$D$9:$E$58,2,FALSE) ) )","v":""},{"$f":"IF(AND(TRIM(BE59)=\"\",TRIM(BE60)=\"\"),\"\",BE59+BE60)","v":347.06700000000001},null,null,null,{"$f":"IF(TRIM(BH61)=\"\", \"\", IF(VLOOKUP(BH61,'Footnotes list'!$D$9:$E$58,2,FALSE)=0,\"\",VLOOKUP(BH61,'Footnotes list'!$D$9:$E$58,2,FALSE) ) )","v":""},{"$f":"IF(AND(TRIM(BJ59)=\"\",TRIM(BJ60)=\"\"),\"\",BJ59+BJ60)","v":276.697},null,null,null,{"$f":"IF(TRIM(BM61)=\"\", \"\", IF(VLOOKUP(BM61,'Footnotes list'!$D$9:$E$58,2,FALSE)=0,\"\",VLOOKUP(BM61,'Footnotes list'!$D$9:$E$58,2,FALSE) ) )","v":""},{"$f":"IF(AND(TRIM(BO59)=\"\", TRIM(BO60)=\"\"), \"\", (IF(ISNUMBER(BO59),BO59,0)+IF(ISNUMBER(BO60),BO60,0)))","v":1619.662},null,null,null,{"$f":"IF(TRIM(BR61)=\"\", \"\", IF(VLOOKUP(BR61,'Footnotes list'!$D$9:$E$58,2,FALSE)=0,\"\",VLOOKUP(BR61,'Footnotes list'!$D$9:$E$58,2,FALSE) ) )","v":""},{"$f":"IF(AND(TRIM(BT59)=\"\",TRIM(BT60)=\"\"),\"\",BT59+BT60)","v":165.22399999999999},null,null,null,{"$f":"IF(TRIM(BW61)=\"\", \"\", IF(VLOOKUP(BW61,'Footnotes list'!$D$9:$E$58,2,FALSE)=0,\"\",VLOOKUP(BW61,'Footnotes list'!$D$9:$E$58,2,FALSE) ) )","v":""},{"$f":"IF(AND(TRIM(BY59)=\"\",TRIM(BY60)=\"\"),\"\",BY59+BY60)","v":15.901},null,null,null,{"$f":"IF(TRIM(CB61)=\"\", \"\", IF(VLOOKUP(CB61,'Footnotes list'!$D$9:$E$58,2,FALSE)=0,\"\",VLOOKUP(CB61,'Footnotes list'!$D$9:$E$58,2,FALSE) ) )","v":""},{"$f":"IF(AND(TRIM(CD59)=\"\",TRIM(CD60)=\"\"),\"\",CD59+CD60)","v":4334.3180000000002},null,null,null,{"$f":"IF(TRIM(CG61)=\"\", \"\", IF(VLOOKUP(CG61,'Footnotes list'!$D$9:$E$58,2,FALSE)=0,\"\",VLOOKUP(CG61,'Footnotes list'!$D$9:$E$58,2,FALSE) ) )","v":""},{"$f":"IF(AND(TRIM(CI59)=\"\", TRIM(CI60)=\"\"), \"\", (IF(ISNUMBER(CI59),CI59,0)+IF(ISNUMBER(CI60),CI60,0)))","v":4350.2190000000001},null,null,null,{"$f":"IF(TRIM(CL61)=\"\", \"\", IF(VLOOKUP(CL61,'Footnotes list'!$D$9:$E$58,2,FALSE)=0,\"\",VLOOKUP(CL61,'Footnotes list'!$D$9:$E$58,2,FALSE) ) )","v":""},{"$f":"IF(AND(TRIM(CN59)=\"\",TRIM(CN60)=\"\"),\"\",CN59+CN60)","v":69.349999999999994},null,null,null,{"$f":"IF(TRIM(CQ61)=\"\", \"\", IF(VLOOKUP(CQ61,'Footnotes list'!$D$9:$E$58,2,FALSE)=0,\"\",VLOOKUP(CQ61,'Footnotes list'!$D$9:$E$58,2,FALSE) ) )","v":""},{"$f":"IF(AND(TRIM(CS59)=\"\",TRIM(CS60)=\"\"),\"\",CS59+CS60)","v":2650.355},null,null,null,{"$f":"IF(TRIM(CV61)=\"\", \"\", IF(VLOOKUP(CV61,'Footnotes list'!$D$9:$E$58,2,FALSE)=0,\"\",VLOOKUP(CV61,'Footnotes list'!$D$9:$E$58,2,FALSE) ) )","v":""},{"$f":"IF(AND(TRIM(CX59)=\"\",TRIM(CX60)=\"\"),\"\",CX59+CX60)","v":45.960999999999999},null,null,null,{"$f":"IF(TRIM(DA61)=\"\", \"\", IF(VLOOKUP(DA61,'Footnotes list'!$D$9:$E$58,2,FALSE)=0,\"\",VLOOKUP(DA61,'Footnotes list'!$D$9:$E$58,2,FALSE) ) )","v":""},{"$f":"IF(AND(TRIM(DC59)=\"\",TRIM(DC60)=\"\"),\"\",DC59+DC60)","v":35967.976000000002},null,null,null,{"$f":"IF(TRIM(DF61)=\"\", \"\", IF(VLOOKUP(DF61,'Footnotes list'!$D$9:$E$58,2,FALSE)=0,\"\",VLOOKUP(DF61,'Footnotes list'!$D$9:$E$58,2,FALSE) ) )","v":""},{"$f":"IF(AND(TRIM(DH59)=\"\", TRIM(DH60)=\"\"), \"\", SUM(DH59,DH60) )","v":44930.845000000001},null,null,null,{"$f":"IF(TRIM(DK61)=\"\", \"\", IF(VLOOKUP(DK61,'Footnotes list'!$D$9:$E$58,2,FALSE)=0,\"\",VLOOKUP(DK61,'Footnotes list'!$D$9:$E$58,2,FALSE) ) )","v":""}]
[null,"W081","W081","Discarded vehicles ","HAZ","Hazardous ",631.54899999999998,null,null,null,{"$f":"IF(TRIM(J62)=\"\", \"\", IF(VLOOKUP(J62,'Footnotes list'!$D$9:$E$58,2,FALSE)=0,\"\",VLOOKUP(J62,'Footnotes list'!$D$9:$E$58,2,FALSE) ) )","v":""},0,null,null,null,{"$f":"IF(TRIM(O62)=\"\", \"\", IF(VLOOKUP(O62,'Footnotes list'!$D$9:$E$58,2,FALSE)=0,\"\",VLOOKUP(O62,'Footnotes list'!$D$9:$E$58,2,FALSE) ) )","v":""},2.86,null,null,null,{"$f":"IF(TRIM(T62)=\"\", \"\", IF(VLOOKUP(T62,'Footnotes list'!$D$9:$E$58,2,FALSE)=0,\"\",VLOOKUP(T62,'Footnotes list'!$D$9:$E$58,2,FALSE) ) )","v":""},0,null,null,null,{"$f":"IF(TRIM(Y62)=\"\", \"\", IF(VLOOKUP(Y62,'Footnotes list'!$D$9:$E$58,2,FALSE)=0,\"\",VLOOKUP(Y62,'Footnotes list'!$D$9:$E$58,2,FALSE) ) )","v":""},0,null,null,null,{"$f":"IF(TRIM(AD62)=\"\", \"\", IF(VLOOKUP(AD62,'Footnotes list'!$D$9:$E$58,2,FALSE)=0,\"\",VLOOKUP(AD62,'Footnotes list'!$D$9:$E$58,2,FALSE) ) )","v":""},1,null,null,null,{"$f":"IF(TRIM(AI62)=\"\", \"\", IF(VLOOKUP(AI62,'Footnotes list'!$D$9:$E$58,2,FALSE)=0,\"\",VLOOKUP(AI62,'Footnotes list'!$D$9:$E$58,2,FALSE) ) )","v":""},0,null,null,null,{"$f":"IF(TRIM(AN62)=\"\", \"\", IF(VLOOKUP(AN62,'Footnotes list'!$D$9:$E$58,2,FALSE)=0,\"\",VLOOKUP(AN62,'Footnotes list'!$D$9:$E$58,2,FALSE) ) )","v":""},1.1000000000000001,null,null,null,{"$f":"IF(TRIM(AS62)=\"\", \"\", IF(VLOOKUP(AS62,'Footnotes list'!$D$9:$E$58,2,FALSE)=0,\"\",VLOOKUP(AS62,'Footnotes list'!$D$9:$E$58,2,FALSE) ) )","v":""},4.5199999999999996,null,null,null,{"$f":"IF(TRIM(AX62)=\"\", \"\", IF(VLOOKUP(AX62,'Footnotes list'!$D$9:$E$58,2,FALSE)=0,\"\",VLOOKUP(AX62,'Footnotes list'!$D$9:$E$58,2,FALSE) ) )","v":""},48.74,null,null,null,{"$f":"IF(TRIM(BC62)=\"\", \"\", IF(VLOOKUP(BC62,'Footnotes list'!$D$9:$E$58,2,FALSE)=0,\"\",VLOOKUP(BC62,'Footnotes list'!$D$9:$E$58,2,FALSE) ) )","v":""},7.34,null,null,null,{"$f":"IF(TRIM(BH62)=\"\", \"\", IF(VLOOKUP(BH62,'Footnotes list'!$D$9:$E$58,2,FALSE)=0,\"\",VLOOKUP(BH62,'Footnotes list'!$D$9:$E$58,2,FALSE) ) )","v":""},0,null,null,null,{"$f":"IF(TRIM(BM62)=\"\", \"\", IF(VLOOKUP(BM62,'Footnotes list'!$D$9:$E$58,2,FALSE)=0,\"\",VLOOKUP(BM62,'Footnotes list'!$D$9:$E$58,2,FALSE) ) )","v":""},{"$f":"IF(AND(TRIM(Q62)=\"\",TRIM(V62)=\"\",TRIM(AA62)=\"\", TRIM(AF62)=\"\", TRIM(AK62)=\"\", TRIM(AP62)=\"\", TRIM(AU62)=\"\", TRIM(AZ62)=\"\", TRIM(BE62)=\"\", TRIM(BJ62)=\"\"),\"\",Q62+V62+AA62+AF62+AK62+AP62+AU62+AZ62+BE62+BJ62)","v":65.56},null,null,null,{"$f":"IF(TRIM(BR62)=\"\", \"\", IF(VLOOKUP(BR62,'Footnotes list'!$D$9:$E$58,2,FALSE)=0,\"\",VLOOKUP(BR62,'Footnotes list'!$D$9:$E$58,2,FALSE) ) )","v":""},0.94,null,null,null,{"$f":"IF(TRIM(BW62)=\"\", \"\", IF(VLOOKUP(BW62,'Footnotes list'!$D$9:$E$58,2,FALSE)=0,\"\",VLOOKUP(BW62,'Footnotes list'!$D$9:$E$58,2,FALSE) ) )","v":""},3.86,null,null,null,{"$f":"IF(TRIM(CB62)=\"\", \"\", IF(VLOOKUP(CB62,'Footnotes list'!$D$9:$E$58,2,FALSE)=0,\"\",VLOOKUP(CB62,'Footnotes list'!$D$9:$E$58,2,FALSE) ) )","v":""},17.422000000000001,null,null,null,{"$f":"IF(TRIM(CG62)=\"\", \"\", IF(VLOOKUP(CG62,'Footnotes list'!$D$9:$E$58,2,FALSE)=0,\"\",VLOOKUP(CG62,'Footnotes list'!$D$9:$E$58,2,FALSE) ) )","v":""},{"$f":"IF(AND(TRIM(BY62)=\"\",TRIM(CD62)=\"\"),\"\",BY62+CD62)","v":21.282},null,null,null,{"$f":"IF(TRIM(CL62)=\"\", \"\", IF(VLOOKUP(CL62,'Footnotes list'!$D$9:$E$58,2,FALSE)=0,\"\",VLOOKUP(CL62,'Footnotes list'!$D$9:$E$58,2,FALSE) ) )","v":""},22.48,null,null,null,{"$f":"IF(TRIM(CQ62)=\"\", \"\", IF(VLOOKUP(CQ62,'Footnotes list'!$D$9:$E$58,2,FALSE)=0,\"\",VLOOKUP(CQ62,'Footnotes list'!$D$9:$E$58,2,FALSE) ) )","v":""},1410.4549999999999,null,null,null,{"$f":"IF(TRIM(CV62)=\"\", \"\", IF(VLOOKUP(CV62,'Footnotes list'!$D$9:$E$58,2,FALSE)=0,\"\",VLOOKUP(CV62,'Footnotes list'!$D$9:$E$58,2,FALSE) ) )","v":""},33.520000000000003,null,null,null,{"$f":"IF(TRIM(DA62)=\"\", \"\", IF(VLOOKUP(DA62,'Footnotes list'!$D$9:$E$58,2,FALSE)=0,\"\",VLOOKUP(DA62,'Footnotes list'!$D$9:$E$58,2,FALSE) ) )","v":""},39917.214,null,null,null,{"$f":"IF(TRIM(DF62)=\"\", \"\", IF(VLOOKUP(DF62,'Footnotes list'!$D$9:$E$58,2,FALSE)=0,\"\",VLOOKUP(DF62,'Footnotes list'!$D$9:$E$58,2,FALSE) ) )","v":""},{"$f":"IF(AND(TRIM(G62)=\"\",TRIM(L62)=\"\",TRIM(BO62)=\"\",TRIM(BT62)=\"\",TRIM(CI62)=\"\",TRIM(CN62)=\"\",TRIM(CS62)=\"\",TRIM(CX62)=\"\",TRIM(DC62)=\"\"),\"\",SUM(G62,L62,BO62,BT62,CI62,CN62,CS62,CX62,DC62))","v":42103},null,null,null,{"$f":"IF(TRIM(DK62)=\"\", \"\", IF(VLOOKUP(DK62,'Footnotes list'!$D$9:$E$58,2,FALSE)=0,\"\",VLOOKUP(DK62,'Footnotes list'!$D$9:$E$58,2,FALSE) ) )","v":""}]
[null,null,"W081",null,"NHAZ","Non-hazardous",22.6,null,null,null,{"$f":"IF(TRIM(J63)=\"\", \"\", IF(VLOOKUP(J63,'Footnotes list'!$D$9:$E$58,2,FALSE)=0,\"\",VLOOKUP(J63,'Footnotes list'!$D$9:$E$58,2,FALSE) ) )","v":""},0,null,null,null,{"$f":"IF(TRIM(O63)=\"\", \"\", IF(VLOOKUP(O63,'Footnotes list'!$D$9:$E$58,2,FALSE)=0,\"\",VLOOKUP(O63,'Footnotes list'!$D$9:$E$58,2,FALSE) ) )","v":""},9.76,null,null,null,{"$f":"IF(TRIM(T63)=\"\", \"\", IF(VLOOKUP(T63,'Footnotes list'!$D$9:$E$58,2,FALSE)=0,\"\",VLOOKUP(T63,'Footnotes list'!$D$9:$E$58,2,FALSE) ) )","v":""},0,null,null,null,{"$f":"IF(TRIM(Y63)=\"\", \"\", IF(VLOOKUP(Y63,'Footnotes list'!$D$9:$E$58,2,FALSE)=0,\"\",VLOOKUP(Y63,'Footnotes list'!$D$9:$E$58,2,FALSE) ) )","v":""},0,null,null,null,{"$f":"IF(TRIM(AD63)=\"\", \"\", IF(VLOOKUP(AD63,'Footnotes list'!$D$9:$E$58,2,FALSE)=0,\"\",VLOOKUP(AD63,'Footnotes list'!$D$9:$E$58,2,FALSE) ) )","v":""},0,null,null,null,{"$f":"IF(TRIM(AI63)=\"\", \"\", IF(VLOOKUP(AI63,'Footnotes list'!$D$9:$E$58,2,FALSE)=0,\"\",VLOOKUP(AI63,'Footnotes list'!$D$9:$E$58,2,FALSE) ) )","v":""},0,null,null,null,{"$f":"IF(TRIM(AN63)=\"\", \"\", IF(VLOOKUP(AN63,'Footnotes list'!$D$9:$E$58,2,FALSE)=0,\"\",VLOOKUP(AN63,'Footnotes list'!$D$9:$E$58,2,FALSE) ) )","v":""},0,null,null,null,{"$f":"IF(TRIM(AS63)=\"\", \"\", IF(VLOOKUP(AS63,'Footnotes list'!$D$9:$E$58,2,FALSE)=0,\"\",VLOOKUP(AS63,'Footnotes list'!$D$9:$E$58,2,FALSE) ) )","v":""},0,null,null,null,{"$f":"IF(TRIM(AX63)=\"\", \"\", IF(VLOOKUP(AX63,'Footnotes list'!$D$9:$E$58,2,FALSE)=0,\"\",VLOOKUP(AX63,'Footnotes list'!$D$9:$E$58,2,FALSE) ) )","v":""},0,null,null,null,{"$f":"IF(TRIM(BC63)=\"\", \"\", IF(VLOOKUP(BC63,'Footnotes list'!$D$9:$E$58,2,FALSE)=0,\"\",VLOOKUP(BC63,'Footnotes list'!$D$9:$E$58,2,FALSE) ) )","v":""},1.4,null,null,null,{"$f":"IF(TRIM(BH63)=\"\", \"\", IF(VLOOKUP(BH63,'Footnotes list'!$D$9:$E$58,2,FALSE)=0,\"\",VLOOKUP(BH63,'Footnotes list'!$D$9:$E$58,2,FALSE) ) )","v":""},0,null,null,null,{"$f":"IF(TRIM(BM63)=\"\", \"\", IF(VLOOKUP(BM63,'Footnotes list'!$D$9:$E$58,2,FALSE)=0,\"\",VLOOKUP(BM63,'Footnotes list'!$D$9:$E$58,2,FALSE) ) )","v":""},{"$f":"IF(AND(TRIM(Q63)=\"\",TRIM(V63)=\"\",TRIM(AA63)=\"\", TRIM(AF63)=\"\", TRIM(AK63)=\"\", TRIM(AP63)=\"\", TRIM(AU63)=\"\", TRIM(AZ63)=\"\", TRIM(BE63)=\"\", TRIM(BJ63)=\"\"),\"\",Q63+V63+AA63+AF63+AK63+AP63+AU63+AZ63+BE63+BJ63)","v":11.16},null,null,null,{"$f":"IF(TRIM(BR63)=\"\", \"\", IF(VLOOKUP(BR63,'Footnotes list'!$D$9:$E$58,2,FALSE)=0,\"\",VLOOKUP(BR63,'Footnotes list'!$D$9:$E$58,2,FALSE) ) )","v":""},0.78,null,null,null,{"$f":"IF(TRIM(BW63)=\"\", \"\", IF(VLOOKUP(BW63,'Footnotes list'!$D$9:$E$58,2,FALSE)=0,\"\",VLOOKUP(BW63,'Footnotes list'!$D$9:$E$58,2,FALSE) ) )","v":""},0,null,null,null,{"$f":"IF(TRIM(CB63)=\"\", \"\", IF(VLOOKUP(CB63,'Footnotes list'!$D$9:$E$58,2,FALSE)=0,\"\",VLOOKUP(CB63,'Footnotes list'!$D$9:$E$58,2,FALSE) ) )","v":""},123.69499999999999,null,null,null,{"$f":"IF(TRIM(CG63)=\"\", \"\", IF(VLOOKUP(CG63,'Footnotes list'!$D$9:$E$58,2,FALSE)=0,\"\",VLOOKUP(CG63,'Footnotes list'!$D$9:$E$58,2,FALSE) ) )","v":""},{"$f":"IF(AND(TRIM(BY63)=\"\",TRIM(CD63)=\"\"),\"\",BY63+CD63)","v":123.69499999999999},null,null,null,{"$f":"IF(TRIM(CL63)=\"\", \"\", IF(VLOOKUP(CL63,'Footnotes list'!$D$9:$E$58,2,FALSE)=0,\"\",VLOOKUP(CL63,'Footnotes list'!$D$9:$E$58,2,FALSE) ) )","v":""},38.92,null,null,null,{"$f":"IF(TRIM(CQ63)=\"\", \"\", IF(VLOOKUP(CQ63,'Footnotes list'!$D$9:$E$58,2,FALSE)=0,\"\",VLOOKUP(CQ63,'Footnotes list'!$D$9:$E$58,2,FALSE) ) )","v":""},1173.9860000000001,null,null,null,{"$f":"IF(TRIM(CV63)=\"\", \"\", IF(VLOOKUP(CV63,'Footnotes list'!$D$9:$E$58,2,FALSE)=0,\"\",VLOOKUP(CV63,'Footnotes list'!$D$9:$E$58,2,FALSE) ) )","v":""},131.13,null,null,null,{"$f":"IF(TRIM(DA63)=\"\", \"\", IF(VLOOKUP(DA63,'Footnotes list'!$D$9:$E$58,2,FALSE)=0,\"\",VLOOKUP(DA63,'Footnotes list'!$D$9:$E$58,2,FALSE) ) )","v":""},3017.7289999999998,null,null,null,{"$f":"IF(TRIM(DF63)=\"\", \"\", IF(VLOOKUP(DF63,'Footnotes list'!$D$9:$E$58,2,FALSE)=0,\"\",VLOOKUP(DF63,'Footnotes list'!$D$9:$E$58,2,FALSE) ) )","v":""},{"$f":"IF(AND(TRIM(G63)=\"\",TRIM(L63)=\"\",TRIM(BO63)=\"\",TRIM(BT63)=\"\",TRIM(CI63)=\"\",TRIM(CN63)=\"\",TRIM(CS63)=\"\",TRIM(CX63)=\"\",TRIM(DC63)=\"\"),\"\",SUM(G63,L63,BO63,BT63,CI63,CN63,CS63,CX63,DC63))","v":4520},null,null,null,{"$f":"IF(TRIM(DK63)=\"\", \"\", IF(VLOOKUP(DK63,'Footnotes list'!$D$9:$E$58,2,FALSE)=0,\"\",VLOOKUP(DK63,'Footnotes list'!$D$9:$E$58,2,FALSE) ) )","v":""}]
[null,null,"W081",null,"HAZ_NHAZ","Total",{"$f":"IF(AND(TRIM(G62)=\"\",TRIM(G63)=\"\"),\"\",G62+G63)","v":654.149},null,null,null,{"$f":"IF(TRIM(J64)=\"\", \"\", IF(VLOOKUP(J64,'Footnotes list'!$D$9:$E$58,2,FALSE)=0,\"\",VLOOKUP(J64,'Footnotes list'!$D$9:$E$58,2,FALSE) ) )","v":""},{"$f":"IF(AND(TRIM(L62)=\"\",TRIM(L63)=\"\"),\"\",L62+L63)","v":0},null,null,null,{"$f":"IF(TRIM(O64)=\"\", \"\", IF(VLOOKUP(O64,'Footnotes list'!$D$9:$E$58,2,FALSE)=0,\"\",VLOOKUP(O64,'Footnotes list'!$D$9:$E$58,2,FALSE) ) )","v":""},{"$f":"IF(AND(TRIM(Q62)=\"\",TRIM(Q63)=\"\"),\"\",Q62+Q63)","v":12.62},null,null,null,{"$f":"IF(TRIM(T64)=\"\", \"\", IF(VLOOKUP(T64,'Footnotes list'!$D$9:$E$58,2,FALSE)=0,\"\",VLOOKUP(T64,'Footnotes list'!$D$9:$E$58,2,FALSE) ) )","v":""},{"$f":"IF(AND(TRIM(V62)=\"\",TRIM(V63)=\"\"),\"\",V62+V63)","v":0},null,null,null,{"$f":"IF(TRIM(Y64)=\"\", \"\", IF(VLOOKUP(Y64,'Footnotes list'!$D$9:$E$58,2,FALSE)=0,\"\",VLOOKUP(Y64,'Footnotes list'!$D$9:$E$58,2,FALSE) ) )","v":""},{"$f":"IF(AND(TRIM(AA62)=\"\",TRIM(AA63)=\"\"),\"\",AA62+AA63)","v":0},null,null,null,{"$f":"IF(TRIM(AD64)=\"\", \"\", IF(VLOOKUP(AD64,'Footnotes list'!$D$9:$E$58,2,FALSE)=0,\"\",VLOOKUP(AD64,'Footnotes list'!$D$9:$E$58,2,FALSE) ) )","v":""},{"$f":"IF(AND(TRIM(AF62)=\"\",TRIM(AF63)=\"\"),\"\",AF62+AF63)","v":1},null,null,null,{"$f":"IF(TRIM(AI64)=\"\", \"\", IF(VLOOKUP(AI64,'Footnotes list'!$D$9:$E$58,2,FALSE)=0,\"\",VLOOKUP(AI64,'Footnotes list'!$D$9:$E$58,2,FALSE) ) )","v":""},{"$f":"IF(AND(TRIM(AK62)=\"\",TRIM(AK63)=\"\"),\"\",AK62+AK63)","v":0},null,null,null,{"$f":"IF(TRIM(AN64)=\"\", \"\", IF(VLOOKUP(AN64,'Footnotes list'!$D$9:$E$58,2,FALSE)=0,\"\",VLOOKUP(AN64,'Footnotes list'!$D$9:$E$58,2,FALSE) ) )","v":""},{"$f":"IF(AND(TRIM(AP62)=\"\",TRIM(AP63)=\"\"),\"\",AP62+AP63)","v":1.1000000000000001},null,null,null,{"$f":"IF(TRIM(AS64)=\"\", \"\", IF(VLOOKUP(AS64,'Footnotes list'!$D$9:$E$58,2,FALSE)=0,\"\",VLOOKUP(AS64,'Footnotes list'!$D$9:$E$58,2,FALSE) ) )","v":""},{"$f":"IF(AND(TRIM(AU62)=\"\",TRIM(AU63)=\"\"),\"\",AU62+AU63)","v":4.5199999999999996},null,null,null,{"$f":"IF(TRIM(AX64)=\"\", \"\", IF(VLOOKUP(AX64,'Footnotes list'!$D$9:$E$58,2,FALSE)=0,\"\",VLOOKUP(AX64,'Footnotes list'!$D$9:$E$58,2,FALSE) ) )","v":""},{"$f":"IF(AND(TRIM(AZ62)=\"\",TRIM(AZ63)=\"\"),\"\",AZ62+AZ63)","v":48.74},null,null,null,{"$f":"IF(TRIM(BC64)=\"\", \"\", IF(VLOOKUP(BC64,'Footnotes list'!$D$9:$E$58,2,FALSE)=0,\"\",VLOOKUP(BC64,'Footnotes list'!$D$9:$E$58,2,FALSE) ) )","v":""},{"$f":"IF(AND(TRIM(BE62)=\"\",TRIM(BE63)=\"\"),\"\",BE62+BE63)","v":8.74},null,null,null,{"$f":"IF(TRIM(BH64)=\"\", \"\", IF(VLOOKUP(BH64,'Footnotes list'!$D$9:$E$58,2,FALSE)=0,\"\",VLOOKUP(BH64,'Footnotes list'!$D$9:$E$58,2,FALSE) ) )","v":""},{"$f":"IF(AND(TRIM(BJ62)=\"\",TRIM(BJ63)=\"\"),\"\",BJ62+BJ63)","v":0},null,null,null,{"$f":"IF(TRIM(BM64)=\"\", \"\", IF(VLOOKUP(BM64,'Footnotes list'!$D$9:$E$58,2,FALSE)=0,\"\",VLOOKUP(BM64,'Footnotes list'!$D$9:$E$58,2,FALSE) ) )","v":""},{"$f":"IF(AND(TRIM(BO62)=\"\", TRIM(BO63)=\"\"), \"\", (IF(ISNUMBER(BO62),BO62,0)+IF(ISNUMBER(BO63),BO63,0)))","v":76.72},null,null,null,{"$f":"IF(TRIM(BR64)=\"\", \"\", IF(VLOOKUP(BR64,'Footnotes list'!$D$9:$E$58,2,FALSE)=0,\"\",VLOOKUP(BR64,'Footnotes list'!$D$9:$E$58,2,FALSE) ) )","v":""},{"$f":"IF(AND(TRIM(BT62)=\"\",TRIM(BT63)=\"\"),\"\",BT62+BT63)","v":1.72},null,null,null,{"$f":"IF(TRIM(BW64)=\"\", \"\", IF(VLOOKUP(BW64,'Footnotes list'!$D$9:$E$58,2,FALSE)=0,\"\",VLOOKUP(BW64,'Footnotes list'!$D$9:$E$58,2,FALSE) ) )","v":""},{"$f":"IF(AND(TRIM(BY62)=\"\",TRIM(BY63)=\"\"),\"\",BY62+BY63)","v":3.86},null,null,null,{"$f":"IF(TRIM(CB64)=\"\", \"\", IF(VLOOKUP(CB64,'Footnotes list'!$D$9:$E$58,2,FALSE)=0,\"\",VLOOKUP(CB64,'Footnotes list'!$D$9:$E$58,2,FALSE) ) )","v":""},{"$f":"IF(AND(TRIM(CD62)=\"\",TRIM(CD63)=\"\"),\"\",CD62+CD63)","v":141.11699999999999},null,null,null,{"$f":"IF(TRIM(CG64)=\"\", \"\", IF(VLOOKUP(CG64,'Footnotes list'!$D$9:$E$58,2,FALSE)=0,\"\",VLOOKUP(CG64,'Footnotes list'!$D$9:$E$58,2,FALSE) ) )","v":""},{"$f":"IF(AND(TRIM(CI62)=\"\", TRIM(CI63)=\"\"), \"\", (IF(ISNUMBER(CI62),CI62,0)+IF(ISNUMBER(CI63),CI63,0)))","v":144.977},null,null,null,{"$f":"IF(TRIM(CL64)=\"\", \"\", IF(VLOOKUP(CL64,'Footnotes list'!$D$9:$E$58,2,FALSE)=0,\"\",VLOOKUP(CL64,'Footnotes list'!$D$9:$E$58,2,FALSE) ) )","v":""},{"$f":"IF(AND(TRIM(CN62)=\"\",TRIM(CN63)=\"\"),\"\",CN62+CN63)","v":61.4},null,null,null,{"$f":"IF(TRIM(CQ64)=\"\", \"\", IF(VLOOKUP(CQ64,'Footnotes list'!$D$9:$E$58,2,FALSE)=0,\"\",VLOOKUP(CQ64,'Footnotes list'!$D$9:$E$58,2,FALSE) ) )","v":""},{"$f":"IF(AND(TRIM(CS62)=\"\",TRIM(CS63)=\"\"),\"\",CS62+CS63)","v":2584.4409999999998},null,null,null,{"$f":"IF(TRIM(CV64)=\"\", \"\", IF(VLOOKUP(CV64,'Footnotes list'!$D$9:$E$58,2,FALSE)=0,\"\",VLOOKUP(CV64,'Footnotes list'!$D$9:$E$58,2,FALSE) ) )","v":""},{"$f":"IF(AND(TRIM(CX62)=\"\",TRIM(CX63)=\"\"),\"\",CX62+CX63)","v":164.65},null,null,null,{"$f":"IF(TRIM(DA64)=\"\", \"\", IF(VLOOKUP(DA64,'Footnotes list'!$D$9:$E$58,2,FALSE)=0,\"\",VLOOKUP(DA64,'Footnotes list'!$D$9:$E$58,2,FALSE) ) )","v":""},{"$f":"IF(AND(TRIM(DC62)=\"\",TRIM(DC63)=\"\"),\"\",DC62+DC63)","v":42934.942999999999},null,null,null,{"$f":"IF(TRIM(DF64)=\"\", \"\", IF(VLOOKUP(DF64,'Footnotes list'!$D$9:$E$58,2,FALSE)=0,\"\",VLOOKUP(DF64,'Footnotes list'!$D$9:$E$58,2,FALSE) ) )","v":""},{"$f":"IF(AND(TRIM(DH62)=\"\", TRIM(DH63)=\"\"), \"\", SUM(DH62,DH63) )","v":46623},null,null,null,{"$f":"IF(TRIM(DK64)=\"\", \"\", IF(VLOOKUP(DK64,'Footnotes list'!$D$9:$E$58,2,FALSE)=0,\"\",VLOOKUP(DK64,'Footnotes list'!$D$9:$E$58,2,FALSE) ) )","v":""}]
[null,"W0841","W0841","Batteries and accumulators wastes ","HAZ","Hazardous ",23.14,null,null,null,{"$f":"IF(TRIM(J65)=\"\", \"\", IF(VLOOKUP(J65,'Footnotes list'!$D$9:$E$58,2,FALSE)=0,\"\",VLOOKUP(J65,'Footnotes list'!$D$9:$E$58,2,FALSE) ) )","v":""},13.119,null,null,null,{"$f":"IF(TRIM(O65)=\"\", \"\", IF(VLOOKUP(O65,'Footnotes list'!$D$9:$E$58,2,FALSE)=0,\"\",VLOOKUP(O65,'Footnotes list'!$D$9:$E$58,2,FALSE) ) )","v":""},8.2739999999999991,null,null,null,{"$f":"IF(TRIM(T65)=\"\", \"\", IF(VLOOKUP(T65,'Footnotes list'!$D$9:$E$58,2,FALSE)=0,\"\",VLOOKUP(T65,'Footnotes list'!$D$9:$E$58,2,FALSE) ) )","v":""},2.8530000000000002,null,null,null,{"$f":"IF(TRIM(Y65)=\"\", \"\", IF(VLOOKUP(Y65,'Footnotes list'!$D$9:$E$58,2,FALSE)=0,\"\",VLOOKUP(Y65,'Footnotes list'!$D$9:$E$58,2,FALSE) ) )","v":""},11.603,null,null,null,{"$f":"IF(TRIM(AD65)=\"\", \"\", IF(VLOOKUP(AD65,'Footnotes list'!$D$9:$E$58,2,FALSE)=0,\"\",VLOOKUP(AD65,'Footnotes list'!$D$9:$E$58,2,FALSE) ) )","v":""},0.26100000000000001,null,null,null,{"$f":"IF(TRIM(AI65)=\"\", \"\", IF(VLOOKUP(AI65,'Footnotes list'!$D$9:$E$58,2,FALSE)=0,\"\",VLOOKUP(AI65,'Footnotes list'!$D$9:$E$58,2,FALSE) ) )","v":""},0.05,null,null,null,{"$f":"IF(TRIM(AN65)=\"\", \"\", IF(VLOOKUP(AN65,'Footnotes list'!$D$9:$E$58,2,FALSE)=0,\"\",VLOOKUP(AN65,'Footnotes list'!$D$9:$E$58,2,FALSE) ) )","v":""},10.19,null,null,null,{"$f":"IF(TRIM(AS65)=\"\", \"\", IF(VLOOKUP(AS65,'Footnotes list'!$D$9:$E$58,2,FALSE)=0,\"\",VLOOKUP(AS65,'Footnotes list'!$D$9:$E$58,2,FALSE) ) )","v":""},9.4109999999999996,null,null,null,{"$f":"IF(TRIM(AX65)=\"\", \"\", IF(VLOOKUP(AX65,'Footnotes list'!$D$9:$E$58,2,FALSE)=0,\"\",VLOOKUP(AX65,'Footnotes list'!$D$9:$E$58,2,FALSE) ) )","v":""},2337.16,null,null,null,{"$f":"IF(TRIM(BC65)=\"\", \"\", IF(VLOOKUP(BC65,'Footnotes list'!$D$9:$E$58,2,FALSE)=0,\"\",VLOOKUP(BC65,'Footnotes list'!$D$9:$E$58,2,FALSE) ) )","v":""},149.03200000000001,null,null,null,{"$f":"IF(TRIM(BH65)=\"\", \"\", IF(VLOOKUP(BH65,'Footnotes list'!$D$9:$E$58,2,FALSE)=0,\"\",VLOOKUP(BH65,'Footnotes list'!$D$9:$E$58,2,FALSE) ) )","v":""},81.680000000000007,null,null,null,{"$f":"IF(TRIM(BM65)=\"\", \"\", IF(VLOOKUP(BM65,'Footnotes list'!$D$9:$E$58,2,FALSE)=0,\"\",VLOOKUP(BM65,'Footnotes list'!$D$9:$E$58,2,FALSE) ) )","v":""},{"$f":"IF(AND(TRIM(Q65)=\"\",TRIM(V65)=\"\",TRIM(AA65)=\"\", TRIM(AF65)=\"\", TRIM(AK65)=\"\", TRIM(AP65)=\"\", TRIM(AU65)=\"\", TRIM(AZ65)=\"\", TRIM(BE65)=\"\", TRIM(BJ65)=\"\"),\"\",Q65+V65+AA65+AF65+AK65+AP65+AU65+AZ65+BE65+BJ65)","v":2610.5140000000001},null,null,null,{"$f":"IF(TRIM(BR65)=\"\", \"\", IF(VLOOKUP(BR65,'Footnotes list'!$D$9:$E$58,2,FALSE)=0,\"\",VLOOKUP(BR65,'Footnotes list'!$D$9:$E$58,2,FALSE) ) )","v":""},60.488999999999997,null,null,null,{"$f":"IF(TRIM(BW65)=\"\", \"\", IF(VLOOKUP(BW65,'Footnotes list'!$D$9:$E$58,2,FALSE)=0,\"\",VLOOKUP(BW65,'Footnotes list'!$D$9:$E$58,2,FALSE) ) )","v":""},3.11,null,null,null,{"$f":"IF(TRIM(CB65)=\"\", \"\", IF(VLOOKUP(CB65,'Footnotes list'!$D$9:$E$58,2,FALSE)=0,\"\",VLOOKUP(CB65,'Footnotes list'!$D$9:$E$58,2,FALSE) ) )","v":""},1052.4459999999999,null,null,null,{"$f":"IF(TRIM(CG65)=\"\", \"\", IF(VLOOKUP(CG65,'Footnotes list'!$D$9:$E$58,2,FALSE)=0,\"\",VLOOKUP(CG65,'Footnotes list'!$D$9:$E$58,2,FALSE) ) )","v":""},{"$f":"IF(AND(TRIM(BY65)=\"\",TRIM(CD65)=\"\"),\"\",BY65+CD65)","v":1055.556},null,null,null,{"$f":"IF(TRIM(CL65)=\"\", \"\", IF(VLOOKUP(CL65,'Footnotes list'!$D$9:$E$58,2,FALSE)=0,\"\",VLOOKUP(CL65,'Footnotes list'!$D$9:$E$58,2,FALSE) ) )","v":""},62.128999999999998,null,null,null,{"$f":"IF(TRIM(CQ65)=\"\", \"\", IF(VLOOKUP(CQ65,'Footnotes list'!$D$9:$E$58,2,FALSE)=0,\"\",VLOOKUP(CQ65,'Footnotes list'!$D$9:$E$58,2,FALSE) ) )","v":""},1075.558,null,null,null,{"$f":"IF(TRIM(CV65)=\"\", \"\", IF(VLOOKUP(CV65,'Footnotes list'!$D$9:$E$58,2,FALSE)=0,\"\",VLOOKUP(CV65,'Footnotes list'!$D$9:$E$58,2,FALSE) ) )","v":""},0,null,null,null,{"$f":"IF(TRIM(DA65)=\"\", \"\", IF(VLOOKUP(DA65,'Footnotes list'!$D$9:$E$58,2,FALSE)=0,\"\",VLOOKUP(DA65,'Footnotes list'!$D$9:$E$58,2,FALSE) ) )","v":""},6063.9930000000004,null,null,null,{"$f":"IF(TRIM(DF65)=\"\", \"\", IF(VLOOKUP(DF65,'Footnotes list'!$D$9:$E$58,2,FALSE)=0,\"\",VLOOKUP(DF65,'Footnotes list'!$D$9:$E$58,2,FALSE) ) )","v":""},{"$f":"IF(AND(TRIM(G65)=\"\",TRIM(L65)=\"\",TRIM(BO65)=\"\",TRIM(BT65)=\"\",TRIM(CI65)=\"\",TRIM(CN65)=\"\",TRIM(CS65)=\"\",TRIM(CX65)=\"\",TRIM(DC65)=\"\"),\"\",SUM(G65,L65,BO65,BT65,CI65,CN65,CS65,CX65,DC65))","v":10964.498},null,null,null,{"$f":"IF(TRIM(DK65)=\"\", \"\", IF(VLOOKUP(DK65,'Footnotes list'!$D$9:$E$58,2,FALSE)=0,\"\",VLOOKUP(DK65,'Footnotes list'!$D$9:$E$58,2,FALSE) ) )","v":""}]
[null,null,"W0841",null,"NHAZ","Non-hazardous",0,null,null,null,{"$f":"IF(TRIM(J66)=\"\", \"\", IF(VLOOKUP(J66,'Footnotes list'!$D$9:$E$58,2,FALSE)=0,\"\",VLOOKUP(J66,'Footnotes list'!$D$9:$E$58,2,FALSE) ) )","v":""},0.06,null,null,null,{"$f":"IF(TRIM(O66)=\"\", \"\", IF(VLOOKUP(O66,'Footnotes list'!$D$9:$E$58,2,FALSE)=0,\"\",VLOOKUP(O66,'Footnotes list'!$D$9:$E$58,2,FALSE) ) )","v":""},0.36299999999999999,null,null,null,{"$f":"IF(TRIM(T66)=\"\", \"\", IF(VLOOKUP(T66,'Footnotes list'!$D$9:$E$58,2,FALSE)=0,\"\",VLOOKUP(T66,'Footnotes list'!$D$9:$E$58,2,FALSE) ) )","v":""},0,null,null,null,{"$f":"IF(TRIM(Y66)=\"\", \"\", IF(VLOOKUP(Y66,'Footnotes list'!$D$9:$E$58,2,FALSE)=0,\"\",VLOOKUP(Y66,'Footnotes list'!$D$9:$E$58,2,FALSE) ) )","v":""},0,null,null,null,{"$f":"IF(TRIM(AD66)=\"\", \"\", IF(VLOOKUP(AD66,'Footnotes list'!$D$9:$E$58,2,FALSE)=0,\"\",VLOOKUP(AD66,'Footnotes list'!$D$9:$E$58,2,FALSE) ) )","v":""},4.1000000000000002E-2,null,null,null,{"$f":"IF(TRIM(AI66)=\"\", \"\", IF(VLOOKUP(AI66,'Footnotes list'!$D$9:$E$58,2,FALSE)=0,\"\",VLOOKUP(AI66,'Footnotes list'!$D$9:$E$58,2,FALSE) ) )","v":""},4.1000000000000002E-2,null,null,null,{"$f":"IF(TRIM(AN66)=\"\", \"\", IF(VLOOKUP(AN66,'Footnotes list'!$D$9:$E$58,2,FALSE)=0,\"\",VLOOKUP(AN66,'Footnotes list'!$D$9:$E$58,2,FALSE) ) )","v":""},5.3999999999999999E-2,null,null,null,{"$f":"IF(TRIM(AS66)=\"\", \"\", IF(VLOOKUP(AS66,'Footnotes list'!$D$9:$E$58,2,FALSE)=0,\"\",VLOOKUP(AS66,'Footnotes list'!$D$9:$E$58,2,FALSE) ) )","v":""},1.6E-2,null,null,null,{"$f":"IF(TRIM(AX66)=\"\", \"\", IF(VLOOKUP(AX66,'Footnotes list'!$D$9:$E$58,2,FALSE)=0,\"\",VLOOKUP(AX66,'Footnotes list'!$D$9:$E$58,2,FALSE) ) )","v":""},32.984999999999999,null,null,null,{"$f":"IF(TRIM(BC66)=\"\", \"\", IF(VLOOKUP(BC66,'Footnotes list'!$D$9:$E$58,2,FALSE)=0,\"\",VLOOKUP(BC66,'Footnotes list'!$D$9:$E$58,2,FALSE) ) )","v":""},38.567999999999998,null,null,null,{"$f":"IF(TRIM(BH66)=\"\", \"\", IF(VLOOKUP(BH66,'Footnotes list'!$D$9:$E$58,2,FALSE)=0,\"\",VLOOKUP(BH66,'Footnotes list'!$D$9:$E$58,2,FALSE) ) )","v":""},8.5000000000000006E-2,null,null,null,{"$f":"IF(TRIM(BM66)=\"\", \"\", IF(VLOOKUP(BM66,'Footnotes list'!$D$9:$E$58,2,FALSE)=0,\"\",VLOOKUP(BM66,'Footnotes list'!$D$9:$E$58,2,FALSE) ) )","v":""},{"$f":"IF(AND(TRIM(Q66)=\"\",TRIM(V66)=\"\",TRIM(AA66)=\"\", TRIM(AF66)=\"\", TRIM(AK66)=\"\", TRIM(AP66)=\"\", TRIM(AU66)=\"\", TRIM(AZ66)=\"\", TRIM(BE66)=\"\", TRIM(BJ66)=\"\"),\"\",Q66+V66+AA66+AF66+AK66+AP66+AU66+AZ66+BE66+BJ66)","v":72.153000000000006},null,null,null,{"$f":"IF(TRIM(BR66)=\"\", \"\", IF(VLOOKUP(BR66,'Footnotes list'!$D$9:$E$58,2,FALSE)=0,\"\",VLOOKUP(BR66,'Footnotes list'!$D$9:$E$58,2,FALSE) ) )","v":""},3.7999999999999999E-2,null,null,null,{"$f":"IF(TRIM(BW66)=\"\", \"\", IF(VLOOKUP(BW66,'Footnotes list'!$D$9:$E$58,2,FALSE)=0,\"\",VLOOKUP(BW66,'Footnotes list'!$D$9:$E$58,2,FALSE) ) )","v":""},2.3E-2,null,null,null,{"$f":"IF(TRIM(CB66)=\"\", \"\", IF(VLOOKUP(CB66,'Footnotes list'!$D$9:$E$58,2,FALSE)=0,\"\",VLOOKUP(CB66,'Footnotes list'!$D$9:$E$58,2,FALSE) ) )","v":""},0.59799999999999998,null,null,null,{"$f":"IF(TRIM(CG66)=\"\", \"\", IF(VLOOKUP(CG66,'Footnotes list'!$D$9:$E$58,2,FALSE)=0,\"\",VLOOKUP(CG66,'Footnotes list'!$D$9:$E$58,2,FALSE) ) )","v":""},{"$f":"IF(AND(TRIM(BY66)=\"\",TRIM(CD66)=\"\"),\"\",BY66+CD66)","v":0.621},null,null,null,{"$f":"IF(TRIM(CL66)=\"\", \"\", IF(VLOOKUP(CL66,'Footnotes list'!$D$9:$E$58,2,FALSE)=0,\"\",VLOOKUP(CL66,'Footnotes list'!$D$9:$E$58,2,FALSE) ) )","v":""},0,null,null,null,{"$f":"IF(TRIM(CQ66)=\"\", \"\", IF(VLOOKUP(CQ66,'Footnotes list'!$D$9:$E$58,2,FALSE)=0,\"\",VLOOKUP(CQ66,'Footnotes list'!$D$9:$E$58,2,FALSE) ) )","v":""},34.292999999999999,null,null,null,{"$f":"IF(TRIM(CV66)=\"\", \"\", IF(VLOOKUP(CV66,'Footnotes list'!$D$9:$E$58,2,FALSE)=0,\"\",VLOOKUP(CV66,'Footnotes list'!$D$9:$E$58,2,FALSE) ) )","v":""},0,null,null,null,{"$f":"IF(TRIM(DA66)=\"\", \"\", IF(VLOOKUP(DA66,'Footnotes list'!$D$9:$E$58,2,FALSE)=0,\"\",VLOOKUP(DA66,'Footnotes list'!$D$9:$E$58,2,FALSE) ) )","v":""},18.091000000000001,null,null,null,{"$f":"IF(TRIM(DF66)=\"\", \"\", IF(VLOOKUP(DF66,'Footnotes list'!$D$9:$E$58,2,FALSE)=0,\"\",VLOOKUP(DF66,'Footnotes list'!$D$9:$E$58,2,FALSE) ) )","v":""},{"$f":"IF(AND(TRIM(G66)=\"\",TRIM(L66)=\"\",TRIM(BO66)=\"\",TRIM(BT66)=\"\",TRIM(CI66)=\"\",TRIM(CN66)=\"\",TRIM(CS66)=\"\",TRIM(CX66)=\"\",TRIM(DC66)=\"\"),\"\",SUM(G66,L66,BO66,BT66,CI66,CN66,CS66,CX66,DC66))","v":125.256},null,null,null,{"$f":"IF(TRIM(DK66)=\"\", \"\", IF(VLOOKUP(DK66,'Footnotes list'!$D$9:$E$58,2,FALSE)=0,\"\",VLOOKUP(DK66,'Footnotes list'!$D$9:$E$58,2,FALSE) ) )","v":""}]
[null,null,"W0841",null,"HAZ_NHAZ","Total",{"$f":"IF(AND(TRIM(G65)=\"\",TRIM(G66)=\"\"),\"\",G65+G66)","v":23.14},null,null,null,{"$f":"IF(TRIM(J67)=\"\", \"\", IF(VLOOKUP(J67,'Footnotes list'!$D$9:$E$58,2,FALSE)=0,\"\",VLOOKUP(J67,'Footnotes list'!$D$9:$E$58,2,FALSE) ) )","v":""},{"$f":"IF(AND(TRIM(L65)=\"\",TRIM(L66)=\"\"),\"\",L65+L66)","v":13.179},null,null,null,{"$f":"IF(TRIM(O67)=\"\", \"\", IF(VLOOKUP(O67,'Footnotes list'!$D$9:$E$58,2,FALSE)=0,\"\",VLOOKUP(O67,'Footnotes list'!$D$9:$E$58,2,FALSE) ) )","v":""},{"$f":"IF(AND(TRIM(Q65)=\"\",TRIM(Q66)=\"\"),\"\",Q65+Q66)","v":8.6370000000000005},null,null,null,{"$f":"IF(TRIM(T67)=\"\", \"\", IF(VLOOKUP(T67,'Footnotes list'!$D$9:$E$58,2,FALSE)=0,\"\",VLOOKUP(T67,'Footnotes list'!$D$9:$E$58,2,FALSE) ) )","v":""},{"$f":"IF(AND(TRIM(V65)=\"\",TRIM(V66)=\"\"),\"\",V65+V66)","v":2.8530000000000002},null,null,null,{"$f":"IF(TRIM(Y67)=\"\", \"\", IF(VLOOKUP(Y67,'Footnotes list'!$D$9:$E$58,2,FALSE)=0,\"\",VLOOKUP(Y67,'Footnotes list'!$D$9:$E$58,2,FALSE) ) )","v":""},{"$f":"IF(AND(TRIM(AA65)=\"\",TRIM(AA66)=\"\"),\"\",AA65+AA66)","v":11.603},null,null,null,{"$f":"IF(TRIM(AD67)=\"\", \"\", IF(VLOOKUP(AD67,'Footnotes list'!$D$9:$E$58,2,FALSE)=0,\"\",VLOOKUP(AD67,'Footnotes list'!$D$9:$E$58,2,FALSE) ) )","v":""},{"$f":"IF(AND(TRIM(AF65)=\"\",TRIM(AF66)=\"\"),\"\",AF65+AF66)","v":0.30199999999999999},null,null,null,{"$f":"IF(TRIM(AI67)=\"\", \"\", IF(VLOOKUP(AI67,'Footnotes list'!$D$9:$E$58,2,FALSE)=0,\"\",VLOOKUP(AI67,'Footnotes list'!$D$9:$E$58,2,FALSE) ) )","v":""},{"$f":"IF(AND(TRIM(AK65)=\"\",TRIM(AK66)=\"\"),\"\",AK65+AK66)","v":9.0999999999999998E-2},null,null,null,{"$f":"IF(TRIM(AN67)=\"\", \"\", IF(VLOOKUP(AN67,'Footnotes list'!$D$9:$E$58,2,FALSE)=0,\"\",VLOOKUP(AN67,'Footnotes list'!$D$9:$E$58,2,FALSE) ) )","v":""},{"$f":"IF(AND(TRIM(AP65)=\"\",TRIM(AP66)=\"\"),\"\",AP65+AP66)","v":10.244},null,null,null,{"$f":"IF(TRIM(AS67)=\"\", \"\", IF(VLOOKUP(AS67,'Footnotes list'!$D$9:$E$58,2,FALSE)=0,\"\",VLOOKUP(AS67,'Footnotes list'!$D$9:$E$58,2,FALSE) ) )","v":""},{"$f":"IF(AND(TRIM(AU65)=\"\",TRIM(AU66)=\"\"),\"\",AU65+AU66)","v":9.4269999999999996},null,null,null,{"$f":"IF(TRIM(AX67)=\"\", \"\", IF(VLOOKUP(AX67,'Footnotes list'!$D$9:$E$58,2,FALSE)=0,\"\",VLOOKUP(AX67,'Footnotes list'!$D$9:$E$58,2,FALSE) ) )","v":""},{"$f":"IF(AND(TRIM(AZ65)=\"\",TRIM(AZ66)=\"\"),\"\",AZ65+AZ66)","v":2370.145},null,null,null,{"$f":"IF(TRIM(BC67)=\"\", \"\", IF(VLOOKUP(BC67,'Footnotes list'!$D$9:$E$58,2,FALSE)=0,\"\",VLOOKUP(BC67,'Footnotes list'!$D$9:$E$58,2,FALSE) ) )","v":""},{"$f":"IF(AND(TRIM(BE65)=\"\",TRIM(BE66)=\"\"),\"\",BE65+BE66)","v":187.6},null,null,null,{"$f":"IF(TRIM(BH67)=\"\", \"\", IF(VLOOKUP(BH67,'Footnotes list'!$D$9:$E$58,2,FALSE)=0,\"\",VLOOKUP(BH67,'Footnotes list'!$D$9:$E$58,2,FALSE) ) )","v":""},{"$f":"IF(AND(TRIM(BJ65)=\"\",TRIM(BJ66)=\"\"),\"\",BJ65+BJ66)","v":81.765000000000001},null,null,null,{"$f":"IF(TRIM(BM67)=\"\", \"\", IF(VLOOKUP(BM67,'Footnotes list'!$D$9:$E$58,2,FALSE)=0,\"\",VLOOKUP(BM67,'Footnotes list'!$D$9:$E$58,2,FALSE) ) )","v":""},{"$f":"IF(AND(TRIM(BO65)=\"\", TRIM(BO66)=\"\"), \"\", (IF(ISNUMBER(BO65),BO65,0)+IF(ISNUMBER(BO66),BO66,0)))","v":2682.6669999999999},null,null,null,{"$f":"IF(TRIM(BR67)=\"\", \"\", IF(VLOOKUP(BR67,'Footnotes list'!$D$9:$E$58,2,FALSE)=0,\"\",VLOOKUP(BR67,'Footnotes list'!$D$9:$E$58,2,FALSE) ) )","v":""},{"$f":"IF(AND(TRIM(BT65)=\"\",TRIM(BT66)=\"\"),\"\",BT65+BT66)","v":60.527000000000001},null,null,null,{"$f":"IF(TRIM(BW67)=\"\", \"\", IF(VLOOKUP(BW67,'Footnotes list'!$D$9:$E$58,2,FALSE)=0,\"\",VLOOKUP(BW67,'Footnotes list'!$D$9:$E$58,2,FALSE) ) )","v":""},{"$f":"IF(AND(TRIM(BY65)=\"\",TRIM(BY66)=\"\"),\"\",BY65+BY66)","v":3.133},null,null,null,{"$f":"IF(TRIM(CB67)=\"\", \"\", IF(VLOOKUP(CB67,'Footnotes list'!$D$9:$E$58,2,FALSE)=0,\"\",VLOOKUP(CB67,'Footnotes list'!$D$9:$E$58,2,FALSE) ) )","v":""},{"$f":"IF(AND(TRIM(CD65)=\"\",TRIM(CD66)=\"\"),\"\",CD65+CD66)","v":1053.0440000000001},null,null,null,{"$f":"IF(TRIM(CG67)=\"\", \"\", IF(VLOOKUP(CG67,'Footnotes list'!$D$9:$E$58,2,FALSE)=0,\"\",VLOOKUP(CG67,'Footnotes list'!$D$9:$E$58,2,FALSE) ) )","v":""},{"$f":"IF(AND(TRIM(CI65)=\"\", TRIM(CI66)=\"\"), \"\", (IF(ISNUMBER(CI65),CI65,0)+IF(ISNUMBER(CI66),CI66,0)))","v":1056.1769999999999},null,null,null,{"$f":"IF(TRIM(CL67)=\"\", \"\", IF(VLOOKUP(CL67,'Footnotes list'!$D$9:$E$58,2,FALSE)=0,\"\",VLOOKUP(CL67,'Footnotes list'!$D$9:$E$58,2,FALSE) ) )","v":""},{"$f":"IF(AND(TRIM(CN65)=\"\",TRIM(CN66)=\"\"),\"\",CN65+CN66)","v":62.128999999999998},null,null,null,{"$f":"IF(TRIM(CQ67)=\"\", \"\", IF(VLOOKUP(CQ67,'Footnotes list'!$D$9:$E$58,2,FALSE)=0,\"\",VLOOKUP(CQ67,'Footnotes list'!$D$9:$E$58,2,FALSE) ) )","v":""},{"$f":"IF(AND(TRIM(CS65)=\"\",TRIM(CS66)=\"\"),\"\",CS65+CS66)","v":1109.8510000000001},null,null,null,{"$f":"IF(TRIM(CV67)=\"\", \"\", IF(VLOOKUP(CV67,'Footnotes list'!$D$9:$E$58,2,FALSE)=0,\"\",VLOOKUP(CV67,'Footnotes list'!$D$9:$E$58,2,FALSE) ) )","v":""},{"$f":"IF(AND(TRIM(CX65)=\"\",TRIM(CX66)=\"\"),\"\",CX65+CX66)","v":0},null,null,null,{"$f":"IF(TRIM(DA67)=\"\", \"\", IF(VLOOKUP(DA67,'Footnotes list'!$D$9:$E$58,2,FALSE)=0,\"\",VLOOKUP(DA67,'Footnotes list'!$D$9:$E$58,2,FALSE) ) )","v":""},{"$f":"IF(AND(TRIM(DC65)=\"\",TRIM(DC66)=\"\"),\"\",DC65+DC66)","v":6082.0839999999998},null,null,null,{"$f":"IF(TRIM(DF67)=\"\", \"\", IF(VLOOKUP(DF67,'Footnotes list'!$D$9:$E$58,2,FALSE)=0,\"\",VLOOKUP(DF67,'Footnotes list'!$D$9:$E$58,2,FALSE) ) )","v":""},{"$f":"IF(AND(TRIM(DH65)=\"\", TRIM(DH66)=\"\"), \"\", SUM(DH65,DH66) )","v":11089.754000000001},null,null,null,{"$f":"IF(TRIM(DK67)=\"\", \"\", IF(VLOOKUP(DK67,'Footnotes list'!$D$9:$E$58,2,FALSE)=0,\"\",VLOOKUP(DK67,'Footnotes list'!$D$9:$E$58,2,FALSE) ) )","v":""}]
[null,"W091",null,"Animal and mixed food waste ",null,"Not applicable"]
[null,null,"W091",null,"NHAZ","Non-hazardous",591.29,null,null,null,{"$f":"IF(TRIM(J69)=\"\", \"\", IF(VLOOKUP(J69,'Footnotes list'!$D$9:$E$58,2,FALSE)=0,\"\",VLOOKUP(J69,'Footnotes list'!$D$9:$E$58,2,FALSE) ) )","v":""},0,null,null,null,{"$f":"IF(TRIM(O69)=\"\", \"\", IF(VLOOKUP(O69,'Footnotes list'!$D$9:$E$58,2,FALSE)=0,\"\",VLOOKUP(O69,'Footnotes list'!$D$9:$E$58,2,FALSE) ) )","v":""},33729.069000000003,null,null,null,{"$f":"IF(TRIM(T69)=\"\", \"\", IF(VLOOKUP(T69,'Footnotes list'!$D$9:$E$58,2,FALSE)=0,\"\",VLOOKUP(T69,'Footnotes list'!$D$9:$E$58,2,FALSE) ) )","v":""},2.613,null,null,null,{"$f":"IF(TRIM(Y69)=\"\", \"\", IF(VLOOKUP(Y69,'Footnotes list'!$D$9:$E$58,2,FALSE)=0,\"\",VLOOKUP(Y69,'Footnotes list'!$D$9:$E$58,2,FALSE) ) )","v":""},0.85,null,null,null,{"$f":"IF(TRIM(AD69)=\"\", \"\", IF(VLOOKUP(AD69,'Footnotes list'!$D$9:$E$58,2,FALSE)=0,\"\",VLOOKUP(AD69,'Footnotes list'!$D$9:$E$58,2,FALSE) ) )","v":""},32.238999999999997,null,null,null,{"$f":"IF(TRIM(AI69)=\"\", \"\", IF(VLOOKUP(AI69,'Footnotes list'!$D$9:$E$58,2,FALSE)=0,\"\",VLOOKUP(AI69,'Footnotes list'!$D$9:$E$58,2,FALSE) ) )","v":""},9.6199999999999992,null,null,null,{"$f":"IF(TRIM(AN69)=\"\", \"\", IF(VLOOKUP(AN69,'Footnotes list'!$D$9:$E$58,2,FALSE)=0,\"\",VLOOKUP(AN69,'Footnotes list'!$D$9:$E$58,2,FALSE) ) )","v":""},27.805,null,null,null,{"$f":"IF(TRIM(AS69)=\"\", \"\", IF(VLOOKUP(AS69,'Footnotes list'!$D$9:$E$58,2,FALSE)=0,\"\",VLOOKUP(AS69,'Footnotes list'!$D$9:$E$58,2,FALSE) ) )","v":""},9.91,null,null,null,{"$f":"IF(TRIM(AX69)=\"\", \"\", IF(VLOOKUP(AX69,'Footnotes list'!$D$9:$E$58,2,FALSE)=0,\"\",VLOOKUP(AX69,'Footnotes list'!$D$9:$E$58,2,FALSE) ) )","v":""},15.115,null,null,null,{"$f":"IF(TRIM(BC69)=\"\", \"\", IF(VLOOKUP(BC69,'Footnotes list'!$D$9:$E$58,2,FALSE)=0,\"\",VLOOKUP(BC69,'Footnotes list'!$D$9:$E$58,2,FALSE) ) )","v":""},39.139000000000003,null,null,null,{"$f":"IF(TRIM(BH69)=\"\", \"\", IF(VLOOKUP(BH69,'Footnotes list'!$D$9:$E$58,2,FALSE)=0,\"\",VLOOKUP(BH69,'Footnotes list'!$D$9:$E$58,2,FALSE) ) )","v":""},16.445,null,null,null,{"$f":"IF(TRIM(BM69)=\"\", \"\", IF(VLOOKUP(BM69,'Footnotes list'!$D$9:$E$58,2,FALSE)=0,\"\",VLOOKUP(BM69,'Footnotes list'!$D$9:$E$58,2,FALSE) ) )","v":""},{"$f":"IF(AND(TRIM(Q69)=\"\",TRIM(V69)=\"\",TRIM(AA69)=\"\", TRIM(AF69)=\"\", TRIM(AK69)=\"\", TRIM(AP69)=\"\", TRIM(AU69)=\"\", TRIM(AZ69)=\"\", TRIM(BE69)=\"\", TRIM(BJ69)=\"\"),\"\",Q69+V69+AA69+AF69+AK69+AP69+AU69+AZ69+BE69+BJ69)","v":33882.805},null,null,null,{"$f":"IF(TRIM(BR69)=\"\", \"\", IF(VLOOKUP(BR69,'Footnotes list'!$D$9:$E$58,2,FALSE)=0,\"\",VLOOKUP(BR69,'Footnotes list'!$D$9:$E$58,2,FALSE) ) )","v":""},2383.855,null,null,null,{"$f":"IF(TRIM(BW69)=\"\", \"\", IF(VLOOKUP(BW69,'Footnotes list'!$D$9:$E$58,2,FALSE)=0,\"\",VLOOKUP(BW69,'Footnotes list'!$D$9:$E$58,2,FALSE) ) )","v":""},497.77300000000002,null,null,null,{"$f":"IF(TRIM(CB69)=\"\", \"\", IF(VLOOKUP(CB69,'Footnotes list'!$D$9:$E$58,2,FALSE)=0,\"\",VLOOKUP(CB69,'Footnotes list'!$D$9:$E$58,2,FALSE) ) )","v":""},7228.09,null,null,null,{"$f":"IF(TRIM(CG69)=\"\", \"\", IF(VLOOKUP(CG69,'Footnotes list'!$D$9:$E$58,2,FALSE)=0,\"\",VLOOKUP(CG69,'Footnotes list'!$D$9:$E$58,2,FALSE) ) )","v":""},{"$f":"IF(AND(TRIM(BY69)=\"\",TRIM(CD69)=\"\"),\"\",BY69+CD69)","v":7725.8630000000003},null,null,null,{"$f":"IF(TRIM(CL69)=\"\", \"\", IF(VLOOKUP(CL69,'Footnotes list'!$D$9:$E$58,2,FALSE)=0,\"\",VLOOKUP(CL69,'Footnotes list'!$D$9:$E$58,2,FALSE) ) )","v":""},11.166,null,null,null,{"$f":"IF(TRIM(CQ69)=\"\", \"\", IF(VLOOKUP(CQ69,'Footnotes list'!$D$9:$E$58,2,FALSE)=0,\"\",VLOOKUP(CQ69,'Footnotes list'!$D$9:$E$58,2,FALSE) ) )","v":""},27154.063999999998,null,null,null,{"$f":"IF(TRIM(CV69)=\"\", \"\", IF(VLOOKUP(CV69,'Footnotes list'!$D$9:$E$58,2,FALSE)=0,\"\",VLOOKUP(CV69,'Footnotes list'!$D$9:$E$58,2,FALSE) ) )","v":""},0,null,null,null,{"$f":"IF(TRIM(DA69)=\"\", \"\", IF(VLOOKUP(DA69,'Footnotes list'!$D$9:$E$58,2,FALSE)=0,\"\",VLOOKUP(DA69,'Footnotes list'!$D$9:$E$58,2,FALSE) ) )","v":""},58389.571000000004,null,null,null,{"$f":"IF(TRIM(DF69)=\"\", \"\", IF(VLOOKUP(DF69,'Footnotes list'!$D$9:$E$58,2,FALSE)=0,\"\",VLOOKUP(DF69,'Footnotes list'!$D$9:$E$58,2,FALSE) ) )","v":""},{"$f":"IF(AND(TRIM(G69)=\"\",TRIM(L69)=\"\",TRIM(BO69)=\"\",TRIM(BT69)=\"\",TRIM(CI69)=\"\",TRIM(CN69)=\"\",TRIM(CS69)=\"\",TRIM(CX69)=\"\",TRIM(DC69)=\"\"),\"\",SUM(G69,L69,BO69,BT69,CI69,CN69,CS69,CX69,DC69))","v":130138.614},null,null,null,{"$f":"IF(TRIM(DK69)=\"\", \"\", IF(VLOOKUP(DK69,'Footnotes list'!$D$9:$E$58,2,FALSE)=0,\"\",VLOOKUP(DK69,'Footnotes list'!$D$9:$E$58,2,FALSE) ) )","v":""}]
[null,null,"W091",null,"HAZ_NHAZ","Total",{"$f":"IF(AND(TRIM(G68)=\"\",TRIM(G69)=\"\"),\"\",G68+G69)","v":591.29},null,null,null,{"$f":"IF(TRIM(J70)=\"\", \"\", IF(VLOOKUP(J70,'Footnotes list'!$D$9:$E$58,2,FALSE)=0,\"\",VLOOKUP(J70,'Footnotes list'!$D$9:$E$58,2,FALSE) ) )","v":""},{"$f":"IF(AND(TRIM(L68)=\"\",TRIM(L69)=\"\"),\"\",L68+L69)","v":0},null,null,null,{"$f":"IF(TRIM(O70)=\"\", \"\", IF(VLOOKUP(O70,'Footnotes list'!$D$9:$E$58,2,FALSE)=0,\"\",VLOOKUP(O70,'Footnotes list'!$D$9:$E$58,2,FALSE) ) )","v":""},{"$f":"IF(AND(TRIM(Q68)=\"\",TRIM(Q69)=\"\"),\"\",Q68+Q69)","v":33729.069000000003},null,null,null,{"$f":"IF(TRIM(T70)=\"\", \"\", IF(VLOOKUP(T70,'Footnotes list'!$D$9:$E$58,2,FALSE)=0,\"\",VLOOKUP(T70,'Footnotes list'!$D$9:$E$58,2,FALSE) ) )","v":""},{"$f":"IF(AND(TRIM(V68)=\"\",TRIM(V69)=\"\"),\"\",V68+V69)","v":2.613},null,null,null,{"$f":"IF(TRIM(Y70)=\"\", \"\", IF(VLOOKUP(Y70,'Footnotes list'!$D$9:$E$58,2,FALSE)=0,\"\",VLOOKUP(Y70,'Footnotes list'!$D$9:$E$58,2,FALSE) ) )","v":""},{"$f":"IF(AND(TRIM(AA68)=\"\",TRIM(AA69)=\"\"),\"\",AA68+AA69)","v":0.85},null,null,null,{"$f":"IF(TRIM(AD70)=\"\", \"\", IF(VLOOKUP(AD70,'Footnotes list'!$D$9:$E$58,2,FALSE)=0,\"\",VLOOKUP(AD70,'Footnotes list'!$D$9:$E$58,2,FALSE) ) )","v":""},{"$f":"IF(AND(TRIM(AF68)=\"\",TRIM(AF69)=\"\"),\"\",AF68+AF69)","v":32.238999999999997},null,null,null,{"$f":"IF(TRIM(AI70)=\"\", \"\", IF(VLOOKUP(AI70,'Footnotes list'!$D$9:$E$58,2,FALSE)=0,\"\",VLOOKUP(AI70,'Footnotes list'!$D$9:$E$58,2,FALSE) ) )","v":""},{"$f":"IF(AND(TRIM(AK68)=\"\",TRIM(AK69)=\"\"),\"\",AK68+AK69)","v":9.6199999999999992},null,null,null,{"$f":"IF(TRIM(AN70)=\"\", \"\", IF(VLOOKUP(AN70,'Footnotes list'!$D$9:$E$58,2,FALSE)=0,\"\",VLOOKUP(AN70,'Footnotes list'!$D$9:$E$58,2,FALSE) ) )","v":""},{"$f":"IF(AND(TRIM(AP68)=\"\",TRIM(AP69)=\"\"),\"\",AP68+AP69)","v":27.805},null,null,null,{"$f":"IF(TRIM(AS70)=\"\", \"\", IF(VLOOKUP(AS70,'Footnotes list'!$D$9:$E$58,2,FALSE)=0,\"\",VLOOKUP(AS70,'Footnotes list'!$D$9:$E$58,2,FALSE) ) )","v":""},{"$f":"IF(AND(TRIM(AU68)=\"\",TRIM(AU69)=\"\"),\"\",AU68+AU69)","v":9.91},null,null,null,{"$f":"IF(TRIM(AX70)=\"\", \"\", IF(VLOOKUP(AX70,'Footnotes list'!$D$9:$E$58,2,FALSE)=0,\"\",VLOOKUP(AX70,'Footnotes list'!$D$9:$E$58,2,FALSE) ) )","v":""},{"$f":"IF(AND(TRIM(AZ68)=\"\",TRIM(AZ69)=\"\"),\"\",AZ68+AZ69)","v":15.115},null,null,null,{"$f":"IF(TRIM(BC70)=\"\", \"\", IF(VLOOKUP(BC70,'Footnotes list'!$D$9:$E$58,2,FALSE)=0,\"\",VLOOKUP(BC70,'Footnotes list'!$D$9:$E$58,2,FALSE) ) )","v":""},{"$f":"IF(AND(TRIM(BE68)=\"\",TRIM(BE69)=\"\"),\"\",BE68+BE69)","v":39.139000000000003},null,null,null,{"$f":"IF(TRIM(BH70)=\"\", \"\", IF(VLOOKUP(BH70,'Footnotes list'!$D$9:$E$58,2,FALSE)=0,\"\",VLOOKUP(BH70,'Footnotes list'!$D$9:$E$58,2,FALSE) ) )","v":""},{"$f":"IF(AND(TRIM(BJ68)=\"\",TRIM(BJ69)=\"\"),\"\",BJ68+BJ69)","v":16.445},null,null,null,{"$f":"IF(TRIM(BM70)=\"\", \"\", IF(VLOOKUP(BM70,'Footnotes list'!$D$9:$E$58,2,FALSE)=0,\"\",VLOOKUP(BM70,'Footnotes list'!$D$9:$E$58,2,FALSE) ) )","v":""},{"$f":"IF(AND(TRIM(BO68)=\"\", TRIM(BO69)=\"\"), \"\", (IF(ISNUMBER(BO68),BO68,0)+IF(ISNUMBER(BO69),BO69,0)))","v":33882.805},null,null,null,{"$f":"IF(TRIM(BR70)=\"\", \"\", IF(VLOOKUP(BR70,'Footnotes list'!$D$9:$E$58,2,FALSE)=0,\"\",VLOOKUP(BR70,'Footnotes list'!$D$9:$E$58,2,FALSE) ) )","v":""},{"$f":"IF(AND(TRIM(BT68)=\"\",TRIM(BT69)=\"\"),\"\",BT68+BT69)","v":2383.855},null,null,null,{"$f":"IF(TRIM(BW70)=\"\", \"\", IF(VLOOKUP(BW70,'Footnotes list'!$D$9:$E$58,2,FALSE)=0,\"\",VLOOKUP(BW70,'Footnotes list'!$D$9:$E$58,2,FALSE) ) )","v":""},{"$f":"IF(AND(TRIM(BY68)=\"\",TRIM(BY69)=\"\"),\"\",BY68+BY69)","v":497.77300000000002},null,null,null,{"$f":"IF(TRIM(CB70)=\"\", \"\", IF(VLOOKUP(CB70,'Footnotes list'!$D$9:$E$58,2,FALSE)=0,\"\",VLOOKUP(CB70,'Footnotes list'!$D$9:$E$58,2,FALSE) ) )","v":""},{"$f":"IF(AND(TRIM(CD68)=\"\",TRIM(CD69)=\"\"),\"\",CD68+CD69)","v":7228.09},null,null,null,{"$f":"IF(TRIM(CG70)=\"\", \"\", IF(VLOOKUP(CG70,'Footnotes list'!$D$9:$E$58,2,FALSE)=0,\"\",VLOOKUP(CG70,'Footnotes list'!$D$9:$E$58,2,FALSE) ) )","v":""},{"$f":"IF(AND(TRIM(CI68)=\"\", TRIM(CI69)=\"\"), \"\", (IF(ISNUMBER(CI68),CI68,0)+IF(ISNUMBER(CI69),CI69,0)))","v":7725.8630000000003},null,null,null,{"$f":"IF(TRIM(CL70)=\"\", \"\", IF(VLOOKUP(CL70,'Footnotes list'!$D$9:$E$58,2,FALSE)=0,\"\",VLOOKUP(CL70,'Footnotes list'!$D$9:$E$58,2,FALSE) ) )","v":""},{"$f":"IF(AND(TRIM(CN68)=\"\",TRIM(CN69)=\"\"),\"\",CN68+CN69)","v":11.166},null,null,null,{"$f":"IF(TRIM(CQ70)=\"\", \"\", IF(VLOOKUP(CQ70,'Footnotes list'!$D$9:$E$58,2,FALSE)=0,\"\",VLOOKUP(CQ70,'Footnotes list'!$D$9:$E$58,2,FALSE) ) )","v":""},{"$f":"IF(AND(TRIM(CS68)=\"\",TRIM(CS69)=\"\"),\"\",CS68+CS69)","v":27154.063999999998},null,null,null,{"$f":"IF(TRIM(CV70)=\"\", \"\", IF(VLOOKUP(CV70,'Footnotes list'!$D$9:$E$58,2,FALSE)=0,\"\",VLOOKUP(CV70,'Footnotes list'!$D$9:$E$58,2,FALSE) ) )","v":""},{"$f":"IF(AND(TRIM(CX68)=\"\",TRIM(CX69)=\"\"),\"\",CX68+CX69)","v":0},null,null,null,{"$f":"IF(TRIM(DA70)=\"\", \"\", IF(VLOOKUP(DA70,'Footnotes list'!$D$9:$E$58,2,FALSE)=0,\"\",VLOOKUP(DA70,'Footnotes list'!$D$9:$E$58,2,FALSE) ) )","v":""},{"$f":"IF(AND(TRIM(DC68)=\"\",TRIM(DC69)=\"\"),\"\",DC68+DC69)","v":58389.571000000004},null,null,null,{"$f":"IF(TRIM(DF70)=\"\", \"\", IF(VLOOKUP(DF70,'Footnotes list'!$D$9:$E$58,2,FALSE)=0,\"\",VLOOKUP(DF70,'Footnotes list'!$D$9:$E$58,2,FALSE) ) )","v":""},{"$f":"IF(AND(TRIM(DH68)=\"\", TRIM(DH69)=\"\"), \"\", SUM(DH68,DH69) )","v":130138.614},null,null,null,{"$f":"IF(TRIM(DK70)=\"\", \"\", IF(VLOOKUP(DK70,'Footnotes list'!$D$9:$E$58,2,FALSE)=0,\"\",VLOOKUP(DK70,'Footnotes list'!$D$9:$E$58,2,FALSE) ) )","v":""}]
[null,"W092",null,"Vegetal wastes ",null,"Not applicable"]
[null,null,"W092",null,"NHAZ","Non-hazardous",41068.593999999997,null,null,null,{"$f":"IF(TRIM(J72)=\"\", \"\", IF(VLOOKUP(J72,'Footnotes list'!$D$9:$E$58,2,FALSE)=0,\"\",VLOOKUP(J72,'Footnotes list'!$D$9:$E$58,2,FALSE) ) )","v":""},0,null,null,null,{"$f":"IF(TRIM(O72)=\"\", \"\", IF(VLOOKUP(O72,'Footnotes list'!$D$9:$E$58,2,FALSE)=0,\"\",VLOOKUP(O72,'Footnotes list'!$D$9:$E$58,2,FALSE) ) )","v":""},46067.15,null,null,null,{"$f":"IF(TRIM(T72)=\"\", \"\", IF(VLOOKUP(T72,'Footnotes list'!$D$9:$E$58,2,FALSE)=0,\"\",VLOOKUP(T72,'Footnotes list'!$D$9:$E$58,2,FALSE) ) )","v":""},1.84,null,null,null,{"$f":"IF(TRIM(Y72)=\"\", \"\", IF(VLOOKUP(Y72,'Footnotes list'!$D$9:$E$58,2,FALSE)=0,\"\",VLOOKUP(Y72,'Footnotes list'!$D$9:$E$58,2,FALSE) ) )","v":""},4.22,null,null,null,{"$f":"IF(TRIM(AD72)=\"\", \"\", IF(VLOOKUP(AD72,'Footnotes list'!$D$9:$E$58,2,FALSE)=0,\"\",VLOOKUP(AD72,'Footnotes list'!$D$9:$E$58,2,FALSE) ) )","v":""},1.18,null,null,null,{"$f":"IF(TRIM(AI72)=\"\", \"\", IF(VLOOKUP(AI72,'Footnotes list'!$D$9:$E$58,2,FALSE)=0,\"\",VLOOKUP(AI72,'Footnotes list'!$D$9:$E$58,2,FALSE) ) )","v":""},0,null,null,null,{"$f":"IF(TRIM(AN72)=\"\", \"\", IF(VLOOKUP(AN72,'Footnotes list'!$D$9:$E$58,2,FALSE)=0,\"\",VLOOKUP(AN72,'Footnotes list'!$D$9:$E$58,2,FALSE) ) )","v":""},128.643,null,null,null,{"$f":"IF(TRIM(AS72)=\"\", \"\", IF(VLOOKUP(AS72,'Footnotes list'!$D$9:$E$58,2,FALSE)=0,\"\",VLOOKUP(AS72,'Footnotes list'!$D$9:$E$58,2,FALSE) ) )","v":""},0.41,null,null,null,{"$f":"IF(TRIM(AX72)=\"\", \"\", IF(VLOOKUP(AX72,'Footnotes list'!$D$9:$E$58,2,FALSE)=0,\"\",VLOOKUP(AX72,'Footnotes list'!$D$9:$E$58,2,FALSE) ) )","v":""},40.36,null,null,null,{"$f":"IF(TRIM(BC72)=\"\", \"\", IF(VLOOKUP(BC72,'Footnotes list'!$D$9:$E$58,2,FALSE)=0,\"\",VLOOKUP(BC72,'Footnotes list'!$D$9:$E$58,2,FALSE) ) )","v":""},15.752000000000001,null,null,null,{"$f":"IF(TRIM(BH72)=\"\", \"\", IF(VLOOKUP(BH72,'Footnotes list'!$D$9:$E$58,2,FALSE)=0,\"\",VLOOKUP(BH72,'Footnotes list'!$D$9:$E$58,2,FALSE) ) )","v":""},21.411000000000001,null,null,null,{"$f":"IF(TRIM(BM72)=\"\", \"\", IF(VLOOKUP(BM72,'Footnotes list'!$D$9:$E$58,2,FALSE)=0,\"\",VLOOKUP(BM72,'Footnotes list'!$D$9:$E$58,2,FALSE) ) )","v":""},{"$f":"IF(AND(TRIM(Q72)=\"\",TRIM(V72)=\"\",TRIM(AA72)=\"\", TRIM(AF72)=\"\", TRIM(AK72)=\"\", TRIM(AP72)=\"\", TRIM(AU72)=\"\", TRIM(AZ72)=\"\", TRIM(BE72)=\"\", TRIM(BJ72)=\"\"),\"\",Q72+V72+AA72+AF72+AK72+AP72+AU72+AZ72+BE72+BJ72)","v":46280.966},null,null,null,{"$f":"IF(TRIM(BR72)=\"\", \"\", IF(VLOOKUP(BR72,'Footnotes list'!$D$9:$E$58,2,FALSE)=0,\"\",VLOOKUP(BR72,'Footnotes list'!$D$9:$E$58,2,FALSE) ) )","v":""},30.12,null,null,null,{"$f":"IF(TRIM(BW72)=\"\", \"\", IF(VLOOKUP(BW72,'Footnotes list'!$D$9:$E$58,2,FALSE)=0,\"\",VLOOKUP(BW72,'Footnotes list'!$D$9:$E$58,2,FALSE) ) )","v":""},19.61,null,null,null,{"$f":"IF(TRIM(CB72)=\"\", \"\", IF(VLOOKUP(CB72,'Footnotes list'!$D$9:$E$58,2,FALSE)=0,\"\",VLOOKUP(CB72,'Footnotes list'!$D$9:$E$58,2,FALSE) ) )","v":""},10728.877,null,null,null,{"$f":"IF(TRIM(CG72)=\"\", \"\", IF(VLOOKUP(CG72,'Footnotes list'!$D$9:$E$58,2,FALSE)=0,\"\",VLOOKUP(CG72,'Footnotes list'!$D$9:$E$58,2,FALSE) ) )","v":""},{"$f":"IF(AND(TRIM(BY72)=\"\",TRIM(CD72)=\"\"),\"\",BY72+CD72)","v":10748.486999999999},null,null,null,{"$f":"IF(TRIM(CL72)=\"\", \"\", IF(VLOOKUP(CL72,'Footnotes list'!$D$9:$E$58,2,FALSE)=0,\"\",VLOOKUP(CL72,'Footnotes list'!$D$9:$E$58,2,FALSE) ) )","v":""},28.72,null,null,null,{"$f":"IF(TRIM(CQ72)=\"\", \"\", IF(VLOOKUP(CQ72,'Footnotes list'!$D$9:$E$58,2,FALSE)=0,\"\",VLOOKUP(CQ72,'Footnotes list'!$D$9:$E$58,2,FALSE) ) )","v":""},43570.964999999997,null,null,null,{"$f":"IF(TRIM(CV72)=\"\", \"\", IF(VLOOKUP(CV72,'Footnotes list'!$D$9:$E$58,2,FALSE)=0,\"\",VLOOKUP(CV72,'Footnotes list'!$D$9:$E$58,2,FALSE) ) )","v":""},0,null,null,null,{"$f":"IF(TRIM(DA72)=\"\", \"\", IF(VLOOKUP(DA72,'Footnotes list'!$D$9:$E$58,2,FALSE)=0,\"\",VLOOKUP(DA72,'Footnotes list'!$D$9:$E$58,2,FALSE) ) )","v":""},62332.055999999997,null,null,null,{"$f":"IF(TRIM(DF72)=\"\", \"\", IF(VLOOKUP(DF72,'Footnotes list'!$D$9:$E$58,2,FALSE)=0,\"\",VLOOKUP(DF72,'Footnotes list'!$D$9:$E$58,2,FALSE) ) )","v":""},{"$f":"IF(AND(TRIM(G72)=\"\",TRIM(L72)=\"\",TRIM(BO72)=\"\",TRIM(BT72)=\"\",TRIM(CI72)=\"\",TRIM(CN72)=\"\",TRIM(CS72)=\"\",TRIM(CX72)=\"\",TRIM(DC72)=\"\"),\"\",SUM(G72,L72,BO72,BT72,CI72,CN72,CS72,CX72,DC72))","v":204059.908},null,null,null,{"$f":"IF(TRIM(DK72)=\"\", \"\", IF(VLOOKUP(DK72,'Footnotes list'!$D$9:$E$58,2,FALSE)=0,\"\",VLOOKUP(DK72,'Footnotes list'!$D$9:$E$58,2,FALSE) ) )","v":""}]
[null,null,"W092",null,"HAZ_NHAZ","Total",{"$f":"IF(AND(TRIM(G71)=\"\",TRIM(G72)=\"\"),\"\",G71+G72)","v":41068.593999999997},null,null,null,{"$f":"IF(TRIM(J73)=\"\", \"\", IF(VLOOKUP(J73,'Footnotes list'!$D$9:$E$58,2,FALSE)=0,\"\",VLOOKUP(J73,'Footnotes list'!$D$9:$E$58,2,FALSE) ) )","v":""},{"$f":"IF(AND(TRIM(L71)=\"\",TRIM(L72)=\"\"),\"\",L71+L72)","v":0},null,null,null,{"$f":"IF(TRIM(O73)=\"\", \"\", IF(VLOOKUP(O73,'Footnotes list'!$D$9:$E$58,2,FALSE)=0,\"\",VLOOKUP(O73,'Footnotes list'!$D$9:$E$58,2,FALSE) ) )","v":""},{"$f":"IF(AND(TRIM(Q71)=\"\",TRIM(Q72)=\"\"),\"\",Q71+Q72)","v":46067.15},null,null,null,{"$f":"IF(TRIM(T73)=\"\", \"\", IF(VLOOKUP(T73,'Footnotes list'!$D$9:$E$58,2,FALSE)=0,\"\",VLOOKUP(T73,'Footnotes list'!$D$9:$E$58,2,FALSE) ) )","v":""},{"$f":"IF(AND(TRIM(V71)=\"\",TRIM(V72)=\"\"),\"\",V71+V72)","v":1.84},null,null,null,{"$f":"IF(TRIM(Y73)=\"\", \"\", IF(VLOOKUP(Y73,'Footnotes list'!$D$9:$E$58,2,FALSE)=0,\"\",VLOOKUP(Y73,'Footnotes list'!$D$9:$E$58,2,FALSE) ) )","v":""},{"$f":"IF(AND(TRIM(AA71)=\"\",TRIM(AA72)=\"\"),\"\",AA71+AA72)","v":4.22},null,null,null,{"$f":"IF(TRIM(AD73)=\"\", \"\", IF(VLOOKUP(AD73,'Footnotes list'!$D$9:$E$58,2,FALSE)=0,\"\",VLOOKUP(AD73,'Footnotes list'!$D$9:$E$58,2,FALSE) ) )","v":""},{"$f":"IF(AND(TRIM(AF71)=\"\",TRIM(AF72)=\"\"),\"\",AF71+AF72)","v":1.18},null,null,null,{"$f":"IF(TRIM(AI73)=\"\", \"\", IF(VLOOKUP(AI73,'Footnotes list'!$D$9:$E$58,2,FALSE)=0,\"\",VLOOKUP(AI73,'Footnotes list'!$D$9:$E$58,2,FALSE) ) )","v":""},{"$f":"IF(AND(TRIM(AK71)=\"\",TRIM(AK72)=\"\"),\"\",AK71+AK72)","v":0},null,null,null,{"$f":"IF(TRIM(AN73)=\"\", \"\", IF(VLOOKUP(AN73,'Footnotes list'!$D$9:$E$58,2,FALSE)=0,\"\",VLOOKUP(AN73,'Footnotes list'!$D$9:$E$58,2,FALSE) ) )","v":""},{"$f":"IF(AND(TRIM(AP71)=\"\",TRIM(AP72)=\"\"),\"\",AP71+AP72)","v":128.643},null,null,null,{"$f":"IF(TRIM(AS73)=\"\", \"\", IF(VLOOKUP(AS73,'Footnotes list'!$D$9:$E$58,2,FALSE)=0,\"\",VLOOKUP(AS73,'Footnotes list'!$D$9:$E$58,2,FALSE) ) )","v":""},{"$f":"IF(AND(TRIM(AU71)=\"\",TRIM(AU72)=\"\"),\"\",AU71+AU72)","v":0.41},null,null,null,{"$f":"IF(TRIM(AX73)=\"\", \"\", IF(VLOOKUP(AX73,'Footnotes list'!$D$9:$E$58,2,FALSE)=0,\"\",VLOOKUP(AX73,'Footnotes list'!$D$9:$E$58,2,FALSE) ) )","v":""},{"$f":"IF(AND(TRIM(AZ71)=\"\",TRIM(AZ72)=\"\"),\"\",AZ71+AZ72)","v":40.36},null,null,null,{"$f":"IF(TRIM(BC73)=\"\", \"\", IF(VLOOKUP(BC73,'Footnotes list'!$D$9:$E$58,2,FALSE)=0,\"\",VLOOKUP(BC73,'Footnotes list'!$D$9:$E$58,2,FALSE) ) )","v":""},{"$f":"IF(AND(TRIM(BE71)=\"\",TRIM(BE72)=\"\"),\"\",BE71+BE72)","v":15.752000000000001},null,null,null,{"$f":"IF(TRIM(BH73)=\"\", \"\", IF(VLOOKUP(BH73,'Footnotes list'!$D$9:$E$58,2,FALSE)=0,\"\",VLOOKUP(BH73,'Footnotes list'!$D$9:$E$58,2,FALSE) ) )","v":""},{"$f":"IF(AND(TRIM(BJ71)=\"\",TRIM(BJ72)=\"\"),\"\",BJ71+BJ72)","v":21.411000000000001},null,null,null,{"$f":"IF(TRIM(BM73)=\"\", \"\", IF(VLOOKUP(BM73,'Footnotes list'!$D$9:$E$58,2,FALSE)=0,\"\",VLOOKUP(BM73,'Footnotes list'!$D$9:$E$58,2,FALSE) ) )","v":""},{"$f":"IF(AND(TRIM(BO71)=\"\", TRIM(BO72)=\"\"), \"\", (IF(ISNUMBER(BO71),BO71,0)+IF(ISNUMBER(BO72),BO72,0)))","v":46280.966},null,null,null,{"$f":"IF(TRIM(BR73)=\"\", \"\", IF(VLOOKUP(BR73,'Footnotes list'!$D$9:$E$58,2,FALSE)=0,\"\",VLOOKUP(BR73,'Footnotes list'!$D$9:$E$58,2,FALSE) ) )","v":""},{"$f":"IF(AND(TRIM(BT71)=\"\",TRIM(BT72)=\"\"),\"\",BT71+BT72)","v":30.12},null,null,null,{"$f":"IF(TRIM(BW73)=\"\", \"\", IF(VLOOKUP(BW73,'Footnotes list'!$D$9:$E$58,2,FALSE)=0,\"\",VLOOKUP(BW73,'Footnotes list'!$D$9:$E$58,2,FALSE) ) )","v":""},{"$f":"IF(AND(TRIM(BY71)=\"\",TRIM(BY72)=\"\"),\"\",BY71+BY72)","v":19.61},null,null,null,{"$f":"IF(TRIM(CB73)=\"\", \"\", IF(VLOOKUP(CB73,'Footnotes list'!$D$9:$E$58,2,FALSE)=0,\"\",VLOOKUP(CB73,'Footnotes list'!$D$9:$E$58,2,FALSE) ) )","v":""},{"$f":"IF(AND(TRIM(CD71)=\"\",TRIM(CD72)=\"\"),\"\",CD71+CD72)","v":10728.877},null,null,null,{"$f":"IF(TRIM(CG73)=\"\", \"\", IF(VLOOKUP(CG73,'Footnotes list'!$D$9:$E$58,2,FALSE)=0,\"\",VLOOKUP(CG73,'Footnotes list'!$D$9:$E$58,2,FALSE) ) )","v":""},{"$f":"IF(AND(TRIM(CI71)=\"\", TRIM(CI72)=\"\"), \"\", (IF(ISNUMBER(CI71),CI71,0)+IF(ISNUMBER(CI72),CI72,0)))","v":10748.486999999999},null,null,null,{"$f":"IF(TRIM(CL73)=\"\", \"\", IF(VLOOKUP(CL73,'Footnotes list'!$D$9:$E$58,2,FALSE)=0,\"\",VLOOKUP(CL73,'Footnotes list'!$D$9:$E$58,2,FALSE) ) )","v":""},{"$f":"IF(AND(TRIM(CN71)=\"\",TRIM(CN72)=\"\"),\"\",CN71+CN72)","v":28.72},null,null,null,{"$f":"IF(TRIM(CQ73)=\"\", \"\", IF(VLOOKUP(CQ73,'Footnotes list'!$D$9:$E$58,2,FALSE)=0,\"\",VLOOKUP(CQ73,'Footnotes list'!$D$9:$E$58,2,FALSE) ) )","v":""},{"$f":"IF(AND(TRIM(CS71)=\"\",TRIM(CS72)=\"\"),\"\",CS71+CS72)","v":43570.964999999997},null,null,null,{"$f":"IF(TRIM(CV73)=\"\", \"\", IF(VLOOKUP(CV73,'Footnotes list'!$D$9:$E$58,2,FALSE)=0,\"\",VLOOKUP(CV73,'Footnotes list'!$D$9:$E$58,2,FALSE) ) )","v":""},{"$f":"IF(AND(TRIM(CX71)=\"\",TRIM(CX72)=\"\"),\"\",CX71+CX72)","v":0},null,null,null,{"$f":"IF(TRIM(DA73)=\"\", \"\", IF(VLOOKUP(DA73,'Footnotes list'!$D$9:$E$58,2,FALSE)=0,\"\",VLOOKUP(DA73,'Footnotes list'!$D$9:$E$58,2,FALSE) ) )","v":""},{"$f":"IF(AND(TRIM(DC71)=\"\",TRIM(DC72)=\"\"),\"\",DC71+DC72)","v":62332.055999999997},null,null,null,{"$f":"IF(TRIM(DF73)=\"\", \"\", IF(VLOOKUP(DF73,'Footnotes list'!$D$9:$E$58,2,FALSE)=0,\"\",VLOOKUP(DF73,'Footnotes list'!$D$9:$E$58,2,FALSE) ) )","v":""},{"$f":"IF(AND(TRIM(DH71)=\"\", TRIM(DH72)=\"\"), \"\", SUM(DH71,DH72) )","v":204059.908},null,null,null,{"$f":"IF(TRIM(DK73)=\"\", \"\", IF(VLOOKUP(DK73,'Footnotes list'!$D$9:$E$58,2,FALSE)=0,\"\",VLOOKUP(DK73,'Footnotes list'!$D$9:$E$58,2,FALSE) ) )","v":""}]
[null,"W093",null,"Animal faeces, urine and manure ",null,"Not applicable"]
[null,null,"W093",null,"NHAZ","Non-hazardous",426196.22,null,null,null,{"$f":"IF(TRIM(J75)=\"\", \"\", IF(VLOOKUP(J75,'Footnotes list'!$D$9:$E$58,2,FALSE)=0,\"\",VLOOKUP(J75,'Footnotes list'!$D$9:$E$58,2,FALSE) ) )","v":""},0,null,null,null,{"$f":"IF(TRIM(O75)=\"\", \"\", IF(VLOOKUP(O75,'Footnotes list'!$D$9:$E$58,2,FALSE)=0,\"\",VLOOKUP(O75,'Footnotes list'!$D$9:$E$58,2,FALSE) ) )","v":""},0,null,null,null,{"$f":"IF(TRIM(T75)=\"\", \"\", IF(VLOOKUP(T75,'Footnotes list'!$D$9:$E$58,2,FALSE)=0,\"\",VLOOKUP(T75,'Footnotes list'!$D$9:$E$58,2,FALSE) ) )","v":""},0,null,null,null,{"$f":"IF(TRIM(Y75)=\"\", \"\", IF(VLOOKUP(Y75,'Footnotes list'!$D$9:$E$58,2,FALSE)=0,\"\",VLOOKUP(Y75,'Footnotes list'!$D$9:$E$58,2,FALSE) ) )","v":""},0,null,null,null,{"$f":"IF(TRIM(AD75)=\"\", \"\", IF(VLOOKUP(AD75,'Footnotes list'!$D$9:$E$58,2,FALSE)=0,\"\",VLOOKUP(AD75,'Footnotes list'!$D$9:$E$58,2,FALSE) ) )","v":""},0,null,null,null,{"$f":"IF(TRIM(AI75)=\"\", \"\", IF(VLOOKUP(AI75,'Footnotes list'!$D$9:$E$58,2,FALSE)=0,\"\",VLOOKUP(AI75,'Footnotes list'!$D$9:$E$58,2,FALSE) ) )","v":""},0,null,null,null,{"$f":"IF(TRIM(AN75)=\"\", \"\", IF(VLOOKUP(AN75,'Footnotes list'!$D$9:$E$58,2,FALSE)=0,\"\",VLOOKUP(AN75,'Footnotes list'!$D$9:$E$58,2,FALSE) ) )","v":""},0,null,null,null,{"$f":"IF(TRIM(AS75)=\"\", \"\", IF(VLOOKUP(AS75,'Footnotes list'!$D$9:$E$58,2,FALSE)=0,\"\",VLOOKUP(AS75,'Footnotes list'!$D$9:$E$58,2,FALSE) ) )","v":""},0,null,null,null,{"$f":"IF(TRIM(AX75)=\"\", \"\", IF(VLOOKUP(AX75,'Footnotes list'!$D$9:$E$58,2,FALSE)=0,\"\",VLOOKUP(AX75,'Footnotes list'!$D$9:$E$58,2,FALSE) ) )","v":""},0,null,null,null,{"$f":"IF(TRIM(BC75)=\"\", \"\", IF(VLOOKUP(BC75,'Footnotes list'!$D$9:$E$58,2,FALSE)=0,\"\",VLOOKUP(BC75,'Footnotes list'!$D$9:$E$58,2,FALSE) ) )","v":""},0,null,null,null,{"$f":"IF(TRIM(BH75)=\"\", \"\", IF(VLOOKUP(BH75,'Footnotes list'!$D$9:$E$58,2,FALSE)=0,\"\",VLOOKUP(BH75,'Footnotes list'!$D$9:$E$58,2,FALSE) ) )","v":""},0,null,null,null,{"$f":"IF(TRIM(BM75)=\"\", \"\", IF(VLOOKUP(BM75,'Footnotes list'!$D$9:$E$58,2,FALSE)=0,\"\",VLOOKUP(BM75,'Footnotes list'!$D$9:$E$58,2,FALSE) ) )","v":""},{"$f":"IF(AND(TRIM(Q75)=\"\",TRIM(V75)=\"\",TRIM(AA75)=\"\", TRIM(AF75)=\"\", TRIM(AK75)=\"\", TRIM(AP75)=\"\", TRIM(AU75)=\"\", TRIM(AZ75)=\"\", TRIM(BE75)=\"\", TRIM(BJ75)=\"\"),\"\",Q75+V75+AA75+AF75+AK75+AP75+AU75+AZ75+BE75+BJ75)","v":0},null,null,null,{"$f":"IF(TRIM(BR75)=\"\", \"\", IF(VLOOKUP(BR75,'Footnotes list'!$D$9:$E$58,2,FALSE)=0,\"\",VLOOKUP(BR75,'Footnotes list'!$D$9:$E$58,2,FALSE) ) )","v":""},20997.11,null,null,null,{"$f":"IF(TRIM(BW75)=\"\", \"\", IF(VLOOKUP(BW75,'Footnotes list'!$D$9:$E$58,2,FALSE)=0,\"\",VLOOKUP(BW75,'Footnotes list'!$D$9:$E$58,2,FALSE) ) )","v":""},0,null,null,null,{"$f":"IF(TRIM(CB75)=\"\", \"\", IF(VLOOKUP(CB75,'Footnotes list'!$D$9:$E$58,2,FALSE)=0,\"\",VLOOKUP(CB75,'Footnotes list'!$D$9:$E$58,2,FALSE) ) )","v":""},0,null,null,null,{"$f":"IF(TRIM(CG75)=\"\", \"\", IF(VLOOKUP(CG75,'Footnotes list'!$D$9:$E$58,2,FALSE)=0,\"\",VLOOKUP(CG75,'Footnotes list'!$D$9:$E$58,2,FALSE) ) )","v":""},{"$f":"IF(AND(TRIM(BY75)=\"\",TRIM(CD75)=\"\"),\"\",BY75+CD75)","v":0},null,null,null,{"$f":"IF(TRIM(CL75)=\"\", \"\", IF(VLOOKUP(CL75,'Footnotes list'!$D$9:$E$58,2,FALSE)=0,\"\",VLOOKUP(CL75,'Footnotes list'!$D$9:$E$58,2,FALSE) ) )","v":""},0,null,null,null,{"$f":"IF(TRIM(CQ75)=\"\", \"\", IF(VLOOKUP(CQ75,'Footnotes list'!$D$9:$E$58,2,FALSE)=0,\"\",VLOOKUP(CQ75,'Footnotes list'!$D$9:$E$58,2,FALSE) ) )","v":""},323.26,null,null,null,{"$f":"IF(TRIM(CV75)=\"\", \"\", IF(VLOOKUP(CV75,'Footnotes list'!$D$9:$E$58,2,FALSE)=0,\"\",VLOOKUP(CV75,'Footnotes list'!$D$9:$E$58,2,FALSE) ) )","v":""},0,null,null,null,{"$f":"IF(TRIM(DA75)=\"\", \"\", IF(VLOOKUP(DA75,'Footnotes list'!$D$9:$E$58,2,FALSE)=0,\"\",VLOOKUP(DA75,'Footnotes list'!$D$9:$E$58,2,FALSE) ) )","v":""},0,null,null,null,{"$f":"IF(TRIM(DF75)=\"\", \"\", IF(VLOOKUP(DF75,'Footnotes list'!$D$9:$E$58,2,FALSE)=0,\"\",VLOOKUP(DF75,'Footnotes list'!$D$9:$E$58,2,FALSE) ) )","v":""},{"$f":"IF(AND(TRIM(G75)=\"\",TRIM(L75)=\"\",TRIM(BO75)=\"\",TRIM(BT75)=\"\",TRIM(CI75)=\"\",TRIM(CN75)=\"\",TRIM(CS75)=\"\",TRIM(CX75)=\"\",TRIM(DC75)=\"\"),\"\",SUM(G75,L75,BO75,BT75,CI75,CN75,CS75,CX75,DC75))","v":447516.59},null,null,null,{"$f":"IF(TRIM(DK75)=\"\", \"\", IF(VLOOKUP(DK75,'Footnotes list'!$D$9:$E$58,2,FALSE)=0,\"\",VLOOKUP(DK75,'Footnotes list'!$D$9:$E$58,2,FALSE) ) )","v":""}]
[null,null,"W093",null,"HAZ_NHAZ","Total",{"$f":"IF(AND(TRIM(G74)=\"\",TRIM(G75)=\"\"),\"\",G74+G75)","v":426196.22},null,null,null,{"$f":"IF(TRIM(J76)=\"\", \"\", IF(VLOOKUP(J76,'Footnotes list'!$D$9:$E$58,2,FALSE)=0,\"\",VLOOKUP(J76,'Footnotes list'!$D$9:$E$58,2,FALSE) ) )","v":""},{"$f":"IF(AND(TRIM(L74)=\"\",TRIM(L75)=\"\"),\"\",L74+L75)","v":0},null,null,null,{"$f":"IF(TRIM(O76)=\"\", \"\", IF(VLOOKUP(O76,'Footnotes list'!$D$9:$E$58,2,FALSE)=0,\"\",VLOOKUP(O76,'Footnotes list'!$D$9:$E$58,2,FALSE) ) )","v":""},{"$f":"IF(AND(TRIM(Q74)=\"\",TRIM(Q75)=\"\"),\"\",Q74+Q75)","v":0},null,null,null,{"$f":"IF(TRIM(T76)=\"\", \"\", IF(VLOOKUP(T76,'Footnotes list'!$D$9:$E$58,2,FALSE)=0,\"\",VLOOKUP(T76,'Footnotes list'!$D$9:$E$58,2,FALSE) ) )","v":""},{"$f":"IF(AND(TRIM(V74)=\"\",TRIM(V75)=\"\"),\"\",V74+V75)","v":0},null,null,null,{"$f":"IF(TRIM(Y76)=\"\", \"\", IF(VLOOKUP(Y76,'Footnotes list'!$D$9:$E$58,2,FALSE)=0,\"\",VLOOKUP(Y76,'Footnotes list'!$D$9:$E$58,2,FALSE) ) )","v":""},{"$f":"IF(AND(TRIM(AA74)=\"\",TRIM(AA75)=\"\"),\"\",AA74+AA75)","v":0},null,null,null,{"$f":"IF(TRIM(AD76)=\"\", \"\", IF(VLOOKUP(AD76,'Footnotes list'!$D$9:$E$58,2,FALSE)=0,\"\",VLOOKUP(AD76,'Footnotes list'!$D$9:$E$58,2,FALSE) ) )","v":""},{"$f":"IF(AND(TRIM(AF74)=\"\",TRIM(AF75)=\"\"),\"\",AF74+AF75)","v":0},null,null,null,{"$f":"IF(TRIM(AI76)=\"\", \"\", IF(VLOOKUP(AI76,'Footnotes list'!$D$9:$E$58,2,FALSE)=0,\"\",VLOOKUP(AI76,'Footnotes list'!$D$9:$E$58,2,FALSE) ) )","v":""},{"$f":"IF(AND(TRIM(AK74)=\"\",TRIM(AK75)=\"\"),\"\",AK74+AK75)","v":0},null,null,null,{"$f":"IF(TRIM(AN76)=\"\", \"\", IF(VLOOKUP(AN76,'Footnotes list'!$D$9:$E$58,2,FALSE)=0,\"\",VLOOKUP(AN76,'Footnotes list'!$D$9:$E$58,2,FALSE) ) )","v":""},{"$f":"IF(AND(TRIM(AP74)=\"\",TRIM(AP75)=\"\"),\"\",AP74+AP75)","v":0},null,null,null,{"$f":"IF(TRIM(AS76)=\"\", \"\", IF(VLOOKUP(AS76,'Footnotes list'!$D$9:$E$58,2,FALSE)=0,\"\",VLOOKUP(AS76,'Footnotes list'!$D$9:$E$58,2,FALSE) ) )","v":""},{"$f":"IF(AND(TRIM(AU74)=\"\",TRIM(AU75)=\"\"),\"\",AU74+AU75)","v":0},null,null,null,{"$f":"IF(TRIM(AX76)=\"\", \"\", IF(VLOOKUP(AX76,'Footnotes list'!$D$9:$E$58,2,FALSE)=0,\"\",VLOOKUP(AX76,'Footnotes list'!$D$9:$E$58,2,FALSE) ) )","v":""},{"$f":"IF(AND(TRIM(AZ74)=\"\",TRIM(AZ75)=\"\"),\"\",AZ74+AZ75)","v":0},null,null,null,{"$f":"IF(TRIM(BC76)=\"\", \"\", IF(VLOOKUP(BC76,'Footnotes list'!$D$9:$E$58,2,FALSE)=0,\"\",VLOOKUP(BC76,'Footnotes list'!$D$9:$E$58,2,FALSE) ) )","v":""},{"$f":"IF(AND(TRIM(BE74)=\"\",TRIM(BE75)=\"\"),\"\",BE74+BE75)","v":0},null,null,null,{"$f":"IF(TRIM(BH76)=\"\", \"\", IF(VLOOKUP(BH76,'Footnotes list'!$D$9:$E$58,2,FALSE)=0,\"\",VLOOKUP(BH76,'Footnotes list'!$D$9:$E$58,2,FALSE) ) )","v":""},{"$f":"IF(AND(TRIM(BJ74)=\"\",TRIM(BJ75)=\"\"),\"\",BJ74+BJ75)","v":0},null,null,null,{"$f":"IF(TRIM(BM76)=\"\", \"\", IF(VLOOKUP(BM76,'Footnotes list'!$D$9:$E$58,2,FALSE)=0,\"\",VLOOKUP(BM76,'Footnotes list'!$D$9:$E$58,2,FALSE) ) )","v":""},{"$f":"IF(AND(TRIM(BO74)=\"\", TRIM(BO75)=\"\"), \"\", (IF(ISNUMBER(BO74),BO74,0)+IF(ISNUMBER(BO75),BO75,0)))","v":0},null,null,null,{"$f":"IF(TRIM(BR76)=\"\", \"\", IF(VLOOKUP(BR76,'Footnotes list'!$D$9:$E$58,2,FALSE)=0,\"\",VLOOKUP(BR76,'Footnotes list'!$D$9:$E$58,2,FALSE) ) )","v":""},{"$f":"IF(AND(TRIM(BT74)=\"\",TRIM(BT75)=\"\"),\"\",BT74+BT75)","v":20997.11},null,null,null,{"$f":"IF(TRIM(BW76)=\"\", \"\", IF(VLOOKUP(BW76,'Footnotes list'!$D$9:$E$58,2,FALSE)=0,\"\",VLOOKUP(BW76,'Footnotes list'!$D$9:$E$58,2,FALSE) ) )","v":""},{"$f":"IF(AND(TRIM(BY74)=\"\",TRIM(BY75)=\"\"),\"\",BY74+BY75)","v":0},null,null,null,{"$f":"IF(TRIM(CB76)=\"\", \"\", IF(VLOOKUP(CB76,'Footnotes list'!$D$9:$E$58,2,FALSE)=0,\"\",VLOOKUP(CB76,'Footnotes list'!$D$9:$E$58,2,FALSE) ) )","v":""},{"$f":"IF(AND(TRIM(CD74)=\"\",TRIM(CD75)=\"\"),\"\",CD74+CD75)","v":0},null,null,null,{"$f":"IF(TRIM(CG76)=\"\", \"\", IF(VLOOKUP(CG76,'Footnotes list'!$D$9:$E$58,2,FALSE)=0,\"\",VLOOKUP(CG76,'Footnotes list'!$D$9:$E$58,2,FALSE) ) )","v":""},{"$f":"IF(AND(TRIM(CI74)=\"\", TRIM(CI75)=\"\"), \"\", (IF(ISNUMBER(CI74),CI74,0)+IF(ISNUMBER(CI75),CI75,0)))","v":0},null,null,null,{"$f":"IF(TRIM(CL76)=\"\", \"\", IF(VLOOKUP(CL76,'Footnotes list'!$D$9:$E$58,2,FALSE)=0,\"\",VLOOKUP(CL76,'Footnotes list'!$D$9:$E$58,2,FALSE) ) )","v":""},{"$f":"IF(AND(TRIM(CN74)=\"\",TRIM(CN75)=\"\"),\"\",CN74+CN75)","v":0},null,null,null,{"$f":"IF(TRIM(CQ76)=\"\", \"\", IF(VLOOKUP(CQ76,'Footnotes list'!$D$9:$E$58,2,FALSE)=0,\"\",VLOOKUP(CQ76,'Footnotes list'!$D$9:$E$58,2,FALSE) ) )","v":""},{"$f":"IF(AND(TRIM(CS74)=\"\",TRIM(CS75)=\"\"),\"\",CS74+CS75)","v":323.26},null,null,null,{"$f":"IF(TRIM(CV76)=\"\", \"\", IF(VLOOKUP(CV76,'Footnotes list'!$D$9:$E$58,2,FALSE)=0,\"\",VLOOKUP(CV76,'Footnotes list'!$D$9:$E$58,2,FALSE) ) )","v":""},{"$f":"IF(AND(TRIM(CX74)=\"\",TRIM(CX75)=\"\"),\"\",CX74+CX75)","v":0},null,null,null,{"$f":"IF(TRIM(DA76)=\"\", \"\", IF(VLOOKUP(DA76,'Footnotes list'!$D$9:$E$58,2,FALSE)=0,\"\",VLOOKUP(DA76,'Footnotes list'!$D$9:$E$58,2,FALSE) ) )","v":""},{"$f":"IF(AND(TRIM(DC74)=\"\",TRIM(DC75)=\"\"),\"\",DC74+DC75)","v":0},null,null,null,{"$f":"IF(TRIM(DF76)=\"\", \"\", IF(VLOOKUP(DF76,'Footnotes list'!$D$9:$E$58,2,FALSE)=0,\"\",VLOOKUP(DF76,'Footnotes list'!$D$9:$E$58,2,FALSE) ) )","v":""},{"$f":"IF(AND(TRIM(DH74)=\"\", TRIM(DH75)=\"\"), \"\", SUM(DH74,DH75) )","v":447516.59},null,null,null,{"$f":"IF(TRIM(DK76)=\"\", \"\", IF(VLOOKUP(DK76,'Footnotes list'!$D$9:$E$58,2,FALSE)=0,\"\",VLOOKUP(DK76,'Footnotes list'!$D$9:$E$58,2,FALSE) ) )","v":""}]
[null,"W101",null,"Household and similar wastes ",null,"Not applicable"]
[null,null,"W101",null,"NHAZ","Non-hazardous",5661.558,null,null,null,{"$f":"IF(TRIM(J78)=\"\", \"\", IF(VLOOKUP(J78,'Footnotes list'!$D$9:$E$58,2,FALSE)=0,\"\",VLOOKUP(J78,'Footnotes list'!$D$9:$E$58,2,FALSE) ) )","v":""},440.47500000000002,null,null,null,{"$f":"IF(TRIM(O78)=\"\", \"\", IF(VLOOKUP(O78,'Footnotes list'!$D$9:$E$58,2,FALSE)=0,\"\",VLOOKUP(O78,'Footnotes list'!$D$9:$E$58,2,FALSE) ) )","v":""},6292.5150000000003,null,null,null,{"$f":"IF(TRIM(T78)=\"\", \"\", IF(VLOOKUP(T78,'Footnotes list'!$D$9:$E$58,2,FALSE)=0,\"\",VLOOKUP(T78,'Footnotes list'!$D$9:$E$58,2,FALSE) ) )","v":""},2255.3319999999999,null,null,null,{"$f":"IF(TRIM(Y78)=\"\", \"\", IF(VLOOKUP(Y78,'Footnotes list'!$D$9:$E$58,2,FALSE)=0,\"\",VLOOKUP(Y78,'Footnotes list'!$D$9:$E$58,2,FALSE) ) )","v":""},1888.9,null,null,null,{"$f":"IF(TRIM(AD78)=\"\", \"\", IF(VLOOKUP(AD78,'Footnotes list'!$D$9:$E$58,2,FALSE)=0,\"\",VLOOKUP(AD78,'Footnotes list'!$D$9:$E$58,2,FALSE) ) )","v":""},1453.5350000000001,null,null,null,{"$f":"IF(TRIM(AI78)=\"\", \"\", IF(VLOOKUP(AI78,'Footnotes list'!$D$9:$E$58,2,FALSE)=0,\"\",VLOOKUP(AI78,'Footnotes list'!$D$9:$E$58,2,FALSE) ) )","v":""},283.79300000000001,null,null,null,{"$f":"IF(TRIM(AN78)=\"\", \"\", IF(VLOOKUP(AN78,'Footnotes list'!$D$9:$E$58,2,FALSE)=0,\"\",VLOOKUP(AN78,'Footnotes list'!$D$9:$E$58,2,FALSE) ) )","v":""},3292.6480000000001,null,null,null,{"$f":"IF(TRIM(AS78)=\"\", \"\", IF(VLOOKUP(AS78,'Footnotes list'!$D$9:$E$58,2,FALSE)=0,\"\",VLOOKUP(AS78,'Footnotes list'!$D$9:$E$58,2,FALSE) ) )","v":""},1416.7619999999999,null,null,null,{"$f":"IF(TRIM(AX78)=\"\", \"\", IF(VLOOKUP(AX78,'Footnotes list'!$D$9:$E$58,2,FALSE)=0,\"\",VLOOKUP(AX78,'Footnotes list'!$D$9:$E$58,2,FALSE) ) )","v":""},5159.5420000000004,null,null,null,{"$f":"IF(TRIM(BC78)=\"\", \"\", IF(VLOOKUP(BC78,'Footnotes list'!$D$9:$E$58,2,FALSE)=0,\"\",VLOOKUP(BC78,'Footnotes list'!$D$9:$E$58,2,FALSE) ) )","v":""},4826.7299999999996,null,null,null,{"$f":"IF(TRIM(BH78)=\"\", \"\", IF(VLOOKUP(BH78,'Footnotes list'!$D$9:$E$58,2,FALSE)=0,\"\",VLOOKUP(BH78,'Footnotes list'!$D$9:$E$58,2,FALSE) ) )","v":""},3846.4349999999999,null,null,null,{"$f":"IF(TRIM(BM78)=\"\", \"\", IF(VLOOKUP(BM78,'Footnotes list'!$D$9:$E$58,2,FALSE)=0,\"\",VLOOKUP(BM78,'Footnotes list'!$D$9:$E$58,2,FALSE) ) )","v":""},{"$f":"IF(AND(TRIM(Q78)=\"\",TRIM(V78)=\"\",TRIM(AA78)=\"\", TRIM(AF78)=\"\", TRIM(AK78)=\"\", TRIM(AP78)=\"\", TRIM(AU78)=\"\", TRIM(AZ78)=\"\", TRIM(BE78)=\"\", TRIM(BJ78)=\"\"),\"\",Q78+V78+AA78+AF78+AK78+AP78+AU78+AZ78+BE78+BJ78)","v":30716.191999999999},null,null,null,{"$f":"IF(TRIM(BR78)=\"\", \"\", IF(VLOOKUP(BR78,'Footnotes list'!$D$9:$E$58,2,FALSE)=0,\"\",VLOOKUP(BR78,'Footnotes list'!$D$9:$E$58,2,FALSE) ) )","v":""},1633.578,null,null,null,{"$f":"IF(TRIM(BW78)=\"\", \"\", IF(VLOOKUP(BW78,'Footnotes list'!$D$9:$E$58,2,FALSE)=0,\"\",VLOOKUP(BW78,'Footnotes list'!$D$9:$E$58,2,FALSE) ) )","v":""},1167.6579999999999,null,null,null,{"$f":"IF(TRIM(CB78)=\"\", \"\", IF(VLOOKUP(CB78,'Footnotes list'!$D$9:$E$58,2,FALSE)=0,\"\",VLOOKUP(CB78,'Footnotes list'!$D$9:$E$58,2,FALSE) ) )","v":""},60496.178999999996,null,null,null,{"$f":"IF(TRIM(CG78)=\"\", \"\", IF(VLOOKUP(CG78,'Footnotes list'!$D$9:$E$58,2,FALSE)=0,\"\",VLOOKUP(CG78,'Footnotes list'!$D$9:$E$58,2,FALSE) ) )","v":""},{"$f":"IF(AND(TRIM(BY78)=\"\",TRIM(CD78)=\"\"),\"\",BY78+CD78)","v":61663.837},null,null,null,{"$f":"IF(TRIM(CL78)=\"\", \"\", IF(VLOOKUP(CL78,'Footnotes list'!$D$9:$E$58,2,FALSE)=0,\"\",VLOOKUP(CL78,'Footnotes list'!$D$9:$E$58,2,FALSE) ) )","v":""},17226.25,null,null,null,{"$f":"IF(TRIM(CQ78)=\"\", \"\", IF(VLOOKUP(CQ78,'Footnotes list'!$D$9:$E$58,2,FALSE)=0,\"\",VLOOKUP(CQ78,'Footnotes list'!$D$9:$E$58,2,FALSE) ) )","v":""},165638.44399999999,null,null,null,{"$f":"IF(TRIM(CV78)=\"\", \"\", IF(VLOOKUP(CV78,'Footnotes list'!$D$9:$E$58,2,FALSE)=0,\"\",VLOOKUP(CV78,'Footnotes list'!$D$9:$E$58,2,FALSE) ) )","v":""},38.92,null,null,null,{"$f":"IF(TRIM(DA78)=\"\", \"\", IF(VLOOKUP(DA78,'Footnotes list'!$D$9:$E$58,2,FALSE)=0,\"\",VLOOKUP(DA78,'Footnotes list'!$D$9:$E$58,2,FALSE) ) )","v":""},914885.78899999999,null,null,null,{"$f":"IF(TRIM(DF78)=\"\", \"\", IF(VLOOKUP(DF78,'Footnotes list'!$D$9:$E$58,2,FALSE)=0,\"\",VLOOKUP(DF78,'Footnotes list'!$D$9:$E$58,2,FALSE) ) )","v":""},{"$f":"IF(AND(TRIM(G78)=\"\",TRIM(L78)=\"\",TRIM(BO78)=\"\",TRIM(BT78)=\"\",TRIM(CI78)=\"\",TRIM(CN78)=\"\",TRIM(CS78)=\"\",TRIM(CX78)=\"\",TRIM(DC78)=\"\"),\"\",SUM(G78,L78,BO78,BT78,CI78,CN78,CS78,CX78,DC78))","v":1197905.0430000001},null,null,null,{"$f":"IF(TRIM(DK78)=\"\", \"\", IF(VLOOKUP(DK78,'Footnotes list'!$D$9:$E$58,2,FALSE)=0,\"\",VLOOKUP(DK78,'Footnotes list'!$D$9:$E$58,2,FALSE) ) )","v":""}]
[null,null,"W101",null,"HAZ_NHAZ","Total",{"$f":"IF(AND(TRIM(G77)=\"\",TRIM(G78)=\"\"),\"\",G77+G78)","v":5661.558},null,null,null,{"$f":"IF(TRIM(J79)=\"\", \"\", IF(VLOOKUP(J79,'Footnotes list'!$D$9:$E$58,2,FALSE)=0,\"\",VLOOKUP(J79,'Footnotes list'!$D$9:$E$58,2,FALSE) ) )","v":""},{"$f":"IF(AND(TRIM(L77)=\"\",TRIM(L78)=\"\"),\"\",L77+L78)","v":440.47500000000002},null,null,null,{"$f":"IF(TRIM(O79)=\"\", \"\", IF(VLOOKUP(O79,'Footnotes list'!$D$9:$E$58,2,FALSE)=0,\"\",VLOOKUP(O79,'Footnotes list'!$D$9:$E$58,2,FALSE) ) )","v":""},{"$f":"IF(AND(TRIM(Q77)=\"\",TRIM(Q78)=\"\"),\"\",Q77+Q78)","v":6292.5150000000003},null,null,null,{"$f":"IF(TRIM(T79)=\"\", \"\", IF(VLOOKUP(T79,'Footnotes list'!$D$9:$E$58,2,FALSE)=0,\"\",VLOOKUP(T79,'Footnotes list'!$D$9:$E$58,2,FALSE) ) )","v":""},{"$f":"IF(AND(TRIM(V77)=\"\",TRIM(V78)=\"\"),\"\",V77+V78)","v":2255.3319999999999},null,null,null,{"$f":"IF(TRIM(Y79)=\"\", \"\", IF(VLOOKUP(Y79,'Footnotes list'!$D$9:$E$58,2,FALSE)=0,\"\",VLOOKUP(Y79,'Footnotes list'!$D$9:$E$58,2,FALSE) ) )","v":""},{"$f":"IF(AND(TRIM(AA77)=\"\",TRIM(AA78)=\"\"),\"\",AA77+AA78)","v":1888.9},null,null,null,{"$f":"IF(TRIM(AD79)=\"\", \"\", IF(VLOOKUP(AD79,'Footnotes list'!$D$9:$E$58,2,FALSE)=0,\"\",VLOOKUP(AD79,'Footnotes list'!$D$9:$E$58,2,FALSE) ) )","v":""},{"$f":"IF(AND(TRIM(AF77)=\"\",TRIM(AF78)=\"\"),\"\",AF77+AF78)","v":1453.5350000000001},null,null,null,{"$f":"IF(TRIM(AI79)=\"\", \"\", IF(VLOOKUP(AI79,'Footnotes list'!$D$9:$E$58,2,FALSE)=0,\"\",VLOOKUP(AI79,'Footnotes list'!$D$9:$E$58,2,FALSE) ) )","v":""},{"$f":"IF(AND(TRIM(AK77)=\"\",TRIM(AK78)=\"\"),\"\",AK77+AK78)","v":283.79300000000001},null,null,null,{"$f":"IF(TRIM(AN79)=\"\", \"\", IF(VLOOKUP(AN79,'Footnotes list'!$D$9:$E$58,2,FALSE)=0,\"\",VLOOKUP(AN79,'Footnotes list'!$D$9:$E$58,2,FALSE) ) )","v":""},{"$f":"IF(AND(TRIM(AP77)=\"\",TRIM(AP78)=\"\"),\"\",AP77+AP78)","v":3292.6480000000001},null,null,null,{"$f":"IF(TRIM(AS79)=\"\", \"\", IF(VLOOKUP(AS79,'Footnotes list'!$D$9:$E$58,2,FALSE)=0,\"\",VLOOKUP(AS79,'Footnotes list'!$D$9:$E$58,2,FALSE) ) )","v":""},{"$f":"IF(AND(TRIM(AU77)=\"\",TRIM(AU78)=\"\"),\"\",AU77+AU78)","v":1416.7619999999999},null,null,null,{"$f":"IF(TRIM(AX79)=\"\", \"\", IF(VLOOKUP(AX79,'Footnotes list'!$D$9:$E$58,2,FALSE)=0,\"\",VLOOKUP(AX79,'Footnotes list'!$D$9:$E$58,2,FALSE) ) )","v":""},{"$f":"IF(AND(TRIM(AZ77)=\"\",TRIM(AZ78)=\"\"),\"\",AZ77+AZ78)","v":5159.5420000000004},null,null,null,{"$f":"IF(TRIM(BC79)=\"\", \"\", IF(VLOOKUP(BC79,'Footnotes list'!$D$9:$E$58,2,FALSE)=0,\"\",VLOOKUP(BC79,'Footnotes list'!$D$9:$E$58,2,FALSE) ) )","v":""},{"$f":"IF(AND(TRIM(BE77)=\"\",TRIM(BE78)=\"\"),\"\",BE77+BE78)","v":4826.7299999999996},null,null,null,{"$f":"IF(TRIM(BH79)=\"\", \"\", IF(VLOOKUP(BH79,'Footnotes list'!$D$9:$E$58,2,FALSE)=0,\"\",VLOOKUP(BH79,'Footnotes list'!$D$9:$E$58,2,FALSE) ) )","v":""},{"$f":"IF(AND(TRIM(BJ77)=\"\",TRIM(BJ78)=\"\"),\"\",BJ77+BJ78)","v":3846.4349999999999},null,null,null,{"$f":"IF(TRIM(BM79)=\"\", \"\", IF(VLOOKUP(BM79,'Footnotes list'!$D$9:$E$58,2,FALSE)=0,\"\",VLOOKUP(BM79,'Footnotes list'!$D$9:$E$58,2,FALSE) ) )","v":""},{"$f":"IF(AND(TRIM(BO77)=\"\", TRIM(BO78)=\"\"), \"\", (IF(ISNUMBER(BO77),BO77,0)+IF(ISNUMBER(BO78),BO78,0)))","v":30716.191999999999},null,null,null,{"$f":"IF(TRIM(BR79)=\"\", \"\", IF(VLOOKUP(BR79,'Footnotes list'!$D$9:$E$58,2,FALSE)=0,\"\",VLOOKUP(BR79,'Footnotes list'!$D$9:$E$58,2,FALSE) ) )","v":""},{"$f":"IF(AND(TRIM(BT77)=\"\",TRIM(BT78)=\"\"),\"\",BT77+BT78)","v":1633.578},null,null,null,{"$f":"IF(TRIM(BW79)=\"\", \"\", IF(VLOOKUP(BW79,'Footnotes list'!$D$9:$E$58,2,FALSE)=0,\"\",VLOOKUP(BW79,'Footnotes list'!$D$9:$E$58,2,FALSE) ) )","v":""},{"$f":"IF(AND(TRIM(BY77)=\"\",TRIM(BY78)=\"\"),\"\",BY77+BY78)","v":1167.6579999999999},null,null,null,{"$f":"IF(TRIM(CB79)=\"\", \"\", IF(VLOOKUP(CB79,'Footnotes list'!$D$9:$E$58,2,FALSE)=0,\"\",VLOOKUP(CB79,'Footnotes list'!$D$9:$E$58,2,FALSE) ) )","v":""},{"$f":"IF(AND(TRIM(CD77)=\"\",TRIM(CD78)=\"\"),\"\",CD77+CD78)","v":60496.178999999996},null,null,null,{"$f":"IF(TRIM(CG79)=\"\", \"\", IF(VLOOKUP(CG79,'Footnotes list'!$D$9:$E$58,2,FALSE)=0,\"\",VLOOKUP(CG79,'Footnotes list'!$D$9:$E$58,2,FALSE) ) )","v":""},{"$f":"IF(AND(TRIM(CI77)=\"\", TRIM(CI78)=\"\"), \"\", (IF(ISNUMBER(CI77),CI77,0)+IF(ISNUMBER(CI78),CI78,0)))","v":61663.837},null,null,null,{"$f":"IF(TRIM(CL79)=\"\", \"\", IF(VLOOKUP(CL79,'Footnotes list'!$D$9:$E$58,2,FALSE)=0,\"\",VLOOKUP(CL79,'Footnotes list'!$D$9:$E$58,2,FALSE) ) )","v":""},{"$f":"IF(AND(TRIM(CN77)=\"\",TRIM(CN78)=\"\"),\"\",CN77+CN78)","v":17226.25},null,null,null,{"$f":"IF(TRIM(CQ79)=\"\", \"\", IF(VLOOKUP(CQ79,'Footnotes list'!$D$9:$E$58,2,FALSE)=0,\"\",VLOOKUP(CQ79,'Footnotes list'!$D$9:$E$58,2,FALSE) ) )","v":""},{"$f":"IF(AND(TRIM(CS77)=\"\",TRIM(CS78)=\"\"),\"\",CS77+CS78)","v":165638.44399999999},null,null,null,{"$f":"IF(TRIM(CV79)=\"\", \"\", IF(VLOOKUP(CV79,'Footnotes list'!$D$9:$E$58,2,FALSE)=0,\"\",VLOOKUP(CV79,'Footnotes list'!$D$9:$E$58,2,FALSE) ) )","v":""},{"$f":"IF(AND(TRIM(CX77)=\"\",TRIM(CX78)=\"\"),\"\",CX77+CX78)","v":38.92},null,null,null,{"$f":"IF(TRIM(DA79)=\"\", \"\", IF(VLOOKUP(DA79,'Footnotes list'!$D$9:$E$58,2,FALSE)=0,\"\",VLOOKUP(DA79,'Footnotes list'!$D$9:$E$58,2,FALSE) ) )","v":""},{"$f":"IF(AND(TRIM(DC77)=\"\",TRIM(DC78)=\"\"),\"\",DC77+DC78)","v":914885.78899999999},null,null,null,{"$f":"IF(TRIM(DF79)=\"\", \"\", IF(VLOOKUP(DF79,'Footnotes list'!$D$9:$E$58,2,FALSE)=0,\"\",VLOOKUP(DF79,'Footnotes list'!$D$9:$E$58,2,FALSE) ) )","v":""},{"$f":"IF(AND(TRIM(DH77)=\"\", TRIM(DH78)=\"\"), \"\", SUM(DH77,DH78) )","v":1197905.0430000001},null,null,null,{"$f":"IF(TRIM(DK79)=\"\", \"\", IF(VLOOKUP(DK79,'Footnotes list'!$D$9:$E$58,2,FALSE)=0,\"\",VLOOKUP(DK79,'Footnotes list'!$D$9:$E$58,2,FALSE) ) )","v":""}]
[null,"W102","W102","Mixed and undifferentiated materials ","HAZ","Hazardous ",0.08,null,null,null,{"$f":"IF(TRIM(J80)=\"\", \"\", IF(VLOOKUP(J80,'Footnotes list'!$D$9:$E$58,2,FALSE)=0,\"\",VLOOKUP(J80,'Footnotes list'!$D$9:$E$58,2,FALSE) ) )","v":""},13.675000000000001,null,null,null,{"$f":"IF(TRIM(O80)=\"\", \"\", IF(VLOOKUP(O80,'Footnotes list'!$D$9:$E$58,2,FALSE)=0,\"\",VLOOKUP(O80,'Footnotes list'!$D$9:$E$58,2,FALSE) ) )","v":""},4.0430000000000001,null,null,null,{"$f":"IF(TRIM(T80)=\"\", \"\", IF(VLOOKUP(T80,'Footnotes list'!$D$9:$E$58,2,FALSE)=0,\"\",VLOOKUP(T80,'Footnotes list'!$D$9:$E$58,2,FALSE) ) )","v":""},0,null,null,null,{"$f":"IF(TRIM(Y80)=\"\", \"\", IF(VLOOKUP(Y80,'Footnotes list'!$D$9:$E$58,2,FALSE)=0,\"\",VLOOKUP(Y80,'Footnotes list'!$D$9:$E$58,2,FALSE) ) )","v":""},5.0000000000000001E-3,null,null,null,{"$f":"IF(TRIM(AD80)=\"\", \"\", IF(VLOOKUP(AD80,'Footnotes list'!$D$9:$E$58,2,FALSE)=0,\"\",VLOOKUP(AD80,'Footnotes list'!$D$9:$E$58,2,FALSE) ) )","v":""},1.056,null,null,null,{"$f":"IF(TRIM(AI80)=\"\", \"\", IF(VLOOKUP(AI80,'Footnotes list'!$D$9:$E$58,2,FALSE)=0,\"\",VLOOKUP(AI80,'Footnotes list'!$D$9:$E$58,2,FALSE) ) )","v":""},0,null,null,null,{"$f":"IF(TRIM(AN80)=\"\", \"\", IF(VLOOKUP(AN80,'Footnotes list'!$D$9:$E$58,2,FALSE)=0,\"\",VLOOKUP(AN80,'Footnotes list'!$D$9:$E$58,2,FALSE) ) )","v":""},157.91200000000001,null,null,null,{"$f":"IF(TRIM(AS80)=\"\", \"\", IF(VLOOKUP(AS80,'Footnotes list'!$D$9:$E$58,2,FALSE)=0,\"\",VLOOKUP(AS80,'Footnotes list'!$D$9:$E$58,2,FALSE) ) )","v":""},0,null,null,null,{"$f":"IF(TRIM(AX80)=\"\", \"\", IF(VLOOKUP(AX80,'Footnotes list'!$D$9:$E$58,2,FALSE)=0,\"\",VLOOKUP(AX80,'Footnotes list'!$D$9:$E$58,2,FALSE) ) )","v":""},19.641999999999999,null,null,null,{"$f":"IF(TRIM(BC80)=\"\", \"\", IF(VLOOKUP(BC80,'Footnotes list'!$D$9:$E$58,2,FALSE)=0,\"\",VLOOKUP(BC80,'Footnotes list'!$D$9:$E$58,2,FALSE) ) )","v":""},16.248999999999999,null,null,null,{"$f":"IF(TRIM(BH80)=\"\", \"\", IF(VLOOKUP(BH80,'Footnotes list'!$D$9:$E$58,2,FALSE)=0,\"\",VLOOKUP(BH80,'Footnotes list'!$D$9:$E$58,2,FALSE) ) )","v":""},28.56,null,null,null,{"$f":"IF(TRIM(BM80)=\"\", \"\", IF(VLOOKUP(BM80,'Footnotes list'!$D$9:$E$58,2,FALSE)=0,\"\",VLOOKUP(BM80,'Footnotes list'!$D$9:$E$58,2,FALSE) ) )","v":""},{"$f":"IF(AND(TRIM(Q80)=\"\",TRIM(V80)=\"\",TRIM(AA80)=\"\", TRIM(AF80)=\"\", TRIM(AK80)=\"\", TRIM(AP80)=\"\", TRIM(AU80)=\"\", TRIM(AZ80)=\"\", TRIM(BE80)=\"\", TRIM(BJ80)=\"\"),\"\",Q80+V80+AA80+AF80+AK80+AP80+AU80+AZ80+BE80+BJ80)","v":227.46700000000001},null,null,null,{"$f":"IF(TRIM(BR80)=\"\", \"\", IF(VLOOKUP(BR80,'Footnotes list'!$D$9:$E$58,2,FALSE)=0,\"\",VLOOKUP(BR80,'Footnotes list'!$D$9:$E$58,2,FALSE) ) )","v":""},0,null,null,null,{"$f":"IF(TRIM(BW80)=\"\", \"\", IF(VLOOKUP(BW80,'Footnotes list'!$D$9:$E$58,2,FALSE)=0,\"\",VLOOKUP(BW80,'Footnotes list'!$D$9:$E$58,2,FALSE) ) )","v":""},0,null,null,null,{"$f":"IF(TRIM(CB80)=\"\", \"\", IF(VLOOKUP(CB80,'Footnotes list'!$D$9:$E$58,2,FALSE)=0,\"\",VLOOKUP(CB80,'Footnotes list'!$D$9:$E$58,2,FALSE) ) )","v":""},12.819000000000001,null,null,null,{"$f":"IF(TRIM(CG80)=\"\", \"\", IF(VLOOKUP(CG80,'Footnotes list'!$D$9:$E$58,2,FALSE)=0,\"\",VLOOKUP(CG80,'Footnotes list'!$D$9:$E$58,2,FALSE) ) )","v":""},{"$f":"IF(AND(TRIM(BY80)=\"\",TRIM(CD80)=\"\"),\"\",BY80+CD80)","v":12.819000000000001},null,null,null,{"$f":"IF(TRIM(CL80)=\"\", \"\", IF(VLOOKUP(CL80,'Footnotes list'!$D$9:$E$58,2,FALSE)=0,\"\",VLOOKUP(CL80,'Footnotes list'!$D$9:$E$58,2,FALSE) ) )","v":""},1492.98,null,null,null,{"$f":"IF(TRIM(CQ80)=\"\", \"\", IF(VLOOKUP(CQ80,'Footnotes list'!$D$9:$E$58,2,FALSE)=0,\"\",VLOOKUP(CQ80,'Footnotes list'!$D$9:$E$58,2,FALSE) ) )","v":""},213.38399999999999,null,null,null,{"$f":"IF(TRIM(CV80)=\"\", \"\", IF(VLOOKUP(CV80,'Footnotes list'!$D$9:$E$58,2,FALSE)=0,\"\",VLOOKUP(CV80,'Footnotes list'!$D$9:$E$58,2,FALSE) ) )","v":""},0,null,null,null,{"$f":"IF(TRIM(DA80)=\"\", \"\", IF(VLOOKUP(DA80,'Footnotes list'!$D$9:$E$58,2,FALSE)=0,\"\",VLOOKUP(DA80,'Footnotes list'!$D$9:$E$58,2,FALSE) ) )","v":""},0.46,null,null,null,{"$f":"IF(TRIM(DF80)=\"\", \"\", IF(VLOOKUP(DF80,'Footnotes list'!$D$9:$E$58,2,FALSE)=0,\"\",VLOOKUP(DF80,'Footnotes list'!$D$9:$E$58,2,FALSE) ) )","v":""},{"$f":"IF(AND(TRIM(G80)=\"\",TRIM(L80)=\"\",TRIM(BO80)=\"\",TRIM(BT80)=\"\",TRIM(CI80)=\"\",TRIM(CN80)=\"\",TRIM(CS80)=\"\",TRIM(CX80)=\"\",TRIM(DC80)=\"\"),\"\",SUM(G80,L80,BO80,BT80,CI80,CN80,CS80,CX80,DC80))","v":1960.865},null,null,null,{"$f":"IF(TRIM(DK80)=\"\", \"\", IF(VLOOKUP(DK80,'Footnotes list'!$D$9:$E$58,2,FALSE)=0,\"\",VLOOKUP(DK80,'Footnotes list'!$D$9:$E$58,2,FALSE) ) )","v":""}]
[null,null,"W102",null,"NHAZ","Non-hazardous",787.65,null,null,null,{"$f":"IF(TRIM(J81)=\"\", \"\", IF(VLOOKUP(J81,'Footnotes list'!$D$9:$E$58,2,FALSE)=0,\"\",VLOOKUP(J81,'Footnotes list'!$D$9:$E$58,2,FALSE) ) )","v":""},47.835000000000001,null,null,null,{"$f":"IF(TRIM(O81)=\"\", \"\", IF(VLOOKUP(O81,'Footnotes list'!$D$9:$E$58,2,FALSE)=0,\"\",VLOOKUP(O81,'Footnotes list'!$D$9:$E$58,2,FALSE) ) )","v":""},15183.574000000001,null,null,null,{"$f":"IF(TRIM(T81)=\"\", \"\", IF(VLOOKUP(T81,'Footnotes list'!$D$9:$E$58,2,FALSE)=0,\"\",VLOOKUP(T81,'Footnotes list'!$D$9:$E$58,2,FALSE) ) )","v":""},856.33100000000002,null,null,null,{"$f":"IF(TRIM(Y81)=\"\", \"\", IF(VLOOKUP(Y81,'Footnotes list'!$D$9:$E$58,2,FALSE)=0,\"\",VLOOKUP(Y81,'Footnotes list'!$D$9:$E$58,2,FALSE) ) )","v":""},58.515000000000001,null,null,null,{"$f":"IF(TRIM(AD81)=\"\", \"\", IF(VLOOKUP(AD81,'Footnotes list'!$D$9:$E$58,2,FALSE)=0,\"\",VLOOKUP(AD81,'Footnotes list'!$D$9:$E$58,2,FALSE) ) )","v":""},32933.281999999999,null,null,null,{"$f":"IF(TRIM(AI81)=\"\", \"\", IF(VLOOKUP(AI81,'Footnotes list'!$D$9:$E$58,2,FALSE)=0,\"\",VLOOKUP(AI81,'Footnotes list'!$D$9:$E$58,2,FALSE) ) )","v":""},2213.1999999999998,null,null,null,{"$f":"IF(TRIM(AN81)=\"\", \"\", IF(VLOOKUP(AN81,'Footnotes list'!$D$9:$E$58,2,FALSE)=0,\"\",VLOOKUP(AN81,'Footnotes list'!$D$9:$E$58,2,FALSE) ) )","v":""},1677.0039999999999,null,null,null,{"$f":"IF(TRIM(AS81)=\"\", \"\", IF(VLOOKUP(AS81,'Footnotes list'!$D$9:$E$58,2,FALSE)=0,\"\",VLOOKUP(AS81,'Footnotes list'!$D$9:$E$58,2,FALSE) ) )","v":""},3013.7089999999998,null,null,null,{"$f":"IF(TRIM(AX81)=\"\", \"\", IF(VLOOKUP(AX81,'Footnotes list'!$D$9:$E$58,2,FALSE)=0,\"\",VLOOKUP(AX81,'Footnotes list'!$D$9:$E$58,2,FALSE) ) )","v":""},2591.88,null,null,null,{"$f":"IF(TRIM(BC81)=\"\", \"\", IF(VLOOKUP(BC81,'Footnotes list'!$D$9:$E$58,2,FALSE)=0,\"\",VLOOKUP(BC81,'Footnotes list'!$D$9:$E$58,2,FALSE) ) )","v":""},2695.6579999999999,null,null,null,{"$f":"IF(TRIM(BH81)=\"\", \"\", IF(VLOOKUP(BH81,'Footnotes list'!$D$9:$E$58,2,FALSE)=0,\"\",VLOOKUP(BH81,'Footnotes list'!$D$9:$E$58,2,FALSE) ) )","v":""},325.464,null,null,null,{"$f":"IF(TRIM(BM81)=\"\", \"\", IF(VLOOKUP(BM81,'Footnotes list'!$D$9:$E$58,2,FALSE)=0,\"\",VLOOKUP(BM81,'Footnotes list'!$D$9:$E$58,2,FALSE) ) )","v":""},{"$f":"IF(AND(TRIM(Q81)=\"\",TRIM(V81)=\"\",TRIM(AA81)=\"\", TRIM(AF81)=\"\", TRIM(AK81)=\"\", TRIM(AP81)=\"\", TRIM(AU81)=\"\", TRIM(AZ81)=\"\", TRIM(BE81)=\"\", TRIM(BJ81)=\"\"),\"\",Q81+V81+AA81+AF81+AK81+AP81+AU81+AZ81+BE81+BJ81)","v":61548.616999999998},null,null,null,{"$f":"IF(TRIM(BR81)=\"\", \"\", IF(VLOOKUP(BR81,'Footnotes list'!$D$9:$E$58,2,FALSE)=0,\"\",VLOOKUP(BR81,'Footnotes list'!$D$9:$E$58,2,FALSE) ) )","v":""},0,null,null,null,{"$f":"IF(TRIM(BW81)=\"\", \"\", IF(VLOOKUP(BW81,'Footnotes list'!$D$9:$E$58,2,FALSE)=0,\"\",VLOOKUP(BW81,'Footnotes list'!$D$9:$E$58,2,FALSE) ) )","v":""},3639.4679999999998,null,null,null,{"$f":"IF(TRIM(CB81)=\"\", \"\", IF(VLOOKUP(CB81,'Footnotes list'!$D$9:$E$58,2,FALSE)=0,\"\",VLOOKUP(CB81,'Footnotes list'!$D$9:$E$58,2,FALSE) ) )","v":""},51561.892,null,null,null,{"$f":"IF(TRIM(CG81)=\"\", \"\", IF(VLOOKUP(CG81,'Footnotes list'!$D$9:$E$58,2,FALSE)=0,\"\",VLOOKUP(CG81,'Footnotes list'!$D$9:$E$58,2,FALSE) ) )","v":""},{"$f":"IF(AND(TRIM(BY81)=\"\",TRIM(CD81)=\"\"),\"\",BY81+CD81)","v":55201.36},null,null,null,{"$f":"IF(TRIM(CL81)=\"\", \"\", IF(VLOOKUP(CL81,'Footnotes list'!$D$9:$E$58,2,FALSE)=0,\"\",VLOOKUP(CL81,'Footnotes list'!$D$9:$E$58,2,FALSE) ) )","v":""},703.93100000000004,null,null,null,{"$f":"IF(TRIM(CQ81)=\"\", \"\", IF(VLOOKUP(CQ81,'Footnotes list'!$D$9:$E$58,2,FALSE)=0,\"\",VLOOKUP(CQ81,'Footnotes list'!$D$9:$E$58,2,FALSE) ) )","v":""},3955.835,null,null,null,{"$f":"IF(TRIM(CV81)=\"\", \"\", IF(VLOOKUP(CV81,'Footnotes list'!$D$9:$E$58,2,FALSE)=0,\"\",VLOOKUP(CV81,'Footnotes list'!$D$9:$E$58,2,FALSE) ) )","v":""},0.67,null,null,null,{"$f":"IF(TRIM(DA81)=\"\", \"\", IF(VLOOKUP(DA81,'Footnotes list'!$D$9:$E$58,2,FALSE)=0,\"\",VLOOKUP(DA81,'Footnotes list'!$D$9:$E$58,2,FALSE) ) )","v":""},13083.838,null,null,null,{"$f":"IF(TRIM(DF81)=\"\", \"\", IF(VLOOKUP(DF81,'Footnotes list'!$D$9:$E$58,2,FALSE)=0,\"\",VLOOKUP(DF81,'Footnotes list'!$D$9:$E$58,2,FALSE) ) )","v":""},{"$f":"IF(AND(TRIM(G81)=\"\",TRIM(L81)=\"\",TRIM(BO81)=\"\",TRIM(BT81)=\"\",TRIM(CI81)=\"\",TRIM(CN81)=\"\",TRIM(CS81)=\"\",TRIM(CX81)=\"\",TRIM(DC81)=\"\"),\"\",SUM(G81,L81,BO81,BT81,CI81,CN81,CS81,CX81,DC81))","v":135329.736},null,null,null,{"$f":"IF(TRIM(DK81)=\"\", \"\", IF(VLOOKUP(DK81,'Footnotes list'!$D$9:$E$58,2,FALSE)=0,\"\",VLOOKUP(DK81,'Footnotes list'!$D$9:$E$58,2,FALSE) ) )","v":""}]
[null,null,"W102",null,"HAZ_NHAZ","Total",{"$f":"IF(AND(TRIM(G80)=\"\",TRIM(G81)=\"\"),\"\",G80+G81)","v":787.73},null,null,null,{"$f":"IF(TRIM(J82)=\"\", \"\", IF(VLOOKUP(J82,'Footnotes list'!$D$9:$E$58,2,FALSE)=0,\"\",VLOOKUP(J82,'Footnotes list'!$D$9:$E$58,2,FALSE) ) )","v":""},{"$f":"IF(AND(TRIM(L80)=\"\",TRIM(L81)=\"\"),\"\",L80+L81)","v":61.51},null,null,null,{"$f":"IF(TRIM(O82)=\"\", \"\", IF(VLOOKUP(O82,'Footnotes list'!$D$9:$E$58,2,FALSE)=0,\"\",VLOOKUP(O82,'Footnotes list'!$D$9:$E$58,2,FALSE) ) )","v":""},{"$f":"IF(AND(TRIM(Q80)=\"\",TRIM(Q81)=\"\"),\"\",Q80+Q81)","v":15187.617},null,null,null,{"$f":"IF(TRIM(T82)=\"\", \"\", IF(VLOOKUP(T82,'Footnotes list'!$D$9:$E$58,2,FALSE)=0,\"\",VLOOKUP(T82,'Footnotes list'!$D$9:$E$58,2,FALSE) ) )","v":""},{"$f":"IF(AND(TRIM(V80)=\"\",TRIM(V81)=\"\"),\"\",V80+V81)","v":856.33100000000002},null,null,null,{"$f":"IF(TRIM(Y82)=\"\", \"\", IF(VLOOKUP(Y82,'Footnotes list'!$D$9:$E$58,2,FALSE)=0,\"\",VLOOKUP(Y82,'Footnotes list'!$D$9:$E$58,2,FALSE) ) )","v":""},{"$f":"IF(AND(TRIM(AA80)=\"\",TRIM(AA81)=\"\"),\"\",AA80+AA81)","v":58.52},null,null,null,{"$f":"IF(TRIM(AD82)=\"\", \"\", IF(VLOOKUP(AD82,'Footnotes list'!$D$9:$E$58,2,FALSE)=0,\"\",VLOOKUP(AD82,'Footnotes list'!$D$9:$E$58,2,FALSE) ) )","v":""},{"$f":"IF(AND(TRIM(AF80)=\"\",TRIM(AF81)=\"\"),\"\",AF80+AF81)","v":32934.338000000003},null,null,null,{"$f":"IF(TRIM(AI82)=\"\", \"\", IF(VLOOKUP(AI82,'Footnotes list'!$D$9:$E$58,2,FALSE)=0,\"\",VLOOKUP(AI82,'Footnotes list'!$D$9:$E$58,2,FALSE) ) )","v":""},{"$f":"IF(AND(TRIM(AK80)=\"\",TRIM(AK81)=\"\"),\"\",AK80+AK81)","v":2213.1999999999998},null,null,null,{"$f":"IF(TRIM(AN82)=\"\", \"\", IF(VLOOKUP(AN82,'Footnotes list'!$D$9:$E$58,2,FALSE)=0,\"\",VLOOKUP(AN82,'Footnotes list'!$D$9:$E$58,2,FALSE) ) )","v":""},{"$f":"IF(AND(TRIM(AP80)=\"\",TRIM(AP81)=\"\"),\"\",AP80+AP81)","v":1834.9159999999999},null,null,null,{"$f":"IF(TRIM(AS82)=\"\", \"\", IF(VLOOKUP(AS82,'Footnotes list'!$D$9:$E$58,2,FALSE)=0,\"\",VLOOKUP(AS82,'Footnotes list'!$D$9:$E$58,2,FALSE) ) )","v":""},{"$f":"IF(AND(TRIM(AU80)=\"\",TRIM(AU81)=\"\"),\"\",AU80+AU81)","v":3013.7089999999998},null,null,null,{"$f":"IF(TRIM(AX82)=\"\", \"\", IF(VLOOKUP(AX82,'Footnotes list'!$D$9:$E$58,2,FALSE)=0,\"\",VLOOKUP(AX82,'Footnotes list'!$D$9:$E$58,2,FALSE) ) )","v":""},{"$f":"IF(AND(TRIM(AZ80)=\"\",TRIM(AZ81)=\"\"),\"\",AZ80+AZ81)","v":2611.5219999999999},null,null,null,{"$f":"IF(TRIM(BC82)=\"\", \"\", IF(VLOOKUP(BC82,'Footnotes list'!$D$9:$E$58,2,FALSE)=0,\"\",VLOOKUP(BC82,'Footnotes list'!$D$9:$E$58,2,FALSE) ) )","v":""},{"$f":"IF(AND(TRIM(BE80)=\"\",TRIM(BE81)=\"\"),\"\",BE80+BE81)","v":2711.9070000000002},null,null,null,{"$f":"IF(TRIM(BH82)=\"\", \"\", IF(VLOOKUP(BH82,'Footnotes list'!$D$9:$E$58,2,FALSE)=0,\"\",VLOOKUP(BH82,'Footnotes list'!$D$9:$E$58,2,FALSE) ) )","v":""},{"$f":"IF(AND(TRIM(BJ80)=\"\",TRIM(BJ81)=\"\"),\"\",BJ80+BJ81)","v":354.024},null,null,null,{"$f":"IF(TRIM(BM82)=\"\", \"\", IF(VLOOKUP(BM82,'Footnotes list'!$D$9:$E$58,2,FALSE)=0,\"\",VLOOKUP(BM82,'Footnotes list'!$D$9:$E$58,2,FALSE) ) )","v":""},{"$f":"IF(AND(TRIM(BO80)=\"\", TRIM(BO81)=\"\"), \"\", (IF(ISNUMBER(BO80),BO80,0)+IF(ISNUMBER(BO81),BO81,0)))","v":61776.084000000003},null,null,null,{"$f":"IF(TRIM(BR82)=\"\", \"\", IF(VLOOKUP(BR82,'Footnotes list'!$D$9:$E$58,2,FALSE)=0,\"\",VLOOKUP(BR82,'Footnotes list'!$D$9:$E$58,2,FALSE) ) )","v":""},{"$f":"IF(AND(TRIM(BT80)=\"\",TRIM(BT81)=\"\"),\"\",BT80+BT81)","v":0},null,null,null,{"$f":"IF(TRIM(BW82)=\"\", \"\", IF(VLOOKUP(BW82,'Footnotes list'!$D$9:$E$58,2,FALSE)=0,\"\",VLOOKUP(BW82,'Footnotes list'!$D$9:$E$58,2,FALSE) ) )","v":""},{"$f":"IF(AND(TRIM(BY80)=\"\",TRIM(BY81)=\"\"),\"\",BY80+BY81)","v":3639.4679999999998},null,null,null,{"$f":"IF(TRIM(CB82)=\"\", \"\", IF(VLOOKUP(CB82,'Footnotes list'!$D$9:$E$58,2,FALSE)=0,\"\",VLOOKUP(CB82,'Footnotes list'!$D$9:$E$58,2,FALSE) ) )","v":""},{"$f":"IF(AND(TRIM(CD80)=\"\",TRIM(CD81)=\"\"),\"\",CD80+CD81)","v":51574.711000000003},null,null,null,{"$f":"IF(TRIM(CG82)=\"\", \"\", IF(VLOOKUP(CG82,'Footnotes list'!$D$9:$E$58,2,FALSE)=0,\"\",VLOOKUP(CG82,'Footnotes list'!$D$9:$E$58,2,FALSE) ) )","v":""},{"$f":"IF(AND(TRIM(CI80)=\"\", TRIM(CI81)=\"\"), \"\", (IF(ISNUMBER(CI80),CI80,0)+IF(ISNUMBER(CI81),CI81,0)))","v":55214.178999999996},null,null,null,{"$f":"IF(TRIM(CL82)=\"\", \"\", IF(VLOOKUP(CL82,'Footnotes list'!$D$9:$E$58,2,FALSE)=0,\"\",VLOOKUP(CL82,'Footnotes list'!$D$9:$E$58,2,FALSE) ) )","v":""},{"$f":"IF(AND(TRIM(CN80)=\"\",TRIM(CN81)=\"\"),\"\",CN80+CN81)","v":2196.9110000000001},null,null,null,{"$f":"IF(TRIM(CQ82)=\"\", \"\", IF(VLOOKUP(CQ82,'Footnotes list'!$D$9:$E$58,2,FALSE)=0,\"\",VLOOKUP(CQ82,'Footnotes list'!$D$9:$E$58,2,FALSE) ) )","v":""},{"$f":"IF(AND(TRIM(CS80)=\"\",TRIM(CS81)=\"\"),\"\",CS80+CS81)","v":4169.2190000000001},null,null,null,{"$f":"IF(TRIM(CV82)=\"\", \"\", IF(VLOOKUP(CV82,'Footnotes list'!$D$9:$E$58,2,FALSE)=0,\"\",VLOOKUP(CV82,'Footnotes list'!$D$9:$E$58,2,FALSE) ) )","v":""},{"$f":"IF(AND(TRIM(CX80)=\"\",TRIM(CX81)=\"\"),\"\",CX80+CX81)","v":0.67},null,null,null,{"$f":"IF(TRIM(DA82)=\"\", \"\", IF(VLOOKUP(DA82,'Footnotes list'!$D$9:$E$58,2,FALSE)=0,\"\",VLOOKUP(DA82,'Footnotes list'!$D$9:$E$58,2,FALSE) ) )","v":""},{"$f":"IF(AND(TRIM(DC80)=\"\",TRIM(DC81)=\"\"),\"\",DC80+DC81)","v":13084.298000000001},null,null,null,{"$f":"IF(TRIM(DF82)=\"\", \"\", IF(VLOOKUP(DF82,'Footnotes list'!$D$9:$E$58,2,FALSE)=0,\"\",VLOOKUP(DF82,'Footnotes list'!$D$9:$E$58,2,FALSE) ) )","v":""},{"$f":"IF(AND(TRIM(DH80)=\"\", TRIM(DH81)=\"\"), \"\", SUM(DH80,DH81) )","v":137290.601},null,null,null,{"$f":"IF(TRIM(DK82)=\"\", \"\", IF(VLOOKUP(DK82,'Footnotes list'!$D$9:$E$58,2,FALSE)=0,\"\",VLOOKUP(DK82,'Footnotes list'!$D$9:$E$58,2,FALSE) ) )","v":""}]
[null,"W103","W103","Sorting residues ","HAZ","Hazardous ",0,null,null,null,{"$f":"IF(TRIM(J83)=\"\", \"\", IF(VLOOKUP(J83,'Footnotes list'!$D$9:$E$58,2,FALSE)=0,\"\",VLOOKUP(J83,'Footnotes list'!$D$9:$E$58,2,FALSE) ) )","v":""},0,null,null,null,{"$f":"IF(TRIM(O83)=\"\", \"\", IF(VLOOKUP(O83,'Footnotes list'!$D$9:$E$58,2,FALSE)=0,\"\",VLOOKUP(O83,'Footnotes list'!$D$9:$E$58,2,FALSE) ) )","v":""},70.38,null,null,null,{"$f":"IF(TRIM(T83)=\"\", \"\", IF(VLOOKUP(T83,'Footnotes list'!$D$9:$E$58,2,FALSE)=0,\"\",VLOOKUP(T83,'Footnotes list'!$D$9:$E$58,2,FALSE) ) )","v":""},0,null,null,null,{"$f":"IF(TRIM(Y83)=\"\", \"\", IF(VLOOKUP(Y83,'Footnotes list'!$D$9:$E$58,2,FALSE)=0,\"\",VLOOKUP(Y83,'Footnotes list'!$D$9:$E$58,2,FALSE) ) )","v":""},0,null,null,null,{"$f":"IF(TRIM(AD83)=\"\", \"\", IF(VLOOKUP(AD83,'Footnotes list'!$D$9:$E$58,2,FALSE)=0,\"\",VLOOKUP(AD83,'Footnotes list'!$D$9:$E$58,2,FALSE) ) )","v":""},0,null,null,null,{"$f":"IF(TRIM(AI83)=\"\", \"\", IF(VLOOKUP(AI83,'Footnotes list'!$D$9:$E$58,2,FALSE)=0,\"\",VLOOKUP(AI83,'Footnotes list'!$D$9:$E$58,2,FALSE) ) )","v":""},0,null,null,null,{"$f":"IF(TRIM(AN83)=\"\", \"\", IF(VLOOKUP(AN83,'Footnotes list'!$D$9:$E$58,2,FALSE)=0,\"\",VLOOKUP(AN83,'Footnotes list'!$D$9:$E$58,2,FALSE) ) )","v":""},0,null,null,null,{"$f":"IF(TRIM(AS83)=\"\", \"\", IF(VLOOKUP(AS83,'Footnotes list'!$D$9:$E$58,2,FALSE)=0,\"\",VLOOKUP(AS83,'Footnotes list'!$D$9:$E$58,2,FALSE) ) )","v":""},0,null,null,null,{"$f":"IF(TRIM(AX83)=\"\", \"\", IF(VLOOKUP(AX83,'Footnotes list'!$D$9:$E$58,2,FALSE)=0,\"\",VLOOKUP(AX83,'Footnotes list'!$D$9:$E$58,2,FALSE) ) )","v":""},15891.891,null,null,null,{"$f":"IF(TRIM(BC83)=\"\", \"\", IF(VLOOKUP(BC83,'Footnotes list'!$D$9:$E$58,2,FALSE)=0,\"\",VLOOKUP(BC83,'Footnotes list'!$D$9:$E$58,2,FALSE) ) )","v":""},0,null,null,null,{"$f":"IF(TRIM(BH83)=\"\", \"\", IF(VLOOKUP(BH83,'Footnotes list'!$D$9:$E$58,2,FALSE)=0,\"\",VLOOKUP(BH83,'Footnotes list'!$D$9:$E$58,2,FALSE) ) )","v":""},0,null,null,null,{"$f":"IF(TRIM(BM83)=\"\", \"\", IF(VLOOKUP(BM83,'Footnotes list'!$D$9:$E$58,2,FALSE)=0,\"\",VLOOKUP(BM83,'Footnotes list'!$D$9:$E$58,2,FALSE) ) )","v":""},{"$f":"IF(AND(TRIM(Q83)=\"\",TRIM(V83)=\"\",TRIM(AA83)=\"\", TRIM(AF83)=\"\", TRIM(AK83)=\"\", TRIM(AP83)=\"\", TRIM(AU83)=\"\", TRIM(AZ83)=\"\", TRIM(BE83)=\"\", TRIM(BJ83)=\"\"),\"\",Q83+V83+AA83+AF83+AK83+AP83+AU83+AZ83+BE83+BJ83)","v":15962.271000000001},null,null,null,{"$f":"IF(TRIM(BR83)=\"\", \"\", IF(VLOOKUP(BR83,'Footnotes list'!$D$9:$E$58,2,FALSE)=0,\"\",VLOOKUP(BR83,'Footnotes list'!$D$9:$E$58,2,FALSE) ) )","v":""},0,null,null,null,{"$f":"IF(TRIM(BW83)=\"\", \"\", IF(VLOOKUP(BW83,'Footnotes list'!$D$9:$E$58,2,FALSE)=0,\"\",VLOOKUP(BW83,'Footnotes list'!$D$9:$E$58,2,FALSE) ) )","v":""},438.07,null,null,null,{"$f":"IF(TRIM(CB83)=\"\", \"\", IF(VLOOKUP(CB83,'Footnotes list'!$D$9:$E$58,2,FALSE)=0,\"\",VLOOKUP(CB83,'Footnotes list'!$D$9:$E$58,2,FALSE) ) )","v":""},546.43700000000001,null,null,null,{"$f":"IF(TRIM(CG83)=\"\", \"\", IF(VLOOKUP(CG83,'Footnotes list'!$D$9:$E$58,2,FALSE)=0,\"\",VLOOKUP(CG83,'Footnotes list'!$D$9:$E$58,2,FALSE) ) )","v":""},{"$f":"IF(AND(TRIM(BY83)=\"\",TRIM(CD83)=\"\"),\"\",BY83+CD83)","v":984.50699999999995},null,null,null,{"$f":"IF(TRIM(CL83)=\"\", \"\", IF(VLOOKUP(CL83,'Footnotes list'!$D$9:$E$58,2,FALSE)=0,\"\",VLOOKUP(CL83,'Footnotes list'!$D$9:$E$58,2,FALSE) ) )","v":""},0,null,null,null,{"$f":"IF(TRIM(CQ83)=\"\", \"\", IF(VLOOKUP(CQ83,'Footnotes list'!$D$9:$E$58,2,FALSE)=0,\"\",VLOOKUP(CQ83,'Footnotes list'!$D$9:$E$58,2,FALSE) ) )","v":""},1604.6110000000001,null,null,null,{"$f":"IF(TRIM(CV83)=\"\", \"\", IF(VLOOKUP(CV83,'Footnotes list'!$D$9:$E$58,2,FALSE)=0,\"\",VLOOKUP(CV83,'Footnotes list'!$D$9:$E$58,2,FALSE) ) )","v":""},7.94,null,null,null,{"$f":"IF(TRIM(DA83)=\"\", \"\", IF(VLOOKUP(DA83,'Footnotes list'!$D$9:$E$58,2,FALSE)=0,\"\",VLOOKUP(DA83,'Footnotes list'!$D$9:$E$58,2,FALSE) ) )","v":""},0,null,null,null,{"$f":"IF(TRIM(DF83)=\"\", \"\", IF(VLOOKUP(DF83,'Footnotes list'!$D$9:$E$58,2,FALSE)=0,\"\",VLOOKUP(DF83,'Footnotes list'!$D$9:$E$58,2,FALSE) ) )","v":""},{"$f":"IF(AND(TRIM(G83)=\"\",TRIM(L83)=\"\",TRIM(BO83)=\"\",TRIM(BT83)=\"\",TRIM(CI83)=\"\",TRIM(CN83)=\"\",TRIM(CS83)=\"\",TRIM(CX83)=\"\",TRIM(DC83)=\"\"),\"\",SUM(G83,L83,BO83,BT83,CI83,CN83,CS83,CX83,DC83))","v":18559.329000000002},null,null,null,{"$f":"IF(TRIM(DK83)=\"\", \"\", IF(VLOOKUP(DK83,'Footnotes list'!$D$9:$E$58,2,FALSE)=0,\"\",VLOOKUP(DK83,'Footnotes list'!$D$9:$E$58,2,FALSE) ) )","v":""}]
[null,null,"W103",null,"NHAZ","Non-hazardous",0,null,null,null,{"$f":"IF(TRIM(J84)=\"\", \"\", IF(VLOOKUP(J84,'Footnotes list'!$D$9:$E$58,2,FALSE)=0,\"\",VLOOKUP(J84,'Footnotes list'!$D$9:$E$58,2,FALSE) ) )","v":""},0,null,null,null,{"$f":"IF(TRIM(O84)=\"\", \"\", IF(VLOOKUP(O84,'Footnotes list'!$D$9:$E$58,2,FALSE)=0,\"\",VLOOKUP(O84,'Footnotes list'!$D$9:$E$58,2,FALSE) ) )","v":""},0,null,null,null,{"$f":"IF(TRIM(T84)=\"\", \"\", IF(VLOOKUP(T84,'Footnotes list'!$D$9:$E$58,2,FALSE)=0,\"\",VLOOKUP(T84,'Footnotes list'!$D$9:$E$58,2,FALSE) ) )","v":""},155.13,null,null,null,{"$f":"IF(TRIM(Y84)=\"\", \"\", IF(VLOOKUP(Y84,'Footnotes list'!$D$9:$E$58,2,FALSE)=0,\"\",VLOOKUP(Y84,'Footnotes list'!$D$9:$E$58,2,FALSE) ) )","v":""},0,null,null,null,{"$f":"IF(TRIM(AD84)=\"\", \"\", IF(VLOOKUP(AD84,'Footnotes list'!$D$9:$E$58,2,FALSE)=0,\"\",VLOOKUP(AD84,'Footnotes list'!$D$9:$E$58,2,FALSE) ) )","v":""},0,null,null,null,{"$f":"IF(TRIM(AI84)=\"\", \"\", IF(VLOOKUP(AI84,'Footnotes list'!$D$9:$E$58,2,FALSE)=0,\"\",VLOOKUP(AI84,'Footnotes list'!$D$9:$E$58,2,FALSE) ) )","v":""},0,null,null,null,{"$f":"IF(TRIM(AN84)=\"\", \"\", IF(VLOOKUP(AN84,'Footnotes list'!$D$9:$E$58,2,FALSE)=0,\"\",VLOOKUP(AN84,'Footnotes list'!$D$9:$E$58,2,FALSE) ) )","v":""},401.69400000000002,null,null,null,{"$f":"IF(TRIM(AS84)=\"\", \"\", IF(VLOOKUP(AS84,'Footnotes list'!$D$9:$E$58,2,FALSE)=0,\"\",VLOOKUP(AS84,'Footnotes list'!$D$9:$E$58,2,FALSE) ) )","v":""},1716.96,null,null,null,{"$f":"IF(TRIM(AX84)=\"\", \"\", IF(VLOOKUP(AX84,'Footnotes list'!$D$9:$E$58,2,FALSE)=0,\"\",VLOOKUP(AX84,'Footnotes list'!$D$9:$E$58,2,FALSE) ) )","v":""},1653.0530000000001,null,null,null,{"$f":"IF(TRIM(BC84)=\"\", \"\", IF(VLOOKUP(BC84,'Footnotes list'!$D$9:$E$58,2,FALSE)=0,\"\",VLOOKUP(BC84,'Footnotes list'!$D$9:$E$58,2,FALSE) ) )","v":""},40.119999999999997,null,null,null,{"$f":"IF(TRIM(BH84)=\"\", \"\", IF(VLOOKUP(BH84,'Footnotes list'!$D$9:$E$58,2,FALSE)=0,\"\",VLOOKUP(BH84,'Footnotes list'!$D$9:$E$58,2,FALSE) ) )","v":""},988.17700000000002,null,null,null,{"$f":"IF(TRIM(BM84)=\"\", \"\", IF(VLOOKUP(BM84,'Footnotes list'!$D$9:$E$58,2,FALSE)=0,\"\",VLOOKUP(BM84,'Footnotes list'!$D$9:$E$58,2,FALSE) ) )","v":""},{"$f":"IF(AND(TRIM(Q84)=\"\",TRIM(V84)=\"\",TRIM(AA84)=\"\", TRIM(AF84)=\"\", TRIM(AK84)=\"\", TRIM(AP84)=\"\", TRIM(AU84)=\"\", TRIM(AZ84)=\"\", TRIM(BE84)=\"\", TRIM(BJ84)=\"\"),\"\",Q84+V84+AA84+AF84+AK84+AP84+AU84+AZ84+BE84+BJ84)","v":4955.134},null,null,null,{"$f":"IF(TRIM(BR84)=\"\", \"\", IF(VLOOKUP(BR84,'Footnotes list'!$D$9:$E$58,2,FALSE)=0,\"\",VLOOKUP(BR84,'Footnotes list'!$D$9:$E$58,2,FALSE) ) )","v":""},986.26,null,null,null,{"$f":"IF(TRIM(BW84)=\"\", \"\", IF(VLOOKUP(BW84,'Footnotes list'!$D$9:$E$58,2,FALSE)=0,\"\",VLOOKUP(BW84,'Footnotes list'!$D$9:$E$58,2,FALSE) ) )","v":""},108.453,null,null,null,{"$f":"IF(TRIM(CB84)=\"\", \"\", IF(VLOOKUP(CB84,'Footnotes list'!$D$9:$E$58,2,FALSE)=0,\"\",VLOOKUP(CB84,'Footnotes list'!$D$9:$E$58,2,FALSE) ) )","v":""},464677.55900000001,null,null,null,{"$f":"IF(TRIM(CG84)=\"\", \"\", IF(VLOOKUP(CG84,'Footnotes list'!$D$9:$E$58,2,FALSE)=0,\"\",VLOOKUP(CG84,'Footnotes list'!$D$9:$E$58,2,FALSE) ) )","v":""},{"$f":"IF(AND(TRIM(BY84)=\"\",TRIM(CD84)=\"\"),\"\",BY84+CD84)","v":464786.01199999999},null,null,null,{"$f":"IF(TRIM(CL84)=\"\", \"\", IF(VLOOKUP(CL84,'Footnotes list'!$D$9:$E$58,2,FALSE)=0,\"\",VLOOKUP(CL84,'Footnotes list'!$D$9:$E$58,2,FALSE) ) )","v":""},0,null,null,null,{"$f":"IF(TRIM(CQ84)=\"\", \"\", IF(VLOOKUP(CQ84,'Footnotes list'!$D$9:$E$58,2,FALSE)=0,\"\",VLOOKUP(CQ84,'Footnotes list'!$D$9:$E$58,2,FALSE) ) )","v":""},9831.848,null,null,null,{"$f":"IF(TRIM(CV84)=\"\", \"\", IF(VLOOKUP(CV84,'Footnotes list'!$D$9:$E$58,2,FALSE)=0,\"\",VLOOKUP(CV84,'Footnotes list'!$D$9:$E$58,2,FALSE) ) )","v":""},3152.4769999999999,null,null,null,{"$f":"IF(TRIM(DA84)=\"\", \"\", IF(VLOOKUP(DA84,'Footnotes list'!$D$9:$E$58,2,FALSE)=0,\"\",VLOOKUP(DA84,'Footnotes list'!$D$9:$E$58,2,FALSE) ) )","v":""},0,null,null,null,{"$f":"IF(TRIM(DF84)=\"\", \"\", IF(VLOOKUP(DF84,'Footnotes list'!$D$9:$E$58,2,FALSE)=0,\"\",VLOOKUP(DF84,'Footnotes list'!$D$9:$E$58,2,FALSE) ) )","v":""},{"$f":"IF(AND(TRIM(G84)=\"\",TRIM(L84)=\"\",TRIM(BO84)=\"\",TRIM(BT84)=\"\",TRIM(CI84)=\"\",TRIM(CN84)=\"\",TRIM(CS84)=\"\",TRIM(CX84)=\"\",TRIM(DC84)=\"\"),\"\",SUM(G84,L84,BO84,BT84,CI84,CN84,CS84,CX84,DC84))","v":483711.73100000003},null,null,null,{"$f":"IF(TRIM(DK84)=\"\", \"\", IF(VLOOKUP(DK84,'Footnotes list'!$D$9:$E$58,2,FALSE)=0,\"\",VLOOKUP(DK84,'Footnotes list'!$D$9:$E$58,2,FALSE) ) )","v":""}]
[null,null,"W103",null,"HAZ_NHAZ","Total",{"$f":"IF(AND(TRIM(G83)=\"\",TRIM(G84)=\"\"),\"\",G83+G84)","v":0},null,null,null,{"$f":"IF(TRIM(J85)=\"\", \"\", IF(VLOOKUP(J85,'Footnotes list'!$D$9:$E$58,2,FALSE)=0,\"\",VLOOKUP(J85,'Footnotes list'!$D$9:$E$58,2,FALSE) ) )","v":""},{"$f":"IF(AND(TRIM(L83)=\"\",TRIM(L84)=\"\"),\"\",L83+L84)","v":0},null,null,null,{"$f":"IF(TRIM(O85)=\"\", \"\", IF(VLOOKUP(O85,'Footnotes list'!$D$9:$E$58,2,FALSE)=0,\"\",VLOOKUP(O85,'Footnotes list'!$D$9:$E$58,2,FALSE) ) )","v":""},{"$f":"IF(AND(TRIM(Q83)=\"\",TRIM(Q84)=\"\"),\"\",Q83+Q84)","v":70.38},null,null,null,{"$f":"IF(TRIM(T85)=\"\", \"\", IF(VLOOKUP(T85,'Footnotes list'!$D$9:$E$58,2,FALSE)=0,\"\",VLOOKUP(T85,'Footnotes list'!$D$9:$E$58,2,FALSE) ) )","v":""},{"$f":"IF(AND(TRIM(V83)=\"\",TRIM(V84)=\"\"),\"\",V83+V84)","v":155.13},null,null,null,{"$f":"IF(TRIM(Y85)=\"\", \"\", IF(VLOOKUP(Y85,'Footnotes list'!$D$9:$E$58,2,FALSE)=0,\"\",VLOOKUP(Y85,'Footnotes list'!$D$9:$E$58,2,FALSE) ) )","v":""},{"$f":"IF(AND(TRIM(AA83)=\"\",TRIM(AA84)=\"\"),\"\",AA83+AA84)","v":0},null,null,null,{"$f":"IF(TRIM(AD85)=\"\", \"\", IF(VLOOKUP(AD85,'Footnotes list'!$D$9:$E$58,2,FALSE)=0,\"\",VLOOKUP(AD85,'Footnotes list'!$D$9:$E$58,2,FALSE) ) )","v":""},{"$f":"IF(AND(TRIM(AF83)=\"\",TRIM(AF84)=\"\"),\"\",AF83+AF84)","v":0},null,null,null,{"$f":"IF(TRIM(AI85)=\"\", \"\", IF(VLOOKUP(AI85,'Footnotes list'!$D$9:$E$58,2,FALSE)=0,\"\",VLOOKUP(AI85,'Footnotes list'!$D$9:$E$58,2,FALSE) ) )","v":""},{"$f":"IF(AND(TRIM(AK83)=\"\",TRIM(AK84)=\"\"),\"\",AK83+AK84)","v":0},null,null,null,{"$f":"IF(TRIM(AN85)=\"\", \"\", IF(VLOOKUP(AN85,'Footnotes list'!$D$9:$E$58,2,FALSE)=0,\"\",VLOOKUP(AN85,'Footnotes list'!$D$9:$E$58,2,FALSE) ) )","v":""},{"$f":"IF(AND(TRIM(AP83)=\"\",TRIM(AP84)=\"\"),\"\",AP83+AP84)","v":401.69400000000002},null,null,null,{"$f":"IF(TRIM(AS85)=\"\", \"\", IF(VLOOKUP(AS85,'Footnotes list'!$D$9:$E$58,2,FALSE)=0,\"\",VLOOKUP(AS85,'Footnotes list'!$D$9:$E$58,2,FALSE) ) )","v":""},{"$f":"IF(AND(TRIM(AU83)=\"\",TRIM(AU84)=\"\"),\"\",AU83+AU84)","v":1716.96},null,null,null,{"$f":"IF(TRIM(AX85)=\"\", \"\", IF(VLOOKUP(AX85,'Footnotes list'!$D$9:$E$58,2,FALSE)=0,\"\",VLOOKUP(AX85,'Footnotes list'!$D$9:$E$58,2,FALSE) ) )","v":""},{"$f":"IF(AND(TRIM(AZ83)=\"\",TRIM(AZ84)=\"\"),\"\",AZ83+AZ84)","v":17544.944},null,null,null,{"$f":"IF(TRIM(BC85)=\"\", \"\", IF(VLOOKUP(BC85,'Footnotes list'!$D$9:$E$58,2,FALSE)=0,\"\",VLOOKUP(BC85,'Footnotes list'!$D$9:$E$58,2,FALSE) ) )","v":""},{"$f":"IF(AND(TRIM(BE83)=\"\",TRIM(BE84)=\"\"),\"\",BE83+BE84)","v":40.119999999999997},null,null,null,{"$f":"IF(TRIM(BH85)=\"\", \"\", IF(VLOOKUP(BH85,'Footnotes list'!$D$9:$E$58,2,FALSE)=0,\"\",VLOOKUP(BH85,'Footnotes list'!$D$9:$E$58,2,FALSE) ) )","v":""},{"$f":"IF(AND(TRIM(BJ83)=\"\",TRIM(BJ84)=\"\"),\"\",BJ83+BJ84)","v":988.17700000000002},null,null,null,{"$f":"IF(TRIM(BM85)=\"\", \"\", IF(VLOOKUP(BM85,'Footnotes list'!$D$9:$E$58,2,FALSE)=0,\"\",VLOOKUP(BM85,'Footnotes list'!$D$9:$E$58,2,FALSE) ) )","v":""},{"$f":"IF(AND(TRIM(BO83)=\"\", TRIM(BO84)=\"\"), \"\", (IF(ISNUMBER(BO83),BO83,0)+IF(ISNUMBER(BO84),BO84,0)))","v":20917.404999999999},null,null,null,{"$f":"IF(TRIM(BR85)=\"\", \"\", IF(VLOOKUP(BR85,'Footnotes list'!$D$9:$E$58,2,FALSE)=0,\"\",VLOOKUP(BR85,'Footnotes list'!$D$9:$E$58,2,FALSE) ) )","v":""},{"$f":"IF(AND(TRIM(BT83)=\"\",TRIM(BT84)=\"\"),\"\",BT83+BT84)","v":986.26},null,null,null,{"$f":"IF(TRIM(BW85)=\"\", \"\", IF(VLOOKUP(BW85,'Footnotes list'!$D$9:$E$58,2,FALSE)=0,\"\",VLOOKUP(BW85,'Footnotes list'!$D$9:$E$58,2,FALSE) ) )","v":""},{"$f":"IF(AND(TRIM(BY83)=\"\",TRIM(BY84)=\"\"),\"\",BY83+BY84)","v":546.52300000000002},null,null,null,{"$f":"IF(TRIM(CB85)=\"\", \"\", IF(VLOOKUP(CB85,'Footnotes list'!$D$9:$E$58,2,FALSE)=0,\"\",VLOOKUP(CB85,'Footnotes list'!$D$9:$E$58,2,FALSE) ) )","v":""},{"$f":"IF(AND(TRIM(CD83)=\"\",TRIM(CD84)=\"\"),\"\",CD83+CD84)","v":465223.99599999998},null,null,null,{"$f":"IF(TRIM(CG85)=\"\", \"\", IF(VLOOKUP(CG85,'Footnotes list'!$D$9:$E$58,2,FALSE)=0,\"\",VLOOKUP(CG85,'Footnotes list'!$D$9:$E$58,2,FALSE) ) )","v":""},{"$f":"IF(AND(TRIM(CI83)=\"\", TRIM(CI84)=\"\"), \"\", (IF(ISNUMBER(CI83),CI83,0)+IF(ISNUMBER(CI84),CI84,0)))","v":465770.51899999997},null,null,null,{"$f":"IF(TRIM(CL85)=\"\", \"\", IF(VLOOKUP(CL85,'Footnotes list'!$D$9:$E$58,2,FALSE)=0,\"\",VLOOKUP(CL85,'Footnotes list'!$D$9:$E$58,2,FALSE) ) )","v":""},{"$f":"IF(AND(TRIM(CN83)=\"\",TRIM(CN84)=\"\"),\"\",CN83+CN84)","v":0},null,null,null,{"$f":"IF(TRIM(CQ85)=\"\", \"\", IF(VLOOKUP(CQ85,'Footnotes list'!$D$9:$E$58,2,FALSE)=0,\"\",VLOOKUP(CQ85,'Footnotes list'!$D$9:$E$58,2,FALSE) ) )","v":""},{"$f":"IF(AND(TRIM(CS83)=\"\",TRIM(CS84)=\"\"),\"\",CS83+CS84)","v":11436.459000000001},null,null,null,{"$f":"IF(TRIM(CV85)=\"\", \"\", IF(VLOOKUP(CV85,'Footnotes list'!$D$9:$E$58,2,FALSE)=0,\"\",VLOOKUP(CV85,'Footnotes list'!$D$9:$E$58,2,FALSE) ) )","v":""},{"$f":"IF(AND(TRIM(CX83)=\"\",TRIM(CX84)=\"\"),\"\",CX83+CX84)","v":3160.4169999999999},null,null,null,{"$f":"IF(TRIM(DA85)=\"\", \"\", IF(VLOOKUP(DA85,'Footnotes list'!$D$9:$E$58,2,FALSE)=0,\"\",VLOOKUP(DA85,'Footnotes list'!$D$9:$E$58,2,FALSE) ) )","v":""},{"$f":"IF(AND(TRIM(DC83)=\"\",TRIM(DC84)=\"\"),\"\",DC83+DC84)","v":0},null,null,null,{"$f":"IF(TRIM(DF85)=\"\", \"\", IF(VLOOKUP(DF85,'Footnotes list'!$D$9:$E$58,2,FALSE)=0,\"\",VLOOKUP(DF85,'Footnotes list'!$D$9:$E$58,2,FALSE) ) )","v":""},{"$f":"IF(AND(TRIM(DH83)=\"\", TRIM(DH84)=\"\"), \"\", SUM(DH83,DH84) )","v":502271.06},null,null,null,{"$f":"IF(TRIM(DK85)=\"\", \"\", IF(VLOOKUP(DK85,'Footnotes list'!$D$9:$E$58,2,FALSE)=0,\"\",VLOOKUP(DK85,'Footnotes list'!$D$9:$E$58,2,FALSE) ) )","v":""}]
[null,"W11",null,"Common sludges ",null,"Not applicable"]
[null,null,"W11",null,"NHAZ","Non-hazardous",124.58,null,null,null,{"$f":"IF(TRIM(J87)=\"\", \"\", IF(VLOOKUP(J87,'Footnotes list'!$D$9:$E$58,2,FALSE)=0,\"\",VLOOKUP(J87,'Footnotes list'!$D$9:$E$58,2,FALSE) ) )","v":""},0,null,null,null,{"$f":"IF(TRIM(O87)=\"\", \"\", IF(VLOOKUP(O87,'Footnotes list'!$D$9:$E$58,2,FALSE)=0,\"\",VLOOKUP(O87,'Footnotes list'!$D$9:$E$58,2,FALSE) ) )","v":""},1949.0429999999999,null,null,null,{"$f":"IF(TRIM(T87)=\"\", \"\", IF(VLOOKUP(T87,'Footnotes list'!$D$9:$E$58,2,FALSE)=0,\"\",VLOOKUP(T87,'Footnotes list'!$D$9:$E$58,2,FALSE) ) )","v":""},0,null,null,null,{"$f":"IF(TRIM(Y87)=\"\", \"\", IF(VLOOKUP(Y87,'Footnotes list'!$D$9:$E$58,2,FALSE)=0,\"\",VLOOKUP(Y87,'Footnotes list'!$D$9:$E$58,2,FALSE) ) )","v":""},0,null,null,null,{"$f":"IF(TRIM(AD87)=\"\", \"\", IF(VLOOKUP(AD87,'Footnotes list'!$D$9:$E$58,2,FALSE)=0,\"\",VLOOKUP(AD87,'Footnotes list'!$D$9:$E$58,2,FALSE) ) )","v":""},1716.25,null,null,null,{"$f":"IF(TRIM(AI87)=\"\", \"\", IF(VLOOKUP(AI87,'Footnotes list'!$D$9:$E$58,2,FALSE)=0,\"\",VLOOKUP(AI87,'Footnotes list'!$D$9:$E$58,2,FALSE) ) )","v":""},0,null,null,null,{"$f":"IF(TRIM(AN87)=\"\", \"\", IF(VLOOKUP(AN87,'Footnotes list'!$D$9:$E$58,2,FALSE)=0,\"\",VLOOKUP(AN87,'Footnotes list'!$D$9:$E$58,2,FALSE) ) )","v":""},7.1,null,null,null,{"$f":"IF(TRIM(AS87)=\"\", \"\", IF(VLOOKUP(AS87,'Footnotes list'!$D$9:$E$58,2,FALSE)=0,\"\",VLOOKUP(AS87,'Footnotes list'!$D$9:$E$58,2,FALSE) ) )","v":""},11.308,null,null,null,{"$f":"IF(TRIM(AX87)=\"\", \"\", IF(VLOOKUP(AX87,'Footnotes list'!$D$9:$E$58,2,FALSE)=0,\"\",VLOOKUP(AX87,'Footnotes list'!$D$9:$E$58,2,FALSE) ) )","v":""},8.1709999999999994,null,null,null,{"$f":"IF(TRIM(BC87)=\"\", \"\", IF(VLOOKUP(BC87,'Footnotes list'!$D$9:$E$58,2,FALSE)=0,\"\",VLOOKUP(BC87,'Footnotes list'!$D$9:$E$58,2,FALSE) ) )","v":""},0,null,null,null,{"$f":"IF(TRIM(BH87)=\"\", \"\", IF(VLOOKUP(BH87,'Footnotes list'!$D$9:$E$58,2,FALSE)=0,\"\",VLOOKUP(BH87,'Footnotes list'!$D$9:$E$58,2,FALSE) ) )","v":""},0,null,null,null,{"$f":"IF(TRIM(BM87)=\"\", \"\", IF(VLOOKUP(BM87,'Footnotes list'!$D$9:$E$58,2,FALSE)=0,\"\",VLOOKUP(BM87,'Footnotes list'!$D$9:$E$58,2,FALSE) ) )","v":""},{"$f":"IF(AND(TRIM(Q87)=\"\",TRIM(V87)=\"\",TRIM(AA87)=\"\", TRIM(AF87)=\"\", TRIM(AK87)=\"\", TRIM(AP87)=\"\", TRIM(AU87)=\"\", TRIM(AZ87)=\"\", TRIM(BE87)=\"\", TRIM(BJ87)=\"\"),\"\",Q87+V87+AA87+AF87+AK87+AP87+AU87+AZ87+BE87+BJ87)","v":3691.8719999999998},null,null,null,{"$f":"IF(TRIM(BR87)=\"\", \"\", IF(VLOOKUP(BR87,'Footnotes list'!$D$9:$E$58,2,FALSE)=0,\"\",VLOOKUP(BR87,'Footnotes list'!$D$9:$E$58,2,FALSE) ) )","v":""},25.02,null,null,null,{"$f":"IF(TRIM(BW87)=\"\", \"\", IF(VLOOKUP(BW87,'Footnotes list'!$D$9:$E$58,2,FALSE)=0,\"\",VLOOKUP(BW87,'Footnotes list'!$D$9:$E$58,2,FALSE) ) )","v":""},26173.287,null,null,null,{"$f":"IF(TRIM(CB87)=\"\", \"\", IF(VLOOKUP(CB87,'Footnotes list'!$D$9:$E$58,2,FALSE)=0,\"\",VLOOKUP(CB87,'Footnotes list'!$D$9:$E$58,2,FALSE) ) )","v":""},21.536000000000001,null,null,null,{"$f":"IF(TRIM(CG87)=\"\", \"\", IF(VLOOKUP(CG87,'Footnotes list'!$D$9:$E$58,2,FALSE)=0,\"\",VLOOKUP(CG87,'Footnotes list'!$D$9:$E$58,2,FALSE) ) )","v":""},{"$f":"IF(AND(TRIM(BY87)=\"\",TRIM(CD87)=\"\"),\"\",BY87+CD87)","v":26194.823},null,null,null,{"$f":"IF(TRIM(CL87)=\"\", \"\", IF(VLOOKUP(CL87,'Footnotes list'!$D$9:$E$58,2,FALSE)=0,\"\",VLOOKUP(CL87,'Footnotes list'!$D$9:$E$58,2,FALSE) ) )","v":""},0,null,null,null,{"$f":"IF(TRIM(CQ87)=\"\", \"\", IF(VLOOKUP(CQ87,'Footnotes list'!$D$9:$E$58,2,FALSE)=0,\"\",VLOOKUP(CQ87,'Footnotes list'!$D$9:$E$58,2,FALSE) ) )","v":""},198.19800000000001,null,null,null,{"$f":"IF(TRIM(CV87)=\"\", \"\", IF(VLOOKUP(CV87,'Footnotes list'!$D$9:$E$58,2,FALSE)=0,\"\",VLOOKUP(CV87,'Footnotes list'!$D$9:$E$58,2,FALSE) ) )","v":""},0,null,null,null,{"$f":"IF(TRIM(DA87)=\"\", \"\", IF(VLOOKUP(DA87,'Footnotes list'!$D$9:$E$58,2,FALSE)=0,\"\",VLOOKUP(DA87,'Footnotes list'!$D$9:$E$58,2,FALSE) ) )","v":""},0,null,null,null,{"$f":"IF(TRIM(DF87)=\"\", \"\", IF(VLOOKUP(DF87,'Footnotes list'!$D$9:$E$58,2,FALSE)=0,\"\",VLOOKUP(DF87,'Footnotes list'!$D$9:$E$58,2,FALSE) ) )","v":""},{"$f":"IF(AND(TRIM(G87)=\"\",TRIM(L87)=\"\",TRIM(BO87)=\"\",TRIM(BT87)=\"\",TRIM(CI87)=\"\",TRIM(CN87)=\"\",TRIM(CS87)=\"\",TRIM(CX87)=\"\",TRIM(DC87)=\"\"),\"\",SUM(G87,L87,BO87,BT87,CI87,CN87,CS87,CX87,DC87))","v":30234.492999999999},null,null,null,{"$f":"IF(TRIM(DK87)=\"\", \"\", IF(VLOOKUP(DK87,'Footnotes list'!$D$9:$E$58,2,FALSE)=0,\"\",VLOOKUP(DK87,'Footnotes list'!$D$9:$E$58,2,FALSE) ) )","v":""}]
[null,null,"W11",null,"HAZ_NHAZ","Total",{"$f":"IF(AND(TRIM(G86)=\"\",TRIM(G87)=\"\"),\"\",G86+G87)","v":124.58},null,null,null,{"$f":"IF(TRIM(J88)=\"\", \"\", IF(VLOOKUP(J88,'Footnotes list'!$D$9:$E$58,2,FALSE)=0,\"\",VLOOKUP(J88,'Footnotes list'!$D$9:$E$58,2,FALSE) ) )","v":""},{"$f":"IF(AND(TRIM(L86)=\"\",TRIM(L87)=\"\"),\"\",L86+L87)","v":0},null,null,null,{"$f":"IF(TRIM(O88)=\"\", \"\", IF(VLOOKUP(O88,'Footnotes list'!$D$9:$E$58,2,FALSE)=0,\"\",VLOOKUP(O88,'Footnotes list'!$D$9:$E$58,2,FALSE) ) )","v":""},{"$f":"IF(AND(TRIM(Q86)=\"\",TRIM(Q87)=\"\"),\"\",Q86+Q87)","v":1949.0429999999999},null,null,null,{"$f":"IF(TRIM(T88)=\"\", \"\", IF(VLOOKUP(T88,'Footnotes list'!$D$9:$E$58,2,FALSE)=0,\"\",VLOOKUP(T88,'Footnotes list'!$D$9:$E$58,2,FALSE) ) )","v":""},{"$f":"IF(AND(TRIM(V86)=\"\",TRIM(V87)=\"\"),\"\",V86+V87)","v":0},null,null,null,{"$f":"IF(TRIM(Y88)=\"\", \"\", IF(VLOOKUP(Y88,'Footnotes list'!$D$9:$E$58,2,FALSE)=0,\"\",VLOOKUP(Y88,'Footnotes list'!$D$9:$E$58,2,FALSE) ) )","v":""},{"$f":"IF(AND(TRIM(AA86)=\"\",TRIM(AA87)=\"\"),\"\",AA86+AA87)","v":0},null,null,null,{"$f":"IF(TRIM(AD88)=\"\", \"\", IF(VLOOKUP(AD88,'Footnotes list'!$D$9:$E$58,2,FALSE)=0,\"\",VLOOKUP(AD88,'Footnotes list'!$D$9:$E$58,2,FALSE) ) )","v":""},{"$f":"IF(AND(TRIM(AF86)=\"\",TRIM(AF87)=\"\"),\"\",AF86+AF87)","v":1716.25},null,null,null,{"$f":"IF(TRIM(AI88)=\"\", \"\", IF(VLOOKUP(AI88,'Footnotes list'!$D$9:$E$58,2,FALSE)=0,\"\",VLOOKUP(AI88,'Footnotes list'!$D$9:$E$58,2,FALSE) ) )","v":""},{"$f":"IF(AND(TRIM(AK86)=\"\",TRIM(AK87)=\"\"),\"\",AK86+AK87)","v":0},null,null,null,{"$f":"IF(TRIM(AN88)=\"\", \"\", IF(VLOOKUP(AN88,'Footnotes list'!$D$9:$E$58,2,FALSE)=0,\"\",VLOOKUP(AN88,'Footnotes list'!$D$9:$E$58,2,FALSE) ) )","v":""},{"$f":"IF(AND(TRIM(AP86)=\"\",TRIM(AP87)=\"\"),\"\",AP86+AP87)","v":7.1},null,null,null,{"$f":"IF(TRIM(AS88)=\"\", \"\", IF(VLOOKUP(AS88,'Footnotes list'!$D$9:$E$58,2,FALSE)=0,\"\",VLOOKUP(AS88,'Footnotes list'!$D$9:$E$58,2,FALSE) ) )","v":""},{"$f":"IF(AND(TRIM(AU86)=\"\",TRIM(AU87)=\"\"),\"\",AU86+AU87)","v":11.308},null,null,null,{"$f":"IF(TRIM(AX88)=\"\", \"\", IF(VLOOKUP(AX88,'Footnotes list'!$D$9:$E$58,2,FALSE)=0,\"\",VLOOKUP(AX88,'Footnotes list'!$D$9:$E$58,2,FALSE) ) )","v":""},{"$f":"IF(AND(TRIM(AZ86)=\"\",TRIM(AZ87)=\"\"),\"\",AZ86+AZ87)","v":8.1709999999999994},null,null,null,{"$f":"IF(TRIM(BC88)=\"\", \"\", IF(VLOOKUP(BC88,'Footnotes list'!$D$9:$E$58,2,FALSE)=0,\"\",VLOOKUP(BC88,'Footnotes list'!$D$9:$E$58,2,FALSE) ) )","v":""},{"$f":"IF(AND(TRIM(BE86)=\"\",TRIM(BE87)=\"\"),\"\",BE86+BE87)","v":0},null,null,null,{"$f":"IF(TRIM(BH88)=\"\", \"\", IF(VLOOKUP(BH88,'Footnotes list'!$D$9:$E$58,2,FALSE)=0,\"\",VLOOKUP(BH88,'Footnotes list'!$D$9:$E$58,2,FALSE) ) )","v":""},{"$f":"IF(AND(TRIM(BJ86)=\"\",TRIM(BJ87)=\"\"),\"\",BJ86+BJ87)","v":0},null,null,null,{"$f":"IF(TRIM(BM88)=\"\", \"\", IF(VLOOKUP(BM88,'Footnotes list'!$D$9:$E$58,2,FALSE)=0,\"\",VLOOKUP(BM88,'Footnotes list'!$D$9:$E$58,2,FALSE) ) )","v":""},{"$f":"IF(AND(TRIM(BO86)=\"\", TRIM(BO87)=\"\"), \"\", (IF(ISNUMBER(BO86),BO86,0)+IF(ISNUMBER(BO87),BO87,0)))","v":3691.8719999999998},null,null,null,{"$f":"IF(TRIM(BR88)=\"\", \"\", IF(VLOOKUP(BR88,'Footnotes list'!$D$9:$E$58,2,FALSE)=0,\"\",VLOOKUP(BR88,'Footnotes list'!$D$9:$E$58,2,FALSE) ) )","v":""},{"$f":"IF(AND(TRIM(BT86)=\"\",TRIM(BT87)=\"\"),\"\",BT86+BT87)","v":25.02},null,null,null,{"$f":"IF(TRIM(BW88)=\"\", \"\", IF(VLOOKUP(BW88,'Footnotes list'!$D$9:$E$58,2,FALSE)=0,\"\",VLOOKUP(BW88,'Footnotes list'!$D$9:$E$58,2,FALSE) ) )","v":""},{"$f":"IF(AND(TRIM(BY86)=\"\",TRIM(BY87)=\"\"),\"\",BY86+BY87)","v":26173.287},null,null,null,{"$f":"IF(TRIM(CB88)=\"\", \"\", IF(VLOOKUP(CB88,'Footnotes list'!$D$9:$E$58,2,FALSE)=0,\"\",VLOOKUP(CB88,'Footnotes list'!$D$9:$E$58,2,FALSE) ) )","v":""},{"$f":"IF(AND(TRIM(CD86)=\"\",TRIM(CD87)=\"\"),\"\",CD86+CD87)","v":21.536000000000001},null,null,null,{"$f":"IF(TRIM(CG88)=\"\", \"\", IF(VLOOKUP(CG88,'Footnotes list'!$D$9:$E$58,2,FALSE)=0,\"\",VLOOKUP(CG88,'Footnotes list'!$D$9:$E$58,2,FALSE) ) )","v":""},{"$f":"IF(AND(TRIM(CI86)=\"\", TRIM(CI87)=\"\"), \"\", (IF(ISNUMBER(CI86),CI86,0)+IF(ISNUMBER(CI87),CI87,0)))","v":26194.823},null,null,null,{"$f":"IF(TRIM(CL88)=\"\", \"\", IF(VLOOKUP(CL88,'Footnotes list'!$D$9:$E$58,2,FALSE)=0,\"\",VLOOKUP(CL88,'Footnotes list'!$D$9:$E$58,2,FALSE) ) )","v":""},{"$f":"IF(AND(TRIM(CN86)=\"\",TRIM(CN87)=\"\"),\"\",CN86+CN87)","v":0},null,null,null,{"$f":"IF(TRIM(CQ88)=\"\", \"\", IF(VLOOKUP(CQ88,'Footnotes list'!$D$9:$E$58,2,FALSE)=0,\"\",VLOOKUP(CQ88,'Footnotes list'!$D$9:$E$58,2,FALSE) ) )","v":""},{"$f":"IF(AND(TRIM(CS86)=\"\",TRIM(CS87)=\"\"),\"\",CS86+CS87)","v":198.19800000000001},null,null,null,{"$f":"IF(TRIM(CV88)=\"\", \"\", IF(VLOOKUP(CV88,'Footnotes list'!$D$9:$E$58,2,FALSE)=0,\"\",VLOOKUP(CV88,'Footnotes list'!$D$9:$E$58,2,FALSE) ) )","v":""},{"$f":"IF(AND(TRIM(CX86)=\"\",TRIM(CX87)=\"\"),\"\",CX86+CX87)","v":0},null,null,null,{"$f":"IF(TRIM(DA88)=\"\", \"\", IF(VLOOKUP(DA88,'Footnotes list'!$D$9:$E$58,2,FALSE)=0,\"\",VLOOKUP(DA88,'Footnotes list'!$D$9:$E$58,2,FALSE) ) )","v":""},{"$f":"IF(AND(TRIM(DC86)=\"\",TRIM(DC87)=\"\"),\"\",DC86+DC87)","v":0},null,null,null,{"$f":"IF(TRIM(DF88)=\"\", \"\", IF(VLOOKUP(DF88,'Footnotes list'!$D$9:$E$58,2,FALSE)=0,\"\",VLOOKUP(DF88,'Footnotes list'!$D$9:$E$58,2,FALSE) ) )","v":""},{"$f":"IF(AND(TRIM(DH86)=\"\", TRIM(DH87)=\"\"), \"\", SUM(DH86,DH87) )","v":30234.492999999999},null,null,null,{"$f":"IF(TRIM(DK88)=\"\", \"\", IF(VLOOKUP(DK88,'Footnotes list'!$D$9:$E$58,2,FALSE)=0,\"\",VLOOKUP(DK88,'Footnotes list'!$D$9:$E$58,2,FALSE) ) )","v":""}]
[null,"W121","W121","Mineral waste from construction and demolition","HAZ","Hazardous ",0,null,null,null,{"$f":"IF(TRIM(J89)=\"\", \"\", IF(VLOOKUP(J89,'Footnotes list'!$D$9:$E$58,2,FALSE)=0,\"\",VLOOKUP(J89,'Footnotes list'!$D$9:$E$58,2,FALSE) ) )","v":""},0,null,null,null,{"$f":"IF(TRIM(O89)=\"\", \"\", IF(VLOOKUP(O89,'Footnotes list'!$D$9:$E$58,2,FALSE)=0,\"\",VLOOKUP(O89,'Footnotes list'!$D$9:$E$58,2,FALSE) ) )","v":""},0,null,null,null,{"$f":"IF(TRIM(T89)=\"\", \"\", IF(VLOOKUP(T89,'Footnotes list'!$D$9:$E$58,2,FALSE)=0,\"\",VLOOKUP(T89,'Footnotes list'!$D$9:$E$58,2,FALSE) ) )","v":""},0,null,null,null,{"$f":"IF(TRIM(Y89)=\"\", \"\", IF(VLOOKUP(Y89,'Footnotes list'!$D$9:$E$58,2,FALSE)=0,\"\",VLOOKUP(Y89,'Footnotes list'!$D$9:$E$58,2,FALSE) ) )","v":""},0,null,null,null,{"$f":"IF(TRIM(AD89)=\"\", \"\", IF(VLOOKUP(AD89,'Footnotes list'!$D$9:$E$58,2,FALSE)=0,\"\",VLOOKUP(AD89,'Footnotes list'!$D$9:$E$58,2,FALSE) ) )","v":""},0,null,null,null,{"$f":"IF(TRIM(AI89)=\"\", \"\", IF(VLOOKUP(AI89,'Footnotes list'!$D$9:$E$58,2,FALSE)=0,\"\",VLOOKUP(AI89,'Footnotes list'!$D$9:$E$58,2,FALSE) ) )","v":""},0,null,null,null,{"$f":"IF(TRIM(AN89)=\"\", \"\", IF(VLOOKUP(AN89,'Footnotes list'!$D$9:$E$58,2,FALSE)=0,\"\",VLOOKUP(AN89,'Footnotes list'!$D$9:$E$58,2,FALSE) ) )","v":""},0,null,null,null,{"$f":"IF(TRIM(AS89)=\"\", \"\", IF(VLOOKUP(AS89,'Footnotes list'!$D$9:$E$58,2,FALSE)=0,\"\",VLOOKUP(AS89,'Footnotes list'!$D$9:$E$58,2,FALSE) ) )","v":""},0,null,null,null,{"$f":"IF(TRIM(AX89)=\"\", \"\", IF(VLOOKUP(AX89,'Footnotes list'!$D$9:$E$58,2,FALSE)=0,\"\",VLOOKUP(AX89,'Footnotes list'!$D$9:$E$58,2,FALSE) ) )","v":""},0,null,null,null,{"$f":"IF(TRIM(BC89)=\"\", \"\", IF(VLOOKUP(BC89,'Footnotes list'!$D$9:$E$58,2,FALSE)=0,\"\",VLOOKUP(BC89,'Footnotes list'!$D$9:$E$58,2,FALSE) ) )","v":""},0,null,null,null,{"$f":"IF(TRIM(BH89)=\"\", \"\", IF(VLOOKUP(BH89,'Footnotes list'!$D$9:$E$58,2,FALSE)=0,\"\",VLOOKUP(BH89,'Footnotes list'!$D$9:$E$58,2,FALSE) ) )","v":""},0,null,null,null,{"$f":"IF(TRIM(BM89)=\"\", \"\", IF(VLOOKUP(BM89,'Footnotes list'!$D$9:$E$58,2,FALSE)=0,\"\",VLOOKUP(BM89,'Footnotes list'!$D$9:$E$58,2,FALSE) ) )","v":""},{"$f":"IF(AND(TRIM(Q89)=\"\",TRIM(V89)=\"\",TRIM(AA89)=\"\", TRIM(AF89)=\"\", TRIM(AK89)=\"\", TRIM(AP89)=\"\", TRIM(AU89)=\"\", TRIM(AZ89)=\"\", TRIM(BE89)=\"\", TRIM(BJ89)=\"\"),\"\",Q89+V89+AA89+AF89+AK89+AP89+AU89+AZ89+BE89+BJ89)","v":0},null,null,null,{"$f":"IF(TRIM(BR89)=\"\", \"\", IF(VLOOKUP(BR89,'Footnotes list'!$D$9:$E$58,2,FALSE)=0,\"\",VLOOKUP(BR89,'Footnotes list'!$D$9:$E$58,2,FALSE) ) )","v":""},0,null,null,null,{"$f":"IF(TRIM(BW89)=\"\", \"\", IF(VLOOKUP(BW89,'Footnotes list'!$D$9:$E$58,2,FALSE)=0,\"\",VLOOKUP(BW89,'Footnotes list'!$D$9:$E$58,2,FALSE) ) )","v":""},0,null,null,null,{"$f":"IF(TRIM(CB89)=\"\", \"\", IF(VLOOKUP(CB89,'Footnotes list'!$D$9:$E$58,2,FALSE)=0,\"\",VLOOKUP(CB89,'Footnotes list'!$D$9:$E$58,2,FALSE) ) )","v":""},0,null,null,null,{"$f":"IF(TRIM(CG89)=\"\", \"\", IF(VLOOKUP(CG89,'Footnotes list'!$D$9:$E$58,2,FALSE)=0,\"\",VLOOKUP(CG89,'Footnotes list'!$D$9:$E$58,2,FALSE) ) )","v":""},{"$f":"IF(AND(TRIM(BY89)=\"\",TRIM(CD89)=\"\"),\"\",BY89+CD89)","v":0},null,null,null,{"$f":"IF(TRIM(CL89)=\"\", \"\", IF(VLOOKUP(CL89,'Footnotes list'!$D$9:$E$58,2,FALSE)=0,\"\",VLOOKUP(CL89,'Footnotes list'!$D$9:$E$58,2,FALSE) ) )","v":""},5467.2,null,null,null,{"$f":"IF(TRIM(CQ89)=\"\", \"\", IF(VLOOKUP(CQ89,'Footnotes list'!$D$9:$E$58,2,FALSE)=0,\"\",VLOOKUP(CQ89,'Footnotes list'!$D$9:$E$58,2,FALSE) ) )","v":""},0,null,null,null,{"$f":"IF(TRIM(CV89)=\"\", \"\", IF(VLOOKUP(CV89,'Footnotes list'!$D$9:$E$58,2,FALSE)=0,\"\",VLOOKUP(CV89,'Footnotes list'!$D$9:$E$58,2,FALSE) ) )","v":""},0,null,null,null,{"$f":"IF(TRIM(DA89)=\"\", \"\", IF(VLOOKUP(DA89,'Footnotes list'!$D$9:$E$58,2,FALSE)=0,\"\",VLOOKUP(DA89,'Footnotes list'!$D$9:$E$58,2,FALSE) ) )","v":""},0,null,null,null,{"$f":"IF(TRIM(DF89)=\"\", \"\", IF(VLOOKUP(DF89,'Footnotes list'!$D$9:$E$58,2,FALSE)=0,\"\",VLOOKUP(DF89,'Footnotes list'!$D$9:$E$58,2,FALSE) ) )","v":""},{"$f":"IF(AND(TRIM(G89)=\"\",TRIM(L89)=\"\",TRIM(BO89)=\"\",TRIM(BT89)=\"\",TRIM(CI89)=\"\",TRIM(CN89)=\"\",TRIM(CS89)=\"\",TRIM(CX89)=\"\",TRIM(DC89)=\"\"),\"\",SUM(G89,L89,BO89,BT89,CI89,CN89,CS89,CX89,DC89))","v":5467.2},null,null,null,{"$f":"IF(TRIM(DK89)=\"\", \"\", IF(VLOOKUP(DK89,'Footnotes list'!$D$9:$E$58,2,FALSE)=0,\"\",VLOOKUP(DK89,'Footnotes list'!$D$9:$E$58,2,FALSE) ) )","v":""}]
[null,null,"W121",null,"NHAZ","Non-hazardous",0,null,null,null,{"$f":"IF(TRIM(J90)=\"\", \"\", IF(VLOOKUP(J90,'Footnotes list'!$D$9:$E$58,2,FALSE)=0,\"\",VLOOKUP(J90,'Footnotes list'!$D$9:$E$58,2,FALSE) ) )","v":""},0,null,null,null,{"$f":"IF(TRIM(O90)=\"\", \"\", IF(VLOOKUP(O90,'Footnotes list'!$D$9:$E$58,2,FALSE)=0,\"\",VLOOKUP(O90,'Footnotes list'!$D$9:$E$58,2,FALSE) ) )","v":""},0,null,null,null,{"$f":"IF(TRIM(T90)=\"\", \"\", IF(VLOOKUP(T90,'Footnotes list'!$D$9:$E$58,2,FALSE)=0,\"\",VLOOKUP(T90,'Footnotes list'!$D$9:$E$58,2,FALSE) ) )","v":""},0,null,null,null,{"$f":"IF(TRIM(Y90)=\"\", \"\", IF(VLOOKUP(Y90,'Footnotes list'!$D$9:$E$58,2,FALSE)=0,\"\",VLOOKUP(Y90,'Footnotes list'!$D$9:$E$58,2,FALSE) ) )","v":""},0,null,null,null,{"$f":"IF(TRIM(AD90)=\"\", \"\", IF(VLOOKUP(AD90,'Footnotes list'!$D$9:$E$58,2,FALSE)=0,\"\",VLOOKUP(AD90,'Footnotes list'!$D$9:$E$58,2,FALSE) ) )","v":""},0,null,null,null,{"$f":"IF(TRIM(AI90)=\"\", \"\", IF(VLOOKUP(AI90,'Footnotes list'!$D$9:$E$58,2,FALSE)=0,\"\",VLOOKUP(AI90,'Footnotes list'!$D$9:$E$58,2,FALSE) ) )","v":""},0,null,null,null,{"$f":"IF(TRIM(AN90)=\"\", \"\", IF(VLOOKUP(AN90,'Footnotes list'!$D$9:$E$58,2,FALSE)=0,\"\",VLOOKUP(AN90,'Footnotes list'!$D$9:$E$58,2,FALSE) ) )","v":""},0,null,null,null,{"$f":"IF(TRIM(AS90)=\"\", \"\", IF(VLOOKUP(AS90,'Footnotes list'!$D$9:$E$58,2,FALSE)=0,\"\",VLOOKUP(AS90,'Footnotes list'!$D$9:$E$58,2,FALSE) ) )","v":""},0,null,null,null,{"$f":"IF(TRIM(AX90)=\"\", \"\", IF(VLOOKUP(AX90,'Footnotes list'!$D$9:$E$58,2,FALSE)=0,\"\",VLOOKUP(AX90,'Footnotes list'!$D$9:$E$58,2,FALSE) ) )","v":""},0,null,null,null,{"$f":"IF(TRIM(BC90)=\"\", \"\", IF(VLOOKUP(BC90,'Footnotes list'!$D$9:$E$58,2,FALSE)=0,\"\",VLOOKUP(BC90,'Footnotes list'!$D$9:$E$58,2,FALSE) ) )","v":""},0,null,null,null,{"$f":"IF(TRIM(BH90)=\"\", \"\", IF(VLOOKUP(BH90,'Footnotes list'!$D$9:$E$58,2,FALSE)=0,\"\",VLOOKUP(BH90,'Footnotes list'!$D$9:$E$58,2,FALSE) ) )","v":""},0,null,null,null,{"$f":"IF(TRIM(BM90)=\"\", \"\", IF(VLOOKUP(BM90,'Footnotes list'!$D$9:$E$58,2,FALSE)=0,\"\",VLOOKUP(BM90,'Footnotes list'!$D$9:$E$58,2,FALSE) ) )","v":""},{"$f":"IF(AND(TRIM(Q90)=\"\",TRIM(V90)=\"\",TRIM(AA90)=\"\", TRIM(AF90)=\"\", TRIM(AK90)=\"\", TRIM(AP90)=\"\", TRIM(AU90)=\"\", TRIM(AZ90)=\"\", TRIM(BE90)=\"\", TRIM(BJ90)=\"\"),\"\",Q90+V90+AA90+AF90+AK90+AP90+AU90+AZ90+BE90+BJ90)","v":0},null,null,null,{"$f":"IF(TRIM(BR90)=\"\", \"\", IF(VLOOKUP(BR90,'Footnotes list'!$D$9:$E$58,2,FALSE)=0,\"\",VLOOKUP(BR90,'Footnotes list'!$D$9:$E$58,2,FALSE) ) )","v":""},0,null,null,null,{"$f":"IF(TRIM(BW90)=\"\", \"\", IF(VLOOKUP(BW90,'Footnotes list'!$D$9:$E$58,2,FALSE)=0,\"\",VLOOKUP(BW90,'Footnotes list'!$D$9:$E$58,2,FALSE) ) )","v":""},0,null,null,null,{"$f":"IF(TRIM(CB90)=\"\", \"\", IF(VLOOKUP(CB90,'Footnotes list'!$D$9:$E$58,2,FALSE)=0,\"\",VLOOKUP(CB90,'Footnotes list'!$D$9:$E$58,2,FALSE) ) )","v":""},0,null,null,null,{"$f":"IF(TRIM(CG90)=\"\", \"\", IF(VLOOKUP(CG90,'Footnotes list'!$D$9:$E$58,2,FALSE)=0,\"\",VLOOKUP(CG90,'Footnotes list'!$D$9:$E$58,2,FALSE) ) )","v":""},{"$f":"IF(AND(TRIM(BY90)=\"\",TRIM(CD90)=\"\"),\"\",BY90+CD90)","v":0},null,null,null,{"$f":"IF(TRIM(CL90)=\"\", \"\", IF(VLOOKUP(CL90,'Footnotes list'!$D$9:$E$58,2,FALSE)=0,\"\",VLOOKUP(CL90,'Footnotes list'!$D$9:$E$58,2,FALSE) ) )","v":""},919452.4,null,null,null,{"$f":"IF(TRIM(CQ90)=\"\", \"\", IF(VLOOKUP(CQ90,'Footnotes list'!$D$9:$E$58,2,FALSE)=0,\"\",VLOOKUP(CQ90,'Footnotes list'!$D$9:$E$58,2,FALSE) ) )","v":""},0,null,null,null,{"$f":"IF(TRIM(CV90)=\"\", \"\", IF(VLOOKUP(CV90,'Footnotes list'!$D$9:$E$58,2,FALSE)=0,\"\",VLOOKUP(CV90,'Footnotes list'!$D$9:$E$58,2,FALSE) ) )","v":""},0,null,null,null,{"$f":"IF(TRIM(DA90)=\"\", \"\", IF(VLOOKUP(DA90,'Footnotes list'!$D$9:$E$58,2,FALSE)=0,\"\",VLOOKUP(DA90,'Footnotes list'!$D$9:$E$58,2,FALSE) ) )","v":""},0,null,null,null,{"$f":"IF(TRIM(DF90)=\"\", \"\", IF(VLOOKUP(DF90,'Footnotes list'!$D$9:$E$58,2,FALSE)=0,\"\",VLOOKUP(DF90,'Footnotes list'!$D$9:$E$58,2,FALSE) ) )","v":""},{"$f":"IF(AND(TRIM(G90)=\"\",TRIM(L90)=\"\",TRIM(BO90)=\"\",TRIM(BT90)=\"\",TRIM(CI90)=\"\",TRIM(CN90)=\"\",TRIM(CS90)=\"\",TRIM(CX90)=\"\",TRIM(DC90)=\"\"),\"\",SUM(G90,L90,BO90,BT90,CI90,CN90,CS90,CX90,DC90))","v":919452.4},null,null,null,{"$f":"IF(TRIM(DK90)=\"\", \"\", IF(VLOOKUP(DK90,'Footnotes list'!$D$9:$E$58,2,FALSE)=0,\"\",VLOOKUP(DK90,'Footnotes list'!$D$9:$E$58,2,FALSE) ) )","v":""}]
[null,null,"W121",null,"HAZ_NHAZ","Total",{"$f":"IF(AND(TRIM(G89)=\"\",TRIM(G90)=\"\"),\"\",G89+G90)","v":0},null,null,null,{"$f":"IF(TRIM(J91)=\"\", \"\", IF(VLOOKUP(J91,'Footnotes list'!$D$9:$E$58,2,FALSE)=0,\"\",VLOOKUP(J91,'Footnotes list'!$D$9:$E$58,2,FALSE) ) )","v":""},{"$f":"IF(AND(TRIM(L89)=\"\",TRIM(L90)=\"\"),\"\",L89+L90)","v":0},null,null,null,{"$f":"IF(TRIM(O91)=\"\", \"\", IF(VLOOKUP(O91,'Footnotes list'!$D$9:$E$58,2,FALSE)=0,\"\",VLOOKUP(O91,'Footnotes list'!$D$9:$E$58,2,FALSE) ) )","v":""},{"$f":"IF(AND(TRIM(Q89)=\"\",TRIM(Q90)=\"\"),\"\",Q89+Q90)","v":0},null,null,null,{"$f":"IF(TRIM(T91)=\"\", \"\", IF(VLOOKUP(T91,'Footnotes list'!$D$9:$E$58,2,FALSE)=0,\"\",VLOOKUP(T91,'Footnotes list'!$D$9:$E$58,2,FALSE) ) )","v":""},{"$f":"IF(AND(TRIM(V89)=\"\",TRIM(V90)=\"\"),\"\",V89+V90)","v":0},null,null,null,{"$f":"IF(TRIM(Y91)=\"\", \"\", IF(VLOOKUP(Y91,'Footnotes list'!$D$9:$E$58,2,FALSE)=0,\"\",VLOOKUP(Y91,'Footnotes list'!$D$9:$E$58,2,FALSE) ) )","v":""},{"$f":"IF(AND(TRIM(AA89)=\"\",TRIM(AA90)=\"\"),\"\",AA89+AA90)","v":0},null,null,null,{"$f":"IF(TRIM(AD91)=\"\", \"\", IF(VLOOKUP(AD91,'Footnotes list'!$D$9:$E$58,2,FALSE)=0,\"\",VLOOKUP(AD91,'Footnotes list'!$D$9:$E$58,2,FALSE) ) )","v":""},{"$f":"IF(AND(TRIM(AF89)=\"\",TRIM(AF90)=\"\"),\"\",AF89+AF90)","v":0},null,null,null,{"$f":"IF(TRIM(AI91)=\"\", \"\", IF(VLOOKUP(AI91,'Footnotes list'!$D$9:$E$58,2,FALSE)=0,\"\",VLOOKUP(AI91,'Footnotes list'!$D$9:$E$58,2,FALSE) ) )","v":""},{"$f":"IF(AND(TRIM(AK89)=\"\",TRIM(AK90)=\"\"),\"\",AK89+AK90)","v":0},null,null,null,{"$f":"IF(TRIM(AN91)=\"\", \"\", IF(VLOOKUP(AN91,'Footnotes list'!$D$9:$E$58,2,FALSE)=0,\"\",VLOOKUP(AN91,'Footnotes list'!$D$9:$E$58,2,FALSE) ) )","v":""},{"$f":"IF(AND(TRIM(AP89)=\"\",TRIM(AP90)=\"\"),\"\",AP89+AP90)","v":0},null,null,null,{"$f":"IF(TRIM(AS91)=\"\", \"\", IF(VLOOKUP(AS91,'Footnotes list'!$D$9:$E$58,2,FALSE)=0,\"\",VLOOKUP(AS91,'Footnotes list'!$D$9:$E$58,2,FALSE) ) )","v":""},{"$f":"IF(AND(TRIM(AU89)=\"\",TRIM(AU90)=\"\"),\"\",AU89+AU90)","v":0},null,null,null,{"$f":"IF(TRIM(AX91)=\"\", \"\", IF(VLOOKUP(AX91,'Footnotes list'!$D$9:$E$58,2,FALSE)=0,\"\",VLOOKUP(AX91,'Footnotes list'!$D$9:$E$58,2,FALSE) ) )","v":""},{"$f":"IF(AND(TRIM(AZ89)=\"\",TRIM(AZ90)=\"\"),\"\",AZ89+AZ90)","v":0},null,null,null,{"$f":"IF(TRIM(BC91)=\"\", \"\", IF(VLOOKUP(BC91,'Footnotes list'!$D$9:$E$58,2,FALSE)=0,\"\",VLOOKUP(BC91,'Footnotes list'!$D$9:$E$58,2,FALSE) ) )","v":""},{"$f":"IF(AND(TRIM(BE89)=\"\",TRIM(BE90)=\"\"),\"\",BE89+BE90)","v":0},null,null,null,{"$f":"IF(TRIM(BH91)=\"\", \"\", IF(VLOOKUP(BH91,'Footnotes list'!$D$9:$E$58,2,FALSE)=0,\"\",VLOOKUP(BH91,'Footnotes list'!$D$9:$E$58,2,FALSE) ) )","v":""},{"$f":"IF(AND(TRIM(BJ89)=\"\",TRIM(BJ90)=\"\"),\"\",BJ89+BJ90)","v":0},null,null,null,{"$f":"IF(TRIM(BM91)=\"\", \"\", IF(VLOOKUP(BM91,'Footnotes list'!$D$9:$E$58,2,FALSE)=0,\"\",VLOOKUP(BM91,'Footnotes list'!$D$9:$E$58,2,FALSE) ) )","v":""},{"$f":"IF(AND(TRIM(BO89)=\"\", TRIM(BO90)=\"\"), \"\", (IF(ISNUMBER(BO89),BO89,0)+IF(ISNUMBER(BO90),BO90,0)))","v":0},null,null,null,{"$f":"IF(TRIM(BR91)=\"\", \"\", IF(VLOOKUP(BR91,'Footnotes list'!$D$9:$E$58,2,FALSE)=0,\"\",VLOOKUP(BR91,'Footnotes list'!$D$9:$E$58,2,FALSE) ) )","v":""},{"$f":"IF(AND(TRIM(BT89)=\"\",TRIM(BT90)=\"\"),\"\",BT89+BT90)","v":0},null,null,null,{"$f":"IF(TRIM(BW91)=\"\", \"\", IF(VLOOKUP(BW91,'Footnotes list'!$D$9:$E$58,2,FALSE)=0,\"\",VLOOKUP(BW91,'Footnotes list'!$D$9:$E$58,2,FALSE) ) )","v":""},{"$f":"IF(AND(TRIM(BY89)=\"\",TRIM(BY90)=\"\"),\"\",BY89+BY90)","v":0},null,null,null,{"$f":"IF(TRIM(CB91)=\"\", \"\", IF(VLOOKUP(CB91,'Footnotes list'!$D$9:$E$58,2,FALSE)=0,\"\",VLOOKUP(CB91,'Footnotes list'!$D$9:$E$58,2,FALSE) ) )","v":""},{"$f":"IF(AND(TRIM(CD89)=\"\",TRIM(CD90)=\"\"),\"\",CD89+CD90)","v":0},null,null,null,{"$f":"IF(TRIM(CG91)=\"\", \"\", IF(VLOOKUP(CG91,'Footnotes list'!$D$9:$E$58,2,FALSE)=0,\"\",VLOOKUP(CG91,'Footnotes list'!$D$9:$E$58,2,FALSE) ) )","v":""},{"$f":"IF(AND(TRIM(CI89)=\"\", TRIM(CI90)=\"\"), \"\", (IF(ISNUMBER(CI89),CI89,0)+IF(ISNUMBER(CI90),CI90,0)))","v":0},null,null,null,{"$f":"IF(TRIM(CL91)=\"\", \"\", IF(VLOOKUP(CL91,'Footnotes list'!$D$9:$E$58,2,FALSE)=0,\"\",VLOOKUP(CL91,'Footnotes list'!$D$9:$E$58,2,FALSE) ) )","v":""},{"$f":"IF(AND(TRIM(CN89)=\"\",TRIM(CN90)=\"\"),\"\",CN89+CN90)","v":924919.6},null,null,null,{"$f":"IF(TRIM(CQ91)=\"\", \"\", IF(VLOOKUP(CQ91,'Footnotes list'!$D$9:$E$58,2,FALSE)=0,\"\",VLOOKUP(CQ91,'Footnotes list'!$D$9:$E$58,2,FALSE) ) )","v":""},{"$f":"IF(AND(TRIM(CS89)=\"\",TRIM(CS90)=\"\"),\"\",CS89+CS90)","v":0},null,null,null,{"$f":"IF(TRIM(CV91)=\"\", \"\", IF(VLOOKUP(CV91,'Footnotes list'!$D$9:$E$58,2,FALSE)=0,\"\",VLOOKUP(CV91,'Footnotes list'!$D$9:$E$58,2,FALSE) ) )","v":""},{"$f":"IF(AND(TRIM(CX89)=\"\",TRIM(CX90)=\"\"),\"\",CX89+CX90)","v":0},null,null,null,{"$f":"IF(TRIM(DA91)=\"\", \"\", IF(VLOOKUP(DA91,'Footnotes list'!$D$9:$E$58,2,FALSE)=0,\"\",VLOOKUP(DA91,'Footnotes list'!$D$9:$E$58,2,FALSE) ) )","v":""},{"$f":"IF(AND(TRIM(DC89)=\"\",TRIM(DC90)=\"\"),\"\",DC89+DC90)","v":0},null,null,null,{"$f":"IF(TRIM(DF91)=\"\", \"\", IF(VLOOKUP(DF91,'Footnotes list'!$D$9:$E$58,2,FALSE)=0,\"\",VLOOKUP(DF91,'Footnotes list'!$D$9:$E$58,2,FALSE) ) )","v":""},{"$f":"IF(AND(TRIM(DH89)=\"\", TRIM(DH90)=\"\"), \"\", SUM(DH89,DH90) )","v":924919.6},null,null,null,{"$f":"IF(TRIM(DK91)=\"\", \"\", IF(VLOOKUP(DK91,'Footnotes list'!$D$9:$E$58,2,FALSE)=0,\"\",VLOOKUP(DK91,'Footnotes list'!$D$9:$E$58,2,FALSE) ) )","v":""}]
[null,"W12B","W12B","Other mineral wastes (W122+W123+W125)","HAZ","Hazardous ",11.672000000000001,null,null,null,{"$f":"IF(TRIM(J92)=\"\", \"\", IF(VLOOKUP(J92,'Footnotes list'!$D$9:$E$58,2,FALSE)=0,\"\",VLOOKUP(J92,'Footnotes list'!$D$9:$E$58,2,FALSE) ) )","v":""},5160.9539999999997,null,null,null,{"$f":"IF(TRIM(O92)=\"\", \"\", IF(VLOOKUP(O92,'Footnotes list'!$D$9:$E$58,2,FALSE)=0,\"\",VLOOKUP(O92,'Footnotes list'!$D$9:$E$58,2,FALSE) ) )","v":""},0.91100000000000003,null,null,null,{"$f":"IF(TRIM(T92)=\"\", \"\", IF(VLOOKUP(T92,'Footnotes list'!$D$9:$E$58,2,FALSE)=0,\"\",VLOOKUP(T92,'Footnotes list'!$D$9:$E$58,2,FALSE) ) )","v":""},1.599,null,null,null,{"$f":"IF(TRIM(Y92)=\"\", \"\", IF(VLOOKUP(Y92,'Footnotes list'!$D$9:$E$58,2,FALSE)=0,\"\",VLOOKUP(Y92,'Footnotes list'!$D$9:$E$58,2,FALSE) ) )","v":""},3.4289999999999998,null,null,null,{"$f":"IF(TRIM(AD92)=\"\", \"\", IF(VLOOKUP(AD92,'Footnotes list'!$D$9:$E$58,2,FALSE)=0,\"\",VLOOKUP(AD92,'Footnotes list'!$D$9:$E$58,2,FALSE) ) )","v":""},0.216,null,null,null,{"$f":"IF(TRIM(AI92)=\"\", \"\", IF(VLOOKUP(AI92,'Footnotes list'!$D$9:$E$58,2,FALSE)=0,\"\",VLOOKUP(AI92,'Footnotes list'!$D$9:$E$58,2,FALSE) ) )","v":""},0,null,null,null,{"$f":"IF(TRIM(AN92)=\"\", \"\", IF(VLOOKUP(AN92,'Footnotes list'!$D$9:$E$58,2,FALSE)=0,\"\",VLOOKUP(AN92,'Footnotes list'!$D$9:$E$58,2,FALSE) ) )","v":""},8.2240000000000002,null,null,null,{"$f":"IF(TRIM(AS92)=\"\", \"\", IF(VLOOKUP(AS92,'Footnotes list'!$D$9:$E$58,2,FALSE)=0,\"\",VLOOKUP(AS92,'Footnotes list'!$D$9:$E$58,2,FALSE) ) )","v":""},43.003999999999998,null,null,null,{"$f":"IF(TRIM(AX92)=\"\", \"\", IF(VLOOKUP(AX92,'Footnotes list'!$D$9:$E$58,2,FALSE)=0,\"\",VLOOKUP(AX92,'Footnotes list'!$D$9:$E$58,2,FALSE) ) )","v":""},59.777999999999999,null,null,null,{"$f":"IF(TRIM(BC92)=\"\", \"\", IF(VLOOKUP(BC92,'Footnotes list'!$D$9:$E$58,2,FALSE)=0,\"\",VLOOKUP(BC92,'Footnotes list'!$D$9:$E$58,2,FALSE) ) )","v":""},35.741,null,null,null,{"$f":"IF(TRIM(BH92)=\"\", \"\", IF(VLOOKUP(BH92,'Footnotes list'!$D$9:$E$58,2,FALSE)=0,\"\",VLOOKUP(BH92,'Footnotes list'!$D$9:$E$58,2,FALSE) ) )","v":""},122.125,null,null,null,{"$f":"IF(TRIM(BM92)=\"\", \"\", IF(VLOOKUP(BM92,'Footnotes list'!$D$9:$E$58,2,FALSE)=0,\"\",VLOOKUP(BM92,'Footnotes list'!$D$9:$E$58,2,FALSE) ) )","v":""},{"$f":"IF(AND(TRIM(Q92)=\"\",TRIM(V92)=\"\",TRIM(AA92)=\"\", TRIM(AF92)=\"\", TRIM(AK92)=\"\", TRIM(AP92)=\"\", TRIM(AU92)=\"\", TRIM(AZ92)=\"\", TRIM(BE92)=\"\", TRIM(BJ92)=\"\"),\"\",Q92+V92+AA92+AF92+AK92+AP92+AU92+AZ92+BE92+BJ92)","v":275.02699999999999},null,null,null,{"$f":"IF(TRIM(BR92)=\"\", \"\", IF(VLOOKUP(BR92,'Footnotes list'!$D$9:$E$58,2,FALSE)=0,\"\",VLOOKUP(BR92,'Footnotes list'!$D$9:$E$58,2,FALSE) ) )","v":""},2.3E-2,null,null,null,{"$f":"IF(TRIM(BW92)=\"\", \"\", IF(VLOOKUP(BW92,'Footnotes list'!$D$9:$E$58,2,FALSE)=0,\"\",VLOOKUP(BW92,'Footnotes list'!$D$9:$E$58,2,FALSE) ) )","v":""},2.7370000000000001,null,null,null,{"$f":"IF(TRIM(CB92)=\"\", \"\", IF(VLOOKUP(CB92,'Footnotes list'!$D$9:$E$58,2,FALSE)=0,\"\",VLOOKUP(CB92,'Footnotes list'!$D$9:$E$58,2,FALSE) ) )","v":""},19.643000000000001,null,null,null,{"$f":"IF(TRIM(CG92)=\"\", \"\", IF(VLOOKUP(CG92,'Footnotes list'!$D$9:$E$58,2,FALSE)=0,\"\",VLOOKUP(CG92,'Footnotes list'!$D$9:$E$58,2,FALSE) ) )","v":""},{"$f":"IF(AND(TRIM(BY92)=\"\",TRIM(CD92)=\"\"),\"\",BY92+CD92)","v":22.38},null,null,null,{"$f":"IF(TRIM(CL92)=\"\", \"\", IF(VLOOKUP(CL92,'Footnotes list'!$D$9:$E$58,2,FALSE)=0,\"\",VLOOKUP(CL92,'Footnotes list'!$D$9:$E$58,2,FALSE) ) )","v":""},4827.9650000000001,null,null,null,{"$f":"IF(TRIM(CQ92)=\"\", \"\", IF(VLOOKUP(CQ92,'Footnotes list'!$D$9:$E$58,2,FALSE)=0,\"\",VLOOKUP(CQ92,'Footnotes list'!$D$9:$E$58,2,FALSE) ) )","v":""},30.472000000000001,null,null,null,{"$f":"IF(TRIM(CV92)=\"\", \"\", IF(VLOOKUP(CV92,'Footnotes list'!$D$9:$E$58,2,FALSE)=0,\"\",VLOOKUP(CV92,'Footnotes list'!$D$9:$E$58,2,FALSE) ) )","v":""},0,null,null,null,{"$f":"IF(TRIM(DA92)=\"\", \"\", IF(VLOOKUP(DA92,'Footnotes list'!$D$9:$E$58,2,FALSE)=0,\"\",VLOOKUP(DA92,'Footnotes list'!$D$9:$E$58,2,FALSE) ) )","v":""},30.356000000000002,null,null,null,{"$f":"IF(TRIM(DF92)=\"\", \"\", IF(VLOOKUP(DF92,'Footnotes list'!$D$9:$E$58,2,FALSE)=0,\"\",VLOOKUP(DF92,'Footnotes list'!$D$9:$E$58,2,FALSE) ) )","v":""},{"$f":"IF(AND(TRIM(G92)=\"\",TRIM(L92)=\"\",TRIM(BO92)=\"\",TRIM(BT92)=\"\",TRIM(CI92)=\"\",TRIM(CN92)=\"\",TRIM(CS92)=\"\",TRIM(CX92)=\"\",TRIM(DC92)=\"\"),\"\",SUM(G92,L92,BO92,BT92,CI92,CN92,CS92,CX92,DC92))","v":10358.849},null,null,null,{"$f":"IF(TRIM(DK92)=\"\", \"\", IF(VLOOKUP(DK92,'Footnotes list'!$D$9:$E$58,2,FALSE)=0,\"\",VLOOKUP(DK92,'Footnotes list'!$D$9:$E$58,2,FALSE) ) )","v":""}]
[null,null,"W12B",null,"NHAZ","Non-hazardous",3,null,null,null,{"$f":"IF(TRIM(J93)=\"\", \"\", IF(VLOOKUP(J93,'Footnotes list'!$D$9:$E$58,2,FALSE)=0,\"\",VLOOKUP(J93,'Footnotes list'!$D$9:$E$58,2,FALSE) ) )","v":""},727940.84,null,null,null,{"$f":"IF(TRIM(O93)=\"\", \"\", IF(VLOOKUP(O93,'Footnotes list'!$D$9:$E$58,2,FALSE)=0,\"\",VLOOKUP(O93,'Footnotes list'!$D$9:$E$58,2,FALSE) ) )","v":""},10.785,null,null,null,{"$f":"IF(TRIM(T93)=\"\", \"\", IF(VLOOKUP(T93,'Footnotes list'!$D$9:$E$58,2,FALSE)=0,\"\",VLOOKUP(T93,'Footnotes list'!$D$9:$E$58,2,FALSE) ) )","v":""},28.1,null,null,null,{"$f":"IF(TRIM(Y93)=\"\", \"\", IF(VLOOKUP(Y93,'Footnotes list'!$D$9:$E$58,2,FALSE)=0,\"\",VLOOKUP(Y93,'Footnotes list'!$D$9:$E$58,2,FALSE) ) )","v":""},1.1499999999999999,null,null,null,{"$f":"IF(TRIM(AD93)=\"\", \"\", IF(VLOOKUP(AD93,'Footnotes list'!$D$9:$E$58,2,FALSE)=0,\"\",VLOOKUP(AD93,'Footnotes list'!$D$9:$E$58,2,FALSE) ) )","v":""},0,null,null,null,{"$f":"IF(TRIM(AI93)=\"\", \"\", IF(VLOOKUP(AI93,'Footnotes list'!$D$9:$E$58,2,FALSE)=0,\"\",VLOOKUP(AI93,'Footnotes list'!$D$9:$E$58,2,FALSE) ) )","v":""},191.04,null,null,null,{"$f":"IF(TRIM(AN93)=\"\", \"\", IF(VLOOKUP(AN93,'Footnotes list'!$D$9:$E$58,2,FALSE)=0,\"\",VLOOKUP(AN93,'Footnotes list'!$D$9:$E$58,2,FALSE) ) )","v":""},252.48099999999999,null,null,null,{"$f":"IF(TRIM(AS93)=\"\", \"\", IF(VLOOKUP(AS93,'Footnotes list'!$D$9:$E$58,2,FALSE)=0,\"\",VLOOKUP(AS93,'Footnotes list'!$D$9:$E$58,2,FALSE) ) )","v":""},12811.215,null,null,null,{"$f":"IF(TRIM(AX93)=\"\", \"\", IF(VLOOKUP(AX93,'Footnotes list'!$D$9:$E$58,2,FALSE)=0,\"\",VLOOKUP(AX93,'Footnotes list'!$D$9:$E$58,2,FALSE) ) )","v":""},6977.8770000000004,null,null,null,{"$f":"IF(TRIM(BC93)=\"\", \"\", IF(VLOOKUP(BC93,'Footnotes list'!$D$9:$E$58,2,FALSE)=0,\"\",VLOOKUP(BC93,'Footnotes list'!$D$9:$E$58,2,FALSE) ) )","v":""},2493.7139999999999,null,null,null,{"$f":"IF(TRIM(BH93)=\"\", \"\", IF(VLOOKUP(BH93,'Footnotes list'!$D$9:$E$58,2,FALSE)=0,\"\",VLOOKUP(BH93,'Footnotes list'!$D$9:$E$58,2,FALSE) ) )","v":""},157.70599999999999,null,null,null,{"$f":"IF(TRIM(BM93)=\"\", \"\", IF(VLOOKUP(BM93,'Footnotes list'!$D$9:$E$58,2,FALSE)=0,\"\",VLOOKUP(BM93,'Footnotes list'!$D$9:$E$58,2,FALSE) ) )","v":""},{"$f":"IF(AND(TRIM(Q93)=\"\",TRIM(V93)=\"\",TRIM(AA93)=\"\", TRIM(AF93)=\"\", TRIM(AK93)=\"\", TRIM(AP93)=\"\", TRIM(AU93)=\"\", TRIM(AZ93)=\"\", TRIM(BE93)=\"\", TRIM(BJ93)=\"\"),\"\",Q93+V93+AA93+AF93+AK93+AP93+AU93+AZ93+BE93+BJ93)","v":22924.067999999999},null,null,null,{"$f":"IF(TRIM(BR93)=\"\", \"\", IF(VLOOKUP(BR93,'Footnotes list'!$D$9:$E$58,2,FALSE)=0,\"\",VLOOKUP(BR93,'Footnotes list'!$D$9:$E$58,2,FALSE) ) )","v":""},0,null,null,null,{"$f":"IF(TRIM(BW93)=\"\", \"\", IF(VLOOKUP(BW93,'Footnotes list'!$D$9:$E$58,2,FALSE)=0,\"\",VLOOKUP(BW93,'Footnotes list'!$D$9:$E$58,2,FALSE) ) )","v":""},1671.5429999999999,null,null,null,{"$f":"IF(TRIM(CB93)=\"\", \"\", IF(VLOOKUP(CB93,'Footnotes list'!$D$9:$E$58,2,FALSE)=0,\"\",VLOOKUP(CB93,'Footnotes list'!$D$9:$E$58,2,FALSE) ) )","v":""},1691.3309999999999,null,null,null,{"$f":"IF(TRIM(CG93)=\"\", \"\", IF(VLOOKUP(CG93,'Footnotes list'!$D$9:$E$58,2,FALSE)=0,\"\",VLOOKUP(CG93,'Footnotes list'!$D$9:$E$58,2,FALSE) ) )","v":""},{"$f":"IF(AND(TRIM(BY93)=\"\",TRIM(CD93)=\"\"),\"\",BY93+CD93)","v":3362.8739999999998},null,null,null,{"$f":"IF(TRIM(CL93)=\"\", \"\", IF(VLOOKUP(CL93,'Footnotes list'!$D$9:$E$58,2,FALSE)=0,\"\",VLOOKUP(CL93,'Footnotes list'!$D$9:$E$58,2,FALSE) ) )","v":""},0,null,null,null,{"$f":"IF(TRIM(CQ93)=\"\", \"\", IF(VLOOKUP(CQ93,'Footnotes list'!$D$9:$E$58,2,FALSE)=0,\"\",VLOOKUP(CQ93,'Footnotes list'!$D$9:$E$58,2,FALSE) ) )","v":""},1774.78,null,null,null,{"$f":"IF(TRIM(CV93)=\"\", \"\", IF(VLOOKUP(CV93,'Footnotes list'!$D$9:$E$58,2,FALSE)=0,\"\",VLOOKUP(CV93,'Footnotes list'!$D$9:$E$58,2,FALSE) ) )","v":""},0,null,null,null,{"$f":"IF(TRIM(DA93)=\"\", \"\", IF(VLOOKUP(DA93,'Footnotes list'!$D$9:$E$58,2,FALSE)=0,\"\",VLOOKUP(DA93,'Footnotes list'!$D$9:$E$58,2,FALSE) ) )","v":""},243.45099999999999,null,null,null,{"$f":"IF(TRIM(DF93)=\"\", \"\", IF(VLOOKUP(DF93,'Footnotes list'!$D$9:$E$58,2,FALSE)=0,\"\",VLOOKUP(DF93,'Footnotes list'!$D$9:$E$58,2,FALSE) ) )","v":""},{"$f":"IF(AND(TRIM(G93)=\"\",TRIM(L93)=\"\",TRIM(BO93)=\"\",TRIM(BT93)=\"\",TRIM(CI93)=\"\",TRIM(CN93)=\"\",TRIM(CS93)=\"\",TRIM(CX93)=\"\",TRIM(DC93)=\"\"),\"\",SUM(G93,L93,BO93,BT93,CI93,CN93,CS93,CX93,DC93))","v":756249.01300000004},null,null,null,{"$f":"IF(TRIM(DK93)=\"\", \"\", IF(VLOOKUP(DK93,'Footnotes list'!$D$9:$E$58,2,FALSE)=0,\"\",VLOOKUP(DK93,'Footnotes list'!$D$9:$E$58,2,FALSE) ) )","v":""}]
[null,null,"W12B",null,"HAZ_NHAZ","Total",{"$f":"IF(AND(TRIM(G92)=\"\",TRIM(G93)=\"\"),\"\",G92+G93)","v":14.672000000000001},null,null,null,{"$f":"IF(TRIM(J94)=\"\", \"\", IF(VLOOKUP(J94,'Footnotes list'!$D$9:$E$58,2,FALSE)=0,\"\",VLOOKUP(J94,'Footnotes list'!$D$9:$E$58,2,FALSE) ) )","v":""},{"$f":"IF(AND(TRIM(L92)=\"\",TRIM(L93)=\"\"),\"\",L92+L93)","v":733101.79399999999},null,null,null,{"$f":"IF(TRIM(O94)=\"\", \"\", IF(VLOOKUP(O94,'Footnotes list'!$D$9:$E$58,2,FALSE)=0,\"\",VLOOKUP(O94,'Footnotes list'!$D$9:$E$58,2,FALSE) ) )","v":""},{"$f":"IF(AND(TRIM(Q92)=\"\",TRIM(Q93)=\"\"),\"\",Q92+Q93)","v":11.696},null,null,null,{"$f":"IF(TRIM(T94)=\"\", \"\", IF(VLOOKUP(T94,'Footnotes list'!$D$9:$E$58,2,FALSE)=0,\"\",VLOOKUP(T94,'Footnotes list'!$D$9:$E$58,2,FALSE) ) )","v":""},{"$f":"IF(AND(TRIM(V92)=\"\",TRIM(V93)=\"\"),\"\",V92+V93)","v":29.699000000000002},null,null,null,{"$f":"IF(TRIM(Y94)=\"\", \"\", IF(VLOOKUP(Y94,'Footnotes list'!$D$9:$E$58,2,FALSE)=0,\"\",VLOOKUP(Y94,'Footnotes list'!$D$9:$E$58,2,FALSE) ) )","v":""},{"$f":"IF(AND(TRIM(AA92)=\"\",TRIM(AA93)=\"\"),\"\",AA92+AA93)","v":4.5789999999999997},null,null,null,{"$f":"IF(TRIM(AD94)=\"\", \"\", IF(VLOOKUP(AD94,'Footnotes list'!$D$9:$E$58,2,FALSE)=0,\"\",VLOOKUP(AD94,'Footnotes list'!$D$9:$E$58,2,FALSE) ) )","v":""},{"$f":"IF(AND(TRIM(AF92)=\"\",TRIM(AF93)=\"\"),\"\",AF92+AF93)","v":0.216},null,null,null,{"$f":"IF(TRIM(AI94)=\"\", \"\", IF(VLOOKUP(AI94,'Footnotes list'!$D$9:$E$58,2,FALSE)=0,\"\",VLOOKUP(AI94,'Footnotes list'!$D$9:$E$58,2,FALSE) ) )","v":""},{"$f":"IF(AND(TRIM(AK92)=\"\",TRIM(AK93)=\"\"),\"\",AK92+AK93)","v":191.04},null,null,null,{"$f":"IF(TRIM(AN94)=\"\", \"\", IF(VLOOKUP(AN94,'Footnotes list'!$D$9:$E$58,2,FALSE)=0,\"\",VLOOKUP(AN94,'Footnotes list'!$D$9:$E$58,2,FALSE) ) )","v":""},{"$f":"IF(AND(TRIM(AP92)=\"\",TRIM(AP93)=\"\"),\"\",AP92+AP93)","v":260.70499999999998},null,null,null,{"$f":"IF(TRIM(AS94)=\"\", \"\", IF(VLOOKUP(AS94,'Footnotes list'!$D$9:$E$58,2,FALSE)=0,\"\",VLOOKUP(AS94,'Footnotes list'!$D$9:$E$58,2,FALSE) ) )","v":""},{"$f":"IF(AND(TRIM(AU92)=\"\",TRIM(AU93)=\"\"),\"\",AU92+AU93)","v":12854.218999999999},null,null,null,{"$f":"IF(TRIM(AX94)=\"\", \"\", IF(VLOOKUP(AX94,'Footnotes list'!$D$9:$E$58,2,FALSE)=0,\"\",VLOOKUP(AX94,'Footnotes list'!$D$9:$E$58,2,FALSE) ) )","v":""},{"$f":"IF(AND(TRIM(AZ92)=\"\",TRIM(AZ93)=\"\"),\"\",AZ92+AZ93)","v":7037.6549999999997},null,null,null,{"$f":"IF(TRIM(BC94)=\"\", \"\", IF(VLOOKUP(BC94,'Footnotes list'!$D$9:$E$58,2,FALSE)=0,\"\",VLOOKUP(BC94,'Footnotes list'!$D$9:$E$58,2,FALSE) ) )","v":""},{"$f":"IF(AND(TRIM(BE92)=\"\",TRIM(BE93)=\"\"),\"\",BE92+BE93)","v":2529.4549999999999},null,null,null,{"$f":"IF(TRIM(BH94)=\"\", \"\", IF(VLOOKUP(BH94,'Footnotes list'!$D$9:$E$58,2,FALSE)=0,\"\",VLOOKUP(BH94,'Footnotes list'!$D$9:$E$58,2,FALSE) ) )","v":""},{"$f":"IF(AND(TRIM(BJ92)=\"\",TRIM(BJ93)=\"\"),\"\",BJ92+BJ93)","v":279.83100000000002},null,null,null,{"$f":"IF(TRIM(BM94)=\"\", \"\", IF(VLOOKUP(BM94,'Footnotes list'!$D$9:$E$58,2,FALSE)=0,\"\",VLOOKUP(BM94,'Footnotes list'!$D$9:$E$58,2,FALSE) ) )","v":""},{"$f":"IF(AND(TRIM(BO92)=\"\", TRIM(BO93)=\"\"), \"\", (IF(ISNUMBER(BO92),BO92,0)+IF(ISNUMBER(BO93),BO93,0)))","v":23199.095000000001},null,null,null,{"$f":"IF(TRIM(BR94)=\"\", \"\", IF(VLOOKUP(BR94,'Footnotes list'!$D$9:$E$58,2,FALSE)=0,\"\",VLOOKUP(BR94,'Footnotes list'!$D$9:$E$58,2,FALSE) ) )","v":""},{"$f":"IF(AND(TRIM(BT92)=\"\",TRIM(BT93)=\"\"),\"\",BT92+BT93)","v":2.3E-2},null,null,null,{"$f":"IF(TRIM(BW94)=\"\", \"\", IF(VLOOKUP(BW94,'Footnotes list'!$D$9:$E$58,2,FALSE)=0,\"\",VLOOKUP(BW94,'Footnotes list'!$D$9:$E$58,2,FALSE) ) )","v":""},{"$f":"IF(AND(TRIM(BY92)=\"\",TRIM(BY93)=\"\"),\"\",BY92+BY93)","v":1674.28},null,null,null,{"$f":"IF(TRIM(CB94)=\"\", \"\", IF(VLOOKUP(CB94,'Footnotes list'!$D$9:$E$58,2,FALSE)=0,\"\",VLOOKUP(CB94,'Footnotes list'!$D$9:$E$58,2,FALSE) ) )","v":""},{"$f":"IF(AND(TRIM(CD92)=\"\",TRIM(CD93)=\"\"),\"\",CD92+CD93)","v":1710.9739999999999},null,null,null,{"$f":"IF(TRIM(CG94)=\"\", \"\", IF(VLOOKUP(CG94,'Footnotes list'!$D$9:$E$58,2,FALSE)=0,\"\",VLOOKUP(CG94,'Footnotes list'!$D$9:$E$58,2,FALSE) ) )","v":""},{"$f":"IF(AND(TRIM(CI92)=\"\", TRIM(CI93)=\"\"), \"\", (IF(ISNUMBER(CI92),CI92,0)+IF(ISNUMBER(CI93),CI93,0)))","v":3385.2539999999999},null,null,null,{"$f":"IF(TRIM(CL94)=\"\", \"\", IF(VLOOKUP(CL94,'Footnotes list'!$D$9:$E$58,2,FALSE)=0,\"\",VLOOKUP(CL94,'Footnotes list'!$D$9:$E$58,2,FALSE) ) )","v":""},{"$f":"IF(AND(TRIM(CN92)=\"\",TRIM(CN93)=\"\"),\"\",CN92+CN93)","v":4827.9650000000001},null,null,null,{"$f":"IF(TRIM(CQ94)=\"\", \"\", IF(VLOOKUP(CQ94,'Footnotes list'!$D$9:$E$58,2,FALSE)=0,\"\",VLOOKUP(CQ94,'Footnotes list'!$D$9:$E$58,2,FALSE) ) )","v":""},{"$f":"IF(AND(TRIM(CS92)=\"\",TRIM(CS93)=\"\"),\"\",CS92+CS93)","v":1805.252},null,null,null,{"$f":"IF(TRIM(CV94)=\"\", \"\", IF(VLOOKUP(CV94,'Footnotes list'!$D$9:$E$58,2,FALSE)=0,\"\",VLOOKUP(CV94,'Footnotes list'!$D$9:$E$58,2,FALSE) ) )","v":""},{"$f":"IF(AND(TRIM(CX92)=\"\",TRIM(CX93)=\"\"),\"\",CX92+CX93)","v":0},null,null,null,{"$f":"IF(TRIM(DA94)=\"\", \"\", IF(VLOOKUP(DA94,'Footnotes list'!$D$9:$E$58,2,FALSE)=0,\"\",VLOOKUP(DA94,'Footnotes list'!$D$9:$E$58,2,FALSE) ) )","v":""},{"$f":"IF(AND(TRIM(DC92)=\"\",TRIM(DC93)=\"\"),\"\",DC92+DC93)","v":273.80700000000002},null,null,null,{"$f":"IF(TRIM(DF94)=\"\", \"\", IF(VLOOKUP(DF94,'Footnotes list'!$D$9:$E$58,2,FALSE)=0,\"\",VLOOKUP(DF94,'Footnotes list'!$D$9:$E$58,2,FALSE) ) )","v":""},{"$f":"IF(AND(TRIM(DH92)=\"\", TRIM(DH93)=\"\"), \"\", SUM(DH92,DH93) )","v":766607.86199999996},null,null,null,{"$f":"IF(TRIM(DK94)=\"\", \"\", IF(VLOOKUP(DK94,'Footnotes list'!$D$9:$E$58,2,FALSE)=0,\"\",VLOOKUP(DK94,'Footnotes list'!$D$9:$E$58,2,FALSE) ) )","v":""}]
[null,"W124","W124","Combustion wastes ","HAZ","Hazardous ",0,null,null,null,{"$f":"IF(TRIM(J95)=\"\", \"\", IF(VLOOKUP(J95,'Footnotes list'!$D$9:$E$58,2,FALSE)=0,\"\",VLOOKUP(J95,'Footnotes list'!$D$9:$E$58,2,FALSE) ) )","v":""},0,null,null,null,{"$f":"IF(TRIM(O95)=\"\", \"\", IF(VLOOKUP(O95,'Footnotes list'!$D$9:$E$58,2,FALSE)=0,\"\",VLOOKUP(O95,'Footnotes list'!$D$9:$E$58,2,FALSE) ) )","v":""},0,null,null,null,{"$f":"IF(TRIM(T95)=\"\", \"\", IF(VLOOKUP(T95,'Footnotes list'!$D$9:$E$58,2,FALSE)=0,\"\",VLOOKUP(T95,'Footnotes list'!$D$9:$E$58,2,FALSE) ) )","v":""},0,null,null,null,{"$f":"IF(TRIM(Y95)=\"\", \"\", IF(VLOOKUP(Y95,'Footnotes list'!$D$9:$E$58,2,FALSE)=0,\"\",VLOOKUP(Y95,'Footnotes list'!$D$9:$E$58,2,FALSE) ) )","v":""},0,null,null,null,{"$f":"IF(TRIM(AD95)=\"\", \"\", IF(VLOOKUP(AD95,'Footnotes list'!$D$9:$E$58,2,FALSE)=0,\"\",VLOOKUP(AD95,'Footnotes list'!$D$9:$E$58,2,FALSE) ) )","v":""},0,null,null,null,{"$f":"IF(TRIM(AI95)=\"\", \"\", IF(VLOOKUP(AI95,'Footnotes list'!$D$9:$E$58,2,FALSE)=0,\"\",VLOOKUP(AI95,'Footnotes list'!$D$9:$E$58,2,FALSE) ) )","v":""},0,null,null,null,{"$f":"IF(TRIM(AN95)=\"\", \"\", IF(VLOOKUP(AN95,'Footnotes list'!$D$9:$E$58,2,FALSE)=0,\"\",VLOOKUP(AN95,'Footnotes list'!$D$9:$E$58,2,FALSE) ) )","v":""},0,null,null,null,{"$f":"IF(TRIM(AS95)=\"\", \"\", IF(VLOOKUP(AS95,'Footnotes list'!$D$9:$E$58,2,FALSE)=0,\"\",VLOOKUP(AS95,'Footnotes list'!$D$9:$E$58,2,FALSE) ) )","v":""},960.80499999999995,null,null,null,{"$f":"IF(TRIM(AX95)=\"\", \"\", IF(VLOOKUP(AX95,'Footnotes list'!$D$9:$E$58,2,FALSE)=0,\"\",VLOOKUP(AX95,'Footnotes list'!$D$9:$E$58,2,FALSE) ) )","v":""},6005.6819999999998,null,null,null,{"$f":"IF(TRIM(BC95)=\"\", \"\", IF(VLOOKUP(BC95,'Footnotes list'!$D$9:$E$58,2,FALSE)=0,\"\",VLOOKUP(BC95,'Footnotes list'!$D$9:$E$58,2,FALSE) ) )","v":""},0.249,null,null,null,{"$f":"IF(TRIM(BH95)=\"\", \"\", IF(VLOOKUP(BH95,'Footnotes list'!$D$9:$E$58,2,FALSE)=0,\"\",VLOOKUP(BH95,'Footnotes list'!$D$9:$E$58,2,FALSE) ) )","v":""},0,null,null,null,{"$f":"IF(TRIM(BM95)=\"\", \"\", IF(VLOOKUP(BM95,'Footnotes list'!$D$9:$E$58,2,FALSE)=0,\"\",VLOOKUP(BM95,'Footnotes list'!$D$9:$E$58,2,FALSE) ) )","v":""},{"$f":"IF(AND(TRIM(Q95)=\"\",TRIM(V95)=\"\",TRIM(AA95)=\"\", TRIM(AF95)=\"\", TRIM(AK95)=\"\", TRIM(AP95)=\"\", TRIM(AU95)=\"\", TRIM(AZ95)=\"\", TRIM(BE95)=\"\", TRIM(BJ95)=\"\"),\"\",Q95+V95+AA95+AF95+AK95+AP95+AU95+AZ95+BE95+BJ95)","v":6966.7359999999999},null,null,null,{"$f":"IF(TRIM(BR95)=\"\", \"\", IF(VLOOKUP(BR95,'Footnotes list'!$D$9:$E$58,2,FALSE)=0,\"\",VLOOKUP(BR95,'Footnotes list'!$D$9:$E$58,2,FALSE) ) )","v":""},9.9,null,null,null,{"$f":"IF(TRIM(BW95)=\"\", \"\", IF(VLOOKUP(BW95,'Footnotes list'!$D$9:$E$58,2,FALSE)=0,\"\",VLOOKUP(BW95,'Footnotes list'!$D$9:$E$58,2,FALSE) ) )","v":""},0,null,null,null,{"$f":"IF(TRIM(CB95)=\"\", \"\", IF(VLOOKUP(CB95,'Footnotes list'!$D$9:$E$58,2,FALSE)=0,\"\",VLOOKUP(CB95,'Footnotes list'!$D$9:$E$58,2,FALSE) ) )","v":""},0,null,null,null,{"$f":"IF(TRIM(CG95)=\"\", \"\", IF(VLOOKUP(CG95,'Footnotes list'!$D$9:$E$58,2,FALSE)=0,\"\",VLOOKUP(CG95,'Footnotes list'!$D$9:$E$58,2,FALSE) ) )","v":""},{"$f":"IF(AND(TRIM(BY95)=\"\",TRIM(CD95)=\"\"),\"\",BY95+CD95)","v":0},null,null,null,{"$f":"IF(TRIM(CL95)=\"\", \"\", IF(VLOOKUP(CL95,'Footnotes list'!$D$9:$E$58,2,FALSE)=0,\"\",VLOOKUP(CL95,'Footnotes list'!$D$9:$E$58,2,FALSE) ) )","v":""},0,null,null,null,{"$f":"IF(TRIM(CQ95)=\"\", \"\", IF(VLOOKUP(CQ95,'Footnotes list'!$D$9:$E$58,2,FALSE)=0,\"\",VLOOKUP(CQ95,'Footnotes list'!$D$9:$E$58,2,FALSE) ) )","v":""},2.0070000000000001,null,null,null,{"$f":"IF(TRIM(CV95)=\"\", \"\", IF(VLOOKUP(CV95,'Footnotes list'!$D$9:$E$58,2,FALSE)=0,\"\",VLOOKUP(CV95,'Footnotes list'!$D$9:$E$58,2,FALSE) ) )","v":""},0,null,null,null,{"$f":"IF(TRIM(DA95)=\"\", \"\", IF(VLOOKUP(DA95,'Footnotes list'!$D$9:$E$58,2,FALSE)=0,\"\",VLOOKUP(DA95,'Footnotes list'!$D$9:$E$58,2,FALSE) ) )","v":""},0,null,null,null,{"$f":"IF(TRIM(DF95)=\"\", \"\", IF(VLOOKUP(DF95,'Footnotes list'!$D$9:$E$58,2,FALSE)=0,\"\",VLOOKUP(DF95,'Footnotes list'!$D$9:$E$58,2,FALSE) ) )","v":""},{"$f":"IF(AND(TRIM(G95)=\"\",TRIM(L95)=\"\",TRIM(BO95)=\"\",TRIM(BT95)=\"\",TRIM(CI95)=\"\",TRIM(CN95)=\"\",TRIM(CS95)=\"\",TRIM(CX95)=\"\",TRIM(DC95)=\"\"),\"\",SUM(G95,L95,BO95,BT95,CI95,CN95,CS95,CX95,DC95))","v":6978.643},null,null,null,{"$f":"IF(TRIM(DK95)=\"\", \"\", IF(VLOOKUP(DK95,'Footnotes list'!$D$9:$E$58,2,FALSE)=0,\"\",VLOOKUP(DK95,'Footnotes list'!$D$9:$E$58,2,FALSE) ) )","v":""}]
[null,null,"W124",null,"NHAZ","Non-hazardous",0,null,null,null,{"$f":"IF(TRIM(J96)=\"\", \"\", IF(VLOOKUP(J96,'Footnotes list'!$D$9:$E$58,2,FALSE)=0,\"\",VLOOKUP(J96,'Footnotes list'!$D$9:$E$58,2,FALSE) ) )","v":""},25.707999999999998,null,null,null,{"$f":"IF(TRIM(O96)=\"\", \"\", IF(VLOOKUP(O96,'Footnotes list'!$D$9:$E$58,2,FALSE)=0,\"\",VLOOKUP(O96,'Footnotes list'!$D$9:$E$58,2,FALSE) ) )","v":""},184.96,null,null,null,{"$f":"IF(TRIM(T96)=\"\", \"\", IF(VLOOKUP(T96,'Footnotes list'!$D$9:$E$58,2,FALSE)=0,\"\",VLOOKUP(T96,'Footnotes list'!$D$9:$E$58,2,FALSE) ) )","v":""},0,null,null,null,{"$f":"IF(TRIM(Y96)=\"\", \"\", IF(VLOOKUP(Y96,'Footnotes list'!$D$9:$E$58,2,FALSE)=0,\"\",VLOOKUP(Y96,'Footnotes list'!$D$9:$E$58,2,FALSE) ) )","v":""},3571.5340000000001,null,null,null,{"$f":"IF(TRIM(AD96)=\"\", \"\", IF(VLOOKUP(AD96,'Footnotes list'!$D$9:$E$58,2,FALSE)=0,\"\",VLOOKUP(AD96,'Footnotes list'!$D$9:$E$58,2,FALSE) ) )","v":""},217.1,null,null,null,{"$f":"IF(TRIM(AI96)=\"\", \"\", IF(VLOOKUP(AI96,'Footnotes list'!$D$9:$E$58,2,FALSE)=0,\"\",VLOOKUP(AI96,'Footnotes list'!$D$9:$E$58,2,FALSE) ) )","v":""},0,null,null,null,{"$f":"IF(TRIM(AN96)=\"\", \"\", IF(VLOOKUP(AN96,'Footnotes list'!$D$9:$E$58,2,FALSE)=0,\"\",VLOOKUP(AN96,'Footnotes list'!$D$9:$E$58,2,FALSE) ) )","v":""},3.7,null,null,null,{"$f":"IF(TRIM(AS96)=\"\", \"\", IF(VLOOKUP(AS96,'Footnotes list'!$D$9:$E$58,2,FALSE)=0,\"\",VLOOKUP(AS96,'Footnotes list'!$D$9:$E$58,2,FALSE) ) )","v":""},5.12,null,null,null,{"$f":"IF(TRIM(AX96)=\"\", \"\", IF(VLOOKUP(AX96,'Footnotes list'!$D$9:$E$58,2,FALSE)=0,\"\",VLOOKUP(AX96,'Footnotes list'!$D$9:$E$58,2,FALSE) ) )","v":""},31099.856,null,null,null,{"$f":"IF(TRIM(BC96)=\"\", \"\", IF(VLOOKUP(BC96,'Footnotes list'!$D$9:$E$58,2,FALSE)=0,\"\",VLOOKUP(BC96,'Footnotes list'!$D$9:$E$58,2,FALSE) ) )","v":""},466.64,null,null,null,{"$f":"IF(TRIM(BH96)=\"\", \"\", IF(VLOOKUP(BH96,'Footnotes list'!$D$9:$E$58,2,FALSE)=0,\"\",VLOOKUP(BH96,'Footnotes list'!$D$9:$E$58,2,FALSE) ) )","v":""},177.946,null,null,null,{"$f":"IF(TRIM(BM96)=\"\", \"\", IF(VLOOKUP(BM96,'Footnotes list'!$D$9:$E$58,2,FALSE)=0,\"\",VLOOKUP(BM96,'Footnotes list'!$D$9:$E$58,2,FALSE) ) )","v":""},{"$f":"IF(AND(TRIM(Q96)=\"\",TRIM(V96)=\"\",TRIM(AA96)=\"\", TRIM(AF96)=\"\", TRIM(AK96)=\"\", TRIM(AP96)=\"\", TRIM(AU96)=\"\", TRIM(AZ96)=\"\", TRIM(BE96)=\"\", TRIM(BJ96)=\"\"),\"\",Q96+V96+AA96+AF96+AK96+AP96+AU96+AZ96+BE96+BJ96)","v":35726.856},null,null,null,{"$f":"IF(TRIM(BR96)=\"\", \"\", IF(VLOOKUP(BR96,'Footnotes list'!$D$9:$E$58,2,FALSE)=0,\"\",VLOOKUP(BR96,'Footnotes list'!$D$9:$E$58,2,FALSE) ) )","v":""},27825.1,null,null,null,{"$f":"IF(TRIM(BW96)=\"\", \"\", IF(VLOOKUP(BW96,'Footnotes list'!$D$9:$E$58,2,FALSE)=0,\"\",VLOOKUP(BW96,'Footnotes list'!$D$9:$E$58,2,FALSE) ) )","v":""},0,null,null,null,{"$f":"IF(TRIM(CB96)=\"\", \"\", IF(VLOOKUP(CB96,'Footnotes list'!$D$9:$E$58,2,FALSE)=0,\"\",VLOOKUP(CB96,'Footnotes list'!$D$9:$E$58,2,FALSE) ) )","v":""},268.37400000000002,null,null,null,{"$f":"IF(TRIM(CG96)=\"\", \"\", IF(VLOOKUP(CG96,'Footnotes list'!$D$9:$E$58,2,FALSE)=0,\"\",VLOOKUP(CG96,'Footnotes list'!$D$9:$E$58,2,FALSE) ) )","v":""},{"$f":"IF(AND(TRIM(BY96)=\"\",TRIM(CD96)=\"\"),\"\",BY96+CD96)","v":268.37400000000002},null,null,null,{"$f":"IF(TRIM(CL96)=\"\", \"\", IF(VLOOKUP(CL96,'Footnotes list'!$D$9:$E$58,2,FALSE)=0,\"\",VLOOKUP(CL96,'Footnotes list'!$D$9:$E$58,2,FALSE) ) )","v":""},0,null,null,null,{"$f":"IF(TRIM(CQ96)=\"\", \"\", IF(VLOOKUP(CQ96,'Footnotes list'!$D$9:$E$58,2,FALSE)=0,\"\",VLOOKUP(CQ96,'Footnotes list'!$D$9:$E$58,2,FALSE) ) )","v":""},74.894000000000005,null,null,null,{"$f":"IF(TRIM(CV96)=\"\", \"\", IF(VLOOKUP(CV96,'Footnotes list'!$D$9:$E$58,2,FALSE)=0,\"\",VLOOKUP(CV96,'Footnotes list'!$D$9:$E$58,2,FALSE) ) )","v":""},0,null,null,null,{"$f":"IF(TRIM(DA96)=\"\", \"\", IF(VLOOKUP(DA96,'Footnotes list'!$D$9:$E$58,2,FALSE)=0,\"\",VLOOKUP(DA96,'Footnotes list'!$D$9:$E$58,2,FALSE) ) )","v":""},14.214,null,null,null,{"$f":"IF(TRIM(DF96)=\"\", \"\", IF(VLOOKUP(DF96,'Footnotes list'!$D$9:$E$58,2,FALSE)=0,\"\",VLOOKUP(DF96,'Footnotes list'!$D$9:$E$58,2,FALSE) ) )","v":""},{"$f":"IF(AND(TRIM(G96)=\"\",TRIM(L96)=\"\",TRIM(BO96)=\"\",TRIM(BT96)=\"\",TRIM(CI96)=\"\",TRIM(CN96)=\"\",TRIM(CS96)=\"\",TRIM(CX96)=\"\",TRIM(DC96)=\"\"),\"\",SUM(G96,L96,BO96,BT96,CI96,CN96,CS96,CX96,DC96))","v":63935.146000000001},null,null,null,{"$f":"IF(TRIM(DK96)=\"\", \"\", IF(VLOOKUP(DK96,'Footnotes list'!$D$9:$E$58,2,FALSE)=0,\"\",VLOOKUP(DK96,'Footnotes list'!$D$9:$E$58,2,FALSE) ) )","v":""}]
[null,null,"W124",null,"HAZ_NHAZ","Total",{"$f":"IF(AND(TRIM(G95)=\"\",TRIM(G96)=\"\"),\"\",G95+G96)","v":0},null,null,null,{"$f":"IF(TRIM(J97)=\"\", \"\", IF(VLOOKUP(J97,'Footnotes list'!$D$9:$E$58,2,FALSE)=0,\"\",VLOOKUP(J97,'Footnotes list'!$D$9:$E$58,2,FALSE) ) )","v":""},{"$f":"IF(AND(TRIM(L95)=\"\",TRIM(L96)=\"\"),\"\",L95+L96)","v":25.707999999999998},null,null,null,{"$f":"IF(TRIM(O97)=\"\", \"\", IF(VLOOKUP(O97,'Footnotes list'!$D$9:$E$58,2,FALSE)=0,\"\",VLOOKUP(O97,'Footnotes list'!$D$9:$E$58,2,FALSE) ) )","v":""},{"$f":"IF(AND(TRIM(Q95)=\"\",TRIM(Q96)=\"\"),\"\",Q95+Q96)","v":184.96},null,null,null,{"$f":"IF(TRIM(T97)=\"\", \"\", IF(VLOOKUP(T97,'Footnotes list'!$D$9:$E$58,2,FALSE)=0,\"\",VLOOKUP(T97,'Footnotes list'!$D$9:$E$58,2,FALSE) ) )","v":""},{"$f":"IF(AND(TRIM(V95)=\"\",TRIM(V96)=\"\"),\"\",V95+V96)","v":0},null,null,null,{"$f":"IF(TRIM(Y97)=\"\", \"\", IF(VLOOKUP(Y97,'Footnotes list'!$D$9:$E$58,2,FALSE)=0,\"\",VLOOKUP(Y97,'Footnotes list'!$D$9:$E$58,2,FALSE) ) )","v":""},{"$f":"IF(AND(TRIM(AA95)=\"\",TRIM(AA96)=\"\"),\"\",AA95+AA96)","v":3571.5340000000001},null,null,null,{"$f":"IF(TRIM(AD97)=\"\", \"\", IF(VLOOKUP(AD97,'Footnotes list'!$D$9:$E$58,2,FALSE)=0,\"\",VLOOKUP(AD97,'Footnotes list'!$D$9:$E$58,2,FALSE) ) )","v":""},{"$f":"IF(AND(TRIM(AF95)=\"\",TRIM(AF96)=\"\"),\"\",AF95+AF96)","v":217.1},null,null,null,{"$f":"IF(TRIM(AI97)=\"\", \"\", IF(VLOOKUP(AI97,'Footnotes list'!$D$9:$E$58,2,FALSE)=0,\"\",VLOOKUP(AI97,'Footnotes list'!$D$9:$E$58,2,FALSE) ) )","v":""},{"$f":"IF(AND(TRIM(AK95)=\"\",TRIM(AK96)=\"\"),\"\",AK95+AK96)","v":0},null,null,null,{"$f":"IF(TRIM(AN97)=\"\", \"\", IF(VLOOKUP(AN97,'Footnotes list'!$D$9:$E$58,2,FALSE)=0,\"\",VLOOKUP(AN97,'Footnotes list'!$D$9:$E$58,2,FALSE) ) )","v":""},{"$f":"IF(AND(TRIM(AP95)=\"\",TRIM(AP96)=\"\"),\"\",AP95+AP96)","v":3.7},null,null,null,{"$f":"IF(TRIM(AS97)=\"\", \"\", IF(VLOOKUP(AS97,'Footnotes list'!$D$9:$E$58,2,FALSE)=0,\"\",VLOOKUP(AS97,'Footnotes list'!$D$9:$E$58,2,FALSE) ) )","v":""},{"$f":"IF(AND(TRIM(AU95)=\"\",TRIM(AU96)=\"\"),\"\",AU95+AU96)","v":965.92499999999995},null,null,null,{"$f":"IF(TRIM(AX97)=\"\", \"\", IF(VLOOKUP(AX97,'Footnotes list'!$D$9:$E$58,2,FALSE)=0,\"\",VLOOKUP(AX97,'Footnotes list'!$D$9:$E$58,2,FALSE) ) )","v":""},{"$f":"IF(AND(TRIM(AZ95)=\"\",TRIM(AZ96)=\"\"),\"\",AZ95+AZ96)","v":37105.538},null,null,null,{"$f":"IF(TRIM(BC97)=\"\", \"\", IF(VLOOKUP(BC97,'Footnotes list'!$D$9:$E$58,2,FALSE)=0,\"\",VLOOKUP(BC97,'Footnotes list'!$D$9:$E$58,2,FALSE) ) )","v":""},{"$f":"IF(AND(TRIM(BE95)=\"\",TRIM(BE96)=\"\"),\"\",BE95+BE96)","v":466.88900000000001},null,null,null,{"$f":"IF(TRIM(BH97)=\"\", \"\", IF(VLOOKUP(BH97,'Footnotes list'!$D$9:$E$58,2,FALSE)=0,\"\",VLOOKUP(BH97,'Footnotes list'!$D$9:$E$58,2,FALSE) ) )","v":""},{"$f":"IF(AND(TRIM(BJ95)=\"\",TRIM(BJ96)=\"\"),\"\",BJ95+BJ96)","v":177.946},null,null,null,{"$f":"IF(TRIM(BM97)=\"\", \"\", IF(VLOOKUP(BM97,'Footnotes list'!$D$9:$E$58,2,FALSE)=0,\"\",VLOOKUP(BM97,'Footnotes list'!$D$9:$E$58,2,FALSE) ) )","v":""},{"$f":"IF(AND(TRIM(BO95)=\"\", TRIM(BO96)=\"\"), \"\", (IF(ISNUMBER(BO95),BO95,0)+IF(ISNUMBER(BO96),BO96,0)))","v":42693.591999999997},null,null,null,{"$f":"IF(TRIM(BR97)=\"\", \"\", IF(VLOOKUP(BR97,'Footnotes list'!$D$9:$E$58,2,FALSE)=0,\"\",VLOOKUP(BR97,'Footnotes list'!$D$9:$E$58,2,FALSE) ) )","v":""},{"$f":"IF(AND(TRIM(BT95)=\"\",TRIM(BT96)=\"\"),\"\",BT95+BT96)","v":27835},null,null,null,{"$f":"IF(TRIM(BW97)=\"\", \"\", IF(VLOOKUP(BW97,'Footnotes list'!$D$9:$E$58,2,FALSE)=0,\"\",VLOOKUP(BW97,'Footnotes list'!$D$9:$E$58,2,FALSE) ) )","v":""},{"$f":"IF(AND(TRIM(BY95)=\"\",TRIM(BY96)=\"\"),\"\",BY95+BY96)","v":0},null,null,null,{"$f":"IF(TRIM(CB97)=\"\", \"\", IF(VLOOKUP(CB97,'Footnotes list'!$D$9:$E$58,2,FALSE)=0,\"\",VLOOKUP(CB97,'Footnotes list'!$D$9:$E$58,2,FALSE) ) )","v":""},{"$f":"IF(AND(TRIM(CD95)=\"\",TRIM(CD96)=\"\"),\"\",CD95+CD96)","v":268.37400000000002},null,null,null,{"$f":"IF(TRIM(CG97)=\"\", \"\", IF(VLOOKUP(CG97,'Footnotes list'!$D$9:$E$58,2,FALSE)=0,\"\",VLOOKUP(CG97,'Footnotes list'!$D$9:$E$58,2,FALSE) ) )","v":""},{"$f":"IF(AND(TRIM(CI95)=\"\", TRIM(CI96)=\"\"), \"\", (IF(ISNUMBER(CI95),CI95,0)+IF(ISNUMBER(CI96),CI96,0)))","v":268.37400000000002},null,null,null,{"$f":"IF(TRIM(CL97)=\"\", \"\", IF(VLOOKUP(CL97,'Footnotes list'!$D$9:$E$58,2,FALSE)=0,\"\",VLOOKUP(CL97,'Footnotes list'!$D$9:$E$58,2,FALSE) ) )","v":""},{"$f":"IF(AND(TRIM(CN95)=\"\",TRIM(CN96)=\"\"),\"\",CN95+CN96)","v":0},null,null,null,{"$f":"IF(TRIM(CQ97)=\"\", \"\", IF(VLOOKUP(CQ97,'Footnotes list'!$D$9:$E$58,2,FALSE)=0,\"\",VLOOKUP(CQ97,'Footnotes list'!$D$9:$E$58,2,FALSE) ) )","v":""},{"$f":"IF(AND(TRIM(CS95)=\"\",TRIM(CS96)=\"\"),\"\",CS95+CS96)","v":76.900999999999996},null,null,null,{"$f":"IF(TRIM(CV97)=\"\", \"\", IF(VLOOKUP(CV97,'Footnotes list'!$D$9:$E$58,2,FALSE)=0,\"\",VLOOKUP(CV97,'Footnotes list'!$D$9:$E$58,2,FALSE) ) )","v":""},{"$f":"IF(AND(TRIM(CX95)=\"\",TRIM(CX96)=\"\"),\"\",CX95+CX96)","v":0},null,null,null,{"$f":"IF(TRIM(DA97)=\"\", \"\", IF(VLOOKUP(DA97,'Footnotes list'!$D$9:$E$58,2,FALSE)=0,\"\",VLOOKUP(DA97,'Footnotes list'!$D$9:$E$58,2,FALSE) ) )","v":""},{"$f":"IF(AND(TRIM(DC95)=\"\",TRIM(DC96)=\"\"),\"\",DC95+DC96)","v":14.214},null,null,null,{"$f":"IF(TRIM(DF97)=\"\", \"\", IF(VLOOKUP(DF97,'Footnotes list'!$D$9:$E$58,2,FALSE)=0,\"\",VLOOKUP(DF97,'Footnotes list'!$D$9:$E$58,2,FALSE) ) )","v":""},{"$f":"IF(AND(TRIM(DH95)=\"\", TRIM(DH96)=\"\"), \"\", SUM(DH95,DH96) )","v":70913.789000000004},null,null,null,{"$f":"IF(TRIM(DK97)=\"\", \"\", IF(VLOOKUP(DK97,'Footnotes list'!$D$9:$E$58,2,FALSE)=0,\"\",VLOOKUP(DK97,'Footnotes list'!$D$9:$E$58,2,FALSE) ) )","v":""}]
[null,"W126","W126","Soils ","HAZ","Hazardous ",0,null,null,null,{"$f":"IF(TRIM(J98)=\"\", \"\", IF(VLOOKUP(J98,'Footnotes list'!$D$9:$E$58,2,FALSE)=0,\"\",VLOOKUP(J98,'Footnotes list'!$D$9:$E$58,2,FALSE) ) )","v":""},16.760000000000002,null,null,null,{"$f":"IF(TRIM(O98)=\"\", \"\", IF(VLOOKUP(O98,'Footnotes list'!$D$9:$E$58,2,FALSE)=0,\"\",VLOOKUP(O98,'Footnotes list'!$D$9:$E$58,2,FALSE) ) )","v":""},0,null,null,null,{"$f":"IF(TRIM(T98)=\"\", \"\", IF(VLOOKUP(T98,'Footnotes list'!$D$9:$E$58,2,FALSE)=0,\"\",VLOOKUP(T98,'Footnotes list'!$D$9:$E$58,2,FALSE) ) )","v":""},0,null,null,null,{"$f":"IF(TRIM(Y98)=\"\", \"\", IF(VLOOKUP(Y98,'Footnotes list'!$D$9:$E$58,2,FALSE)=0,\"\",VLOOKUP(Y98,'Footnotes list'!$D$9:$E$58,2,FALSE) ) )","v":""},0,null,null,null,{"$f":"IF(TRIM(AD98)=\"\", \"\", IF(VLOOKUP(AD98,'Footnotes list'!$D$9:$E$58,2,FALSE)=0,\"\",VLOOKUP(AD98,'Footnotes list'!$D$9:$E$58,2,FALSE) ) )","v":""},0,null,null,null,{"$f":"IF(TRIM(AI98)=\"\", \"\", IF(VLOOKUP(AI98,'Footnotes list'!$D$9:$E$58,2,FALSE)=0,\"\",VLOOKUP(AI98,'Footnotes list'!$D$9:$E$58,2,FALSE) ) )","v":""},0,null,null,null,{"$f":"IF(TRIM(AN98)=\"\", \"\", IF(VLOOKUP(AN98,'Footnotes list'!$D$9:$E$58,2,FALSE)=0,\"\",VLOOKUP(AN98,'Footnotes list'!$D$9:$E$58,2,FALSE) ) )","v":""},0,null,null,null,{"$f":"IF(TRIM(AS98)=\"\", \"\", IF(VLOOKUP(AS98,'Footnotes list'!$D$9:$E$58,2,FALSE)=0,\"\",VLOOKUP(AS98,'Footnotes list'!$D$9:$E$58,2,FALSE) ) )","v":""},0,null,null,null,{"$f":"IF(TRIM(AX98)=\"\", \"\", IF(VLOOKUP(AX98,'Footnotes list'!$D$9:$E$58,2,FALSE)=0,\"\",VLOOKUP(AX98,'Footnotes list'!$D$9:$E$58,2,FALSE) ) )","v":""},0,null,null,null,{"$f":"IF(TRIM(BC98)=\"\", \"\", IF(VLOOKUP(BC98,'Footnotes list'!$D$9:$E$58,2,FALSE)=0,\"\",VLOOKUP(BC98,'Footnotes list'!$D$9:$E$58,2,FALSE) ) )","v":""},0,null,null,null,{"$f":"IF(TRIM(BH98)=\"\", \"\", IF(VLOOKUP(BH98,'Footnotes list'!$D$9:$E$58,2,FALSE)=0,\"\",VLOOKUP(BH98,'Footnotes list'!$D$9:$E$58,2,FALSE) ) )","v":""},0,null,null,null,{"$f":"IF(TRIM(BM98)=\"\", \"\", IF(VLOOKUP(BM98,'Footnotes list'!$D$9:$E$58,2,FALSE)=0,\"\",VLOOKUP(BM98,'Footnotes list'!$D$9:$E$58,2,FALSE) ) )","v":""},{"$f":"IF(AND(TRIM(Q98)=\"\",TRIM(V98)=\"\",TRIM(AA98)=\"\", TRIM(AF98)=\"\", TRIM(AK98)=\"\", TRIM(AP98)=\"\", TRIM(AU98)=\"\", TRIM(AZ98)=\"\", TRIM(BE98)=\"\", TRIM(BJ98)=\"\"),\"\",Q98+V98+AA98+AF98+AK98+AP98+AU98+AZ98+BE98+BJ98)","v":0},null,null,null,{"$f":"IF(TRIM(BR98)=\"\", \"\", IF(VLOOKUP(BR98,'Footnotes list'!$D$9:$E$58,2,FALSE)=0,\"\",VLOOKUP(BR98,'Footnotes list'!$D$9:$E$58,2,FALSE) ) )","v":""},0,null,null,null,{"$f":"IF(TRIM(BW98)=\"\", \"\", IF(VLOOKUP(BW98,'Footnotes list'!$D$9:$E$58,2,FALSE)=0,\"\",VLOOKUP(BW98,'Footnotes list'!$D$9:$E$58,2,FALSE) ) )","v":""},0,null,null,null,{"$f":"IF(TRIM(CB98)=\"\", \"\", IF(VLOOKUP(CB98,'Footnotes list'!$D$9:$E$58,2,FALSE)=0,\"\",VLOOKUP(CB98,'Footnotes list'!$D$9:$E$58,2,FALSE) ) )","v":""},0,null,null,null,{"$f":"IF(TRIM(CG98)=\"\", \"\", IF(VLOOKUP(CG98,'Footnotes list'!$D$9:$E$58,2,FALSE)=0,\"\",VLOOKUP(CG98,'Footnotes list'!$D$9:$E$58,2,FALSE) ) )","v":""},{"$f":"IF(AND(TRIM(BY98)=\"\",TRIM(CD98)=\"\"),\"\",BY98+CD98)","v":0},null,null,null,{"$f":"IF(TRIM(CL98)=\"\", \"\", IF(VLOOKUP(CL98,'Footnotes list'!$D$9:$E$58,2,FALSE)=0,\"\",VLOOKUP(CL98,'Footnotes list'!$D$9:$E$58,2,FALSE) ) )","v":""},4260.1000000000004,null,null,null,{"$f":"IF(TRIM(CQ98)=\"\", \"\", IF(VLOOKUP(CQ98,'Footnotes list'!$D$9:$E$58,2,FALSE)=0,\"\",VLOOKUP(CQ98,'Footnotes list'!$D$9:$E$58,2,FALSE) ) )","v":""},0.43,null,null,null,{"$f":"IF(TRIM(CV98)=\"\", \"\", IF(VLOOKUP(CV98,'Footnotes list'!$D$9:$E$58,2,FALSE)=0,\"\",VLOOKUP(CV98,'Footnotes list'!$D$9:$E$58,2,FALSE) ) )","v":""},0,null,null,null,{"$f":"IF(TRIM(DA98)=\"\", \"\", IF(VLOOKUP(DA98,'Footnotes list'!$D$9:$E$58,2,FALSE)=0,\"\",VLOOKUP(DA98,'Footnotes list'!$D$9:$E$58,2,FALSE) ) )","v":""},0,null,null,null,{"$f":"IF(TRIM(DF98)=\"\", \"\", IF(VLOOKUP(DF98,'Footnotes list'!$D$9:$E$58,2,FALSE)=0,\"\",VLOOKUP(DF98,'Footnotes list'!$D$9:$E$58,2,FALSE) ) )","v":""},{"$f":"IF(AND(TRIM(G98)=\"\",TRIM(L98)=\"\",TRIM(BO98)=\"\",TRIM(BT98)=\"\",TRIM(CI98)=\"\",TRIM(CN98)=\"\",TRIM(CS98)=\"\",TRIM(CX98)=\"\",TRIM(DC98)=\"\"),\"\",SUM(G98,L98,BO98,BT98,CI98,CN98,CS98,CX98,DC98))","v":4277.29},null,null,null,{"$f":"IF(TRIM(DK98)=\"\", \"\", IF(VLOOKUP(DK98,'Footnotes list'!$D$9:$E$58,2,FALSE)=0,\"\",VLOOKUP(DK98,'Footnotes list'!$D$9:$E$58,2,FALSE) ) )","v":""}]
[null,null,"W126",null,"NHAZ","Non-hazardous",0,null,null,null,{"$f":"IF(TRIM(J99)=\"\", \"\", IF(VLOOKUP(J99,'Footnotes list'!$D$9:$E$58,2,FALSE)=0,\"\",VLOOKUP(J99,'Footnotes list'!$D$9:$E$58,2,FALSE) ) )","v":""},0,null,null,null,{"$f":"IF(TRIM(O99)=\"\", \"\", IF(VLOOKUP(O99,'Footnotes list'!$D$9:$E$58,2,FALSE)=0,\"\",VLOOKUP(O99,'Footnotes list'!$D$9:$E$58,2,FALSE) ) )","v":""},0,null,null,null,{"$f":"IF(TRIM(T99)=\"\", \"\", IF(VLOOKUP(T99,'Footnotes list'!$D$9:$E$58,2,FALSE)=0,\"\",VLOOKUP(T99,'Footnotes list'!$D$9:$E$58,2,FALSE) ) )","v":""},0,null,null,null,{"$f":"IF(TRIM(Y99)=\"\", \"\", IF(VLOOKUP(Y99,'Footnotes list'!$D$9:$E$58,2,FALSE)=0,\"\",VLOOKUP(Y99,'Footnotes list'!$D$9:$E$58,2,FALSE) ) )","v":""},0,null,null,null,{"$f":"IF(TRIM(AD99)=\"\", \"\", IF(VLOOKUP(AD99,'Footnotes list'!$D$9:$E$58,2,FALSE)=0,\"\",VLOOKUP(AD99,'Footnotes list'!$D$9:$E$58,2,FALSE) ) )","v":""},0,null,null,null,{"$f":"IF(TRIM(AI99)=\"\", \"\", IF(VLOOKUP(AI99,'Footnotes list'!$D$9:$E$58,2,FALSE)=0,\"\",VLOOKUP(AI99,'Footnotes list'!$D$9:$E$58,2,FALSE) ) )","v":""},0,null,null,null,{"$f":"IF(TRIM(AN99)=\"\", \"\", IF(VLOOKUP(AN99,'Footnotes list'!$D$9:$E$58,2,FALSE)=0,\"\",VLOOKUP(AN99,'Footnotes list'!$D$9:$E$58,2,FALSE) ) )","v":""},0,null,null,null,{"$f":"IF(TRIM(AS99)=\"\", \"\", IF(VLOOKUP(AS99,'Footnotes list'!$D$9:$E$58,2,FALSE)=0,\"\",VLOOKUP(AS99,'Footnotes list'!$D$9:$E$58,2,FALSE) ) )","v":""},0,null,null,null,{"$f":"IF(TRIM(AX99)=\"\", \"\", IF(VLOOKUP(AX99,'Footnotes list'!$D$9:$E$58,2,FALSE)=0,\"\",VLOOKUP(AX99,'Footnotes list'!$D$9:$E$58,2,FALSE) ) )","v":""},0,null,null,null,{"$f":"IF(TRIM(BC99)=\"\", \"\", IF(VLOOKUP(BC99,'Footnotes list'!$D$9:$E$58,2,FALSE)=0,\"\",VLOOKUP(BC99,'Footnotes list'!$D$9:$E$58,2,FALSE) ) )","v":""},0,null,null,null,{"$f":"IF(TRIM(BH99)=\"\", \"\", IF(VLOOKUP(BH99,'Footnotes list'!$D$9:$E$58,2,FALSE)=0,\"\",VLOOKUP(BH99,'Footnotes list'!$D$9:$E$58,2,FALSE) ) )","v":""},0,null,null,null,{"$f":"IF(TRIM(BM99)=\"\", \"\", IF(VLOOKUP(BM99,'Footnotes list'!$D$9:$E$58,2,FALSE)=0,\"\",VLOOKUP(BM99,'Footnotes list'!$D$9:$E$58,2,FALSE) ) )","v":""},{"$f":"IF(AND(TRIM(Q99)=\"\",TRIM(V99)=\"\",TRIM(AA99)=\"\", TRIM(AF99)=\"\", TRIM(AK99)=\"\", TRIM(AP99)=\"\", TRIM(AU99)=\"\", TRIM(AZ99)=\"\", TRIM(BE99)=\"\", TRIM(BJ99)=\"\"),\"\",Q99+V99+AA99+AF99+AK99+AP99+AU99+AZ99+BE99+BJ99)","v":0},null,null,null,{"$f":"IF(TRIM(BR99)=\"\", \"\", IF(VLOOKUP(BR99,'Footnotes list'!$D$9:$E$58,2,FALSE)=0,\"\",VLOOKUP(BR99,'Footnotes list'!$D$9:$E$58,2,FALSE) ) )","v":""},0,null,null,null,{"$f":"IF(TRIM(BW99)=\"\", \"\", IF(VLOOKUP(BW99,'Footnotes list'!$D$9:$E$58,2,FALSE)=0,\"\",VLOOKUP(BW99,'Footnotes list'!$D$9:$E$58,2,FALSE) ) )","v":""},0,null,null,null,{"$f":"IF(TRIM(CB99)=\"\", \"\", IF(VLOOKUP(CB99,'Footnotes list'!$D$9:$E$58,2,FALSE)=0,\"\",VLOOKUP(CB99,'Footnotes list'!$D$9:$E$58,2,FALSE) ) )","v":""},381.15,null,null,null,{"$f":"IF(TRIM(CG99)=\"\", \"\", IF(VLOOKUP(CG99,'Footnotes list'!$D$9:$E$58,2,FALSE)=0,\"\",VLOOKUP(CG99,'Footnotes list'!$D$9:$E$58,2,FALSE) ) )","v":""},{"$f":"IF(AND(TRIM(BY99)=\"\",TRIM(CD99)=\"\"),\"\",BY99+CD99)","v":381.15},null,null,null,{"$f":"IF(TRIM(CL99)=\"\", \"\", IF(VLOOKUP(CL99,'Footnotes list'!$D$9:$E$58,2,FALSE)=0,\"\",VLOOKUP(CL99,'Footnotes list'!$D$9:$E$58,2,FALSE) ) )","v":""},850853.2,null,null,null,{"$f":"IF(TRIM(CQ99)=\"\", \"\", IF(VLOOKUP(CQ99,'Footnotes list'!$D$9:$E$58,2,FALSE)=0,\"\",VLOOKUP(CQ99,'Footnotes list'!$D$9:$E$58,2,FALSE) ) )","v":""},0,null,null,null,{"$f":"IF(TRIM(CV99)=\"\", \"\", IF(VLOOKUP(CV99,'Footnotes list'!$D$9:$E$58,2,FALSE)=0,\"\",VLOOKUP(CV99,'Footnotes list'!$D$9:$E$58,2,FALSE) ) )","v":""},0,null,null,null,{"$f":"IF(TRIM(DA99)=\"\", \"\", IF(VLOOKUP(DA99,'Footnotes list'!$D$9:$E$58,2,FALSE)=0,\"\",VLOOKUP(DA99,'Footnotes list'!$D$9:$E$58,2,FALSE) ) )","v":""},14.29,null,null,null,{"$f":"IF(TRIM(DF99)=\"\", \"\", IF(VLOOKUP(DF99,'Footnotes list'!$D$9:$E$58,2,FALSE)=0,\"\",VLOOKUP(DF99,'Footnotes list'!$D$9:$E$58,2,FALSE) ) )","v":""},{"$f":"IF(AND(TRIM(G99)=\"\",TRIM(L99)=\"\",TRIM(BO99)=\"\",TRIM(BT99)=\"\",TRIM(CI99)=\"\",TRIM(CN99)=\"\",TRIM(CS99)=\"\",TRIM(CX99)=\"\",TRIM(DC99)=\"\"),\"\",SUM(G99,L99,BO99,BT99,CI99,CN99,CS99,CX99,DC99))","v":851248.64000000001},null,null,null,{"$f":"IF(TRIM(DK99)=\"\", \"\", IF(VLOOKUP(DK99,'Footnotes list'!$D$9:$E$58,2,FALSE)=0,\"\",VLOOKUP(DK99,'Footnotes list'!$D$9:$E$58,2,FALSE) ) )","v":""}]
[null,null,"W126",null,"HAZ_NHAZ","Total",{"$f":"IF(AND(TRIM(G98)=\"\",TRIM(G99)=\"\"),\"\",G98+G99)","v":0},null,null,null,{"$f":"IF(TRIM(J100)=\"\", \"\", IF(VLOOKUP(J100,'Footnotes list'!$D$9:$E$58,2,FALSE)=0,\"\",VLOOKUP(J100,'Footnotes list'!$D$9:$E$58,2,FALSE) ) )","v":""},{"$f":"IF(AND(TRIM(L98)=\"\",TRIM(L99)=\"\"),\"\",L98+L99)","v":16.760000000000002},null,null,null,{"$f":"IF(TRIM(O100)=\"\", \"\", IF(VLOOKUP(O100,'Footnotes list'!$D$9:$E$58,2,FALSE)=0,\"\",VLOOKUP(O100,'Footnotes list'!$D$9:$E$58,2,FALSE) ) )","v":""},{"$f":"IF(AND(TRIM(Q98)=\"\",TRIM(Q99)=\"\"),\"\",Q98+Q99)","v":0},null,null,null,{"$f":"IF(TRIM(T100)=\"\", \"\", IF(VLOOKUP(T100,'Footnotes list'!$D$9:$E$58,2,FALSE)=0,\"\",VLOOKUP(T100,'Footnotes list'!$D$9:$E$58,2,FALSE) ) )","v":""},{"$f":"IF(AND(TRIM(V98)=\"\",TRIM(V99)=\"\"),\"\",V98+V99)","v":0},null,null,null,{"$f":"IF(TRIM(Y100)=\"\", \"\", IF(VLOOKUP(Y100,'Footnotes list'!$D$9:$E$58,2,FALSE)=0,\"\",VLOOKUP(Y100,'Footnotes list'!$D$9:$E$58,2,FALSE) ) )","v":""},{"$f":"IF(AND(TRIM(AA98)=\"\",TRIM(AA99)=\"\"),\"\",AA98+AA99)","v":0},null,null,null,{"$f":"IF(TRIM(AD100)=\"\", \"\", IF(VLOOKUP(AD100,'Footnotes list'!$D$9:$E$58,2,FALSE)=0,\"\",VLOOKUP(AD100,'Footnotes list'!$D$9:$E$58,2,FALSE) ) )","v":""},{"$f":"IF(AND(TRIM(AF98)=\"\",TRIM(AF99)=\"\"),\"\",AF98+AF99)","v":0},null,null,null,{"$f":"IF(TRIM(AI100)=\"\", \"\", IF(VLOOKUP(AI100,'Footnotes list'!$D$9:$E$58,2,FALSE)=0,\"\",VLOOKUP(AI100,'Footnotes list'!$D$9:$E$58,2,FALSE) ) )","v":""},{"$f":"IF(AND(TRIM(AK98)=\"\",TRIM(AK99)=\"\"),\"\",AK98+AK99)","v":0},null,null,null,{"$f":"IF(TRIM(AN100)=\"\", \"\", IF(VLOOKUP(AN100,'Footnotes list'!$D$9:$E$58,2,FALSE)=0,\"\",VLOOKUP(AN100,'Footnotes list'!$D$9:$E$58,2,FALSE) ) )","v":""},{"$f":"IF(AND(TRIM(AP98)=\"\",TRIM(AP99)=\"\"),\"\",AP98+AP99)","v":0},null,null,null,{"$f":"IF(TRIM(AS100)=\"\", \"\", IF(VLOOKUP(AS100,'Footnotes list'!$D$9:$E$58,2,FALSE)=0,\"\",VLOOKUP(AS100,'Footnotes list'!$D$9:$E$58,2,FALSE) ) )","v":""},{"$f":"IF(AND(TRIM(AU98)=\"\",TRIM(AU99)=\"\"),\"\",AU98+AU99)","v":0},null,null,null,{"$f":"IF(TRIM(AX100)=\"\", \"\", IF(VLOOKUP(AX100,'Footnotes list'!$D$9:$E$58,2,FALSE)=0,\"\",VLOOKUP(AX100,'Footnotes list'!$D$9:$E$58,2,FALSE) ) )","v":""},{"$f":"IF(AND(TRIM(AZ98)=\"\",TRIM(AZ99)=\"\"),\"\",AZ98+AZ99)","v":0},null,null,null,{"$f":"IF(TRIM(BC100)=\"\", \"\", IF(VLOOKUP(BC100,'Footnotes list'!$D$9:$E$58,2,FALSE)=0,\"\",VLOOKUP(BC100,'Footnotes list'!$D$9:$E$58,2,FALSE) ) )","v":""},{"$f":"IF(AND(TRIM(BE98)=\"\",TRIM(BE99)=\"\"),\"\",BE98+BE99)","v":0},null,null,null,{"$f":"IF(TRIM(BH100)=\"\", \"\", IF(VLOOKUP(BH100,'Footnotes list'!$D$9:$E$58,2,FALSE)=0,\"\",VLOOKUP(BH100,'Footnotes list'!$D$9:$E$58,2,FALSE) ) )","v":""},{"$f":"IF(AND(TRIM(BJ98)=\"\",TRIM(BJ99)=\"\"),\"\",BJ98+BJ99)","v":0},null,null,null,{"$f":"IF(TRIM(BM100)=\"\", \"\", IF(VLOOKUP(BM100,'Footnotes list'!$D$9:$E$58,2,FALSE)=0,\"\",VLOOKUP(BM100,'Footnotes list'!$D$9:$E$58,2,FALSE) ) )","v":""},{"$f":"IF(AND(TRIM(BO98)=\"\", TRIM(BO99)=\"\"), \"\", (IF(ISNUMBER(BO98),BO98,0)+IF(ISNUMBER(BO99),BO99,0)))","v":0},null,null,null,{"$f":"IF(TRIM(BR100)=\"\", \"\", IF(VLOOKUP(BR100,'Footnotes list'!$D$9:$E$58,2,FALSE)=0,\"\",VLOOKUP(BR100,'Footnotes list'!$D$9:$E$58,2,FALSE) ) )","v":""},{"$f":"IF(AND(TRIM(BT98)=\"\",TRIM(BT99)=\"\"),\"\",BT98+BT99)","v":0},null,null,null,{"$f":"IF(TRIM(BW100)=\"\", \"\", IF(VLOOKUP(BW100,'Footnotes list'!$D$9:$E$58,2,FALSE)=0,\"\",VLOOKUP(BW100,'Footnotes list'!$D$9:$E$58,2,FALSE) ) )","v":""},{"$f":"IF(AND(TRIM(BY98)=\"\",TRIM(BY99)=\"\"),\"\",BY98+BY99)","v":0},null,null,null,{"$f":"IF(TRIM(CB100)=\"\", \"\", IF(VLOOKUP(CB100,'Footnotes list'!$D$9:$E$58,2,FALSE)=0,\"\",VLOOKUP(CB100,'Footnotes list'!$D$9:$E$58,2,FALSE) ) )","v":""},{"$f":"IF(AND(TRIM(CD98)=\"\",TRIM(CD99)=\"\"),\"\",CD98+CD99)","v":381.15},null,null,null,{"$f":"IF(TRIM(CG100)=\"\", \"\", IF(VLOOKUP(CG100,'Footnotes list'!$D$9:$E$58,2,FALSE)=0,\"\",VLOOKUP(CG100,'Footnotes list'!$D$9:$E$58,2,FALSE) ) )","v":""},{"$f":"IF(AND(TRIM(CI98)=\"\", TRIM(CI99)=\"\"), \"\", (IF(ISNUMBER(CI98),CI98,0)+IF(ISNUMBER(CI99),CI99,0)))","v":381.15},null,null,null,{"$f":"IF(TRIM(CL100)=\"\", \"\", IF(VLOOKUP(CL100,'Footnotes list'!$D$9:$E$58,2,FALSE)=0,\"\",VLOOKUP(CL100,'Footnotes list'!$D$9:$E$58,2,FALSE) ) )","v":""},{"$f":"IF(AND(TRIM(CN98)=\"\",TRIM(CN99)=\"\"),\"\",CN98+CN99)","v":855113.3},null,null,null,{"$f":"IF(TRIM(CQ100)=\"\", \"\", IF(VLOOKUP(CQ100,'Footnotes list'!$D$9:$E$58,2,FALSE)=0,\"\",VLOOKUP(CQ100,'Footnotes list'!$D$9:$E$58,2,FALSE) ) )","v":""},{"$f":"IF(AND(TRIM(CS98)=\"\",TRIM(CS99)=\"\"),\"\",CS98+CS99)","v":0.43},null,null,null,{"$f":"IF(TRIM(CV100)=\"\", \"\", IF(VLOOKUP(CV100,'Footnotes list'!$D$9:$E$58,2,FALSE)=0,\"\",VLOOKUP(CV100,'Footnotes list'!$D$9:$E$58,2,FALSE) ) )","v":""},{"$f":"IF(AND(TRIM(CX98)=\"\",TRIM(CX99)=\"\"),\"\",CX98+CX99)","v":0},null,null,null,{"$f":"IF(TRIM(DA100)=\"\", \"\", IF(VLOOKUP(DA100,'Footnotes list'!$D$9:$E$58,2,FALSE)=0,\"\",VLOOKUP(DA100,'Footnotes list'!$D$9:$E$58,2,FALSE) ) )","v":""},{"$f":"IF(AND(TRIM(DC98)=\"\",TRIM(DC99)=\"\"),\"\",DC98+DC99)","v":14.29},null,null,null,{"$f":"IF(TRIM(DF100)=\"\", \"\", IF(VLOOKUP(DF100,'Footnotes list'!$D$9:$E$58,2,FALSE)=0,\"\",VLOOKUP(DF100,'Footnotes list'!$D$9:$E$58,2,FALSE) ) )","v":""},{"$f":"IF(AND(TRIM(DH98)=\"\", TRIM(DH99)=\"\"), \"\", SUM(DH98,DH99) )","v":855525.93},null,null,null,{"$f":"IF(TRIM(DK100)=\"\", \"\", IF(VLOOKUP(DK100,'Footnotes list'!$D$9:$E$58,2,FALSE)=0,\"\",VLOOKUP(DK100,'Footnotes list'!$D$9:$E$58,2,FALSE) ) )","v":""}]
[null,"W127","W127","Dredging spoils ","HAZ","Hazardous ",0,null,null,null,{"$f":"IF(TRIM(J101)=\"\", \"\", IF(VLOOKUP(J101,'Footnotes list'!$D$9:$E$58,2,FALSE)=0,\"\",VLOOKUP(J101,'Footnotes list'!$D$9:$E$58,2,FALSE) ) )","v":""},0,null,null,null,{"$f":"IF(TRIM(O101)=\"\", \"\", IF(VLOOKUP(O101,'Footnotes list'!$D$9:$E$58,2,FALSE)=0,\"\",VLOOKUP(O101,'Footnotes list'!$D$9:$E$58,2,FALSE) ) )","v":""},0,null,null,null,{"$f":"IF(TRIM(T101)=\"\", \"\", IF(VLOOKUP(T101,'Footnotes list'!$D$9:$E$58,2,FALSE)=0,\"\",VLOOKUP(T101,'Footnotes list'!$D$9:$E$58,2,FALSE) ) )","v":""},0,null,null,null,{"$f":"IF(TRIM(Y101)=\"\", \"\", IF(VLOOKUP(Y101,'Footnotes list'!$D$9:$E$58,2,FALSE)=0,\"\",VLOOKUP(Y101,'Footnotes list'!$D$9:$E$58,2,FALSE) ) )","v":""},0,null,null,null,{"$f":"IF(TRIM(AD101)=\"\", \"\", IF(VLOOKUP(AD101,'Footnotes list'!$D$9:$E$58,2,FALSE)=0,\"\",VLOOKUP(AD101,'Footnotes list'!$D$9:$E$58,2,FALSE) ) )","v":""},0,null,null,null,{"$f":"IF(TRIM(AI101)=\"\", \"\", IF(VLOOKUP(AI101,'Footnotes list'!$D$9:$E$58,2,FALSE)=0,\"\",VLOOKUP(AI101,'Footnotes list'!$D$9:$E$58,2,FALSE) ) )","v":""},0,null,null,null,{"$f":"IF(TRIM(AN101)=\"\", \"\", IF(VLOOKUP(AN101,'Footnotes list'!$D$9:$E$58,2,FALSE)=0,\"\",VLOOKUP(AN101,'Footnotes list'!$D$9:$E$58,2,FALSE) ) )","v":""},0,null,null,null,{"$f":"IF(TRIM(AS101)=\"\", \"\", IF(VLOOKUP(AS101,'Footnotes list'!$D$9:$E$58,2,FALSE)=0,\"\",VLOOKUP(AS101,'Footnotes list'!$D$9:$E$58,2,FALSE) ) )","v":""},0,null,null,null,{"$f":"IF(TRIM(AX101)=\"\", \"\", IF(VLOOKUP(AX101,'Footnotes list'!$D$9:$E$58,2,FALSE)=0,\"\",VLOOKUP(AX101,'Footnotes list'!$D$9:$E$58,2,FALSE) ) )","v":""},0,null,null,null,{"$f":"IF(TRIM(BC101)=\"\", \"\", IF(VLOOKUP(BC101,'Footnotes list'!$D$9:$E$58,2,FALSE)=0,\"\",VLOOKUP(BC101,'Footnotes list'!$D$9:$E$58,2,FALSE) ) )","v":""},0,null,null,null,{"$f":"IF(TRIM(BH101)=\"\", \"\", IF(VLOOKUP(BH101,'Footnotes list'!$D$9:$E$58,2,FALSE)=0,\"\",VLOOKUP(BH101,'Footnotes list'!$D$9:$E$58,2,FALSE) ) )","v":""},0,null,null,null,{"$f":"IF(TRIM(BM101)=\"\", \"\", IF(VLOOKUP(BM101,'Footnotes list'!$D$9:$E$58,2,FALSE)=0,\"\",VLOOKUP(BM101,'Footnotes list'!$D$9:$E$58,2,FALSE) ) )","v":""},{"$f":"IF(AND(TRIM(Q101)=\"\",TRIM(V101)=\"\",TRIM(AA101)=\"\", TRIM(AF101)=\"\", TRIM(AK101)=\"\", TRIM(AP101)=\"\", TRIM(AU101)=\"\", TRIM(AZ101)=\"\", TRIM(BE101)=\"\", TRIM(BJ101)=\"\"),\"\",Q101+V101+AA101+AF101+AK101+AP101+AU101+AZ101+BE101+BJ101)","v":0},null,null,null,{"$f":"IF(TRIM(BR101)=\"\", \"\", IF(VLOOKUP(BR101,'Footnotes list'!$D$9:$E$58,2,FALSE)=0,\"\",VLOOKUP(BR101,'Footnotes list'!$D$9:$E$58,2,FALSE) ) )","v":""},0,null,null,null,{"$f":"IF(TRIM(BW101)=\"\", \"\", IF(VLOOKUP(BW101,'Footnotes list'!$D$9:$E$58,2,FALSE)=0,\"\",VLOOKUP(BW101,'Footnotes list'!$D$9:$E$58,2,FALSE) ) )","v":""},0,null,null,null,{"$f":"IF(TRIM(CB101)=\"\", \"\", IF(VLOOKUP(CB101,'Footnotes list'!$D$9:$E$58,2,FALSE)=0,\"\",VLOOKUP(CB101,'Footnotes list'!$D$9:$E$58,2,FALSE) ) )","v":""},0,null,null,null,{"$f":"IF(TRIM(CG101)=\"\", \"\", IF(VLOOKUP(CG101,'Footnotes list'!$D$9:$E$58,2,FALSE)=0,\"\",VLOOKUP(CG101,'Footnotes list'!$D$9:$E$58,2,FALSE) ) )","v":""},{"$f":"IF(AND(TRIM(BY101)=\"\",TRIM(CD101)=\"\"),\"\",BY101+CD101)","v":0},null,null,null,{"$f":"IF(TRIM(CL101)=\"\", \"\", IF(VLOOKUP(CL101,'Footnotes list'!$D$9:$E$58,2,FALSE)=0,\"\",VLOOKUP(CL101,'Footnotes list'!$D$9:$E$58,2,FALSE) ) )","v":""},0,null,null,null,{"$f":"IF(TRIM(CQ101)=\"\", \"\", IF(VLOOKUP(CQ101,'Footnotes list'!$D$9:$E$58,2,FALSE)=0,\"\",VLOOKUP(CQ101,'Footnotes list'!$D$9:$E$58,2,FALSE) ) )","v":""},0,null,null,null,{"$f":"IF(TRIM(CV101)=\"\", \"\", IF(VLOOKUP(CV101,'Footnotes list'!$D$9:$E$58,2,FALSE)=0,\"\",VLOOKUP(CV101,'Footnotes list'!$D$9:$E$58,2,FALSE) ) )","v":""},0,null,null,null,{"$f":"IF(TRIM(DA101)=\"\", \"\", IF(VLOOKUP(DA101,'Footnotes list'!$D$9:$E$58,2,FALSE)=0,\"\",VLOOKUP(DA101,'Footnotes list'!$D$9:$E$58,2,FALSE) ) )","v":""},0,null,null,null,{"$f":"IF(TRIM(DF101)=\"\", \"\", IF(VLOOKUP(DF101,'Footnotes list'!$D$9:$E$58,2,FALSE)=0,\"\",VLOOKUP(DF101,'Footnotes list'!$D$9:$E$58,2,FALSE) ) )","v":""},{"$f":"IF(AND(TRIM(G101)=\"\",TRIM(L101)=\"\",TRIM(BO101)=\"\",TRIM(BT101)=\"\",TRIM(CI101)=\"\",TRIM(CN101)=\"\",TRIM(CS101)=\"\",TRIM(CX101)=\"\",TRIM(DC101)=\"\"),\"\",SUM(G101,L101,BO101,BT101,CI101,CN101,CS101,CX101,DC101))","v":0},null,null,null,{"$f":"IF(TRIM(DK101)=\"\", \"\", IF(VLOOKUP(DK101,'Footnotes list'!$D$9:$E$58,2,FALSE)=0,\"\",VLOOKUP(DK101,'Footnotes list'!$D$9:$E$58,2,FALSE) ) )","v":""}]
[null,null,"W127",null,"NHAZ","Non-hazardous",0,null,null,null,{"$f":"IF(TRIM(J102)=\"\", \"\", IF(VLOOKUP(J102,'Footnotes list'!$D$9:$E$58,2,FALSE)=0,\"\",VLOOKUP(J102,'Footnotes list'!$D$9:$E$58,2,FALSE) ) )","v":""},0,null,null,null,{"$f":"IF(TRIM(O102)=\"\", \"\", IF(VLOOKUP(O102,'Footnotes list'!$D$9:$E$58,2,FALSE)=0,\"\",VLOOKUP(O102,'Footnotes list'!$D$9:$E$58,2,FALSE) ) )","v":""},0,null,null,null,{"$f":"IF(TRIM(T102)=\"\", \"\", IF(VLOOKUP(T102,'Footnotes list'!$D$9:$E$58,2,FALSE)=0,\"\",VLOOKUP(T102,'Footnotes list'!$D$9:$E$58,2,FALSE) ) )","v":""},0,null,null,null,{"$f":"IF(TRIM(Y102)=\"\", \"\", IF(VLOOKUP(Y102,'Footnotes list'!$D$9:$E$58,2,FALSE)=0,\"\",VLOOKUP(Y102,'Footnotes list'!$D$9:$E$58,2,FALSE) ) )","v":""},0,null,null,null,{"$f":"IF(TRIM(AD102)=\"\", \"\", IF(VLOOKUP(AD102,'Footnotes list'!$D$9:$E$58,2,FALSE)=0,\"\",VLOOKUP(AD102,'Footnotes list'!$D$9:$E$58,2,FALSE) ) )","v":""},0,null,null,null,{"$f":"IF(TRIM(AI102)=\"\", \"\", IF(VLOOKUP(AI102,'Footnotes list'!$D$9:$E$58,2,FALSE)=0,\"\",VLOOKUP(AI102,'Footnotes list'!$D$9:$E$58,2,FALSE) ) )","v":""},0,null,null,null,{"$f":"IF(TRIM(AN102)=\"\", \"\", IF(VLOOKUP(AN102,'Footnotes list'!$D$9:$E$58,2,FALSE)=0,\"\",VLOOKUP(AN102,'Footnotes list'!$D$9:$E$58,2,FALSE) ) )","v":""},0,null,null,null,{"$f":"IF(TRIM(AS102)=\"\", \"\", IF(VLOOKUP(AS102,'Footnotes list'!$D$9:$E$58,2,FALSE)=0,\"\",VLOOKUP(AS102,'Footnotes list'!$D$9:$E$58,2,FALSE) ) )","v":""},0,null,null,null,{"$f":"IF(TRIM(AX102)=\"\", \"\", IF(VLOOKUP(AX102,'Footnotes list'!$D$9:$E$58,2,FALSE)=0,\"\",VLOOKUP(AX102,'Footnotes list'!$D$9:$E$58,2,FALSE) ) )","v":""},0,null,null,null,{"$f":"IF(TRIM(BC102)=\"\", \"\", IF(VLOOKUP(BC102,'Footnotes list'!$D$9:$E$58,2,FALSE)=0,\"\",VLOOKUP(BC102,'Footnotes list'!$D$9:$E$58,2,FALSE) ) )","v":""},0,null,null,null,{"$f":"IF(TRIM(BH102)=\"\", \"\", IF(VLOOKUP(BH102,'Footnotes list'!$D$9:$E$58,2,FALSE)=0,\"\",VLOOKUP(BH102,'Footnotes list'!$D$9:$E$58,2,FALSE) ) )","v":""},0,null,null,null,{"$f":"IF(TRIM(BM102)=\"\", \"\", IF(VLOOKUP(BM102,'Footnotes list'!$D$9:$E$58,2,FALSE)=0,\"\",VLOOKUP(BM102,'Footnotes list'!$D$9:$E$58,2,FALSE) ) )","v":""},{"$f":"IF(AND(TRIM(Q102)=\"\",TRIM(V102)=\"\",TRIM(AA102)=\"\", TRIM(AF102)=\"\", TRIM(AK102)=\"\", TRIM(AP102)=\"\", TRIM(AU102)=\"\", TRIM(AZ102)=\"\", TRIM(BE102)=\"\", TRIM(BJ102)=\"\"),\"\",Q102+V102+AA102+AF102+AK102+AP102+AU102+AZ102+BE102+BJ102)","v":0},null,null,null,{"$f":"IF(TRIM(BR102)=\"\", \"\", IF(VLOOKUP(BR102,'Footnotes list'!$D$9:$E$58,2,FALSE)=0,\"\",VLOOKUP(BR102,'Footnotes list'!$D$9:$E$58,2,FALSE) ) )","v":""},0,null,null,null,{"$f":"IF(TRIM(BW102)=\"\", \"\", IF(VLOOKUP(BW102,'Footnotes list'!$D$9:$E$58,2,FALSE)=0,\"\",VLOOKUP(BW102,'Footnotes list'!$D$9:$E$58,2,FALSE) ) )","v":""},0,null,null,null,{"$f":"IF(TRIM(CB102)=\"\", \"\", IF(VLOOKUP(CB102,'Footnotes list'!$D$9:$E$58,2,FALSE)=0,\"\",VLOOKUP(CB102,'Footnotes list'!$D$9:$E$58,2,FALSE) ) )","v":""},0,null,null,null,{"$f":"IF(TRIM(CG102)=\"\", \"\", IF(VLOOKUP(CG102,'Footnotes list'!$D$9:$E$58,2,FALSE)=0,\"\",VLOOKUP(CG102,'Footnotes list'!$D$9:$E$58,2,FALSE) ) )","v":""},{"$f":"IF(AND(TRIM(BY102)=\"\",TRIM(CD102)=\"\"),\"\",BY102+CD102)","v":0},null,null,null,{"$f":"IF(TRIM(CL102)=\"\", \"\", IF(VLOOKUP(CL102,'Footnotes list'!$D$9:$E$58,2,FALSE)=0,\"\",VLOOKUP(CL102,'Footnotes list'!$D$9:$E$58,2,FALSE) ) )","v":""},0.78400000000000003,null,null,null,{"$f":"IF(TRIM(CQ102)=\"\", \"\", IF(VLOOKUP(CQ102,'Footnotes list'!$D$9:$E$58,2,FALSE)=0,\"\",VLOOKUP(CQ102,'Footnotes list'!$D$9:$E$58,2,FALSE) ) )","v":""},0,null,null,null,{"$f":"IF(TRIM(CV102)=\"\", \"\", IF(VLOOKUP(CV102,'Footnotes list'!$D$9:$E$58,2,FALSE)=0,\"\",VLOOKUP(CV102,'Footnotes list'!$D$9:$E$58,2,FALSE) ) )","v":""},0,null,null,null,{"$f":"IF(TRIM(DA102)=\"\", \"\", IF(VLOOKUP(DA102,'Footnotes list'!$D$9:$E$58,2,FALSE)=0,\"\",VLOOKUP(DA102,'Footnotes list'!$D$9:$E$58,2,FALSE) ) )","v":""},0,null,null,null,{"$f":"IF(TRIM(DF102)=\"\", \"\", IF(VLOOKUP(DF102,'Footnotes list'!$D$9:$E$58,2,FALSE)=0,\"\",VLOOKUP(DF102,'Footnotes list'!$D$9:$E$58,2,FALSE) ) )","v":""},{"$f":"IF(AND(TRIM(G102)=\"\",TRIM(L102)=\"\",TRIM(BO102)=\"\",TRIM(BT102)=\"\",TRIM(CI102)=\"\",TRIM(CN102)=\"\",TRIM(CS102)=\"\",TRIM(CX102)=\"\",TRIM(DC102)=\"\"),\"\",SUM(G102,L102,BO102,BT102,CI102,CN102,CS102,CX102,DC102))","v":0.78400000000000003},null,null,null,{"$f":"IF(TRIM(DK102)=\"\", \"\", IF(VLOOKUP(DK102,'Footnotes list'!$D$9:$E$58,2,FALSE)=0,\"\",VLOOKUP(DK102,'Footnotes list'!$D$9:$E$58,2,FALSE) ) )","v":""}]
[null,null,"W127",null,"HAZ_NHAZ","Total",{"$f":"IF(AND(TRIM(G101)=\"\",TRIM(G102)=\"\"),\"\",G101+G102)","v":0},null,null,null,{"$f":"IF(TRIM(J103)=\"\", \"\", IF(VLOOKUP(J103,'Footnotes list'!$D$9:$E$58,2,FALSE)=0,\"\",VLOOKUP(J103,'Footnotes list'!$D$9:$E$58,2,FALSE) ) )","v":""},{"$f":"IF(AND(TRIM(L101)=\"\",TRIM(L102)=\"\"),\"\",L101+L102)","v":0},null,null,null,{"$f":"IF(TRIM(O103)=\"\", \"\", IF(VLOOKUP(O103,'Footnotes list'!$D$9:$E$58,2,FALSE)=0,\"\",VLOOKUP(O103,'Footnotes list'!$D$9:$E$58,2,FALSE) ) )","v":""},{"$f":"IF(AND(TRIM(Q101)=\"\",TRIM(Q102)=\"\"),\"\",Q101+Q102)","v":0},null,null,null,{"$f":"IF(TRIM(T103)=\"\", \"\", IF(VLOOKUP(T103,'Footnotes list'!$D$9:$E$58,2,FALSE)=0,\"\",VLOOKUP(T103,'Footnotes list'!$D$9:$E$58,2,FALSE) ) )","v":""},{"$f":"IF(AND(TRIM(V101)=\"\",TRIM(V102)=\"\"),\"\",V101+V102)","v":0},null,null,null,{"$f":"IF(TRIM(Y103)=\"\", \"\", IF(VLOOKUP(Y103,'Footnotes list'!$D$9:$E$58,2,FALSE)=0,\"\",VLOOKUP(Y103,'Footnotes list'!$D$9:$E$58,2,FALSE) ) )","v":""},{"$f":"IF(AND(TRIM(AA101)=\"\",TRIM(AA102)=\"\"),\"\",AA101+AA102)","v":0},null,null,null,{"$f":"IF(TRIM(AD103)=\"\", \"\", IF(VLOOKUP(AD103,'Footnotes list'!$D$9:$E$58,2,FALSE)=0,\"\",VLOOKUP(AD103,'Footnotes list'!$D$9:$E$58,2,FALSE) ) )","v":""},{"$f":"IF(AND(TRIM(AF101)=\"\",TRIM(AF102)=\"\"),\"\",AF101+AF102)","v":0},null,null,null,{"$f":"IF(TRIM(AI103)=\"\", \"\", IF(VLOOKUP(AI103,'Footnotes list'!$D$9:$E$58,2,FALSE)=0,\"\",VLOOKUP(AI103,'Footnotes list'!$D$9:$E$58,2,FALSE) ) )","v":""},{"$f":"IF(AND(TRIM(AK101)=\"\",TRIM(AK102)=\"\"),\"\",AK101+AK102)","v":0},null,null,null,{"$f":"IF(TRIM(AN103)=\"\", \"\", IF(VLOOKUP(AN103,'Footnotes list'!$D$9:$E$58,2,FALSE)=0,\"\",VLOOKUP(AN103,'Footnotes list'!$D$9:$E$58,2,FALSE) ) )","v":""},{"$f":"IF(AND(TRIM(AP101)=\"\",TRIM(AP102)=\"\"),\"\",AP101+AP102)","v":0},null,null,null,{"$f":"IF(TRIM(AS103)=\"\", \"\", IF(VLOOKUP(AS103,'Footnotes list'!$D$9:$E$58,2,FALSE)=0,\"\",VLOOKUP(AS103,'Footnotes list'!$D$9:$E$58,2,FALSE) ) )","v":""},{"$f":"IF(AND(TRIM(AU101)=\"\",TRIM(AU102)=\"\"),\"\",AU101+AU102)","v":0},null,null,null,{"$f":"IF(TRIM(AX103)=\"\", \"\", IF(VLOOKUP(AX103,'Footnotes list'!$D$9:$E$58,2,FALSE)=0,\"\",VLOOKUP(AX103,'Footnotes list'!$D$9:$E$58,2,FALSE) ) )","v":""},{"$f":"IF(AND(TRIM(AZ101)=\"\",TRIM(AZ102)=\"\"),\"\",AZ101+AZ102)","v":0},null,null,null,{"$f":"IF(TRIM(BC103)=\"\", \"\", IF(VLOOKUP(BC103,'Footnotes list'!$D$9:$E$58,2,FALSE)=0,\"\",VLOOKUP(BC103,'Footnotes list'!$D$9:$E$58,2,FALSE) ) )","v":""},{"$f":"IF(AND(TRIM(BE101)=\"\",TRIM(BE102)=\"\"),\"\",BE101+BE102)","v":0},null,null,null,{"$f":"IF(TRIM(BH103)=\"\", \"\", IF(VLOOKUP(BH103,'Footnotes list'!$D$9:$E$58,2,FALSE)=0,\"\",VLOOKUP(BH103,'Footnotes list'!$D$9:$E$58,2,FALSE) ) )","v":""},{"$f":"IF(AND(TRIM(BJ101)=\"\",TRIM(BJ102)=\"\"),\"\",BJ101+BJ102)","v":0},null,null,null,{"$f":"IF(TRIM(BM103)=\"\", \"\", IF(VLOOKUP(BM103,'Footnotes list'!$D$9:$E$58,2,FALSE)=0,\"\",VLOOKUP(BM103,'Footnotes list'!$D$9:$E$58,2,FALSE) ) )","v":""},{"$f":"IF(AND(TRIM(BO101)=\"\", TRIM(BO102)=\"\"), \"\", (IF(ISNUMBER(BO101),BO101,0)+IF(ISNUMBER(BO102),BO102,0)))","v":0},null,null,null,{"$f":"IF(TRIM(BR103)=\"\", \"\", IF(VLOOKUP(BR103,'Footnotes list'!$D$9:$E$58,2,FALSE)=0,\"\",VLOOKUP(BR103,'Footnotes list'!$D$9:$E$58,2,FALSE) ) )","v":""},{"$f":"IF(AND(TRIM(BT101)=\"\",TRIM(BT102)=\"\"),\"\",BT101+BT102)","v":0},null,null,null,{"$f":"IF(TRIM(BW103)=\"\", \"\", IF(VLOOKUP(BW103,'Footnotes list'!$D$9:$E$58,2,FALSE)=0,\"\",VLOOKUP(BW103,'Footnotes list'!$D$9:$E$58,2,FALSE) ) )","v":""},{"$f":"IF(AND(TRIM(BY101)=\"\",TRIM(BY102)=\"\"),\"\",BY101+BY102)","v":0},null,null,null,{"$f":"IF(TRIM(CB103)=\"\", \"\", IF(VLOOKUP(CB103,'Footnotes list'!$D$9:$E$58,2,FALSE)=0,\"\",VLOOKUP(CB103,'Footnotes list'!$D$9:$E$58,2,FALSE) ) )","v":""},{"$f":"IF(AND(TRIM(CD101)=\"\",TRIM(CD102)=\"\"),\"\",CD101+CD102)","v":0},null,null,null,{"$f":"IF(TRIM(CG103)=\"\", \"\", IF(VLOOKUP(CG103,'Footnotes list'!$D$9:$E$58,2,FALSE)=0,\"\",VLOOKUP(CG103,'Footnotes list'!$D$9:$E$58,2,FALSE) ) )","v":""},{"$f":"IF(AND(TRIM(CI101)=\"\", TRIM(CI102)=\"\"), \"\", (IF(ISNUMBER(CI101),CI101,0)+IF(ISNUMBER(CI102),CI102,0)))","v":0},null,null,null,{"$f":"IF(TRIM(CL103)=\"\", \"\", IF(VLOOKUP(CL103,'Footnotes list'!$D$9:$E$58,2,FALSE)=0,\"\",VLOOKUP(CL103,'Footnotes list'!$D$9:$E$58,2,FALSE) ) )","v":""},{"$f":"IF(AND(TRIM(CN101)=\"\",TRIM(CN102)=\"\"),\"\",CN101+CN102)","v":0.78400000000000003},null,null,null,{"$f":"IF(TRIM(CQ103)=\"\", \"\", IF(VLOOKUP(CQ103,'Footnotes list'!$D$9:$E$58,2,FALSE)=0,\"\",VLOOKUP(CQ103,'Footnotes list'!$D$9:$E$58,2,FALSE) ) )","v":""},{"$f":"IF(AND(TRIM(CS101)=\"\",TRIM(CS102)=\"\"),\"\",CS101+CS102)","v":0},null,null,null,{"$f":"IF(TRIM(CV103)=\"\", \"\", IF(VLOOKUP(CV103,'Footnotes list'!$D$9:$E$58,2,FALSE)=0,\"\",VLOOKUP(CV103,'Footnotes list'!$D$9:$E$58,2,FALSE) ) )","v":""},{"$f":"IF(AND(TRIM(CX101)=\"\",TRIM(CX102)=\"\"),\"\",CX101+CX102)","v":0},null,null,null,{"$f":"IF(TRIM(DA103)=\"\", \"\", IF(VLOOKUP(DA103,'Footnotes list'!$D$9:$E$58,2,FALSE)=0,\"\",VLOOKUP(DA103,'Footnotes list'!$D$9:$E$58,2,FALSE) ) )","v":""},{"$f":"IF(AND(TRIM(DC101)=\"\",TRIM(DC102)=\"\"),\"\",DC101+DC102)","v":0},null,null,null,{"$f":"IF(TRIM(DF103)=\"\", \"\", IF(VLOOKUP(DF103,'Footnotes list'!$D$9:$E$58,2,FALSE)=0,\"\",VLOOKUP(DF103,'Footnotes list'!$D$9:$E$58,2,FALSE) ) )","v":""},{"$f":"IF(AND(TRIM(DH101)=\"\", TRIM(DH102)=\"\"), \"\", SUM(DH101,DH102) )","v":0.78400000000000003},null,null,null,{"$f":"IF(TRIM(DK103)=\"\", \"\", IF(VLOOKUP(DK103,'Footnotes list'!$D$9:$E$58,2,FALSE)=0,\"\",VLOOKUP(DK103,'Footnotes list'!$D$9:$E$58,2,FALSE) ) )","v":""}]
[null,"W128_13","W128_13","Mineral wastes from waste treatment and stabilised wastes","HAZ","Hazardous ",0,null,null,null,{"$f":"IF(TRIM(J104)=\"\", \"\", IF(VLOOKUP(J104,'Footnotes list'!$D$9:$E$58,2,FALSE)=0,\"\",VLOOKUP(J104,'Footnotes list'!$D$9:$E$58,2,FALSE) ) )","v":""},0,null,null,null,{"$f":"IF(TRIM(O104)=\"\", \"\", IF(VLOOKUP(O104,'Footnotes list'!$D$9:$E$58,2,FALSE)=0,\"\",VLOOKUP(O104,'Footnotes list'!$D$9:$E$58,2,FALSE) ) )","v":""},0,null,null,null,{"$f":"IF(TRIM(T104)=\"\", \"\", IF(VLOOKUP(T104,'Footnotes list'!$D$9:$E$58,2,FALSE)=0,\"\",VLOOKUP(T104,'Footnotes list'!$D$9:$E$58,2,FALSE) ) )","v":""},0,null,null,null,{"$f":"IF(TRIM(Y104)=\"\", \"\", IF(VLOOKUP(Y104,'Footnotes list'!$D$9:$E$58,2,FALSE)=0,\"\",VLOOKUP(Y104,'Footnotes list'!$D$9:$E$58,2,FALSE) ) )","v":""},0,null,null,null,{"$f":"IF(TRIM(AD104)=\"\", \"\", IF(VLOOKUP(AD104,'Footnotes list'!$D$9:$E$58,2,FALSE)=0,\"\",VLOOKUP(AD104,'Footnotes list'!$D$9:$E$58,2,FALSE) ) )","v":""},0,null,null,null,{"$f":"IF(TRIM(AI104)=\"\", \"\", IF(VLOOKUP(AI104,'Footnotes list'!$D$9:$E$58,2,FALSE)=0,\"\",VLOOKUP(AI104,'Footnotes list'!$D$9:$E$58,2,FALSE) ) )","v":""},0,null,null,null,{"$f":"IF(TRIM(AN104)=\"\", \"\", IF(VLOOKUP(AN104,'Footnotes list'!$D$9:$E$58,2,FALSE)=0,\"\",VLOOKUP(AN104,'Footnotes list'!$D$9:$E$58,2,FALSE) ) )","v":""},0,null,null,null,{"$f":"IF(TRIM(AS104)=\"\", \"\", IF(VLOOKUP(AS104,'Footnotes list'!$D$9:$E$58,2,FALSE)=0,\"\",VLOOKUP(AS104,'Footnotes list'!$D$9:$E$58,2,FALSE) ) )","v":""},0,null,null,null,{"$f":"IF(TRIM(AX104)=\"\", \"\", IF(VLOOKUP(AX104,'Footnotes list'!$D$9:$E$58,2,FALSE)=0,\"\",VLOOKUP(AX104,'Footnotes list'!$D$9:$E$58,2,FALSE) ) )","v":""},0,null,null,null,{"$f":"IF(TRIM(BC104)=\"\", \"\", IF(VLOOKUP(BC104,'Footnotes list'!$D$9:$E$58,2,FALSE)=0,\"\",VLOOKUP(BC104,'Footnotes list'!$D$9:$E$58,2,FALSE) ) )","v":""},0,null,null,null,{"$f":"IF(TRIM(BH104)=\"\", \"\", IF(VLOOKUP(BH104,'Footnotes list'!$D$9:$E$58,2,FALSE)=0,\"\",VLOOKUP(BH104,'Footnotes list'!$D$9:$E$58,2,FALSE) ) )","v":""},0.85599999999999998,null,null,null,{"$f":"IF(TRIM(BM104)=\"\", \"\", IF(VLOOKUP(BM104,'Footnotes list'!$D$9:$E$58,2,FALSE)=0,\"\",VLOOKUP(BM104,'Footnotes list'!$D$9:$E$58,2,FALSE) ) )","v":""},{"$f":"IF(AND(TRIM(Q104)=\"\",TRIM(V104)=\"\",TRIM(AA104)=\"\", TRIM(AF104)=\"\", TRIM(AK104)=\"\", TRIM(AP104)=\"\", TRIM(AU104)=\"\", TRIM(AZ104)=\"\", TRIM(BE104)=\"\", TRIM(BJ104)=\"\"),\"\",Q104+V104+AA104+AF104+AK104+AP104+AU104+AZ104+BE104+BJ104)","v":0.85599999999999998},null,null,null,{"$f":"IF(TRIM(BR104)=\"\", \"\", IF(VLOOKUP(BR104,'Footnotes list'!$D$9:$E$58,2,FALSE)=0,\"\",VLOOKUP(BR104,'Footnotes list'!$D$9:$E$58,2,FALSE) ) )","v":""},0,null,null,null,{"$f":"IF(TRIM(BW104)=\"\", \"\", IF(VLOOKUP(BW104,'Footnotes list'!$D$9:$E$58,2,FALSE)=0,\"\",VLOOKUP(BW104,'Footnotes list'!$D$9:$E$58,2,FALSE) ) )","v":""},18,null,null,null,{"$f":"IF(TRIM(CB104)=\"\", \"\", IF(VLOOKUP(CB104,'Footnotes list'!$D$9:$E$58,2,FALSE)=0,\"\",VLOOKUP(CB104,'Footnotes list'!$D$9:$E$58,2,FALSE) ) )","v":""},0,null,null,null,{"$f":"IF(TRIM(CG104)=\"\", \"\", IF(VLOOKUP(CG104,'Footnotes list'!$D$9:$E$58,2,FALSE)=0,\"\",VLOOKUP(CG104,'Footnotes list'!$D$9:$E$58,2,FALSE) ) )","v":""},{"$f":"IF(AND(TRIM(BY104)=\"\",TRIM(CD104)=\"\"),\"\",BY104+CD104)","v":18},null,null,null,{"$f":"IF(TRIM(CL104)=\"\", \"\", IF(VLOOKUP(CL104,'Footnotes list'!$D$9:$E$58,2,FALSE)=0,\"\",VLOOKUP(CL104,'Footnotes list'!$D$9:$E$58,2,FALSE) ) )","v":""},0,null,null,null,{"$f":"IF(TRIM(CQ104)=\"\", \"\", IF(VLOOKUP(CQ104,'Footnotes list'!$D$9:$E$58,2,FALSE)=0,\"\",VLOOKUP(CQ104,'Footnotes list'!$D$9:$E$58,2,FALSE) ) )","v":""},0.14000000000000001,null,null,null,{"$f":"IF(TRIM(CV104)=\"\", \"\", IF(VLOOKUP(CV104,'Footnotes list'!$D$9:$E$58,2,FALSE)=0,\"\",VLOOKUP(CV104,'Footnotes list'!$D$9:$E$58,2,FALSE) ) )","v":""},0,null,null,null,{"$f":"IF(TRIM(DA104)=\"\", \"\", IF(VLOOKUP(DA104,'Footnotes list'!$D$9:$E$58,2,FALSE)=0,\"\",VLOOKUP(DA104,'Footnotes list'!$D$9:$E$58,2,FALSE) ) )","v":""},0,null,null,null,{"$f":"IF(TRIM(DF104)=\"\", \"\", IF(VLOOKUP(DF104,'Footnotes list'!$D$9:$E$58,2,FALSE)=0,\"\",VLOOKUP(DF104,'Footnotes list'!$D$9:$E$58,2,FALSE) ) )","v":""},{"$f":"IF(AND(TRIM(G104)=\"\",TRIM(L104)=\"\",TRIM(BO104)=\"\",TRIM(BT104)=\"\",TRIM(CI104)=\"\",TRIM(CN104)=\"\",TRIM(CS104)=\"\",TRIM(CX104)=\"\",TRIM(DC104)=\"\"),\"\",SUM(G104,L104,BO104,BT104,CI104,CN104,CS104,CX104,DC104))","v":18.995999999999999},null,null,null,{"$f":"IF(TRIM(DK104)=\"\", \"\", IF(VLOOKUP(DK104,'Footnotes list'!$D$9:$E$58,2,FALSE)=0,\"\",VLOOKUP(DK104,'Footnotes list'!$D$9:$E$58,2,FALSE) ) )","v":""}]
[null,null,"W128_13",null,"NHAZ","Non-hazardous",0,null,null,null,{"$f":"IF(TRIM(J105)=\"\", \"\", IF(VLOOKUP(J105,'Footnotes list'!$D$9:$E$58,2,FALSE)=0,\"\",VLOOKUP(J105,'Footnotes list'!$D$9:$E$58,2,FALSE) ) )","v":""},0,null,null,null,{"$f":"IF(TRIM(O105)=\"\", \"\", IF(VLOOKUP(O105,'Footnotes list'!$D$9:$E$58,2,FALSE)=0,\"\",VLOOKUP(O105,'Footnotes list'!$D$9:$E$58,2,FALSE) ) )","v":""},0,null,null,null,{"$f":"IF(TRIM(T105)=\"\", \"\", IF(VLOOKUP(T105,'Footnotes list'!$D$9:$E$58,2,FALSE)=0,\"\",VLOOKUP(T105,'Footnotes list'!$D$9:$E$58,2,FALSE) ) )","v":""},85.68,null,null,null,{"$f":"IF(TRIM(Y105)=\"\", \"\", IF(VLOOKUP(Y105,'Footnotes list'!$D$9:$E$58,2,FALSE)=0,\"\",VLOOKUP(Y105,'Footnotes list'!$D$9:$E$58,2,FALSE) ) )","v":""},0,null,null,null,{"$f":"IF(TRIM(AD105)=\"\", \"\", IF(VLOOKUP(AD105,'Footnotes list'!$D$9:$E$58,2,FALSE)=0,\"\",VLOOKUP(AD105,'Footnotes list'!$D$9:$E$58,2,FALSE) ) )","v":""},0,null,null,null,{"$f":"IF(TRIM(AI105)=\"\", \"\", IF(VLOOKUP(AI105,'Footnotes list'!$D$9:$E$58,2,FALSE)=0,\"\",VLOOKUP(AI105,'Footnotes list'!$D$9:$E$58,2,FALSE) ) )","v":""},0,null,null,null,{"$f":"IF(TRIM(AN105)=\"\", \"\", IF(VLOOKUP(AN105,'Footnotes list'!$D$9:$E$58,2,FALSE)=0,\"\",VLOOKUP(AN105,'Footnotes list'!$D$9:$E$58,2,FALSE) ) )","v":""},0,null,null,null,{"$f":"IF(TRIM(AS105)=\"\", \"\", IF(VLOOKUP(AS105,'Footnotes list'!$D$9:$E$58,2,FALSE)=0,\"\",VLOOKUP(AS105,'Footnotes list'!$D$9:$E$58,2,FALSE) ) )","v":""},0,null,null,null,{"$f":"IF(TRIM(AX105)=\"\", \"\", IF(VLOOKUP(AX105,'Footnotes list'!$D$9:$E$58,2,FALSE)=0,\"\",VLOOKUP(AX105,'Footnotes list'!$D$9:$E$58,2,FALSE) ) )","v":""},2655.3429999999998,null,null,null,{"$f":"IF(TRIM(BC105)=\"\", \"\", IF(VLOOKUP(BC105,'Footnotes list'!$D$9:$E$58,2,FALSE)=0,\"\",VLOOKUP(BC105,'Footnotes list'!$D$9:$E$58,2,FALSE) ) )","v":""},0,null,null,null,{"$f":"IF(TRIM(BH105)=\"\", \"\", IF(VLOOKUP(BH105,'Footnotes list'!$D$9:$E$58,2,FALSE)=0,\"\",VLOOKUP(BH105,'Footnotes list'!$D$9:$E$58,2,FALSE) ) )","v":""},0,null,null,null,{"$f":"IF(TRIM(BM105)=\"\", \"\", IF(VLOOKUP(BM105,'Footnotes list'!$D$9:$E$58,2,FALSE)=0,\"\",VLOOKUP(BM105,'Footnotes list'!$D$9:$E$58,2,FALSE) ) )","v":""},{"$f":"IF(AND(TRIM(Q105)=\"\",TRIM(V105)=\"\",TRIM(AA105)=\"\", TRIM(AF105)=\"\", TRIM(AK105)=\"\", TRIM(AP105)=\"\", TRIM(AU105)=\"\", TRIM(AZ105)=\"\", TRIM(BE105)=\"\", TRIM(BJ105)=\"\"),\"\",Q105+V105+AA105+AF105+AK105+AP105+AU105+AZ105+BE105+BJ105)","v":2741.0230000000001},null,null,null,{"$f":"IF(TRIM(BR105)=\"\", \"\", IF(VLOOKUP(BR105,'Footnotes list'!$D$9:$E$58,2,FALSE)=0,\"\",VLOOKUP(BR105,'Footnotes list'!$D$9:$E$58,2,FALSE) ) )","v":""},0,null,null,null,{"$f":"IF(TRIM(BW105)=\"\", \"\", IF(VLOOKUP(BW105,'Footnotes list'!$D$9:$E$58,2,FALSE)=0,\"\",VLOOKUP(BW105,'Footnotes list'!$D$9:$E$58,2,FALSE) ) )","v":""},498.71300000000002,null,null,null,{"$f":"IF(TRIM(CB105)=\"\", \"\", IF(VLOOKUP(CB105,'Footnotes list'!$D$9:$E$58,2,FALSE)=0,\"\",VLOOKUP(CB105,'Footnotes list'!$D$9:$E$58,2,FALSE) ) )","v":""},70666.962,null,null,null,{"$f":"IF(TRIM(CG105)=\"\", \"\", IF(VLOOKUP(CG105,'Footnotes list'!$D$9:$E$58,2,FALSE)=0,\"\",VLOOKUP(CG105,'Footnotes list'!$D$9:$E$58,2,FALSE) ) )","v":""},{"$f":"IF(AND(TRIM(BY105)=\"\",TRIM(CD105)=\"\"),\"\",BY105+CD105)","v":71165.675000000003},null,null,null,{"$f":"IF(TRIM(CL105)=\"\", \"\", IF(VLOOKUP(CL105,'Footnotes list'!$D$9:$E$58,2,FALSE)=0,\"\",VLOOKUP(CL105,'Footnotes list'!$D$9:$E$58,2,FALSE) ) )","v":""},0,null,null,null,{"$f":"IF(TRIM(CQ105)=\"\", \"\", IF(VLOOKUP(CQ105,'Footnotes list'!$D$9:$E$58,2,FALSE)=0,\"\",VLOOKUP(CQ105,'Footnotes list'!$D$9:$E$58,2,FALSE) ) )","v":""},2224.9070000000002,null,null,null,{"$f":"IF(TRIM(CV105)=\"\", \"\", IF(VLOOKUP(CV105,'Footnotes list'!$D$9:$E$58,2,FALSE)=0,\"\",VLOOKUP(CV105,'Footnotes list'!$D$9:$E$58,2,FALSE) ) )","v":""},0,null,null,null,{"$f":"IF(TRIM(DA105)=\"\", \"\", IF(VLOOKUP(DA105,'Footnotes list'!$D$9:$E$58,2,FALSE)=0,\"\",VLOOKUP(DA105,'Footnotes list'!$D$9:$E$58,2,FALSE) ) )","v":""},0,null,null,null,{"$f":"IF(TRIM(DF105)=\"\", \"\", IF(VLOOKUP(DF105,'Footnotes list'!$D$9:$E$58,2,FALSE)=0,\"\",VLOOKUP(DF105,'Footnotes list'!$D$9:$E$58,2,FALSE) ) )","v":""},{"$f":"IF(AND(TRIM(G105)=\"\",TRIM(L105)=\"\",TRIM(BO105)=\"\",TRIM(BT105)=\"\",TRIM(CI105)=\"\",TRIM(CN105)=\"\",TRIM(CS105)=\"\",TRIM(CX105)=\"\",TRIM(DC105)=\"\"),\"\",SUM(G105,L105,BO105,BT105,CI105,CN105,CS105,CX105,DC105))","v":76131.604999999996},null,null,null,{"$f":"IF(TRIM(DK105)=\"\", \"\", IF(VLOOKUP(DK105,'Footnotes list'!$D$9:$E$58,2,FALSE)=0,\"\",VLOOKUP(DK105,'Footnotes list'!$D$9:$E$58,2,FALSE) ) )","v":""}]
[null,null,"W128_13",null,"HAZ_NHAZ","Total",{"$f":"IF(AND(TRIM(G104)=\"\",TRIM(G105)=\"\"),\"\",G104+G105)","v":0},null,null,null,{"$f":"IF(TRIM(J106)=\"\", \"\", IF(VLOOKUP(J106,'Footnotes list'!$D$9:$E$58,2,FALSE)=0,\"\",VLOOKUP(J106,'Footnotes list'!$D$9:$E$58,2,FALSE) ) )","v":""},{"$f":"IF(AND(TRIM(L104)=\"\",TRIM(L105)=\"\"),\"\",L104+L105)","v":0},null,null,null,{"$f":"IF(TRIM(O106)=\"\", \"\", IF(VLOOKUP(O106,'Footnotes list'!$D$9:$E$58,2,FALSE)=0,\"\",VLOOKUP(O106,'Footnotes list'!$D$9:$E$58,2,FALSE) ) )","v":""},{"$f":"IF(AND(TRIM(Q104)=\"\",TRIM(Q105)=\"\"),\"\",Q104+Q105)","v":0},null,null,null,{"$f":"IF(TRIM(T106)=\"\", \"\", IF(VLOOKUP(T106,'Footnotes list'!$D$9:$E$58,2,FALSE)=0,\"\",VLOOKUP(T106,'Footnotes list'!$D$9:$E$58,2,FALSE) ) )","v":""},{"$f":"IF(AND(TRIM(V104)=\"\",TRIM(V105)=\"\"),\"\",V104+V105)","v":85.68},null,null,null,{"$f":"IF(TRIM(Y106)=\"\", \"\", IF(VLOOKUP(Y106,'Footnotes list'!$D$9:$E$58,2,FALSE)=0,\"\",VLOOKUP(Y106,'Footnotes list'!$D$9:$E$58,2,FALSE) ) )","v":""},{"$f":"IF(AND(TRIM(AA104)=\"\",TRIM(AA105)=\"\"),\"\",AA104+AA105)","v":0},null,null,null,{"$f":"IF(TRIM(AD106)=\"\", \"\", IF(VLOOKUP(AD106,'Footnotes list'!$D$9:$E$58,2,FALSE)=0,\"\",VLOOKUP(AD106,'Footnotes list'!$D$9:$E$58,2,FALSE) ) )","v":""},{"$f":"IF(AND(TRIM(AF104)=\"\",TRIM(AF105)=\"\"),\"\",AF104+AF105)","v":0},null,null,null,{"$f":"IF(TRIM(AI106)=\"\", \"\", IF(VLOOKUP(AI106,'Footnotes list'!$D$9:$E$58,2,FALSE)=0,\"\",VLOOKUP(AI106,'Footnotes list'!$D$9:$E$58,2,FALSE) ) )","v":""},{"$f":"IF(AND(TRIM(AK104)=\"\",TRIM(AK105)=\"\"),\"\",AK104+AK105)","v":0},null,null,null,{"$f":"IF(TRIM(AN106)=\"\", \"\", IF(VLOOKUP(AN106,'Footnotes list'!$D$9:$E$58,2,FALSE)=0,\"\",VLOOKUP(AN106,'Footnotes list'!$D$9:$E$58,2,FALSE) ) )","v":""},{"$f":"IF(AND(TRIM(AP104)=\"\",TRIM(AP105)=\"\"),\"\",AP104+AP105)","v":0},null,null,null,{"$f":"IF(TRIM(AS106)=\"\", \"\", IF(VLOOKUP(AS106,'Footnotes list'!$D$9:$E$58,2,FALSE)=0,\"\",VLOOKUP(AS106,'Footnotes list'!$D$9:$E$58,2,FALSE) ) )","v":""},{"$f":"IF(AND(TRIM(AU104)=\"\",TRIM(AU105)=\"\"),\"\",AU104+AU105)","v":0},null,null,null,{"$f":"IF(TRIM(AX106)=\"\", \"\", IF(VLOOKUP(AX106,'Footnotes list'!$D$9:$E$58,2,FALSE)=0,\"\",VLOOKUP(AX106,'Footnotes list'!$D$9:$E$58,2,FALSE) ) )","v":""},{"$f":"IF(AND(TRIM(AZ104)=\"\",TRIM(AZ105)=\"\"),\"\",AZ104+AZ105)","v":2655.3429999999998},null,null,null,{"$f":"IF(TRIM(BC106)=\"\", \"\", IF(VLOOKUP(BC106,'Footnotes list'!$D$9:$E$58,2,FALSE)=0,\"\",VLOOKUP(BC106,'Footnotes list'!$D$9:$E$58,2,FALSE) ) )","v":""},{"$f":"IF(AND(TRIM(BE104)=\"\",TRIM(BE105)=\"\"),\"\",BE104+BE105)","v":0},null,null,null,{"$f":"IF(TRIM(BH106)=\"\", \"\", IF(VLOOKUP(BH106,'Footnotes list'!$D$9:$E$58,2,FALSE)=0,\"\",VLOOKUP(BH106,'Footnotes list'!$D$9:$E$58,2,FALSE) ) )","v":""},{"$f":"IF(AND(TRIM(BJ104)=\"\",TRIM(BJ105)=\"\"),\"\",BJ104+BJ105)","v":0.85599999999999998},null,null,null,{"$f":"IF(TRIM(BM106)=\"\", \"\", IF(VLOOKUP(BM106,'Footnotes list'!$D$9:$E$58,2,FALSE)=0,\"\",VLOOKUP(BM106,'Footnotes list'!$D$9:$E$58,2,FALSE) ) )","v":""},{"$f":"IF(AND(TRIM(BO104)=\"\", TRIM(BO105)=\"\"), \"\", (IF(ISNUMBER(BO104),BO104,0)+IF(ISNUMBER(BO105),BO105,0)))","v":2741.8789999999999},null,null,null,{"$f":"IF(TRIM(BR106)=\"\", \"\", IF(VLOOKUP(BR106,'Footnotes list'!$D$9:$E$58,2,FALSE)=0,\"\",VLOOKUP(BR106,'Footnotes list'!$D$9:$E$58,2,FALSE) ) )","v":""},{"$f":"IF(AND(TRIM(BT104)=\"\",TRIM(BT105)=\"\"),\"\",BT104+BT105)","v":0},null,null,null,{"$f":"IF(TRIM(BW106)=\"\", \"\", IF(VLOOKUP(BW106,'Footnotes list'!$D$9:$E$58,2,FALSE)=0,\"\",VLOOKUP(BW106,'Footnotes list'!$D$9:$E$58,2,FALSE) ) )","v":""},{"$f":"IF(AND(TRIM(BY104)=\"\",TRIM(BY105)=\"\"),\"\",BY104+BY105)","v":516.71299999999997},null,null,null,{"$f":"IF(TRIM(CB106)=\"\", \"\", IF(VLOOKUP(CB106,'Footnotes list'!$D$9:$E$58,2,FALSE)=0,\"\",VLOOKUP(CB106,'Footnotes list'!$D$9:$E$58,2,FALSE) ) )","v":""},{"$f":"IF(AND(TRIM(CD104)=\"\",TRIM(CD105)=\"\"),\"\",CD104+CD105)","v":70666.962},null,null,null,{"$f":"IF(TRIM(CG106)=\"\", \"\", IF(VLOOKUP(CG106,'Footnotes list'!$D$9:$E$58,2,FALSE)=0,\"\",VLOOKUP(CG106,'Footnotes list'!$D$9:$E$58,2,FALSE) ) )","v":""},{"$f":"IF(AND(TRIM(CI104)=\"\", TRIM(CI105)=\"\"), \"\", (IF(ISNUMBER(CI104),CI104,0)+IF(ISNUMBER(CI105),CI105,0)))","v":71183.675000000003},null,null,null,{"$f":"IF(TRIM(CL106)=\"\", \"\", IF(VLOOKUP(CL106,'Footnotes list'!$D$9:$E$58,2,FALSE)=0,\"\",VLOOKUP(CL106,'Footnotes list'!$D$9:$E$58,2,FALSE) ) )","v":""},{"$f":"IF(AND(TRIM(CN104)=\"\",TRIM(CN105)=\"\"),\"\",CN104+CN105)","v":0},null,null,null,{"$f":"IF(TRIM(CQ106)=\"\", \"\", IF(VLOOKUP(CQ106,'Footnotes list'!$D$9:$E$58,2,FALSE)=0,\"\",VLOOKUP(CQ106,'Footnotes list'!$D$9:$E$58,2,FALSE) ) )","v":""},{"$f":"IF(AND(TRIM(CS104)=\"\",TRIM(CS105)=\"\"),\"\",CS104+CS105)","v":2225.047},null,null,null,{"$f":"IF(TRIM(CV106)=\"\", \"\", IF(VLOOKUP(CV106,'Footnotes list'!$D$9:$E$58,2,FALSE)=0,\"\",VLOOKUP(CV106,'Footnotes list'!$D$9:$E$58,2,FALSE) ) )","v":""},{"$f":"IF(AND(TRIM(CX104)=\"\",TRIM(CX105)=\"\"),\"\",CX104+CX105)","v":0},null,null,null,{"$f":"IF(TRIM(DA106)=\"\", \"\", IF(VLOOKUP(DA106,'Footnotes list'!$D$9:$E$58,2,FALSE)=0,\"\",VLOOKUP(DA106,'Footnotes list'!$D$9:$E$58,2,FALSE) ) )","v":""},{"$f":"IF(AND(TRIM(DC104)=\"\",TRIM(DC105)=\"\"),\"\",DC104+DC105)","v":0},null,null,null,{"$f":"IF(TRIM(DF106)=\"\", \"\", IF(VLOOKUP(DF106,'Footnotes list'!$D$9:$E$58,2,FALSE)=0,\"\",VLOOKUP(DF106,'Footnotes list'!$D$9:$E$58,2,FALSE) ) )","v":""},{"$f":"IF(AND(TRIM(DH104)=\"\", TRIM(DH105)=\"\"), \"\", SUM(DH104,DH105) )","v":76150.600999999995},null,null,null,{"$f":"IF(TRIM(DK106)=\"\", \"\", IF(VLOOKUP(DK106,'Footnotes list'!$D$9:$E$58,2,FALSE)=0,\"\",VLOOKUP(DK106,'Footnotes list'!$D$9:$E$58,2,FALSE) ) )","v":""}]
[null,"PRIM","PRIM","Primary waste","HAZ","Hazardous ",{"$f":"SUM(G8,G11,G14,G17,G20,G26,G29,G32,G35,G38,G41,G44,G47,G50,G53,G56,G59,G62,G65,G68,G71,G74,G77,G80,G86,G89,G92,G95,G98,G101)","v":1101.5160000000001},null,null,null,{"$f":"IF(TRIM(J107)=\"\", \"\", IF(VLOOKUP(J107,'Footnotes list'!$D$9:$E$58,2,FALSE)=0,\"\",VLOOKUP(J107,'Footnotes list'!$D$9:$E$58,2,FALSE) ) )","v":""},{"$f":"SUM(L8,L11,L14,L17,L20,L26,L29,L32,L35,L38,L41,L44,L47,L50,L53,L56,L59,L62,L65,L68,L71,L74,L77,L80,L86,L89,L92,L95,L98,L101)","v":7094.1149999999998},null,null,null,{"$f":"IF(TRIM(O107)=\"\", \"\", IF(VLOOKUP(O107,'Footnotes list'!$D$9:$E$58,2,FALSE)=0,\"\",VLOOKUP(O107,'Footnotes list'!$D$9:$E$58,2,FALSE) ) )","v":""},{"$f":"SUM(Q8,Q11,Q14,Q17,Q20,Q26,Q29,Q32,Q35,Q38,Q41,Q44,Q47,Q50,Q53,Q56,Q59,Q62,Q65,Q68,Q71,Q74,Q77,Q80,Q86,Q89,Q92,Q95,Q98,Q101)","v":997.99199999999996},null,null,null,{"$f":"IF(TRIM(T107)=\"\", \"\", IF(VLOOKUP(T107,'Footnotes list'!$D$9:$E$58,2,FALSE)=0,\"\",VLOOKUP(T107,'Footnotes list'!$D$9:$E$58,2,FALSE) ) )","v":""},{"$f":"SUM(V8,V11,V14,V17,V20,V26,V29,V32,V35,V38,V41,V44,V47,V50,V53,V56,V59,V62,V65,V68,V71,V74,V77,V80,V86,V89,V92,V95,V98,V101)","v":273.80799999999999},null,null,null,{"$f":"IF(TRIM(Y107)=\"\", \"\", IF(VLOOKUP(Y107,'Footnotes list'!$D$9:$E$58,2,FALSE)=0,\"\",VLOOKUP(Y107,'Footnotes list'!$D$9:$E$58,2,FALSE) ) )","v":""},{"$f":"SUM(AA8,AA11,AA14,AA17,AA20,AA26,AA29,AA32,AA35,AA38,AA41,AA44,AA47,AA50,AA53,AA56,AA59,AA62,AA65,AA68,AA71,AA74,AA77,AA80,AA86,AA89,AA92,AA95,AA98,AA101)","v":222.441},null,null,null,{"$f":"IF(TRIM(AD107)=\"\", \"\", IF(VLOOKUP(AD107,'Footnotes list'!$D$9:$E$58,2,FALSE)=0,\"\",VLOOKUP(AD107,'Footnotes list'!$D$9:$E$58,2,FALSE) ) )","v":""},{"$f":"SUM(AF8,AF11,AF14,AF17,AF20,AF26,AF29,AF32,AF35,AF38,AF41,AF44,AF47,AF50,AF53,AF56,AF59,AF62,AF65,AF68,AF71,AF74,AF77,AF80,AF86,AF89,AF92,AF95,AF98,AF101)","v":1481.65},null,null,null,{"$f":"IF(TRIM(AI107)=\"\", \"\", IF(VLOOKUP(AI107,'Footnotes list'!$D$9:$E$58,2,FALSE)=0,\"\",VLOOKUP(AI107,'Footnotes list'!$D$9:$E$58,2,FALSE) ) )","v":""},{"$f":"SUM(AK8,AK11,AK14,AK17,AK20,AK26,AK29,AK32,AK35,AK38,AK41,AK44,AK47,AK50,AK53,AK56,AK59,AK62,AK65,AK68,AK71,AK74,AK77,AK80,AK86,AK89,AK92,AK95,AK98,AK101)","v":3338.3719999999998},null,null,null,{"$f":"IF(TRIM(AN107)=\"\", \"\", IF(VLOOKUP(AN107,'Footnotes list'!$D$9:$E$58,2,FALSE)=0,\"\",VLOOKUP(AN107,'Footnotes list'!$D$9:$E$58,2,FALSE) ) )","v":""},{"$f":"SUM(AP8,AP11,AP14,AP17,AP20,AP26,AP29,AP32,AP35,AP38,AP41,AP44,AP47,AP50,AP53,AP56,AP59,AP62,AP65,AP68,AP71,AP74,AP77,AP80,AP86,AP89,AP92,AP95,AP98,AP101)","v":4174.692},null,null,null,{"$f":"IF(TRIM(AS107)=\"\", \"\", IF(VLOOKUP(AS107,'Footnotes list'!$D$9:$E$58,2,FALSE)=0,\"\",VLOOKUP(AS107,'Footnotes list'!$D$9:$E$58,2,FALSE) ) )","v":""},{"$f":"SUM(AU8,AU11,AU14,AU17,AU20,AU26,AU29,AU32,AU35,AU38,AU41,AU44,AU47,AU50,AU53,AU56,AU59,AU62,AU65,AU68,AU71,AU74,AU77,AU80,AU86,AU89,AU92,AU95,AU98,AU101)","v":1865.0989999999999},null,null,null,{"$f":"IF(TRIM(AX107)=\"\", \"\", IF(VLOOKUP(AX107,'Footnotes list'!$D$9:$E$58,2,FALSE)=0,\"\",VLOOKUP(AX107,'Footnotes list'!$D$9:$E$58,2,FALSE) ) )","v":""},{"$f":"SUM(AZ8,AZ11,AZ14,AZ17,AZ20,AZ26,AZ29,AZ32,AZ35,AZ38,AZ41,AZ44,AZ47,AZ50,AZ53,AZ56,AZ59,AZ62,AZ65,AZ68,AZ71,AZ74,AZ77,AZ80,AZ86,AZ89,AZ92,AZ95,AZ98,AZ101)","v":17530.896000000001},null,null,null,{"$f":"IF(TRIM(BC107)=\"\", \"\", IF(VLOOKUP(BC107,'Footnotes list'!$D$9:$E$58,2,FALSE)=0,\"\",VLOOKUP(BC107,'Footnotes list'!$D$9:$E$58,2,FALSE) ) )","v":""},{"$f":"SUM(BE8,BE11,BE14,BE17,BE20,BE26,BE29,BE32,BE35,BE38,BE41,BE44,BE47,BE50,BE53,BE56,BE59,BE62,BE65,BE68,BE71,BE74,BE77,BE80,BE86,BE89,BE92,BE95,BE98,BE101)","v":5093.5550000000003},null,null,null,{"$f":"IF(TRIM(BH107)=\"\", \"\", IF(VLOOKUP(BH107,'Footnotes list'!$D$9:$E$58,2,FALSE)=0,\"\",VLOOKUP(BH107,'Footnotes list'!$D$9:$E$58,2,FALSE) ) )","v":""},{"$f":"SUM(BJ8,BJ11,BJ14,BJ17,BJ20,BJ26,BJ29,BJ32,BJ35,BJ38,BJ41,BJ44,BJ47,BJ50,BJ53,BJ56,BJ59,BJ62,BJ65,BJ68,BJ71,BJ74,BJ77,BJ80,BJ86,BJ89,BJ92,BJ95,BJ98,BJ101)","v":1692.171},null,null,null,{"$f":"IF(TRIM(BM107)=\"\", \"\", IF(VLOOKUP(BM107,'Footnotes list'!$D$9:$E$58,2,FALSE)=0,\"\",VLOOKUP(BM107,'Footnotes list'!$D$9:$E$58,2,FALSE) ) )","v":""},{"$f":"SUM(BO8,BO11,BO14,BO17,BO20,BO26,BO29,BO32,BO35,BO38,BO41,BO44,BO47,BO50,BO53,BO56,BO59,BO62,BO65,BO68,BO71,BO74,BO77,BO80,BO86,BO89,BO92,BO95,BO98,BO101)","v":36670.675999999999},null,null,null,{"$f":"IF(TRIM(BR107)=\"\", \"\", IF(VLOOKUP(BR107,'Footnotes list'!$D$9:$E$58,2,FALSE)=0,\"\",VLOOKUP(BR107,'Footnotes list'!$D$9:$E$58,2,FALSE) ) )","v":""},{"$f":"SUM(BT8,BT11,BT14,BT17,BT20,BT26,BT29,BT32,BT35,BT38,BT41,BT44,BT47,BT50,BT53,BT56,BT59,BT62,BT65,BT68,BT71,BT74,BT77,BT80,BT86,BT89,BT92,BT95,BT98,BT101)","v":974.10799999999995},null,null,null,{"$f":"IF(TRIM(BW107)=\"\", \"\", IF(VLOOKUP(BW107,'Footnotes list'!$D$9:$E$58,2,FALSE)=0,\"\",VLOOKUP(BW107,'Footnotes list'!$D$9:$E$58,2,FALSE) ) )","v":""},{"$f":"SUM(BY8,BY11,BY14,BY17,BY20,BY26,BY29,BY32,BY35,BY38,BY41,BY44,BY47,BY50,BY53,BY56,BY59,BY62,BY65,BY68,BY71,BY74,BY77,BY80,BY86,BY89,BY92,BY95,BY98,BY101)","v":209.04499999999999},null,null,null,{"$f":"IF(TRIM(CB107)=\"\", \"\", IF(VLOOKUP(CB107,'Footnotes list'!$D$9:$E$58,2,FALSE)=0,\"\",VLOOKUP(CB107,'Footnotes list'!$D$9:$E$58,2,FALSE) ) )","v":""},{"$f":"SUM(CD8,CD11,CD14,CD17,CD20,CD26,CD29,CD32,CD35,CD38,CD41,CD44,CD47,CD50,CD53,CD56,CD59,CD62,CD65,CD68,CD71,CD74,CD77,CD80,CD86,CD89,CD92,CD95,CD98,CD101)","v":4098.1509999999998},null,null,null,{"$f":"IF(TRIM(CG107)=\"\", \"\", IF(VLOOKUP(CG107,'Footnotes list'!$D$9:$E$58,2,FALSE)=0,\"\",VLOOKUP(CG107,'Footnotes list'!$D$9:$E$58,2,FALSE) ) )","v":""},{"$f":"SUM(CI8,CI11,CI14,CI17,CI20,CI26,CI29,CI32,CI35,CI38,CI41,CI44,CI47,CI50,CI53,CI56,CI59,CI62,CI65,CI68,CI71,CI74,CI77,CI80,CI86,CI89,CI92,CI95,CI98,CI101)","v":4307.1959999999999},null,null,null,{"$f":"IF(TRIM(CL107)=\"\", \"\", IF(VLOOKUP(CL107,'Footnotes list'!$D$9:$E$58,2,FALSE)=0,\"\",VLOOKUP(CL107,'Footnotes list'!$D$9:$E$58,2,FALSE) ) )","v":""},{"$f":"SUM(CN8,CN11,CN14,CN17,CN20,CN26,CN29,CN32,CN35,CN38,CN41,CN44,CN47,CN50,CN53,CN56,CN59,CN62,CN65,CN68,CN71,CN74,CN77,CN80,CN86,CN89,CN92,CN95,CN98,CN101)","v":17313.156999999999},null,null,null,{"$f":"IF(TRIM(CQ107)=\"\", \"\", IF(VLOOKUP(CQ107,'Footnotes list'!$D$9:$E$58,2,FALSE)=0,\"\",VLOOKUP(CQ107,'Footnotes list'!$D$9:$E$58,2,FALSE) ) )","v":""},{"$f":"SUM(CS8,CS11,CS14,CS17,CS20,CS26,CS29,CS32,CS35,CS38,CS41,CS44,CS47,CS50,CS53,CS56,CS59,CS62,CS65,CS68,CS71,CS74,CS77,CS80,CS86,CS89,CS92,CS95,CS98,CS101)","v":26144.546999999999},null,null,null,{"$f":"IF(TRIM(CV107)=\"\", \"\", IF(VLOOKUP(CV107,'Footnotes list'!$D$9:$E$58,2,FALSE)=0,\"\",VLOOKUP(CV107,'Footnotes list'!$D$9:$E$58,2,FALSE) ) )","v":""},{"$f":"SUM(CX8,CX11,CX14,CX17,CX20,CX26,CX29,CX32,CX35,CX38,CX41,CX44,CX47,CX50,CX53,CX56,CX59,CX62,CX65,CX68,CX71,CX74,CX77,CX80,CX86,CX89,CX92,CX95,CX98,CX101)","v":33.545000000000002},null,null,null,{"$f":"IF(TRIM(DA107)=\"\", \"\", IF(VLOOKUP(DA107,'Footnotes list'!$D$9:$E$58,2,FALSE)=0,\"\",VLOOKUP(DA107,'Footnotes list'!$D$9:$E$58,2,FALSE) ) )","v":""},{"$f":"SUM(DC8,DC11,DC14,DC17,DC20,DC26,DC29,DC32,DC35,DC38,DC41,DC44,DC47,DC50,DC53,DC56,DC59,DC62,DC65,DC68,DC71,DC74,DC77,DC80,DC86,DC89,DC92,DC95,DC98,DC101)","v":72913.462},null,null,null,{"$f":"IF(TRIM(DF107)=\"\", \"\", IF(VLOOKUP(DF107,'Footnotes list'!$D$9:$E$58,2,FALSE)=0,\"\",VLOOKUP(DF107,'Footnotes list'!$D$9:$E$58,2,FALSE) ) )","v":""},{"$f":"SUM(DH8,DH11,DH14,DH17,DH20,DH26,DH29,DH32,DH35,DH38,DH41,DH44,DH47,DH50,DH53,DH56,DH59,DH62,DH65,DH68,DH71,DH74,DH77,DH80,DH86,DH89,DH92,DH95,DH98,DH101)","v":166552.32199999999},null,null,null,{"$f":"IF(TRIM(DK107)=\"\", \"\", IF(VLOOKUP(DK107,'Footnotes list'!$D$9:$E$58,2,FALSE)=0,\"\",VLOOKUP(DK107,'Footnotes list'!$D$9:$E$58,2,FALSE) ) )","v":""}]
[null,null,"PRIM",null,"NHAZ","Non-hazardous",{"$f":"SUM(G9,G12,G15,G18,G21,G27,G30,G33,G36,G39,G42,G45,G48,G51,G54,G57,G60,G63,G66,G69,G72,G75,G78,G81,G87,G90,G93,G96,G99,G102)","v":476615.71},null,null,null,{"$f":"IF(TRIM(J108)=\"\", \"\", IF(VLOOKUP(J108,'Footnotes list'!$D$9:$E$58,2,FALSE)=0,\"\",VLOOKUP(J108,'Footnotes list'!$D$9:$E$58,2,FALSE) ) )","v":""},{"$f":"SUM(L9,L12,L15,L18,L21,L27,L30,L33,L36,L39,L42,L45,L48,L51,L54,L57,L60,L63,L66,L69,L72,L75,L78,L81,L87,L90,L93,L96,L99,L102)","v":729137.92500000005},null,null,null,{"$f":"IF(TRIM(O108)=\"\", \"\", IF(VLOOKUP(O108,'Footnotes list'!$D$9:$E$58,2,FALSE)=0,\"\",VLOOKUP(O108,'Footnotes list'!$D$9:$E$58,2,FALSE) ) )","v":""},{"$f":"SUM(Q9,Q12,Q15,Q18,Q21,Q27,Q30,Q33,Q36,Q39,Q42,Q45,Q48,Q51,Q54,Q57,Q60,Q63,Q66,Q69,Q72,Q75,Q78,Q81,Q87,Q90,Q93,Q96,Q99,Q102)","v":127021.516},null,null,null,{"$f":"IF(TRIM(T108)=\"\", \"\", IF(VLOOKUP(T108,'Footnotes list'!$D$9:$E$58,2,FALSE)=0,\"\",VLOOKUP(T108,'Footnotes list'!$D$9:$E$58,2,FALSE) ) )","v":""},{"$f":"SUM(V9,V12,V15,V18,V21,V27,V30,V33,V36,V39,V42,V45,V48,V51,V54,V57,V60,V63,V66,V69,V72,V75,V78,V81,V87,V90,V93,V96,V99,V102)","v":9055.5319999999992},null,null,null,{"$f":"IF(TRIM(Y108)=\"\", \"\", IF(VLOOKUP(Y108,'Footnotes list'!$D$9:$E$58,2,FALSE)=0,\"\",VLOOKUP(Y108,'Footnotes list'!$D$9:$E$58,2,FALSE) ) )","v":""},{"$f":"SUM(AA9,AA12,AA15,AA18,AA21,AA27,AA30,AA33,AA36,AA39,AA42,AA45,AA48,AA51,AA54,AA57,AA60,AA63,AA66,AA69,AA72,AA75,AA78,AA81,AA87,AA90,AA93,AA96,AA99,AA102)","v":51063.241000000002},null,null,null,{"$f":"IF(TRIM(AD108)=\"\", \"\", IF(VLOOKUP(AD108,'Footnotes list'!$D$9:$E$58,2,FALSE)=0,\"\",VLOOKUP(AD108,'Footnotes list'!$D$9:$E$58,2,FALSE) ) )","v":""},{"$f":"SUM(AF9,AF12,AF15,AF18,AF21,AF27,AF30,AF33,AF36,AF39,AF42,AF45,AF48,AF51,AF54,AF57,AF60,AF63,AF66,AF69,AF72,AF75,AF78,AF81,AF87,AF90,AF93,AF96,AF99,AF102)","v":70008.600999999995},null,null,null,{"$f":"IF(TRIM(AI108)=\"\", \"\", IF(VLOOKUP(AI108,'Footnotes list'!$D$9:$E$58,2,FALSE)=0,\"\",VLOOKUP(AI108,'Footnotes list'!$D$9:$E$58,2,FALSE) ) )","v":""},{"$f":"SUM(AK9,AK12,AK15,AK18,AK21,AK27,AK30,AK33,AK36,AK39,AK42,AK45,AK48,AK51,AK54,AK57,AK60,AK63,AK66,AK69,AK72,AK75,AK78,AK81,AK87,AK90,AK93,AK96,AK99,AK102)","v":3051.4670000000001},null,null,null,{"$f":"IF(TRIM(AN108)=\"\", \"\", IF(VLOOKUP(AN108,'Footnotes list'!$D$9:$E$58,2,FALSE)=0,\"\",VLOOKUP(AN108,'Footnotes list'!$D$9:$E$58,2,FALSE) ) )","v":""},{"$f":"SUM(AP9,AP12,AP15,AP18,AP21,AP27,AP30,AP33,AP36,AP39,AP42,AP45,AP48,AP51,AP54,AP57,AP60,AP63,AP66,AP69,AP72,AP75,AP78,AP81,AP87,AP90,AP93,AP96,AP99,AP102)","v":38740.953999999998},null,null,null,{"$f":"IF(TRIM(AS108)=\"\", \"\", IF(VLOOKUP(AS108,'Footnotes list'!$D$9:$E$58,2,FALSE)=0,\"\",VLOOKUP(AS108,'Footnotes list'!$D$9:$E$58,2,FALSE) ) )","v":""},{"$f":"SUM(AU9,AU12,AU15,AU18,AU21,AU27,AU30,AU33,AU36,AU39,AU42,AU45,AU48,AU51,AU54,AU57,AU60,AU63,AU66,AU69,AU72,AU75,AU78,AU81,AU87,AU90,AU93,AU96,AU99,AU102)","v":41840.449999999997},null,null,null,{"$f":"IF(TRIM(AX108)=\"\", \"\", IF(VLOOKUP(AX108,'Footnotes list'!$D$9:$E$58,2,FALSE)=0,\"\",VLOOKUP(AX108,'Footnotes list'!$D$9:$E$58,2,FALSE) ) )","v":""},{"$f":"SUM(AZ9,AZ12,AZ15,AZ18,AZ21,AZ27,AZ30,AZ33,AZ36,AZ39,AZ42,AZ45,AZ48,AZ51,AZ54,AZ57,AZ60,AZ63,AZ66,AZ69,AZ72,AZ75,AZ78,AZ81,AZ87,AZ90,AZ93,AZ96,AZ99,AZ102)","v":116350.00199999999},null,null,null,{"$f":"IF(TRIM(BC108)=\"\", \"\", IF(VLOOKUP(BC108,'Footnotes list'!$D$9:$E$58,2,FALSE)=0,\"\",VLOOKUP(BC108,'Footnotes list'!$D$9:$E$58,2,FALSE) ) )","v":""},{"$f":"SUM(BE9,BE12,BE15,BE18,BE21,BE27,BE30,BE33,BE36,BE39,BE42,BE45,BE48,BE51,BE54,BE57,BE60,BE63,BE66,BE69,BE72,BE75,BE78,BE81,BE87,BE90,BE93,BE96,BE99,BE102)","v":36190.665999999997},null,null,null,{"$f":"IF(TRIM(BH108)=\"\", \"\", IF(VLOOKUP(BH108,'Footnotes list'!$D$9:$E$58,2,FALSE)=0,\"\",VLOOKUP(BH108,'Footnotes list'!$D$9:$E$58,2,FALSE) ) )","v":""},{"$f":"SUM(BJ9,BJ12,BJ15,BJ18,BJ21,BJ27,BJ30,BJ33,BJ36,BJ39,BJ42,BJ45,BJ48,BJ51,BJ54,BJ57,BJ60,BJ63,BJ66,BJ69,BJ72,BJ75,BJ78,BJ81,BJ87,BJ90,BJ93,BJ96,BJ99,BJ102)","v":20306.358},null,null,null,{"$f":"IF(TRIM(BM108)=\"\", \"\", IF(VLOOKUP(BM108,'Footnotes list'!$D$9:$E$58,2,FALSE)=0,\"\",VLOOKUP(BM108,'Footnotes list'!$D$9:$E$58,2,FALSE) ) )","v":""},{"$f":"SUM(BO9,BO12,BO15,BO18,BO21,BO27,BO30,BO33,BO36,BO39,BO42,BO45,BO48,BO51,BO54,BO57,BO60,BO63,BO66,BO69,BO72,BO75,BO78,BO81,BO87,BO90,BO93,BO96,BO99,BO102)","v":513628.78700000001},null,null,null,{"$f":"IF(TRIM(BR108)=\"\", \"\", IF(VLOOKUP(BR108,'Footnotes list'!$D$9:$E$58,2,FALSE)=0,\"\",VLOOKUP(BR108,'Footnotes list'!$D$9:$E$58,2,FALSE) ) )","v":""},{"$f":"SUM(BT9,BT12,BT15,BT18,BT21,BT27,BT30,BT33,BT36,BT39,BT42,BT45,BT48,BT51,BT54,BT57,BT60,BT63,BT66,BT69,BT72,BT75,BT78,BT81,BT87,BT90,BT93,BT96,BT99,BT102)","v":54123.928},null,null,null,{"$f":"IF(TRIM(BW108)=\"\", \"\", IF(VLOOKUP(BW108,'Footnotes list'!$D$9:$E$58,2,FALSE)=0,\"\",VLOOKUP(BW108,'Footnotes list'!$D$9:$E$58,2,FALSE) ) )","v":""},{"$f":"SUM(BY9,BY12,BY15,BY18,BY21,BY27,BY30,BY33,BY36,BY39,BY42,BY45,BY48,BY51,BY54,BY57,BY60,BY63,BY66,BY69,BY72,BY75,BY78,BY81,BY87,BY90,BY93,BY96,BY99,BY102)","v":33783.582000000002},null,null,null,{"$f":"IF(TRIM(CB108)=\"\", \"\", IF(VLOOKUP(CB108,'Footnotes list'!$D$9:$E$58,2,FALSE)=0,\"\",VLOOKUP(CB108,'Footnotes list'!$D$9:$E$58,2,FALSE) ) )","v":""},{"$f":"SUM(CD9,CD12,CD15,CD18,CD21,CD27,CD30,CD33,CD36,CD39,CD42,CD45,CD48,CD51,CD54,CD57,CD60,CD63,CD66,CD69,CD72,CD75,CD78,CD81,CD87,CD90,CD93,CD96,CD99,CD102)","v":1285278.2080000001},null,null,null,{"$f":"IF(TRIM(CG108)=\"\", \"\", IF(VLOOKUP(CG108,'Footnotes list'!$D$9:$E$58,2,FALSE)=0,\"\",VLOOKUP(CG108,'Footnotes list'!$D$9:$E$58,2,FALSE) ) )","v":""},{"$f":"SUM(CI9,CI12,CI15,CI18,CI21,CI27,CI30,CI33,CI36,CI39,CI42,CI45,CI48,CI51,CI54,CI57,CI60,CI63,CI66,CI69,CI72,CI75,CI78,CI81,CI87,CI90,CI93,CI96,CI99,CI102)","v":1319061.79},null,null,null,{"$f":"IF(TRIM(CL108)=\"\", \"\", IF(VLOOKUP(CL108,'Footnotes list'!$D$9:$E$58,2,FALSE)=0,\"\",VLOOKUP(CL108,'Footnotes list'!$D$9:$E$58,2,FALSE) ) )","v":""},{"$f":"SUM(CN9,CN12,CN15,CN18,CN21,CN27,CN30,CN33,CN36,CN39,CN42,CN45,CN48,CN51,CN54,CN57,CN60,CN63,CN66,CN69,CN72,CN75,CN78,CN81,CN87,CN90,CN93,CN96,CN99,CN102)","v":2066568.602},null,null,null,{"$f":"IF(TRIM(CQ108)=\"\", \"\", IF(VLOOKUP(CQ108,'Footnotes list'!$D$9:$E$58,2,FALSE)=0,\"\",VLOOKUP(CQ108,'Footnotes list'!$D$9:$E$58,2,FALSE) ) )","v":""},{"$f":"SUM(CS9,CS12,CS15,CS18,CS21,CS27,CS30,CS33,CS36,CS39,CS42,CS45,CS48,CS51,CS54,CS57,CS60,CS63,CS66,CS69,CS72,CS75,CS78,CS81,CS87,CS90,CS93,CS96,CS99,CS102)","v":533264.08600000001},null,null,null,{"$f":"IF(TRIM(CV108)=\"\", \"\", IF(VLOOKUP(CV108,'Footnotes list'!$D$9:$E$58,2,FALSE)=0,\"\",VLOOKUP(CV108,'Footnotes list'!$D$9:$E$58,2,FALSE) ) )","v":""},{"$f":"SUM(CX9,CX12,CX15,CX18,CX21,CX27,CX30,CX33,CX36,CX39,CX42,CX45,CX48,CX51,CX54,CX57,CX60,CX63,CX66,CX69,CX72,CX75,CX78,CX81,CX87,CX90,CX93,CX96,CX99,CX102)","v":30975.73},null,null,null,{"$f":"IF(TRIM(DA108)=\"\", \"\", IF(VLOOKUP(DA108,'Footnotes list'!$D$9:$E$58,2,FALSE)=0,\"\",VLOOKUP(DA108,'Footnotes list'!$D$9:$E$58,2,FALSE) ) )","v":""},{"$f":"SUM(DC9,DC12,DC15,DC18,DC21,DC27,DC30,DC33,DC36,DC39,DC42,DC45,DC48,DC51,DC54,DC57,DC60,DC63,DC66,DC69,DC72,DC75,DC78,DC81,DC87,DC90,DC93,DC96,DC99,DC102)","v":1313611.9450000001},null,null,null,{"$f":"IF(TRIM(DF108)=\"\", \"\", IF(VLOOKUP(DF108,'Footnotes list'!$D$9:$E$58,2,FALSE)=0,\"\",VLOOKUP(DF108,'Footnotes list'!$D$9:$E$58,2,FALSE) ) )","v":""},{"$f":"SUM(DH9,DH12,DH15,DH18,DH21,DH27,DH30,DH33,DH36,DH39,DH42,DH45,DH48,DH51,DH54,DH57,DH60,DH63,DH66,DH69,DH72,DH75,DH78,DH81,DH87,DH90,DH93,DH96,DH99,DH102)","v":7036988.5029999996},null,null,null,{"$f":"IF(TRIM(DK108)=\"\", \"\", IF(VLOOKUP(DK108,'Footnotes list'!$D$9:$E$58,2,FALSE)=0,\"\",VLOOKUP(DK108,'Footnotes list'!$D$9:$E$58,2,FALSE) ) )","v":""}]
[null,null,"PRIM",null,"HAZ_NHAZ","Total",477717.22600000002,null,null,null,{"$f":"IF(TRIM(J109)=\"\", \"\", IF(VLOOKUP(J109,'Footnotes list'!$D$9:$E$58,2,FALSE)=0,\"\",VLOOKUP(J109,'Footnotes list'!$D$9:$E$58,2,FALSE) ) )","v":""},736232.04,null,null,null,{"$f":"IF(TRIM(O109)=\"\", \"\", IF(VLOOKUP(O109,'Footnotes list'!$D$9:$E$58,2,FALSE)=0,\"\",VLOOKUP(O109,'Footnotes list'!$D$9:$E$58,2,FALSE) ) )","v":""},128019.508,null,null,null,{"$f":"IF(TRIM(T109)=\"\", \"\", IF(VLOOKUP(T109,'Footnotes list'!$D$9:$E$58,2,FALSE)=0,\"\",VLOOKUP(T109,'Footnotes list'!$D$9:$E$58,2,FALSE) ) )","v":""},9329.34,null,null,null,{"$f":"IF(TRIM(Y109)=\"\", \"\", IF(VLOOKUP(Y109,'Footnotes list'!$D$9:$E$58,2,FALSE)=0,\"\",VLOOKUP(Y109,'Footnotes list'!$D$9:$E$58,2,FALSE) ) )","v":""},51285.682000000001,null,null,null,{"$f":"IF(TRIM(AD109)=\"\", \"\", IF(VLOOKUP(AD109,'Footnotes list'!$D$9:$E$58,2,FALSE)=0,\"\",VLOOKUP(AD109,'Footnotes list'!$D$9:$E$58,2,FALSE) ) )","v":""},71490.251000000004,null,null,null,{"$f":"IF(TRIM(AI109)=\"\", \"\", IF(VLOOKUP(AI109,'Footnotes list'!$D$9:$E$58,2,FALSE)=0,\"\",VLOOKUP(AI109,'Footnotes list'!$D$9:$E$58,2,FALSE) ) )","v":""},6389.8389999999999,null,null,null,{"$f":"IF(TRIM(AN109)=\"\", \"\", IF(VLOOKUP(AN109,'Footnotes list'!$D$9:$E$58,2,FALSE)=0,\"\",VLOOKUP(AN109,'Footnotes list'!$D$9:$E$58,2,FALSE) ) )","v":""},42915.646000000001,null,null,null,{"$f":"IF(TRIM(AS109)=\"\", \"\", IF(VLOOKUP(AS109,'Footnotes list'!$D$9:$E$58,2,FALSE)=0,\"\",VLOOKUP(AS109,'Footnotes list'!$D$9:$E$58,2,FALSE) ) )","v":""},43705.548999999999,null,null,null,{"$f":"IF(TRIM(AX109)=\"\", \"\", IF(VLOOKUP(AX109,'Footnotes list'!$D$9:$E$58,2,FALSE)=0,\"\",VLOOKUP(AX109,'Footnotes list'!$D$9:$E$58,2,FALSE) ) )","v":""},133880.89799999999,null,null,null,{"$f":"IF(TRIM(BC109)=\"\", \"\", IF(VLOOKUP(BC109,'Footnotes list'!$D$9:$E$58,2,FALSE)=0,\"\",VLOOKUP(BC109,'Footnotes list'!$D$9:$E$58,2,FALSE) ) )","v":""},41284.220999999998,null,null,null,{"$f":"IF(TRIM(BH109)=\"\", \"\", IF(VLOOKUP(BH109,'Footnotes list'!$D$9:$E$58,2,FALSE)=0,\"\",VLOOKUP(BH109,'Footnotes list'!$D$9:$E$58,2,FALSE) ) )","v":""},21998.528999999999,null,null,null,{"$f":"IF(TRIM(BM109)=\"\", \"\", IF(VLOOKUP(BM109,'Footnotes list'!$D$9:$E$58,2,FALSE)=0,\"\",VLOOKUP(BM109,'Footnotes list'!$D$9:$E$58,2,FALSE) ) )","v":""},550299.46299999999,null,null,null,{"$f":"IF(TRIM(BR109)=\"\", \"\", IF(VLOOKUP(BR109,'Footnotes list'!$D$9:$E$58,2,FALSE)=0,\"\",VLOOKUP(BR109,'Footnotes list'!$D$9:$E$58,2,FALSE) ) )","v":""},55098.036,null,null,null,{"$f":"IF(TRIM(BW109)=\"\", \"\", IF(VLOOKUP(BW109,'Footnotes list'!$D$9:$E$58,2,FALSE)=0,\"\",VLOOKUP(BW109,'Footnotes list'!$D$9:$E$58,2,FALSE) ) )","v":""},33992.627,null,null,null,{"$f":"IF(TRIM(CB109)=\"\", \"\", IF(VLOOKUP(CB109,'Footnotes list'!$D$9:$E$58,2,FALSE)=0,\"\",VLOOKUP(CB109,'Footnotes list'!$D$9:$E$58,2,FALSE) ) )","v":""},1289376.3589999999,null,null,null,{"$f":"IF(TRIM(CG109)=\"\", \"\", IF(VLOOKUP(CG109,'Footnotes list'!$D$9:$E$58,2,FALSE)=0,\"\",VLOOKUP(CG109,'Footnotes list'!$D$9:$E$58,2,FALSE) ) )","v":""},1323368.986,null,null,null,{"$f":"IF(TRIM(CL109)=\"\", \"\", IF(VLOOKUP(CL109,'Footnotes list'!$D$9:$E$58,2,FALSE)=0,\"\",VLOOKUP(CL109,'Footnotes list'!$D$9:$E$58,2,FALSE) ) )","v":""},2083881.7590000001,null,null,null,{"$f":"IF(TRIM(CQ109)=\"\", \"\", IF(VLOOKUP(CQ109,'Footnotes list'!$D$9:$E$58,2,FALSE)=0,\"\",VLOOKUP(CQ109,'Footnotes list'!$D$9:$E$58,2,FALSE) ) )","v":""},559408.63300000003,null,null,null,{"$f":"IF(TRIM(CV109)=\"\", \"\", IF(VLOOKUP(CV109,'Footnotes list'!$D$9:$E$58,2,FALSE)=0,\"\",VLOOKUP(CV109,'Footnotes list'!$D$9:$E$58,2,FALSE) ) )","v":""},31009.275000000001,null,null,null,{"$f":"IF(TRIM(DA109)=\"\", \"\", IF(VLOOKUP(DA109,'Footnotes list'!$D$9:$E$58,2,FALSE)=0,\"\",VLOOKUP(DA109,'Footnotes list'!$D$9:$E$58,2,FALSE) ) )","v":""},1386525.4069999999,null,null,null,{"$f":"IF(TRIM(DF109)=\"\", \"\", IF(VLOOKUP(DF109,'Footnotes list'!$D$9:$E$58,2,FALSE)=0,\"\",VLOOKUP(DF109,'Footnotes list'!$D$9:$E$58,2,FALSE) ) )","v":""},7203540.8250000002,null,null,null,{"$f":"IF(TRIM(DK109)=\"\", \"\", IF(VLOOKUP(DK109,'Footnotes list'!$D$9:$E$58,2,FALSE)=0,\"\",VLOOKUP(DK109,'Footnotes list'!$D$9:$E$58,2,FALSE) ) )","v":""}]
[null,"SEC","SEC","Secondary Waste ","HAZ","Hazardous ",{"$f":"SUM(G23,G83,G104)","v":0},null,null,null,{"$f":"IF(TRIM(J110)=\"\", \"\", IF(VLOOKUP(J110,'Footnotes list'!$D$9:$E$58,2,FALSE)=0,\"\",VLOOKUP(J110,'Footnotes list'!$D$9:$E$58,2,FALSE) ) )","v":""},{"$f":"SUM(L23,L83,L104)","v":0},null,null,null,{"$f":"IF(TRIM(O110)=\"\", \"\", IF(VLOOKUP(O110,'Footnotes list'!$D$9:$E$58,2,FALSE)=0,\"\",VLOOKUP(O110,'Footnotes list'!$D$9:$E$58,2,FALSE) ) )","v":""},{"$f":"SUM(Q23,Q83,Q104)","v":70.38},null,null,null,{"$f":"IF(TRIM(T110)=\"\", \"\", IF(VLOOKUP(T110,'Footnotes list'!$D$9:$E$58,2,FALSE)=0,\"\",VLOOKUP(T110,'Footnotes list'!$D$9:$E$58,2,FALSE) ) )","v":""},{"$f":"SUM(V23,V83,V104)","v":2.1999999999999999E-2},null,null,null,{"$f":"IF(TRIM(Y110)=\"\", \"\", IF(VLOOKUP(Y110,'Footnotes list'!$D$9:$E$58,2,FALSE)=0,\"\",VLOOKUP(Y110,'Footnotes list'!$D$9:$E$58,2,FALSE) ) )","v":""},{"$f":"SUM(AA23,AA83,AA104)","v":0},null,null,null,{"$f":"IF(TRIM(AD110)=\"\", \"\", IF(VLOOKUP(AD110,'Footnotes list'!$D$9:$E$58,2,FALSE)=0,\"\",VLOOKUP(AD110,'Footnotes list'!$D$9:$E$58,2,FALSE) ) )","v":""},{"$f":"SUM(AF23,AF83,AF104)","v":0},null,null,null,{"$f":"IF(TRIM(AI110)=\"\", \"\", IF(VLOOKUP(AI110,'Footnotes list'!$D$9:$E$58,2,FALSE)=0,\"\",VLOOKUP(AI110,'Footnotes list'!$D$9:$E$58,2,FALSE) ) )","v":""},{"$f":"SUM(AK23,AK83,AK104)","v":0},null,null,null,{"$f":"IF(TRIM(AN110)=\"\", \"\", IF(VLOOKUP(AN110,'Footnotes list'!$D$9:$E$58,2,FALSE)=0,\"\",VLOOKUP(AN110,'Footnotes list'!$D$9:$E$58,2,FALSE) ) )","v":""},{"$f":"SUM(AP23,AP83,AP104)","v":0},null,null,null,{"$f":"IF(TRIM(AS110)=\"\", \"\", IF(VLOOKUP(AS110,'Footnotes list'!$D$9:$E$58,2,FALSE)=0,\"\",VLOOKUP(AS110,'Footnotes list'!$D$9:$E$58,2,FALSE) ) )","v":""},{"$f":"SUM(AU23,AU83,AU104)","v":0},null,null,null,{"$f":"IF(TRIM(AX110)=\"\", \"\", IF(VLOOKUP(AX110,'Footnotes list'!$D$9:$E$58,2,FALSE)=0,\"\",VLOOKUP(AX110,'Footnotes list'!$D$9:$E$58,2,FALSE) ) )","v":""},{"$f":"SUM(AZ23,AZ83,AZ104)","v":15983.137000000001},null,null,null,{"$f":"IF(TRIM(BC110)=\"\", \"\", IF(VLOOKUP(BC110,'Footnotes list'!$D$9:$E$58,2,FALSE)=0,\"\",VLOOKUP(BC110,'Footnotes list'!$D$9:$E$58,2,FALSE) ) )","v":""},{"$f":"SUM(BE23,BE83,BE104)","v":0},null,null,null,{"$f":"IF(TRIM(BH110)=\"\", \"\", IF(VLOOKUP(BH110,'Footnotes list'!$D$9:$E$58,2,FALSE)=0,\"\",VLOOKUP(BH110,'Footnotes list'!$D$9:$E$58,2,FALSE) ) )","v":""},{"$f":"SUM(BJ23,BJ83,BJ104)","v":0.92},null,null,null,{"$f":"IF(TRIM(BM110)=\"\", \"\", IF(VLOOKUP(BM110,'Footnotes list'!$D$9:$E$58,2,FALSE)=0,\"\",VLOOKUP(BM110,'Footnotes list'!$D$9:$E$58,2,FALSE) ) )","v":""},{"$f":"SUM(BO23,BO83,BO104)","v":16054.459000000001},null,null,null,{"$f":"IF(TRIM(BR110)=\"\", \"\", IF(VLOOKUP(BR110,'Footnotes list'!$D$9:$E$58,2,FALSE)=0,\"\",VLOOKUP(BR110,'Footnotes list'!$D$9:$E$58,2,FALSE) ) )","v":""},{"$f":"SUM(BT23,BT83,BT104)","v":0},null,null,null,{"$f":"IF(TRIM(BW110)=\"\", \"\", IF(VLOOKUP(BW110,'Footnotes list'!$D$9:$E$58,2,FALSE)=0,\"\",VLOOKUP(BW110,'Footnotes list'!$D$9:$E$58,2,FALSE) ) )","v":""},{"$f":"SUM(BY23,BY83,BY104)","v":572.66099999999994},null,null,null,{"$f":"IF(TRIM(CB110)=\"\", \"\", IF(VLOOKUP(CB110,'Footnotes list'!$D$9:$E$58,2,FALSE)=0,\"\",VLOOKUP(CB110,'Footnotes list'!$D$9:$E$58,2,FALSE) ) )","v":""},{"$f":"SUM(CD23,CD83,CD104)","v":1306.1010000000001},null,null,null,{"$f":"IF(TRIM(CG110)=\"\", \"\", IF(VLOOKUP(CG110,'Footnotes list'!$D$9:$E$58,2,FALSE)=0,\"\",VLOOKUP(CG110,'Footnotes list'!$D$9:$E$58,2,FALSE) ) )","v":""},{"$f":"SUM(CI23,CI83,CI104)","v":1878.7619999999999},null,null,null,{"$f":"IF(TRIM(CL110)=\"\", \"\", IF(VLOOKUP(CL110,'Footnotes list'!$D$9:$E$58,2,FALSE)=0,\"\",VLOOKUP(CL110,'Footnotes list'!$D$9:$E$58,2,FALSE) ) )","v":""},{"$f":"SUM(CN23,CN83,CN104)","v":0},null,null,null,{"$f":"IF(TRIM(CQ110)=\"\", \"\", IF(VLOOKUP(CQ110,'Footnotes list'!$D$9:$E$58,2,FALSE)=0,\"\",VLOOKUP(CQ110,'Footnotes list'!$D$9:$E$58,2,FALSE) ) )","v":""},{"$f":"SUM(CS23,CS83,CS104)","v":1743.5730000000001},null,null,null,{"$f":"IF(TRIM(CV110)=\"\", \"\", IF(VLOOKUP(CV110,'Footnotes list'!$D$9:$E$58,2,FALSE)=0,\"\",VLOOKUP(CV110,'Footnotes list'!$D$9:$E$58,2,FALSE) ) )","v":""},{"$f":"SUM(CX23,CX83,CX104)","v":7.94},null,null,null,{"$f":"IF(TRIM(DA110)=\"\", \"\", IF(VLOOKUP(DA110,'Footnotes list'!$D$9:$E$58,2,FALSE)=0,\"\",VLOOKUP(DA110,'Footnotes list'!$D$9:$E$58,2,FALSE) ) )","v":""},{"$f":"SUM(DC23,DC83,DC104)","v":0},null,null,null,{"$f":"IF(TRIM(DF110)=\"\", \"\", IF(VLOOKUP(DF110,'Footnotes list'!$D$9:$E$58,2,FALSE)=0,\"\",VLOOKUP(DF110,'Footnotes list'!$D$9:$E$58,2,FALSE) ) )","v":""},{"$f":"SUM(DH23,DH83,DH104)","v":19684.734},null,null,null,{"$f":"IF(TRIM(DK110)=\"\", \"\", IF(VLOOKUP(DK110,'Footnotes list'!$D$9:$E$58,2,FALSE)=0,\"\",VLOOKUP(DK110,'Footnotes list'!$D$9:$E$58,2,FALSE) ) )","v":""}]
[null,null,"SEC",null,"NHAZ","Non-hazardous",{"$f":"SUM(G24,G84,G105)","v":0},null,null,null,{"$f":"IF(TRIM(J111)=\"\", \"\", IF(VLOOKUP(J111,'Footnotes list'!$D$9:$E$58,2,FALSE)=0,\"\",VLOOKUP(J111,'Footnotes list'!$D$9:$E$58,2,FALSE) ) )","v":""},{"$f":"SUM(L24,L84,L105)","v":0},null,null,null,{"$f":"IF(TRIM(O111)=\"\", \"\", IF(VLOOKUP(O111,'Footnotes list'!$D$9:$E$58,2,FALSE)=0,\"\",VLOOKUP(O111,'Footnotes list'!$D$9:$E$58,2,FALSE) ) )","v":""},{"$f":"SUM(Q24,Q84,Q105)","v":0},null,null,null,{"$f":"IF(TRIM(T111)=\"\", \"\", IF(VLOOKUP(T111,'Footnotes list'!$D$9:$E$58,2,FALSE)=0,\"\",VLOOKUP(T111,'Footnotes list'!$D$9:$E$58,2,FALSE) ) )","v":""},{"$f":"SUM(V24,V84,V105)","v":240.81},null,null,null,{"$f":"IF(TRIM(Y111)=\"\", \"\", IF(VLOOKUP(Y111,'Footnotes list'!$D$9:$E$58,2,FALSE)=0,\"\",VLOOKUP(Y111,'Footnotes list'!$D$9:$E$58,2,FALSE) ) )","v":""},{"$f":"SUM(AA24,AA84,AA105)","v":0},null,null,null,{"$f":"IF(TRIM(AD111)=\"\", \"\", IF(VLOOKUP(AD111,'Footnotes list'!$D$9:$E$58,2,FALSE)=0,\"\",VLOOKUP(AD111,'Footnotes list'!$D$9:$E$58,2,FALSE) ) )","v":""},{"$f":"SUM(AF24,AF84,AF105)","v":0},null,null,null,{"$f":"IF(TRIM(AI111)=\"\", \"\", IF(VLOOKUP(AI111,'Footnotes list'!$D$9:$E$58,2,FALSE)=0,\"\",VLOOKUP(AI111,'Footnotes list'!$D$9:$E$58,2,FALSE) ) )","v":""},{"$f":"SUM(AK24,AK84,AK105)","v":0},null,null,null,{"$f":"IF(TRIM(AN111)=\"\", \"\", IF(VLOOKUP(AN111,'Footnotes list'!$D$9:$E$58,2,FALSE)=0,\"\",VLOOKUP(AN111,'Footnotes list'!$D$9:$E$58,2,FALSE) ) )","v":""},{"$f":"SUM(AP24,AP84,AP105)","v":401.75700000000001},null,null,null,{"$f":"IF(TRIM(AS111)=\"\", \"\", IF(VLOOKUP(AS111,'Footnotes list'!$D$9:$E$58,2,FALSE)=0,\"\",VLOOKUP(AS111,'Footnotes list'!$D$9:$E$58,2,FALSE) ) )","v":""},{"$f":"SUM(AU24,AU84,AU105)","v":1716.96},null,null,null,{"$f":"IF(TRIM(AX111)=\"\", \"\", IF(VLOOKUP(AX111,'Footnotes list'!$D$9:$E$58,2,FALSE)=0,\"\",VLOOKUP(AX111,'Footnotes list'!$D$9:$E$58,2,FALSE) ) )","v":""},{"$f":"SUM(AZ24,AZ84,AZ105)","v":4407.3969999999999},null,null,null,{"$f":"IF(TRIM(BC111)=\"\", \"\", IF(VLOOKUP(BC111,'Footnotes list'!$D$9:$E$58,2,FALSE)=0,\"\",VLOOKUP(BC111,'Footnotes list'!$D$9:$E$58,2,FALSE) ) )","v":""},{"$f":"SUM(BE24,BE84,BE105)","v":40.119999999999997},null,null,null,{"$f":"IF(TRIM(BH111)=\"\", \"\", IF(VLOOKUP(BH111,'Footnotes list'!$D$9:$E$58,2,FALSE)=0,\"\",VLOOKUP(BH111,'Footnotes list'!$D$9:$E$58,2,FALSE) ) )","v":""},{"$f":"SUM(BJ24,BJ84,BJ105)","v":988.17700000000002},null,null,null,{"$f":"IF(TRIM(BM111)=\"\", \"\", IF(VLOOKUP(BM111,'Footnotes list'!$D$9:$E$58,2,FALSE)=0,\"\",VLOOKUP(BM111,'Footnotes list'!$D$9:$E$58,2,FALSE) ) )","v":""},{"$f":"SUM(BO24,BO84,BO105)","v":7795.2209999999995},null,null,null,{"$f":"IF(TRIM(BR111)=\"\", \"\", IF(VLOOKUP(BR111,'Footnotes list'!$D$9:$E$58,2,FALSE)=0,\"\",VLOOKUP(BR111,'Footnotes list'!$D$9:$E$58,2,FALSE) ) )","v":""},{"$f":"SUM(BT24,BT84,BT105)","v":10442.058000000001},null,null,null,{"$f":"IF(TRIM(BW111)=\"\", \"\", IF(VLOOKUP(BW111,'Footnotes list'!$D$9:$E$58,2,FALSE)=0,\"\",VLOOKUP(BW111,'Footnotes list'!$D$9:$E$58,2,FALSE) ) )","v":""},{"$f":"SUM(BY24,BY84,BY105)","v":607.81100000000004},null,null,null,{"$f":"IF(TRIM(CB111)=\"\", \"\", IF(VLOOKUP(CB111,'Footnotes list'!$D$9:$E$58,2,FALSE)=0,\"\",VLOOKUP(CB111,'Footnotes list'!$D$9:$E$58,2,FALSE) ) )","v":""},{"$f":"SUM(CD24,CD84,CD105)","v":536192.01599999995},null,null,null,{"$f":"IF(TRIM(CG111)=\"\", \"\", IF(VLOOKUP(CG111,'Footnotes list'!$D$9:$E$58,2,FALSE)=0,\"\",VLOOKUP(CG111,'Footnotes list'!$D$9:$E$58,2,FALSE) ) )","v":""},{"$f":"SUM(CI24,CI84,CI105)","v":536799.82700000005},null,null,null,{"$f":"IF(TRIM(CL111)=\"\", \"\", IF(VLOOKUP(CL111,'Footnotes list'!$D$9:$E$58,2,FALSE)=0,\"\",VLOOKUP(CL111,'Footnotes list'!$D$9:$E$58,2,FALSE) ) )","v":""},{"$f":"SUM(CN24,CN84,CN105)","v":0},null,null,null,{"$f":"IF(TRIM(CQ111)=\"\", \"\", IF(VLOOKUP(CQ111,'Footnotes list'!$D$9:$E$58,2,FALSE)=0,\"\",VLOOKUP(CQ111,'Footnotes list'!$D$9:$E$58,2,FALSE) ) )","v":""},{"$f":"SUM(CS24,CS84,CS105)","v":12059.834999999999},null,null,null,{"$f":"IF(TRIM(CV111)=\"\", \"\", IF(VLOOKUP(CV111,'Footnotes list'!$D$9:$E$58,2,FALSE)=0,\"\",VLOOKUP(CV111,'Footnotes list'!$D$9:$E$58,2,FALSE) ) )","v":""},{"$f":"SUM(CX24,CX84,CX105)","v":3152.4769999999999},null,null,null,{"$f":"IF(TRIM(DA111)=\"\", \"\", IF(VLOOKUP(DA111,'Footnotes list'!$D$9:$E$58,2,FALSE)=0,\"\",VLOOKUP(DA111,'Footnotes list'!$D$9:$E$58,2,FALSE) ) )","v":""},{"$f":"SUM(DC24,DC84,DC105)","v":0},null,null,null,{"$f":"IF(TRIM(DF111)=\"\", \"\", IF(VLOOKUP(DF111,'Footnotes list'!$D$9:$E$58,2,FALSE)=0,\"\",VLOOKUP(DF111,'Footnotes list'!$D$9:$E$58,2,FALSE) ) )","v":""},{"$f":"SUM(DH24,DH84,DH105)","v":570249.41799999995},null,null,null,{"$f":"IF(TRIM(DK111)=\"\", \"\", IF(VLOOKUP(DK111,'Footnotes list'!$D$9:$E$58,2,FALSE)=0,\"\",VLOOKUP(DK111,'Footnotes list'!$D$9:$E$58,2,FALSE) ) )","v":""}]
[null,null,"SEC",null,"HAZ_NHAZ","Total",0,null,null,null,{"$f":"IF(TRIM(J112)=\"\", \"\", IF(VLOOKUP(J112,'Footnotes list'!$D$9:$E$58,2,FALSE)=0,\"\",VLOOKUP(J112,'Footnotes list'!$D$9:$E$58,2,FALSE) ) )","v":""},0,null,null,null,{"$f":"IF(TRIM(O112)=\"\", \"\", IF(VLOOKUP(O112,'Footnotes list'!$D$9:$E$58,2,FALSE)=0,\"\",VLOOKUP(O112,'Footnotes list'!$D$9:$E$58,2,FALSE) ) )","v":""},70.38,null,null,null,{"$f":"IF(TRIM(T112)=\"\", \"\", IF(VLOOKUP(T112,'Footnotes list'!$D$9:$E$58,2,FALSE)=0,\"\",VLOOKUP(T112,'Footnotes list'!$D$9:$E$58,2,FALSE) ) )","v":""},240.83199999999999,null,null,null,{"$f":"IF(TRIM(Y112)=\"\", \"\", IF(VLOOKUP(Y112,'Footnotes list'!$D$9:$E$58,2,FALSE)=0,\"\",VLOOKUP(Y112,'Footnotes list'!$D$9:$E$58,2,FALSE) ) )","v":""},0,null,null,null,{"$f":"IF(TRIM(AD112)=\"\", \"\", IF(VLOOKUP(AD112,'Footnotes list'!$D$9:$E$58,2,FALSE)=0,\"\",VLOOKUP(AD112,'Footnotes list'!$D$9:$E$58,2,FALSE) ) )","v":""},0,null,null,null,{"$f":"IF(TRIM(AI112)=\"\", \"\", IF(VLOOKUP(AI112,'Footnotes list'!$D$9:$E$58,2,FALSE)=0,\"\",VLOOKUP(AI112,'Footnotes list'!$D$9:$E$58,2,FALSE) ) )","v":""},0,null,null,null,{"$f":"IF(TRIM(AN112)=\"\", \"\", IF(VLOOKUP(AN112,'Footnotes list'!$D$9:$E$58,2,FALSE)=0,\"\",VLOOKUP(AN112,'Footnotes list'!$D$9:$E$58,2,FALSE) ) )","v":""},401.75700000000001,null,null,null,{"$f":"IF(TRIM(AS112)=\"\", \"\", IF(VLOOKUP(AS112,'Footnotes list'!$D$9:$E$58,2,FALSE)=0,\"\",VLOOKUP(AS112,'Footnotes list'!$D$9:$E$58,2,FALSE) ) )","v":""},1716.96,null,null,null,{"$f":"IF(TRIM(AX112)=\"\", \"\", IF(VLOOKUP(AX112,'Footnotes list'!$D$9:$E$58,2,FALSE)=0,\"\",VLOOKUP(AX112,'Footnotes list'!$D$9:$E$58,2,FALSE) ) )","v":""},20390.534,null,null,null,{"$f":"IF(TRIM(BC112)=\"\", \"\", IF(VLOOKUP(BC112,'Footnotes list'!$D$9:$E$58,2,FALSE)=0,\"\",VLOOKUP(BC112,'Footnotes list'!$D$9:$E$58,2,FALSE) ) )","v":""},40.119999999999997,null,null,null,{"$f":"IF(TRIM(BH112)=\"\", \"\", IF(VLOOKUP(BH112,'Footnotes list'!$D$9:$E$58,2,FALSE)=0,\"\",VLOOKUP(BH112,'Footnotes list'!$D$9:$E$58,2,FALSE) ) )","v":""},989.09699999999998,null,null,null,{"$f":"IF(TRIM(BM112)=\"\", \"\", IF(VLOOKUP(BM112,'Footnotes list'!$D$9:$E$58,2,FALSE)=0,\"\",VLOOKUP(BM112,'Footnotes list'!$D$9:$E$58,2,FALSE) ) )","v":""},23849.68,null,null,null,{"$f":"IF(TRIM(BR112)=\"\", \"\", IF(VLOOKUP(BR112,'Footnotes list'!$D$9:$E$58,2,FALSE)=0,\"\",VLOOKUP(BR112,'Footnotes list'!$D$9:$E$58,2,FALSE) ) )","v":""},10442.058000000001,null,null,null,{"$f":"IF(TRIM(BW112)=\"\", \"\", IF(VLOOKUP(BW112,'Footnotes list'!$D$9:$E$58,2,FALSE)=0,\"\",VLOOKUP(BW112,'Footnotes list'!$D$9:$E$58,2,FALSE) ) )","v":""},1180.472,null,null,null,{"$f":"IF(TRIM(CB112)=\"\", \"\", IF(VLOOKUP(CB112,'Footnotes list'!$D$9:$E$58,2,FALSE)=0,\"\",VLOOKUP(CB112,'Footnotes list'!$D$9:$E$58,2,FALSE) ) )","v":""},537498.11699999997,null,null,null,{"$f":"IF(TRIM(CG112)=\"\", \"\", IF(VLOOKUP(CG112,'Footnotes list'!$D$9:$E$58,2,FALSE)=0,\"\",VLOOKUP(CG112,'Footnotes list'!$D$9:$E$58,2,FALSE) ) )","v":""},538678.58900000004,null,null,null,{"$f":"IF(TRIM(CL112)=\"\", \"\", IF(VLOOKUP(CL112,'Footnotes list'!$D$9:$E$58,2,FALSE)=0,\"\",VLOOKUP(CL112,'Footnotes list'!$D$9:$E$58,2,FALSE) ) )","v":""},0,null,null,null,{"$f":"IF(TRIM(CQ112)=\"\", \"\", IF(VLOOKUP(CQ112,'Footnotes list'!$D$9:$E$58,2,FALSE)=0,\"\",VLOOKUP(CQ112,'Footnotes list'!$D$9:$E$58,2,FALSE) ) )","v":""},13803.407999999999,null,null,null,{"$f":"IF(TRIM(CV112)=\"\", \"\", IF(VLOOKUP(CV112,'Footnotes list'!$D$9:$E$58,2,FALSE)=0,\"\",VLOOKUP(CV112,'Footnotes list'!$D$9:$E$58,2,FALSE) ) )","v":""},3160.4169999999999,null,null,null,{"$f":"IF(TRIM(DA112)=\"\", \"\", IF(VLOOKUP(DA112,'Footnotes list'!$D$9:$E$58,2,FALSE)=0,\"\",VLOOKUP(DA112,'Footnotes list'!$D$9:$E$58,2,FALSE) ) )","v":""},0,null,null,null,{"$f":"IF(TRIM(DF112)=\"\", \"\", IF(VLOOKUP(DF112,'Footnotes list'!$D$9:$E$58,2,FALSE)=0,\"\",VLOOKUP(DF112,'Footnotes list'!$D$9:$E$58,2,FALSE) ) )","v":""},589934.152,null,null,null,{"$f":"IF(TRIM(DK112)=\"\", \"\", IF(VLOOKUP(DK112,'Footnotes list'!$D$9:$E$58,2,FALSE)=0,\"\",VLOOKUP(DK112,'Footnotes list'!$D$9:$E$58,2,FALSE) ) )","v":""}]
[null,"TOT_X_MIN","TOT_X_MIN","Total Waste (excluding mineral waste)","HAZ","Hazardous ",{"$f":"SUM(G8,G11,G14,G17,G20,G23,G26,G29,G32,G35,G38,G41,G44,G47,G50,G53,G56,G59,G62,G65,G68,G71,G74,G77,G80,G83,G86,G95,G104)","v":1089.8440000000001},null,null,null,{"$f":"IF(TRIM(J113)=\"\", \"\", IF(VLOOKUP(J113,'Footnotes list'!$D$9:$E$58,2,FALSE)=0,\"\",VLOOKUP(J113,'Footnotes list'!$D$9:$E$58,2,FALSE) ) )","v":""},{"$f":"SUM(L8,L11,L14,L17,L20,L23,L26,L29,L32,L35,L38,L41,L44,L47,L50,L53,L56,L59,L62,L65,L68,L71,L74,L77,L80,L83,L86,L95,L104)","v":1916.4010000000001},null,null,null,{"$f":"IF(TRIM(O113)=\"\", \"\", IF(VLOOKUP(O113,'Footnotes list'!$D$9:$E$58,2,FALSE)=0,\"\",VLOOKUP(O113,'Footnotes list'!$D$9:$E$58,2,FALSE) ) )","v":""},{"$f":"SUM(Q8,Q11,Q14,Q17,Q20,Q23,Q26,Q29,Q32,Q35,Q38,Q41,Q44,Q47,Q50,Q53,Q56,Q59,Q62,Q65,Q68,Q71,Q74,Q77,Q80,Q83,Q86,Q95,Q104)","v":1067.461},null,null,null,{"$f":"IF(TRIM(T113)=\"\", \"\", IF(VLOOKUP(T113,'Footnotes list'!$D$9:$E$58,2,FALSE)=0,\"\",VLOOKUP(T113,'Footnotes list'!$D$9:$E$58,2,FALSE) ) )","v":""},{"$f":"SUM(V8,V11,V14,V17,V20,V23,V26,V29,V32,V35,V38,V41,V44,V47,V50,V53,V56,V59,V62,V65,V68,V71,V74,V77,V80,V83,V86,V95,V104)","v":272.23099999999999},null,null,null,{"$f":"IF(TRIM(Y113)=\"\", \"\", IF(VLOOKUP(Y113,'Footnotes list'!$D$9:$E$58,2,FALSE)=0,\"\",VLOOKUP(Y113,'Footnotes list'!$D$9:$E$58,2,FALSE) ) )","v":""},{"$f":"SUM(AA8,AA11,AA14,AA17,AA20,AA23,AA26,AA29,AA32,AA35,AA38,AA41,AA44,AA47,AA50,AA53,AA56,AA59,AA62,AA65,AA68,AA71,AA74,AA77,AA80,AA83,AA86,AA95,AA104)","v":219.012},null,null,null,{"$f":"IF(TRIM(AD113)=\"\", \"\", IF(VLOOKUP(AD113,'Footnotes list'!$D$9:$E$58,2,FALSE)=0,\"\",VLOOKUP(AD113,'Footnotes list'!$D$9:$E$58,2,FALSE) ) )","v":""},{"$f":"SUM(AF8,AF11,AF14,AF17,AF20,AF23,AF26,AF29,AF32,AF35,AF38,AF41,AF44,AF47,AF50,AF53,AF56,AF59,AF62,AF65,AF68,AF71,AF74,AF77,AF80,AF83,AF86,AF95,AF104)","v":1481.434},null,null,null,{"$f":"IF(TRIM(AI113)=\"\", \"\", IF(VLOOKUP(AI113,'Footnotes list'!$D$9:$E$58,2,FALSE)=0,\"\",VLOOKUP(AI113,'Footnotes list'!$D$9:$E$58,2,FALSE) ) )","v":""},{"$f":"SUM(AK8,AK11,AK14,AK17,AK20,AK23,AK26,AK29,AK32,AK35,AK38,AK41,AK44,AK47,AK50,AK53,AK56,AK59,AK62,AK65,AK68,AK71,AK74,AK77,AK80,AK83,AK86,AK95,AK104)","v":3338.3719999999998},null,null,null,{"$f":"IF(TRIM(AN113)=\"\", \"\", IF(VLOOKUP(AN113,'Footnotes list'!$D$9:$E$58,2,FALSE)=0,\"\",VLOOKUP(AN113,'Footnotes list'!$D$9:$E$58,2,FALSE) ) )","v":""},{"$f":"SUM(AP8,AP11,AP14,AP17,AP20,AP23,AP26,AP29,AP32,AP35,AP38,AP41,AP44,AP47,AP50,AP53,AP56,AP59,AP62,AP65,AP68,AP71,AP74,AP77,AP80,AP83,AP86,AP95,AP104)","v":4166.4679999999998},null,null,null,{"$f":"IF(TRIM(AS113)=\"\", \"\", IF(VLOOKUP(AS113,'Footnotes list'!$D$9:$E$58,2,FALSE)=0,\"\",VLOOKUP(AS113,'Footnotes list'!$D$9:$E$58,2,FALSE) ) )","v":""},{"$f":"SUM(AU8,AU11,AU14,AU17,AU20,AU23,AU26,AU29,AU32,AU35,AU38,AU41,AU44,AU47,AU50,AU53,AU56,AU59,AU62,AU65,AU68,AU71,AU74,AU77,AU80,AU83,AU86,AU95,AU104)","v":1822.095},null,null,null,{"$f":"IF(TRIM(AX113)=\"\", \"\", IF(VLOOKUP(AX113,'Footnotes list'!$D$9:$E$58,2,FALSE)=0,\"\",VLOOKUP(AX113,'Footnotes list'!$D$9:$E$58,2,FALSE) ) )","v":""},{"$f":"SUM(AZ8,AZ11,AZ14,AZ17,AZ20,AZ23,AZ26,AZ29,AZ32,AZ35,AZ38,AZ41,AZ44,AZ47,AZ50,AZ53,AZ56,AZ59,AZ62,AZ65,AZ68,AZ71,AZ74,AZ77,AZ80,AZ83,AZ86,AZ95,AZ104)","v":33454.254999999997},null,null,null,{"$f":"IF(TRIM(BC113)=\"\", \"\", IF(VLOOKUP(BC113,'Footnotes list'!$D$9:$E$58,2,FALSE)=0,\"\",VLOOKUP(BC113,'Footnotes list'!$D$9:$E$58,2,FALSE) ) )","v":""},{"$f":"SUM(BE8,BE11,BE14,BE17,BE20,BE23,BE26,BE29,BE32,BE35,BE38,BE41,BE44,BE47,BE50,BE53,BE56,BE59,BE62,BE65,BE68,BE71,BE74,BE77,BE80,BE83,BE86,BE95,BE104)","v":5057.8140000000003},null,null,null,{"$f":"IF(TRIM(BH113)=\"\", \"\", IF(VLOOKUP(BH113,'Footnotes list'!$D$9:$E$58,2,FALSE)=0,\"\",VLOOKUP(BH113,'Footnotes list'!$D$9:$E$58,2,FALSE) ) )","v":""},{"$f":"SUM(BJ8,BJ11,BJ14,BJ17,BJ20,BJ23,BJ26,BJ29,BJ32,BJ35,BJ38,BJ41,BJ44,BJ47,BJ50,BJ53,BJ56,BJ59,BJ62,BJ65,BJ68,BJ71,BJ74,BJ77,BJ80,BJ83,BJ86,BJ95,BJ104)","v":1570.9659999999999},null,null,null,{"$f":"IF(TRIM(BM113)=\"\", \"\", IF(VLOOKUP(BM113,'Footnotes list'!$D$9:$E$58,2,FALSE)=0,\"\",VLOOKUP(BM113,'Footnotes list'!$D$9:$E$58,2,FALSE) ) )","v":""},{"$f":"SUM(BO8,BO11,BO14,BO17,BO20,BO23,BO26,BO29,BO32,BO35,BO38,BO41,BO44,BO47,BO50,BO53,BO56,BO59,BO62,BO65,BO68,BO71,BO74,BO77,BO80,BO83,BO86,BO95,BO104)","v":52450.108},null,null,null,{"$f":"IF(TRIM(BR113)=\"\", \"\", IF(VLOOKUP(BR113,'Footnotes list'!$D$9:$E$58,2,FALSE)=0,\"\",VLOOKUP(BR113,'Footnotes list'!$D$9:$E$58,2,FALSE) ) )","v":""},{"$f":"SUM(BT8,BT11,BT14,BT17,BT20,BT23,BT26,BT29,BT32,BT35,BT38,BT41,BT44,BT47,BT50,BT53,BT56,BT59,BT62,BT65,BT68,BT71,BT74,BT77,BT80,BT83,BT86,BT95,BT104)","v":974.08500000000004},null,null,null,{"$f":"IF(TRIM(BW113)=\"\", \"\", IF(VLOOKUP(BW113,'Footnotes list'!$D$9:$E$58,2,FALSE)=0,\"\",VLOOKUP(BW113,'Footnotes list'!$D$9:$E$58,2,FALSE) ) )","v":""},{"$f":"SUM(BY8,BY11,BY14,BY17,BY20,BY23,BY26,BY29,BY32,BY35,BY38,BY41,BY44,BY47,BY50,BY53,BY56,BY59,BY62,BY65,BY68,BY71,BY74,BY77,BY80,BY83,BY86,BY95,BY104)","v":778.96900000000005},null,null,null,{"$f":"IF(TRIM(CB113)=\"\", \"\", IF(VLOOKUP(CB113,'Footnotes list'!$D$9:$E$58,2,FALSE)=0,\"\",VLOOKUP(CB113,'Footnotes list'!$D$9:$E$58,2,FALSE) ) )","v":""},{"$f":"SUM(CD8,CD11,CD14,CD17,CD20,CD23,CD26,CD29,CD32,CD35,CD38,CD41,CD44,CD47,CD50,CD53,CD56,CD59,CD62,CD65,CD68,CD71,CD74,CD77,CD80,CD83,CD86,CD95,CD104)","v":5384.6090000000004},null,null,null,{"$f":"IF(TRIM(CG113)=\"\", \"\", IF(VLOOKUP(CG113,'Footnotes list'!$D$9:$E$58,2,FALSE)=0,\"\",VLOOKUP(CG113,'Footnotes list'!$D$9:$E$58,2,FALSE) ) )","v":""},{"$f":"SUM(CI8,CI11,CI14,CI17,CI20,CI23,CI26,CI29,CI32,CI35,CI38,CI41,CI44,CI47,CI50,CI53,CI56,CI59,CI62,CI65,CI68,CI71,CI74,CI77,CI80,CI83,CI86,CI95,CI104)","v":6163.5780000000004},null,null,null,{"$f":"IF(TRIM(CL113)=\"\", \"\", IF(VLOOKUP(CL113,'Footnotes list'!$D$9:$E$58,2,FALSE)=0,\"\",VLOOKUP(CL113,'Footnotes list'!$D$9:$E$58,2,FALSE) ) )","v":""},{"$f":"SUM(CN8,CN11,CN14,CN17,CN20,CN23,CN26,CN29,CN32,CN35,CN38,CN41,CN44,CN47,CN50,CN53,CN56,CN59,CN62,CN65,CN68,CN71,CN74,CN77,CN80,CN83,CN86,CN95,CN104)","v":2757.8919999999998},null,null,null,{"$f":"IF(TRIM(CQ113)=\"\", \"\", IF(VLOOKUP(CQ113,'Footnotes list'!$D$9:$E$58,2,FALSE)=0,\"\",VLOOKUP(CQ113,'Footnotes list'!$D$9:$E$58,2,FALSE) ) )","v":""},{"$f":"SUM(CS8,CS11,CS14,CS17,CS20,CS23,CS26,CS29,CS32,CS35,CS38,CS41,CS44,CS47,CS50,CS53,CS56,CS59,CS62,CS65,CS68,CS71,CS74,CS77,CS80,CS83,CS86,CS95,CS104)","v":27857.218000000001},null,null,null,{"$f":"IF(TRIM(CV113)=\"\", \"\", IF(VLOOKUP(CV113,'Footnotes list'!$D$9:$E$58,2,FALSE)=0,\"\",VLOOKUP(CV113,'Footnotes list'!$D$9:$E$58,2,FALSE) ) )","v":""},{"$f":"SUM(CX8,CX11,CX14,CX17,CX20,CX23,CX26,CX29,CX32,CX35,CX38,CX41,CX44,CX47,CX50,CX53,CX56,CX59,CX62,CX65,CX68,CX71,CX74,CX77,CX80,CX83,CX86,CX95,CX104)","v":41.484999999999999},null,null,null,{"$f":"IF(TRIM(DA113)=\"\", \"\", IF(VLOOKUP(DA113,'Footnotes list'!$D$9:$E$58,2,FALSE)=0,\"\",VLOOKUP(DA113,'Footnotes list'!$D$9:$E$58,2,FALSE) ) )","v":""},{"$f":"SUM(DC8,DC11,DC14,DC17,DC20,DC23,DC26,DC29,DC32,DC35,DC38,DC41,DC44,DC47,DC50,DC53,DC56,DC59,DC62,DC65,DC68,DC71,DC74,DC77,DC80,DC83,DC86,DC95,DC104)","v":72883.106},null,null,null,{"$f":"IF(TRIM(DF113)=\"\", \"\", IF(VLOOKUP(DF113,'Footnotes list'!$D$9:$E$58,2,FALSE)=0,\"\",VLOOKUP(DF113,'Footnotes list'!$D$9:$E$58,2,FALSE) ) )","v":""},{"$f":"SUM(DH8,DH11,DH14,DH17,DH20,DH23,DH26,DH29,DH32,DH35,DH38,DH41,DH44,DH47,DH50,DH53,DH56,DH59,DH62,DH65,DH68,DH71,DH74,DH77,DH80,DH83,DH86,DH95,DH104)","v":166133.717},null,null,null,{"$f":"IF(TRIM(DK113)=\"\", \"\", IF(VLOOKUP(DK113,'Footnotes list'!$D$9:$E$58,2,FALSE)=0,\"\",VLOOKUP(DK113,'Footnotes list'!$D$9:$E$58,2,FALSE) ) )","v":""}]
[null,null,"TOT_X_MIN",null,"NHAZ","Non-hazardous",{"$f":"SUM(G9,G12,G15,G18,G21,G24,G27,G30,G33,G36,G39,G42,G45,G48,G51,G54,G57,G60,G63,G66,G69,G72,G75,G78,G81,G84,G87,G96,G105)","v":476612.71},null,null,null,{"$f":"IF(TRIM(J114)=\"\", \"\", IF(VLOOKUP(J114,'Footnotes list'!$D$9:$E$58,2,FALSE)=0,\"\",VLOOKUP(J114,'Footnotes list'!$D$9:$E$58,2,FALSE) ) )","v":""},{"$f":"SUM(L9,L12,L15,L18,L21,L24,L27,L30,L33,L36,L39,L42,L45,L48,L51,L54,L57,L60,L63,L66,L69,L72,L75,L78,L81,L84,L87,L96,L105)","v":1197.085},null,null,null,{"$f":"IF(TRIM(O114)=\"\", \"\", IF(VLOOKUP(O114,'Footnotes list'!$D$9:$E$58,2,FALSE)=0,\"\",VLOOKUP(O114,'Footnotes list'!$D$9:$E$58,2,FALSE) ) )","v":""},{"$f":"SUM(Q9,Q12,Q15,Q18,Q21,Q24,Q27,Q30,Q33,Q36,Q39,Q42,Q45,Q48,Q51,Q54,Q57,Q60,Q63,Q66,Q69,Q72,Q75,Q78,Q81,Q84,Q87,Q96,Q105)","v":127010.731},null,null,null,{"$f":"IF(TRIM(T114)=\"\", \"\", IF(VLOOKUP(T114,'Footnotes list'!$D$9:$E$58,2,FALSE)=0,\"\",VLOOKUP(T114,'Footnotes list'!$D$9:$E$58,2,FALSE) ) )","v":""},{"$f":"SUM(V9,V12,V15,V18,V21,V24,V27,V30,V33,V36,V39,V42,V45,V48,V51,V54,V57,V60,V63,V66,V69,V72,V75,V78,V81,V84,V87,V96,V105)","v":9268.2420000000002},null,null,null,{"$f":"IF(TRIM(Y114)=\"\", \"\", IF(VLOOKUP(Y114,'Footnotes list'!$D$9:$E$58,2,FALSE)=0,\"\",VLOOKUP(Y114,'Footnotes list'!$D$9:$E$58,2,FALSE) ) )","v":""},{"$f":"SUM(AA9,AA12,AA15,AA18,AA21,AA24,AA27,AA30,AA33,AA36,AA39,AA42,AA45,AA48,AA51,AA54,AA57,AA60,AA63,AA66,AA69,AA72,AA75,AA78,AA81,AA84,AA87,AA96,AA105)","v":51062.091},null,null,null,{"$f":"IF(TRIM(AD114)=\"\", \"\", IF(VLOOKUP(AD114,'Footnotes list'!$D$9:$E$58,2,FALSE)=0,\"\",VLOOKUP(AD114,'Footnotes list'!$D$9:$E$58,2,FALSE) ) )","v":""},{"$f":"SUM(AF9,AF12,AF15,AF18,AF21,AF24,AF27,AF30,AF33,AF36,AF39,AF42,AF45,AF48,AF51,AF54,AF57,AF60,AF63,AF66,AF69,AF72,AF75,AF78,AF81,AF84,AF87,AF96,AF105)","v":70008.600999999995},null,null,null,{"$f":"IF(TRIM(AI114)=\"\", \"\", IF(VLOOKUP(AI114,'Footnotes list'!$D$9:$E$58,2,FALSE)=0,\"\",VLOOKUP(AI114,'Footnotes list'!$D$9:$E$58,2,FALSE) ) )","v":""},{"$f":"SUM(AK9,AK12,AK15,AK18,AK21,AK24,AK27,AK30,AK33,AK36,AK39,AK42,AK45,AK48,AK51,AK54,AK57,AK60,AK63,AK66,AK69,AK72,AK75,AK78,AK81,AK84,AK87,AK96,AK105)","v":2860.4270000000001},null,null,null,{"$f":"IF(TRIM(AN114)=\"\", \"\", IF(VLOOKUP(AN114,'Footnotes list'!$D$9:$E$58,2,FALSE)=0,\"\",VLOOKUP(AN114,'Footnotes list'!$D$9:$E$58,2,FALSE) ) )","v":""},{"$f":"SUM(AP9,AP12,AP15,AP18,AP21,AP24,AP27,AP30,AP33,AP36,AP39,AP42,AP45,AP48,AP51,AP54,AP57,AP60,AP63,AP66,AP69,AP72,AP75,AP78,AP81,AP84,AP87,AP96,AP105)","v":38890.230000000003},null,null,null,{"$f":"IF(TRIM(AS114)=\"\", \"\", IF(VLOOKUP(AS114,'Footnotes list'!$D$9:$E$58,2,FALSE)=0,\"\",VLOOKUP(AS114,'Footnotes list'!$D$9:$E$58,2,FALSE) ) )","v":""},{"$f":"SUM(AU9,AU12,AU15,AU18,AU21,AU24,AU27,AU30,AU33,AU36,AU39,AU42,AU45,AU48,AU51,AU54,AU57,AU60,AU63,AU66,AU69,AU72,AU75,AU78,AU81,AU84,AU87,AU96,AU105)","v":30746.195},null,null,null,{"$f":"IF(TRIM(AX114)=\"\", \"\", IF(VLOOKUP(AX114,'Footnotes list'!$D$9:$E$58,2,FALSE)=0,\"\",VLOOKUP(AX114,'Footnotes list'!$D$9:$E$58,2,FALSE) ) )","v":""},{"$f":"SUM(AZ9,AZ12,AZ15,AZ18,AZ21,AZ24,AZ27,AZ30,AZ33,AZ36,AZ39,AZ42,AZ45,AZ48,AZ51,AZ54,AZ57,AZ60,AZ63,AZ66,AZ69,AZ72,AZ75,AZ78,AZ81,AZ84,AZ87,AZ96,AZ105)","v":113779.522},null,null,null,{"$f":"IF(TRIM(BC114)=\"\", \"\", IF(VLOOKUP(BC114,'Footnotes list'!$D$9:$E$58,2,FALSE)=0,\"\",VLOOKUP(BC114,'Footnotes list'!$D$9:$E$58,2,FALSE) ) )","v":""},{"$f":"SUM(BE9,BE12,BE15,BE18,BE21,BE24,BE27,BE30,BE33,BE36,BE39,BE42,BE45,BE48,BE51,BE54,BE57,BE60,BE63,BE66,BE69,BE72,BE75,BE78,BE81,BE84,BE87,BE96,BE105)","v":33737.072},null,null,null,{"$f":"IF(TRIM(BH114)=\"\", \"\", IF(VLOOKUP(BH114,'Footnotes list'!$D$9:$E$58,2,FALSE)=0,\"\",VLOOKUP(BH114,'Footnotes list'!$D$9:$E$58,2,FALSE) ) )","v":""},{"$f":"SUM(BJ9,BJ12,BJ15,BJ18,BJ21,BJ24,BJ27,BJ30,BJ33,BJ36,BJ39,BJ42,BJ45,BJ48,BJ51,BJ54,BJ57,BJ60,BJ63,BJ66,BJ69,BJ72,BJ75,BJ78,BJ81,BJ84,BJ87,BJ96,BJ105)","v":21136.829000000002},null,null,null,{"$f":"IF(TRIM(BM114)=\"\", \"\", IF(VLOOKUP(BM114,'Footnotes list'!$D$9:$E$58,2,FALSE)=0,\"\",VLOOKUP(BM114,'Footnotes list'!$D$9:$E$58,2,FALSE) ) )","v":""},{"$f":"SUM(BO9,BO12,BO15,BO18,BO21,BO24,BO27,BO30,BO33,BO36,BO39,BO42,BO45,BO48,BO51,BO54,BO57,BO60,BO63,BO66,BO69,BO72,BO75,BO78,BO81,BO84,BO87,BO96,BO105)","v":498499.94},null,null,null,{"$f":"IF(TRIM(BR114)=\"\", \"\", IF(VLOOKUP(BR114,'Footnotes list'!$D$9:$E$58,2,FALSE)=0,\"\",VLOOKUP(BR114,'Footnotes list'!$D$9:$E$58,2,FALSE) ) )","v":""},{"$f":"SUM(BT9,BT12,BT15,BT18,BT21,BT24,BT27,BT30,BT33,BT36,BT39,BT42,BT45,BT48,BT51,BT54,BT57,BT60,BT63,BT66,BT69,BT72,BT75,BT78,BT81,BT84,BT87,BT96,BT105)","v":64565.985999999997},null,null,null,{"$f":"IF(TRIM(BW114)=\"\", \"\", IF(VLOOKUP(BW114,'Footnotes list'!$D$9:$E$58,2,FALSE)=0,\"\",VLOOKUP(BW114,'Footnotes list'!$D$9:$E$58,2,FALSE) ) )","v":""},{"$f":"SUM(BY9,BY12,BY15,BY18,BY21,BY24,BY27,BY30,BY33,BY36,BY39,BY42,BY45,BY48,BY51,BY54,BY57,BY60,BY63,BY66,BY69,BY72,BY75,BY78,BY81,BY84,BY87,BY96,BY105)","v":32719.85},null,null,null,{"$f":"IF(TRIM(CB114)=\"\", \"\", IF(VLOOKUP(CB114,'Footnotes list'!$D$9:$E$58,2,FALSE)=0,\"\",VLOOKUP(CB114,'Footnotes list'!$D$9:$E$58,2,FALSE) ) )","v":""},{"$f":"SUM(CD9,CD12,CD15,CD18,CD21,CD24,CD27,CD30,CD33,CD36,CD39,CD42,CD45,CD48,CD51,CD54,CD57,CD60,CD63,CD66,CD69,CD72,CD75,CD78,CD81,CD84,CD87,CD96,CD105)","v":1819397.743},null,null,null,{"$f":"IF(TRIM(CG114)=\"\", \"\", IF(VLOOKUP(CG114,'Footnotes list'!$D$9:$E$58,2,FALSE)=0,\"\",VLOOKUP(CG114,'Footnotes list'!$D$9:$E$58,2,FALSE) ) )","v":""},{"$f":"SUM(CI9,CI12,CI15,CI18,CI21,CI24,CI27,CI30,CI33,CI36,CI39,CI42,CI45,CI48,CI51,CI54,CI57,CI60,CI63,CI66,CI69,CI72,CI75,CI78,CI81,CI84,CI87,CI96,CI105)","v":1852117.5930000001},null,null,null,{"$f":"IF(TRIM(CL114)=\"\", \"\", IF(VLOOKUP(CL114,'Footnotes list'!$D$9:$E$58,2,FALSE)=0,\"\",VLOOKUP(CL114,'Footnotes list'!$D$9:$E$58,2,FALSE) ) )","v":""},{"$f":"SUM(CN9,CN12,CN15,CN18,CN21,CN24,CN27,CN30,CN33,CN36,CN39,CN42,CN45,CN48,CN51,CN54,CN57,CN60,CN63,CN66,CN69,CN72,CN75,CN78,CN81,CN84,CN87,CN96,CN105)","v":296262.21799999999},null,null,null,{"$f":"IF(TRIM(CQ114)=\"\", \"\", IF(VLOOKUP(CQ114,'Footnotes list'!$D$9:$E$58,2,FALSE)=0,\"\",VLOOKUP(CQ114,'Footnotes list'!$D$9:$E$58,2,FALSE) ) )","v":""},{"$f":"SUM(CS9,CS12,CS15,CS18,CS21,CS24,CS27,CS30,CS33,CS36,CS39,CS42,CS45,CS48,CS51,CS54,CS57,CS60,CS63,CS66,CS69,CS72,CS75,CS78,CS81,CS84,CS87,CS96,CS105)","v":543549.14099999995},null,null,null,{"$f":"IF(TRIM(CV114)=\"\", \"\", IF(VLOOKUP(CV114,'Footnotes list'!$D$9:$E$58,2,FALSE)=0,\"\",VLOOKUP(CV114,'Footnotes list'!$D$9:$E$58,2,FALSE) ) )","v":""},{"$f":"SUM(CX9,CX12,CX15,CX18,CX21,CX24,CX27,CX30,CX33,CX36,CX39,CX42,CX45,CX48,CX51,CX54,CX57,CX60,CX63,CX66,CX69,CX72,CX75,CX78,CX81,CX84,CX87,CX96,CX105)","v":34128.207000000002},null,null,null,{"$f":"IF(TRIM(DA114)=\"\", \"\", IF(VLOOKUP(DA114,'Footnotes list'!$D$9:$E$58,2,FALSE)=0,\"\",VLOOKUP(DA114,'Footnotes list'!$D$9:$E$58,2,FALSE) ) )","v":""},{"$f":"SUM(DC9,DC12,DC15,DC18,DC21,DC24,DC27,DC30,DC33,DC36,DC39,DC42,DC45,DC48,DC51,DC54,DC57,DC60,DC63,DC66,DC69,DC72,DC75,DC78,DC81,DC84,DC87,DC96,DC105)","v":1313354.2039999999},null,null,null,{"$f":"IF(TRIM(DF114)=\"\", \"\", IF(VLOOKUP(DF114,'Footnotes list'!$D$9:$E$58,2,FALSE)=0,\"\",VLOOKUP(DF114,'Footnotes list'!$D$9:$E$58,2,FALSE) ) )","v":""},{"$f":"SUM(DH9,DH12,DH15,DH18,DH21,DH24,DH27,DH30,DH33,DH36,DH39,DH42,DH45,DH48,DH51,DH54,DH57,DH60,DH63,DH66,DH69,DH72,DH75,DH78,DH81,DH84,DH87,DH96,DH105)","v":5080287.0839999998},null,null,null,{"$f":"IF(TRIM(DK114)=\"\", \"\", IF(VLOOKUP(DK114,'Footnotes list'!$D$9:$E$58,2,FALSE)=0,\"\",VLOOKUP(DK114,'Footnotes list'!$D$9:$E$58,2,FALSE) ) )","v":""}]
[null,null,"TOT_X_MIN",null,"HAZ_NHAZ","Total",477702.554,null,null,null,{"$f":"IF(TRIM(J115)=\"\", \"\", IF(VLOOKUP(J115,'Footnotes list'!$D$9:$E$58,2,FALSE)=0,\"\",VLOOKUP(J115,'Footnotes list'!$D$9:$E$58,2,FALSE) ) )","v":""},3113.4859999999999,null,null,null,{"$f":"IF(TRIM(O115)=\"\", \"\", IF(VLOOKUP(O115,'Footnotes list'!$D$9:$E$58,2,FALSE)=0,\"\",VLOOKUP(O115,'Footnotes list'!$D$9:$E$58,2,FALSE) ) )","v":""},128078.192,null,null,null,{"$f":"IF(TRIM(T115)=\"\", \"\", IF(VLOOKUP(T115,'Footnotes list'!$D$9:$E$58,2,FALSE)=0,\"\",VLOOKUP(T115,'Footnotes list'!$D$9:$E$58,2,FALSE) ) )","v":""},9540.473,null,null,null,{"$f":"IF(TRIM(Y115)=\"\", \"\", IF(VLOOKUP(Y115,'Footnotes list'!$D$9:$E$58,2,FALSE)=0,\"\",VLOOKUP(Y115,'Footnotes list'!$D$9:$E$58,2,FALSE) ) )","v":""},51281.103000000003,null,null,null,{"$f":"IF(TRIM(AD115)=\"\", \"\", IF(VLOOKUP(AD115,'Footnotes list'!$D$9:$E$58,2,FALSE)=0,\"\",VLOOKUP(AD115,'Footnotes list'!$D$9:$E$58,2,FALSE) ) )","v":""},71490.035000000003,null,null,null,{"$f":"IF(TRIM(AI115)=\"\", \"\", IF(VLOOKUP(AI115,'Footnotes list'!$D$9:$E$58,2,FALSE)=0,\"\",VLOOKUP(AI115,'Footnotes list'!$D$9:$E$58,2,FALSE) ) )","v":""},6198.799,null,null,null,{"$f":"IF(TRIM(AN115)=\"\", \"\", IF(VLOOKUP(AN115,'Footnotes list'!$D$9:$E$58,2,FALSE)=0,\"\",VLOOKUP(AN115,'Footnotes list'!$D$9:$E$58,2,FALSE) ) )","v":""},43056.697999999997,null,null,null,{"$f":"IF(TRIM(AS115)=\"\", \"\", IF(VLOOKUP(AS115,'Footnotes list'!$D$9:$E$58,2,FALSE)=0,\"\",VLOOKUP(AS115,'Footnotes list'!$D$9:$E$58,2,FALSE) ) )","v":""},32568.29,null,null,null,{"$f":"IF(TRIM(AX115)=\"\", \"\", IF(VLOOKUP(AX115,'Footnotes list'!$D$9:$E$58,2,FALSE)=0,\"\",VLOOKUP(AX115,'Footnotes list'!$D$9:$E$58,2,FALSE) ) )","v":""},147233.777,null,null,null,{"$f":"IF(TRIM(BC115)=\"\", \"\", IF(VLOOKUP(BC115,'Footnotes list'!$D$9:$E$58,2,FALSE)=0,\"\",VLOOKUP(BC115,'Footnotes list'!$D$9:$E$58,2,FALSE) ) )","v":""},38794.885999999999,null,null,null,{"$f":"IF(TRIM(BH115)=\"\", \"\", IF(VLOOKUP(BH115,'Footnotes list'!$D$9:$E$58,2,FALSE)=0,\"\",VLOOKUP(BH115,'Footnotes list'!$D$9:$E$58,2,FALSE) ) )","v":""},22707.794999999998,null,null,null,{"$f":"IF(TRIM(BM115)=\"\", \"\", IF(VLOOKUP(BM115,'Footnotes list'!$D$9:$E$58,2,FALSE)=0,\"\",VLOOKUP(BM115,'Footnotes list'!$D$9:$E$58,2,FALSE) ) )","v":""},550950.04799999995,null,null,null,{"$f":"IF(TRIM(BR115)=\"\", \"\", IF(VLOOKUP(BR115,'Footnotes list'!$D$9:$E$58,2,FALSE)=0,\"\",VLOOKUP(BR115,'Footnotes list'!$D$9:$E$58,2,FALSE) ) )","v":""},65540.070999999996,null,null,null,{"$f":"IF(TRIM(BW115)=\"\", \"\", IF(VLOOKUP(BW115,'Footnotes list'!$D$9:$E$58,2,FALSE)=0,\"\",VLOOKUP(BW115,'Footnotes list'!$D$9:$E$58,2,FALSE) ) )","v":""},33498.819000000003,null,null,null,{"$f":"IF(TRIM(CB115)=\"\", \"\", IF(VLOOKUP(CB115,'Footnotes list'!$D$9:$E$58,2,FALSE)=0,\"\",VLOOKUP(CB115,'Footnotes list'!$D$9:$E$58,2,FALSE) ) )","v":""},1824782.352,null,null,null,{"$f":"IF(TRIM(CG115)=\"\", \"\", IF(VLOOKUP(CG115,'Footnotes list'!$D$9:$E$58,2,FALSE)=0,\"\",VLOOKUP(CG115,'Footnotes list'!$D$9:$E$58,2,FALSE) ) )","v":""},1858281.1710000001,null,null,null,{"$f":"IF(TRIM(CL115)=\"\", \"\", IF(VLOOKUP(CL115,'Footnotes list'!$D$9:$E$58,2,FALSE)=0,\"\",VLOOKUP(CL115,'Footnotes list'!$D$9:$E$58,2,FALSE) ) )","v":""},299020.11,null,null,null,{"$f":"IF(TRIM(CQ115)=\"\", \"\", IF(VLOOKUP(CQ115,'Footnotes list'!$D$9:$E$58,2,FALSE)=0,\"\",VLOOKUP(CQ115,'Footnotes list'!$D$9:$E$58,2,FALSE) ) )","v":""},571406.35900000005,null,null,null,{"$f":"IF(TRIM(CV115)=\"\", \"\", IF(VLOOKUP(CV115,'Footnotes list'!$D$9:$E$58,2,FALSE)=0,\"\",VLOOKUP(CV115,'Footnotes list'!$D$9:$E$58,2,FALSE) ) )","v":""},34169.692000000003,null,null,null,{"$f":"IF(TRIM(DA115)=\"\", \"\", IF(VLOOKUP(DA115,'Footnotes list'!$D$9:$E$58,2,FALSE)=0,\"\",VLOOKUP(DA115,'Footnotes list'!$D$9:$E$58,2,FALSE) ) )","v":""},1386237.31,null,null,null,{"$f":"IF(TRIM(DF115)=\"\", \"\", IF(VLOOKUP(DF115,'Footnotes list'!$D$9:$E$58,2,FALSE)=0,\"\",VLOOKUP(DF115,'Footnotes list'!$D$9:$E$58,2,FALSE) ) )","v":""},5246420.801,null,null,null,{"$f":"IF(TRIM(DK115)=\"\", \"\", IF(VLOOKUP(DK115,'Footnotes list'!$D$9:$E$58,2,FALSE)=0,\"\",VLOOKUP(DK115,'Footnotes list'!$D$9:$E$58,2,FALSE) ) )","v":""}]
[null,"TOTAL","TOTAL","Total Waste ","HAZ","Hazardous ",{"$f":"SUM(G8,G11,G14,G17,G20,G23,G26,G29,G32,G35,G38,G41,G44,G47,G50,G53,G56,G59,G62,G65,G68,G71,G74,G77,G80,G83,G86,G89,G92,G95,G98,G101,G104)","v":1101.5160000000001},null,null,null,{"$f":"IF(TRIM(J116)=\"\", \"\", IF(VLOOKUP(J116,'Footnotes list'!$D$9:$E$58,2,FALSE)=0,\"\",VLOOKUP(J116,'Footnotes list'!$D$9:$E$58,2,FALSE) ) )","v":""},{"$f":"SUM(L8,L11,L14,L17,L20,L23,L26,L29,L32,L35,L38,L41,L44,L47,L50,L53,L56,L59,L62,L65,L68,L71,L74,L77,L80,L83,L86,L89,L92,L95,L98,L101,L104)","v":7094.1149999999998},null,null,null,{"$f":"IF(TRIM(O116)=\"\", \"\", IF(VLOOKUP(O116,'Footnotes list'!$D$9:$E$58,2,FALSE)=0,\"\",VLOOKUP(O116,'Footnotes list'!$D$9:$E$58,2,FALSE) ) )","v":""},{"$f":"SUM(Q8,Q11,Q14,Q17,Q20,Q23,Q26,Q29,Q32,Q35,Q38,Q41,Q44,Q47,Q50,Q53,Q56,Q59,Q62,Q65,Q68,Q71,Q74,Q77,Q80,Q83,Q86,Q89,Q92,Q95,Q98,Q101,Q104)","v":1068.3720000000001},null,null,null,{"$f":"IF(TRIM(T116)=\"\", \"\", IF(VLOOKUP(T116,'Footnotes list'!$D$9:$E$58,2,FALSE)=0,\"\",VLOOKUP(T116,'Footnotes list'!$D$9:$E$58,2,FALSE) ) )","v":""},{"$f":"SUM(V8,V11,V14,V17,V20,V23,V26,V29,V32,V35,V38,V41,V44,V47,V50,V53,V56,V59,V62,V65,V68,V71,V74,V77,V80,V83,V86,V89,V92,V95,V98,V101,V104)","v":273.83},null,null,null,{"$f":"IF(TRIM(Y116)=\"\", \"\", IF(VLOOKUP(Y116,'Footnotes list'!$D$9:$E$58,2,FALSE)=0,\"\",VLOOKUP(Y116,'Footnotes list'!$D$9:$E$58,2,FALSE) ) )","v":""},{"$f":"SUM(AA8,AA11,AA14,AA17,AA20,AA23,AA26,AA29,AA32,AA35,AA38,AA41,AA44,AA47,AA50,AA53,AA56,AA59,AA62,AA65,AA68,AA71,AA74,AA77,AA80,AA83,AA86,AA89,AA92,AA95,AA98,AA101,AA104)","v":222.441},null,null,null,{"$f":"IF(TRIM(AD116)=\"\", \"\", IF(VLOOKUP(AD116,'Footnotes list'!$D$9:$E$58,2,FALSE)=0,\"\",VLOOKUP(AD116,'Footnotes list'!$D$9:$E$58,2,FALSE) ) )","v":""},{"$f":"SUM(AF8,AF11,AF14,AF17,AF20,AF23,AF26,AF29,AF32,AF35,AF38,AF41,AF44,AF47,AF50,AF53,AF56,AF59,AF62,AF65,AF68,AF71,AF74,AF77,AF80,AF83,AF86,AF89,AF92,AF95,AF98,AF101,AF104)","v":1481.65},null,null,null,{"$f":"IF(TRIM(AI116)=\"\", \"\", IF(VLOOKUP(AI116,'Footnotes list'!$D$9:$E$58,2,FALSE)=0,\"\",VLOOKUP(AI116,'Footnotes list'!$D$9:$E$58,2,FALSE) ) )","v":""},{"$f":"SUM(AK8,AK11,AK14,AK17,AK20,AK23,AK26,AK29,AK32,AK35,AK38,AK41,AK44,AK47,AK50,AK53,AK56,AK59,AK62,AK65,AK68,AK71,AK74,AK77,AK80,AK83,AK86,AK89,AK92,AK95,AK98,AK101,AK104)","v":3338.3719999999998},null,null,null,{"$f":"IF(TRIM(AN116)=\"\", \"\", IF(VLOOKUP(AN116,'Footnotes list'!$D$9:$E$58,2,FALSE)=0,\"\",VLOOKUP(AN116,'Footnotes list'!$D$9:$E$58,2,FALSE) ) )","v":""},{"$f":"SUM(AP8,AP11,AP14,AP17,AP20,AP23,AP26,AP29,AP32,AP35,AP38,AP41,AP44,AP47,AP50,AP53,AP56,AP59,AP62,AP65,AP68,AP71,AP74,AP77,AP80,AP83,AP86,AP89,AP92,AP95,AP98,AP101,AP104)","v":4174.692},null,null,null,{"$f":"IF(TRIM(AS116)=\"\", \"\", IF(VLOOKUP(AS116,'Footnotes list'!$D$9:$E$58,2,FALSE)=0,\"\",VLOOKUP(AS116,'Footnotes list'!$D$9:$E$58,2,FALSE) ) )","v":""},{"$f":"SUM(AU8,AU11,AU14,AU17,AU20,AU23,AU26,AU29,AU32,AU35,AU38,AU41,AU44,AU47,AU50,AU53,AU56,AU59,AU62,AU65,AU68,AU71,AU74,AU77,AU80,AU83,AU86,AU89,AU92,AU95,AU98,AU101,AU104)","v":1865.0989999999999},null,null,null,{"$f":"IF(TRIM(AX116)=\"\", \"\", IF(VLOOKUP(AX116,'Footnotes list'!$D$9:$E$58,2,FALSE)=0,\"\",VLOOKUP(AX116,'Footnotes list'!$D$9:$E$58,2,FALSE) ) )","v":""},{"$f":"SUM(AZ8,AZ11,AZ14,AZ17,AZ20,AZ23,AZ26,AZ29,AZ32,AZ35,AZ38,AZ41,AZ44,AZ47,AZ50,AZ53,AZ56,AZ59,AZ62,AZ65,AZ68,AZ71,AZ74,AZ77,AZ80,AZ83,AZ86,AZ89,AZ92,AZ95,AZ98,AZ101,AZ104)","v":33514.033000000003},null,null,null,{"$f":"IF(TRIM(BC116)=\"\", \"\", IF(VLOOKUP(BC116,'Footnotes list'!$D$9:$E$58,2,FALSE)=0,\"\",VLOOKUP(BC116,'Footnotes list'!$D$9:$E$58,2,FALSE) ) )","v":""},{"$f":"SUM(BE8,BE11,BE14,BE17,BE20,BE23,BE26,BE29,BE32,BE35,BE38,BE41,BE44,BE47,BE50,BE53,BE56,BE59,BE62,BE65,BE68,BE71,BE74,BE77,BE80,BE83,BE86,BE89,BE92,BE95,BE98,BE101,BE104)","v":5093.5550000000003},null,null,null,{"$f":"IF(TRIM(BH116)=\"\", \"\", IF(VLOOKUP(BH116,'Footnotes list'!$D$9:$E$58,2,FALSE)=0,\"\",VLOOKUP(BH116,'Footnotes list'!$D$9:$E$58,2,FALSE) ) )","v":""},{"$f":"SUM(BJ8,BJ11,BJ14,BJ17,BJ20,BJ23,BJ26,BJ29,BJ32,BJ35,BJ38,BJ41,BJ44,BJ47,BJ50,BJ53,BJ56,BJ59,BJ62,BJ65,BJ68,BJ71,BJ74,BJ77,BJ80,BJ83,BJ86,BJ89,BJ92,BJ95,BJ98,BJ101,BJ104)","v":1693.0909999999999},null,null,null,{"$f":"IF(TRIM(BM116)=\"\", \"\", IF(VLOOKUP(BM116,'Footnotes list'!$D$9:$E$58,2,FALSE)=0,\"\",VLOOKUP(BM116,'Footnotes list'!$D$9:$E$58,2,FALSE) ) )","v":""},{"$f":"SUM(BO8,BO11,BO14,BO17,BO20,BO23,BO26,BO29,BO32,BO35,BO38,BO41,BO44,BO47,BO50,BO53,BO56,BO59,BO62,BO65,BO68,BO71,BO74,BO77,BO80,BO83,BO86,BO89,BO92,BO95,BO98,BO101,BO104)","v":52725.135000000002},null,null,null,{"$f":"IF(TRIM(BR116)=\"\", \"\", IF(VLOOKUP(BR116,'Footnotes list'!$D$9:$E$58,2,FALSE)=0,\"\",VLOOKUP(BR116,'Footnotes list'!$D$9:$E$58,2,FALSE) ) )","v":""},{"$f":"SUM(BT8,BT11,BT14,BT17,BT20,BT23,BT26,BT29,BT32,BT35,BT38,BT41,BT44,BT47,BT50,BT53,BT56,BT59,BT62,BT65,BT68,BT71,BT74,BT77,BT80,BT83,BT86,BT89,BT92,BT95,BT98,BT101,BT104)","v":974.10799999999995},null,null,null,{"$f":"IF(TRIM(BW116)=\"\", \"\", IF(VLOOKUP(BW116,'Footnotes list'!$D$9:$E$58,2,FALSE)=0,\"\",VLOOKUP(BW116,'Footnotes list'!$D$9:$E$58,2,FALSE) ) )","v":""},{"$f":"SUM(BY8,BY11,BY14,BY17,BY20,BY23,BY26,BY29,BY32,BY35,BY38,BY41,BY44,BY47,BY50,BY53,BY56,BY59,BY62,BY65,BY68,BY71,BY74,BY77,BY80,BY83,BY86,BY89,BY92,BY95,BY98,BY101,BY104)","v":781.70600000000002},null,null,null,{"$f":"IF(TRIM(CB116)=\"\", \"\", IF(VLOOKUP(CB116,'Footnotes list'!$D$9:$E$58,2,FALSE)=0,\"\",VLOOKUP(CB116,'Footnotes list'!$D$9:$E$58,2,FALSE) ) )","v":""},{"$f":"SUM(CD8,CD11,CD14,CD17,CD20,CD23,CD26,CD29,CD32,CD35,CD38,CD41,CD44,CD47,CD50,CD53,CD56,CD59,CD62,CD65,CD68,CD71,CD74,CD77,CD80,CD83,CD86,CD89,CD92,CD95,CD98,CD101,CD104)","v":5404.2520000000004},null,null,null,{"$f":"IF(TRIM(CG116)=\"\", \"\", IF(VLOOKUP(CG116,'Footnotes list'!$D$9:$E$58,2,FALSE)=0,\"\",VLOOKUP(CG116,'Footnotes list'!$D$9:$E$58,2,FALSE) ) )","v":""},{"$f":"SUM(CI8,CI11,CI14,CI17,CI20,CI23,CI26,CI29,CI32,CI35,CI38,CI41,CI44,CI47,CI50,CI53,CI56,CI59,CI62,CI65,CI68,CI71,CI74,CI77,CI80,CI83,CI86,CI89,CI92,CI95,CI98,CI101,CI104)","v":6185.9579999999996},null,null,null,{"$f":"IF(TRIM(CL116)=\"\", \"\", IF(VLOOKUP(CL116,'Footnotes list'!$D$9:$E$58,2,FALSE)=0,\"\",VLOOKUP(CL116,'Footnotes list'!$D$9:$E$58,2,FALSE) ) )","v":""},{"$f":"SUM(CN8,CN11,CN14,CN17,CN20,CN23,CN26,CN29,CN32,CN35,CN38,CN41,CN44,CN47,CN50,CN53,CN56,CN59,CN62,CN65,CN68,CN71,CN74,CN77,CN80,CN83,CN86,CN89,CN92,CN95,CN98,CN101,CN104)","v":17313.156999999999},null,null,null,{"$f":"IF(TRIM(CQ116)=\"\", \"\", IF(VLOOKUP(CQ116,'Footnotes list'!$D$9:$E$58,2,FALSE)=0,\"\",VLOOKUP(CQ116,'Footnotes list'!$D$9:$E$58,2,FALSE) ) )","v":""},{"$f":"SUM(CS8,CS11,CS14,CS17,CS20,CS23,CS26,CS29,CS32,CS35,CS38,CS41,CS44,CS47,CS50,CS53,CS56,CS59,CS62,CS65,CS68,CS71,CS74,CS77,CS80,CS83,CS86,CS89,CS92,CS95,CS98,CS101,CS104)","v":27888.12},null,null,null,{"$f":"IF(TRIM(CV116)=\"\", \"\", IF(VLOOKUP(CV116,'Footnotes list'!$D$9:$E$58,2,FALSE)=0,\"\",VLOOKUP(CV116,'Footnotes list'!$D$9:$E$58,2,FALSE) ) )","v":""},{"$f":"SUM(CX8,CX11,CX14,CX17,CX20,CX23,CX26,CX29,CX32,CX35,CX38,CX41,CX44,CX47,CX50,CX53,CX56,CX59,CX62,CX65,CX68,CX71,CX74,CX77,CX80,CX83,CX86,CX89,CX92,CX95,CX98,CX101,CX104)","v":41.484999999999999},null,null,null,{"$f":"IF(TRIM(DA116)=\"\", \"\", IF(VLOOKUP(DA116,'Footnotes list'!$D$9:$E$58,2,FALSE)=0,\"\",VLOOKUP(DA116,'Footnotes list'!$D$9:$E$58,2,FALSE) ) )","v":""},{"$f":"SUM(DC8,DC11,DC14,DC17,DC20,DC23,DC26,DC29,DC32,DC35,DC38,DC41,DC44,DC47,DC50,DC53,DC56,DC59,DC62,DC65,DC68,DC71,DC74,DC77,DC80,DC83,DC86,DC89,DC92,DC95,DC98,DC101,DC104)","v":72913.462},null,null,null,{"$f":"IF(TRIM(DF116)=\"\", \"\", IF(VLOOKUP(DF116,'Footnotes list'!$D$9:$E$58,2,FALSE)=0,\"\",VLOOKUP(DF116,'Footnotes list'!$D$9:$E$58,2,FALSE) ) )","v":""},{"$f":"SUM(DH8,DH11,DH14,DH17,DH20,DH23,DH26,DH29,DH32,DH35,DH38,DH41,DH44,DH47,DH50,DH53,DH56,DH59,DH62,DH65,DH68,DH71,DH74,DH77,DH80,DH83,DH86,DH89,DH92,DH95,DH98,DH101,DH104)","v":186237.05600000001},null,null,null,{"$f":"IF(TRIM(DK116)=\"\", \"\", IF(VLOOKUP(DK116,'Footnotes list'!$D$9:$E$58,2,FALSE)=0,\"\",VLOOKUP(DK116,'Footnotes list'!$D$9:$E$58,2,FALSE) ) )","v":""}]
[null,null,"TOTAL",null,"NHAZ","Non-hazardous",{"$f":"SUM(G9,G12,G15,G18,G21,G24,G27,G30,G33,G36,G39,G42,G45,G48,G51,G54,G57,G60,G63,G66,G69,G72,G75,G78,G81,G84,G87,G90,G93,G96,G99,G102,G105)","v":476615.71},null,null,null,{"$f":"IF(TRIM(J117)=\"\", \"\", IF(VLOOKUP(J117,'Footnotes list'!$D$9:$E$58,2,FALSE)=0,\"\",VLOOKUP(J117,'Footnotes list'!$D$9:$E$58,2,FALSE) ) )","v":""},{"$f":"SUM(L9,L12,L15,L18,L21,L24,L27,L30,L33,L36,L39,L42,L45,L48,L51,L54,L57,L60,L63,L66,L69,L72,L75,L78,L81,L84,L87,L90,L93,L96,L99,L102,L105)","v":729137.92500000005},null,null,null,{"$f":"IF(TRIM(O117)=\"\", \"\", IF(VLOOKUP(O117,'Footnotes list'!$D$9:$E$58,2,FALSE)=0,\"\",VLOOKUP(O117,'Footnotes list'!$D$9:$E$58,2,FALSE) ) )","v":""},{"$f":"SUM(Q9,Q12,Q15,Q18,Q21,Q24,Q27,Q30,Q33,Q36,Q39,Q42,Q45,Q48,Q51,Q54,Q57,Q60,Q63,Q66,Q69,Q72,Q75,Q78,Q81,Q84,Q87,Q90,Q93,Q96,Q99,Q102,Q105)","v":127021.516},null,null,null,{"$f":"IF(TRIM(T117)=\"\", \"\", IF(VLOOKUP(T117,'Footnotes list'!$D$9:$E$58,2,FALSE)=0,\"\",VLOOKUP(T117,'Footnotes list'!$D$9:$E$58,2,FALSE) ) )","v":""},{"$f":"SUM(V9,V12,V15,V18,V21,V24,V27,V30,V33,V36,V39,V42,V45,V48,V51,V54,V57,V60,V63,V66,V69,V72,V75,V78,V81,V84,V87,V90,V93,V96,V99,V102,V105)","v":9296.3420000000006},null,null,null,{"$f":"IF(TRIM(Y117)=\"\", \"\", IF(VLOOKUP(Y117,'Footnotes list'!$D$9:$E$58,2,FALSE)=0,\"\",VLOOKUP(Y117,'Footnotes list'!$D$9:$E$58,2,FALSE) ) )","v":""},{"$f":"SUM(AA9,AA12,AA15,AA18,AA21,AA24,AA27,AA30,AA33,AA36,AA39,AA42,AA45,AA48,AA51,AA54,AA57,AA60,AA63,AA66,AA69,AA72,AA75,AA78,AA81,AA84,AA87,AA90,AA93,AA96,AA99,AA102,AA105)","v":51063.241000000002},null,null,null,{"$f":"IF(TRIM(AD117)=\"\", \"\", IF(VLOOKUP(AD117,'Footnotes list'!$D$9:$E$58,2,FALSE)=0,\"\",VLOOKUP(AD117,'Footnotes list'!$D$9:$E$58,2,FALSE) ) )","v":""},{"$f":"SUM(AF9,AF12,AF15,AF18,AF21,AF24,AF27,AF30,AF33,AF36,AF39,AF42,AF45,AF48,AF51,AF54,AF57,AF60,AF63,AF66,AF69,AF72,AF75,AF78,AF81,AF84,AF87,AF90,AF93,AF96,AF99,AF102,AF105)","v":70008.600999999995},null,null,null,{"$f":"IF(TRIM(AI117)=\"\", \"\", IF(VLOOKUP(AI117,'Footnotes list'!$D$9:$E$58,2,FALSE)=0,\"\",VLOOKUP(AI117,'Footnotes list'!$D$9:$E$58,2,FALSE) ) )","v":""},{"$f":"SUM(AK9,AK12,AK15,AK18,AK21,AK24,AK27,AK30,AK33,AK36,AK39,AK42,AK45,AK48,AK51,AK54,AK57,AK60,AK63,AK66,AK69,AK72,AK75,AK78,AK81,AK84,AK87,AK90,AK93,AK96,AK99,AK102,AK105)","v":3051.4670000000001},null,null,null,{"$f":"IF(TRIM(AN117)=\"\", \"\", IF(VLOOKUP(AN117,'Footnotes list'!$D$9:$E$58,2,FALSE)=0,\"\",VLOOKUP(AN117,'Footnotes list'!$D$9:$E$58,2,FALSE) ) )","v":""},{"$f":"SUM(AP9,AP12,AP15,AP18,AP21,AP24,AP27,AP30,AP33,AP36,AP39,AP42,AP45,AP48,AP51,AP54,AP57,AP60,AP63,AP66,AP69,AP72,AP75,AP78,AP81,AP84,AP87,AP90,AP93,AP96,AP99,AP102,AP105)","v":39142.711000000003},null,null,null,{"$f":"IF(TRIM(AS117)=\"\", \"\", IF(VLOOKUP(AS117,'Footnotes list'!$D$9:$E$58,2,FALSE)=0,\"\",VLOOKUP(AS117,'Footnotes list'!$D$9:$E$58,2,FALSE) ) )","v":""},{"$f":"SUM(AU9,AU12,AU15,AU18,AU21,AU24,AU27,AU30,AU33,AU36,AU39,AU42,AU45,AU48,AU51,AU54,AU57,AU60,AU63,AU66,AU69,AU72,AU75,AU78,AU81,AU84,AU87,AU90,AU93,AU96,AU99,AU102,AU105)","v":43557.41},null,null,null,{"$f":"IF(TRIM(AX117)=\"\", \"\", IF(VLOOKUP(AX117,'Footnotes list'!$D$9:$E$58,2,FALSE)=0,\"\",VLOOKUP(AX117,'Footnotes list'!$D$9:$E$58,2,FALSE) ) )","v":""},{"$f":"SUM(AZ9,AZ12,AZ15,AZ18,AZ21,AZ24,AZ27,AZ30,AZ33,AZ36,AZ39,AZ42,AZ45,AZ48,AZ51,AZ54,AZ57,AZ60,AZ63,AZ66,AZ69,AZ72,AZ75,AZ78,AZ81,AZ84,AZ87,AZ90,AZ93,AZ96,AZ99,AZ102,AZ105)","v":120757.399},null,null,null,{"$f":"IF(TRIM(BC117)=\"\", \"\", IF(VLOOKUP(BC117,'Footnotes list'!$D$9:$E$58,2,FALSE)=0,\"\",VLOOKUP(BC117,'Footnotes list'!$D$9:$E$58,2,FALSE) ) )","v":""},{"$f":"SUM(BE9,BE12,BE15,BE18,BE21,BE24,BE27,BE30,BE33,BE36,BE39,BE42,BE45,BE48,BE51,BE54,BE57,BE60,BE63,BE66,BE69,BE72,BE75,BE78,BE81,BE84,BE87,BE90,BE93,BE96,BE99,BE102,BE105)","v":36230.786},null,null,null,{"$f":"IF(TRIM(BH117)=\"\", \"\", IF(VLOOKUP(BH117,'Footnotes list'!$D$9:$E$58,2,FALSE)=0,\"\",VLOOKUP(BH117,'Footnotes list'!$D$9:$E$58,2,FALSE) ) )","v":""},{"$f":"SUM(BJ9,BJ12,BJ15,BJ18,BJ21,BJ24,BJ27,BJ30,BJ33,BJ36,BJ39,BJ42,BJ45,BJ48,BJ51,BJ54,BJ57,BJ60,BJ63,BJ66,BJ69,BJ72,BJ75,BJ78,BJ81,BJ84,BJ87,BJ90,BJ93,BJ96,BJ99,BJ102,BJ105)","v":21294.535},null,null,null,{"$f":"IF(TRIM(BM117)=\"\", \"\", IF(VLOOKUP(BM117,'Footnotes list'!$D$9:$E$58,2,FALSE)=0,\"\",VLOOKUP(BM117,'Footnotes list'!$D$9:$E$58,2,FALSE) ) )","v":""},{"$f":"SUM(BO9,BO12,BO15,BO18,BO21,BO24,BO27,BO30,BO33,BO36,BO39,BO42,BO45,BO48,BO51,BO54,BO57,BO60,BO63,BO66,BO69,BO72,BO75,BO78,BO81,BO84,BO87,BO90,BO93,BO96,BO99,BO102,BO105)","v":521424.00799999997},null,null,null,{"$f":"IF(TRIM(BR117)=\"\", \"\", IF(VLOOKUP(BR117,'Footnotes list'!$D$9:$E$58,2,FALSE)=0,\"\",VLOOKUP(BR117,'Footnotes list'!$D$9:$E$58,2,FALSE) ) )","v":""},{"$f":"SUM(BT9,BT12,BT15,BT18,BT21,BT24,BT27,BT30,BT33,BT36,BT39,BT42,BT45,BT48,BT51,BT54,BT57,BT60,BT63,BT66,BT69,BT72,BT75,BT78,BT81,BT84,BT87,BT90,BT93,BT96,BT99,BT102,BT105)","v":64565.985999999997},null,null,null,{"$f":"IF(TRIM(BW117)=\"\", \"\", IF(VLOOKUP(BW117,'Footnotes list'!$D$9:$E$58,2,FALSE)=0,\"\",VLOOKUP(BW117,'Footnotes list'!$D$9:$E$58,2,FALSE) ) )","v":""},{"$f":"SUM(BY9,BY12,BY15,BY18,BY21,BY24,BY27,BY30,BY33,BY36,BY39,BY42,BY45,BY48,BY51,BY54,BY57,BY60,BY63,BY66,BY69,BY72,BY75,BY78,BY81,BY84,BY87,BY90,BY93,BY96,BY99,BY102,BY105)","v":34391.392999999996},null,null,null,{"$f":"IF(TRIM(CB117)=\"\", \"\", IF(VLOOKUP(CB117,'Footnotes list'!$D$9:$E$58,2,FALSE)=0,\"\",VLOOKUP(CB117,'Footnotes list'!$D$9:$E$58,2,FALSE) ) )","v":""},{"$f":"SUM(CD9,CD12,CD15,CD18,CD21,CD24,CD27,CD30,CD33,CD36,CD39,CD42,CD45,CD48,CD51,CD54,CD57,CD60,CD63,CD66,CD69,CD72,CD75,CD78,CD81,CD84,CD87,CD90,CD93,CD96,CD99,CD102,CD105)","v":1821470.2239999999},null,null,null,{"$f":"IF(TRIM(CG117)=\"\", \"\", IF(VLOOKUP(CG117,'Footnotes list'!$D$9:$E$58,2,FALSE)=0,\"\",VLOOKUP(CG117,'Footnotes list'!$D$9:$E$58,2,FALSE) ) )","v":""},{"$f":"SUM(CI9,CI12,CI15,CI18,CI21,CI24,CI27,CI30,CI33,CI36,CI39,CI42,CI45,CI48,CI51,CI54,CI57,CI60,CI63,CI66,CI69,CI72,CI75,CI78,CI81,CI84,CI87,CI90,CI93,CI96,CI99,CI102,CI105)","v":1855861.6170000001},null,null,null,{"$f":"IF(TRIM(CL117)=\"\", \"\", IF(VLOOKUP(CL117,'Footnotes list'!$D$9:$E$58,2,FALSE)=0,\"\",VLOOKUP(CL117,'Footnotes list'!$D$9:$E$58,2,FALSE) ) )","v":""},{"$f":"SUM(CN9,CN12,CN15,CN18,CN21,CN24,CN27,CN30,CN33,CN36,CN39,CN42,CN45,CN48,CN51,CN54,CN57,CN60,CN63,CN66,CN69,CN72,CN75,CN78,CN81,CN84,CN87,CN90,CN93,CN96,CN99,CN102,CN105)","v":2066568.602},null,null,null,{"$f":"IF(TRIM(CQ117)=\"\", \"\", IF(VLOOKUP(CQ117,'Footnotes list'!$D$9:$E$58,2,FALSE)=0,\"\",VLOOKUP(CQ117,'Footnotes list'!$D$9:$E$58,2,FALSE) ) )","v":""},{"$f":"SUM(CS9,CS12,CS15,CS18,CS21,CS24,CS27,CS30,CS33,CS36,CS39,CS42,CS45,CS48,CS51,CS54,CS57,CS60,CS63,CS66,CS69,CS72,CS75,CS78,CS81,CS84,CS87,CS90,CS93,CS96,CS99,CS102,CS105)","v":545323.92099999997},null,null,null,{"$f":"IF(TRIM(CV117)=\"\", \"\", IF(VLOOKUP(CV117,'Footnotes list'!$D$9:$E$58,2,FALSE)=0,\"\",VLOOKUP(CV117,'Footnotes list'!$D$9:$E$58,2,FALSE) ) )","v":""},{"$f":"SUM(CX9,CX12,CX15,CX18,CX21,CX24,CX27,CX30,CX33,CX36,CX39,CX42,CX45,CX48,CX51,CX54,CX57,CX60,CX63,CX66,CX69,CX72,CX75,CX78,CX81,CX84,CX87,CX90,CX93,CX96,CX99,CX102,CX105)","v":34128.207000000002},null,null,null,{"$f":"IF(TRIM(DA117)=\"\", \"\", IF(VLOOKUP(DA117,'Footnotes list'!$D$9:$E$58,2,FALSE)=0,\"\",VLOOKUP(DA117,'Footnotes list'!$D$9:$E$58,2,FALSE) ) )","v":""},{"$f":"SUM(DC9,DC12,DC15,DC18,DC21,DC24,DC27,DC30,DC33,DC36,DC39,DC42,DC45,DC48,DC51,DC54,DC57,DC60,DC63,DC66,DC69,DC72,DC75,DC78,DC81,DC84,DC87,DC90,DC93,DC96,DC99,DC102,DC105)","v":1313611.9450000001},null,null,null,{"$f":"IF(TRIM(DF117)=\"\", \"\", IF(VLOOKUP(DF117,'Footnotes list'!$D$9:$E$58,2,FALSE)=0,\"\",VLOOKUP(DF117,'Footnotes list'!$D$9:$E$58,2,FALSE) ) )","v":""},{"$f":"SUM(DH9,DH12,DH15,DH18,DH21,DH24,DH27,DH30,DH33,DH36,DH39,DH42,DH45,DH48,DH51,DH54,DH57,DH60,DH63,DH66,DH69,DH72,DH75,DH78,DH81,DH84,DH87,DH90,DH93,DH96,DH99,DH102,DH105)","v":7607237.9210000001},null,null,null,{"$f":"IF(TRIM(DK117)=\"\", \"\", IF(VLOOKUP(DK117,'Footnotes list'!$D$9:$E$58,2,FALSE)=0,\"\",VLOOKUP(DK117,'Footnotes list'!$D$9:$E$58,2,FALSE) ) )","v":""}]
[null,null,"TOTAL",null,"HAZ_NHAZ","Total",477717.22600000002,null,null,null,{"$f":"IF(TRIM(J118)=\"\", \"\", IF(VLOOKUP(J118,'Footnotes list'!$D$9:$E$58,2,FALSE)=0,\"\",VLOOKUP(J118,'Footnotes list'!$D$9:$E$58,2,FALSE) ) )","v":""},736232.04,null,null,null,{"$f":"IF(TRIM(O118)=\"\", \"\", IF(VLOOKUP(O118,'Footnotes list'!$D$9:$E$58,2,FALSE)=0,\"\",VLOOKUP(O118,'Footnotes list'!$D$9:$E$58,2,FALSE) ) )","v":""},128089.88800000001,null,null,null,{"$f":"IF(TRIM(T118)=\"\", \"\", IF(VLOOKUP(T118,'Footnotes list'!$D$9:$E$58,2,FALSE)=0,\"\",VLOOKUP(T118,'Footnotes list'!$D$9:$E$58,2,FALSE) ) )","v":""},9570.1720000000005,null,null,null,{"$f":"IF(TRIM(Y118)=\"\", \"\", IF(VLOOKUP(Y118,'Footnotes list'!$D$9:$E$58,2,FALSE)=0,\"\",VLOOKUP(Y118,'Footnotes list'!$D$9:$E$58,2,FALSE) ) )","v":""},51285.682000000001,null,null,null,{"$f":"IF(TRIM(AD118)=\"\", \"\", IF(VLOOKUP(AD118,'Footnotes list'!$D$9:$E$58,2,FALSE)=0,\"\",VLOOKUP(AD118,'Footnotes list'!$D$9:$E$58,2,FALSE) ) )","v":""},71490.251000000004,null,null,null,{"$f":"IF(TRIM(AI118)=\"\", \"\", IF(VLOOKUP(AI118,'Footnotes list'!$D$9:$E$58,2,FALSE)=0,\"\",VLOOKUP(AI118,'Footnotes list'!$D$9:$E$58,2,FALSE) ) )","v":""},6389.8389999999999,null,null,null,{"$f":"IF(TRIM(AN118)=\"\", \"\", IF(VLOOKUP(AN118,'Footnotes list'!$D$9:$E$58,2,FALSE)=0,\"\",VLOOKUP(AN118,'Footnotes list'!$D$9:$E$58,2,FALSE) ) )","v":""},43317.402999999998,null,null,null,{"$f":"IF(TRIM(AS118)=\"\", \"\", IF(VLOOKUP(AS118,'Footnotes list'!$D$9:$E$58,2,FALSE)=0,\"\",VLOOKUP(AS118,'Footnotes list'!$D$9:$E$58,2,FALSE) ) )","v":""},45422.508999999998,null,null,null,{"$f":"IF(TRIM(AX118)=\"\", \"\", IF(VLOOKUP(AX118,'Footnotes list'!$D$9:$E$58,2,FALSE)=0,\"\",VLOOKUP(AX118,'Footnotes list'!$D$9:$E$58,2,FALSE) ) )","v":""},154271.432,null,null,null,{"$f":"IF(TRIM(BC118)=\"\", \"\", IF(VLOOKUP(BC118,'Footnotes list'!$D$9:$E$58,2,FALSE)=0,\"\",VLOOKUP(BC118,'Footnotes list'!$D$9:$E$58,2,FALSE) ) )","v":""},41324.341,null,null,null,{"$f":"IF(TRIM(BH118)=\"\", \"\", IF(VLOOKUP(BH118,'Footnotes list'!$D$9:$E$58,2,FALSE)=0,\"\",VLOOKUP(BH118,'Footnotes list'!$D$9:$E$58,2,FALSE) ) )","v":""},22987.626,null,null,null,{"$f":"IF(TRIM(BM118)=\"\", \"\", IF(VLOOKUP(BM118,'Footnotes list'!$D$9:$E$58,2,FALSE)=0,\"\",VLOOKUP(BM118,'Footnotes list'!$D$9:$E$58,2,FALSE) ) )","v":""},574149.14300000004,null,null,null,{"$f":"IF(TRIM(BR118)=\"\", \"\", IF(VLOOKUP(BR118,'Footnotes list'!$D$9:$E$58,2,FALSE)=0,\"\",VLOOKUP(BR118,'Footnotes list'!$D$9:$E$58,2,FALSE) ) )","v":""},65540.093999999997,null,null,null,{"$f":"IF(TRIM(BW118)=\"\", \"\", IF(VLOOKUP(BW118,'Footnotes list'!$D$9:$E$58,2,FALSE)=0,\"\",VLOOKUP(BW118,'Footnotes list'!$D$9:$E$58,2,FALSE) ) )","v":""},35173.099000000002,null,null,null,{"$f":"IF(TRIM(CB118)=\"\", \"\", IF(VLOOKUP(CB118,'Footnotes list'!$D$9:$E$58,2,FALSE)=0,\"\",VLOOKUP(CB118,'Footnotes list'!$D$9:$E$58,2,FALSE) ) )","v":""},1826874.476,null,null,null,{"$f":"IF(TRIM(CG118)=\"\", \"\", IF(VLOOKUP(CG118,'Footnotes list'!$D$9:$E$58,2,FALSE)=0,\"\",VLOOKUP(CG118,'Footnotes list'!$D$9:$E$58,2,FALSE) ) )","v":""},1862047.575,null,null,null,{"$f":"IF(TRIM(CL118)=\"\", \"\", IF(VLOOKUP(CL118,'Footnotes list'!$D$9:$E$58,2,FALSE)=0,\"\",VLOOKUP(CL118,'Footnotes list'!$D$9:$E$58,2,FALSE) ) )","v":""},2083881.7590000001,null,null,null,{"$f":"IF(TRIM(CQ118)=\"\", \"\", IF(VLOOKUP(CQ118,'Footnotes list'!$D$9:$E$58,2,FALSE)=0,\"\",VLOOKUP(CQ118,'Footnotes list'!$D$9:$E$58,2,FALSE) ) )","v":""},573212.04099999997,null,null,null,{"$f":"IF(TRIM(CV118)=\"\", \"\", IF(VLOOKUP(CV118,'Footnotes list'!$D$9:$E$58,2,FALSE)=0,\"\",VLOOKUP(CV118,'Footnotes list'!$D$9:$E$58,2,FALSE) ) )","v":""},34169.692000000003,null,null,null,{"$f":"IF(TRIM(DA118)=\"\", \"\", IF(VLOOKUP(DA118,'Footnotes list'!$D$9:$E$58,2,FALSE)=0,\"\",VLOOKUP(DA118,'Footnotes list'!$D$9:$E$58,2,FALSE) ) )","v":""},1386525.4069999999,null,null,null,{"$f":"IF(TRIM(DF118)=\"\", \"\", IF(VLOOKUP(DF118,'Footnotes list'!$D$9:$E$58,2,FALSE)=0,\"\",VLOOKUP(DF118,'Footnotes list'!$D$9:$E$58,2,FALSE) ) )","v":""},7793474.977,null,null,null,{"$f":"IF(TRIM(DK118)=\"\", \"\", IF(VLOOKUP(DK118,'Footnotes list'!$D$9:$E$58,2,FALSE)=0,\"\",VLOOKUP(DK118,'Footnotes list'!$D$9:$E$58,2,FALSE) ) )","v":""}]
[]
[null,"Notes:"]
[]
[null,"Cell shading:"]
[null,"White: Data provision is mandatory."]
[null,"Light grey: Automatic calculation. Formula can exceptionally be changed by a value"]
[null,"Light orange: Footnotes (only to be filled-in when relevant)"]
[null,"Black: Not applicable"]
[]
[]
[null,"Valid standard footnotes:"]
[null,"     B -  Break in time series"]
[null,"     E -  Estimate"]
[null,"     P -  Provisional"]
[]
[null,"Valid confidentiality footnotes:"]
[null,"     C -  Confidential"]
[null,"     D -  Secondary confidentiality set by the sender, not for publication"]

{"sheet":"ErrorLog","index":8,"n_rows":1,"n_cols":7,"rows_kept":1,"cut":false,"hidden":false,"merged":[]}
["Link to Error","Validation Rule","Cell","Sheet","Description","Severity","Former Color"]

{"sheet":"Table_1 (COPY-PASTING)","index":9,"n_rows":136,"n_cols":116,"rows_kept":136,"cut":false,"hidden":false,"merged":[[1,6,3,115],[109,1,111,1],[109,3,111,3],[112,1,114,1],[112,3,114,3],[115,1,117,1],[115,3,117,3],[100,1,102,1],[100,3,102,3],[103,1,105,1],[103,3,105,3],[106,1,108,1],[106,3,108,3],[91,1,93,1],[91,3,93,3],[94,1,96,1],[94,3,96,3],[97,1,99,1],[97,3,99,3],[82,1,84,1],[82,3,84,3],[85,1,87,1],[85,3,87,3],[88,1,90,1],[88,3,90,3],[73,1,75,1],[73,3,75,3],[76,1,78,1],[76,3,78,3],[79,1,81,1],[79,3,81,3],[64,1,66,1],[64,3,66,3],[67,1,69,1],[67,3,69,3],[70,1,72,1],[70,3,72,3],[55,1,57,1],[55,3,57,3],[58,1,60,1],[58,3,60,3],[61,1,63,1],[61,3,63,3],[46,1,48,1],[46,3,48,3],[49,1,51,1],[49,3,51,3],[52,1,54,1],[52,3,54,3],[37,1,39,1],[37,3,39,3],[40,1,42,1],[40,3,42,3],[43,1,45,1],[43,3,45,3],[28,1,30,1],[28,3,30,3],[31,1,33,1],[31,3,33,3],[34,1,36,1],[34,3,36,3],[6,29,6,30],[19,1,21,1],[19,3,21,3],[22,1,24,1],[22,3,24,3],[25,1,27,1],[25,3,27,3],[10,1,12,1],[10,3,12,3],[13,1,15,1],[13,3,15,3],[16,1,18,1],[16,3,18,3],[6,94,6,95],[6,99,6,100],[6,104,6,105],[6,109,6,110],[6,114,6,115],[7,1,9,1],[7,3,9,3],[6,64,6,65],[6,69,6,70],[6,74,6,75],[6,79,6,80],[6,84,6,85],[6,89,6,90],[6,34,6,35],[6,39,6,40],[6,44,6,45],[6,49,6,50],[6,54,6,55],[6,59,6,60],[6,1,6,5],[6,9,6,10],[6,14,6,15],[6,19,6,20],[6,24,6,25],[5,111,5,115],[5,86,5,90],[5,91,5,95],[5,36,5,40],[5,41,5,45],[5,46,5,50],[5,51,5,55],[5,56,5,60],[5,61,5,65],[5,66,5,70],[5,71,5,75],[5,76,5,80],[5,81,5,85],[5,6,5,10],[5,11,5,15],[5,16,5,20],[5,21,5,25],[5,26,5,30],[5,31,5,35],[5,96,5,100],[5,101,5,105],[5,106,5,110]]}
[]
[null,null,null,null,null,null,"NOT VALID FOR REPORTING … NOT VALID FOR REPORTING ...  NOT VALID FOR REPORTING … NOT VALID FOR REPORTING … NOT VALID FOR REPORTING ... NOT VALID FOR REPORTING ... NOT VALID FOR REPORTING … NOT VALID FOR REPORTING ... NOT VALID FOR REPORTING ... NOT VALID FOR REPORTING"]
[null,"Country:",null,{"$f":"IF('GETTING STARTED'!E9=\"\",\"\",'GETTING STARTED'!$E$9)","v":"Croatia"},null,{"$f":"IF('GETTING STARTED'!F9=\"\",\"\",'GETTING STARTED'!$F$9)","v":""}]
[null,"Reference year:",null,{"$f":"IF('GETTING STARTED'!E10=\"\",\"\",'GETTING STARTED'!$E$10)","v":2024}]
[null,null,null,null,null,null,"A",null,null,null,null,"B",null,null,null,null,"C10-C12",null,null,null,null,"C13-C15",null,null,null,null,"C16",null,null,null,null,"C17_C18",null,null,null,null,"C19",null,null,null,null,"C20-C22",null,null,null,null,"C23",null,null,null,null,"C24_C25",null,null,null,null,"C26-C30",null,null,null,null,"C31-C33",null,null,null,null,"C",null,null,null,null,"D",null,null,null,null,"E36_E37_E39",null,null,null,null,"E38",null,null,null,null,"E",null,null,null,null,"F",null,null,null,null,"G-U_X_G4677",null,null,null,null,"G4677",null,null,null,null,"EP_HH",null,null,null,null,"TOTAL_HH"]
[null,"Unit: Tonnes",null,"T",null,null,{"$f":"G5","v":"A"},null,null,null,null,{"$f":"L5","v":"B"},null,null,null,null,{"$f":"Q5","v":"C10-C12"},null,null,null,null,{"$f":"V5","v":"C13-C15"},null,null,null,null,{"$f":"AA5","v":"C16"},null,null,null,null,{"$f":"AF5","v":"C17_C18"},null,null,null,null,{"$f":"AK5","v":"C19"},null,null,null,null,{"$f":"AP5","v":"C20-C22"},null,null,null,null,{"$f":"AU5","v":"C23"},null,null,null,null,{"$f":"AZ5","v":"C24_C25"},null,null,null,null,{"$f":"BE5","v":"C26-C30"},null,null,null,null,{"$f":"BJ5","v":"C31-C33"},null,null,null,null,{"$f":"BO5","v":"C"},null,null,null,null,{"$f":"BT5","v":"D"},null,null,null,null,{"$f":"BY5","v":"E36_E37_E39"},null,null,null,null,{"$f":"CD5","v":"E38"},null,null,null,null,{"$f":"CI5","v":"E"},null,null,null,null,{"$f":"CN5","v":"F"},null,null,null,null,{"$f":"CS5","v":"G-U_X_G4677"},null,null,null,null,{"$f":"CX5","v":"G4677"},null,null,null,null,{"$f":"DC5","v":"EP_HH"},null,null,null,null,{"$f":"DH5","v":"TOTAL_HH"}]
[null,"WASTE GENERATION\nby waste category (EWC-STAT)\nand economic activity (NACE)",null,null,null,null,"Agriculture, forestry and fishing","Standard footnote","Confidentiality footnote","Explanatory footnote",null,"Mining and quarrying","Standard footnote","Confidentiality footnote","Explanatory footnote",null,"Manufacture of food products; beverages and tobacco products","Standard footnote","Confidentiality footnote","Explanatory footnote",null,"Manufacture of textiles, wearing apparel, leather and related products","Standard footnote","Confidentiality footnote","Explanatory footnote",null,"Manufacture of wood and of products of wood and cork, except furniture; manufacture of articles of straw and plaiting materials","Standard footnote","Confidentiality footnote","Explanatory footnote",null,"Manufacture of paper and paper products; printing and reproduction of recorded media","Standard footnote","Confidentiality footnote","Explanatory footnote",null,"Manufacture of coke and refined petroleum products","Standard footnote","Confidentiality footnote","Explanatory footnote",null,"Manufacture of chemical, pharmaceutical, rubber and plastic products","Standard footnote","Confidentiality footnote","Explanatory footnote",null,"Manufacture of other non-metallic mineral products","Standard footnote","Confidentiality footnote","Explanatory footnote",null,"Manufacture of basic metals and fabricated metal products, except machinery and equipment","Standard footnote","Confidentiality footnote","Explanatory footnote",null,"Manufacture of computer, electronic and optical products, electrical equipment, motor vehicles and other transport equipment","Standard footnote","Confidentiality footnote","Explanatory footnote",null,"Manufacture of furniture; jewellery, musical instruments, toys; repair and installation of machinery and equipment","Standard footnote","Confidentiality footnote","Explanatory footnote",null,"Manufacturing","Standard footnote","Confidentiality footnote","Explanatory footnote",null,"Electricity, gas, steam and air conditioning supply","Standard footnote","Confidentiality footnote","Explanatory footnote",null,"Water collection, treatment and supply; sewerage; remediation activities and other waste management services","Standard footnote","Confidentiality footnote","Explanatory footnote",null,"Waste collection, treatment and disposal activities; materials recovery","Standard footnote","Confidentiality footnote","Explanatory footnote",null,"Water supply; sewerage, waste management and remediation activities","Standard footnote","Confidentiality footnote","Explanatory footnote",null,"Construction","Standard footnote","Confidentiality footnote","Explanatory footnote",null,"Services (except wholesale of waste and scrap)","Standard footnote","Confidentiality footnote","Explanatory footnote",null,"Wholesale of waste and scrap","Standard footnote","Confidentiality footnote","Explanatory footnote",null,"Households","Standard footnote","Confidentiality footnote","Explanatory footnote",null,"All NACE activities plus households","Standard footnote","Confidentiality footnote","Explanatory footnote"]
[null,"W011","W011","Spent solvents ","HAZ","Hazardous ",null,null,null,null,{"$f":"IF(TRIM(J8)=\"\", \"\", IF(VLOOKUP(J8,'Footnotes list'!$D$9:$E$58,2,FALSE)=0,\"\",VLOOKUP(J8,'Footnotes list'!$D$9:$E$58,2,FALSE) ) )","v":""},null,null,null,null,{"$f":"IF(TRIM(O8)=\"\", \"\", IF(VLOOKUP(O8,'Footnotes list'!$D$9:$E$58,2,FALSE)=0,\"\",VLOOKUP(O8,'Footnotes list'!$D$9:$E$58,2,FALSE) ) )","v":""},null,null,null,null,{"$f":"IF(TRIM(T8)=\"\", \"\", IF(VLOOKUP(T8,'Footnotes list'!$D$9:$E$58,2,FALSE)=0,\"\",VLOOKUP(T8,'Footnotes list'!$D$9:$E$58,2,FALSE) ) )","v":""},null,null,null,null,{"$f":"IF(TRIM(Y8)=\"\", \"\", IF(VLOOKUP(Y8,'Footnotes list'!$D$9:$E$58,2,FALSE)=0,\"\",VLOOKUP(Y8,'Footnotes list'!$D$9:$E$58,2,FALSE) ) )","v":""},null,null,null,null,{"$f":"IF(TRIM(AD8)=\"\", \"\", IF(VLOOKUP(AD8,'Footnotes list'!$D$9:$E$58,2,FALSE)=0,\"\",VLOOKUP(AD8,'Footnotes list'!$D$9:$E$58,2,FALSE) ) )","v":""},null,null,null,null,{"$f":"IF(TRIM(AI8)=\"\", \"\", IF(VLOOKUP(AI8,'Footnotes list'!$D$9:$E$58,2,FALSE)=0,\"\",VLOOKUP(AI8,'Footnotes list'!$D$9:$E$58,2,FALSE) ) )","v":""},null,null,null,null,{"$f":"IF(TRIM(AN8)=\"\", \"\", IF(VLOOKUP(AN8,'Footnotes list'!$D$9:$E$58,2,FALSE)=0,\"\",VLOOKUP(AN8,'Footnotes list'!$D$9:$E$58,2,FALSE) ) )","v":""},null,null,null,null,{"$f":"IF(TRIM(AS8)=\"\", \"\", IF(VLOOKUP(AS8,'Footnotes list'!$D$9:$E$58,2,FALSE)=0,\"\",VLOOKUP(AS8,'Footnotes list'!$D$9:$E$58,2,FALSE) ) )","v":""},null,null,null,null,{"$f":"IF(TRIM(AX8)=\"\", \"\", IF(VLOOKUP(AX8,'Footnotes list'!$D$9:$E$58,2,FALSE)=0,\"\",VLOOKUP(AX8,'Footnotes list'!$D$9:$E$58,2,FALSE) ) )","v":""},null,null,null,null,{"$f":"IF(TRIM(BC8)=\"\", \"\", IF(VLOOKUP(BC8,'Footnotes list'!$D$9:$E$58,2,FALSE)=0,\"\",VLOOKUP(BC8,'Footnotes list'!$D$9:$E$58,2,FALSE) ) )","v":""},null,null,null,null,{"$f":"IF(TRIM(BH8)=\"\", \"\", IF(VLOOKUP(BH8,'Footnotes list'!$D$9:$E$58,2,FALSE)=0,\"\",VLOOKUP(BH8,'Footnotes list'!$D$9:$E$58,2,FALSE) ) )","v":""},null,null,null,null,{"$f":"IF(TRIM(BM8)=\"\", \"\", IF(VLOOKUP(BM8,'Footnotes list'!$D$9:$E$58,2,FALSE)=0,\"\",VLOOKUP(BM8,'Footnotes list'!$D$9:$E$58,2,FALSE) ) )","v":""},{"$f":"IF(AND(TRIM(Q8)=\"\",TRIM(V8)=\"\",TRIM(AA8)=\"\", TRIM(AF8)=\"\", TRIM(AK8)=\"\", TRIM(AP8)=\"\", TRIM(AU8)=\"\", TRIM(AZ8)=\"\", TRIM(BE8)=\"\", TRIM(BJ8)=\"\"),\"\",Q8+V8+AA8+AF8+AK8+AP8+AU8+AZ8+BE8+BJ8)","v":""},null,null,null,{"$f":"IF(TRIM(BR8)=\"\", \"\", IF(VLOOKUP(BR8,'Footnotes list'!$D$9:$E$58,2,FALSE)=0,\"\",VLOOKUP(BR8,'Footnotes list'!$D$9:$E$58,2,FALSE) ) )","v":""},null,null,null,null,{"$f":"IF(TRIM(BW8)=\"\", \"\", IF(VLOOKUP(BW8,'Footnotes list'!$D$9:$E$58,2,FALSE)=0,\"\",VLOOKUP(BW8,'Footnotes list'!$D$9:$E$58,2,FALSE) ) )","v":""},null,null,null,null,{"$f":"IF(TRIM(CB8)=\"\", \"\", IF(VLOOKUP(CB8,'Footnotes list'!$D$9:$E$58,2,FALSE)=0,\"\",VLOOKUP(CB8,'Footnotes list'!$D$9:$E$58,2,FALSE) ) )","v":""},null,null,null,null,{"$f":"IF(TRIM(CG8)=\"\", \"\", IF(VLOOKUP(CG8,'Footnotes list'!$D$9:$E$58,2,FALSE)=0,\"\",VLOOKUP(CG8,'Footnotes list'!$D$9:$E$58,2,FALSE) ) )","v":""},{"$f":"IF(AND(TRIM(BY8)=\"\",TRIM(CD8)=\"\"),\"\",BY8+CD8)","v":""},null,null,null,{"$f":"IF(TRIM(CL8)=\"\", \"\", IF(VLOOKUP(CL8,'Footnotes list'!$D$9:$E$58,2,FALSE)=0,\"\",VLOOKUP(CL8,'Footnotes list'!$D$9:$E$58,2,FALSE) ) )","v":""},null,null,null,null,{"$f":"IF(TRIM(CQ8)=\"\", \"\", IF(VLOOKUP(CQ8,'Footnotes list'!$D$9:$E$58,2,FALSE)=0,\"\",VLOOKUP(CQ8,'Footnotes list'!$D$9:$E$58,2,FALSE) ) )","v":""},null,null,null,null,{"$f":"IF(TRIM(CV8)=\"\", \"\", IF(VLOOKUP(CV8,'Footnotes list'!$D$9:$E$58,2,FALSE)=0,\"\",VLOOKUP(CV8,'Footnotes list'!$D$9:$E$58,2,FALSE) ) )","v":""},null,null,null,null,{"$f":"IF(TRIM(DA8)=\"\", \"\", IF(VLOOKUP(DA8,'Footnotes list'!$D$9:$E$58,2,FALSE)=0,\"\",VLOOKUP(DA8,'Footnotes list'!$D$9:$E$58,2,FALSE) ) )","v":""},null,null,null,null,{"$f":"IF(TRIM(DF8)=\"\", \"\", IF(VLOOKUP(DF8,'Footnotes list'!$D$9:$E$58,2,FALSE)=0,\"\",VLOOKUP(DF8,'Footnotes list'!$D$9:$E$58,2,FALSE) ) )","v":""},{"$f":"IF(AND(TRIM(G8)=\"\",TRIM(L8)=\"\",TRIM(BO8)=\"\",TRIM(BT8)=\"\",TRIM(CI8)=\"\",TRIM(CN8)=\"\",TRIM(CS8)=\"\",TRIM(CX8)=\"\",TRIM(DC8)=\"\"),\"\",SUM(G8,L8,BO8,BT8,CI8,CN8,CS8,CX8,DC8))","v":""},null,null,null,{"$f":"IF(TRIM(DK8)=\"\", \"\", IF(VLOOKUP(DK8,'Footnotes list'!$D$9:$E$58,2,FALSE)=0,\"\",VLOOKUP(DK8,'Footnotes list'!$D$9:$E$58,2,FALSE) ) )","v":""}]
[null,null,null,null,null,"Not applicable"]
[null,null,"W011",null,"HAZ_NHAZ","Total",{"$f":"IF(AND(TRIM(G8)=\"\",TRIM(G9)=\"\"),\"\",G8+G9)","v":""},null,null,null,{"$f":"IF(TRIM(J10)=\"\", \"\", IF(VLOOKUP(J10,'Footnotes list'!$D$9:$E$58,2,FALSE)=0,\"\",VLOOKUP(J10,'Footnotes list'!$D$9:$E$58,2,FALSE) ) )","v":""},{"$f":"IF(AND(TRIM(L8)=\"\",TRIM(L9)=\"\"),\"\",L8+L9)","v":""},null,null,null,{"$f":"IF(TRIM(O10)=\"\", \"\", IF(VLOOKUP(O10,'Footnotes list'!$D$9:$E$58,2,FALSE)=0,\"\",VLOOKUP(O10,'Footnotes list'!$D$9:$E$58,2,FALSE) ) )","v":""},{"$f":"IF(AND(TRIM(Q8)=\"\",TRIM(Q9)=\"\"),\"\",Q8+Q9)","v":""},null,null,null,{"$f":"IF(TRIM(T10)=\"\", \"\", IF(VLOOKUP(T10,'Footnotes list'!$D$9:$E$58,2,FALSE)=0,\"\",VLOOKUP(T10,'Footnotes list'!$D$9:$E$58,2,FALSE) ) )","v":""},{"$f":"IF(AND(TRIM(V8)=\"\",TRIM(V9)=\"\"),\"\",V8+V9)","v":""},null,null,null,{"$f":"IF(TRIM(Y10)=\"\", \"\", IF(VLOOKUP(Y10,'Footnotes list'!$D$9:$E$58,2,FALSE)=0,\"\",VLOOKUP(Y10,'Footnotes list'!$D$9:$E$58,2,FALSE) ) )","v":""},{"$f":"IF(AND(TRIM(AA8)=\"\",TRIM(AA9)=\"\"),\"\",AA8+AA9)","v":""},null,null,null,{"$f":"IF(TRIM(AD10)=\"\", \"\", IF(VLOOKUP(AD10,'Footnotes list'!$D$9:$E$58,2,FALSE)=0,\"\",VLOOKUP(AD10,'Footnotes list'!$D$9:$E$58,2,FALSE) ) )","v":""},{"$f":"IF(AND(TRIM(AF8)=\"\",TRIM(AF9)=\"\"),\"\",AF8+AF9)","v":""},null,null,null,{"$f":"IF(TRIM(AI10)=\"\", \"\", IF(VLOOKUP(AI10,'Footnotes list'!$D$9:$E$58,2,FALSE)=0,\"\",VLOOKUP(AI10,'Footnotes list'!$D$9:$E$58,2,FALSE) ) )","v":""},{"$f":"IF(AND(TRIM(AK8)=\"\",TRIM(AK9)=\"\"),\"\",AK8+AK9)","v":""},null,null,null,{"$f":"IF(TRIM(AN10)=\"\", \"\", IF(VLOOKUP(AN10,'Footnotes list'!$D$9:$E$58,2,FALSE)=0,\"\",VLOOKUP(AN10,'Footnotes list'!$D$9:$E$58,2,FALSE) ) )","v":""},{"$f":"IF(AND(TRIM(AP8)=\"\",TRIM(AP9)=\"\"),\"\",AP8+AP9)","v":""},null,null,null,{"$f":"IF(TRIM(AS10)=\"\", \"\", IF(VLOOKUP(AS10,'Footnotes list'!$D$9:$E$58,2,FALSE)=0,\"\",VLOOKUP(AS10,'Footnotes list'!$D$9:$E$58,2,FALSE) ) )","v":""},{"$f":"IF(AND(TRIM(AU8)=\"\",TRIM(AU9)=\"\"),\"\",AU8+AU9)","v":""},null,null,null,{"$f":"IF(TRIM(AX10)=\"\", \"\", IF(VLOOKUP(AX10,'Footnotes list'!$D$9:$E$58,2,FALSE)=0,\"\",VLOOKUP(AX10,'Footnotes list'!$D$9:$E$58,2,FALSE) ) )","v":""},{"$f":"IF(AND(TRIM(AZ8)=\"\",TRIM(AZ9)=\"\"),\"\",AZ8+AZ9)","v":""},null,null,null,{"$f":"IF(TRIM(BC10)=\"\", \"\", IF(VLOOKUP(BC10,'Footnotes list'!$D$9:$E$58,2,FALSE)=0,\"\",VLOOKUP(BC10,'Footnotes list'!$D$9:$E$58,2,FALSE) ) )","v":""},{"$f":"IF(AND(TRIM(BE8)=\"\",TRIM(BE9)=\"\"),\"\",BE8+BE9)","v":""},null,null,null,{"$f":"IF(TRIM(BH10)=\"\", \"\", IF(VLOOKUP(BH10,'Footnotes list'!$D$9:$E$58,2,FALSE)=0,\"\",VLOOKUP(BH10,'Footnotes list'!$D$9:$E$58,2,FALSE) ) )","v":""},{"$f":"IF(AND(TRIM(BJ8)=\"\",TRIM(BJ9)=\"\"),\"\",BJ8+BJ9)","v":""},null,null,null,{"$f":"IF(TRIM(BM10)=\"\", \"\", IF(VLOOKUP(BM10,'Footnotes list'!$D$9:$E$58,2,FALSE)=0,\"\",VLOOKUP(BM10,'Footnotes list'!$D$9:$E$58,2,FALSE) ) )","v":""},{"$f":"IF(AND(TRIM(BO8)=\"\", TRIM(BO9)=\"\"), \"\", (IF(ISNUMBER(BO8),BO8,0)+IF(ISNUMBER(BO9),BO9,0)))","v":""},null,null,null,{"$f":"IF(TRIM(BR10)=\"\", \"\", IF(VLOOKUP(BR10,'Footnotes list'!$D$9:$E$58,2,FALSE)=0,\"\",VLOOKUP(BR10,'Footnotes list'!$D$9:$E$58,2,FALSE) ) )","v":""},{"$f":"IF(AND(TRIM(BT8)=\"\",TRIM(BT9)=\"\"),\"\",BT8+BT9)","v":""},null,null,null,{"$f":"IF(TRIM(BW10)=\"\", \"\", IF(VLOOKUP(BW10,'Footnotes list'!$D$9:$E$58,2,FALSE)=0,\"\",VLOOKUP(BW10,'Footnotes list'!$D$9:$E$58,2,FALSE) ) )","v":""},{"$f":"IF(AND(TRIM(BY8)=\"\",TRIM(BY9)=\"\"),\"\",BY8+BY9)","v":""},null,null,null,{"$f":"IF(TRIM(CB10)=\"\", \"\", IF(VLOOKUP(CB10,'Footnotes list'!$D$9:$E$58,2,FALSE)=0,\"\",VLOOKUP(CB10,'Footnotes list'!$D$9:$E$58,2,FALSE) ) )","v":""},{"$f":"IF(AND(TRIM(CD8)=\"\",TRIM(CD9)=\"\"),\"\",CD8+CD9)","v":""},null,null,null,{"$f":"IF(TRIM(CG10)=\"\", \"\", IF(VLOOKUP(CG10,'Footnotes list'!$D$9:$E$58,2,FALSE)=0,\"\",VLOOKUP(CG10,'Footnotes list'!$D$9:$E$58,2,FALSE) ) )","v":""},{"$f":"IF(AND(TRIM(CI8)=\"\", TRIM(CI9)=\"\"), \"\", (IF(ISNUMBER(CI8),CI8,0)+IF(ISNUMBER(CI9),CI9,0)))","v":""},null,null,null,{"$f":"IF(TRIM(CL10)=\"\", \"\", IF(VLOOKUP(CL10,'Footnotes list'!$D$9:$E$58,2,FALSE)=0,\"\",VLOOKUP(CL10,'Footnotes list'!$D$9:$E$58,2,FALSE) ) )","v":""},{"$f":"IF(AND(TRIM(CN8)=\"\",TRIM(CN9)=\"\"),\"\",CN8+CN9)","v":""},null,null,null,{"$f":"IF(TRIM(CQ10)=\"\", \"\", IF(VLOOKUP(CQ10,'Footnotes list'!$D$9:$E$58,2,FALSE)=0,\"\",VLOOKUP(CQ10,'Footnotes list'!$D$9:$E$58,2,FALSE) ) )","v":""},{"$f":"IF(AND(TRIM(CS8)=\"\",TRIM(CS9)=\"\"),\"\",CS8+CS9)","v":""},null,null,null,{"$f":"IF(TRIM(CV10)=\"\", \"\", IF(VLOOKUP(CV10,'Footnotes list'!$D$9:$E$58,2,FALSE)=0,\"\",VLOOKUP(CV10,'Footnotes list'!$D$9:$E$58,2,FALSE) ) )","v":""},{"$f":"IF(AND(TRIM(CX8)=\"\",TRIM(CX9)=\"\"),\"\",CX8+CX9)","v":""},null,null,null,{"$f":"IF(TRIM(DA10)=\"\", \"\", IF(VLOOKUP(DA10,'Footnotes list'!$D$9:$E$58,2,FALSE)=0,\"\",VLOOKUP(DA10,'Footnotes list'!$D$9:$E$58,2,FALSE) ) )","v":""},{"$f":"IF(AND(TRIM(DC8)=\"\",TRIM(DC9)=\"\"),\"\",DC8+DC9)","v":""},null,null,null,{"$f":"IF(TRIM(DF10)=\"\", \"\", IF(VLOOKUP(DF10,'Footnotes list'!$D$9:$E$58,2,FALSE)=0,\"\",VLOOKUP(DF10,'Footnotes list'!$D$9:$E$58,2,FALSE) ) )","v":""},{"$f":"IF(AND(TRIM(DH8)=\"\", TRIM(DH9)=\"\"), \"\", SUM(DH8,DH9) )","v":""},null,null,null,{"$f":"IF(TRIM(DK10)=\"\", \"\", IF(VLOOKUP(DK10,'Footnotes list'!$D$9:$E$58,2,FALSE)=0,\"\",VLOOKUP(DK10,'Footnotes list'!$D$9:$E$58,2,FALSE) ) )","v":""}]
[null,"W012","W012","Acid, alkaline or saline wastes ","HAZ","Hazardous ",null,null,null,null,{"$f":"IF(TRIM(J11)=\"\", \"\", IF(VLOOKUP(J11,'Footnotes list'!$D$9:$E$58,2,FALSE)=0,\"\",VLOOKUP(J11,'Footnotes list'!$D$9:$E$58,2,FALSE) ) )","v":""},null,null,null,null,{"$f":"IF(TRIM(O11)=\"\", \"\", IF(VLOOKUP(O11,'Footnotes list'!$D$9:$E$58,2,FALSE)=0,\"\",VLOOKUP(O11,'Footnotes list'!$D$9:$E$58,2,FALSE) ) )","v":""},null,null,null,null,{"$f":"IF(TRIM(T11)=\"\", \"\", IF(VLOOKUP(T11,'Footnotes list'!$D$9:$E$58,2,FALSE)=0,\"\",VLOOKUP(T11,'Footnotes list'!$D$9:$E$58,2,FALSE) ) )","v":""},null,null,null,null,{"$f":"IF(TRIM(Y11)=\"\", \"\", IF(VLOOKUP(Y11,'Footnotes list'!$D$9:$E$58,2,FALSE)=0,\"\",VLOOKUP(Y11,'Footnotes list'!$D$9:$E$58,2,FALSE) ) )","v":""},null,null,null,null,{"$f":"IF(TRIM(AD11)=\"\", \"\", IF(VLOOKUP(AD11,'Footnotes list'!$D$9:$E$58,2,FALSE)=0,\"\",VLOOKUP(AD11,'Footnotes list'!$D$9:$E$58,2,FALSE) ) )","v":""},null,null,null,null,{"$f":"IF(TRIM(AI11)=\"\", \"\", IF(VLOOKUP(AI11,'Footnotes list'!$D$9:$E$58,2,FALSE)=0,\"\",VLOOKUP(AI11,'Footnotes list'!$D$9:$E$58,2,FALSE) ) )","v":""},null,null,null,null,{"$f":"IF(TRIM(AN11)=\"\", \"\", IF(VLOOKUP(AN11,'Footnotes list'!$D$9:$E$58,2,FALSE)=0,\"\",VLOOKUP(AN11,'Footnotes list'!$D$9:$E$58,2,FALSE) ) )","v":""},null,null,null,null,{"$f":"IF(TRIM(AS11)=\"\", \"\", IF(VLOOKUP(AS11,'Footnotes list'!$D$9:$E$58,2,FALSE)=0,\"\",VLOOKUP(AS11,'Footnotes list'!$D$9:$E$58,2,FALSE) ) )","v":""},null,null,null,null,{"$f":"IF(TRIM(AX11)=\"\", \"\", IF(VLOOKUP(AX11,'Footnotes list'!$D$9:$E$58,2,FALSE)=0,\"\",VLOOKUP(AX11,'Footnotes list'!$D$9:$E$58,2,FALSE) ) )","v":""},null,null,null,null,{"$f":"IF(TRIM(BC11)=\"\", \"\", IF(VLOOKUP(BC11,'Footnotes list'!$D$9:$E$58,2,FALSE)=0,\"\",VLOOKUP(BC11,'Footnotes list'!$D$9:$E$58,2,FALSE) ) )","v":""},null,null,null,null,{"$f":"IF(TRIM(BH11)=\"\", \"\", IF(VLOOKUP(BH11,'Footnotes list'!$D$9:$E$58,2,FALSE)=0,\"\",VLOOKUP(BH11,'Footnotes list'!$D$9:$E$58,2,FALSE) ) )","v":""},null,null,null,null,{"$f":"IF(TRIM(BM11)=\"\", \"\", IF(VLOOKUP(BM11,'Footnotes list'!$D$9:$E$58,2,FALSE)=0,\"\",VLOOKUP(BM11,'Footnotes list'!$D$9:$E$58,2,FALSE) ) )","v":""},{"$f":"IF(AND(TRIM(Q11)=\"\",TRIM(V11)=\"\",TRIM(AA11)=\"\", TRIM(AF11)=\"\", TRIM(AK11)=\"\", TRIM(AP11)=\"\", TRIM(AU11)=\"\", TRIM(AZ11)=\"\", TRIM(BE11)=\"\", TRIM(BJ11)=\"\"),\"\",Q11+V11+AA11+AF11+AK11+AP11+AU11+AZ11+BE11+BJ11)","v":""},null,null,null,{"$f":"IF(TRIM(BR11)=\"\", \"\", IF(VLOOKUP(BR11,'Footnotes list'!$D$9:$E$58,2,FALSE)=0,\"\",VLOOKUP(BR11,'Footnotes list'!$D$9:$E$58,2,FALSE) ) )","v":""},null,null,null,null,{"$f":"IF(TRIM(BW11)=\"\", \"\", IF(VLOOKUP(BW11,'Footnotes list'!$D$9:$E$58,2,FALSE)=0,\"\",VLOOKUP(BW11,'Footnotes list'!$D$9:$E$58,2,FALSE) ) )","v":""},null,null,null,null,{"$f":"IF(TRIM(CB11)=\"\", \"\", IF(VLOOKUP(CB11,'Footnotes list'!$D$9:$E$58,2,FALSE)=0,\"\",VLOOKUP(CB11,'Footnotes list'!$D$9:$E$58,2,FALSE) ) )","v":""},null,null,null,null,{"$f":"IF(TRIM(CG11)=\"\", \"\", IF(VLOOKUP(CG11,'Footnotes list'!$D$9:$E$58,2,FALSE)=0,\"\",VLOOKUP(CG11,'Footnotes list'!$D$9:$E$58,2,FALSE) ) )","v":""},{"$f":"IF(AND(TRIM(BY11)=\"\",TRIM(CD11)=\"\"),\"\",BY11+CD11)","v":""},null,null,null,{"$f":"IF(TRIM(CL11)=\"\", \"\", IF(VLOOKUP(CL11,'Footnotes list'!$D$9:$E$58,2,FALSE)=0,\"\",VLOOKUP(CL11,'Footnotes list'!$D$9:$E$58,2,FALSE) ) )","v":""},null,null,null,null,{"$f":"IF(TRIM(CQ11)=\"\", \"\", IF(VLOOKUP(CQ11,'Footnotes list'!$D$9:$E$58,2,FALSE)=0,\"\",VLOOKUP(CQ11,'Footnotes list'!$D$9:$E$58,2,FALSE) ) )","v":""},null,null,null,null,{"$f":"IF(TRIM(CV11)=\"\", \"\", IF(VLOOKUP(CV11,'Footnotes list'!$D$9:$E$58,2,FALSE)=0,\"\",VLOOKUP(CV11,'Footnotes list'!$D$9:$E$58,2,FALSE) ) )","v":""},null,null,null,null,{"$f":"IF(TRIM(DA11)=\"\", \"\", IF(VLOOKUP(DA11,'Footnotes list'!$D$9:$E$58,2,FALSE)=0,\"\",VLOOKUP(DA11,'Footnotes list'!$D$9:$E$58,2,FALSE) ) )","v":""},null,null,null,null,{"$f":"IF(TRIM(DF11)=\"\", \"\", IF(VLOOKUP(DF11,'Footnotes list'!$D$9:$E$58,2,FALSE)=0,\"\",VLOOKUP(DF11,'Footnotes list'!$D$9:$E$58,2,FALSE) ) )","v":""},{"$f":"IF(AND(TRIM(G11)=\"\",TRIM(L11)=\"\",TRIM(BO11)=\"\",TRIM(BT11)=\"\",TRIM(CI11)=\"\",TRIM(CN11)=\"\",TRIM(CS11)=\"\",TRIM(CX11)=\"\",TRIM(DC11)=\"\"),\"\",SUM(G11,L11,BO11,BT11,CI11,CN11,CS11,CX11,DC11))","v":""},null,null,null,{"$f":"IF(TRIM(DK11)=\"\", \"\", IF(VLOOKUP(DK11,'Footnotes list'!$D$9:$E$58,2,FALSE)=0,\"\",VLOOKUP(DK11,'Footnotes list'!$D$9:$E$58,2,FALSE) ) )","v":""}]
[null,null,"W012",null,"NHAZ","Non-hazardous",null,null,null,null,{"$f":"IF(TRIM(J12)=\"\", \"\", IF(VLOOKUP(J12,'Footnotes list'!$D$9:$E$58,2,FALSE)=0,\"\",VLOOKUP(J12,'Footnotes list'!$D$9:$E$58,2,FALSE) ) )","v":""},null,null,null,null,{"$f":"IF(TRIM(O12)=\"\", \"\", IF(VLOOKUP(O12,'Footnotes list'!$D$9:$E$58,2,FALSE)=0,\"\",VLOOKUP(O12,'Footnotes list'!$D$9:$E$58,2,FALSE) ) )","v":""},null,null,null,null,{"$f":"IF(TRIM(T12)=\"\", \"\", IF(VLOOKUP(T12,'Footnotes list'!$D$9:$E$58,2,FALSE)=0,\"\",VLOOKUP(T12,'Footnotes list'!$D$9:$E$58,2,FALSE) ) )","v":""},null,null,null,null,{"$f":"IF(TRIM(Y12)=\"\", \"\", IF(VLOOKUP(Y12,'Footnotes list'!$D$9:$E$58,2,FALSE)=0,\"\",VLOOKUP(Y12,'Footnotes list'!$D$9:$E$58,2,FALSE) ) )","v":""},null,null,null,null,{"$f":"IF(TRIM(AD12)=\"\", \"\", IF(VLOOKUP(AD12,'Footnotes list'!$D$9:$E$58,2,FALSE)=0,\"\",VLOOKUP(AD12,'Footnotes list'!$D$9:$E$58,2,FALSE) ) )","v":""},null,null,null,null,{"$f":"IF(TRIM(AI12)=\"\", \"\", IF(VLOOKUP(AI12,'Footnotes list'!$D$9:$E$58,2,FALSE)=0,\"\",VLOOKUP(AI12,'Footnotes list'!$D$9:$E$58,2,FALSE) ) )","v":""},null,null,null,null,{"$f":"IF(TRIM(AN12)=\"\", \"\", IF(VLOOKUP(AN12,'Footnotes list'!$D$9:$E$58,2,FALSE)=0,\"\",VLOOKUP(AN12,'Footnotes list'!$D$9:$E$58,2,FALSE) ) )","v":""},null,null,null,null,{"$f":"IF(TRIM(AS12)=\"\", \"\", IF(VLOOKUP(AS12,'Footnotes list'!$D$9:$E$58,2,FALSE)=0,\"\",VLOOKUP(AS12,'Footnotes list'!$D$9:$E$58,2,FALSE) ) )","v":""},null,null,null,null,{"$f":"IF(TRIM(AX12)=\"\", \"\", IF(VLOOKUP(AX12,'Footnotes list'!$D$9:$E$58,2,FALSE)=0,\"\",VLOOKUP(AX12,'Footnotes list'!$D$9:$E$58,2,FALSE) ) )","v":""},null,null,null,null,{"$f":"IF(TRIM(BC12)=\"\", \"\", IF(VLOOKUP(BC12,'Footnotes list'!$D$9:$E$58,2,FALSE)=0,\"\",VLOOKUP(BC12,'Footnotes list'!$D$9:$E$58,2,FALSE) ) )","v":""},null,null,null,null,{"$f":"IF(TRIM(BH12)=\"\", \"\", IF(VLOOKUP(BH12,'Footnotes list'!$D$9:$E$58,2,FALSE)=0,\"\",VLOOKUP(BH12,'Footnotes list'!$D$9:$E$58,2,FALSE) ) )","v":""},null,null,null,null,{"$f":"IF(TRIM(BM12)=\"\", \"\", IF(VLOOKUP(BM12,'Footnotes list'!$D$9:$E$58,2,FALSE)=0,\"\",VLOOKUP(BM12,'Footnotes list'!$D$9:$E$58,2,FALSE) ) )","v":""},{"$f":"IF(AND(TRIM(Q12)=\"\",TRIM(V12)=\"\",TRIM(AA12)=\"\", TRIM(AF12)=\"\", TRIM(AK12)=\"\", TRIM(AP12)=\"\", TRIM(AU12)=\"\", TRIM(AZ12)=\"\", TRIM(BE12)=\"\", TRIM(BJ12)=\"\"),\"\",Q12+V12+AA12+AF12+AK12+AP12+AU12+AZ12+BE12+BJ12)","v":""},null,null,null,{"$f":"IF(TRIM(BR12)=\"\", \"\", IF(VLOOKUP(BR12,'Footnotes list'!$D$9:$E$58,2,FALSE)=0,\"\",VLOOKUP(BR12,'Footnotes list'!$D$9:$E$58,2,FALSE) ) )","v":""},null,null,null,null,{"$f":"IF(TRIM(BW12)=\"\", \"\", IF(VLOOKUP(BW12,'Footnotes list'!$D$9:$E$58,2,FALSE)=0,\"\",VLOOKUP(BW12,'Footnotes list'!$D$9:$E$58,2,FALSE) ) )","v":""},null,null,null,null,{"$f":"IF(TRIM(CB12)=\"\", \"\", IF(VLOOKUP(CB12,'Footnotes list'!$D$9:$E$58,2,FALSE)=0,\"\",VLOOKUP(CB12,'Footnotes list'!$D$9:$E$58,2,FALSE) ) )","v":""},null,null,null,null,{"$f":"IF(TRIM(CG12)=\"\", \"\", IF(VLOOKUP(CG12,'Footnotes list'!$D$9:$E$58,2,FALSE)=0,\"\",VLOOKUP(CG12,'Footnotes list'!$D$9:$E$58,2,FALSE) ) )","v":""},{"$f":"IF(AND(TRIM(BY12)=\"\",TRIM(CD12)=\"\"),\"\",BY12+CD12)","v":""},null,null,null,{"$f":"IF(TRIM(CL12)=\"\", \"\", IF(VLOOKUP(CL12,'Footnotes list'!$D$9:$E$58,2,FALSE)=0,\"\",VLOOKUP(CL12,'Footnotes list'!$D$9:$E$58,2,FALSE) ) )","v":""},null,null,null,null,{"$f":"IF(TRIM(CQ12)=\"\", \"\", IF(VLOOKUP(CQ12,'Footnotes list'!$D$9:$E$58,2,FALSE)=0,\"\",VLOOKUP(CQ12,'Footnotes list'!$D$9:$E$58,2,FALSE) ) )","v":""},null,null,null,null,{"$f":"IF(TRIM(CV12)=\"\", \"\", IF(VLOOKUP(CV12,'Footnotes list'!$D$9:$E$58,2,FALSE)=0,\"\",VLOOKUP(CV12,'Footnotes list'!$D$9:$E$58,2,FALSE) ) )","v":""},null,null,null,null,{"$f":"IF(TRIM(DA12)=\"\", \"\", IF(VLOOKUP(DA12,'Footnotes list'!$D$9:$E$58,2,FALSE)=0,\"\",VLOOKUP(DA12,'Footnotes list'!$D$9:$E$58,2,FALSE) ) )","v":""},null,null,null,null,{"$f":"IF(TRIM(DF12)=\"\", \"\", IF(VLOOKUP(DF12,'Footnotes list'!$D$9:$E$58,2,FALSE)=0,\"\",VLOOKUP(DF12,'Footnotes list'!$D$9:$E$58,2,FALSE) ) )","v":""},{"$f":"IF(AND(TRIM(G12)=\"\",TRIM(L12)=\"\",TRIM(BO12)=\"\",TRIM(BT12)=\"\",TRIM(CI12)=\"\",TRIM(CN12)=\"\",TRIM(CS12)=\"\",TRIM(CX12)=\"\",TRIM(DC12)=\"\"),\"\",SUM(G12,L12,BO12,BT12,CI12,CN12,CS12,CX12,DC12))","v":""},null,null,null,{"$f":"IF(TRIM(DK12)=\"\", \"\", IF(VLOOKUP(DK12,'Footnotes list'!$D$9:$E$58,2,FALSE)=0,\"\",VLOOKUP(DK12,'Footnotes list'!$D$9:$E$58,2,FALSE) ) )","v":""}]
[null,null,"W012",null,"HAZ_NHAZ","Total",null,null,null,null,{"$f":"IF(TRIM(J13)=\"\", \"\", IF(VLOOKUP(J13,'Footnotes list'!$D$9:$E$58,2,FALSE)=0,\"\",VLOOKUP(J13,'Footnotes list'!$D$9:$E$58,2,FALSE) ) )","v":""},{"$f":"IF(AND(TRIM(L11)=\"\",TRIM(L12)=\"\"),\"\",L11+L12)","v":""},null,null,null,{"$f":"IF(TRIM(O13)=\"\", \"\", IF(VLOOKUP(O13,'Footnotes list'!$D$9:$E$58,2,FALSE)=0,\"\",VLOOKUP(O13,'Footnotes list'!$D$9:$E$58,2,FALSE) ) )","v":""},{"$f":"IF(AND(TRIM(Q11)=\"\",TRIM(Q12)=\"\"),\"\",Q11+Q12)","v":""},null,null,null,{"$f":"IF(TRIM(T13)=\"\", \"\", IF(VLOOKUP(T13,'Footnotes list'!$D$9:$E$58,2,FALSE)=0,\"\",VLOOKUP(T13,'Footnotes list'!$D$9:$E$58,2,FALSE) ) )","v":""},{"$f":"IF(AND(TRIM(V11)=\"\",TRIM(V12)=\"\"),\"\",V11+V12)","v":""},null,null,null,{"$f":"IF(TRIM(Y13)=\"\", \"\", IF(VLOOKUP(Y13,'Footnotes list'!$D$9:$E$58,2,FALSE)=0,\"\",VLOOKUP(Y13,'Footnotes list'!$D$9:$E$58,2,FALSE) ) )","v":""},{"$f":"IF(AND(TRIM(AA11)=\"\",TRIM(AA12)=\"\"),\"\",AA11+AA12)","v":""},null,null,null,{"$f":"IF(TRIM(AD13)=\"\", \"\", IF(VLOOKUP(AD13,'Footnotes list'!$D$9:$E$58,2,FALSE)=0,\"\",VLOOKUP(AD13,'Footnotes list'!$D$9:$E$58,2,FALSE) ) )","v":""},{"$f":"IF(AND(TRIM(AF11)=\"\",TRIM(AF12)=\"\"),\"\",AF11+AF12)","v":""},null,null,null,{"$f":"IF(TRIM(AI13)=\"\", \"\", IF(VLOOKUP(AI13,'Footnotes list'!$D$9:$E$58,2,FALSE)=0,\"\",VLOOKUP(AI13,'Footnotes list'!$D$9:$E$58,2,FALSE) ) )","v":""},{"$f":"IF(AND(TRIM(AK11)=\"\",TRIM(AK12)=\"\"),\"\",AK11+AK12)","v":""},null,null,null,{"$f":"IF(TRIM(AN13)=\"\", \"\", IF(VLOOKUP(AN13,'Footnotes list'!$D$9:$E$58,2,FALSE)=0,\"\",VLOOKUP(AN13,'Footnotes list'!$D$9:$E$58,2,FALSE) ) )","v":""},{"$f":"IF(AND(TRIM(AP11)=\"\",TRIM(AP12)=\"\"),\"\",AP11+AP12)","v":""},null,null,null,{"$f":"IF(TRIM(AS13)=\"\", \"\", IF(VLOOKUP(AS13,'Footnotes list'!$D$9:$E$58,2,FALSE)=0,\"\",VLOOKUP(AS13,'Footnotes list'!$D$9:$E$58,2,FALSE) ) )","v":""},{"$f":"IF(AND(TRIM(AU11)=\"\",TRIM(AU12)=\"\"),\"\",AU11+AU12)","v":""},null,null,null,{"$f":"IF(TRIM(AX13)=\"\", \"\", IF(VLOOKUP(AX13,'Footnotes list'!$D$9:$E$58,2,FALSE)=0,\"\",VLOOKUP(AX13,'Footnotes list'!$D$9:$E$58,2,FALSE) ) )","v":""},{"$f":"IF(AND(TRIM(AZ11)=\"\",TRIM(AZ12)=\"\"),\"\",AZ11+AZ12)","v":""},null,null,null,{"$f":"IF(TRIM(BC13)=\"\", \"\", IF(VLOOKUP(BC13,'Footnotes list'!$D$9:$E$58,2,FALSE)=0,\"\",VLOOKUP(BC13,'Footnotes list'!$D$9:$E$58,2,FALSE) ) )","v":""},{"$f":"IF(AND(TRIM(BE11)=\"\",TRIM(BE12)=\"\"),\"\",BE11+BE12)","v":""},null,null,null,{"$f":"IF(TRIM(BH13)=\"\", \"\", IF(VLOOKUP(BH13,'Footnotes list'!$D$9:$E$58,2,FALSE)=0,\"\",VLOOKUP(BH13,'Footnotes list'!$D$9:$E$58,2,FALSE) ) )","v":""},{"$f":"IF(AND(TRIM(BJ11)=\"\",TRIM(BJ12)=\"\"),\"\",BJ11+BJ12)","v":""},null,null,null,{"$f":"IF(TRIM(BM13)=\"\", \"\", IF(VLOOKUP(BM13,'Footnotes list'!$D$9:$E$58,2,FALSE)=0,\"\",VLOOKUP(BM13,'Footnotes list'!$D$9:$E$58,2,FALSE) ) )","v":""},{"$f":"IF(AND(TRIM(BO11)=\"\", TRIM(BO12)=\"\"), \"\", (IF(ISNUMBER(BO11),BO11,0)+IF(ISNUMBER(BO12),BO12,0)))","v":""},null,null,null,{"$f":"IF(TRIM(BR13)=\"\", \"\", IF(VLOOKUP(BR13,'Footnotes list'!$D$9:$E$58,2,FALSE)=0,\"\",VLOOKUP(BR13,'Footnotes list'!$D$9:$E$58,2,FALSE) ) )","v":""},{"$f":"IF(AND(TRIM(BT11)=\"\",TRIM(BT12)=\"\"),\"\",BT11+BT12)","v":""},null,null,null,{"$f":"IF(TRIM(BW13)=\"\", \"\", IF(VLOOKUP(BW13,'Footnotes list'!$D$9:$E$58,2,FALSE)=0,\"\",VLOOKUP(BW13,'Footnotes list'!$D$9:$E$58,2,FALSE) ) )","v":""},{"$f":"IF(AND(TRIM(BY11)=\"\",TRIM(BY12)=\"\"),\"\",BY11+BY12)","v":""},null,null,null,{"$f":"IF(TRIM(CB13)=\"\", \"\", IF(VLOOKUP(CB13,'Footnotes list'!$D$9:$E$58,2,FALSE)=0,\"\",VLOOKUP(CB13,'Footnotes list'!$D$9:$E$58,2,FALSE) ) )","v":""},{"$f":"IF(AND(TRIM(CD11)=\"\",TRIM(CD12)=\"\"),\"\",CD11+CD12)","v":""},null,null,null,{"$f":"IF(TRIM(CG13)=\"\", \"\", IF(VLOOKUP(CG13,'Footnotes list'!$D$9:$E$58,2,FALSE)=0,\"\",VLOOKUP(CG13,'Footnotes list'!$D$9:$E$58,2,FALSE) ) )","v":""},{"$f":"IF(AND(TRIM(CI11)=\"\", TRIM(CI12)=\"\"), \"\", (IF(ISNUMBER(CI11),CI11,0)+IF(ISNUMBER(CI12),CI12,0)))","v":""},null,null,null,{"$f":"IF(TRIM(CL13)=\"\", \"\", IF(VLOOKUP(CL13,'Footnotes list'!$D$9:$E$58,2,FALSE)=0,\"\",VLOOKUP(CL13,'Footnotes list'!$D$9:$E$58,2,FALSE) ) )","v":""},{"$f":"IF(AND(TRIM(CN11)=\"\",TRIM(CN12)=\"\"),\"\",CN11+CN12)","v":""},null,null,null,{"$f":"IF(TRIM(CQ13)=\"\", \"\", IF(VLOOKUP(CQ13,'Footnotes list'!$D$9:$E$58,2,FALSE)=0,\"\",VLOOKUP(CQ13,'Footnotes list'!$D$9:$E$58,2,FALSE) ) )","v":""},{"$f":"IF(AND(TRIM(CS11)=\"\",TRIM(CS12)=\"\"),\"\",CS11+CS12)","v":""},null,null,null,{"$f":"IF(TRIM(CV13)=\"\", \"\", IF(VLOOKUP(CV13,'Footnotes list'!$D$9:$E$58,2,FALSE)=0,\"\",VLOOKUP(CV13,'Footnotes list'!$D$9:$E$58,2,FALSE) ) )","v":""},{"$f":"IF(AND(TRIM(CX11)=\"\",TRIM(CX12)=\"\"),\"\",CX11+CX12)","v":""},null,null,null,{"$f":"IF(TRIM(DA13)=\"\", \"\", IF(VLOOKUP(DA13,'Footnotes list'!$D$9:$E$58,2,FALSE)=0,\"\",VLOOKUP(DA13,'Footnotes list'!$D$9:$E$58,2,FALSE) ) )","v":""},{"$f":"IF(AND(TRIM(DC11)=\"\",TRIM(DC12)=\"\"),\"\",DC11+DC12)","v":""},null,null,null,{"$f":"IF(TRIM(DF13)=\"\", \"\", IF(VLOOKUP(DF13,'Footnotes list'!$D$9:$E$58,2,FALSE)=0,\"\",VLOOKUP(DF13,'Footnotes list'!$D$9:$E$58,2,FALSE) ) )","v":""},{"$f":"IF(AND(TRIM(DH11)=\"\", TRIM(DH12)=\"\"), \"\", SUM(DH11,DH12) )","v":""},null,null,null,{"$f":"IF(TRIM(DK13)=\"\", \"\", IF(VLOOKUP(DK13,'Footnotes list'!$D$9:$E$58,2,FALSE)=0,\"\",VLOOKUP(DK13,'Footnotes list'!$D$9:$E$58,2,FALSE) ) )","v":""}]
[null,"W013","W013","Used oils ","HAZ","Hazardous ",null,null,null,null,{"$f":"IF(TRIM(J14)=\"\", \"\", IF(VLOOKUP(J14,'Footnotes list'!$D$9:$E$58,2,FALSE)=0,\"\",VLOOKUP(J14,'Footnotes list'!$D$9:$E$58,2,FALSE) ) )","v":""},null,null,null,null,{"$f":"IF(TRIM(O14)=\"\", \"\", IF(VLOOKUP(O14,'Footnotes list'!$D$9:$E$58,2,FALSE)=0,\"\",VLOOKUP(O14,'Footnotes list'!$D$9:$E$58,2,FALSE) ) )","v":""},null,null,null,null,{"$f":"IF(TRIM(T14)=\"\", \"\", IF(VLOOKUP(T14,'Footnotes list'!$D$9:$E$58,2,FALSE)=0,\"\",VLOOKUP(T14,'Footnotes list'!$D$9:$E$58,2,FALSE) ) )","v":""},null,null,null,null,{"$f":"IF(TRIM(Y14)=\"\", \"\", IF(VLOOKUP(Y14,'Footnotes list'!$D$9:$E$58,2,FALSE)=0,\"\",VLOOKUP(Y14,'Footnotes list'!$D$9:$E$58,2,FALSE) ) )","v":""},null,null,null,null,{"$f":"IF(TRIM(AD14)=\"\", \"\", IF(VLOOKUP(AD14,'Footnotes list'!$D$9:$E$58,2,FALSE)=0,\"\",VLOOKUP(AD14,'Footnotes list'!$D$9:$E$58,2,FALSE) ) )","v":""},null,null,null,null,{"$f":"IF(TRIM(AI14)=\"\", \"\", IF(VLOOKUP(AI14,'Footnotes list'!$D$9:$E$58,2,FALSE)=0,\"\",VLOOKUP(AI14,'Footnotes list'!$D$9:$E$58,2,FALSE) ) )","v":""},null,null,null,null,{"$f":"IF(TRIM(AN14)=\"\", \"\", IF(VLOOKUP(AN14,'Footnotes list'!$D$9:$E$58,2,FALSE)=0,\"\",VLOOKUP(AN14,'Footnotes list'!$D$9:$E$58,2,FALSE) ) )","v":""},null,null,null,null,{"$f":"IF(TRIM(AS14)=\"\", \"\", IF(VLOOKUP(AS14,'Footnotes list'!$D$9:$E$58,2,FALSE)=0,\"\",VLOOKUP(AS14,'Footnotes list'!$D$9:$E$58,2,FALSE) ) )","v":""},null,null,null,null,{"$f":"IF(TRIM(AX14)=\"\", \"\", IF(VLOOKUP(AX14,'Footnotes list'!$D$9:$E$58,2,FALSE)=0,\"\",VLOOKUP(AX14,'Footnotes list'!$D$9:$E$58,2,FALSE) ) )","v":""},null,null,null,null,{"$f":"IF(TRIM(BC14)=\"\", \"\", IF(VLOOKUP(BC14,'Footnotes list'!$D$9:$E$58,2,FALSE)=0,\"\",VLOOKUP(BC14,'Footnotes list'!$D$9:$E$58,2,FALSE) ) )","v":""},null,null,null,null,{"$f":"IF(TRIM(BH14)=\"\", \"\", IF(VLOOKUP(BH14,'Footnotes list'!$D$9:$E$58,2,FALSE)=0,\"\",VLOOKUP(BH14,'Footnotes list'!$D$9:$E$58,2,FALSE) ) )","v":""},null,null,null,null,{"$f":"IF(TRIM(BM14)=\"\", \"\", IF(VLOOKUP(BM14,'Footnotes list'!$D$9:$E$58,2,FALSE)=0,\"\",VLOOKUP(BM14,'Footnotes list'!$D$9:$E$58,2,FALSE) ) )","v":""},{"$f":"IF(AND(TRIM(Q14)=\"\",TRIM(V14)=\"\",TRIM(AA14)=\"\", TRIM(AF14)=\"\", TRIM(AK14)=\"\", TRIM(AP14)=\"\", TRIM(AU14)=\"\", TRIM(AZ14)=\"\", TRIM(BE14)=\"\", TRIM(BJ14)=\"\"),\"\",Q14+V14+AA14+AF14+AK14+AP14+AU14+AZ14+BE14+BJ14)","v":""},null,null,null,{"$f":"IF(TRIM(BR14)=\"\", \"\", IF(VLOOKUP(BR14,'Footnotes list'!$D$9:$E$58,2,FALSE)=0,\"\",VLOOKUP(BR14,'Footnotes list'!$D$9:$E$58,2,FALSE) ) )","v":""},null,null,null,null,{"$f":"IF(TRIM(BW14)=\"\", \"\", IF(VLOOKUP(BW14,'Footnotes list'!$D$9:$E$58,2,FALSE)=0,\"\",VLOOKUP(BW14,'Footnotes list'!$D$9:$E$58,2,FALSE) ) )","v":""},null,null,null,null,{"$f":"IF(TRIM(CB14)=\"\", \"\", IF(VLOOKUP(CB14,'Footnotes list'!$D$9:$E$58,2,FALSE)=0,\"\",VLOOKUP(CB14,'Footnotes list'!$D$9:$E$58,2,FALSE) ) )","v":""},null,null,null,null,{"$f":"IF(TRIM(CG14)=\"\", \"\", IF(VLOOKUP(CG14,'Footnotes list'!$D$9:$E$58,2,FALSE)=0,\"\",VLOOKUP(CG14,'Footnotes list'!$D$9:$E$58,2,FALSE) ) )","v":""},{"$f":"IF(AND(TRIM(BY14)=\"\",TRIM(CD14)=\"\"),\"\",BY14+CD14)","v":""},null,null,null,{"$f":"IF(TRIM(CL14)=\"\", \"\", IF(VLOOKUP(CL14,'Footnotes list'!$D$9:$E$58,2,FALSE)=0,\"\",VLOOKUP(CL14,'Footnotes list'!$D$9:$E$58,2,FALSE) ) )","v":""},null,null,null,null,{"$f":"IF(TRIM(CQ14)=\"\", \"\", IF(VLOOKUP(CQ14,'Footnotes list'!$D$9:$E$58,2,FALSE)=0,\"\",VLOOKUP(CQ14,'Footnotes list'!$D$9:$E$58,2,FALSE) ) )","v":""},null,null,null,null,{"$f":"IF(TRIM(CV14)=\"\", \"\", IF(VLOOKUP(CV14,'Footnotes list'!$D$9:$E$58,2,FALSE)=0,\"\",VLOOKUP(CV14,'Footnotes list'!$D$9:$E$58,2,FALSE) ) )","v":""},null,null,null,null,{"$f":"IF(TRIM(DA14)=\"\", \"\", IF(VLOOKUP(DA14,'Footnotes list'!$D$9:$E$58,2,FALSE)=0,\"\",VLOOKUP(DA14,'Footnotes list'!$D$9:$E$58,2,FALSE) ) )","v":""},null,null,null,null,{"$f":"IF(TRIM(DF14)=\"\", \"\", IF(VLOOKUP(DF14,'Footnotes list'!$D$9:$E$58,2,FALSE)=0,\"\",VLOOKUP(DF14,'Footnotes list'!$D$9:$E$58,2,FALSE) ) )","v":""},{"$f":"IF(AND(TRIM(G14)=\"\",TRIM(L14)=\"\",TRIM(BO14)=\"\",TRIM(BT14)=\"\",TRIM(CI14)=\"\",TRIM(CN14)=\"\",TRIM(CS14)=\"\",TRIM(CX14)=\"\",TRIM(DC14)=\"\"),\"\",SUM(G14,L14,BO14,BT14,CI14,CN14,CS14,CX14,DC14))","v":""},null,null,null,{"$f":"IF(TRIM(DK14)=\"\", \"\", IF(VLOOKUP(DK14,'Footnotes list'!$D$9:$E$58,2,FALSE)=0,\"\",VLOOKUP(DK14,'Footnotes list'!$D$9:$E$58,2,FALSE) ) )","v":""}]
[null,null,null,null,null,"Not applicable"]
[null,null,"W013",null,"HAZ_NHAZ","Total",null,null,null,null,{"$f":"IF(TRIM(J16)=\"\", \"\", IF(VLOOKUP(J16,'Footnotes list'!$D$9:$E$58,2,FALSE)=0,\"\",VLOOKUP(J16,'Footnotes list'!$D$9:$E$58,2,FALSE) ) )","v":""},{"$f":"IF(AND(TRIM(L14)=\"\",TRIM(L15)=\"\"),\"\",L14+L15)","v":""},null,null,null,{"$f":"IF(TRIM(O16)=\"\", \"\", IF(VLOOKUP(O16,'Footnotes list'!$D$9:$E$58,2,FALSE)=0,\"\",VLOOKUP(O16,'Footnotes list'!$D$9:$E$58,2,FALSE) ) )","v":""},{"$f":"IF(AND(TRIM(Q14)=\"\",TRIM(Q15)=\"\"),\"\",Q14+Q15)","v":""},null,null,null,{"$f":"IF(TRIM(T16)=\"\", \"\", IF(VLOOKUP(T16,'Footnotes list'!$D$9:$E$58,2,FALSE)=0,\"\",VLOOKUP(T16,'Footnotes list'!$D$9:$E$58,2,FALSE) ) )","v":""},{"$f":"IF(AND(TRIM(V14)=\"\",TRIM(V15)=\"\"),\"\",V14+V15)","v":""},null,null,null,{"$f":"IF(TRIM(Y16)=\"\", \"\", IF(VLOOKUP(Y16,'Footnotes list'!$D$9:$E$58,2,FALSE)=0,\"\",VLOOKUP(Y16,'Footnotes list'!$D$9:$E$58,2,FALSE) ) )","v":""},{"$f":"IF(AND(TRIM(AA14)=\"\",TRIM(AA15)=\"\"),\"\",AA14+AA15)","v":""},null,null,null,{"$f":"IF(TRIM(AD16)=\"\", \"\", IF(VLOOKUP(AD16,'Footnotes list'!$D$9:$E$58,2,FALSE)=0,\"\",VLOOKUP(AD16,'Footnotes list'!$D$9:$E$58,2,FALSE) ) )","v":""},{"$f":"IF(AND(TRIM(AF14)=\"\",TRIM(AF15)=\"\"),\"\",AF14+AF15)","v":""},null,null,null,{"$f":"IF(TRIM(AI16)=\"\", \"\", IF(VLOOKUP(AI16,'Footnotes list'!$D$9:$E$58,2,FALSE)=0,\"\",VLOOKUP(AI16,'Footnotes list'!$D$9:$E$58,2,FALSE) ) )","v":""},{"$f":"IF(AND(TRIM(AK14)=\"\",TRIM(AK15)=\"\"),\"\",AK14+AK15)","v":""},null,null,null,{"$f":"IF(TRIM(AN16)=\"\", \"\", IF(VLOOKUP(AN16,'Footnotes list'!$D$9:$E$58,2,FALSE)=0,\"\",VLOOKUP(AN16,'Footnotes list'!$D$9:$E$58,2,FALSE) ) )","v":""},{"$f":"IF(AND(TRIM(AP14)=\"\",TRIM(AP15)=\"\"),\"\",AP14+AP15)","v":""},null,null,null,{"$f":"IF(TRIM(AS16)=\"\", \"\", IF(VLOOKUP(AS16,'Footnotes list'!$D$9:$E$58,2,FALSE)=0,\"\",VLOOKUP(AS16,'Footnotes list'!$D$9:$E$58,2,FALSE) ) )","v":""},{"$f":"IF(AND(TRIM(AU14)=\"\",TRIM(AU15)=\"\"),\"\",AU14+AU15)","v":""},null,null,null,{"$f":"IF(TRIM(AX16)=\"\", \"\", IF(VLOOKUP(AX16,'Footnotes list'!$D$9:$E$58,2,FALSE)=0,\"\",VLOOKUP(AX16,'Footnotes list'!$D$9:$E$58,2,FALSE) ) )","v":""},{"$f":"IF(AND(TRIM(AZ14)=\"\",TRIM(AZ15)=\"\"),\"\",AZ14+AZ15)","v":""},null,null,null,{"$f":"IF(TRIM(BC16)=\"\", \"\", IF(VLOOKUP(BC16,'Footnotes list'!$D$9:$E$58,2,FALSE)=0,\"\",VLOOKUP(BC16,'Footnotes list'!$D$9:$E$58,2,FALSE) ) )","v":""},{"$f":"IF(AND(TRIM(BE14)=\"\",TRIM(BE15)=\"\"),\"\",BE14+BE15)","v":""},null,null,null,{"$f":"IF(TRIM(BH16)=\"\", \"\", IF(VLOOKUP(BH16,'Footnotes list'!$D$9:$E$58,2,FALSE)=0,\"\",VLOOKUP(BH16,'Footnotes list'!$D$9:$E$58,2,FALSE) ) )","v":""},{"$f":"IF(AND(TRIM(BJ14)=\"\",TRIM(BJ15)=\"\"),\"\",BJ14+BJ15)","v":""},null,null,null,{"$f":"IF(TRIM(BM16)=\"\", \"\", IF(VLOOKUP(BM16,'Footnotes list'!$D$9:$E$58,2,FALSE)=0,\"\",VLOOKUP(BM16,'Footnotes list'!$D$9:$E$58,2,FALSE) ) )","v":""},{"$f":"IF(AND(TRIM(BO14)=\"\", TRIM(BO15)=\"\"), \"\", (IF(ISNUMBER(BO14),BO14,0)+IF(ISNUMBER(BO15),BO15,0)))","v":""},null,null,null,{"$f":"IF(TRIM(BR16)=\"\", \"\", IF(VLOOKUP(BR16,'Footnotes list'!$D$9:$E$58,2,FALSE)=0,\"\",VLOOKUP(BR16,'Footnotes list'!$D$9:$E$58,2,FALSE) ) )","v":""},{"$f":"IF(AND(TRIM(BT14)=\"\",TRIM(BT15)=\"\"),\"\",BT14+BT15)","v":""},null,null,null,{"$f":"IF(TRIM(BW16)=\"\", \"\", IF(VLOOKUP(BW16,'Footnotes list'!$D$9:$E$58,2,FALSE)=0,\"\",VLOOKUP(BW16,'Footnotes list'!$D$9:$E$58,2,FALSE) ) )","v":""},{"$f":"IF(AND(TRIM(BY14)=\"\",TRIM(BY15)=\"\"),\"\",BY14+BY15)","v":""},null,null,null,{"$f":"IF(TRIM(CB16)=\"\", \"\", IF(VLOOKUP(CB16,'Footnotes list'!$D$9:$E$58,2,FALSE)=0,\"\",VLOOKUP(CB16,'Footnotes list'!$D$9:$E$58,2,FALSE) ) )","v":""},{"$f":"IF(AND(TRIM(CD14)=\"\",TRIM(CD15)=\"\"),\"\",CD14+CD15)","v":""},null,null,null,{"$f":"IF(TRIM(CG16)=\"\", \"\", IF(VLOOKUP(CG16,'Footnotes list'!$D$9:$E$58,2,FALSE)=0,\"\",VLOOKUP(CG16,'Footnotes list'!$D$9:$E$58,2,FALSE) ) )","v":""},{"$f":"IF(AND(TRIM(CI14)=\"\", TRIM(CI15)=\"\"), \"\", (IF(ISNUMBER(CI14),CI14,0)+IF(ISNUMBER(CI15),CI15,0)))","v":""},null,null,null,{"$f":"IF(TRIM(CL16)=\"\", \"\", IF(VLOOKUP(CL16,'Footnotes list'!$D$9:$E$58,2,FALSE)=0,\"\",VLOOKUP(CL16,'Footnotes list'!$D$9:$E$58,2,FALSE) ) )","v":""},{"$f":"IF(AND(TRIM(CN14)=\"\",TRIM(CN15)=\"\"),\"\",CN14+CN15)","v":""},null,null,null,{"$f":"IF(TRIM(CQ16)=\"\", \"\", IF(VLOOKUP(CQ16,'Footnotes list'!$D$9:$E$58,2,FALSE)=0,\"\",VLOOKUP(CQ16,'Footnotes list'!$D$9:$E$58,2,FALSE) ) )","v":""},{"$f":"IF(AND(TRIM(CS14)=\"\",TRIM(CS15)=\"\"),\"\",CS14+CS15)","v":""},null,null,null,{"$f":"IF(TRIM(CV16)=\"\", \"\", IF(VLOOKUP(CV16,'Footnotes list'!$D$9:$E$58,2,FALSE)=0,\"\",VLOOKUP(CV16,'Footnotes list'!$D$9:$E$58,2,FALSE) ) )","v":""},{"$f":"IF(AND(TRIM(CX14)=\"\",TRIM(CX15)=\"\"),\"\",CX14+CX15)","v":""},null,null,null,{"$f":"IF(TRIM(DA16)=\"\", \"\", IF(VLOOKUP(DA16,'Footnotes list'!$D$9:$E$58,2,FALSE)=0,\"\",VLOOKUP(DA16,'Footnotes list'!$D$9:$E$58,2,FALSE) ) )","v":""},{"$f":"IF(AND(TRIM(DC14)=\"\",TRIM(DC15)=\"\"),\"\",DC14+DC15)","v":""},null,null,null,{"$f":"IF(TRIM(DF16)=\"\", \"\", IF(VLOOKUP(DF16,'Footnotes list'!$D$9:$E$58,2,FALSE)=0,\"\",VLOOKUP(DF16,'Footnotes list'!$D$9:$E$58,2,FALSE) ) )","v":""},{"$f":"IF(AND(TRIM(DH14)=\"\", TRIM(DH15)=\"\"), \"\", SUM(DH14,DH15) )","v":""},null,null,null,{"$f":"IF(TRIM(DK16)=\"\", \"\", IF(VLOOKUP(DK16,'Footnotes list'!$D$9:$E$58,2,FALSE)=0,\"\",VLOOKUP(DK16,'Footnotes list'!$D$9:$E$58,2,FALSE) ) )","v":""}]
[null,"W02A","W02A","Chemical wastes ","HAZ","Hazardous ",null,null,null,null,{"$f":"IF(TRIM(J17)=\"\", \"\", IF(VLOOKUP(J17,'Footnotes list'!$D$9:$E$58,2,FALSE)=0,\"\",VLOOKUP(J17,'Footnotes list'!$D$9:$E$58,2,FALSE) ) )","v":""},null,null,null,null,{"$f":"IF(TRIM(O17)=\"\", \"\", IF(VLOOKUP(O17,'Footnotes list'!$D$9:$E$58,2,FALSE)=0,\"\",VLOOKUP(O17,'Footnotes list'!$D$9:$E$58,2,FALSE) ) )","v":""},null,null,null,null,{"$f":"IF(TRIM(T17)=\"\", \"\", IF(VLOOKUP(T17,'Footnotes list'!$D$9:$E$58,2,FALSE)=0,\"\",VLOOKUP(T17,'Footnotes list'!$D$9:$E$58,2,FALSE) ) )","v":""},null,null,null,null,{"$f":"IF(TRIM(Y17)=\"\", \"\", IF(VLOOKUP(Y17,'Footnotes list'!$D$9:$E$58,2,FALSE)=0,\"\",VLOOKUP(Y17,'Footnotes list'!$D$9:$E$58,2,FALSE) ) )","v":""},null,null,null,null,{"$f":"IF(TRIM(AD17)=\"\", \"\", IF(VLOOKUP(AD17,'Footnotes list'!$D$9:$E$58,2,FALSE)=0,\"\",VLOOKUP(AD17,'Footnotes list'!$D$9:$E$58,2,FALSE) ) )","v":""},null,null,null,null,{"$f":"IF(TRIM(AI17)=\"\", \"\", IF(VLOOKUP(AI17,'Footnotes list'!$D$9:$E$58,2,FALSE)=0,\"\",VLOOKUP(AI17,'Footnotes list'!$D$9:$E$58,2,FALSE) ) )","v":""},null,null,null,null,{"$f":"IF(TRIM(AN17)=\"\", \"\", IF(VLOOKUP(AN17,'Footnotes list'!$D$9:$E$58,2,FALSE)=0,\"\",VLOOKUP(AN17,'Footnotes list'!$D$9:$E$58,2,FALSE) ) )","v":""},null,null,null,null,{"$f":"IF(TRIM(AS17)=\"\", \"\", IF(VLOOKUP(AS17,'Footnotes list'!$D$9:$E$58,2,FALSE)=0,\"\",VLOOKUP(AS17,'Footnotes list'!$D$9:$E$58,2,FALSE) ) )","v":""},null,null,null,null,{"$f":"IF(TRIM(AX17)=\"\", \"\", IF(VLOOKUP(AX17,'Footnotes list'!$D$9:$E$58,2,FALSE)=0,\"\",VLOOKUP(AX17,'Footnotes list'!$D$9:$E$58,2,FALSE) ) )","v":""},null,null,null,null,{"$f":"IF(TRIM(BC17)=\"\", \"\", IF(VLOOKUP(BC17,'Footnotes list'!$D$9:$E$58,2,FALSE)=0,\"\",VLOOKUP(BC17,'Footnotes list'!$D$9:$E$58,2,FALSE) ) )","v":""},null,null,null,null,{"$f":"IF(TRIM(BH17)=\"\", \"\", IF(VLOOKUP(BH17,'Footnotes list'!$D$9:$E$58,2,FALSE)=0,\"\",VLOOKUP(BH17,'Footnotes list'!$D$9:$E$58,2,FALSE) ) )","v":""},null,null,null,null,{"$f":"IF(TRIM(BM17)=\"\", \"\", IF(VLOOKUP(BM17,'Footnotes list'!$D$9:$E$58,2,FALSE)=0,\"\",VLOOKUP(BM17,'Footnotes list'!$D$9:$E$58,2,FALSE) ) )","v":""},{"$f":"IF(AND(TRIM(Q17)=\"\",TRIM(V17)=\"\",TRIM(AA17)=\"\", TRIM(AF17)=\"\", TRIM(AK17)=\"\", TRIM(AP17)=\"\", TRIM(AU17)=\"\", TRIM(AZ17)=\"\", TRIM(BE17)=\"\", TRIM(BJ17)=\"\"),\"\",Q17+V17+AA17+AF17+AK17+AP17+AU17+AZ17+BE17+BJ17)","v":""},null,null,null,{"$f":"IF(TRIM(BR17)=\"\", \"\", IF(VLOOKUP(BR17,'Footnotes list'!$D$9:$E$58,2,FALSE)=0,\"\",VLOOKUP(BR17,'Footnotes list'!$D$9:$E$58,2,FALSE) ) )","v":""},null,null,null,null,{"$f":"IF(TRIM(BW17)=\"\", \"\", IF(VLOOKUP(BW17,'Footnotes list'!$D$9:$E$58,2,FALSE)=0,\"\",VLOOKUP(BW17,'Footnotes list'!$D$9:$E$58,2,FALSE) ) )","v":""},null,null,null,null,{"$f":"IF(TRIM(CB17)=\"\", \"\", IF(VLOOKUP(CB17,'Footnotes list'!$D$9:$E$58,2,FALSE)=0,\"\",VLOOKUP(CB17,'Footnotes list'!$D$9:$E$58,2,FALSE) ) )","v":""},null,null,null,null,{"$f":"IF(TRIM(CG17)=\"\", \"\", IF(VLOOKUP(CG17,'Footnotes list'!$D$9:$E$58,2,FALSE)=0,\"\",VLOOKUP(CG17,'Footnotes list'!$D$9:$E$58,2,FALSE) ) )","v":""},{"$f":"IF(AND(TRIM(BY17)=\"\",TRIM(CD17)=\"\"),\"\",BY17+CD17)","v":""},null,null,null,{"$f":"IF(TRIM(CL17)=\"\", \"\", IF(VLOOKUP(CL17,'Footnotes list'!$D$9:$E$58,2,FALSE)=0,\"\",VLOOKUP(CL17,'Footnotes list'!$D$9:$E$58,2,FALSE) ) )","v":""},null,null,null,null,{"$f":"IF(TRIM(CQ17)=\"\", \"\", IF(VLOOKUP(CQ17,'Footnotes list'!$D$9:$E$58,2,FALSE)=0,\"\",VLOOKUP(CQ17,'Footnotes list'!$D$9:$E$58,2,FALSE) ) )","v":""},null,null,null,null,{"$f":"IF(TRIM(CV17)=\"\", \"\", IF(VLOOKUP(CV17,'Footnotes list'!$D$9:$E$58,2,FALSE)=0,\"\",VLOOKUP(CV17,'Footnotes list'!$D$9:$E$58,2,FALSE) ) )","v":""},null,null,null,null,{"$f":"IF(TRIM(DA17)=\"\", \"\", IF(VLOOKUP(DA17,'Footnotes list'!$D$9:$E$58,2,FALSE)=0,\"\",VLOOKUP(DA17,'Footnotes list'!$D$9:$E$58,2,FALSE) ) )","v":""},null,null,null,null,{"$f":"IF(TRIM(DF17)=\"\", \"\", IF(VLOOKUP(DF17,'Footnotes list'!$D$9:$E$58,2,FALSE)=0,\"\",VLOOKUP(DF17,'Footnotes list'!$D$9:$E$58,2,FALSE) ) )","v":""},{"$f":"IF(AND(TRIM(G17)=\"\",TRIM(L17)=\"\",TRIM(BO17)=\"\",TRIM(BT17)=\"\",TRIM(CI17)=\"\",TRIM(CN17)=\"\",TRIM(CS17)=\"\",TRIM(CX17)=\"\",TRIM(DC17)=\"\"),\"\",SUM(G17,L17,BO17,BT17,CI17,CN17,CS17,CX17,DC17))","v":""},null,null,null,{"$f":"IF(TRIM(DK17)=\"\", \"\", IF(VLOOKUP(DK17,'Footnotes list'!$D$9:$E$58,2,FALSE)=0,\"\",VLOOKUP(DK17,'Footnotes list'!$D$9:$E$58,2,FALSE) ) )","v":""}]
[null,null,"W02A",null,"NHAZ","Non-hazardous",null,null,null,null,{"$f":"IF(TRIM(J18)=\"\", \"\", IF(VLOOKUP(J18,'Footnotes list'!$D$9:$E$58,2,FALSE)=0,\"\",VLOOKUP(J18,'Footnotes list'!$D$9:$E$58,2,FALSE) ) )","v":""},null,null,null,null,{"$f":"IF(TRIM(O18)=\"\", \"\", IF(VLOOKUP(O18,'Footnotes list'!$D$9:$E$58,2,FALSE)=0,\"\",VLOOKUP(O18,'Footnotes list'!$D$9:$E$58,2,FALSE) ) )","v":""},null,null,null,null,{"$f":"IF(TRIM(T18)=\"\", \"\", IF(VLOOKUP(T18,'Footnotes list'!$D$9:$E$58,2,FALSE)=0,\"\",VLOOKUP(T18,'Footnotes list'!$D$9:$E$58,2,FALSE) ) )","v":""},null,null,null,null,{"$f":"IF(TRIM(Y18)=\"\", \"\", IF(VLOOKUP(Y18,'Footnotes list'!$D$9:$E$58,2,FALSE)=0,\"\",VLOOKUP(Y18,'Footnotes list'!$D$9:$E$58,2,FALSE) ) )","v":""},null,null,null,null,{"$f":"IF(TRIM(AD18)=\"\", \"\", IF(VLOOKUP(AD18,'Footnotes list'!$D$9:$E$58,2,FALSE)=0,\"\",VLOOKUP(AD18,'Footnotes list'!$D$9:$E$58,2,FALSE) ) )","v":""},null,null,null,null,{"$f":"IF(TRIM(AI18)=\"\", \"\", IF(VLOOKUP(AI18,'Footnotes list'!$D$9:$E$58,2,FALSE)=0,\"\",VLOOKUP(AI18,'Footnotes list'!$D$9:$E$58,2,FALSE) ) )","v":""},null,null,null,null,{"$f":"IF(TRIM(AN18)=\"\", \"\", IF(VLOOKUP(AN18,'Footnotes list'!$D$9:$E$58,2,FALSE)=0,\"\",VLOOKUP(AN18,'Footnotes list'!$D$9:$E$58,2,FALSE) ) )","v":""},null,null,null,null,{"$f":"IF(TRIM(AS18)=\"\", \"\", IF(VLOOKUP(AS18,'Footnotes list'!$D$9:$E$58,2,FALSE)=0,\"\",VLOOKUP(AS18,'Footnotes list'!$D$9:$E$58,2,FALSE) ) )","v":""},null,null,null,null,{"$f":"IF(TRIM(AX18)=\"\", \"\", IF(VLOOKUP(AX18,'Footnotes list'!$D$9:$E$58,2,FALSE)=0,\"\",VLOOKUP(AX18,'Footnotes list'!$D$9:$E$58,2,FALSE) ) )","v":""},null,null,null,null,{"$f":"IF(TRIM(BC18)=\"\", \"\", IF(VLOOKUP(BC18,'Footnotes list'!$D$9:$E$58,2,FALSE)=0,\"\",VLOOKUP(BC18,'Footnotes list'!$D$9:$E$58,2,FALSE) ) )","v":""},null,null,null,null,{"$f":"IF(TRIM(BH18)=\"\", \"\", IF(VLOOKUP(BH18,'Footnotes list'!$D$9:$E$58,2,FALSE)=0,\"\",VLOOKUP(BH18,'Footnotes list'!$D$9:$E$58,2,FALSE) ) )","v":""},null,null,null,null,{"$f":"IF(TRIM(BM18)=\"\", \"\", IF(VLOOKUP(BM18,'Footnotes list'!$D$9:$E$58,2,FALSE)=0,\"\",VLOOKUP(BM18,'Footnotes list'!$D$9:$E$58,2,FALSE) ) )","v":""},{"$f":"IF(AND(TRIM(Q18)=\"\",TRIM(V18)=\"\",TRIM(AA18)=\"\", TRIM(AF18)=\"\", TRIM(AK18)=\"\", TRIM(AP18)=\"\", TRIM(AU18)=\"\", TRIM(AZ18)=\"\", TRIM(BE18)=\"\", TRIM(BJ18)=\"\"),\"\",Q18+V18+AA18+AF18+AK18+AP18+AU18+AZ18+BE18+BJ18)","v":""},null,null,null,{"$f":"IF(TRIM(BR18)=\"\", \"\", IF(VLOOKUP(BR18,'Footnotes list'!$D$9:$E$58,2,FALSE)=0,\"\",VLOOKUP(BR18,'Footnotes list'!$D$9:$E$58,2,FALSE) ) )","v":""},null,null,null,null,{"$f":"IF(TRIM(BW18)=\"\", \"\", IF(VLOOKUP(BW18,'Footnotes list'!$D$9:$E$58,2,FALSE)=0,\"\",VLOOKUP(BW18,'Footnotes list'!$D$9:$E$58,2,FALSE) ) )","v":""},null,null,null,null,{"$f":"IF(TRIM(CB18)=\"\", \"\", IF(VLOOKUP(CB18,'Footnotes list'!$D$9:$E$58,2,FALSE)=0,\"\",VLOOKUP(CB18,'Footnotes list'!$D$9:$E$58,2,FALSE) ) )","v":""},null,null,null,null,{"$f":"IF(TRIM(CG18)=\"\", \"\", IF(VLOOKUP(CG18,'Footnotes list'!$D$9:$E$58,2,FALSE)=0,\"\",VLOOKUP(CG18,'Footnotes list'!$D$9:$E$58,2,FALSE) ) )","v":""},{"$f":"IF(AND(TRIM(BY18)=\"\",TRIM(CD18)=\"\"),\"\",BY18+CD18)","v":""},null,null,null,{"$f":"IF(TRIM(CL18)=\"\", \"\", IF(VLOOKUP(CL18,'Footnotes list'!$D$9:$E$58,2,FALSE)=0,\"\",VLOOKUP(CL18,'Footnotes list'!$D$9:$E$58,2,FALSE) ) )","v":""},null,null,null,null,{"$f":"IF(TRIM(CQ18)=\"\", \"\", IF(VLOOKUP(CQ18,'Footnotes list'!$D$9:$E$58,2,FALSE)=0,\"\",VLOOKUP(CQ18,'Footnotes list'!$D$9:$E$58,2,FALSE) ) )","v":""},null,null,null,null,{"$f":"IF(TRIM(CV18)=\"\", \"\", IF(VLOOKUP(CV18,'Footnotes list'!$D$9:$E$58,2,FALSE)=0,\"\",VLOOKUP(CV18,'Footnotes list'!$D$9:$E$58,2,FALSE) ) )","v":""},null,null,null,null,{"$f":"IF(TRIM(DA18)=\"\", \"\", IF(VLOOKUP(DA18,'Footnotes list'!$D$9:$E$58,2,FALSE)=0,\"\",VLOOKUP(DA18,'Footnotes list'!$D$9:$E$58,2,FALSE) ) )","v":""},null,null,null,null,{"$f":"IF(TRIM(DF18)=\"\", \"\", IF(VLOOKUP(DF18,'Footnotes list'!$D$9:$E$58,2,FALSE)=0,\"\",VLOOKUP(DF18,'Footnotes list'!$D$9:$E$58,2,FALSE) ) )","v":""},{"$f":"IF(AND(TRIM(G18)=\"\",TRIM(L18)=\"\",TRIM(BO18)=\"\",TRIM(BT18)=\"\",TRIM(CI18)=\"\",TRIM(CN18)=\"\",TRIM(CS18)=\"\",TRIM(CX18)=\"\",TRIM(DC18)=\"\"),\"\",SUM(G18,L18,BO18,BT18,CI18,CN18,CS18,CX18,DC18))","v":""},null,null,null,{"$f":"IF(TRIM(DK18)=\"\", \"\", IF(VLOOKUP(DK18,'Footnotes list'!$D$9:$E$58,2,FALSE)=0,\"\",VLOOKUP(DK18,'Footnotes list'!$D$9:$E$58,2,FALSE) ) )","v":""}]
[null,null,"W02A",null,"HAZ_NHAZ","Total",null,null,null,null,{"$f":"IF(TRIM(J19)=\"\", \"\", IF(VLOOKUP(J19,'Footnotes list'!$D$9:$E$58,2,FALSE)=0,\"\",VLOOKUP(J19,'Footnotes list'!$D$9:$E$58,2,FALSE) ) )","v":""},{"$f":"IF(AND(TRIM(L17)=\"\",TRIM(L18)=\"\"),\"\",L17+L18)","v":""},null,null,null,{"$f":"IF(TRIM(O19)=\"\", \"\", IF(VLOOKUP(O19,'Footnotes list'!$D$9:$E$58,2,FALSE)=0,\"\",VLOOKUP(O19,'Footnotes list'!$D$9:$E$58,2,FALSE) ) )","v":""},{"$f":"IF(AND(TRIM(Q17)=\"\",TRIM(Q18)=\"\"),\"\",Q17+Q18)","v":""},null,null,null,{"$f":"IF(TRIM(T19)=\"\", \"\", IF(VLOOKUP(T19,'Footnotes list'!$D$9:$E$58,2,FALSE)=0,\"\",VLOOKUP(T19,'Footnotes list'!$D$9:$E$58,2,FALSE) ) )","v":""},{"$f":"IF(AND(TRIM(V17)=\"\",TRIM(V18)=\"\"),\"\",V17+V18)","v":""},null,null,null,{"$f":"IF(TRIM(Y19)=\"\", \"\", IF(VLOOKUP(Y19,'Footnotes list'!$D$9:$E$58,2,FALSE)=0,\"\",VLOOKUP(Y19,'Footnotes list'!$D$9:$E$58,2,FALSE) ) )","v":""},{"$f":"IF(AND(TRIM(AA17)=\"\",TRIM(AA18)=\"\"),\"\",AA17+AA18)","v":""},null,null,null,{"$f":"IF(TRIM(AD19)=\"\", \"\", IF(VLOOKUP(AD19,'Footnotes list'!$D$9:$E$58,2,FALSE)=0,\"\",VLOOKUP(AD19,'Footnotes list'!$D$9:$E$58,2,FALSE) ) )","v":""},{"$f":"IF(AND(TRIM(AF17)=\"\",TRIM(AF18)=\"\"),\"\",AF17+AF18)","v":""},null,null,null,{"$f":"IF(TRIM(AI19)=\"\", \"\", IF(VLOOKUP(AI19,'Footnotes list'!$D$9:$E$58,2,FALSE)=0,\"\",VLOOKUP(AI19,'Footnotes list'!$D$9:$E$58,2,FALSE) ) )","v":""},{"$f":"IF(AND(TRIM(AK17)=\"\",TRIM(AK18)=\"\"),\"\",AK17+AK18)","v":""},null,null,null,{"$f":"IF(TRIM(AN19)=\"\", \"\", IF(VLOOKUP(AN19,'Footnotes list'!$D$9:$E$58,2,FALSE)=0,\"\",VLOOKUP(AN19,'Footnotes list'!$D$9:$E$58,2,FALSE) ) )","v":""},{"$f":"IF(AND(TRIM(AP17)=\"\",TRIM(AP18)=\"\"),\"\",AP17+AP18)","v":""},null,null,null,{"$f":"IF(TRIM(AS19)=\"\", \"\", IF(VLOOKUP(AS19,'Footnotes list'!$D$9:$E$58,2,FALSE)=0,\"\",VLOOKUP(AS19,'Footnotes list'!$D$9:$E$58,2,FALSE) ) )","v":""},{"$f":"IF(AND(TRIM(AU17)=\"\",TRIM(AU18)=\"\"),\"\",AU17+AU18)","v":""},null,null,null,{"$f":"IF(TRIM(AX19)=\"\", \"\", IF(VLOOKUP(AX19,'Footnotes list'!$D$9:$E$58,2,FALSE)=0,\"\",VLOOKUP(AX19,'Footnotes list'!$D$9:$E$58,2,FALSE) ) )","v":""},{"$f":"IF(AND(TRIM(AZ17)=\"\",TRIM(AZ18)=\"\"),\"\",AZ17+AZ18)","v":""},null,null,null,{"$f":"IF(TRIM(BC19)=\"\", \"\", IF(VLOOKUP(BC19,'Footnotes list'!$D$9:$E$58,2,FALSE)=0,\"\",VLOOKUP(BC19,'Footnotes list'!$D$9:$E$58,2,FALSE) ) )","v":""},{"$f":"IF(AND(TRIM(BE17)=\"\",TRIM(BE18)=\"\"),\"\",BE17+BE18)","v":""},null,null,null,{"$f":"IF(TRIM(BH19)=\"\", \"\", IF(VLOOKUP(BH19,'Footnotes list'!$D$9:$E$58,2,FALSE)=0,\"\",VLOOKUP(BH19,'Footnotes list'!$D$9:$E$58,2,FALSE) ) )","v":""},{"$f":"IF(AND(TRIM(BJ17)=\"\",TRIM(BJ18)=\"\"),\"\",BJ17+BJ18)","v":""},null,null,null,{"$f":"IF(TRIM(BM19)=\"\", \"\", IF(VLOOKUP(BM19,'Footnotes list'!$D$9:$E$58,2,FALSE)=0,\"\",VLOOKUP(BM19,'Footnotes list'!$D$9:$E$58,2,FALSE) ) )","v":""},{"$f":"IF(AND(TRIM(BO17)=\"\", TRIM(BO18)=\"\"), \"\", (IF(ISNUMBER(BO17),BO17,0)+IF(ISNUMBER(BO18),BO18,0)))","v":""},null,null,null,{"$f":"IF(TRIM(BR19)=\"\", \"\", IF(VLOOKUP(BR19,'Footnotes list'!$D$9:$E$58,2,FALSE)=0,\"\",VLOOKUP(BR19,'Footnotes list'!$D$9:$E$58,2,FALSE) ) )","v":""},{"$f":"IF(AND(TRIM(BT17)=\"\",TRIM(BT18)=\"\"),\"\",BT17+BT18)","v":""},null,null,null,{"$f":"IF(TRIM(BW19)=\"\", \"\", IF(VLOOKUP(BW19,'Footnotes list'!$D$9:$E$58,2,FALSE)=0,\"\",VLOOKUP(BW19,'Footnotes list'!$D$9:$E$58,2,FALSE) ) )","v":""},{"$f":"IF(AND(TRIM(BY17)=\"\",TRIM(BY18)=\"\"),\"\",BY17+BY18)","v":""},null,null,null,{"$f":"IF(TRIM(CB19)=\"\", \"\", IF(VLOOKUP(CB19,'Footnotes list'!$D$9:$E$58,2,FALSE)=0,\"\",VLOOKUP(CB19,'Footnotes list'!$D$9:$E$58,2,FALSE) ) )","v":""},{"$f":"IF(AND(TRIM(CD17)=\"\",TRIM(CD18)=\"\"),\"\",CD17+CD18)","v":""},null,null,null,{"$f":"IF(TRIM(CG19)=\"\", \"\", IF(VLOOKUP(CG19,'Footnotes list'!$D$9:$E$58,2,FALSE)=0,\"\",VLOOKUP(CG19,'Footnotes list'!$D$9:$E$58,2,FALSE) ) )","v":""},{"$f":"IF(AND(TRIM(CI17)=\"\", TRIM(CI18)=\"\"), \"\", (IF(ISNUMBER(CI17),CI17,0)+IF(ISNUMBER(CI18),CI18,0)))","v":""},null,null,null,{"$f":"IF(TRIM(CL19)=\"\", \"\", IF(VLOOKUP(CL19,'Footnotes list'!$D$9:$E$58,2,FALSE)=0,\"\",VLOOKUP(CL19,'Footnotes list'!$D$9:$E$58,2,FALSE) ) )","v":""},{"$f":"IF(AND(TRIM(CN17)=\"\",TRIM(CN18)=\"\"),\"\",CN17+CN18)","v":""},null,null,null,{"$f":"IF(TRIM(CQ19)=\"\", \"\", IF(VLOOKUP(CQ19,'Footnotes list'!$D$9:$E$58,2,FALSE)=0,\"\",VLOOKUP(CQ19,'Footnotes list'!$D$9:$E$58,2,FALSE) ) )","v":""},{"$f":"IF(AND(TRIM(CS17)=\"\",TRIM(CS18)=\"\"),\"\",CS17+CS18)","v":""},null,null,null,{"$f":"IF(TRIM(CV19)=\"\", \"\", IF(VLOOKUP(CV19,'Footnotes list'!$D$9:$E$58,2,FALSE)=0,\"\",VLOOKUP(CV19,'Footnotes list'!$D$9:$E$58,2,FALSE) ) )","v":""},{"$f":"IF(AND(TRIM(CX17)=\"\",TRIM(CX18)=\"\"),\"\",CX17+CX18)","v":""},null,null,null,{"$f":"IF(TRIM(DA19)=\"\", \"\", IF(VLOOKUP(DA19,'Footnotes list'!$D$9:$E$58,2,FALSE)=0,\"\",VLOOKUP(DA19,'Footnotes list'!$D$9:$E$58,2,FALSE) ) )","v":""},{"$f":"IF(AND(TRIM(DC17)=\"\",TRIM(DC18)=\"\"),\"\",DC17+DC18)","v":""},null,null,null,{"$f":"IF(TRIM(DF19)=\"\", \"\", IF(VLOOKUP(DF19,'Footnotes list'!$D$9:$E$58,2,FALSE)=0,\"\",VLOOKUP(DF19,'Footnotes list'!$D$9:$E$58,2,FALSE) ) )","v":""},{"$f":"IF(AND(TRIM(DH17)=\"\", TRIM(DH18)=\"\"), \"\", SUM(DH17,DH18) )","v":""},null,null,null,{"$f":"IF(TRIM(DK19)=\"\", \"\", IF(VLOOKUP(DK19,'Footnotes list'!$D$9:$E$58,2,FALSE)=0,\"\",VLOOKUP(DK19,'Footnotes list'!$D$9:$E$58,2,FALSE) ) )","v":""}]
[null,"W032","W032","Industrial effluent sludges ","HAZ","Hazardous ",null,null,null,null,{"$f":"IF(TRIM(J20)=\"\", \"\", IF(VLOOKUP(J20,'Footnotes list'!$D$9:$E$58,2,FALSE)=0,\"\",VLOOKUP(J20,'Footnotes list'!$D$9:$E$58,2,FALSE) ) )","v":""},null,null,null,null,{"$f":"IF(TRIM(O20)=\"\", \"\", IF(VLOOKUP(O20,'Footnotes list'!$D$9:$E$58,2,FALSE)=0,\"\",VLOOKUP(O20,'Footnotes list'!$D$9:$E$58,2,FALSE) ) )","v":""},null,null,null,null,{"$f":"IF(TRIM(T20)=\"\", \"\", IF(VLOOKUP(T20,'Footnotes list'!$D$9:$E$58,2,FALSE)=0,\"\",VLOOKUP(T20,'Footnotes list'!$D$9:$E$58,2,FALSE) ) )","v":""},null,null,null,null,{"$f":"IF(TRIM(Y20)=\"\", \"\", IF(VLOOKUP(Y20,'Footnotes list'!$D$9:$E$58,2,FALSE)=0,\"\",VLOOKUP(Y20,'Footnotes list'!$D$9:$E$58,2,FALSE) ) )","v":""},null,null,null,null,{"$f":"IF(TRIM(AD20)=\"\", \"\", IF(VLOOKUP(AD20,'Footnotes list'!$D$9:$E$58,2,FALSE)=0,\"\",VLOOKUP(AD20,'Footnotes list'!$D$9:$E$58,2,FALSE) ) )","v":""},null,null,null,null,{"$f":"IF(TRIM(AI20)=\"\", \"\", IF(VLOOKUP(AI20,'Footnotes list'!$D$9:$E$58,2,FALSE)=0,\"\",VLOOKUP(AI20,'Footnotes list'!$D$9:$E$58,2,FALSE) ) )","v":""},null,null,null,null,{"$f":"IF(TRIM(AN20)=\"\", \"\", IF(VLOOKUP(AN20,'Footnotes list'!$D$9:$E$58,2,FALSE)=0,\"\",VLOOKUP(AN20,'Footnotes list'!$D$9:$E$58,2,FALSE) ) )","v":""},null,null,null,null,{"$f":"IF(TRIM(AS20)=\"\", \"\", IF(VLOOKUP(AS20,'Footnotes list'!$D$9:$E$58,2,FALSE)=0,\"\",VLOOKUP(AS20,'Footnotes list'!$D$9:$E$58,2,FALSE) ) )","v":""},null,null,null,null,{"$f":"IF(TRIM(AX20)=\"\", \"\", IF(VLOOKUP(AX20,'Footnotes list'!$D$9:$E$58,2,FALSE)=0,\"\",VLOOKUP(AX20,'Footnotes list'!$D$9:$E$58,2,FALSE) ) )","v":""},null,null,null,null,{"$f":"IF(TRIM(BC20)=\"\", \"\", IF(VLOOKUP(BC20,'Footnotes list'!$D$9:$E$58,2,FALSE)=0,\"\",VLOOKUP(BC20,'Footnotes list'!$D$9:$E$58,2,FALSE) ) )","v":""},null,null,null,null,{"$f":"IF(TRIM(BH20)=\"\", \"\", IF(VLOOKUP(BH20,'Footnotes list'!$D$9:$E$58,2,FALSE)=0,\"\",VLOOKUP(BH20,'Footnotes list'!$D$9:$E$58,2,FALSE) ) )","v":""},null,null,null,null,{"$f":"IF(TRIM(BM20)=\"\", \"\", IF(VLOOKUP(BM20,'Footnotes list'!$D$9:$E$58,2,FALSE)=0,\"\",VLOOKUP(BM20,'Footnotes list'!$D$9:$E$58,2,FALSE) ) )","v":""},{"$f":"IF(AND(TRIM(Q20)=\"\",TRIM(V20)=\"\",TRIM(AA20)=\"\", TRIM(AF20)=\"\", TRIM(AK20)=\"\", TRIM(AP20)=\"\", TRIM(AU20)=\"\", TRIM(AZ20)=\"\", TRIM(BE20)=\"\", TRIM(BJ20)=\"\"),\"\",Q20+V20+AA20+AF20+AK20+AP20+AU20+AZ20+BE20+BJ20)","v":""},null,null,null,{"$f":"IF(TRIM(BR20)=\"\", \"\", IF(VLOOKUP(BR20,'Footnotes list'!$D$9:$E$58,2,FALSE)=0,\"\",VLOOKUP(BR20,'Footnotes list'!$D$9:$E$58,2,FALSE) ) )","v":""},null,null,null,null,{"$f":"IF(TRIM(BW20)=\"\", \"\", IF(VLOOKUP(BW20,'Footnotes list'!$D$9:$E$58,2,FALSE)=0,\"\",VLOOKUP(BW20,'Footnotes list'!$D$9:$E$58,2,FALSE) ) )","v":""},null,null,null,null,{"$f":"IF(TRIM(CB20)=\"\", \"\", IF(VLOOKUP(CB20,'Footnotes list'!$D$9:$E$58,2,FALSE)=0,\"\",VLOOKUP(CB20,'Footnotes list'!$D$9:$E$58,2,FALSE) ) )","v":""},null,null,null,null,{"$f":"IF(TRIM(CG20)=\"\", \"\", IF(VLOOKUP(CG20,'Footnotes list'!$D$9:$E$58,2,FALSE)=0,\"\",VLOOKUP(CG20,'Footnotes list'!$D$9:$E$58,2,FALSE) ) )","v":""},{"$f":"IF(AND(TRIM(BY20)=\"\",TRIM(CD20)=\"\"),\"\",BY20+CD20)","v":""},null,null,null,{"$f":"IF(TRIM(CL20)=\"\", \"\", IF(VLOOKUP(CL20,'Footnotes list'!$D$9:$E$58,2,FALSE)=0,\"\",VLOOKUP(CL20,'Footnotes list'!$D$9:$E$58,2,FALSE) ) )","v":""},null,null,null,null,{"$f":"IF(TRIM(CQ20)=\"\", \"\", IF(VLOOKUP(CQ20,'Footnotes list'!$D$9:$E$58,2,FALSE)=0,\"\",VLOOKUP(CQ20,'Footnotes list'!$D$9:$E$58,2,FALSE) ) )","v":""},null,null,null,null,{"$f":"IF(TRIM(CV20)=\"\", \"\", IF(VLOOKUP(CV20,'Footnotes list'!$D$9:$E$58,2,FALSE)=0,\"\",VLOOKUP(CV20,'Footnotes list'!$D$9:$E$58,2,FALSE) ) )","v":""},null,null,null,null,{"$f":"IF(TRIM(DA20)=\"\", \"\", IF(VLOOKUP(DA20,'Footnotes list'!$D$9:$E$58,2,FALSE)=0,\"\",VLOOKUP(DA20,'Footnotes list'!$D$9:$E$58,2,FALSE) ) )","v":""},null,null,null,null,{"$f":"IF(TRIM(DF20)=\"\", \"\", IF(VLOOKUP(DF20,'Footnotes list'!$D$9:$E$58,2,FALSE)=0,\"\",VLOOKUP(DF20,'Footnotes list'!$D$9:$E$58,2,FALSE) ) )","v":""},{"$f":"IF(AND(TRIM(G20)=\"\",TRIM(L20)=\"\",TRIM(BO20)=\"\",TRIM(BT20)=\"\",TRIM(CI20)=\"\",TRIM(CN20)=\"\",TRIM(CS20)=\"\",TRIM(CX20)=\"\",TRIM(DC20)=\"\"),\"\",SUM(G20,L20,BO20,BT20,CI20,CN20,CS20,CX20,DC20))","v":""},null,null,null,{"$f":"IF(TRIM(DK20)=\"\", \"\", IF(VLOOKUP(DK20,'Footnotes list'!$D$9:$E$58,2,FALSE)=0,\"\",VLOOKUP(DK20,'Footnotes list'!$D$9:$E$58,2,FALSE) ) )","v":""}]
[null,null,"W032",null,"NHAZ","Non-hazardous",null,null,null,null,{"$f":"IF(TRIM(J21)=\"\", \"\", IF(VLOOKUP(J21,'Footnotes list'!$D$9:$E$58,2,FALSE)=0,\"\",VLOOKUP(J21,'Footnotes list'!$D$9:$E$58,2,FALSE) ) )","v":""},null,null,null,null,{"$f":"IF(TRIM(O21)=\"\", \"\", IF(VLOOKUP(O21,'Footnotes list'!$D$9:$E$58,2,FALSE)=0,\"\",VLOOKUP(O21,'Footnotes list'!$D$9:$E$58,2,FALSE) ) )","v":""},null,null,null,null,{"$f":"IF(TRIM(T21)=\"\", \"\", IF(VLOOKUP(T21,'Footnotes list'!$D$9:$E$58,2,FALSE)=0,\"\",VLOOKUP(T21,'Footnotes list'!$D$9:$E$58,2,FALSE) ) )","v":""},null,null,null,null,{"$f":"IF(TRIM(Y21)=\"\", \"\", IF(VLOOKUP(Y21,'Footnotes list'!$D$9:$E$58,2,FALSE)=0,\"\",VLOOKUP(Y21,'Footnotes list'!$D$9:$E$58,2,FALSE) ) )","v":""},null,null,null,null,{"$f":"IF(TRIM(AD21)=\"\", \"\", IF(VLOOKUP(AD21,'Footnotes list'!$D$9:$E$58,2,FALSE)=0,\"\",VLOOKUP(AD21,'Footnotes list'!$D$9:$E$58,2,FALSE) ) )","v":""},null,null,null,null,{"$f":"IF(TRIM(AI21)=\"\", \"\", IF(VLOOKUP(AI21,'Footnotes list'!$D$9:$E$58,2,FALSE)=0,\"\",VLOOKUP(AI21,'Footnotes list'!$D$9:$E$58,2,FALSE) ) )","v":""},null,null,null,null,{"$f":"IF(TRIM(AN21)=\"\", \"\", IF(VLOOKUP(AN21,'Footnotes list'!$D$9:$E$58,2,FALSE)=0,\"\",VLOOKUP(AN21,'Footnotes list'!$D$9:$E$58,2,FALSE) ) )","v":""},null,null,null,null,{"$f":"IF(TRIM(AS21)=\"\", \"\", IF(VLOOKUP(AS21,'Footnotes list'!$D$9:$E$58,2,FALSE)=0,\"\",VLOOKUP(AS21,'Footnotes list'!$D$9:$E$58,2,FALSE) ) )","v":""},null,null,null,null,{"$f":"IF(TRIM(AX21)=\"\", \"\", IF(VLOOKUP(AX21,'Footnotes list'!$D$9:$E$58,2,FALSE)=0,\"\",VLOOKUP(AX21,'Footnotes list'!$D$9:$E$58,2,FALSE) ) )","v":""},null,null,null,null,{"$f":"IF(TRIM(BC21)=\"\", \"\", IF(VLOOKUP(BC21,'Footnotes list'!$D$9:$E$58,2,FALSE)=0,\"\",VLOOKUP(BC21,'Footnotes list'!$D$9:$E$58,2,FALSE) ) )","v":""},null,null,null,null,{"$f":"IF(TRIM(BH21)=\"\", \"\", IF(VLOOKUP(BH21,'Footnotes list'!$D$9:$E$58,2,FALSE)=0,\"\",VLOOKUP(BH21,'Footnotes list'!$D$9:$E$58,2,FALSE) ) )","v":""},null,null,null,null,{"$f":"IF(TRIM(BM21)=\"\", \"\", IF(VLOOKUP(BM21,'Footnotes list'!$D$9:$E$58,2,FALSE)=0,\"\",VLOOKUP(BM21,'Footnotes list'!$D$9:$E$58,2,FALSE) ) )","v":""},{"$f":"IF(AND(TRIM(Q21)=\"\",TRIM(V21)=\"\",TRIM(AA21)=\"\", TRIM(AF21)=\"\", TRIM(AK21)=\"\", TRIM(AP21)=\"\", TRIM(AU21)=\"\", TRIM(AZ21)=\"\", TRIM(BE21)=\"\", TRIM(BJ21)=\"\"),\"\",Q21+V21+AA21+AF21+AK21+AP21+AU21+AZ21+BE21+BJ21)","v":""},null,null,null,{"$f":"IF(TRIM(BR21)=\"\", \"\", IF(VLOOKUP(BR21,'Footnotes list'!$D$9:$E$58,2,FALSE)=0,\"\",VLOOKUP(BR21,'Footnotes list'!$D$9:$E$58,2,FALSE) ) )","v":""},null,null,null,null,{"$f":"IF(TRIM(BW21)=\"\", \"\", IF(VLOOKUP(BW21,'Footnotes list'!$D$9:$E$58,2,FALSE)=0,\"\",VLOOKUP(BW21,'Footnotes list'!$D$9:$E$58,2,FALSE) ) )","v":""},null,null,null,null,{"$f":"IF(TRIM(CB21)=\"\", \"\", IF(VLOOKUP(CB21,'Footnotes list'!$D$9:$E$58,2,FALSE)=0,\"\",VLOOKUP(CB21,'Footnotes list'!$D$9:$E$58,2,FALSE) ) )","v":""},null,null,null,null,{"$f":"IF(TRIM(CG21)=\"\", \"\", IF(VLOOKUP(CG21,'Footnotes list'!$D$9:$E$58,2,FALSE)=0,\"\",VLOOKUP(CG21,'Footnotes list'!$D$9:$E$58,2,FALSE) ) )","v":""},{"$f":"IF(AND(TRIM(BY21)=\"\",TRIM(CD21)=\"\"),\"\",BY21+CD21)","v":""},null,null,null,{"$f":"IF(TRIM(CL21)=\"\", \"\", IF(VLOOKUP(CL21,'Footnotes list'!$D$9:$E$58,2,FALSE)=0,\"\",VLOOKUP(CL21,'Footnotes list'!$D$9:$E$58,2,FALSE) ) )","v":""},null,null,null,null,{"$f":"IF(TRIM(CQ21)=\"\", \"\", IF(VLOOKUP(CQ21,'Footnotes list'!$D$9:$E$58,2,FALSE)=0,\"\",VLOOKUP(CQ21,'Footnotes list'!$D$9:$E$58,2,FALSE) ) )","v":""},null,null,null,null,{"$f":"IF(TRIM(CV21)=\"\", \"\", IF(VLOOKUP(CV21,'Footnotes list'!$D$9:$E$58,2,FALSE)=0,\"\",VLOOKUP(CV21,'Footnotes list'!$D$9:$E$58,2,FALSE) ) )","v":""},null,null,null,null,{"$f":"IF(TRIM(DA21)=\"\", \"\", IF(VLOOKUP(DA21,'Footnotes list'!$D$9:$E$58,2,FALSE)=0,\"\",VLOOKUP(DA21,'Footnotes list'!$D$9:$E$58,2,FALSE) ) )","v":""},null,null,null,null,{"$f":"IF(TRIM(DF21)=\"\", \"\", IF(VLOOKUP(DF21,'Footnotes list'!$D$9:$E$58,2,FALSE)=0,\"\",VLOOKUP(DF21,'Footnotes list'!$D$9:$E$58,2,FALSE) ) )","v":""},{"$f":"IF(AND(TRIM(G21)=\"\",TRIM(L21)=\"\",TRIM(BO21)=\"\",TRIM(BT21)=\"\",TRIM(CI21)=\"\",TRIM(CN21)=\"\",TRIM(CS21)=\"\",TRIM(CX21)=\"\",TRIM(DC21)=\"\"),\"\",SUM(G21,L21,BO21,BT21,CI21,CN21,CS21,CX21,DC21))","v":""},null,null,null,{"$f":"IF(TRIM(DK21)=\"\", \"\", IF(VLOOKUP(DK21,'Footnotes list'!$D$9:$E$58,2,FALSE)=0,\"\",VLOOKUP(DK21,'Footnotes list'!$D$9:$E$58,2,FALSE) ) )","v":""}]
[null,null,"W032",null,"HAZ_NHAZ","Total",null,null,null,null,{"$f":"IF(TRIM(J22)=\"\", \"\", IF(VLOOKUP(J22,'Footnotes list'!$D$9:$E$58,2,FALSE)=0,\"\",VLOOKUP(J22,'Footnotes list'!$D$9:$E$58,2,FALSE) ) )","v":""},{"$f":"IF(AND(TRIM(L20)=\"\",TRIM(L21)=\"\"),\"\",L20+L21)","v":""},null,null,null,{"$f":"IF(TRIM(O22)=\"\", \"\", IF(VLOOKUP(O22,'Footnotes list'!$D$9:$E$58,2,FALSE)=0,\"\",VLOOKUP(O22,'Footnotes list'!$D$9:$E$58,2,FALSE) ) )","v":""},{"$f":"IF(AND(TRIM(Q20)=\"\",TRIM(Q21)=\"\"),\"\",Q20+Q21)","v":""},null,null,null,{"$f":"IF(TRIM(T22)=\"\", \"\", IF(VLOOKUP(T22,'Footnotes list'!$D$9:$E$58,2,FALSE)=0,\"\",VLOOKUP(T22,'Footnotes list'!$D$9:$E$58,2,FALSE) ) )","v":""},{"$f":"IF(AND(TRIM(V20)=\"\",TRIM(V21)=\"\"),\"\",V20+V21)","v":""},null,null,null,{"$f":"IF(TRIM(Y22)=\"\", \"\", IF(VLOOKUP(Y22,'Footnotes list'!$D$9:$E$58,2,FALSE)=0,\"\",VLOOKUP(Y22,'Footnotes list'!$D$9:$E$58,2,FALSE) ) )","v":""},{"$f":"IF(AND(TRIM(AA20)=\"\",TRIM(AA21)=\"\"),\"\",AA20+AA21)","v":""},null,null,null,{"$f":"IF(TRIM(AD22)=\"\", \"\", IF(VLOOKUP(AD22,'Footnotes list'!$D$9:$E$58,2,FALSE)=0,\"\",VLOOKUP(AD22,'Footnotes list'!$D$9:$E$58,2,FALSE) ) )","v":""},{"$f":"IF(AND(TRIM(AF20)=\"\",TRIM(AF21)=\"\"),\"\",AF20+AF21)","v":""},null,null,null,{"$f":"IF(TRIM(AI22)=\"\", \"\", IF(VLOOKUP(AI22,'Footnotes list'!$D$9:$E$58,2,FALSE)=0,\"\",VLOOKUP(AI22,'Footnotes list'!$D$9:$E$58,2,FALSE) ) )","v":""},{"$f":"IF(AND(TRIM(AK20)=\"\",TRIM(AK21)=\"\"),\"\",AK20+AK21)","v":""},null,null,null,{"$f":"IF(TRIM(AN22)=\"\", \"\", IF(VLOOKUP(AN22,'Footnotes list'!$D$9:$E$58,2,FALSE)=0,\"\",VLOOKUP(AN22,'Footnotes list'!$D$9:$E$58,2,FALSE) ) )","v":""},{"$f":"IF(AND(TRIM(AP20)=\"\",TRIM(AP21)=\"\"),\"\",AP20+AP21)","v":""},null,null,null,{"$f":"IF(TRIM(AS22)=\"\", \"\", IF(VLOOKUP(AS22,'Footnotes list'!$D$9:$E$58,2,FALSE)=0,\"\",VLOOKUP(AS22,'Footnotes list'!$D$9:$E$58,2,FALSE) ) )","v":""},{"$f":"IF(AND(TRIM(AU20)=\"\",TRIM(AU21)=\"\"),\"\",AU20+AU21)","v":""},null,null,null,{"$f":"IF(TRIM(AX22)=\"\", \"\", IF(VLOOKUP(AX22,'Footnotes list'!$D$9:$E$58,2,FALSE)=0,\"\",VLOOKUP(AX22,'Footnotes list'!$D$9:$E$58,2,FALSE) ) )","v":""},{"$f":"IF(AND(TRIM(AZ20)=\"\",TRIM(AZ21)=\"\"),\"\",AZ20+AZ21)","v":""},null,null,null,{"$f":"IF(TRIM(BC22)=\"\", \"\", IF(VLOOKUP(BC22,'Footnotes list'!$D$9:$E$58,2,FALSE)=0,\"\",VLOOKUP(BC22,'Footnotes list'!$D$9:$E$58,2,FALSE) ) )","v":""},{"$f":"IF(AND(TRIM(BE20)=\"\",TRIM(BE21)=\"\"),\"\",BE20+BE21)","v":""},null,null,null,{"$f":"IF(TRIM(BH22)=\"\", \"\", IF(VLOOKUP(BH22,'Footnotes list'!$D$9:$E$58,2,FALSE)=0,\"\",VLOOKUP(BH22,'Footnotes list'!$D$9:$E$58,2,FALSE) ) )","v":""},{"$f":"IF(AND(TRIM(BJ20)=\"\",TRIM(BJ21)=\"\"),\"\",BJ20+BJ21)","v":""},null,null,null,{"$f":"IF(TRIM(BM22)=\"\", \"\", IF(VLOOKUP(BM22,'Footnotes list'!$D$9:$E$58,2,FALSE)=0,\"\",VLOOKUP(BM22,'Footnotes list'!$D$9:$E$58,2,FALSE) ) )","v":""},{"$f":"IF(AND(TRIM(BO20)=\"\", TRIM(BO21)=\"\"), \"\", (IF(ISNUMBER(BO20),BO20,0)+IF(ISNUMBER(BO21),BO21,0)))","v":""},null,null,null,{"$f":"IF(TRIM(BR22)=\"\", \"\", IF(VLOOKUP(BR22,'Footnotes list'!$D$9:$E$58,2,FALSE)=0,\"\",VLOOKUP(BR22,'Footnotes list'!$D$9:$E$58,2,FALSE) ) )","v":""},{"$f":"IF(AND(TRIM(BT20)=\"\",TRIM(BT21)=\"\"),\"\",BT20+BT21)","v":""},null,null,null,{"$f":"IF(TRIM(BW22)=\"\", \"\", IF(VLOOKUP(BW22,'Footnotes list'!$D$9:$E$58,2,FALSE)=0,\"\",VLOOKUP(BW22,'Footnotes list'!$D$9:$E$58,2,FALSE) ) )","v":""},{"$f":"IF(AND(TRIM(BY20)=\"\",TRIM(BY21)=\"\"),\"\",BY20+BY21)","v":""},null,null,null,{"$f":"IF(TRIM(CB22)=\"\", \"\", IF(VLOOKUP(CB22,'Footnotes list'!$D$9:$E$58,2,FALSE)=0,\"\",VLOOKUP(CB22,'Footnotes list'!$D$9:$E$58,2,FALSE) ) )","v":""},{"$f":"IF(AND(TRIM(CD20)=\"\",TRIM(CD21)=\"\"),\"\",CD20+CD21)","v":""},null,null,null,{"$f":"IF(TRIM(CG22)=\"\", \"\", IF(VLOOKUP(CG22,'Footnotes list'!$D$9:$E$58,2,FALSE)=0,\"\",VLOOKUP(CG22,'Footnotes list'!$D$9:$E$58,2,FALSE) ) )","v":""},{"$f":"IF(AND(TRIM(CI20)=\"\", TRIM(CI21)=\"\"), \"\", (IF(ISNUMBER(CI20),CI20,0)+IF(ISNUMBER(CI21),CI21,0)))","v":""},null,null,null,{"$f":"IF(TRIM(CL22)=\"\", \"\", IF(VLOOKUP(CL22,'Footnotes list'!$D$9:$E$58,2,FALSE)=0,\"\",VLOOKUP(CL22,'Footnotes list'!$D$9:$E$58,2,FALSE) ) )","v":""},{"$f":"IF(AND(TRIM(CN20)=\"\",TRIM(CN21)=\"\"),\"\",CN20+CN21)","v":""},null,null,null,{"$f":"IF(TRIM(CQ22)=\"\", \"\", IF(VLOOKUP(CQ22,'Footnotes list'!$D$9:$E$58,2,FALSE)=0,\"\",VLOOKUP(CQ22,'Footnotes list'!$D$9:$E$58,2,FALSE) ) )","v":""},{"$f":"IF(AND(TRIM(CS20)=\"\",TRIM(CS21)=\"\"),\"\",CS20+CS21)","v":""},null,null,null,{"$f":"IF(TRIM(CV22)=\"\", \"\", IF(VLOOKUP(CV22,'Footnotes list'!$D$9:$E$58,2,FALSE)=0,\"\",VLOOKUP(CV22,'Footnotes list'!$D$9:$E$58,2,FALSE) ) )","v":""},{"$f":"IF(AND(TRIM(CX20)=\"\",TRIM(CX21)=\"\"),\"\",CX20+CX21)","v":""},null,null,null,{"$f":"IF(TRIM(DA22)=\"\", \"\", IF(VLOOKUP(DA22,'Footnotes list'!$D$9:$E$58,2,FALSE)=0,\"\",VLOOKUP(DA22,'Footnotes list'!$D$9:$E$58,2,FALSE) ) )","v":""},{"$f":"IF(AND(TRIM(DC20)=\"\",TRIM(DC21)=\"\"),\"\",DC20+DC21)","v":""},null,null,null,{"$f":"IF(TRIM(DF22)=\"\", \"\", IF(VLOOKUP(DF22,'Footnotes list'!$D$9:$E$58,2,FALSE)=0,\"\",VLOOKUP(DF22,'Footnotes list'!$D$9:$E$58,2,FALSE) ) )","v":""},{"$f":"IF(AND(TRIM(DH20)=\"\", TRIM(DH21)=\"\"), \"\", SUM(DH20,DH21) )","v":""},null,null,null,{"$f":"IF(TRIM(DK22)=\"\", \"\", IF(VLOOKUP(DK22,'Footnotes list'!$D$9:$E$58,2,FALSE)=0,\"\",VLOOKUP(DK22,'Footnotes list'!$D$9:$E$58,2,FALSE) ) )","v":""}]
[null,"W033","W033","Sludges and liquid wastes from waste treatment","HAZ","Hazardous ",null,null,null,null,{"$f":"IF(TRIM(J23)=\"\", \"\", IF(VLOOKUP(J23,'Footnotes list'!$D$9:$E$58,2,FALSE)=0,\"\",VLOOKUP(J23,'Footnotes list'!$D$9:$E$58,2,FALSE) ) )","v":""},null,null,null,null,{"$f":"IF(TRIM(O23)=\"\", \"\", IF(VLOOKUP(O23,'Footnotes list'!$D$9:$E$58,2,FALSE)=0,\"\",VLOOKUP(O23,'Footnotes list'!$D$9:$E$58,2,FALSE) ) )","v":""},null,null,null,null,{"$f":"IF(TRIM(T23)=\"\", \"\", IF(VLOOKUP(T23,'Footnotes list'!$D$9:$E$58,2,FALSE)=0,\"\",VLOOKUP(T23,'Footnotes list'!$D$9:$E$58,2,FALSE) ) )","v":""},null,null,null,null,{"$f":"IF(TRIM(Y23)=\"\", \"\", IF(VLOOKUP(Y23,'Footnotes list'!$D$9:$E$58,2,FALSE)=0,\"\",VLOOKUP(Y23,'Footnotes list'!$D$9:$E$58,2,FALSE) ) )","v":""},null,null,null,null,{"$f":"IF(TRIM(AD23)=\"\", \"\", IF(VLOOKUP(AD23,'Footnotes list'!$D$9:$E$58,2,FALSE)=0,\"\",VLOOKUP(AD23,'Footnotes list'!$D$9:$E$58,2,FALSE) ) )","v":""},null,null,null,null,{"$f":"IF(TRIM(AI23)=\"\", \"\", IF(VLOOKUP(AI23,'Footnotes list'!$D$9:$E$58,2,FALSE)=0,\"\",VLOOKUP(AI23,'Footnotes list'!$D$9:$E$58,2,FALSE) ) )","v":""},null,null,null,null,{"$f":"IF(TRIM(AN23)=\"\", \"\", IF(VLOOKUP(AN23,'Footnotes list'!$D$9:$E$58,2,FALSE)=0,\"\",VLOOKUP(AN23,'Footnotes list'!$D$9:$E$58,2,FALSE) ) )","v":""},null,null,null,null,{"$f":"IF(TRIM(AS23)=\"\", \"\", IF(VLOOKUP(AS23,'Footnotes list'!$D$9:$E$58,2,FALSE)=0,\"\",VLOOKUP(AS23,'Footnotes list'!$D$9:$E$58,2,FALSE) ) )","v":""},null,null,null,null,{"$f":"IF(TRIM(AX23)=\"\", \"\", IF(VLOOKUP(AX23,'Footnotes list'!$D$9:$E$58,2,FALSE)=0,\"\",VLOOKUP(AX23,'Footnotes list'!$D$9:$E$58,2,FALSE) ) )","v":""},null,null,null,null,{"$f":"IF(TRIM(BC23)=\"\", \"\", IF(VLOOKUP(BC23,'Footnotes list'!$D$9:$E$58,2,FALSE)=0,\"\",VLOOKUP(BC23,'Footnotes list'!$D$9:$E$58,2,FALSE) ) )","v":""},null,null,null,null,{"$f":"IF(TRIM(BH23)=\"\", \"\", IF(VLOOKUP(BH23,'Footnotes list'!$D$9:$E$58,2,FALSE)=0,\"\",VLOOKUP(BH23,'Footnotes list'!$D$9:$E$58,2,FALSE) ) )","v":""},null,null,null,null,{"$f":"IF(TRIM(BM23)=\"\", \"\", IF(VLOOKUP(BM23,'Footnotes list'!$D$9:$E$58,2,FALSE)=0,\"\",VLOOKUP(BM23,'Footnotes list'!$D$9:$E$58,2,FALSE) ) )","v":""},{"$f":"IF(AND(TRIM(Q23)=\"\",TRIM(V23)=\"\",TRIM(AA23)=\"\", TRIM(AF23)=\"\", TRIM(AK23)=\"\", TRIM(AP23)=\"\", TRIM(AU23)=\"\", TRIM(AZ23)=\"\", TRIM(BE23)=\"\", TRIM(BJ23)=\"\"),\"\",Q23+V23+AA23+AF23+AK23+AP23+AU23+AZ23+BE23+BJ23)","v":""},null,null,null,{"$f":"IF(TRIM(BR23)=\"\", \"\", IF(VLOOKUP(BR23,'Footnotes list'!$D$9:$E$58,2,FALSE)=0,\"\",VLOOKUP(BR23,'Footnotes list'!$D$9:$E$58,2,FALSE) ) )","v":""},null,null,null,null,{"$f":"IF(TRIM(BW23)=\"\", \"\", IF(VLOOKUP(BW23,'Footnotes list'!$D$9:$E$58,2,FALSE)=0,\"\",VLOOKUP(BW23,'Footnotes list'!$D$9:$E$58,2,FALSE) ) )","v":""},null,null,null,null,{"$f":"IF(TRIM(CB23)=\"\", \"\", IF(VLOOKUP(CB23,'Footnotes list'!$D$9:$E$58,2,FALSE)=0,\"\",VLOOKUP(CB23,'Footnotes list'!$D$9:$E$58,2,FALSE) ) )","v":""},null,null,null,null,{"$f":"IF(TRIM(CG23)=\"\", \"\", IF(VLOOKUP(CG23,'Footnotes list'!$D$9:$E$58,2,FALSE)=0,\"\",VLOOKUP(CG23,'Footnotes list'!$D$9:$E$58,2,FALSE) ) )","v":""},{"$f":"IF(AND(TRIM(BY23)=\"\",TRIM(CD23)=\"\"),\"\",BY23+CD23)","v":""},null,null,null,{"$f":"IF(TRIM(CL23)=\"\", \"\", IF(VLOOKUP(CL23,'Footnotes list'!$D$9:$E$58,2,FALSE)=0,\"\",VLOOKUP(CL23,'Footnotes list'!$D$9:$E$58,2,FALSE) ) )","v":""},null,null,null,null,{"$f":"IF(TRIM(CQ23)=\"\", \"\", IF(VLOOKUP(CQ23,'Footnotes list'!$D$9:$E$58,2,FALSE)=0,\"\",VLOOKUP(CQ23,'Footnotes list'!$D$9:$E$58,2,FALSE) ) )","v":""},null,null,null,null,{"$f":"IF(TRIM(CV23)=\"\", \"\", IF(VLOOKUP(CV23,'Footnotes list'!$D$9:$E$58,2,FALSE)=0,\"\",VLOOKUP(CV23,'Footnotes list'!$D$9:$E$58,2,FALSE) ) )","v":""},null,null,null,null,{"$f":"IF(TRIM(DA23)=\"\", \"\", IF(VLOOKUP(DA23,'Footnotes list'!$D$9:$E$58,2,FALSE)=0,\"\",VLOOKUP(DA23,'Footnotes list'!$D$9:$E$58,2,FALSE) ) )","v":""},null,null,null,null,{"$f":"IF(TRIM(DF23)=\"\", \"\", IF(VLOOKUP(DF23,'Footnotes list'!$D$9:$E$58,2,FALSE)=0,\"\",VLOOKUP(DF23,'Footnotes list'!$D$9:$E$58,2,FALSE) ) )","v":""},{"$f":"IF(AND(TRIM(G23)=\"\",TRIM(L23)=\"\",TRIM(BO23)=\"\",TRIM(BT23)=\"\",TRIM(CI23)=\"\",TRIM(CN23)=\"\",TRIM(CS23)=\"\",TRIM(CX23)=\"\",TRIM(DC23)=\"\"),\"\",SUM(G23,L23,BO23,BT23,CI23,CN23,CS23,CX23,DC23))","v":""},null,null,null,{"$f":"IF(TRIM(DK23)=\"\", \"\", IF(VLOOKUP(DK23,'Footnotes list'!$D$9:$E$58,2,FALSE)=0,\"\",VLOOKUP(DK23,'Footnotes list'!$D$9:$E$58,2,FALSE) ) )","v":""}]
[null,null,"W033",null,"NHAZ","Non-hazardous",null,null,null,null,{"$f":"IF(TRIM(J24)=\"\", \"\", IF(VLOOKUP(J24,'Footnotes list'!$D$9:$E$58,2,FALSE)=0,\"\",VLOOKUP(J24,'Footnotes list'!$D$9:$E$58,2,FALSE) ) )","v":""},null,null,null,null,{"$f":"IF(TRIM(O24)=\"\", \"\", IF(VLOOKUP(O24,'Footnotes list'!$D$9:$E$58,2,FALSE)=0,\"\",VLOOKUP(O24,'Footnotes list'!$D$9:$E$58,2,FALSE) ) )","v":""},null,null,null,null,{"$f":"IF(TRIM(T24)=\"\", \"\", IF(VLOOKUP(T24,'Footnotes list'!$D$9:$E$58,2,FALSE)=0,\"\",VLOOKUP(T24,'Footnotes list'!$D$9:$E$58,2,FALSE) ) )","v":""},null,null,null,null,{"$f":"IF(TRIM(Y24)=\"\", \"\", IF(VLOOKUP(Y24,'Footnotes list'!$D$9:$E$58,2,FALSE)=0,\"\",VLOOKUP(Y24,'Footnotes list'!$D$9:$E$58,2,FALSE) ) )","v":""},null,null,null,null,{"$f":"IF(TRIM(AD24)=\"\", \"\", IF(VLOOKUP(AD24,'Footnotes list'!$D$9:$E$58,2,FALSE)=0,\"\",VLOOKUP(AD24,'Footnotes list'!$D$9:$E$58,2,FALSE) ) )","v":""},null,null,null,null,{"$f":"IF(TRIM(AI24)=\"\", \"\", IF(VLOOKUP(AI24,'Footnotes list'!$D$9:$E$58,2,FALSE)=0,\"\",VLOOKUP(AI24,'Footnotes list'!$D$9:$E$58,2,FALSE) ) )","v":""},null,null,null,null,{"$f":"IF(TRIM(AN24)=\"\", \"\", IF(VLOOKUP(AN24,'Footnotes list'!$D$9:$E$58,2,FALSE)=0,\"\",VLOOKUP(AN24,'Footnotes list'!$D$9:$E$58,2,FALSE) ) )","v":""},null,null,null,null,{"$f":"IF(TRIM(AS24)=\"\", \"\", IF(VLOOKUP(AS24,'Footnotes list'!$D$9:$E$58,2,FALSE)=0,\"\",VLOOKUP(AS24,'Footnotes list'!$D$9:$E$58,2,FALSE) ) )","v":""},null,null,null,null,{"$f":"IF(TRIM(AX24)=\"\", \"\", IF(VLOOKUP(AX24,'Footnotes list'!$D$9:$E$58,2,FALSE)=0,\"\",VLOOKUP(AX24,'Footnotes list'!$D$9:$E$58,2,FALSE) ) )","v":""},null,null,null,null,{"$f":"IF(TRIM(BC24)=\"\", \"\", IF(VLOOKUP(BC24,'Footnotes list'!$D$9:$E$58,2,FALSE)=0,\"\",VLOOKUP(BC24,'Footnotes list'!$D$9:$E$58,2,FALSE) ) )","v":""},null,null,null,null,{"$f":"IF(TRIM(BH24)=\"\", \"\", IF(VLOOKUP(BH24,'Footnotes list'!$D$9:$E$58,2,FALSE)=0,\"\",VLOOKUP(BH24,'Footnotes list'!$D$9:$E$58,2,FALSE) ) )","v":""},null,null,null,null,{"$f":"IF(TRIM(BM24)=\"\", \"\", IF(VLOOKUP(BM24,'Footnotes list'!$D$9:$E$58,2,FALSE)=0,\"\",VLOOKUP(BM24,'Footnotes list'!$D$9:$E$58,2,FALSE) ) )","v":""},{"$f":"IF(AND(TRIM(Q24)=\"\",TRIM(V24)=\"\",TRIM(AA24)=\"\", TRIM(AF24)=\"\", TRIM(AK24)=\"\", TRIM(AP24)=\"\", TRIM(AU24)=\"\", TRIM(AZ24)=\"\", TRIM(BE24)=\"\", TRIM(BJ24)=\"\"),\"\",Q24+V24+AA24+AF24+AK24+AP24+AU24+AZ24+BE24+BJ24)","v":""},null,null,null,{"$f":"IF(TRIM(BR24)=\"\", \"\", IF(VLOOKUP(BR24,'Footnotes list'!$D$9:$E$58,2,FALSE)=0,\"\",VLOOKUP(BR24,'Footnotes list'!$D$9:$E$58,2,FALSE) ) )","v":""},null,null,null,null,{"$f":"IF(TRIM(BW24)=\"\", \"\", IF(VLOOKUP(BW24,'Footnotes list'!$D$9:$E$58,2,FALSE)=0,\"\",VLOOKUP(BW24,'Footnotes list'!$D$9:$E$58,2,FALSE) ) )","v":""},null,null,null,null,{"$f":"IF(TRIM(CB24)=\"\", \"\", IF(VLOOKUP(CB24,'Footnotes list'!$D$9:$E$58,2,FALSE)=0,\"\",VLOOKUP(CB24,'Footnotes list'!$D$9:$E$58,2,FALSE) ) )","v":""},null,null,null,null,{"$f":"IF(TRIM(CG24)=\"\", \"\", IF(VLOOKUP(CG24,'Footnotes list'!$D$9:$E$58,2,FALSE)=0,\"\",VLOOKUP(CG24,'Footnotes list'!$D$9:$E$58,2,FALSE) ) )","v":""},{"$f":"IF(AND(TRIM(BY24)=\"\",TRIM(CD24)=\"\"),\"\",BY24+CD24)","v":""},null,null,null,{"$f":"IF(TRIM(CL24)=\"\", \"\", IF(VLOOKUP(CL24,'Footnotes list'!$D$9:$E$58,2,FALSE)=0,\"\",VLOOKUP(CL24,'Footnotes list'!$D$9:$E$58,2,FALSE) ) )","v":""},null,null,null,null,{"$f":"IF(TRIM(CQ24)=\"\", \"\", IF(VLOOKUP(CQ24,'Footnotes list'!$D$9:$E$58,2,FALSE)=0,\"\",VLOOKUP(CQ24,'Footnotes list'!$D$9:$E$58,2,FALSE) ) )","v":""},null,null,null,null,{"$f":"IF(TRIM(CV24)=\"\", \"\", IF(VLOOKUP(CV24,'Footnotes list'!$D$9:$E$58,2,FALSE)=0,\"\",VLOOKUP(CV24,'Footnotes list'!$D$9:$E$58,2,FALSE) ) )","v":""},null,null,null,null,{"$f":"IF(TRIM(DA24)=\"\", \"\", IF(VLOOKUP(DA24,'Footnotes list'!$D$9:$E$58,2,FALSE)=0,\"\",VLOOKUP(DA24,'Footnotes list'!$D$9:$E$58,2,FALSE) ) )","v":""},null,null,null,null,{"$f":"IF(TRIM(DF24)=\"\", \"\", IF(VLOOKUP(DF24,'Footnotes list'!$D$9:$E$58,2,FALSE)=0,\"\",VLOOKUP(DF24,'Footnotes list'!$D$9:$E$58,2,FALSE) ) )","v":""},{"$f":"IF(AND(TRIM(G24)=\"\",TRIM(L24)=\"\",TRIM(BO24)=\"\",TRIM(BT24)=\"\",TRIM(CI24)=\"\",TRIM(CN24)=\"\",TRIM(CS24)=\"\",TRIM(CX24)=\"\",TRIM(DC24)=\"\"),\"\",SUM(G24,L24,BO24,BT24,CI24,CN24,CS24,CX24,DC24))","v":""},null,null,null,{"$f":"IF(TRIM(DK24)=\"\", \"\", IF(VLOOKUP(DK24,'Footnotes list'!$D$9:$E$58,2,FALSE)=0,\"\",VLOOKUP(DK24,'Footnotes list'!$D$9:$E$58,2,FALSE) ) )","v":""}]
[null,null,"W033",null,"HAZ_NHAZ","Total",{"$f":"IF(AND(TRIM(G23)=\"\",TRIM(G24)=\"\"),\"\",G23+G24)","v":""},null,null,null,{"$f":"IF(TRIM(J25)=\"\", \"\", IF(VLOOKUP(J25,'Footnotes list'!$D$9:$E$58,2,FALSE)=0,\"\",VLOOKUP(J25,'Footnotes list'!$D$9:$E$58,2,FALSE) ) )","v":""},{"$f":"IF(AND(TRIM(L23)=\"\",TRIM(L24)=\"\"),\"\",L23+L24)","v":""},null,null,null,{"$f":"IF(TRIM(O25)=\"\", \"\", IF(VLOOKUP(O25,'Footnotes list'!$D$9:$E$58,2,FALSE)=0,\"\",VLOOKUP(O25,'Footnotes list'!$D$9:$E$58,2,FALSE) ) )","v":""},{"$f":"IF(AND(TRIM(Q23)=\"\",TRIM(Q24)=\"\"),\"\",Q23+Q24)","v":""},null,null,null,{"$f":"IF(TRIM(T25)=\"\", \"\", IF(VLOOKUP(T25,'Footnotes list'!$D$9:$E$58,2,FALSE)=0,\"\",VLOOKUP(T25,'Footnotes list'!$D$9:$E$58,2,FALSE) ) )","v":""},{"$f":"IF(AND(TRIM(V23)=\"\",TRIM(V24)=\"\"),\"\",V23+V24)","v":""},null,null,null,{"$f":"IF(TRIM(Y25)=\"\", \"\", IF(VLOOKUP(Y25,'Footnotes list'!$D$9:$E$58,2,FALSE)=0,\"\",VLOOKUP(Y25,'Footnotes list'!$D$9:$E$58,2,FALSE) ) )","v":""},{"$f":"IF(AND(TRIM(AA23)=\"\",TRIM(AA24)=\"\"),\"\",AA23+AA24)","v":""},null,null,null,{"$f":"IF(TRIM(AD25)=\"\", \"\", IF(VLOOKUP(AD25,'Footnotes list'!$D$9:$E$58,2,FALSE)=0,\"\",VLOOKUP(AD25,'Footnotes list'!$D$9:$E$58,2,FALSE) ) )","v":""},{"$f":"IF(AND(TRIM(AF23)=\"\",TRIM(AF24)=\"\"),\"\",AF23+AF24)","v":""},null,null,null,{"$f":"IF(TRIM(AI25)=\"\", \"\", IF(VLOOKUP(AI25,'Footnotes list'!$D$9:$E$58,2,FALSE)=0,\"\",VLOOKUP(AI25,'Footnotes list'!$D$9:$E$58,2,FALSE) ) )","v":""},{"$f":"IF(AND(TRIM(AK23)=\"\",TRIM(AK24)=\"\"),\"\",AK23+AK24)","v":""},null,null,null,{"$f":"IF(TRIM(AN25)=\"\", \"\", IF(VLOOKUP(AN25,'Footnotes list'!$D$9:$E$58,2,FALSE)=0,\"\",VLOOKUP(AN25,'Footnotes list'!$D$9:$E$58,2,FALSE) ) )","v":""},{"$f":"IF(AND(TRIM(AP23)=\"\",TRIM(AP24)=\"\"),\"\",AP23+AP24)","v":""},null,null,null,{"$f":"IF(TRIM(AS25)=\"\", \"\", IF(VLOOKUP(AS25,'Footnotes list'!$D$9:$E$58,2,FALSE)=0,\"\",VLOOKUP(AS25,'Footnotes list'!$D$9:$E$58,2,FALSE) ) )","v":""},{"$f":"IF(AND(TRIM(AU23)=\"\",TRIM(AU24)=\"\"),\"\",AU23+AU24)","v":""},null,null,null,{"$f":"IF(TRIM(AX25)=\"\", \"\", IF(VLOOKUP(AX25,'Footnotes list'!$D$9:$E$58,2,FALSE)=0,\"\",VLOOKUP(AX25,'Footnotes list'!$D$9:$E$58,2,FALSE) ) )","v":""},{"$f":"IF(AND(TRIM(AZ23)=\"\",TRIM(AZ24)=\"\"),\"\",AZ23+AZ24)","v":""},null,null,null,{"$f":"IF(TRIM(BC25)=\"\", \"\", IF(VLOOKUP(BC25,'Footnotes list'!$D$9:$E$58,2,FALSE)=0,\"\",VLOOKUP(BC25,'Footnotes list'!$D$9:$E$58,2,FALSE) ) )","v":""},{"$f":"IF(AND(TRIM(BE23)=\"\",TRIM(BE24)=\"\"),\"\",BE23+BE24)","v":""},null,null,null,{"$f":"IF(TRIM(BH25)=\"\", \"\", IF(VLOOKUP(BH25,'Footnotes list'!$D$9:$E$58,2,FALSE)=0,\"\",VLOOKUP(BH25,'Footnotes list'!$D$9:$E$58,2,FALSE) ) )","v":""},{"$f":"IF(AND(TRIM(BJ23)=\"\",TRIM(BJ24)=\"\"),\"\",BJ23+BJ24)","v":""},null,null,null,{"$f":"IF(TRIM(BM25)=\"\", \"\", IF(VLOOKUP(BM25,'Footnotes list'!$D$9:$E$58,2,FALSE)=0,\"\",VLOOKUP(BM25,'Footnotes list'!$D$9:$E$58,2,FALSE) ) )","v":""},{"$f":"IF(AND(TRIM(BO23)=\"\", TRIM(BO24)=\"\"), \"\", (IF(ISNUMBER(BO23),BO23,0)+IF(ISNUMBER(BO24),BO24,0)))","v":""},null,null,null,{"$f":"IF(TRIM(BR25)=\"\", \"\", IF(VLOOKUP(BR25,'Footnotes list'!$D$9:$E$58,2,FALSE)=0,\"\",VLOOKUP(BR25,'Footnotes list'!$D$9:$E$58,2,FALSE) ) )","v":""},{"$f":"IF(AND(TRIM(BT23)=\"\",TRIM(BT24)=\"\"),\"\",BT23+BT24)","v":""},null,null,null,{"$f":"IF(TRIM(BW25)=\"\", \"\", IF(VLOOKUP(BW25,'Footnotes list'!$D$9:$E$58,2,FALSE)=0,\"\",VLOOKUP(BW25,'Footnotes list'!$D$9:$E$58,2,FALSE) ) )","v":""},{"$f":"IF(AND(TRIM(BY23)=\"\",TRIM(BY24)=\"\"),\"\",BY23+BY24)","v":""},null,null,null,{"$f":"IF(TRIM(CB25)=\"\", \"\", IF(VLOOKUP(CB25,'Footnotes list'!$D$9:$E$58,2,FALSE)=0,\"\",VLOOKUP(CB25,'Footnotes list'!$D$9:$E$58,2,FALSE) ) )","v":""},{"$f":"IF(AND(TRIM(CD23)=\"\",TRIM(CD24)=\"\"),\"\",CD23+CD24)","v":""},null,null,null,{"$f":"IF(TRIM(CG25)=\"\", \"\", IF(VLOOKUP(CG25,'Footnotes list'!$D$9:$E$58,2,FALSE)=0,\"\",VLOOKUP(CG25,'Footnotes list'!$D$9:$E$58,2,FALSE) ) )","v":""},{"$f":"IF(AND(TRIM(CI23)=\"\", TRIM(CI24)=\"\"), \"\", (IF(ISNUMBER(CI23),CI23,0)+IF(ISNUMBER(CI24),CI24,0)))","v":""},null,null,null,{"$f":"IF(TRIM(CL25)=\"\", \"\", IF(VLOOKUP(CL25,'Footnotes list'!$D$9:$E$58,2,FALSE)=0,\"\",VLOOKUP(CL25,'Footnotes list'!$D$9:$E$58,2,FALSE) ) )","v":""},{"$f":"IF(AND(TRIM(CN23)=\"\",TRIM(CN24)=\"\"),\"\",CN23+CN24)","v":""},null,null,null,{"$f":"IF(TRIM(CQ25)=\"\", \"\", IF(VLOOKUP(CQ25,'Footnotes list'!$D$9:$E$58,2,FALSE)=0,\"\",VLOOKUP(CQ25,'Footnotes list'!$D$9:$E$58,2,FALSE) ) )","v":""},{"$f":"IF(AND(TRIM(CS23)=\"\",TRIM(CS24)=\"\"),\"\",CS23+CS24)","v":""},null,null,null,{"$f":"IF(TRIM(CV25)=\"\", \"\", IF(VLOOKUP(CV25,'Footnotes list'!$D$9:$E$58,2,FALSE)=0,\"\",VLOOKUP(CV25,'Footnotes list'!$D$9:$E$58,2,FALSE) ) )","v":""},{"$f":"IF(AND(TRIM(CX23)=\"\",TRIM(CX24)=\"\"),\"\",CX23+CX24)","v":""},null,null,null,{"$f":"IF(TRIM(DA25)=\"\", \"\", IF(VLOOKUP(DA25,'Footnotes list'!$D$9:$E$58,2,FALSE)=0,\"\",VLOOKUP(DA25,'Footnotes list'!$D$9:$E$58,2,FALSE) ) )","v":""},{"$f":"IF(AND(TRIM(DC23)=\"\",TRIM(DC24)=\"\"),\"\",DC23+DC24)","v":""},null,null,null,{"$f":"IF(TRIM(DF25)=\"\", \"\", IF(VLOOKUP(DF25,'Footnotes list'!$D$9:$E$58,2,FALSE)=0,\"\",VLOOKUP(DF25,'Footnotes list'!$D$9:$E$58,2,FALSE) ) )","v":""},{"$f":"IF(AND(TRIM(DH23)=\"\", TRIM(DH24)=\"\"), \"\", SUM(DH23,DH24) )","v":""},null,null,null,{"$f":"IF(TRIM(DK25)=\"\", \"\", IF(VLOOKUP(DK25,'Footnotes list'!$D$9:$E$58,2,FALSE)=0,\"\",VLOOKUP(DK25,'Footnotes list'!$D$9:$E$58,2,FALSE) ) )","v":""}]
[null,"W05","W05","Health care and biological wastes ","HAZ","Hazardous ",null,null,null,null,{"$f":"IF(TRIM(J26)=\"\", \"\", IF(VLOOKUP(J26,'Footnotes list'!$D$9:$E$58,2,FALSE)=0,\"\",VLOOKUP(J26,'Footnotes list'!$D$9:$E$58,2,FALSE) ) )","v":""},null,null,null,null,{"$f":"IF(TRIM(O26)=\"\", \"\", IF(VLOOKUP(O26,'Footnotes list'!$D$9:$E$58,2,FALSE)=0,\"\",VLOOKUP(O26,'Footnotes list'!$D$9:$E$58,2,FALSE) ) )","v":""},null,null,null,null,{"$f":"IF(TRIM(T26)=\"\", \"\", IF(VLOOKUP(T26,'Footnotes list'!$D$9:$E$58,2,FALSE)=0,\"\",VLOOKUP(T26,'Footnotes list'!$D$9:$E$58,2,FALSE) ) )","v":""},null,null,null,null,{"$f":"IF(TRIM(Y26)=\"\", \"\", IF(VLOOKUP(Y26,'Footnotes list'!$D$9:$E$58,2,FALSE)=0,\"\",VLOOKUP(Y26,'Footnotes list'!$D$9:$E$58,2,FALSE) ) )","v":""},null,null,null,null,{"$f":"IF(TRIM(AD26)=\"\", \"\", IF(VLOOKUP(AD26,'Footnotes list'!$D$9:$E$58,2,FALSE)=0,\"\",VLOOKUP(AD26,'Footnotes list'!$D$9:$E$58,2,FALSE) ) )","v":""},null,null,null,null,{"$f":"IF(TRIM(AI26)=\"\", \"\", IF(VLOOKUP(AI26,'Footnotes list'!$D$9:$E$58,2,FALSE)=0,\"\",VLOOKUP(AI26,'Footnotes list'!$D$9:$E$58,2,FALSE) ) )","v":""},null,null,null,null,{"$f":"IF(TRIM(AN26)=\"\", \"\", IF(VLOOKUP(AN26,'Footnotes list'!$D$9:$E$58,2,FALSE)=0,\"\",VLOOKUP(AN26,'Footnotes list'!$D$9:$E$58,2,FALSE) ) )","v":""},null,null,null,null,{"$f":"IF(TRIM(AS26)=\"\", \"\", IF(VLOOKUP(AS26,'Footnotes list'!$D$9:$E$58,2,FALSE)=0,\"\",VLOOKUP(AS26,'Footnotes list'!$D$9:$E$58,2,FALSE) ) )","v":""},null,null,null,null,{"$f":"IF(TRIM(AX26)=\"\", \"\", IF(VLOOKUP(AX26,'Footnotes list'!$D$9:$E$58,2,FALSE)=0,\"\",VLOOKUP(AX26,'Footnotes list'!$D$9:$E$58,2,FALSE) ) )","v":""},null,null,null,null,{"$f":"IF(TRIM(BC26)=\"\", \"\", IF(VLOOKUP(BC26,'Footnotes list'!$D$9:$E$58,2,FALSE)=0,\"\",VLOOKUP(BC26,'Footnotes list'!$D$9:$E$58,2,FALSE) ) )","v":""},null,null,null,null,{"$f":"IF(TRIM(BH26)=\"\", \"\", IF(VLOOKUP(BH26,'Footnotes list'!$D$9:$E$58,2,FALSE)=0,\"\",VLOOKUP(BH26,'Footnotes list'!$D$9:$E$58,2,FALSE) ) )","v":""},null,null,null,null,{"$f":"IF(TRIM(BM26)=\"\", \"\", IF(VLOOKUP(BM26,'Footnotes list'!$D$9:$E$58,2,FALSE)=0,\"\",VLOOKUP(BM26,'Footnotes list'!$D$9:$E$58,2,FALSE) ) )","v":""},{"$f":"IF(AND(TRIM(Q26)=\"\",TRIM(V26)=\"\",TRIM(AA26)=\"\", TRIM(AF26)=\"\", TRIM(AK26)=\"\", TRIM(AP26)=\"\", TRIM(AU26)=\"\", TRIM(AZ26)=\"\", TRIM(BE26)=\"\", TRIM(BJ26)=\"\"),\"\",Q26+V26+AA26+AF26+AK26+AP26+AU26+AZ26+BE26+BJ26)","v":""},null,null,null,{"$f":"IF(TRIM(BR26)=\"\", \"\", IF(VLOOKUP(BR26,'Footnotes list'!$D$9:$E$58,2,FALSE)=0,\"\",VLOOKUP(BR26,'Footnotes list'!$D$9:$E$58,2,FALSE) ) )","v":""},null,null,null,null,{"$f":"IF(TRIM(BW26)=\"\", \"\", IF(VLOOKUP(BW26,'Footnotes list'!$D$9:$E$58,2,FALSE)=0,\"\",VLOOKUP(BW26,'Footnotes list'!$D$9:$E$58,2,FALSE) ) )","v":""},null,null,null,null,{"$f":"IF(TRIM(CB26)=\"\", \"\", IF(VLOOKUP(CB26,'Footnotes list'!$D$9:$E$58,2,FALSE)=0,\"\",VLOOKUP(CB26,'Footnotes list'!$D$9:$E$58,2,FALSE) ) )","v":""},null,null,null,null,{"$f":"IF(TRIM(CG26)=\"\", \"\", IF(VLOOKUP(CG26,'Footnotes list'!$D$9:$E$58,2,FALSE)=0,\"\",VLOOKUP(CG26,'Footnotes list'!$D$9:$E$58,2,FALSE) ) )","v":""},{"$f":"IF(AND(TRIM(BY26)=\"\",TRIM(CD26)=\"\"),\"\",BY26+CD26)","v":""},null,null,null,{"$f":"IF(TRIM(CL26)=\"\", \"\", IF(VLOOKUP(CL26,'Footnotes list'!$D$9:$E$58,2,FALSE)=0,\"\",VLOOKUP(CL26,'Footnotes list'!$D$9:$E$58,2,FALSE) ) )","v":""},null,null,null,null,{"$f":"IF(TRIM(CQ26)=\"\", \"\", IF(VLOOKUP(CQ26,'Footnotes list'!$D$9:$E$58,2,FALSE)=0,\"\",VLOOKUP(CQ26,'Footnotes list'!$D$9:$E$58,2,FALSE) ) )","v":""},null,null,null,null,{"$f":"IF(TRIM(CV26)=\"\", \"\", IF(VLOOKUP(CV26,'Footnotes list'!$D$9:$E$58,2,FALSE)=0,\"\",VLOOKUP(CV26,'Footnotes list'!$D$9:$E$58,2,FALSE) ) )","v":""},null,null,null,null,{"$f":"IF(TRIM(DA26)=\"\", \"\", IF(VLOOKUP(DA26,'Footnotes list'!$D$9:$E$58,2,FALSE)=0,\"\",VLOOKUP(DA26,'Footnotes list'!$D$9:$E$58,2,FALSE) ) )","v":""},null,null,null,null,{"$f":"IF(TRIM(DF26)=\"\", \"\", IF(VLOOKUP(DF26,'Footnotes list'!$D$9:$E$58,2,FALSE)=0,\"\",VLOOKUP(DF26,'Footnotes list'!$D$9:$E$58,2,FALSE) ) )","v":""},{"$f":"IF(AND(TRIM(G26)=\"\",TRIM(L26)=\"\",TRIM(BO26)=\"\",TRIM(BT26)=\"\",TRIM(CI26)=\"\",TRIM(CN26)=\"\",TRIM(CS26)=\"\",TRIM(CX26)=\"\",TRIM(DC26)=\"\"),\"\",SUM(G26,L26,BO26,BT26,CI26,CN26,CS26,CX26,DC26))","v":""},null,null,null,{"$f":"IF(TRIM(DK26)=\"\", \"\", IF(VLOOKUP(DK26,'Footnotes list'!$D$9:$E$58,2,FALSE)=0,\"\",VLOOKUP(DK26,'Footnotes list'!$D$9:$E$58,2,FALSE) ) )","v":""}]
[null,null,"W05",null,"NHAZ","Non-hazardous",null,null,null,null,{"$f":"IF(TRIM(J27)=\"\", \"\", IF(VLOOKUP(J27,'Footnotes list'!$D$9:$E$58,2,FALSE)=0,\"\",VLOOKUP(J27,'Footnotes list'!$D$9:$E$58,2,FALSE) ) )","v":""},null,null,null,null,{"$f":"IF(TRIM(O27)=\"\", \"\", IF(VLOOKUP(O27,'Footnotes list'!$D$9:$E$58,2,FALSE)=0,\"\",VLOOKUP(O27,'Footnotes list'!$D$9:$E$58,2,FALSE) ) )","v":""},null,null,null,null,{"$f":"IF(TRIM(T27)=\"\", \"\", IF(VLOOKUP(T27,'Footnotes list'!$D$9:$E$58,2,FALSE)=0,\"\",VLOOKUP(T27,'Footnotes list'!$D$9:$E$58,2,FALSE) ) )","v":""},null,null,null,null,{"$f":"IF(TRIM(Y27)=\"\", \"\", IF(VLOOKUP(Y27,'Footnotes list'!$D$9:$E$58,2,FALSE)=0,\"\",VLOOKUP(Y27,'Footnotes list'!$D$9:$E$58,2,FALSE) ) )","v":""},null,null,null,null,{"$f":"IF(TRIM(AD27)=\"\", \"\", IF(VLOOKUP(AD27,'Footnotes list'!$D$9:$E$58,2,FALSE)=0,\"\",VLOOKUP(AD27,'Footnotes list'!$D$9:$E$58,2,FALSE) ) )","v":""},null,null,null,null,{"$f":"IF(TRIM(AI27)=\"\", \"\", IF(VLOOKUP(AI27,'Footnotes list'!$D$9:$E$58,2,FALSE)=0,\"\",VLOOKUP(AI27,'Footnotes list'!$D$9:$E$58,2,FALSE) ) )","v":""},null,null,null,null,{"$f":"IF(TRIM(AN27)=\"\", \"\", IF(VLOOKUP(AN27,'Footnotes list'!$D$9:$E$58,2,FALSE)=0,\"\",VLOOKUP(AN27,'Footnotes list'!$D$9:$E$58,2,FALSE) ) )","v":""},null,null,null,null,{"$f":"IF(TRIM(AS27)=\"\", \"\", IF(VLOOKUP(AS27,'Footnotes list'!$D$9:$E$58,2,FALSE)=0,\"\",VLOOKUP(AS27,'Footnotes list'!$D$9:$E$58,2,FALSE) ) )","v":""},null,null,null,null,{"$f":"IF(TRIM(AX27)=\"\", \"\", IF(VLOOKUP(AX27,'Footnotes list'!$D$9:$E$58,2,FALSE)=0,\"\",VLOOKUP(AX27,'Footnotes list'!$D$9:$E$58,2,FALSE) ) )","v":""},null,null,null,null,{"$f":"IF(TRIM(BC27)=\"\", \"\", IF(VLOOKUP(BC27,'Footnotes list'!$D$9:$E$58,2,FALSE)=0,\"\",VLOOKUP(BC27,'Footnotes list'!$D$9:$E$58,2,FALSE) ) )","v":""},null,null,null,null,{"$f":"IF(TRIM(BH27)=\"\", \"\", IF(VLOOKUP(BH27,'Footnotes list'!$D$9:$E$58,2,FALSE)=0,\"\",VLOOKUP(BH27,'Footnotes list'!$D$9:$E$58,2,FALSE) ) )","v":""},null,null,null,null,{"$f":"IF(TRIM(BM27)=\"\", \"\", IF(VLOOKUP(BM27,'Footnotes list'!$D$9:$E$58,2,FALSE)=0,\"\",VLOOKUP(BM27,'Footnotes list'!$D$9:$E$58,2,FALSE) ) )","v":""},{"$f":"IF(AND(TRIM(Q27)=\"\",TRIM(V27)=\"\",TRIM(AA27)=\"\", TRIM(AF27)=\"\", TRIM(AK27)=\"\", TRIM(AP27)=\"\", TRIM(AU27)=\"\", TRIM(AZ27)=\"\", TRIM(BE27)=\"\", TRIM(BJ27)=\"\"),\"\",Q27+V27+AA27+AF27+AK27+AP27+AU27+AZ27+BE27+BJ27)","v":""},null,null,null,{"$f":"IF(TRIM(BR27)=\"\", \"\", IF(VLOOKUP(BR27,'Footnotes list'!$D$9:$E$58,2,FALSE)=0,\"\",VLOOKUP(BR27,'Footnotes list'!$D$9:$E$58,2,FALSE) ) )","v":""},null,null,null,null,{"$f":"IF(TRIM(BW27)=\"\", \"\", IF(VLOOKUP(BW27,'Footnotes list'!$D$9:$E$58,2,FALSE)=0,\"\",VLOOKUP(BW27,'Footnotes list'!$D$9:$E$58,2,FALSE) ) )","v":""},null,null,null,null,{"$f":"IF(TRIM(CB27)=\"\", \"\", IF(VLOOKUP(CB27,'Footnotes list'!$D$9:$E$58,2,FALSE)=0,\"\",VLOOKUP(CB27,'Footnotes list'!$D$9:$E$58,2,FALSE) ) )","v":""},null,null,null,null,{"$f":"IF(TRIM(CG27)=\"\", \"\", IF(VLOOKUP(CG27,'Footnotes list'!$D$9:$E$58,2,FALSE)=0,\"\",VLOOKUP(CG27,'Footnotes list'!$D$9:$E$58,2,FALSE) ) )","v":""},{"$f":"IF(AND(TRIM(BY27)=\"\",TRIM(CD27)=\"\"),\"\",BY27+CD27)","v":""},null,null,null,{"$f":"IF(TRIM(CL27)=\"\", \"\", IF(VLOOKUP(CL27,'Footnotes list'!$D$9:$E$58,2,FALSE)=0,\"\",VLOOKUP(CL27,'Footnotes list'!$D$9:$E$58,2,FALSE) ) )","v":""},null,null,null,null,{"$f":"IF(TRIM(CQ27)=\"\", \"\", IF(VLOOKUP(CQ27,'Footnotes list'!$D$9:$E$58,2,FALSE)=0,\"\",VLOOKUP(CQ27,'Footnotes list'!$D$9:$E$58,2,FALSE) ) )","v":""},null,null,null,null,{"$f":"IF(TRIM(CV27)=\"\", \"\", IF(VLOOKUP(CV27,'Footnotes list'!$D$9:$E$58,2,FALSE)=0,\"\",VLOOKUP(CV27,'Footnotes list'!$D$9:$E$58,2,FALSE) ) )","v":""},null,null,null,null,{"$f":"IF(TRIM(DA27)=\"\", \"\", IF(VLOOKUP(DA27,'Footnotes list'!$D$9:$E$58,2,FALSE)=0,\"\",VLOOKUP(DA27,'Footnotes list'!$D$9:$E$58,2,FALSE) ) )","v":""},null,null,null,null,{"$f":"IF(TRIM(DF27)=\"\", \"\", IF(VLOOKUP(DF27,'Footnotes list'!$D$9:$E$58,2,FALSE)=0,\"\",VLOOKUP(DF27,'Footnotes list'!$D$9:$E$58,2,FALSE) ) )","v":""},{"$f":"IF(AND(TRIM(G27)=\"\",TRIM(L27)=\"\",TRIM(BO27)=\"\",TRIM(BT27)=\"\",TRIM(CI27)=\"\",TRIM(CN27)=\"\",TRIM(CS27)=\"\",TRIM(CX27)=\"\",TRIM(DC27)=\"\"),\"\",SUM(G27,L27,BO27,BT27,CI27,CN27,CS27,CX27,DC27))","v":""},null,null,null,{"$f":"IF(TRIM(DK27)=\"\", \"\", IF(VLOOKUP(DK27,'Footnotes list'!$D$9:$E$58,2,FALSE)=0,\"\",VLOOKUP(DK27,'Footnotes list'!$D$9:$E$58,2,FALSE) ) )","v":""}]
[null,null,"W05",null,"HAZ_NHAZ","Total",{"$f":"IF(AND(TRIM(G26)=\"\",TRIM(G27)=\"\"),\"\",G26+G27)","v":""},null,null,null,{"$f":"IF(TRIM(J28)=\"\", \"\", IF(VLOOKUP(J28,'Footnotes list'!$D$9:$E$58,2,FALSE)=0,\"\",VLOOKUP(J28,'Footnotes list'!$D$9:$E$58,2,FALSE) ) )","v":""},{"$f":"IF(AND(TRIM(L26)=\"\",TRIM(L27)=\"\"),\"\",L26+L27)","v":""},null,null,null,{"$f":"IF(TRIM(O28)=\"\", \"\", IF(VLOOKUP(O28,'Footnotes list'!$D$9:$E$58,2,FALSE)=0,\"\",VLOOKUP(O28,'Footnotes list'!$D$9:$E$58,2,FALSE) ) )","v":""},{"$f":"IF(AND(TRIM(Q26)=\"\",TRIM(Q27)=\"\"),\"\",Q26+Q27)","v":""},null,null,null,{"$f":"IF(TRIM(T28)=\"\", \"\", IF(VLOOKUP(T28,'Footnotes list'!$D$9:$E$58,2,FALSE)=0,\"\",VLOOKUP(T28,'Footnotes list'!$D$9:$E$58,2,FALSE) ) )","v":""},{"$f":"IF(AND(TRIM(V26)=\"\",TRIM(V27)=\"\"),\"\",V26+V27)","v":""},null,null,null,{"$f":"IF(TRIM(Y28)=\"\", \"\", IF(VLOOKUP(Y28,'Footnotes list'!$D$9:$E$58,2,FALSE)=0,\"\",VLOOKUP(Y28,'Footnotes list'!$D$9:$E$58,2,FALSE) ) )","v":""},{"$f":"IF(AND(TRIM(AA26)=\"\",TRIM(AA27)=\"\"),\"\",AA26+AA27)","v":""},null,null,null,{"$f":"IF(TRIM(AD28)=\"\", \"\", IF(VLOOKUP(AD28,'Footnotes list'!$D$9:$E$58,2,FALSE)=0,\"\",VLOOKUP(AD28,'Footnotes list'!$D$9:$E$58,2,FALSE) ) )","v":""},{"$f":"IF(AND(TRIM(AF26)=\"\",TRIM(AF27)=\"\"),\"\",AF26+AF27)","v":""},null,null,null,{"$f":"IF(TRIM(AI28)=\"\", \"\", IF(VLOOKUP(AI28,'Footnotes list'!$D$9:$E$58,2,FALSE)=0,\"\",VLOOKUP(AI28,'Footnotes list'!$D$9:$E$58,2,FALSE) ) )","v":""},{"$f":"IF(AND(TRIM(AK26)=\"\",TRIM(AK27)=\"\"),\"\",AK26+AK27)","v":""},null,null,null,{"$f":"IF(TRIM(AN28)=\"\", \"\", IF(VLOOKUP(AN28,'Footnotes list'!$D$9:$E$58,2,FALSE)=0,\"\",VLOOKUP(AN28,'Footnotes list'!$D$9:$E$58,2,FALSE) ) )","v":""},{"$f":"IF(AND(TRIM(AP26)=\"\",TRIM(AP27)=\"\"),\"\",AP26+AP27)","v":""},null,null,null,{"$f":"IF(TRIM(AS28)=\"\", \"\", IF(VLOOKUP(AS28,'Footnotes list'!$D$9:$E$58,2,FALSE)=0,\"\",VLOOKUP(AS28,'Footnotes list'!$D$9:$E$58,2,FALSE) ) )","v":""},{"$f":"IF(AND(TRIM(AU26)=\"\",TRIM(AU27)=\"\"),\"\",AU26+AU27)","v":""},null,null,null,{"$f":"IF(TRIM(AX28)=\"\", \"\", IF(VLOOKUP(AX28,'Footnotes list'!$D$9:$E$58,2,FALSE)=0,\"\",VLOOKUP(AX28,'Footnotes list'!$D$9:$E$58,2,FALSE) ) )","v":""},{"$f":"IF(AND(TRIM(AZ26)=\"\",TRIM(AZ27)=\"\"),\"\",AZ26+AZ27)","v":""},null,null,null,{"$f":"IF(TRIM(BC28)=\"\", \"\", IF(VLOOKUP(BC28,'Footnotes list'!$D$9:$E$58,2,FALSE)=0,\"\",VLOOKUP(BC28,'Footnotes list'!$D$9:$E$58,2,FALSE) ) )","v":""},{"$f":"IF(AND(TRIM(BE26)=\"\",TRIM(BE27)=\"\"),\"\",BE26+BE27)","v":""},null,null,null,{"$f":"IF(TRIM(BH28)=\"\", \"\", IF(VLOOKUP(BH28,'Footnotes list'!$D$9:$E$58,2,FALSE)=0,\"\",VLOOKUP(BH28,'Footnotes list'!$D$9:$E$58,2,FALSE) ) )","v":""},{"$f":"IF(AND(TRIM(BJ26)=\"\",TRIM(BJ27)=\"\"),\"\",BJ26+BJ27)","v":""},null,null,null,{"$f":"IF(TRIM(BM28)=\"\", \"\", IF(VLOOKUP(BM28,'Footnotes list'!$D$9:$E$58,2,FALSE)=0,\"\",VLOOKUP(BM28,'Footnotes list'!$D$9:$E$58,2,FALSE) ) )","v":""},{"$f":"IF(AND(TRIM(BO26)=\"\", TRIM(BO27)=\"\"), \"\", (IF(ISNUMBER(BO26),BO26,0)+IF(ISNUMBER(BO27),BO27,0)))","v":""},null,null,null,{"$f":"IF(TRIM(BR28)=\"\", \"\", IF(VLOOKUP(BR28,'Footnotes list'!$D$9:$E$58,2,FALSE)=0,\"\",VLOOKUP(BR28,'Footnotes list'!$D$9:$E$58,2,FALSE) ) )","v":""},{"$f":"IF(AND(TRIM(BT26)=\"\",TRIM(BT27)=\"\"),\"\",BT26+BT27)","v":""},null,null,null,{"$f":"IF(TRIM(BW28)=\"\", \"\", IF(VLOOKUP(BW28,'Footnotes list'!$D$9:$E$58,2,FALSE)=0,\"\",VLOOKUP(BW28,'Footnotes list'!$D$9:$E$58,2,FALSE) ) )","v":""},{"$f":"IF(AND(TRIM(BY26)=\"\",TRIM(BY27)=\"\"),\"\",BY26+BY27)","v":""},null,null,null,{"$f":"IF(TRIM(CB28)=\"\", \"\", IF(VLOOKUP(CB28,'Footnotes list'!$D$9:$E$58,2,FALSE)=0,\"\",VLOOKUP(CB28,'Footnotes list'!$D$9:$E$58,2,FALSE) ) )","v":""},{"$f":"IF(AND(TRIM(CD26)=\"\",TRIM(CD27)=\"\"),\"\",CD26+CD27)","v":""},null,null,null,{"$f":"IF(TRIM(CG28)=\"\", \"\", IF(VLOOKUP(CG28,'Footnotes list'!$D$9:$E$58,2,FALSE)=0,\"\",VLOOKUP(CG28,'Footnotes list'!$D$9:$E$58,2,FALSE) ) )","v":""},{"$f":"IF(AND(TRIM(CI26)=\"\", TRIM(CI27)=\"\"), \"\", (IF(ISNUMBER(CI26),CI26,0)+IF(ISNUMBER(CI27),CI27,0)))","v":""},null,null,null,{"$f":"IF(TRIM(CL28)=\"\", \"\", IF(VLOOKUP(CL28,'Footnotes list'!$D$9:$E$58,2,FALSE)=0,\"\",VLOOKUP(CL28,'Footnotes list'!$D$9:$E$58,2,FALSE) ) )","v":""},{"$f":"IF(AND(TRIM(CN26)=\"\",TRIM(CN27)=\"\"),\"\",CN26+CN27)","v":""},null,null,null,{"$f":"IF(TRIM(CQ28)=\"\", \"\", IF(VLOOKUP(CQ28,'Footnotes list'!$D$9:$E$58,2,FALSE)=0,\"\",VLOOKUP(CQ28,'Footnotes list'!$D$9:$E$58,2,FALSE) ) )","v":""},{"$f":"IF(AND(TRIM(CS26)=\"\",TRIM(CS27)=\"\"),\"\",CS26+CS27)","v":""},null,null,null,{"$f":"IF(TRIM(CV28)=\"\", \"\", IF(VLOOKUP(CV28,'Footnotes list'!$D$9:$E$58,2,FALSE)=0,\"\",VLOOKUP(CV28,'Footnotes list'!$D$9:$E$58,2,FALSE) ) )","v":""},{"$f":"IF(AND(TRIM(CX26)=\"\",TRIM(CX27)=\"\"),\"\",CX26+CX27)","v":""},null,null,null,{"$f":"IF(TRIM(DA28)=\"\", \"\", IF(VLOOKUP(DA28,'Footnotes list'!$D$9:$E$58,2,FALSE)=0,\"\",VLOOKUP(DA28,'Footnotes list'!$D$9:$E$58,2,FALSE) ) )","v":""},{"$f":"IF(AND(TRIM(DC26)=\"\",TRIM(DC27)=\"\"),\"\",DC26+DC27)","v":""},null,null,null,{"$f":"IF(TRIM(DF28)=\"\", \"\", IF(VLOOKUP(DF28,'Footnotes list'!$D$9:$E$58,2,FALSE)=0,\"\",VLOOKUP(DF28,'Footnotes list'!$D$9:$E$58,2,FALSE) ) )","v":""},{"$f":"IF(AND(TRIM(DH26)=\"\", TRIM(DH27)=\"\"), \"\", SUM(DH26,DH27) )","v":""},null,null,null,{"$f":"IF(TRIM(DK28)=\"\", \"\", IF(VLOOKUP(DK28,'Footnotes list'!$D$9:$E$58,2,FALSE)=0,\"\",VLOOKUP(DK28,'Footnotes list'!$D$9:$E$58,2,FALSE) ) )","v":""}]
[null,"W061",null,"Metallic wastes, ferrous ",null,"Not applicable"]
[null,null,"W061",null,"NHAZ","Non-hazardous",null,null,null,null,{"$f":"IF(TRIM(J30)=\"\", \"\", IF(VLOOKUP(J30,'Footnotes list'!$D$9:$E$58,2,FALSE)=0,\"\",VLOOKUP(J30,'Footnotes list'!$D$9:$E$58,2,FALSE) ) )","v":""},null,null,null,null,{"$f":"IF(TRIM(O30)=\"\", \"\", IF(VLOOKUP(O30,'Footnotes list'!$D$9:$E$58,2,FALSE)=0,\"\",VLOOKUP(O30,'Footnotes list'!$D$9:$E$58,2,FALSE) ) )","v":""},null,null,null,null,{"$f":"IF(TRIM(T30)=\"\", \"\", IF(VLOOKUP(T30,'Footnotes list'!$D$9:$E$58,2,FALSE)=0,\"\",VLOOKUP(T30,'Footnotes list'!$D$9:$E$58,2,FALSE) ) )","v":""},null,null,null,null,{"$f":"IF(TRIM(Y30)=\"\", \"\", IF(VLOOKUP(Y30,'Footnotes list'!$D$9:$E$58,2,FALSE)=0,\"\",VLOOKUP(Y30,'Footnotes list'!$D$9:$E$58,2,FALSE) ) )","v":""},null,null,null,null,{"$f":"IF(TRIM(AD30)=\"\", \"\", IF(VLOOKUP(AD30,'Footnotes list'!$D$9:$E$58,2,FALSE)=0,\"\",VLOOKUP(AD30,'Footnotes list'!$D$9:$E$58,2,FALSE) ) )","v":""},null,null,null,null,{"$f":"IF(TRIM(AI30)=\"\", \"\", IF(VLOOKUP(AI30,'Footnotes list'!$D$9:$E$58,2,FALSE)=0,\"\",VLOOKUP(AI30,'Footnotes list'!$D$9:$E$58,2,FALSE) ) )","v":""},null,null,null,null,{"$f":"IF(TRIM(AN30)=\"\", \"\", IF(VLOOKUP(AN30,'Footnotes list'!$D$9:$E$58,2,FALSE)=0,\"\",VLOOKUP(AN30,'Footnotes list'!$D$9:$E$58,2,FALSE) ) )","v":""},null,null,null,null,{"$f":"IF(TRIM(AS30)=\"\", \"\", IF(VLOOKUP(AS30,'Footnotes list'!$D$9:$E$58,2,FALSE)=0,\"\",VLOOKUP(AS30,'Footnotes list'!$D$9:$E$58,2,FALSE) ) )","v":""},null,null,null,null,{"$f":"IF(TRIM(AX30)=\"\", \"\", IF(VLOOKUP(AX30,'Footnotes list'!$D$9:$E$58,2,FALSE)=0,\"\",VLOOKUP(AX30,'Footnotes list'!$D$9:$E$58,2,FALSE) ) )","v":""},null,null,null,null,{"$f":"IF(TRIM(BC30)=\"\", \"\", IF(VLOOKUP(BC30,'Footnotes list'!$D$9:$E$58,2,FALSE)=0,\"\",VLOOKUP(BC30,'Footnotes list'!$D$9:$E$58,2,FALSE) ) )","v":""},null,null,null,null,{"$f":"IF(TRIM(BH30)=\"\", \"\", IF(VLOOKUP(BH30,'Footnotes list'!$D$9:$E$58,2,FALSE)=0,\"\",VLOOKUP(BH30,'Footnotes list'!$D$9:$E$58,2,FALSE) ) )","v":""},null,null,null,null,{"$f":"IF(TRIM(BM30)=\"\", \"\", IF(VLOOKUP(BM30,'Footnotes list'!$D$9:$E$58,2,FALSE)=0,\"\",VLOOKUP(BM30,'Footnotes list'!$D$9:$E$58,2,FALSE) ) )","v":""},{"$f":"IF(AND(TRIM(Q30)=\"\",TRIM(V30)=\"\",TRIM(AA30)=\"\", TRIM(AF30)=\"\", TRIM(AK30)=\"\", TRIM(AP30)=\"\", TRIM(AU30)=\"\", TRIM(AZ30)=\"\", TRIM(BE30)=\"\", TRIM(BJ30)=\"\"),\"\",Q30+V30+AA30+AF30+AK30+AP30+AU30+AZ30+BE30+BJ30)","v":""},null,null,null,{"$f":"IF(TRIM(BR30)=\"\", \"\", IF(VLOOKUP(BR30,'Footnotes list'!$D$9:$E$58,2,FALSE)=0,\"\",VLOOKUP(BR30,'Footnotes list'!$D$9:$E$58,2,FALSE) ) )","v":""},null,null,null,null,{"$f":"IF(TRIM(BW30)=\"\", \"\", IF(VLOOKUP(BW30,'Footnotes list'!$D$9:$E$58,2,FALSE)=0,\"\",VLOOKUP(BW30,'Footnotes list'!$D$9:$E$58,2,FALSE) ) )","v":""},null,null,null,null,{"$f":"IF(TRIM(CB30)=\"\", \"\", IF(VLOOKUP(CB30,'Footnotes list'!$D$9:$E$58,2,FALSE)=0,\"\",VLOOKUP(CB30,'Footnotes list'!$D$9:$E$58,2,FALSE) ) )","v":""},null,null,null,null,{"$f":"IF(TRIM(CG30)=\"\", \"\", IF(VLOOKUP(CG30,'Footnotes list'!$D$9:$E$58,2,FALSE)=0,\"\",VLOOKUP(CG30,'Footnotes list'!$D$9:$E$58,2,FALSE) ) )","v":""},{"$f":"IF(AND(TRIM(BY30)=\"\",TRIM(CD30)=\"\"),\"\",BY30+CD30)","v":""},null,null,null,{"$f":"IF(TRIM(CL30)=\"\", \"\", IF(VLOOKUP(CL30,'Footnotes list'!$D$9:$E$58,2,FALSE)=0,\"\",VLOOKUP(CL30,'Footnotes list'!$D$9:$E$58,2,FALSE) ) )","v":""},null,null,null,null,{"$f":"IF(TRIM(CQ30)=\"\", \"\", IF(VLOOKUP(CQ30,'Footnotes list'!$D$9:$E$58,2,FALSE)=0,\"\",VLOOKUP(CQ30,'Footnotes list'!$D$9:$E$58,2,FALSE) ) )","v":""},null,null,null,null,{"$f":"IF(TRIM(CV30)=\"\", \"\", IF(VLOOKUP(CV30,'Footnotes list'!$D$9:$E$58,2,FALSE)=0,\"\",VLOOKUP(CV30,'Footnotes list'!$D$9:$E$58,2,FALSE) ) )","v":""},null,null,null,null,{"$f":"IF(TRIM(DA30)=\"\", \"\", IF(VLOOKUP(DA30,'Footnotes list'!$D$9:$E$58,2,FALSE)=0,\"\",VLOOKUP(DA30,'Footnotes list'!$D$9:$E$58,2,FALSE) ) )","v":""},null,null,null,null,{"$f":"IF(TRIM(DF30)=\"\", \"\", IF(VLOOKUP(DF30,'Footnotes list'!$D$9:$E$58,2,FALSE)=0,\"\",VLOOKUP(DF30,'Footnotes list'!$D$9:$E$58,2,FALSE) ) )","v":""},{"$f":"IF(AND(TRIM(G30)=\"\",TRIM(L30)=\"\",TRIM(BO30)=\"\",TRIM(BT30)=\"\",TRIM(CI30)=\"\",TRIM(CN30)=\"\",TRIM(CS30)=\"\",TRIM(CX30)=\"\",TRIM(DC30)=\"\"),\"\",SUM(G30,L30,BO30,BT30,CI30,CN30,CS30,CX30,DC30))","v":""},null,null,null,{"$f":"IF(TRIM(DK30)=\"\", \"\", IF(VLOOKUP(DK30,'Footnotes list'!$D$9:$E$58,2,FALSE)=0,\"\",VLOOKUP(DK30,'Footnotes list'!$D$9:$E$58,2,FALSE) ) )","v":""}]
[null,null,"W061",null,"HAZ_NHAZ","Total",{"$f":"IF(AND(TRIM(G29)=\"\",TRIM(G30)=\"\"),\"\",G29+G30)","v":""},null,null,null,{"$f":"IF(TRIM(J31)=\"\", \"\", IF(VLOOKUP(J31,'Footnotes list'!$D$9:$E$58,2,FALSE)=0,\"\",VLOOKUP(J31,'Footnotes list'!$D$9:$E$58,2,FALSE) ) )","v":""},{"$f":"IF(AND(TRIM(L29)=\"\",TRIM(L30)=\"\"),\"\",L29+L30)","v":""},null,null,null,{"$f":"IF(TRIM(O31)=\"\", \"\", IF(VLOOKUP(O31,'Footnotes list'!$D$9:$E$58,2,FALSE)=0,\"\",VLOOKUP(O31,'Footnotes list'!$D$9:$E$58,2,FALSE) ) )","v":""},{"$f":"IF(AND(TRIM(Q29)=\"\",TRIM(Q30)=\"\"),\"\",Q29+Q30)","v":""},null,null,null,{"$f":"IF(TRIM(T31)=\"\", \"\", IF(VLOOKUP(T31,'Footnotes list'!$D$9:$E$58,2,FALSE)=0,\"\",VLOOKUP(T31,'Footnotes list'!$D$9:$E$58,2,FALSE) ) )","v":""},{"$f":"IF(AND(TRIM(V29)=\"\",TRIM(V30)=\"\"),\"\",V29+V30)","v":""},null,null,null,{"$f":"IF(TRIM(Y31)=\"\", \"\", IF(VLOOKUP(Y31,'Footnotes list'!$D$9:$E$58,2,FALSE)=0,\"\",VLOOKUP(Y31,'Footnotes list'!$D$9:$E$58,2,FALSE) ) )","v":""},{"$f":"IF(AND(TRIM(AA29)=\"\",TRIM(AA30)=\"\"),\"\",AA29+AA30)","v":""},null,null,null,{"$f":"IF(TRIM(AD31)=\"\", \"\", IF(VLOOKUP(AD31,'Footnotes list'!$D$9:$E$58,2,FALSE)=0,\"\",VLOOKUP(AD31,'Footnotes list'!$D$9:$E$58,2,FALSE) ) )","v":""},{"$f":"IF(AND(TRIM(AF29)=\"\",TRIM(AF30)=\"\"),\"\",AF29+AF30)","v":""},null,null,null,{"$f":"IF(TRIM(AI31)=\"\", \"\", IF(VLOOKUP(AI31,'Footnotes list'!$D$9:$E$58,2,FALSE)=0,\"\",VLOOKUP(AI31,'Footnotes list'!$D$9:$E$58,2,FALSE) ) )","v":""},{"$f":"IF(AND(TRIM(AK29)=\"\",TRIM(AK30)=\"\"),\"\",AK29+AK30)","v":""},null,null,null,{"$f":"IF(TRIM(AN31)=\"\", \"\", IF(VLOOKUP(AN31,'Footnotes list'!$D$9:$E$58,2,FALSE)=0,\"\",VLOOKUP(AN31,'Footnotes list'!$D$9:$E$58,2,FALSE) ) )","v":""},{"$f":"IF(AND(TRIM(AP29)=\"\",TRIM(AP30)=\"\"),\"\",AP29+AP30)","v":""},null,null,null,{"$f":"IF(TRIM(AS31)=\"\", \"\", IF(VLOOKUP(AS31,'Footnotes list'!$D$9:$E$58,2,FALSE)=0,\"\",VLOOKUP(AS31,'Footnotes list'!$D$9:$E$58,2,FALSE) ) )","v":""},{"$f":"IF(AND(TRIM(AU29)=\"\",TRIM(AU30)=\"\"),\"\",AU29+AU30)","v":""},null,null,null,{"$f":"IF(TRIM(AX31)=\"\", \"\", IF(VLOOKUP(AX31,'Footnotes list'!$D$9:$E$58,2,FALSE)=0,\"\",VLOOKUP(AX31,'Footnotes list'!$D$9:$E$58,2,FALSE) ) )","v":""},{"$f":"IF(AND(TRIM(AZ29)=\"\",TRIM(AZ30)=\"\"),\"\",AZ29+AZ30)","v":""},null,null,null,{"$f":"IF(TRIM(BC31)=\"\", \"\", IF(VLOOKUP(BC31,'Footnotes list'!$D$9:$E$58,2,FALSE)=0,\"\",VLOOKUP(BC31,'Footnotes list'!$D$9:$E$58,2,FALSE) ) )","v":""},{"$f":"IF(AND(TRIM(BE29)=\"\",TRIM(BE30)=\"\"),\"\",BE29+BE30)","v":""},null,null,null,{"$f":"IF(TRIM(BH31)=\"\", \"\", IF(VLOOKUP(BH31,'Footnotes list'!$D$9:$E$58,2,FALSE)=0,\"\",VLOOKUP(BH31,'Footnotes list'!$D$9:$E$58,2,FALSE) ) )","v":""},{"$f":"IF(AND(TRIM(BJ29)=\"\",TRIM(BJ30)=\"\"),\"\",BJ29+BJ30)","v":""},null,null,null,{"$f":"IF(TRIM(BM31)=\"\", \"\", IF(VLOOKUP(BM31,'Footnotes list'!$D$9:$E$58,2,FALSE)=0,\"\",VLOOKUP(BM31,'Footnotes list'!$D$9:$E$58,2,FALSE) ) )","v":""},{"$f":"IF(AND(TRIM(BO29)=\"\", TRIM(BO30)=\"\"), \"\", (IF(ISNUMBER(BO29),BO29,0)+IF(ISNUMBER(BO30),BO30,0)))","v":""},null,null,null,{"$f":"IF(TRIM(BR31)=\"\", \"\", IF(VLOOKUP(BR31,'Footnotes list'!$D$9:$E$58,2,FALSE)=0,\"\",VLOOKUP(BR31,'Footnotes list'!$D$9:$E$58,2,FALSE) ) )","v":""},{"$f":"IF(AND(TRIM(BT29)=\"\",TRIM(BT30)=\"\"),\"\",BT29+BT30)","v":""},null,null,null,{"$f":"IF(TRIM(BW31)=\"\", \"\", IF(VLOOKUP(BW31,'Footnotes list'!$D$9:$E$58,2,FALSE)=0,\"\",VLOOKUP(BW31,'Footnotes list'!$D$9:$E$58,2,FALSE) ) )","v":""},{"$f":"IF(AND(TRIM(BY29)=\"\",TRIM(BY30)=\"\"),\"\",BY29+BY30)","v":""},null,null,null,{"$f":"IF(TRIM(CB31)=\"\", \"\", IF(VLOOKUP(CB31,'Footnotes list'!$D$9:$E$58,2,FALSE)=0,\"\",VLOOKUP(CB31,'Footnotes list'!$D$9:$E$58,2,FALSE) ) )","v":""},{"$f":"IF(AND(TRIM(CD29)=\"\",TRIM(CD30)=\"\"),\"\",CD29+CD30)","v":""},null,null,null,{"$f":"IF(TRIM(CG31)=\"\", \"\", IF(VLOOKUP(CG31,'Footnotes list'!$D$9:$E$58,2,FALSE)=0,\"\",VLOOKUP(CG31,'Footnotes list'!$D$9:$E$58,2,FALSE) ) )","v":""},{"$f":"IF(AND(TRIM(CI29)=\"\", TRIM(CI30)=\"\"), \"\", (IF(ISNUMBER(CI29),CI29,0)+IF(ISNUMBER(CI30),CI30,0)))","v":""},null,null,null,{"$f":"IF(TRIM(CL31)=\"\", \"\", IF(VLOOKUP(CL31,'Footnotes list'!$D$9:$E$58,2,FALSE)=0,\"\",VLOOKUP(CL31,'Footnotes list'!$D$9:$E$58,2,FALSE) ) )","v":""},{"$f":"IF(AND(TRIM(CN29)=\"\",TRIM(CN30)=\"\"),\"\",CN29+CN30)","v":""},null,null,null,{"$f":"IF(TRIM(CQ31)=\"\", \"\", IF(VLOOKUP(CQ31,'Footnotes list'!$D$9:$E$58,2,FALSE)=0,\"\",VLOOKUP(CQ31,'Footnotes list'!$D$9:$E$58,2,FALSE) ) )","v":""},{"$f":"IF(AND(TRIM(CS29)=\"\",TRIM(CS30)=\"\"),\"\",CS29+CS30)","v":""},null,null,null,{"$f":"IF(TRIM(CV31)=\"\", \"\", IF(VLOOKUP(CV31,'Footnotes list'!$D$9:$E$58,2,FALSE)=0,\"\",VLOOKUP(CV31,'Footnotes list'!$D$9:$E$58,2,FALSE) ) )","v":""},{"$f":"IF(AND(TRIM(CX29)=\"\",TRIM(CX30)=\"\"),\"\",CX29+CX30)","v":""},null,null,null,{"$f":"IF(TRIM(DA31)=\"\", \"\", IF(VLOOKUP(DA31,'Footnotes list'!$D$9:$E$58,2,FALSE)=0,\"\",VLOOKUP(DA31,'Footnotes list'!$D$9:$E$58,2,FALSE) ) )","v":""},{"$f":"IF(AND(TRIM(DC29)=\"\",TRIM(DC30)=\"\"),\"\",DC29+DC30)","v":""},null,null,null,{"$f":"IF(TRIM(DF31)=\"\", \"\", IF(VLOOKUP(DF31,'Footnotes list'!$D$9:$E$58,2,FALSE)=0,\"\",VLOOKUP(DF31,'Footnotes list'!$D$9:$E$58,2,FALSE) ) )","v":""},{"$f":"IF(AND(TRIM(DH29)=\"\", TRIM(DH30)=\"\"), \"\", SUM(DH29,DH30) )","v":""},null,null,null,{"$f":"IF(TRIM(DK31)=\"\", \"\", IF(VLOOKUP(DK31,'Footnotes list'!$D$9:$E$58,2,FALSE)=0,\"\",VLOOKUP(DK31,'Footnotes list'!$D$9:$E$58,2,FALSE) ) )","v":""}]
[null,"W062",null,"Metallic wastes, non-ferrous ",null,"Not applicable"]
[null,null,"W062",null,"NHAZ","Non-hazardous",null,null,null,null,{"$f":"IF(TRIM(J33)=\"\", \"\", IF(VLOOKUP(J33,'Footnotes list'!$D$9:$E$58,2,FALSE)=0,\"\",VLOOKUP(J33,'Footnotes list'!$D$9:$E$58,2,FALSE) ) )","v":""},null,null,null,null,{"$f":"IF(TRIM(O33)=\"\", \"\", IF(VLOOKUP(O33,'Footnotes list'!$D$9:$E$58,2,FALSE)=0,\"\",VLOOKUP(O33,'Footnotes list'!$D$9:$E$58,2,FALSE) ) )","v":""},null,null,null,null,{"$f":"IF(TRIM(T33)=\"\", \"\", IF(VLOOKUP(T33,'Footnotes list'!$D$9:$E$58,2,FALSE)=0,\"\",VLOOKUP(T33,'Footnotes list'!$D$9:$E$58,2,FALSE) ) )","v":""},null,null,null,null,{"$f":"IF(TRIM(Y33)=\"\", \"\", IF(VLOOKUP(Y33,'Footnotes list'!$D$9:$E$58,2,FALSE)=0,\"\",VLOOKUP(Y33,'Footnotes list'!$D$9:$E$58,2,FALSE) ) )","v":""},null,null,null,null,{"$f":"IF(TRIM(AD33)=\"\", \"\", IF(VLOOKUP(AD33,'Footnotes list'!$D$9:$E$58,2,FALSE)=0,\"\",VLOOKUP(AD33,'Footnotes list'!$D$9:$E$58,2,FALSE) ) )","v":""},null,null,null,null,{"$f":"IF(TRIM(AI33)=\"\", \"\", IF(VLOOKUP(AI33,'Footnotes list'!$D$9:$E$58,2,FALSE)=0,\"\",VLOOKUP(AI33,'Footnotes list'!$D$9:$E$58,2,FALSE) ) )","v":""},null,null,null,null,{"$f":"IF(TRIM(AN33)=\"\", \"\", IF(VLOOKUP(AN33,'Footnotes list'!$D$9:$E$58,2,FALSE)=0,\"\",VLOOKUP(AN33,'Footnotes list'!$D$9:$E$58,2,FALSE) ) )","v":""},null,null,null,null,{"$f":"IF(TRIM(AS33)=\"\", \"\", IF(VLOOKUP(AS33,'Footnotes list'!$D$9:$E$58,2,FALSE)=0,\"\",VLOOKUP(AS33,'Footnotes list'!$D$9:$E$58,2,FALSE) ) )","v":""},null,null,null,null,{"$f":"IF(TRIM(AX33)=\"\", \"\", IF(VLOOKUP(AX33,'Footnotes list'!$D$9:$E$58,2,FALSE)=0,\"\",VLOOKUP(AX33,'Footnotes list'!$D$9:$E$58,2,FALSE) ) )","v":""},null,null,null,null,{"$f":"IF(TRIM(BC33)=\"\", \"\", IF(VLOOKUP(BC33,'Footnotes list'!$D$9:$E$58,2,FALSE)=0,\"\",VLOOKUP(BC33,'Footnotes list'!$D$9:$E$58,2,FALSE) ) )","v":""},null,null,null,null,{"$f":"IF(TRIM(BH33)=\"\", \"\", IF(VLOOKUP(BH33,'Footnotes list'!$D$9:$E$58,2,FALSE)=0,\"\",VLOOKUP(BH33,'Footnotes list'!$D$9:$E$58,2,FALSE) ) )","v":""},null,null,null,null,{"$f":"IF(TRIM(BM33)=\"\", \"\", IF(VLOOKUP(BM33,'Footnotes list'!$D$9:$E$58,2,FALSE)=0,\"\",VLOOKUP(BM33,'Footnotes list'!$D$9:$E$58,2,FALSE) ) )","v":""},{"$f":"IF(AND(TRIM(Q33)=\"\",TRIM(V33)=\"\",TRIM(AA33)=\"\", TRIM(AF33)=\"\", TRIM(AK33)=\"\", TRIM(AP33)=\"\", TRIM(AU33)=\"\", TRIM(AZ33)=\"\", TRIM(BE33)=\"\", TRIM(BJ33)=\"\"),\"\",Q33+V33+AA33+AF33+AK33+AP33+AU33+AZ33+BE33+BJ33)","v":""},null,null,null,{"$f":"IF(TRIM(BR33)=\"\", \"\", IF(VLOOKUP(BR33,'Footnotes list'!$D$9:$E$58,2,FALSE)=0,\"\",VLOOKUP(BR33,'Footnotes list'!$D$9:$E$58,2,FALSE) ) )","v":""},null,null,null,null,{"$f":"IF(TRIM(BW33)=\"\", \"\", IF(VLOOKUP(BW33,'Footnotes list'!$D$9:$E$58,2,FALSE)=0,\"\",VLOOKUP(BW33,'Footnotes list'!$D$9:$E$58,2,FALSE) ) )","v":""},null,null,null,null,{"$f":"IF(TRIM(CB33)=\"\", \"\", IF(VLOOKUP(CB33,'Footnotes list'!$D$9:$E$58,2,FALSE)=0,\"\",VLOOKUP(CB33,'Footnotes list'!$D$9:$E$58,2,FALSE) ) )","v":""},null,null,null,null,{"$f":"IF(TRIM(CG33)=\"\", \"\", IF(VLOOKUP(CG33,'Footnotes list'!$D$9:$E$58,2,FALSE)=0,\"\",VLOOKUP(CG33,'Footnotes list'!$D$9:$E$58,2,FALSE) ) )","v":""},{"$f":"IF(AND(TRIM(BY33)=\"\",TRIM(CD33)=\"\"),\"\",BY33+CD33)","v":""},null,null,null,{"$f":"IF(TRIM(CL33)=\"\", \"\", IF(VLOOKUP(CL33,'Footnotes list'!$D$9:$E$58,2,FALSE)=0,\"\",VLOOKUP(CL33,'Footnotes list'!$D$9:$E$58,2,FALSE) ) )","v":""},null,null,null,null,{"$f":"IF(TRIM(CQ33)=\"\", \"\", IF(VLOOKUP(CQ33,'Footnotes list'!$D$9:$E$58,2,FALSE)=0,\"\",VLOOKUP(CQ33,'Footnotes list'!$D$9:$E$58,2,FALSE) ) )","v":""},null,null,null,null,{"$f":"IF(TRIM(CV33)=\"\", \"\", IF(VLOOKUP(CV33,'Footnotes list'!$D$9:$E$58,2,FALSE)=0,\"\",VLOOKUP(CV33,'Footnotes list'!$D$9:$E$58,2,FALSE) ) )","v":""},null,null,null,null,{"$f":"IF(TRIM(DA33)=\"\", \"\", IF(VLOOKUP(DA33,'Footnotes list'!$D$9:$E$58,2,FALSE)=0,\"\",VLOOKUP(DA33,'Footnotes list'!$D$9:$E$58,2,FALSE) ) )","v":""},null,null,null,null,{"$f":"IF(TRIM(DF33)=\"\", \"\", IF(VLOOKUP(DF33,'Footnotes list'!$D$9:$E$58,2,FALSE)=0,\"\",VLOOKUP(DF33,'Footnotes list'!$D$9:$E$58,2,FALSE) ) )","v":""},{"$f":"IF(AND(TRIM(G33)=\"\",TRIM(L33)=\"\",TRIM(BO33)=\"\",TRIM(BT33)=\"\",TRIM(CI33)=\"\",TRIM(CN33)=\"\",TRIM(CS33)=\"\",TRIM(CX33)=\"\",TRIM(DC33)=\"\"),\"\",SUM(G33,L33,BO33,BT33,CI33,CN33,CS33,CX33,DC33))","v":""},null,null,null,{"$f":"IF(TRIM(DK33)=\"\", \"\", IF(VLOOKUP(DK33,'Footnotes list'!$D$9:$E$58,2,FALSE)=0,\"\",VLOOKUP(DK33,'Footnotes list'!$D$9:$E$58,2,FALSE) ) )","v":""}]
[null,null,"W062",null,"HAZ_NHAZ","Total",{"$f":"IF(AND(TRIM(G32)=\"\",TRIM(G33)=\"\"),\"\",G32+G33)","v":""},null,null,null,{"$f":"IF(TRIM(J34)=\"\", \"\", IF(VLOOKUP(J34,'Footnotes list'!$D$9:$E$58,2,FALSE)=0,\"\",VLOOKUP(J34,'Footnotes list'!$D$9:$E$58,2,FALSE) ) )","v":""},{"$f":"IF(AND(TRIM(L32)=\"\",TRIM(L33)=\"\"),\"\",L32+L33)","v":""},null,null,null,{"$f":"IF(TRIM(O34)=\"\", \"\", IF(VLOOKUP(O34,'Footnotes list'!$D$9:$E$58,2,FALSE)=0,\"\",VLOOKUP(O34,'Footnotes list'!$D$9:$E$58,2,FALSE) ) )","v":""},{"$f":"IF(AND(TRIM(Q32)=\"\",TRIM(Q33)=\"\"),\"\",Q32+Q33)","v":""},null,null,null,{"$f":"IF(TRIM(T34)=\"\", \"\", IF(VLOOKUP(T34,'Footnotes list'!$D$9:$E$58,2,FALSE)=0,\"\",VLOOKUP(T34,'Footnotes list'!$D$9:$E$58,2,FALSE) ) )","v":""},{"$f":"IF(AND(TRIM(V32)=\"\",TRIM(V33)=\"\"),\"\",V32+V33)","v":""},null,null,null,{"$f":"IF(TRIM(Y34)=\"\", \"\", IF(VLOOKUP(Y34,'Footnotes list'!$D$9:$E$58,2,FALSE)=0,\"\",VLOOKUP(Y34,'Footnotes list'!$D$9:$E$58,2,FALSE) ) )","v":""},{"$f":"IF(AND(TRIM(AA32)=\"\",TRIM(AA33)=\"\"),\"\",AA32+AA33)","v":""},null,null,null,{"$f":"IF(TRIM(AD34)=\"\", \"\", IF(VLOOKUP(AD34,'Footnotes list'!$D$9:$E$58,2,FALSE)=0,\"\",VLOOKUP(AD34,'Footnotes list'!$D$9:$E$58,2,FALSE) ) )","v":""},{"$f":"IF(AND(TRIM(AF32)=\"\",TRIM(AF33)=\"\"),\"\",AF32+AF33)","v":""},null,null,null,{"$f":"IF(TRIM(AI34)=\"\", \"\", IF(VLOOKUP(AI34,'Footnotes list'!$D$9:$E$58,2,FALSE)=0,\"\",VLOOKUP(AI34,'Footnotes list'!$D$9:$E$58,2,FALSE) ) )","v":""},{"$f":"IF(AND(TRIM(AK32)=\"\",TRIM(AK33)=\"\"),\"\",AK32+AK33)","v":""},null,null,null,{"$f":"IF(TRIM(AN34)=\"\", \"\", IF(VLOOKUP(AN34,'Footnotes list'!$D$9:$E$58,2,FALSE)=0,\"\",VLOOKUP(AN34,'Footnotes list'!$D$9:$E$58,2,FALSE) ) )","v":""},{"$f":"IF(AND(TRIM(AP32)=\"\",TRIM(AP33)=\"\"),\"\",AP32+AP33)","v":""},null,null,null,{"$f":"IF(TRIM(AS34)=\"\", \"\", IF(VLOOKUP(AS34,'Footnotes list'!$D$9:$E$58,2,FALSE)=0,\"\",VLOOKUP(AS34,'Footnotes list'!$D$9:$E$58,2,FALSE) ) )","v":""},{"$f":"IF(AND(TRIM(AU32)=\"\",TRIM(AU33)=\"\"),\"\",AU32+AU33)","v":""},null,null,null,{"$f":"IF(TRIM(AX34)=\"\", \"\", IF(VLOOKUP(AX34,'Footnotes list'!$D$9:$E$58,2,FALSE)=0,\"\",VLOOKUP(AX34,'Footnotes list'!$D$9:$E$58,2,FALSE) ) )","v":""},{"$f":"IF(AND(TRIM(AZ32)=\"\",TRIM(AZ33)=\"\"),\"\",AZ32+AZ33)","v":""},null,null,null,{"$f":"IF(TRIM(BC34)=\"\", \"\", IF(VLOOKUP(BC34,'Footnotes list'!$D$9:$E$58,2,FALSE)=0,\"\",VLOOKUP(BC34,'Footnotes list'!$D$9:$E$58,2,FALSE) ) )","v":""},{"$f":"IF(AND(TRIM(BE32)=\"\",TRIM(BE33)=\"\"),\"\",BE32+BE33)","v":""},null,null,null,{"$f":"IF(TRIM(BH34)=\"\", \"\", IF(VLOOKUP(BH34,'Footnotes list'!$D$9:$E$58,2,FALSE)=0,\"\",VLOOKUP(BH34,'Footnotes list'!$D$9:$E$58,2,FALSE) ) )","v":""},{"$f":"IF(AND(TRIM(BJ32)=\"\",TRIM(BJ33)=\"\"),\"\",BJ32+BJ33)","v":""},null,null,null,{"$f":"IF(TRIM(BM34)=\"\", \"\", IF(VLOOKUP(BM34,'Footnotes list'!$D$9:$E$58,2,FALSE)=0,\"\",VLOOKUP(BM34,'Footnotes list'!$D$9:$E$58,2,FALSE) ) )","v":""},{"$f":"IF(AND(TRIM(BO32)=\"\", TRIM(BO33)=\"\"), \"\", (IF(ISNUMBER(BO32),BO32,0)+IF(ISNUMBER(BO33),BO33,0)))","v":""},null,null,null,{"$f":"IF(TRIM(BR34)=\"\", \"\", IF(VLOOKUP(BR34,'Footnotes list'!$D$9:$E$58,2,FALSE)=0,\"\",VLOOKUP(BR34,'Footnotes list'!$D$9:$E$58,2,FALSE) ) )","v":""},{"$f":"IF(AND(TRIM(BT32)=\"\",TRIM(BT33)=\"\"),\"\",BT32+BT33)","v":""},null,null,null,{"$f":"IF(TRIM(BW34)=\"\", \"\", IF(VLOOKUP(BW34,'Footnotes list'!$D$9:$E$58,2,FALSE)=0,\"\",VLOOKUP(BW34,'Footnotes list'!$D$9:$E$58,2,FALSE) ) )","v":""},{"$f":"IF(AND(TRIM(BY32)=\"\",TRIM(BY33)=\"\"),\"\",BY32+BY33)","v":""},null,null,null,{"$f":"IF(TRIM(CB34)=\"\", \"\", IF(VLOOKUP(CB34,'Footnotes list'!$D$9:$E$58,2,FALSE)=0,\"\",VLOOKUP(CB34,'Footnotes list'!$D$9:$E$58,2,FALSE) ) )","v":""},{"$f":"IF(AND(TRIM(CD32)=\"\",TRIM(CD33)=\"\"),\"\",CD32+CD33)","v":""},null,null,null,{"$f":"IF(TRIM(CG34)=\"\", \"\", IF(VLOOKUP(CG34,'Footnotes list'!$D$9:$E$58,2,FALSE)=0,\"\",VLOOKUP(CG34,'Footnotes list'!$D$9:$E$58,2,FALSE) ) )","v":""},{"$f":"IF(AND(TRIM(CI32)=\"\", TRIM(CI33)=\"\"), \"\", (IF(ISNUMBER(CI32),CI32,0)+IF(ISNUMBER(CI33),CI33,0)))","v":""},null,null,null,{"$f":"IF(TRIM(CL34)=\"\", \"\", IF(VLOOKUP(CL34,'Footnotes list'!$D$9:$E$58,2,FALSE)=0,\"\",VLOOKUP(CL34,'Footnotes list'!$D$9:$E$58,2,FALSE) ) )","v":""},{"$f":"IF(AND(TRIM(CN32)=\"\",TRIM(CN33)=\"\"),\"\",CN32+CN33)","v":""},null,null,null,{"$f":"IF(TRIM(CQ34)=\"\", \"\", IF(VLOOKUP(CQ34,'Footnotes list'!$D$9:$E$58,2,FALSE)=0,\"\",VLOOKUP(CQ34,'Footnotes list'!$D$9:$E$58,2,FALSE) ) )","v":""},{"$f":"IF(AND(TRIM(CS32)=\"\",TRIM(CS33)=\"\"),\"\",CS32+CS33)","v":""},null,null,null,{"$f":"IF(TRIM(CV34)=\"\", \"\", IF(VLOOKUP(CV34,'Footnotes list'!$D$9:$E$58,2,FALSE)=0,\"\",VLOOKUP(CV34,'Footnotes list'!$D$9:$E$58,2,FALSE) ) )","v":""},{"$f":"IF(AND(TRIM(CX32)=\"\",TRIM(CX33)=\"\"),\"\",CX32+CX33)","v":""},null,null,null,{"$f":"IF(TRIM(DA34)=\"\", \"\", IF(VLOOKUP(DA34,'Footnotes list'!$D$9:$E$58,2,FALSE)=0,\"\",VLOOKUP(DA34,'Footnotes list'!$D$9:$E$58,2,FALSE) ) )","v":""},{"$f":"IF(AND(TRIM(DC32)=\"\",TRIM(DC33)=\"\"),\"\",DC32+DC33)","v":""},null,null,null,{"$f":"IF(TRIM(DF34)=\"\", \"\", IF(VLOOKUP(DF34,'Footnotes list'!$D$9:$E$58,2,FALSE)=0,\"\",VLOOKUP(DF34,'Footnotes list'!$D$9:$E$58,2,FALSE) ) )","v":""},{"$f":"IF(AND(TRIM(DH32)=\"\", TRIM(DH33)=\"\"), \"\", SUM(DH32,DH33) )","v":""},null,null,null,{"$f":"IF(TRIM(DK34)=\"\", \"\", IF(VLOOKUP(DK34,'Footnotes list'!$D$9:$E$58,2,FALSE)=0,\"\",VLOOKUP(DK34,'Footnotes list'!$D$9:$E$58,2,FALSE) ) )","v":""}]
[null,"W063",null,"Metal wastes, mixed ferrous and non-ferrous",null,"Not applicable"]
[null,null,"W063",null,"NHAZ","Non-hazardous",null,null,null,null,{"$f":"IF(TRIM(J36)=\"\", \"\", IF(VLOOKUP(J36,'Footnotes list'!$D$9:$E$58,2,FALSE)=0,\"\",VLOOKUP(J36,'Footnotes list'!$D$9:$E$58,2,FALSE) ) )","v":""},null,null,null,null,{"$f":"IF(TRIM(O36)=\"\", \"\", IF(VLOOKUP(O36,'Footnotes list'!$D$9:$E$58,2,FALSE)=0,\"\",VLOOKUP(O36,'Footnotes list'!$D$9:$E$58,2,FALSE) ) )","v":""},null,null,null,null,{"$f":"IF(TRIM(T36)=\"\", \"\", IF(VLOOKUP(T36,'Footnotes list'!$D$9:$E$58,2,FALSE)=0,\"\",VLOOKUP(T36,'Footnotes list'!$D$9:$E$58,2,FALSE) ) )","v":""},null,null,null,null,{"$f":"IF(TRIM(Y36)=\"\", \"\", IF(VLOOKUP(Y36,'Footnotes list'!$D$9:$E$58,2,FALSE)=0,\"\",VLOOKUP(Y36,'Footnotes list'!$D$9:$E$58,2,FALSE) ) )","v":""},null,null,null,null,{"$f":"IF(TRIM(AD36)=\"\", \"\", IF(VLOOKUP(AD36,'Footnotes list'!$D$9:$E$58,2,FALSE)=0,\"\",VLOOKUP(AD36,'Footnotes list'!$D$9:$E$58,2,FALSE) ) )","v":""},null,null,null,null,{"$f":"IF(TRIM(AI36)=\"\", \"\", IF(VLOOKUP(AI36,'Footnotes list'!$D$9:$E$58,2,FALSE)=0,\"\",VLOOKUP(AI36,'Footnotes list'!$D$9:$E$58,2,FALSE) ) )","v":""},null,null,null,null,{"$f":"IF(TRIM(AN36)=\"\", \"\", IF(VLOOKUP(AN36,'Footnotes list'!$D$9:$E$58,2,FALSE)=0,\"\",VLOOKUP(AN36,'Footnotes list'!$D$9:$E$58,2,FALSE) ) )","v":""},null,null,null,null,{"$f":"IF(TRIM(AS36)=\"\", \"\", IF(VLOOKUP(AS36,'Footnotes list'!$D$9:$E$58,2,FALSE)=0,\"\",VLOOKUP(AS36,'Footnotes list'!$D$9:$E$58,2,FALSE) ) )","v":""},null,null,null,null,{"$f":"IF(TRIM(AX36)=\"\", \"\", IF(VLOOKUP(AX36,'Footnotes list'!$D$9:$E$58,2,FALSE)=0,\"\",VLOOKUP(AX36,'Footnotes list'!$D$9:$E$58,2,FALSE) ) )","v":""},null,null,null,null,{"$f":"IF(TRIM(BC36)=\"\", \"\", IF(VLOOKUP(BC36,'Footnotes list'!$D$9:$E$58,2,FALSE)=0,\"\",VLOOKUP(BC36,'Footnotes list'!$D$9:$E$58,2,FALSE) ) )","v":""},null,null,null,null,{"$f":"IF(TRIM(BH36)=\"\", \"\", IF(VLOOKUP(BH36,'Footnotes list'!$D$9:$E$58,2,FALSE)=0,\"\",VLOOKUP(BH36,'Footnotes list'!$D$9:$E$58,2,FALSE) ) )","v":""},null,null,null,null,{"$f":"IF(TRIM(BM36)=\"\", \"\", IF(VLOOKUP(BM36,'Footnotes list'!$D$9:$E$58,2,FALSE)=0,\"\",VLOOKUP(BM36,'Footnotes list'!$D$9:$E$58,2,FALSE) ) )","v":""},{"$f":"IF(AND(TRIM(Q36)=\"\",TRIM(V36)=\"\",TRIM(AA36)=\"\", TRIM(AF36)=\"\", TRIM(AK36)=\"\", TRIM(AP36)=\"\", TRIM(AU36)=\"\", TRIM(AZ36)=\"\", TRIM(BE36)=\"\", TRIM(BJ36)=\"\"),\"\",Q36+V36+AA36+AF36+AK36+AP36+AU36+AZ36+BE36+BJ36)","v":""},null,null,null,{"$f":"IF(TRIM(BR36)=\"\", \"\", IF(VLOOKUP(BR36,'Footnotes list'!$D$9:$E$58,2,FALSE)=0,\"\",VLOOKUP(BR36,'Footnotes list'!$D$9:$E$58,2,FALSE) ) )","v":""},null,null,null,null,{"$f":"IF(TRIM(BW36)=\"\", \"\", IF(VLOOKUP(BW36,'Footnotes list'!$D$9:$E$58,2,FALSE)=0,\"\",VLOOKUP(BW36,'Footnotes list'!$D$9:$E$58,2,FALSE) ) )","v":""},null,null,null,null,{"$f":"IF(TRIM(CB36)=\"\", \"\", IF(VLOOKUP(CB36,'Footnotes list'!$D$9:$E$58,2,FALSE)=0,\"\",VLOOKUP(CB36,'Footnotes list'!$D$9:$E$58,2,FALSE) ) )","v":""},null,null,null,null,{"$f":"IF(TRIM(CG36)=\"\", \"\", IF(VLOOKUP(CG36,'Footnotes list'!$D$9:$E$58,2,FALSE)=0,\"\",VLOOKUP(CG36,'Footnotes list'!$D$9:$E$58,2,FALSE) ) )","v":""},{"$f":"IF(AND(TRIM(BY36)=\"\",TRIM(CD36)=\"\"),\"\",BY36+CD36)","v":""},null,null,null,{"$f":"IF(TRIM(CL36)=\"\", \"\", IF(VLOOKUP(CL36,'Footnotes list'!$D$9:$E$58,2,FALSE)=0,\"\",VLOOKUP(CL36,'Footnotes list'!$D$9:$E$58,2,FALSE) ) )","v":""},null,null,null,null,{"$f":"IF(TRIM(CQ36)=\"\", \"\", IF(VLOOKUP(CQ36,'Footnotes list'!$D$9:$E$58,2,FALSE)=0,\"\",VLOOKUP(CQ36,'Footnotes list'!$D$9:$E$58,2,FALSE) ) )","v":""},null,null,null,null,{"$f":"IF(TRIM(CV36)=\"\", \"\", IF(VLOOKUP(CV36,'Footnotes list'!$D$9:$E$58,2,FALSE)=0,\"\",VLOOKUP(CV36,'Footnotes list'!$D$9:$E$58,2,FALSE) ) )","v":""},null,null,null,null,{"$f":"IF(TRIM(DA36)=\"\", \"\", IF(VLOOKUP(DA36,'Footnotes list'!$D$9:$E$58,2,FALSE)=0,\"\",VLOOKUP(DA36,'Footnotes list'!$D$9:$E$58,2,FALSE) ) )","v":""},null,null,null,null,{"$f":"IF(TRIM(DF36)=\"\", \"\", IF(VLOOKUP(DF36,'Footnotes list'!$D$9:$E$58,2,FALSE)=0,\"\",VLOOKUP(DF36,'Footnotes list'!$D$9:$E$58,2,FALSE) ) )","v":""},{"$f":"IF(AND(TRIM(G36)=\"\",TRIM(L36)=\"\",TRIM(BO36)=\"\",TRIM(BT36)=\"\",TRIM(CI36)=\"\",TRIM(CN36)=\"\",TRIM(CS36)=\"\",TRIM(CX36)=\"\",TRIM(DC36)=\"\"),\"\",SUM(G36,L36,BO36,BT36,CI36,CN36,CS36,CX36,DC36))","v":""},null,null,null,{"$f":"IF(TRIM(DK36)=\"\", \"\", IF(VLOOKUP(DK36,'Footnotes list'!$D$9:$E$58,2,FALSE)=0,\"\",VLOOKUP(DK36,'Footnotes list'!$D$9:$E$58,2,FALSE) ) )","v":""}]
[null,null,"W063",null,"HAZ_NHAZ","Total",{"$f":"IF(AND(TRIM(G35)=\"\",TRIM(G36)=\"\"),\"\",G35+G36)","v":""},null,null,null,{"$f":"IF(TRIM(J37)=\"\", \"\", IF(VLOOKUP(J37,'Footnotes list'!$D$9:$E$58,2,FALSE)=0,\"\",VLOOKUP(J37,'Footnotes list'!$D$9:$E$58,2,FALSE) ) )","v":""},{"$f":"IF(AND(TRIM(L35)=\"\",TRIM(L36)=\"\"),\"\",L35+L36)","v":""},null,null,null,{"$f":"IF(TRIM(O37)=\"\", \"\", IF(VLOOKUP(O37,'Footnotes list'!$D$9:$E$58,2,FALSE)=0,\"\",VLOOKUP(O37,'Footnotes list'!$D$9:$E$58,2,FALSE) ) )","v":""},{"$f":"IF(AND(TRIM(Q35)=\"\",TRIM(Q36)=\"\"),\"\",Q35+Q36)","v":""},null,null,null,{"$f":"IF(TRIM(T37)=\"\", \"\", IF(VLOOKUP(T37,'Footnotes list'!$D$9:$E$58,2,FALSE)=0,\"\",VLOOKUP(T37,'Footnotes list'!$D$9:$E$58,2,FALSE) ) )","v":""},{"$f":"IF(AND(TRIM(V35)=\"\",TRIM(V36)=\"\"),\"\",V35+V36)","v":""},null,null,null,{"$f":"IF(TRIM(Y37)=\"\", \"\", IF(VLOOKUP(Y37,'Footnotes list'!$D$9:$E$58,2,FALSE)=0,\"\",VLOOKUP(Y37,'Footnotes list'!$D$9:$E$58,2,FALSE) ) )","v":""},{"$f":"IF(AND(TRIM(AA35)=\"\",TRIM(AA36)=\"\"),\"\",AA35+AA36)","v":""},null,null,null,{"$f":"IF(TRIM(AD37)=\"\", \"\", IF(VLOOKUP(AD37,'Footnotes list'!$D$9:$E$58,2,FALSE)=0,\"\",VLOOKUP(AD37,'Footnotes list'!$D$9:$E$58,2,FALSE) ) )","v":""},{"$f":"IF(AND(TRIM(AF35)=\"\",TRIM(AF36)=\"\"),\"\",AF35+AF36)","v":""},null,null,null,{"$f":"IF(TRIM(AI37)=\"\", \"\", IF(VLOOKUP(AI37,'Footnotes list'!$D$9:$E$58,2,FALSE)=0,\"\",VLOOKUP(AI37,'Footnotes list'!$D$9:$E$58,2,FALSE) ) )","v":""},{"$f":"IF(AND(TRIM(AK35)=\"\",TRIM(AK36)=\"\"),\"\",AK35+AK36)","v":""},null,null,null,{"$f":"IF(TRIM(AN37)=\"\", \"\", IF(VLOOKUP(AN37,'Footnotes list'!$D$9:$E$58,2,FALSE)=0,\"\",VLOOKUP(AN37,'Footnotes list'!$D$9:$E$58,2,FALSE) ) )","v":""},{"$f":"IF(AND(TRIM(AP35)=\"\",TRIM(AP36)=\"\"),\"\",AP35+AP36)","v":""},null,null,null,{"$f":"IF(TRIM(AS37)=\"\", \"\", IF(VLOOKUP(AS37,'Footnotes list'!$D$9:$E$58,2,FALSE)=0,\"\",VLOOKUP(AS37,'Footnotes list'!$D$9:$E$58,2,FALSE) ) )","v":""},{"$f":"IF(AND(TRIM(AU35)=\"\",TRIM(AU36)=\"\"),\"\",AU35+AU36)","v":""},null,null,null,{"$f":"IF(TRIM(AX37)=\"\", \"\", IF(VLOOKUP(AX37,'Footnotes list'!$D$9:$E$58,2,FALSE)=0,\"\",VLOOKUP(AX37,'Footnotes list'!$D$9:$E$58,2,FALSE) ) )","v":""},{"$f":"IF(AND(TRIM(AZ35)=\"\",TRIM(AZ36)=\"\"),\"\",AZ35+AZ36)","v":""},null,null,null,{"$f":"IF(TRIM(BC37)=\"\", \"\", IF(VLOOKUP(BC37,'Footnotes list'!$D$9:$E$58,2,FALSE)=0,\"\",VLOOKUP(BC37,'Footnotes list'!$D$9:$E$58,2,FALSE) ) )","v":""},{"$f":"IF(AND(TRIM(BE35)=\"\",TRIM(BE36)=\"\"),\"\",BE35+BE36)","v":""},null,null,null,{"$f":"IF(TRIM(BH37)=\"\", \"\", IF(VLOOKUP(BH37,'Footnotes list'!$D$9:$E$58,2,FALSE)=0,\"\",VLOOKUP(BH37,'Footnotes list'!$D$9:$E$58,2,FALSE) ) )","v":""},{"$f":"IF(AND(TRIM(BJ35)=\"\",TRIM(BJ36)=\"\"),\"\",BJ35+BJ36)","v":""},null,null,null,{"$f":"IF(TRIM(BM37)=\"\", \"\", IF(VLOOKUP(BM37,'Footnotes list'!$D$9:$E$58,2,FALSE)=0,\"\",VLOOKUP(BM37,'Footnotes list'!$D$9:$E$58,2,FALSE) ) )","v":""},{"$f":"IF(AND(TRIM(BO35)=\"\", TRIM(BO36)=\"\"), \"\", (IF(ISNUMBER(BO35),BO35,0)+IF(ISNUMBER(BO36),BO36,0)))","v":""},null,null,null,{"$f":"IF(TRIM(BR37)=\"\", \"\", IF(VLOOKUP(BR37,'Footnotes list'!$D$9:$E$58,2,FALSE)=0,\"\",VLOOKUP(BR37,'Footnotes list'!$D$9:$E$58,2,FALSE) ) )","v":""},{"$f":"IF(AND(TRIM(BT35)=\"\",TRIM(BT36)=\"\"),\"\",BT35+BT36)","v":""},null,null,null,{"$f":"IF(TRIM(BW37)=\"\", \"\", IF(VLOOKUP(BW37,'Footnotes list'!$D$9:$E$58,2,FALSE)=0,\"\",VLOOKUP(BW37,'Footnotes list'!$D$9:$E$58,2,FALSE) ) )","v":""},{"$f":"IF(AND(TRIM(BY35)=\"\",TRIM(BY36)=\"\"),\"\",BY35+BY36)","v":""},null,null,null,{"$f":"IF(TRIM(CB37)=\"\", \"\", IF(VLOOKUP(CB37,'Footnotes list'!$D$9:$E$58,2,FALSE)=0,\"\",VLOOKUP(CB37,'Footnotes list'!$D$9:$E$58,2,FALSE) ) )","v":""},{"$f":"IF(AND(TRIM(CD35)=\"\",TRIM(CD36)=\"\"),\"\",CD35+CD36)","v":""},null,null,null,{"$f":"IF(TRIM(CG37)=\"\", \"\", IF(VLOOKUP(CG37,'Footnotes list'!$D$9:$E$58,2,FALSE)=0,\"\",VLOOKUP(CG37,'Footnotes list'!$D$9:$E$58,2,FALSE) ) )","v":""},{"$f":"IF(AND(TRIM(CI35)=\"\", TRIM(CI36)=\"\"), \"\", (IF(ISNUMBER(CI35),CI35,0)+IF(ISNUMBER(CI36),CI36,0)))","v":""},null,null,null,{"$f":"IF(TRIM(CL37)=\"\", \"\", IF(VLOOKUP(CL37,'Footnotes list'!$D$9:$E$58,2,FALSE)=0,\"\",VLOOKUP(CL37,'Footnotes list'!$D$9:$E$58,2,FALSE) ) )","v":""},{"$f":"IF(AND(TRIM(CN35)=\"\",TRIM(CN36)=\"\"),\"\",CN35+CN36)","v":""},null,null,null,{"$f":"IF(TRIM(CQ37)=\"\", \"\", IF(VLOOKUP(CQ37,'Footnotes list'!$D$9:$E$58,2,FALSE)=0,\"\",VLOOKUP(CQ37,'Footnotes list'!$D$9:$E$58,2,FALSE) ) )","v":""},{"$f":"IF(AND(TRIM(CS35)=\"\",TRIM(CS36)=\"\"),\"\",CS35+CS36)","v":""},null,null,null,{"$f":"IF(TRIM(CV37)=\"\", \"\", IF(VLOOKUP(CV37,'Footnotes list'!$D$9:$E$58,2,FALSE)=0,\"\",VLOOKUP(CV37,'Footnotes list'!$D$9:$E$58,2,FALSE) ) )","v":""},{"$f":"IF(AND(TRIM(CX35)=\"\",TRIM(CX36)=\"\"),\"\",CX35+CX36)","v":""},null,null,null,{"$f":"IF(TRIM(DA37)=\"\", \"\", IF(VLOOKUP(DA37,'Footnotes list'!$D$9:$E$58,2,FALSE)=0,\"\",VLOOKUP(DA37,'Footnotes list'!$D$9:$E$58,2,FALSE) ) )","v":""},{"$f":"IF(AND(TRIM(DC35)=\"\",TRIM(DC36)=\"\"),\"\",DC35+DC36)","v":""},null,null,null,{"$f":"IF(TRIM(DF37)=\"\", \"\", IF(VLOOKUP(DF37,'Footnotes list'!$D$9:$E$58,2,FALSE)=0,\"\",VLOOKUP(DF37,'Footnotes list'!$D$9:$E$58,2,FALSE) ) )","v":""},{"$f":"IF(AND(TRIM(DH35)=\"\", TRIM(DH36)=\"\"), \"\", SUM(DH35,DH36) )","v":""},null,null,null,{"$f":"IF(TRIM(DK37)=\"\", \"\", IF(VLOOKUP(DK37,'Footnotes list'!$D$9:$E$58,2,FALSE)=0,\"\",VLOOKUP(DK37,'Footnotes list'!$D$9:$E$58,2,FALSE) ) )","v":""}]
[null,"W071","W071","Glass wastes ","HAZ","Hazardous ",null,null,null,null,{"$f":"IF(TRIM(J38)=\"\", \"\", IF(VLOOKUP(J38,'Footnotes list'!$D$9:$E$58,2,FALSE)=0,\"\",VLOOKUP(J38,'Footnotes list'!$D$9:$E$58,2,FALSE) ) )","v":""},null,null,null,null,{"$f":"IF(TRIM(O38)=\"\", \"\", IF(VLOOKUP(O38,'Footnotes list'!$D$9:$E$58,2,FALSE)=0,\"\",VLOOKUP(O38,'Footnotes list'!$D$9:$E$58,2,FALSE) ) )","v":""},null,null,null,null,{"$f":"IF(TRIM(T38)=\"\", \"\", IF(VLOOKUP(T38,'Footnotes list'!$D$9:$E$58,2,FALSE)=0,\"\",VLOOKUP(T38,'Footnotes list'!$D$9:$E$58,2,FALSE) ) )","v":""},null,null,null,null,{"$f":"IF(TRIM(Y38)=\"\", \"\", IF(VLOOKUP(Y38,'Footnotes list'!$D$9:$E$58,2,FALSE)=0,\"\",VLOOKUP(Y38,'Footnotes list'!$D$9:$E$58,2,FALSE) ) )","v":""},null,null,null,null,{"$f":"IF(TRIM(AD38)=\"\", \"\", IF(VLOOKUP(AD38,'Footnotes list'!$D$9:$E$58,2,FALSE)=0,\"\",VLOOKUP(AD38,'Footnotes list'!$D$9:$E$58,2,FALSE) ) )","v":""},null,null,null,null,{"$f":"IF(TRIM(AI38)=\"\", \"\", IF(VLOOKUP(AI38,'Footnotes list'!$D$9:$E$58,2,FALSE)=0,\"\",VLOOKUP(AI38,'Footnotes list'!$D$9:$E$58,2,FALSE) ) )","v":""},null,null,null,null,{"$f":"IF(TRIM(AN38)=\"\", \"\", IF(VLOOKUP(AN38,'Footnotes list'!$D$9:$E$58,2,FALSE)=0,\"\",VLOOKUP(AN38,'Footnotes list'!$D$9:$E$58,2,FALSE) ) )","v":""},null,null,null,null,{"$f":"IF(TRIM(AS38)=\"\", \"\", IF(VLOOKUP(AS38,'Footnotes list'!$D$9:$E$58,2,FALSE)=0,\"\",VLOOKUP(AS38,'Footnotes list'!$D$9:$E$58,2,FALSE) ) )","v":""},null,null,null,null,{"$f":"IF(TRIM(AX38)=\"\", \"\", IF(VLOOKUP(AX38,'Footnotes list'!$D$9:$E$58,2,FALSE)=0,\"\",VLOOKUP(AX38,'Footnotes list'!$D$9:$E$58,2,FALSE) ) )","v":""},null,null,null,null,{"$f":"IF(TRIM(BC38)=\"\", \"\", IF(VLOOKUP(BC38,'Footnotes list'!$D$9:$E$58,2,FALSE)=0,\"\",VLOOKUP(BC38,'Footnotes list'!$D$9:$E$58,2,FALSE) ) )","v":""},null,null,null,null,{"$f":"IF(TRIM(BH38)=\"\", \"\", IF(VLOOKUP(BH38,'Footnotes list'!$D$9:$E$58,2,FALSE)=0,\"\",VLOOKUP(BH38,'Footnotes list'!$D$9:$E$58,2,FALSE) ) )","v":""},null,null,null,null,{"$f":"IF(TRIM(BM38)=\"\", \"\", IF(VLOOKUP(BM38,'Footnotes list'!$D$9:$E$58,2,FALSE)=0,\"\",VLOOKUP(BM38,'Footnotes list'!$D$9:$E$58,2,FALSE) ) )","v":""},{"$f":"IF(AND(TRIM(Q38)=\"\",TRIM(V38)=\"\",TRIM(AA38)=\"\", TRIM(AF38)=\"\", TRIM(AK38)=\"\", TRIM(AP38)=\"\", TRIM(AU38)=\"\", TRIM(AZ38)=\"\", TRIM(BE38)=\"\", TRIM(BJ38)=\"\"),\"\",Q38+V38+AA38+AF38+AK38+AP38+AU38+AZ38+BE38+BJ38)","v":""},null,null,null,{"$f":"IF(TRIM(BR38)=\"\", \"\", IF(VLOOKUP(BR38,'Footnotes list'!$D$9:$E$58,2,FALSE)=0,\"\",VLOOKUP(BR38,'Footnotes list'!$D$9:$E$58,2,FALSE) ) )","v":""},null,null,null,null,{"$f":"IF(TRIM(BW38)=\"\", \"\", IF(VLOOKUP(BW38,'Footnotes list'!$D$9:$E$58,2,FALSE)=0,\"\",VLOOKUP(BW38,'Footnotes list'!$D$9:$E$58,2,FALSE) ) )","v":""},null,null,null,null,{"$f":"IF(TRIM(CB38)=\"\", \"\", IF(VLOOKUP(CB38,'Footnotes list'!$D$9:$E$58,2,FALSE)=0,\"\",VLOOKUP(CB38,'Footnotes list'!$D$9:$E$58,2,FALSE) ) )","v":""},null,null,null,null,{"$f":"IF(TRIM(CG38)=\"\", \"\", IF(VLOOKUP(CG38,'Footnotes list'!$D$9:$E$58,2,FALSE)=0,\"\",VLOOKUP(CG38,'Footnotes list'!$D$9:$E$58,2,FALSE) ) )","v":""},{"$f":"IF(AND(TRIM(BY38)=\"\",TRIM(CD38)=\"\"),\"\",BY38+CD38)","v":""},null,null,null,{"$f":"IF(TRIM(CL38)=\"\", \"\", IF(VLOOKUP(CL38,'Footnotes list'!$D$9:$E$58,2,FALSE)=0,\"\",VLOOKUP(CL38,'Footnotes list'!$D$9:$E$58,2,FALSE) ) )","v":""},null,null,null,null,{"$f":"IF(TRIM(CQ38)=\"\", \"\", IF(VLOOKUP(CQ38,'Footnotes list'!$D$9:$E$58,2,FALSE)=0,\"\",VLOOKUP(CQ38,'Footnotes list'!$D$9:$E$58,2,FALSE) ) )","v":""},null,null,null,null,{"$f":"IF(TRIM(CV38)=\"\", \"\", IF(VLOOKUP(CV38,'Footnotes list'!$D$9:$E$58,2,FALSE)=0,\"\",VLOOKUP(CV38,'Footnotes list'!$D$9:$E$58,2,FALSE) ) )","v":""},null,null,null,null,{"$f":"IF(TRIM(DA38)=\"\", \"\", IF(VLOOKUP(DA38,'Footnotes list'!$D$9:$E$58,2,FALSE)=0,\"\",VLOOKUP(DA38,'Footnotes list'!$D$9:$E$58,2,FALSE) ) )","v":""},null,null,null,null,{"$f":"IF(TRIM(DF38)=\"\", \"\", IF(VLOOKUP(DF38,'Footnotes list'!$D$9:$E$58,2,FALSE)=0,\"\",VLOOKUP(DF38,'Footnotes list'!$D$9:$E$58,2,FALSE) ) )","v":""},{"$f":"IF(AND(TRIM(G38)=\"\",TRIM(L38)=\"\",TRIM(BO38)=\"\",TRIM(BT38)=\"\",TRIM(CI38)=\"\",TRIM(CN38)=\"\",TRIM(CS38)=\"\",TRIM(CX38)=\"\",TRIM(DC38)=\"\"),\"\",SUM(G38,L38,BO38,BT38,CI38,CN38,CS38,CX38,DC38))","v":""},null,null,null,{"$f":"IF(TRIM(DK38)=\"\", \"\", IF(VLOOKUP(DK38,'Footnotes list'!$D$9:$E$58,2,FALSE)=0,\"\",VLOOKUP(DK38,'Footnotes list'!$D$9:$E$58,2,FALSE) ) )","v":""}]
[null,null,"W071",null,"NHAZ","Non-hazardous",null,null,null,null,{"$f":"IF(TRIM(J39)=\"\", \"\", IF(VLOOKUP(J39,'Footnotes list'!$D$9:$E$58,2,FALSE)=0,\"\",VLOOKUP(J39,'Footnotes list'!$D$9:$E$58,2,FALSE) ) )","v":""},null,null,null,null,{"$f":"IF(TRIM(O39)=\"\", \"\", IF(VLOOKUP(O39,'Footnotes list'!$D$9:$E$58,2,FALSE)=0,\"\",VLOOKUP(O39,'Footnotes list'!$D$9:$E$58,2,FALSE) ) )","v":""},null,null,null,null,{"$f":"IF(TRIM(T39)=\"\", \"\", IF(VLOOKUP(T39,'Footnotes list'!$D$9:$E$58,2,FALSE)=0,\"\",VLOOKUP(T39,'Footnotes list'!$D$9:$E$58,2,FALSE) ) )","v":""},null,null,null,null,{"$f":"IF(TRIM(Y39)=\"\", \"\", IF(VLOOKUP(Y39,'Footnotes list'!$D$9:$E$58,2,FALSE)=0,\"\",VLOOKUP(Y39,'Footnotes list'!$D$9:$E$58,2,FALSE) ) )","v":""},null,null,null,null,{"$f":"IF(TRIM(AD39)=\"\", \"\", IF(VLOOKUP(AD39,'Footnotes list'!$D$9:$E$58,2,FALSE)=0,\"\",VLOOKUP(AD39,'Footnotes list'!$D$9:$E$58,2,FALSE) ) )","v":""},null,null,null,null,{"$f":"IF(TRIM(AI39)=\"\", \"\", IF(VLOOKUP(AI39,'Footnotes list'!$D$9:$E$58,2,FALSE)=0,\"\",VLOOKUP(AI39,'Footnotes list'!$D$9:$E$58,2,FALSE) ) )","v":""},null,null,null,null,{"$f":"IF(TRIM(AN39)=\"\", \"\", IF(VLOOKUP(AN39,'Footnotes list'!$D$9:$E$58,2,FALSE)=0,\"\",VLOOKUP(AN39,'Footnotes list'!$D$9:$E$58,2,FALSE) ) )","v":""},null,null,null,null,{"$f":"IF(TRIM(AS39)=\"\", \"\", IF(VLOOKUP(AS39,'Footnotes list'!$D$9:$E$58,2,FALSE)=0,\"\",VLOOKUP(AS39,'Footnotes list'!$D$9:$E$58,2,FALSE) ) )","v":""},null,null,null,null,{"$f":"IF(TRIM(AX39)=\"\", \"\", IF(VLOOKUP(AX39,'Footnotes list'!$D$9:$E$58,2,FALSE)=0,\"\",VLOOKUP(AX39,'Footnotes list'!$D$9:$E$58,2,FALSE) ) )","v":""},null,null,null,null,{"$f":"IF(TRIM(BC39)=\"\", \"\", IF(VLOOKUP(BC39,'Footnotes list'!$D$9:$E$58,2,FALSE)=0,\"\",VLOOKUP(BC39,'Footnotes list'!$D$9:$E$58,2,FALSE) ) )","v":""},null,null,null,null,{"$f":"IF(TRIM(BH39)=\"\", \"\", IF(VLOOKUP(BH39,'Footnotes list'!$D$9:$E$58,2,FALSE)=0,\"\",VLOOKUP(BH39,'Footnotes list'!$D$9:$E$58,2,FALSE) ) )","v":""},null,null,null,null,{"$f":"IF(TRIM(BM39)=\"\", \"\", IF(VLOOKUP(BM39,'Footnotes list'!$D$9:$E$58,2,FALSE)=0,\"\",VLOOKUP(BM39,'Footnotes list'!$D$9:$E$58,2,FALSE) ) )","v":""},{"$f":"IF(AND(TRIM(Q39)=\"\",TRIM(V39)=\"\",TRIM(AA39)=\"\", TRIM(AF39)=\"\", TRIM(AK39)=\"\", TRIM(AP39)=\"\", TRIM(AU39)=\"\", TRIM(AZ39)=\"\", TRIM(BE39)=\"\", TRIM(BJ39)=\"\"),\"\",Q39+V39+AA39+AF39+AK39+AP39+AU39+AZ39+BE39+BJ39)","v":""},null,null,null,{"$f":"IF(TRIM(BR39)=\"\", \"\", IF(VLOOKUP(BR39,'Footnotes list'!$D$9:$E$58,2,FALSE)=0,\"\",VLOOKUP(BR39,'Footnotes list'!$D$9:$E$58,2,FALSE) ) )","v":""},null,null,null,null,{"$f":"IF(TRIM(BW39)=\"\", \"\", IF(VLOOKUP(BW39,'Footnotes list'!$D$9:$E$58,2,FALSE)=0,\"\",VLOOKUP(BW39,'Footnotes list'!$D$9:$E$58,2,FALSE) ) )","v":""},null,null,null,null,{"$f":"IF(TRIM(CB39)=\"\", \"\", IF(VLOOKUP(CB39,'Footnotes list'!$D$9:$E$58,2,FALSE)=0,\"\",VLOOKUP(CB39,'Footnotes list'!$D$9:$E$58,2,FALSE) ) )","v":""},null,null,null,null,{"$f":"IF(TRIM(CG39)=\"\", \"\", IF(VLOOKUP(CG39,'Footnotes list'!$D$9:$E$58,2,FALSE)=0,\"\",VLOOKUP(CG39,'Footnotes list'!$D$9:$E$58,2,FALSE) ) )","v":""},{"$f":"IF(AND(TRIM(BY39)=\"\",TRIM(CD39)=\"\"),\"\",BY39+CD39)","v":""},null,null,null,{"$f":"IF(TRIM(CL39)=\"\", \"\", IF(VLOOKUP(CL39,'Footnotes list'!$D$9:$E$58,2,FALSE)=0,\"\",VLOOKUP(CL39,'Footnotes list'!$D$9:$E$58,2,FALSE) ) )","v":""},null,null,null,null,{"$f":"IF(TRIM(CQ39)=\"\", \"\", IF(VLOOKUP(CQ39,'Footnotes list'!$D$9:$E$58,2,FALSE)=0,\"\",VLOOKUP(CQ39,'Footnotes list'!$D$9:$E$58,2,FALSE) ) )","v":""},null,null,null,null,{"$f":"IF(TRIM(CV39)=\"\", \"\", IF(VLOOKUP(CV39,'Footnotes list'!$D$9:$E$58,2,FALSE)=0,\"\",VLOOKUP(CV39,'Footnotes list'!$D$9:$E$58,2,FALSE) ) )","v":""},null,null,null,null,{"$f":"IF(TRIM(DA39)=\"\", \"\", IF(VLOOKUP(DA39,'Footnotes list'!$D$9:$E$58,2,FALSE)=0,\"\",VLOOKUP(DA39,'Footnotes list'!$D$9:$E$58,2,FALSE) ) )","v":""},null,null,null,null,{"$f":"IF(TRIM(DF39)=\"\", \"\", IF(VLOOKUP(DF39,'Footnotes list'!$D$9:$E$58,2,FALSE)=0,\"\",VLOOKUP(DF39,'Footnotes list'!$D$9:$E$58,2,FALSE) ) )","v":""},{"$f":"IF(AND(TRIM(G39)=\"\",TRIM(L39)=\"\",TRIM(BO39)=\"\",TRIM(BT39)=\"\",TRIM(CI39)=\"\",TRIM(CN39)=\"\",TRIM(CS39)=\"\",TRIM(CX39)=\"\",TRIM(DC39)=\"\"),\"\",SUM(G39,L39,BO39,BT39,CI39,CN39,CS39,CX39,DC39))","v":""},null,null,null,{"$f":"IF(TRIM(DK39)=\"\", \"\", IF(VLOOKUP(DK39,'Footnotes list'!$D$9:$E$58,2,FALSE)=0,\"\",VLOOKUP(DK39,'Footnotes list'!$D$9:$E$58,2,FALSE) ) )","v":""}]
[null,null,"W071",null,"HAZ_NHAZ","Total",{"$f":"IF(AND(TRIM(G38)=\"\",TRIM(G39)=\"\"),\"\",G38+G39)","v":""},null,null,null,{"$f":"IF(TRIM(J40)=\"\", \"\", IF(VLOOKUP(J40,'Footnotes list'!$D$9:$E$58,2,FALSE)=0,\"\",VLOOKUP(J40,'Footnotes list'!$D$9:$E$58,2,FALSE) ) )","v":""},{"$f":"IF(AND(TRIM(L38)=\"\",TRIM(L39)=\"\"),\"\",L38+L39)","v":""},null,null,null,{"$f":"IF(TRIM(O40)=\"\", \"\", IF(VLOOKUP(O40,'Footnotes list'!$D$9:$E$58,2,FALSE)=0,\"\",VLOOKUP(O40,'Footnotes list'!$D$9:$E$58,2,FALSE) ) )","v":""},{"$f":"IF(AND(TRIM(Q38)=\"\",TRIM(Q39)=\"\"),\"\",Q38+Q39)","v":""},null,null,null,{"$f":"IF(TRIM(T40)=\"\", \"\", IF(VLOOKUP(T40,'Footnotes list'!$D$9:$E$58,2,FALSE)=0,\"\",VLOOKUP(T40,'Footnotes list'!$D$9:$E$58,2,FALSE) ) )","v":""},{"$f":"IF(AND(TRIM(V38)=\"\",TRIM(V39)=\"\"),\"\",V38+V39)","v":""},null,null,null,{"$f":"IF(TRIM(Y40)=\"\", \"\", IF(VLOOKUP(Y40,'Footnotes list'!$D$9:$E$58,2,FALSE)=0,\"\",VLOOKUP(Y40,'Footnotes list'!$D$9:$E$58,2,FALSE) ) )","v":""},{"$f":"IF(AND(TRIM(AA38)=\"\",TRIM(AA39)=\"\"),\"\",AA38+AA39)","v":""},null,null,null,{"$f":"IF(TRIM(AD40)=\"\", \"\", IF(VLOOKUP(AD40,'Footnotes list'!$D$9:$E$58,2,FALSE)=0,\"\",VLOOKUP(AD40,'Footnotes list'!$D$9:$E$58,2,FALSE) ) )","v":""},{"$f":"IF(AND(TRIM(AF38)=\"\",TRIM(AF39)=\"\"),\"\",AF38+AF39)","v":""},null,null,null,{"$f":"IF(TRIM(AI40)=\"\", \"\", IF(VLOOKUP(AI40,'Footnotes list'!$D$9:$E$58,2,FALSE)=0,\"\",VLOOKUP(AI40,'Footnotes list'!$D$9:$E$58,2,FALSE) ) )","v":""},{"$f":"IF(AND(TRIM(AK38)=\"\",TRIM(AK39)=\"\"),\"\",AK38+AK39)","v":""},null,null,null,{"$f":"IF(TRIM(AN40)=\"\", \"\", IF(VLOOKUP(AN40,'Footnotes list'!$D$9:$E$58,2,FALSE)=0,\"\",VLOOKUP(AN40,'Footnotes list'!$D$9:$E$58,2,FALSE) ) )","v":""},{"$f":"IF(AND(TRIM(AP38)=\"\",TRIM(AP39)=\"\"),\"\",AP38+AP39)","v":""},null,null,null,{"$f":"IF(TRIM(AS40)=\"\", \"\", IF(VLOOKUP(AS40,'Footnotes list'!$D$9:$E$58,2,FALSE)=0,\"\",VLOOKUP(AS40,'Footnotes list'!$D$9:$E$58,2,FALSE) ) )","v":""},{"$f":"IF(AND(TRIM(AU38)=\"\",TRIM(AU39)=\"\"),\"\",AU38+AU39)","v":""},null,null,null,{"$f":"IF(TRIM(AX40)=\"\", \"\", IF(VLOOKUP(AX40,'Footnotes list'!$D$9:$E$58,2,FALSE)=0,\"\",VLOOKUP(AX40,'Footnotes list'!$D$9:$E$58,2,FALSE) ) )","v":""},{"$f":"IF(AND(TRIM(AZ38)=\"\",TRIM(AZ39)=\"\"),\"\",AZ38+AZ39)","v":""},null,null,null,{"$f":"IF(TRIM(BC40)=\"\", \"\", IF(VLOOKUP(BC40,'Footnotes list'!$D$9:$E$58,2,FALSE)=0,\"\",VLOOKUP(BC40,'Footnotes list'!$D$9:$E$58,2,FALSE) ) )","v":""},{"$f":"IF(AND(TRIM(BE38)=\"\",TRIM(BE39)=\"\"),\"\",BE38+BE39)","v":""},null,null,null,{"$f":"IF(TRIM(BH40)=\"\", \"\", IF(VLOOKUP(BH40,'Footnotes list'!$D$9:$E$58,2,FALSE)=0,\"\",VLOOKUP(BH40,'Footnotes list'!$D$9:$E$58,2,FALSE) ) )","v":""},{"$f":"IF(AND(TRIM(BJ38)=\"\",TRIM(BJ39)=\"\"),\"\",BJ38+BJ39)","v":""},null,null,null,{"$f":"IF(TRIM(BM40)=\"\", \"\", IF(VLOOKUP(BM40,'Footnotes list'!$D$9:$E$58,2,FALSE)=0,\"\",VLOOKUP(BM40,'Footnotes list'!$D$9:$E$58,2,FALSE) ) )","v":""},{"$f":"IF(AND(TRIM(BO38)=\"\", TRIM(BO39)=\"\"), \"\", (IF(ISNUMBER(BO38),BO38,0)+IF(ISNUMBER(BO39),BO39,0)))","v":""},null,null,null,{"$f":"IF(TRIM(BR40)=\"\", \"\", IF(VLOOKUP(BR40,'Footnotes list'!$D$9:$E$58,2,FALSE)=0,\"\",VLOOKUP(BR40,'Footnotes list'!$D$9:$E$58,2,FALSE) ) )","v":""},{"$f":"IF(AND(TRIM(BT38)=\"\",TRIM(BT39)=\"\"),\"\",BT38+BT39)","v":""},null,null,null,{"$f":"IF(TRIM(BW40)=\"\", \"\", IF(VLOOKUP(BW40,'Footnotes list'!$D$9:$E$58,2,FALSE)=0,\"\",VLOOKUP(BW40,'Footnotes list'!$D$9:$E$58,2,FALSE) ) )","v":""},{"$f":"IF(AND(TRIM(BY38)=\"\",TRIM(BY39)=\"\"),\"\",BY38+BY39)","v":""},null,null,null,{"$f":"IF(TRIM(CB40)=\"\", \"\", IF(VLOOKUP(CB40,'Footnotes list'!$D$9:$E$58,2,FALSE)=0,\"\",VLOOKUP(CB40,'Footnotes list'!$D$9:$E$58,2,FALSE) ) )","v":""},{"$f":"IF(AND(TRIM(CD38)=\"\",TRIM(CD39)=\"\"),\"\",CD38+CD39)","v":""},null,null,null,{"$f":"IF(TRIM(CG40)=\"\", \"\", IF(VLOOKUP(CG40,'Footnotes list'!$D$9:$E$58,2,FALSE)=0,\"\",VLOOKUP(CG40,'Footnotes list'!$D$9:$E$58,2,FALSE) ) )","v":""},{"$f":"IF(AND(TRIM(CI38)=\"\", TRIM(CI39)=\"\"), \"\", (IF(ISNUMBER(CI38),CI38,0)+IF(ISNUMBER(CI39),CI39,0)))","v":""},null,null,null,{"$f":"IF(TRIM(CL40)=\"\", \"\", IF(VLOOKUP(CL40,'Footnotes list'!$D$9:$E$58,2,FALSE)=0,\"\",VLOOKUP(CL40,'Footnotes list'!$D$9:$E$58,2,FALSE) ) )","v":""},{"$f":"IF(AND(TRIM(CN38)=\"\",TRIM(CN39)=\"\"),\"\",CN38+CN39)","v":""},null,null,null,{"$f":"IF(TRIM(CQ40)=\"\", \"\", IF(VLOOKUP(CQ40,'Footnotes list'!$D$9:$E$58,2,FALSE)=0,\"\",VLOOKUP(CQ40,'Footnotes list'!$D$9:$E$58,2,FALSE) ) )","v":""},{"$f":"IF(AND(TRIM(CS38)=\"\",TRIM(CS39)=\"\"),\"\",CS38+CS39)","v":""},null,null,null,{"$f":"IF(TRIM(CV40)=\"\", \"\", IF(VLOOKUP(CV40,'Footnotes list'!$D$9:$E$58,2,FALSE)=0,\"\",VLOOKUP(CV40,'Footnotes list'!$D$9:$E$58,2,FALSE) ) )","v":""},{"$f":"IF(AND(TRIM(CX38)=\"\",TRIM(CX39)=\"\"),\"\",CX38+CX39)","v":""},null,null,null,{"$f":"IF(TRIM(DA40)=\"\", \"\", IF(VLOOKUP(DA40,'Footnotes list'!$D$9:$E$58,2,FALSE)=0,\"\",VLOOKUP(DA40,'Footnotes list'!$D$9:$E$58,2,FALSE) ) )","v":""},{"$f":"IF(AND(TRIM(DC38)=\"\",TRIM(DC39)=\"\"),\"\",DC38+DC39)","v":""},null,null,null,{"$f":"IF(TRIM(DF40)=\"\", \"\", IF(VLOOKUP(DF40,'Footnotes list'!$D$9:$E$58,2,FALSE)=0,\"\",VLOOKUP(DF40,'Footnotes list'!$D$9:$E$58,2,FALSE) ) )","v":""},{"$f":"IF(AND(TRIM(DH38)=\"\", TRIM(DH39)=\"\"), \"\", SUM(DH38,DH39) )","v":""},null,null,null,{"$f":"IF(TRIM(DK40)=\"\", \"\", IF(VLOOKUP(DK40,'Footnotes list'!$D$9:$E$58,2,FALSE)=0,\"\",VLOOKUP(DK40,'Footnotes list'!$D$9:$E$58,2,FALSE) ) )","v":""}]
[null,"W072",null,"Paper and cardboard wastes ",null,"Not applicable"]
[null,null,"W072",null,"NHAZ","Non-hazardous",null,null,null,null,{"$f":"IF(TRIM(J42)=\"\", \"\", IF(VLOOKUP(J42,'Footnotes list'!$D$9:$E$58,2,FALSE)=0,\"\",VLOOKUP(J42,'Footnotes list'!$D$9:$E$58,2,FALSE) ) )","v":""},null,null,null,null,{"$f":"IF(TRIM(O42)=\"\", \"\", IF(VLOOKUP(O42,'Footnotes list'!$D$9:$E$58,2,FALSE)=0,\"\",VLOOKUP(O42,'Footnotes list'!$D$9:$E$58,2,FALSE) ) )","v":""},null,null,null,null,{"$f":"IF(TRIM(T42)=\"\", \"\", IF(VLOOKUP(T42,'Footnotes list'!$D$9:$E$58,2,FALSE)=0,\"\",VLOOKUP(T42,'Footnotes list'!$D$9:$E$58,2,FALSE) ) )","v":""},null,null,null,null,{"$f":"IF(TRIM(Y42)=\"\", \"\", IF(VLOOKUP(Y42,'Footnotes list'!$D$9:$E$58,2,FALSE)=0,\"\",VLOOKUP(Y42,'Footnotes list'!$D$9:$E$58,2,FALSE) ) )","v":""},null,null,null,null,{"$f":"IF(TRIM(AD42)=\"\", \"\", IF(VLOOKUP(AD42,'Footnotes list'!$D$9:$E$58,2,FALSE)=0,\"\",VLOOKUP(AD42,'Footnotes list'!$D$9:$E$58,2,FALSE) ) )","v":""},null,null,null,null,{"$f":"IF(TRIM(AI42)=\"\", \"\", IF(VLOOKUP(AI42,'Footnotes list'!$D$9:$E$58,2,FALSE)=0,\"\",VLOOKUP(AI42,'Footnotes list'!$D$9:$E$58,2,FALSE) ) )","v":""},null,null,null,null,{"$f":"IF(TRIM(AN42)=\"\", \"\", IF(VLOOKUP(AN42,'Footnotes list'!$D$9:$E$58,2,FALSE)=0,\"\",VLOOKUP(AN42,'Footnotes list'!$D$9:$E$58,2,FALSE) ) )","v":""},null,null,null,null,{"$f":"IF(TRIM(AS42)=\"\", \"\", IF(VLOOKUP(AS42,'Footnotes list'!$D$9:$E$58,2,FALSE)=0,\"\",VLOOKUP(AS42,'Footnotes list'!$D$9:$E$58,2,FALSE) ) )","v":""},null,null,null,null,{"$f":"IF(TRIM(AX42)=\"\", \"\", IF(VLOOKUP(AX42,'Footnotes list'!$D$9:$E$58,2,FALSE)=0,\"\",VLOOKUP(AX42,'Footnotes list'!$D$9:$E$58,2,FALSE) ) )","v":""},null,null,null,null,{"$f":"IF(TRIM(BC42)=\"\", \"\", IF(VLOOKUP(BC42,'Footnotes list'!$D$9:$E$58,2,FALSE)=0,\"\",VLOOKUP(BC42,'Footnotes list'!$D$9:$E$58,2,FALSE) ) )","v":""},null,null,null,null,{"$f":"IF(TRIM(BH42)=\"\", \"\", IF(VLOOKUP(BH42,'Footnotes list'!$D$9:$E$58,2,FALSE)=0,\"\",VLOOKUP(BH42,'Footnotes list'!$D$9:$E$58,2,FALSE) ) )","v":""},null,null,null,null,{"$f":"IF(TRIM(BM42)=\"\", \"\", IF(VLOOKUP(BM42,'Footnotes list'!$D$9:$E$58,2,FALSE)=0,\"\",VLOOKUP(BM42,'Footnotes list'!$D$9:$E$58,2,FALSE) ) )","v":""},{"$f":"IF(AND(TRIM(Q42)=\"\",TRIM(V42)=\"\",TRIM(AA42)=\"\", TRIM(AF42)=\"\", TRIM(AK42)=\"\", TRIM(AP42)=\"\", TRIM(AU42)=\"\", TRIM(AZ42)=\"\", TRIM(BE42)=\"\", TRIM(BJ42)=\"\"),\"\",Q42+V42+AA42+AF42+AK42+AP42+AU42+AZ42+BE42+BJ42)","v":""},null,null,null,{"$f":"IF(TRIM(BR42)=\"\", \"\", IF(VLOOKUP(BR42,'Footnotes list'!$D$9:$E$58,2,FALSE)=0,\"\",VLOOKUP(BR42,'Footnotes list'!$D$9:$E$58,2,FALSE) ) )","v":""},null,null,null,null,{"$f":"IF(TRIM(BW42)=\"\", \"\", IF(VLOOKUP(BW42,'Footnotes list'!$D$9:$E$58,2,FALSE)=0,\"\",VLOOKUP(BW42,'Footnotes list'!$D$9:$E$58,2,FALSE) ) )","v":""},null,null,null,null,{"$f":"IF(TRIM(CB42)=\"\", \"\", IF(VLOOKUP(CB42,'Footnotes list'!$D$9:$E$58,2,FALSE)=0,\"\",VLOOKUP(CB42,'Footnotes list'!$D$9:$E$58,2,FALSE) ) )","v":""},null,null,null,null,{"$f":"IF(TRIM(CG42)=\"\", \"\", IF(VLOOKUP(CG42,'Footnotes list'!$D$9:$E$58,2,FALSE)=0,\"\",VLOOKUP(CG42,'Footnotes list'!$D$9:$E$58,2,FALSE) ) )","v":""},{"$f":"IF(AND(TRIM(BY42)=\"\",TRIM(CD42)=\"\"),\"\",BY42+CD42)","v":""},null,null,null,{"$f":"IF(TRIM(CL42)=\"\", \"\", IF(VLOOKUP(CL42,'Footnotes list'!$D$9:$E$58,2,FALSE)=0,\"\",VLOOKUP(CL42,'Footnotes list'!$D$9:$E$58,2,FALSE) ) )","v":""},null,null,null,null,{"$f":"IF(TRIM(CQ42)=\"\", \"\", IF(VLOOKUP(CQ42,'Footnotes list'!$D$9:$E$58,2,FALSE)=0,\"\",VLOOKUP(CQ42,'Footnotes list'!$D$9:$E$58,2,FALSE) ) )","v":""},null,null,null,null,{"$f":"IF(TRIM(CV42)=\"\", \"\", IF(VLOOKUP(CV42,'Footnotes list'!$D$9:$E$58,2,FALSE)=0,\"\",VLOOKUP(CV42,'Footnotes list'!$D$9:$E$58,2,FALSE) ) )","v":""},null,null,null,null,{"$f":"IF(TRIM(DA42)=\"\", \"\", IF(VLOOKUP(DA42,'Footnotes list'!$D$9:$E$58,2,FALSE)=0,\"\",VLOOKUP(DA42,'Footnotes list'!$D$9:$E$58,2,FALSE) ) )","v":""},null,null,null,null,{"$f":"IF(TRIM(DF42)=\"\", \"\", IF(VLOOKUP(DF42,'Footnotes list'!$D$9:$E$58,2,FALSE)=0,\"\",VLOOKUP(DF42,'Footnotes list'!$D$9:$E$58,2,FALSE) ) )","v":""},{"$f":"IF(AND(TRIM(G42)=\"\",TRIM(L42)=\"\",TRIM(BO42)=\"\",TRIM(BT42)=\"\",TRIM(CI42)=\"\",TRIM(CN42)=\"\",TRIM(CS42)=\"\",TRIM(CX42)=\"\",TRIM(DC42)=\"\"),\"\",SUM(G42,L42,BO42,BT42,CI42,CN42,CS42,CX42,DC42))","v":""},null,null,null,{"$f":"IF(TRIM(DK42)=\"\", \"\", IF(VLOOKUP(DK42,'Footnotes list'!$D$9:$E$58,2,FALSE)=0,\"\",VLOOKUP(DK42,'Footnotes list'!$D$9:$E$58,2,FALSE) ) )","v":""}]
[null,null,"W072",null,"HAZ_NHAZ","Total",{"$f":"IF(AND(TRIM(G41)=\"\",TRIM(G42)=\"\"),\"\",G41+G42)","v":""},null,null,null,{"$f":"IF(TRIM(J43)=\"\", \"\", IF(VLOOKUP(J43,'Footnotes list'!$D$9:$E$58,2,FALSE)=0,\"\",VLOOKUP(J43,'Footnotes list'!$D$9:$E$58,2,FALSE) ) )","v":""},{"$f":"IF(AND(TRIM(L41)=\"\",TRIM(L42)=\"\"),\"\",L41+L42)","v":""},null,null,null,{"$f":"IF(TRIM(O43)=\"\", \"\", IF(VLOOKUP(O43,'Footnotes list'!$D$9:$E$58,2,FALSE)=0,\"\",VLOOKUP(O43,'Footnotes list'!$D$9:$E$58,2,FALSE) ) )","v":""},{"$f":"IF(AND(TRIM(Q41)=\"\",TRIM(Q42)=\"\"),\"\",Q41+Q42)","v":""},null,null,null,{"$f":"IF(TRIM(T43)=\"\", \"\", IF(VLOOKUP(T43,'Footnotes list'!$D$9:$E$58,2,FALSE)=0,\"\",VLOOKUP(T43,'Footnotes list'!$D$9:$E$58,2,FALSE) ) )","v":""},{"$f":"IF(AND(TRIM(V41)=\"\",TRIM(V42)=\"\"),\"\",V41+V42)","v":""},null,null,null,{"$f":"IF(TRIM(Y43)=\"\", \"\", IF(VLOOKUP(Y43,'Footnotes list'!$D$9:$E$58,2,FALSE)=0,\"\",VLOOKUP(Y43,'Footnotes list'!$D$9:$E$58,2,FALSE) ) )","v":""},{"$f":"IF(AND(TRIM(AA41)=\"\",TRIM(AA42)=\"\"),\"\",AA41+AA42)","v":""},null,null,null,{"$f":"IF(TRIM(AD43)=\"\", \"\", IF(VLOOKUP(AD43,'Footnotes list'!$D$9:$E$58,2,FALSE)=0,\"\",VLOOKUP(AD43,'Footnotes list'!$D$9:$E$58,2,FALSE) ) )","v":""},{"$f":"IF(AND(TRIM(AF41)=\"\",TRIM(AF42)=\"\"),\"\",AF41+AF42)","v":""},null,null,null,{"$f":"IF(TRIM(AI43)=\"\", \"\", IF(VLOOKUP(AI43,'Footnotes list'!$D$9:$E$58,2,FALSE)=0,\"\",VLOOKUP(AI43,'Footnotes list'!$D$9:$E$58,2,FALSE) ) )","v":""},{"$f":"IF(AND(TRIM(AK41)=\"\",TRIM(AK42)=\"\"),\"\",AK41+AK42)","v":""},null,null,null,{"$f":"IF(TRIM(AN43)=\"\", \"\", IF(VLOOKUP(AN43,'Footnotes list'!$D$9:$E$58,2,FALSE)=0,\"\",VLOOKUP(AN43,'Footnotes list'!$D$9:$E$58,2,FALSE) ) )","v":""},{"$f":"IF(AND(TRIM(AP41)=\"\",TRIM(AP42)=\"\"),\"\",AP41+AP42)","v":""},null,null,null,{"$f":"IF(TRIM(AS43)=\"\", \"\", IF(VLOOKUP(AS43,'Footnotes list'!$D$9:$E$58,2,FALSE)=0,\"\",VLOOKUP(AS43,'Footnotes list'!$D$9:$E$58,2,FALSE) ) )","v":""},{"$f":"IF(AND(TRIM(AU41)=\"\",TRIM(AU42)=\"\"),\"\",AU41+AU42)","v":""},null,null,null,{"$f":"IF(TRIM(AX43)=\"\", \"\", IF(VLOOKUP(AX43,'Footnotes list'!$D$9:$E$58,2,FALSE)=0,\"\",VLOOKUP(AX43,'Footnotes list'!$D$9:$E$58,2,FALSE) ) )","v":""},{"$f":"IF(AND(TRIM(AZ41)=\"\",TRIM(AZ42)=\"\"),\"\",AZ41+AZ42)","v":""},null,null,null,{"$f":"IF(TRIM(BC43)=\"\", \"\", IF(VLOOKUP(BC43,'Footnotes list'!$D$9:$E$58,2,FALSE)=0,\"\",VLOOKUP(BC43,'Footnotes list'!$D$9:$E$58,2,FALSE) ) )","v":""},{"$f":"IF(AND(TRIM(BE41)=\"\",TRIM(BE42)=\"\"),\"\",BE41+BE42)","v":""},null,null,null,{"$f":"IF(TRIM(BH43)=\"\", \"\", IF(VLOOKUP(BH43,'Footnotes list'!$D$9:$E$58,2,FALSE)=0,\"\",VLOOKUP(BH43,'Footnotes list'!$D$9:$E$58,2,FALSE) ) )","v":""},{"$f":"IF(AND(TRIM(BJ41)=\"\",TRIM(BJ42)=\"\"),\"\",BJ41+BJ42)","v":""},null,null,null,{"$f":"IF(TRIM(BM43)=\"\", \"\", IF(VLOOKUP(BM43,'Footnotes list'!$D$9:$E$58,2,FALSE)=0,\"\",VLOOKUP(BM43,'Footnotes list'!$D$9:$E$58,2,FALSE) ) )","v":""},{"$f":"IF(AND(TRIM(BO41)=\"\", TRIM(BO42)=\"\"), \"\", (IF(ISNUMBER(BO41),BO41,0)+IF(ISNUMBER(BO42),BO42,0)))","v":""},null,null,null,{"$f":"IF(TRIM(BR43)=\"\", \"\", IF(VLOOKUP(BR43,'Footnotes list'!$D$9:$E$58,2,FALSE)=0,\"\",VLOOKUP(BR43,'Footnotes list'!$D$9:$E$58,2,FALSE) ) )","v":""},{"$f":"IF(AND(TRIM(BT41)=\"\",TRIM(BT42)=\"\"),\"\",BT41+BT42)","v":""},null,null,null,{"$f":"IF(TRIM(BW43)=\"\", \"\", IF(VLOOKUP(BW43,'Footnotes list'!$D$9:$E$58,2,FALSE)=0,\"\",VLOOKUP(BW43,'Footnotes list'!$D$9:$E$58,2,FALSE) ) )","v":""},{"$f":"IF(AND(TRIM(BY41)=\"\",TRIM(BY42)=\"\"),\"\",BY41+BY42)","v":""},null,null,null,{"$f":"IF(TRIM(CB43)=\"\", \"\", IF(VLOOKUP(CB43,'Footnotes list'!$D$9:$E$58,2,FALSE)=0,\"\",VLOOKUP(CB43,'Footnotes list'!$D$9:$E$58,2,FALSE) ) )","v":""},{"$f":"IF(AND(TRIM(CD41)=\"\",TRIM(CD42)=\"\"),\"\",CD41+CD42)","v":""},null,null,null,{"$f":"IF(TRIM(CG43)=\"\", \"\", IF(VLOOKUP(CG43,'Footnotes list'!$D$9:$E$58,2,FALSE)=0,\"\",VLOOKUP(CG43,'Footnotes list'!$D$9:$E$58,2,FALSE) ) )","v":""},{"$f":"IF(AND(TRIM(CI41)=\"\", TRIM(CI42)=\"\"), \"\", (IF(ISNUMBER(CI41),CI41,0)+IF(ISNUMBER(CI42),CI42,0)))","v":""},null,null,null,{"$f":"IF(TRIM(CL43)=\"\", \"\", IF(VLOOKUP(CL43,'Footnotes list'!$D$9:$E$58,2,FALSE)=0,\"\",VLOOKUP(CL43,'Footnotes list'!$D$9:$E$58,2,FALSE) ) )","v":""},{"$f":"IF(AND(TRIM(CN41)=\"\",TRIM(CN42)=\"\"),\"\",CN41+CN42)","v":""},null,null,null,{"$f":"IF(TRIM(CQ43)=\"\", \"\", IF(VLOOKUP(CQ43,'Footnotes list'!$D$9:$E$58,2,FALSE)=0,\"\",VLOOKUP(CQ43,'Footnotes list'!$D$9:$E$58,2,FALSE) ) )","v":""},{"$f":"IF(AND(TRIM(CS41)=\"\",TRIM(CS42)=\"\"),\"\",CS41+CS42)","v":""},null,null,null,{"$f":"IF(TRIM(CV43)=\"\", \"\", IF(VLOOKUP(CV43,'Footnotes list'!$D$9:$E$58,2,FALSE)=0,\"\",VLOOKUP(CV43,'Footnotes list'!$D$9:$E$58,2,FALSE) ) )","v":""},{"$f":"IF(AND(TRIM(CX41)=\"\",TRIM(CX42)=\"\"),\"\",CX41+CX42)","v":""},null,null,null,{"$f":"IF(TRIM(DA43)=\"\", \"\", IF(VLOOKUP(DA43,'Footnotes list'!$D$9:$E$58,2,FALSE)=0,\"\",VLOOKUP(DA43,'Footnotes list'!$D$9:$E$58,2,FALSE) ) )","v":""},{"$f":"IF(AND(TRIM(DC41)=\"\",TRIM(DC42)=\"\"),\"\",DC41+DC42)","v":""},null,null,null,{"$f":"IF(TRIM(DF43)=\"\", \"\", IF(VLOOKUP(DF43,'Footnotes list'!$D$9:$E$58,2,FALSE)=0,\"\",VLOOKUP(DF43,'Footnotes list'!$D$9:$E$58,2,FALSE) ) )","v":""},{"$f":"IF(AND(TRIM(DH41)=\"\", TRIM(DH42)=\"\"), \"\", SUM(DH41,DH42) )","v":""},null,null,null,{"$f":"IF(TRIM(DK43)=\"\", \"\", IF(VLOOKUP(DK43,'Footnotes list'!$D$9:$E$58,2,FALSE)=0,\"\",VLOOKUP(DK43,'Footnotes list'!$D$9:$E$58,2,FALSE) ) )","v":""}]
[null,"W073",null,"Rubber wastes ",null,"Not applicable"]
[null,null,"W073",null,"NHAZ","Non-hazardous",null,null,null,null,{"$f":"IF(TRIM(J45)=\"\", \"\", IF(VLOOKUP(J45,'Footnotes list'!$D$9:$E$58,2,FALSE)=0,\"\",VLOOKUP(J45,'Footnotes list'!$D$9:$E$58,2,FALSE) ) )","v":""},null,null,null,null,{"$f":"IF(TRIM(O45)=\"\", \"\", IF(VLOOKUP(O45,'Footnotes list'!$D$9:$E$58,2,FALSE)=0,\"\",VLOOKUP(O45,'Footnotes list'!$D$9:$E$58,2,FALSE) ) )","v":""},null,null,null,null,{"$f":"IF(TRIM(T45)=\"\", \"\", IF(VLOOKUP(T45,'Footnotes list'!$D$9:$E$58,2,FALSE)=0,\"\",VLOOKUP(T45,'Footnotes list'!$D$9:$E$58,2,FALSE) ) )","v":""},null,null,null,null,{"$f":"IF(TRIM(Y45)=\"\", \"\", IF(VLOOKUP(Y45,'Footnotes list'!$D$9:$E$58,2,FALSE)=0,\"\",VLOOKUP(Y45,'Footnotes list'!$D$9:$E$58,2,FALSE) ) )","v":""},null,null,null,null,{"$f":"IF(TRIM(AD45)=\"\", \"\", IF(VLOOKUP(AD45,'Footnotes list'!$D$9:$E$58,2,FALSE)=0,\"\",VLOOKUP(AD45,'Footnotes list'!$D$9:$E$58,2,FALSE) ) )","v":""},null,null,null,null,{"$f":"IF(TRIM(AI45)=\"\", \"\", IF(VLOOKUP(AI45,'Footnotes list'!$D$9:$E$58,2,FALSE)=0,\"\",VLOOKUP(AI45,'Footnotes list'!$D$9:$E$58,2,FALSE) ) )","v":""},null,null,null,null,{"$f":"IF(TRIM(AN45)=\"\", \"\", IF(VLOOKUP(AN45,'Footnotes list'!$D$9:$E$58,2,FALSE)=0,\"\",VLOOKUP(AN45,'Footnotes list'!$D$9:$E$58,2,FALSE) ) )","v":""},null,null,null,null,{"$f":"IF(TRIM(AS45)=\"\", \"\", IF(VLOOKUP(AS45,'Footnotes list'!$D$9:$E$58,2,FALSE)=0,\"\",VLOOKUP(AS45,'Footnotes list'!$D$9:$E$58,2,FALSE) ) )","v":""},null,null,null,null,{"$f":"IF(TRIM(AX45)=\"\", \"\", IF(VLOOKUP(AX45,'Footnotes list'!$D$9:$E$58,2,FALSE)=0,\"\",VLOOKUP(AX45,'Footnotes list'!$D$9:$E$58,2,FALSE) ) )","v":""},null,null,null,null,{"$f":"IF(TRIM(BC45)=\"\", \"\", IF(VLOOKUP(BC45,'Footnotes list'!$D$9:$E$58,2,FALSE)=0,\"\",VLOOKUP(BC45,'Footnotes list'!$D$9:$E$58,2,FALSE) ) )","v":""},null,null,null,null,{"$f":"IF(TRIM(BH45)=\"\", \"\", IF(VLOOKUP(BH45,'Footnotes list'!$D$9:$E$58,2,FALSE)=0,\"\",VLOOKUP(BH45,'Footnotes list'!$D$9:$E$58,2,FALSE) ) )","v":""},null,null,null,null,{"$f":"IF(TRIM(BM45)=\"\", \"\", IF(VLOOKUP(BM45,'Footnotes list'!$D$9:$E$58,2,FALSE)=0,\"\",VLOOKUP(BM45,'Footnotes list'!$D$9:$E$58,2,FALSE) ) )","v":""},{"$f":"IF(AND(TRIM(Q45)=\"\",TRIM(V45)=\"\",TRIM(AA45)=\"\", TRIM(AF45)=\"\", TRIM(AK45)=\"\", TRIM(AP45)=\"\", TRIM(AU45)=\"\", TRIM(AZ45)=\"\", TRIM(BE45)=\"\", TRIM(BJ45)=\"\"),\"\",Q45+V45+AA45+AF45+AK45+AP45+AU45+AZ45+BE45+BJ45)","v":""},null,null,null,{"$f":"IF(TRIM(BR45)=\"\", \"\", IF(VLOOKUP(BR45,'Footnotes list'!$D$9:$E$58,2,FALSE)=0,\"\",VLOOKUP(BR45,'Footnotes list'!$D$9:$E$58,2,FALSE) ) )","v":""},null,null,null,null,{"$f":"IF(TRIM(BW45)=\"\", \"\", IF(VLOOKUP(BW45,'Footnotes list'!$D$9:$E$58,2,FALSE)=0,\"\",VLOOKUP(BW45,'Footnotes list'!$D$9:$E$58,2,FALSE) ) )","v":""},null,null,null,null,{"$f":"IF(TRIM(CB45)=\"\", \"\", IF(VLOOKUP(CB45,'Footnotes list'!$D$9:$E$58,2,FALSE)=0,\"\",VLOOKUP(CB45,'Footnotes list'!$D$9:$E$58,2,FALSE) ) )","v":""},null,null,null,null,{"$f":"IF(TRIM(CG45)=\"\", \"\", IF(VLOOKUP(CG45,'Footnotes list'!$D$9:$E$58,2,FALSE)=0,\"\",VLOOKUP(CG45,'Footnotes list'!$D$9:$E$58,2,FALSE) ) )","v":""},{"$f":"IF(AND(TRIM(BY45)=\"\",TRIM(CD45)=\"\"),\"\",BY45+CD45)","v":""},null,null,null,{"$f":"IF(TRIM(CL45)=\"\", \"\", IF(VLOOKUP(CL45,'Footnotes list'!$D$9:$E$58,2,FALSE)=0,\"\",VLOOKUP(CL45,'Footnotes list'!$D$9:$E$58,2,FALSE) ) )","v":""},null,null,null,null,{"$f":"IF(TRIM(CQ45)=\"\", \"\", IF(VLOOKUP(CQ45,'Footnotes list'!$D$9:$E$58,2,FALSE)=0,\"\",VLOOKUP(CQ45,'Footnotes list'!$D$9:$E$58,2,FALSE) ) )","v":""},null,null,null,null,{"$f":"IF(TRIM(CV45)=\"\", \"\", IF(VLOOKUP(CV45,'Footnotes list'!$D$9:$E$58,2,FALSE)=0,\"\",VLOOKUP(CV45,'Footnotes list'!$D$9:$E$58,2,FALSE) ) )","v":""},null,null,null,null,{"$f":"IF(TRIM(DA45)=\"\", \"\", IF(VLOOKUP(DA45,'Footnotes list'!$D$9:$E$58,2,FALSE)=0,\"\",VLOOKUP(DA45,'Footnotes list'!$D$9:$E$58,2,FALSE) ) )","v":""},null,null,null,null,{"$f":"IF(TRIM(DF45)=\"\", \"\", IF(VLOOKUP(DF45,'Footnotes list'!$D$9:$E$58,2,FALSE)=0,\"\",VLOOKUP(DF45,'Footnotes list'!$D$9:$E$58,2,FALSE) ) )","v":""},{"$f":"IF(AND(TRIM(G45)=\"\",TRIM(L45)=\"\",TRIM(BO45)=\"\",TRIM(BT45)=\"\",TRIM(CI45)=\"\",TRIM(CN45)=\"\",TRIM(CS45)=\"\",TRIM(CX45)=\"\",TRIM(DC45)=\"\"),\"\",SUM(G45,L45,BO45,BT45,CI45,CN45,CS45,CX45,DC45))","v":""},null,null,null,{"$f":"IF(TRIM(DK45)=\"\", \"\", IF(VLOOKUP(DK45,'Footnotes list'!$D$9:$E$58,2,FALSE)=0,\"\",VLOOKUP(DK45,'Footnotes list'!$D$9:$E$58,2,FALSE) ) )","v":""}]
[null,null,"W073",null,"HAZ_NHAZ","Total",{"$f":"IF(AND(TRIM(G44)=\"\",TRIM(G45)=\"\"),\"\",G44+G45)","v":""},null,null,null,{"$f":"IF(TRIM(J46)=\"\", \"\", IF(VLOOKUP(J46,'Footnotes list'!$D$9:$E$58,2,FALSE)=0,\"\",VLOOKUP(J46,'Footnotes list'!$D$9:$E$58,2,FALSE) ) )","v":""},{"$f":"IF(AND(TRIM(L44)=\"\",TRIM(L45)=\"\"),\"\",L44+L45)","v":""},null,null,null,{"$f":"IF(TRIM(O46)=\"\", \"\", IF(VLOOKUP(O46,'Footnotes list'!$D$9:$E$58,2,FALSE)=0,\"\",VLOOKUP(O46,'Footnotes list'!$D$9:$E$58,2,FALSE) ) )","v":""},{"$f":"IF(AND(TRIM(Q44)=\"\",TRIM(Q45)=\"\"),\"\",Q44+Q45)","v":""},null,null,null,{"$f":"IF(TRIM(T46)=\"\", \"\", IF(VLOOKUP(T46,'Footnotes list'!$D$9:$E$58,2,FALSE)=0,\"\",VLOOKUP(T46,'Footnotes list'!$D$9:$E$58,2,FALSE) ) )","v":""},{"$f":"IF(AND(TRIM(V44)=\"\",TRIM(V45)=\"\"),\"\",V44+V45)","v":""},null,null,null,{"$f":"IF(TRIM(Y46)=\"\", \"\", IF(VLOOKUP(Y46,'Footnotes list'!$D$9:$E$58,2,FALSE)=0,\"\",VLOOKUP(Y46,'Footnotes list'!$D$9:$E$58,2,FALSE) ) )","v":""},{"$f":"IF(AND(TRIM(AA44)=\"\",TRIM(AA45)=\"\"),\"\",AA44+AA45)","v":""},null,null,null,{"$f":"IF(TRIM(AD46)=\"\", \"\", IF(VLOOKUP(AD46,'Footnotes list'!$D$9:$E$58,2,FALSE)=0,\"\",VLOOKUP(AD46,'Footnotes list'!$D$9:$E$58,2,FALSE) ) )","v":""},{"$f":"IF(AND(TRIM(AF44)=\"\",TRIM(AF45)=\"\"),\"\",AF44+AF45)","v":""},null,null,null,{"$f":"IF(TRIM(AI46)=\"\", \"\", IF(VLOOKUP(AI46,'Footnotes list'!$D$9:$E$58,2,FALSE)=0,\"\",VLOOKUP(AI46,'Footnotes list'!$D$9:$E$58,2,FALSE) ) )","v":""},{"$f":"IF(AND(TRIM(AK44)=\"\",TRIM(AK45)=\"\"),\"\",AK44+AK45)","v":""},null,null,null,{"$f":"IF(TRIM(AN46)=\"\", \"\", IF(VLOOKUP(AN46,'Footnotes list'!$D$9:$E$58,2,FALSE)=0,\"\",VLOOKUP(AN46,'Footnotes list'!$D$9:$E$58,2,FALSE) ) )","v":""},{"$f":"IF(AND(TRIM(AP44)=\"\",TRIM(AP45)=\"\"),\"\",AP44+AP45)","v":""},null,null,null,{"$f":"IF(TRIM(AS46)=\"\", \"\", IF(VLOOKUP(AS46,'Footnotes list'!$D$9:$E$58,2,FALSE)=0,\"\",VLOOKUP(AS46,'Footnotes list'!$D$9:$E$58,2,FALSE) ) )","v":""},{"$f":"IF(AND(TRIM(AU44)=\"\",TRIM(AU45)=\"\"),\"\",AU44+AU45)","v":""},null,null,null,{"$f":"IF(TRIM(AX46)=\"\", \"\", IF(VLOOKUP(AX46,'Footnotes list'!$D$9:$E$58,2,FALSE)=0,\"\",VLOOKUP(AX46,'Footnotes list'!$D$9:$E$58,2,FALSE) ) )","v":""},{"$f":"IF(AND(TRIM(AZ44)=\"\",TRIM(AZ45)=\"\"),\"\",AZ44+AZ45)","v":""},null,null,null,{"$f":"IF(TRIM(BC46)=\"\", \"\", IF(VLOOKUP(BC46,'Footnotes list'!$D$9:$E$58,2,FALSE)=0,\"\",VLOOKUP(BC46,'Footnotes list'!$D$9:$E$58,2,FALSE) ) )","v":""},{"$f":"IF(AND(TRIM(BE44)=\"\",TRIM(BE45)=\"\"),\"\",BE44+BE45)","v":""},null,null,null,{"$f":"IF(TRIM(BH46)=\"\", \"\", IF(VLOOKUP(BH46,'Footnotes list'!$D$9:$E$58,2,FALSE)=0,\"\",VLOOKUP(BH46,'Footnotes list'!$D$9:$E$58,2,FALSE) ) )","v":""},{"$f":"IF(AND(TRIM(BJ44)=\"\",TRIM(BJ45)=\"\"),\"\",BJ44+BJ45)","v":""},null,null,null,{"$f":"IF(TRIM(BM46)=\"\", \"\", IF(VLOOKUP(BM46,'Footnotes list'!$D$9:$E$58,2,FALSE)=0,\"\",VLOOKUP(BM46,'Footnotes list'!$D$9:$E$58,2,FALSE) ) )","v":""},{"$f":"IF(AND(TRIM(BO44)=\"\", TRIM(BO45)=\"\"), \"\", (IF(ISNUMBER(BO44),BO44,0)+IF(ISNUMBER(BO45),BO45,0)))","v":""},null,null,null,{"$f":"IF(TRIM(BR46)=\"\", \"\", IF(VLOOKUP(BR46,'Footnotes list'!$D$9:$E$58,2,FALSE)=0,\"\",VLOOKUP(BR46,'Footnotes list'!$D$9:$E$58,2,FALSE) ) )","v":""},{"$f":"IF(AND(TRIM(BT44)=\"\",TRIM(BT45)=\"\"),\"\",BT44+BT45)","v":""},null,null,null,{"$f":"IF(TRIM(BW46)=\"\", \"\", IF(VLOOKUP(BW46,'Footnotes list'!$D$9:$E$58,2,FALSE)=0,\"\",VLOOKUP(BW46,'Footnotes list'!$D$9:$E$58,2,FALSE) ) )","v":""},{"$f":"IF(AND(TRIM(BY44)=\"\",TRIM(BY45)=\"\"),\"\",BY44+BY45)","v":""},null,null,null,{"$f":"IF(TRIM(CB46)=\"\", \"\", IF(VLOOKUP(CB46,'Footnotes list'!$D$9:$E$58,2,FALSE)=0,\"\",VLOOKUP(CB46,'Footnotes list'!$D$9:$E$58,2,FALSE) ) )","v":""},{"$f":"IF(AND(TRIM(CD44)=\"\",TRIM(CD45)=\"\"),\"\",CD44+CD45)","v":""},null,null,null,{"$f":"IF(TRIM(CG46)=\"\", \"\", IF(VLOOKUP(CG46,'Footnotes list'!$D$9:$E$58,2,FALSE)=0,\"\",VLOOKUP(CG46,'Footnotes list'!$D$9:$E$58,2,FALSE) ) )","v":""},{"$f":"IF(AND(TRIM(CI44)=\"\", TRIM(CI45)=\"\"), \"\", (IF(ISNUMBER(CI44),CI44,0)+IF(ISNUMBER(CI45),CI45,0)))","v":""},null,null,null,{"$f":"IF(TRIM(CL46)=\"\", \"\", IF(VLOOKUP(CL46,'Footnotes list'!$D$9:$E$58,2,FALSE)=0,\"\",VLOOKUP(CL46,'Footnotes list'!$D$9:$E$58,2,FALSE) ) )","v":""},{"$f":"IF(AND(TRIM(CN44)=\"\",TRIM(CN45)=\"\"),\"\",CN44+CN45)","v":""},null,null,null,{"$f":"IF(TRIM(CQ46)=\"\", \"\", IF(VLOOKUP(CQ46,'Footnotes list'!$D$9:$E$58,2,FALSE)=0,\"\",VLOOKUP(CQ46,'Footnotes list'!$D$9:$E$58,2,FALSE) ) )","v":""},{"$f":"IF(AND(TRIM(CS44)=\"\",TRIM(CS45)=\"\"),\"\",CS44+CS45)","v":""},null,null,null,{"$f":"IF(TRIM(CV46)=\"\", \"\", IF(VLOOKUP(CV46,'Footnotes list'!$D$9:$E$58,2,FALSE)=0,\"\",VLOOKUP(CV46,'Footnotes list'!$D$9:$E$58,2,FALSE) ) )","v":""},{"$f":"IF(AND(TRIM(CX44)=\"\",TRIM(CX45)=\"\"),\"\",CX44+CX45)","v":""},null,null,null,{"$f":"IF(TRIM(DA46)=\"\", \"\", IF(VLOOKUP(DA46,'Footnotes list'!$D$9:$E$58,2,FALSE)=0,\"\",VLOOKUP(DA46,'Footnotes list'!$D$9:$E$58,2,FALSE) ) )","v":""},{"$f":"IF(AND(TRIM(DC44)=\"\",TRIM(DC45)=\"\"),\"\",DC44+DC45)","v":""},null,null,null,{"$f":"IF(TRIM(DF46)=\"\", \"\", IF(VLOOKUP(DF46,'Footnotes list'!$D$9:$E$58,2,FALSE)=0,\"\",VLOOKUP(DF46,'Footnotes list'!$D$9:$E$58,2,FALSE) ) )","v":""},{"$f":"IF(AND(TRIM(DH44)=\"\", TRIM(DH45)=\"\"), \"\", SUM(DH44,DH45) )","v":""},null,null,null,{"$f":"IF(TRIM(DK46)=\"\", \"\", IF(VLOOKUP(DK46,'Footnotes list'!$D$9:$E$58,2,FALSE)=0,\"\",VLOOKUP(DK46,'Footnotes list'!$D$9:$E$58,2,FALSE) ) )","v":""}]
[null,"W074",null,"Plastic wastes ",null,"Not applicable"]
[null,null,"W074",null,"NHAZ","Non-hazardous",null,null,null,null,{"$f":"IF(TRIM(J48)=\"\", \"\", IF(VLOOKUP(J48,'Footnotes list'!$D$9:$E$58,2,FALSE)=0,\"\",VLOOKUP(J48,'Footnotes list'!$D$9:$E$58,2,FALSE) ) )","v":""},null,null,null,null,{"$f":"IF(TRIM(O48)=\"\", \"\", IF(VLOOKUP(O48,'Footnotes list'!$D$9:$E$58,2,FALSE)=0,\"\",VLOOKUP(O48,'Footnotes list'!$D$9:$E$58,2,FALSE) ) )","v":""},null,null,null,null,{"$f":"IF(TRIM(T48)=\"\", \"\", IF(VLOOKUP(T48,'Footnotes list'!$D$9:$E$58,2,FALSE)=0,\"\",VLOOKUP(T48,'Footnotes list'!$D$9:$E$58,2,FALSE) ) )","v":""},null,null,null,null,{"$f":"IF(TRIM(Y48)=\"\", \"\", IF(VLOOKUP(Y48,'Footnotes list'!$D$9:$E$58,2,FALSE)=0,\"\",VLOOKUP(Y48,'Footnotes list'!$D$9:$E$58,2,FALSE) ) )","v":""},null,null,null,null,{"$f":"IF(TRIM(AD48)=\"\", \"\", IF(VLOOKUP(AD48,'Footnotes list'!$D$9:$E$58,2,FALSE)=0,\"\",VLOOKUP(AD48,'Footnotes list'!$D$9:$E$58,2,FALSE) ) )","v":""},null,null,null,null,{"$f":"IF(TRIM(AI48)=\"\", \"\", IF(VLOOKUP(AI48,'Footnotes list'!$D$9:$E$58,2,FALSE)=0,\"\",VLOOKUP(AI48,'Footnotes list'!$D$9:$E$58,2,FALSE) ) )","v":""},null,null,null,null,{"$f":"IF(TRIM(AN48)=\"\", \"\", IF(VLOOKUP(AN48,'Footnotes list'!$D$9:$E$58,2,FALSE)=0,\"\",VLOOKUP(AN48,'Footnotes list'!$D$9:$E$58,2,FALSE) ) )","v":""},null,null,null,null,{"$f":"IF(TRIM(AS48)=\"\", \"\", IF(VLOOKUP(AS48,'Footnotes list'!$D$9:$E$58,2,FALSE)=0,\"\",VLOOKUP(AS48,'Footnotes list'!$D$9:$E$58,2,FALSE) ) )","v":""},null,null,null,null,{"$f":"IF(TRIM(AX48)=\"\", \"\", IF(VLOOKUP(AX48,'Footnotes list'!$D$9:$E$58,2,FALSE)=0,\"\",VLOOKUP(AX48,'Footnotes list'!$D$9:$E$58,2,FALSE) ) )","v":""},null,null,null,null,{"$f":"IF(TRIM(BC48)=\"\", \"\", IF(VLOOKUP(BC48,'Footnotes list'!$D$9:$E$58,2,FALSE)=0,\"\",VLOOKUP(BC48,'Footnotes list'!$D$9:$E$58,2,FALSE) ) )","v":""},null,null,null,null,{"$f":"IF(TRIM(BH48)=\"\", \"\", IF(VLOOKUP(BH48,'Footnotes list'!$D$9:$E$58,2,FALSE)=0,\"\",VLOOKUP(BH48,'Footnotes list'!$D$9:$E$58,2,FALSE) ) )","v":""},null,null,null,null,{"$f":"IF(TRIM(BM48)=\"\", \"\", IF(VLOOKUP(BM48,'Footnotes list'!$D$9:$E$58,2,FALSE)=0,\"\",VLOOKUP(BM48,'Footnotes list'!$D$9:$E$58,2,FALSE) ) )","v":""},{"$f":"IF(AND(TRIM(Q48)=\"\",TRIM(V48)=\"\",TRIM(AA48)=\"\", TRIM(AF48)=\"\", TRIM(AK48)=\"\", TRIM(AP48)=\"\", TRIM(AU48)=\"\", TRIM(AZ48)=\"\", TRIM(BE48)=\"\", TRIM(BJ48)=\"\"),\"\",Q48+V48+AA48+AF48+AK48+AP48+AU48+AZ48+BE48+BJ48)","v":""},null,null,null,{"$f":"IF(TRIM(BR48)=\"\", \"\", IF(VLOOKUP(BR48,'Footnotes list'!$D$9:$E$58,2,FALSE)=0,\"\",VLOOKUP(BR48,'Footnotes list'!$D$9:$E$58,2,FALSE) ) )","v":""},null,null,null,null,{"$f":"IF(TRIM(BW48)=\"\", \"\", IF(VLOOKUP(BW48,'Footnotes list'!$D$9:$E$58,2,FALSE)=0,\"\",VLOOKUP(BW48,'Footnotes list'!$D$9:$E$58,2,FALSE) ) )","v":""},null,null,null,null,{"$f":"IF(TRIM(CB48)=\"\", \"\", IF(VLOOKUP(CB48,'Footnotes list'!$D$9:$E$58,2,FALSE)=0,\"\",VLOOKUP(CB48,'Footnotes list'!$D$9:$E$58,2,FALSE) ) )","v":""},null,null,null,null,{"$f":"IF(TRIM(CG48)=\"\", \"\", IF(VLOOKUP(CG48,'Footnotes list'!$D$9:$E$58,2,FALSE)=0,\"\",VLOOKUP(CG48,'Footnotes list'!$D$9:$E$58,2,FALSE) ) )","v":""},{"$f":"IF(AND(TRIM(BY48)=\"\",TRIM(CD48)=\"\"),\"\",BY48+CD48)","v":""},null,null,null,{"$f":"IF(TRIM(CL48)=\"\", \"\", IF(VLOOKUP(CL48,'Footnotes list'!$D$9:$E$58,2,FALSE)=0,\"\",VLOOKUP(CL48,'Footnotes list'!$D$9:$E$58,2,FALSE) ) )","v":""},null,null,null,null,{"$f":"IF(TRIM(CQ48)=\"\", \"\", IF(VLOOKUP(CQ48,'Footnotes list'!$D$9:$E$58,2,FALSE)=0,\"\",VLOOKUP(CQ48,'Footnotes list'!$D$9:$E$58,2,FALSE) ) )","v":""},null,null,null,null,{"$f":"IF(TRIM(CV48)=\"\", \"\", IF(VLOOKUP(CV48,'Footnotes list'!$D$9:$E$58,2,FALSE)=0,\"\",VLOOKUP(CV48,'Footnotes list'!$D$9:$E$58,2,FALSE) ) )","v":""},null,null,null,null,{"$f":"IF(TRIM(DA48)=\"\", \"\", IF(VLOOKUP(DA48,'Footnotes list'!$D$9:$E$58,2,FALSE)=0,\"\",VLOOKUP(DA48,'Footnotes list'!$D$9:$E$58,2,FALSE) ) )","v":""},null,null,null,null,{"$f":"IF(TRIM(DF48)=\"\", \"\", IF(VLOOKUP(DF48,'Footnotes list'!$D$9:$E$58,2,FALSE)=0,\"\",VLOOKUP(DF48,'Footnotes list'!$D$9:$E$58,2,FALSE) ) )","v":""},{"$f":"IF(AND(TRIM(G48)=\"\",TRIM(L48)=\"\",TRIM(BO48)=\"\",TRIM(BT48)=\"\",TRIM(CI48)=\"\",TRIM(CN48)=\"\",TRIM(CS48)=\"\",TRIM(CX48)=\"\",TRIM(DC48)=\"\"),\"\",SUM(G48,L48,BO48,BT48,CI48,CN48,CS48,CX48,DC48))","v":""},null,null,null,{"$f":"IF(TRIM(DK48)=\"\", \"\", IF(VLOOKUP(DK48,'Footnotes list'!$D$9:$E$58,2,FALSE)=0,\"\",VLOOKUP(DK48,'Footnotes list'!$D$9:$E$58,2,FALSE) ) )","v":""}]
[null,null,"W074",null,"HAZ_NHAZ","Total",{"$f":"IF(AND(TRIM(G47)=\"\",TRIM(G48)=\"\"),\"\",G47+G48)","v":""},null,null,null,{"$f":"IF(TRIM(J49)=\"\", \"\", IF(VLOOKUP(J49,'Footnotes list'!$D$9:$E$58,2,FALSE)=0,\"\",VLOOKUP(J49,'Footnotes list'!$D$9:$E$58,2,FALSE) ) )","v":""},{"$f":"IF(AND(TRIM(L47)=\"\",TRIM(L48)=\"\"),\"\",L47+L48)","v":""},null,null,null,{"$f":"IF(TRIM(O49)=\"\", \"\", IF(VLOOKUP(O49,'Footnotes list'!$D$9:$E$58,2,FALSE)=0,\"\",VLOOKUP(O49,'Footnotes list'!$D$9:$E$58,2,FALSE) ) )","v":""},{"$f":"IF(AND(TRIM(Q47)=\"\",TRIM(Q48)=\"\"),\"\",Q47+Q48)","v":""},null,null,null,{"$f":"IF(TRIM(T49)=\"\", \"\", IF(VLOOKUP(T49,'Footnotes list'!$D$9:$E$58,2,FALSE)=0,\"\",VLOOKUP(T49,'Footnotes list'!$D$9:$E$58,2,FALSE) ) )","v":""},{"$f":"IF(AND(TRIM(V47)=\"\",TRIM(V48)=\"\"),\"\",V47+V48)","v":""},null,null,null,{"$f":"IF(TRIM(Y49)=\"\", \"\", IF(VLOOKUP(Y49,'Footnotes list'!$D$9:$E$58,2,FALSE)=0,\"\",VLOOKUP(Y49,'Footnotes list'!$D$9:$E$58,2,FALSE) ) )","v":""},{"$f":"IF(AND(TRIM(AA47)=\"\",TRIM(AA48)=\"\"),\"\",AA47+AA48)","v":""},null,null,null,{"$f":"IF(TRIM(AD49)=\"\", \"\", IF(VLOOKUP(AD49,'Footnotes list'!$D$9:$E$58,2,FALSE)=0,\"\",VLOOKUP(AD49,'Footnotes list'!$D$9:$E$58,2,FALSE) ) )","v":""},{"$f":"IF(AND(TRIM(AF47)=\"\",TRIM(AF48)=\"\"),\"\",AF47+AF48)","v":""},null,null,null,{"$f":"IF(TRIM(AI49)=\"\", \"\", IF(VLOOKUP(AI49,'Footnotes list'!$D$9:$E$58,2,FALSE)=0,\"\",VLOOKUP(AI49,'Footnotes list'!$D$9:$E$58,2,FALSE) ) )","v":""},{"$f":"IF(AND(TRIM(AK47)=\"\",TRIM(AK48)=\"\"),\"\",AK47+AK48)","v":""},null,null,null,{"$f":"IF(TRIM(AN49)=\"\", \"\", IF(VLOOKUP(AN49,'Footnotes list'!$D$9:$E$58,2,FALSE)=0,\"\",VLOOKUP(AN49,'Footnotes list'!$D$9:$E$58,2,FALSE) ) )","v":""},{"$f":"IF(AND(TRIM(AP47)=\"\",TRIM(AP48)=\"\"),\"\",AP47+AP48)","v":""},null,null,null,{"$f":"IF(TRIM(AS49)=\"\", \"\", IF(VLOOKUP(AS49,'Footnotes list'!$D$9:$E$58,2,FALSE)=0,\"\",VLOOKUP(AS49,'Footnotes list'!$D$9:$E$58,2,FALSE) ) )","v":""},{"$f":"IF(AND(TRIM(AU47)=\"\",TRIM(AU48)=\"\"),\"\",AU47+AU48)","v":""},null,null,null,{"$f":"IF(TRIM(AX49)=\"\", \"\", IF(VLOOKUP(AX49,'Footnotes list'!$D$9:$E$58,2,FALSE)=0,\"\",VLOOKUP(AX49,'Footnotes list'!$D$9:$E$58,2,FALSE) ) )","v":""},{"$f":"IF(AND(TRIM(AZ47)=\"\",TRIM(AZ48)=\"\"),\"\",AZ47+AZ48)","v":""},null,null,null,{"$f":"IF(TRIM(BC49)=\"\", \"\", IF(VLOOKUP(BC49,'Footnotes list'!$D$9:$E$58,2,FALSE)=0,\"\",VLOOKUP(BC49,'Footnotes list'!$D$9:$E$58,2,FALSE) ) )","v":""},{"$f":"IF(AND(TRIM(BE47)=\"\",TRIM(BE48)=\"\"),\"\",BE47+BE48)","v":""},null,null,null,{"$f":"IF(TRIM(BH49)=\"\", \"\", IF(VLOOKUP(BH49,'Footnotes list'!$D$9:$E$58,2,FALSE)=0,\"\",VLOOKUP(BH49,'Footnotes list'!$D$9:$E$58,2,FALSE) ) )","v":""},{"$f":"IF(AND(TRIM(BJ47)=\"\",TRIM(BJ48)=\"\"),\"\",BJ47+BJ48)","v":""},null,null,null,{"$f":"IF(TRIM(BM49)=\"\", \"\", IF(VLOOKUP(BM49,'Footnotes list'!$D$9:$E$58,2,FALSE)=0,\"\",VLOOKUP(BM49,'Footnotes list'!$D$9:$E$58,2,FALSE) ) )","v":""},{"$f":"IF(AND(TRIM(BO47)=\"\", TRIM(BO48)=\"\"), \"\", (IF(ISNUMBER(BO47),BO47,0)+IF(ISNUMBER(BO48),BO48,0)))","v":""},null,null,null,{"$f":"IF(TRIM(BR49)=\"\", \"\", IF(VLOOKUP(BR49,'Footnotes list'!$D$9:$E$58,2,FALSE)=0,\"\",VLOOKUP(BR49,'Footnotes list'!$D$9:$E$58,2,FALSE) ) )","v":""},{"$f":"IF(AND(TRIM(BT47)=\"\",TRIM(BT48)=\"\"),\"\",BT47+BT48)","v":""},null,null,null,{"$f":"IF(TRIM(BW49)=\"\", \"\", IF(VLOOKUP(BW49,'Footnotes list'!$D$9:$E$58,2,FALSE)=0,\"\",VLOOKUP(BW49,'Footnotes list'!$D$9:$E$58,2,FALSE) ) )","v":""},{"$f":"IF(AND(TRIM(BY47)=\"\",TRIM(BY48)=\"\"),\"\",BY47+BY48)","v":""},null,null,null,{"$f":"IF(TRIM(CB49)=\"\", \"\", IF(VLOOKUP(CB49,'Footnotes list'!$D$9:$E$58,2,FALSE)=0,\"\",VLOOKUP(CB49,'Footnotes list'!$D$9:$E$58,2,FALSE) ) )","v":""},{"$f":"IF(AND(TRIM(CD47)=\"\",TRIM(CD48)=\"\"),\"\",CD47+CD48)","v":""},null,null,null,{"$f":"IF(TRIM(CG49)=\"\", \"\", IF(VLOOKUP(CG49,'Footnotes list'!$D$9:$E$58,2,FALSE)=0,\"\",VLOOKUP(CG49,'Footnotes list'!$D$9:$E$58,2,FALSE) ) )","v":""},{"$f":"IF(AND(TRIM(CI47)=\"\", TRIM(CI48)=\"\"), \"\", (IF(ISNUMBER(CI47),CI47,0)+IF(ISNUMBER(CI48),CI48,0)))","v":""},null,null,null,{"$f":"IF(TRIM(CL49)=\"\", \"\", IF(VLOOKUP(CL49,'Footnotes list'!$D$9:$E$58,2,FALSE)=0,\"\",VLOOKUP(CL49,'Footnotes list'!$D$9:$E$58,2,FALSE) ) )","v":""},{"$f":"IF(AND(TRIM(CN47)=\"\",TRIM(CN48)=\"\"),\"\",CN47+CN48)","v":""},null,null,null,{"$f":"IF(TRIM(CQ49)=\"\", \"\", IF(VLOOKUP(CQ49,'Footnotes list'!$D$9:$E$58,2,FALSE)=0,\"\",VLOOKUP(CQ49,'Footnotes list'!$D$9:$E$58,2,FALSE) ) )","v":""},{"$f":"IF(AND(TRIM(CS47)=\"\",TRIM(CS48)=\"\"),\"\",CS47+CS48)","v":""},null,null,null,{"$f":"IF(TRIM(CV49)=\"\", \"\", IF(VLOOKUP(CV49,'Footnotes list'!$D$9:$E$58,2,FALSE)=0,\"\",VLOOKUP(CV49,'Footnotes list'!$D$9:$E$58,2,FALSE) ) )","v":""},{"$f":"IF(AND(TRIM(CX47)=\"\",TRIM(CX48)=\"\"),\"\",CX47+CX48)","v":""},null,null,null,{"$f":"IF(TRIM(DA49)=\"\", \"\", IF(VLOOKUP(DA49,'Footnotes list'!$D$9:$E$58,2,FALSE)=0,\"\",VLOOKUP(DA49,'Footnotes list'!$D$9:$E$58,2,FALSE) ) )","v":""},{"$f":"IF(AND(TRIM(DC47)=\"\",TRIM(DC48)=\"\"),\"\",DC47+DC48)","v":""},null,null,null,{"$f":"IF(TRIM(DF49)=\"\", \"\", IF(VLOOKUP(DF49,'Footnotes list'!$D$9:$E$58,2,FALSE)=0,\"\",VLOOKUP(DF49,'Footnotes list'!$D$9:$E$58,2,FALSE) ) )","v":""},{"$f":"IF(AND(TRIM(DH47)=\"\", TRIM(DH48)=\"\"), \"\", SUM(DH47,DH48) )","v":""},null,null,null,{"$f":"IF(TRIM(DK49)=\"\", \"\", IF(VLOOKUP(DK49,'Footnotes list'!$D$9:$E$58,2,FALSE)=0,\"\",VLOOKUP(DK49,'Footnotes list'!$D$9:$E$58,2,FALSE) ) )","v":""}]
[null,"W075","W075","Wood wastes ","HAZ","Hazardous ",null,null,null,null,{"$f":"IF(TRIM(J50)=\"\", \"\", IF(VLOOKUP(J50,'Footnotes list'!$D$9:$E$58,2,FALSE)=0,\"\",VLOOKUP(J50,'Footnotes list'!$D$9:$E$58,2,FALSE) ) )","v":""},null,null,null,null,{"$f":"IF(TRIM(O50)=\"\", \"\", IF(VLOOKUP(O50,'Footnotes list'!$D$9:$E$58,2,FALSE)=0,\"\",VLOOKUP(O50,'Footnotes list'!$D$9:$E$58,2,FALSE) ) )","v":""},null,null,null,null,{"$f":"IF(TRIM(T50)=\"\", \"\", IF(VLOOKUP(T50,'Footnotes list'!$D$9:$E$58,2,FALSE)=0,\"\",VLOOKUP(T50,'Footnotes list'!$D$9:$E$58,2,FALSE) ) )","v":""},null,null,null,null,{"$f":"IF(TRIM(Y50)=\"\", \"\", IF(VLOOKUP(Y50,'Footnotes list'!$D$9:$E$58,2,FALSE)=0,\"\",VLOOKUP(Y50,'Footnotes list'!$D$9:$E$58,2,FALSE) ) )","v":""},null,null,null,null,{"$f":"IF(TRIM(AD50)=\"\", \"\", IF(VLOOKUP(AD50,'Footnotes list'!$D$9:$E$58,2,FALSE)=0,\"\",VLOOKUP(AD50,'Footnotes list'!$D$9:$E$58,2,FALSE) ) )","v":""},null,null,null,null,{"$f":"IF(TRIM(AI50)=\"\", \"\", IF(VLOOKUP(AI50,'Footnotes list'!$D$9:$E$58,2,FALSE)=0,\"\",VLOOKUP(AI50,'Footnotes list'!$D$9:$E$58,2,FALSE) ) )","v":""},null,null,null,null,{"$f":"IF(TRIM(AN50)=\"\", \"\", IF(VLOOKUP(AN50,'Footnotes list'!$D$9:$E$58,2,FALSE)=0,\"\",VLOOKUP(AN50,'Footnotes list'!$D$9:$E$58,2,FALSE) ) )","v":""},null,null,null,null,{"$f":"IF(TRIM(AS50)=\"\", \"\", IF(VLOOKUP(AS50,'Footnotes list'!$D$9:$E$58,2,FALSE)=0,\"\",VLOOKUP(AS50,'Footnotes list'!$D$9:$E$58,2,FALSE) ) )","v":""},null,null,null,null,{"$f":"IF(TRIM(AX50)=\"\", \"\", IF(VLOOKUP(AX50,'Footnotes list'!$D$9:$E$58,2,FALSE)=0,\"\",VLOOKUP(AX50,'Footnotes list'!$D$9:$E$58,2,FALSE) ) )","v":""},null,null,null,null,{"$f":"IF(TRIM(BC50)=\"\", \"\", IF(VLOOKUP(BC50,'Footnotes list'!$D$9:$E$58,2,FALSE)=0,\"\",VLOOKUP(BC50,'Footnotes list'!$D$9:$E$58,2,FALSE) ) )","v":""},null,null,null,null,{"$f":"IF(TRIM(BH50)=\"\", \"\", IF(VLOOKUP(BH50,'Footnotes list'!$D$9:$E$58,2,FALSE)=0,\"\",VLOOKUP(BH50,'Footnotes list'!$D$9:$E$58,2,FALSE) ) )","v":""},null,null,null,null,{"$f":"IF(TRIM(BM50)=\"\", \"\", IF(VLOOKUP(BM50,'Footnotes list'!$D$9:$E$58,2,FALSE)=0,\"\",VLOOKUP(BM50,'Footnotes list'!$D$9:$E$58,2,FALSE) ) )","v":""},{"$f":"IF(AND(TRIM(Q50)=\"\",TRIM(V50)=\"\",TRIM(AA50)=\"\", TRIM(AF50)=\"\", TRIM(AK50)=\"\", TRIM(AP50)=\"\", TRIM(AU50)=\"\", TRIM(AZ50)=\"\", TRIM(BE50)=\"\", TRIM(BJ50)=\"\"),\"\",Q50+V50+AA50+AF50+AK50+AP50+AU50+AZ50+BE50+BJ50)","v":""},null,null,null,{"$f":"IF(TRIM(BR50)=\"\", \"\", IF(VLOOKUP(BR50,'Footnotes list'!$D$9:$E$58,2,FALSE)=0,\"\",VLOOKUP(BR50,'Footnotes list'!$D$9:$E$58,2,FALSE) ) )","v":""},null,null,null,null,{"$f":"IF(TRIM(BW50)=\"\", \"\", IF(VLOOKUP(BW50,'Footnotes list'!$D$9:$E$58,2,FALSE)=0,\"\",VLOOKUP(BW50,'Footnotes list'!$D$9:$E$58,2,FALSE) ) )","v":""},null,null,null,null,{"$f":"IF(TRIM(CB50)=\"\", \"\", IF(VLOOKUP(CB50,'Footnotes list'!$D$9:$E$58,2,FALSE)=0,\"\",VLOOKUP(CB50,'Footnotes list'!$D$9:$E$58,2,FALSE) ) )","v":""},null,null,null,null,{"$f":"IF(TRIM(CG50)=\"\", \"\", IF(VLOOKUP(CG50,'Footnotes list'!$D$9:$E$58,2,FALSE)=0,\"\",VLOOKUP(CG50,'Footnotes list'!$D$9:$E$58,2,FALSE) ) )","v":""},{"$f":"IF(AND(TRIM(BY50)=\"\",TRIM(CD50)=\"\"),\"\",BY50+CD50)","v":""},null,null,null,{"$f":"IF(TRIM(CL50)=\"\", \"\", IF(VLOOKUP(CL50,'Footnotes list'!$D$9:$E$58,2,FALSE)=0,\"\",VLOOKUP(CL50,'Footnotes list'!$D$9:$E$58,2,FALSE) ) )","v":""},null,null,null,null,{"$f":"IF(TRIM(CQ50)=\"\", \"\", IF(VLOOKUP(CQ50,'Footnotes list'!$D$9:$E$58,2,FALSE)=0,\"\",VLOOKUP(CQ50,'Footnotes list'!$D$9:$E$58,2,FALSE) ) )","v":""},null,null,null,null,{"$f":"IF(TRIM(CV50)=\"\", \"\", IF(VLOOKUP(CV50,'Footnotes list'!$D$9:$E$58,2,FALSE)=0,\"\",VLOOKUP(CV50,'Footnotes list'!$D$9:$E$58,2,FALSE) ) )","v":""},null,null,null,null,{"$f":"IF(TRIM(DA50)=\"\", \"\", IF(VLOOKUP(DA50,'Footnotes list'!$D$9:$E$58,2,FALSE)=0,\"\",VLOOKUP(DA50,'Footnotes list'!$D$9:$E$58,2,FALSE) ) )","v":""},null,null,null,null,{"$f":"IF(TRIM(DF50)=\"\", \"\", IF(VLOOKUP(DF50,'Footnotes list'!$D$9:$E$58,2,FALSE)=0,\"\",VLOOKUP(DF50,'Footnotes list'!$D$9:$E$58,2,FALSE) ) )","v":""},{"$f":"IF(AND(TRIM(G50)=\"\",TRIM(L50)=\"\",TRIM(BO50)=\"\",TRIM(BT50)=\"\",TRIM(CI50)=\"\",TRIM(CN50)=\"\",TRIM(CS50)=\"\",TRIM(CX50)=\"\",TRIM(DC50)=\"\"),\"\",SUM(G50,L50,BO50,BT50,CI50,CN50,CS50,CX50,DC50))","v":""},null,null,null,{"$f":"IF(TRIM(DK50)=\"\", \"\", IF(VLOOKUP(DK50,'Footnotes list'!$D$9:$E$58,2,FALSE)=0,\"\",VLOOKUP(DK50,'Footnotes list'!$D$9:$E$58,2,FALSE) ) )","v":""}]
[null,null,"W075",null,"NHAZ","Non-hazardous",null,null,null,null,{"$f":"IF(TRIM(J51)=\"\", \"\", IF(VLOOKUP(J51,'Footnotes list'!$D$9:$E$58,2,FALSE)=0,\"\",VLOOKUP(J51,'Footnotes list'!$D$9:$E$58,2,FALSE) ) )","v":""},null,null,null,null,{"$f":"IF(TRIM(O51)=\"\", \"\", IF(VLOOKUP(O51,'Footnotes list'!$D$9:$E$58,2,FALSE)=0,\"\",VLOOKUP(O51,'Footnotes list'!$D$9:$E$58,2,FALSE) ) )","v":""},null,null,null,null,{"$f":"IF(TRIM(T51)=\"\", \"\", IF(VLOOKUP(T51,'Footnotes list'!$D$9:$E$58,2,FALSE)=0,\"\",VLOOKUP(T51,'Footnotes list'!$D$9:$E$58,2,FALSE) ) )","v":""},null,null,null,null,{"$f":"IF(TRIM(Y51)=\"\", \"\", IF(VLOOKUP(Y51,'Footnotes list'!$D$9:$E$58,2,FALSE)=0,\"\",VLOOKUP(Y51,'Footnotes list'!$D$9:$E$58,2,FALSE) ) )","v":""},null,null,null,null,{"$f":"IF(TRIM(AD51)=\"\", \"\", IF(VLOOKUP(AD51,'Footnotes list'!$D$9:$E$58,2,FALSE)=0,\"\",VLOOKUP(AD51,'Footnotes list'!$D$9:$E$58,2,FALSE) ) )","v":""},null,null,null,null,{"$f":"IF(TRIM(AI51)=\"\", \"\", IF(VLOOKUP(AI51,'Footnotes list'!$D$9:$E$58,2,FALSE)=0,\"\",VLOOKUP(AI51,'Footnotes list'!$D$9:$E$58,2,FALSE) ) )","v":""},null,null,null,null,{"$f":"IF(TRIM(AN51)=\"\", \"\", IF(VLOOKUP(AN51,'Footnotes list'!$D$9:$E$58,2,FALSE)=0,\"\",VLOOKUP(AN51,'Footnotes list'!$D$9:$E$58,2,FALSE) ) )","v":""},null,null,null,null,{"$f":"IF(TRIM(AS51)=\"\", \"\", IF(VLOOKUP(AS51,'Footnotes list'!$D$9:$E$58,2,FALSE)=0,\"\",VLOOKUP(AS51,'Footnotes list'!$D$9:$E$58,2,FALSE) ) )","v":""},null,null,null,null,{"$f":"IF(TRIM(AX51)=\"\", \"\", IF(VLOOKUP(AX51,'Footnotes list'!$D$9:$E$58,2,FALSE)=0,\"\",VLOOKUP(AX51,'Footnotes list'!$D$9:$E$58,2,FALSE) ) )","v":""},null,null,null,null,{"$f":"IF(TRIM(BC51)=\"\", \"\", IF(VLOOKUP(BC51,'Footnotes list'!$D$9:$E$58,2,FALSE)=0,\"\",VLOOKUP(BC51,'Footnotes list'!$D$9:$E$58,2,FALSE) ) )","v":""},null,null,null,null,{"$f":"IF(TRIM(BH51)=\"\", \"\", IF(VLOOKUP(BH51,'Footnotes list'!$D$9:$E$58,2,FALSE)=0,\"\",VLOOKUP(BH51,'Footnotes list'!$D$9:$E$58,2,FALSE) ) )","v":""},null,null,null,null,{"$f":"IF(TRIM(BM51)=\"\", \"\", IF(VLOOKUP(BM51,'Footnotes list'!$D$9:$E$58,2,FALSE)=0,\"\",VLOOKUP(BM51,'Footnotes list'!$D$9:$E$58,2,FALSE) ) )","v":""},{"$f":"IF(AND(TRIM(Q51)=\"\",TRIM(V51)=\"\",TRIM(AA51)=\"\", TRIM(AF51)=\"\", TRIM(AK51)=\"\", TRIM(AP51)=\"\", TRIM(AU51)=\"\", TRIM(AZ51)=\"\", TRIM(BE51)=\"\", TRIM(BJ51)=\"\"),\"\",Q51+V51+AA51+AF51+AK51+AP51+AU51+AZ51+BE51+BJ51)","v":""},null,null,null,{"$f":"IF(TRIM(BR51)=\"\", \"\", IF(VLOOKUP(BR51,'Footnotes list'!$D$9:$E$58,2,FALSE)=0,\"\",VLOOKUP(BR51,'Footnotes list'!$D$9:$E$58,2,FALSE) ) )","v":""},null,null,null,null,{"$f":"IF(TRIM(BW51)=\"\", \"\", IF(VLOOKUP(BW51,'Footnotes list'!$D$9:$E$58,2,FALSE)=0,\"\",VLOOKUP(BW51,'Footnotes list'!$D$9:$E$58,2,FALSE) ) )","v":""},null,null,null,null,{"$f":"IF(TRIM(CB51)=\"\", \"\", IF(VLOOKUP(CB51,'Footnotes list'!$D$9:$E$58,2,FALSE)=0,\"\",VLOOKUP(CB51,'Footnotes list'!$D$9:$E$58,2,FALSE) ) )","v":""},null,null,null,null,{"$f":"IF(TRIM(CG51)=\"\", \"\", IF(VLOOKUP(CG51,'Footnotes list'!$D$9:$E$58,2,FALSE)=0,\"\",VLOOKUP(CG51,'Footnotes list'!$D$9:$E$58,2,FALSE) ) )","v":""},{"$f":"IF(AND(TRIM(BY51)=\"\",TRIM(CD51)=\"\"),\"\",BY51+CD51)","v":""},null,null,null,{"$f":"IF(TRIM(CL51)=\"\", \"\", IF(VLOOKUP(CL51,'Footnotes list'!$D$9:$E$58,2,FALSE)=0,\"\",VLOOKUP(CL51,'Footnotes list'!$D$9:$E$58,2,FALSE) ) )","v":""},null,null,null,null,{"$f":"IF(TRIM(CQ51)=\"\", \"\", IF(VLOOKUP(CQ51,'Footnotes list'!$D$9:$E$58,2,FALSE)=0,\"\",VLOOKUP(CQ51,'Footnotes list'!$D$9:$E$58,2,FALSE) ) )","v":""},null,null,null,null,{"$f":"IF(TRIM(CV51)=\"\", \"\", IF(VLOOKUP(CV51,'Footnotes list'!$D$9:$E$58,2,FALSE)=0,\"\",VLOOKUP(CV51,'Footnotes list'!$D$9:$E$58,2,FALSE) ) )","v":""},null,null,null,null,{"$f":"IF(TRIM(DA51)=\"\", \"\", IF(VLOOKUP(DA51,'Footnotes list'!$D$9:$E$58,2,FALSE)=0,\"\",VLOOKUP(DA51,'Footnotes list'!$D$9:$E$58,2,FALSE) ) )","v":""},null,null,null,null,{"$f":"IF(TRIM(DF51)=\"\", \"\", IF(VLOOKUP(DF51,'Footnotes list'!$D$9:$E$58,2,FALSE)=0,\"\",VLOOKUP(DF51,'Footnotes list'!$D$9:$E$58,2,FALSE) ) )","v":""},{"$f":"IF(AND(TRIM(G51)=\"\",TRIM(L51)=\"\",TRIM(BO51)=\"\",TRIM(BT51)=\"\",TRIM(CI51)=\"\",TRIM(CN51)=\"\",TRIM(CS51)=\"\",TRIM(CX51)=\"\",TRIM(DC51)=\"\"),\"\",SUM(G51,L51,BO51,BT51,CI51,CN51,CS51,CX51,DC51))","v":""},null,null,null,{"$f":"IF(TRIM(DK51)=\"\", \"\", IF(VLOOKUP(DK51,'Footnotes list'!$D$9:$E$58,2,FALSE)=0,\"\",VLOOKUP(DK51,'Footnotes list'!$D$9:$E$58,2,FALSE) ) )","v":""}]
[null,null,"W075",null,"HAZ_NHAZ","Total",{"$f":"IF(AND(TRIM(G50)=\"\",TRIM(G51)=\"\"),\"\",G50+G51)","v":""},null,null,null,{"$f":"IF(TRIM(J52)=\"\", \"\", IF(VLOOKUP(J52,'Footnotes list'!$D$9:$E$58,2,FALSE)=0,\"\",VLOOKUP(J52,'Footnotes list'!$D$9:$E$58,2,FALSE) ) )","v":""},{"$f":"IF(AND(TRIM(L50)=\"\",TRIM(L51)=\"\"),\"\",L50+L51)","v":""},null,null,null,{"$f":"IF(TRIM(O52)=\"\", \"\", IF(VLOOKUP(O52,'Footnotes list'!$D$9:$E$58,2,FALSE)=0,\"\",VLOOKUP(O52,'Footnotes list'!$D$9:$E$58,2,FALSE) ) )","v":""},{"$f":"IF(AND(TRIM(Q50)=\"\",TRIM(Q51)=\"\"),\"\",Q50+Q51)","v":""},null,null,null,{"$f":"IF(TRIM(T52)=\"\", \"\", IF(VLOOKUP(T52,'Footnotes list'!$D$9:$E$58,2,FALSE)=0,\"\",VLOOKUP(T52,'Footnotes list'!$D$9:$E$58,2,FALSE) ) )","v":""},{"$f":"IF(AND(TRIM(V50)=\"\",TRIM(V51)=\"\"),\"\",V50+V51)","v":""},null,null,null,{"$f":"IF(TRIM(Y52)=\"\", \"\", IF(VLOOKUP(Y52,'Footnotes list'!$D$9:$E$58,2,FALSE)=0,\"\",VLOOKUP(Y52,'Footnotes list'!$D$9:$E$58,2,FALSE) ) )","v":""},{"$f":"IF(AND(TRIM(AA50)=\"\",TRIM(AA51)=\"\"),\"\",AA50+AA51)","v":""},null,null,null,{"$f":"IF(TRIM(AD52)=\"\", \"\", IF(VLOOKUP(AD52,'Footnotes list'!$D$9:$E$58,2,FALSE)=0,\"\",VLOOKUP(AD52,'Footnotes list'!$D$9:$E$58,2,FALSE) ) )","v":""},{"$f":"IF(AND(TRIM(AF50)=\"\",TRIM(AF51)=\"\"),\"\",AF50+AF51)","v":""},null,null,null,{"$f":"IF(TRIM(AI52)=\"\", \"\", IF(VLOOKUP(AI52,'Footnotes list'!$D$9:$E$58,2,FALSE)=0,\"\",VLOOKUP(AI52,'Footnotes list'!$D$9:$E$58,2,FALSE) ) )","v":""},{"$f":"IF(AND(TRIM(AK50)=\"\",TRIM(AK51)=\"\"),\"\",AK50+AK51)","v":""},null,null,null,{"$f":"IF(TRIM(AN52)=\"\", \"\", IF(VLOOKUP(AN52,'Footnotes list'!$D$9:$E$58,2,FALSE)=0,\"\",VLOOKUP(AN52,'Footnotes list'!$D$9:$E$58,2,FALSE) ) )","v":""},{"$f":"IF(AND(TRIM(AP50)=\"\",TRIM(AP51)=\"\"),\"\",AP50+AP51)","v":""},null,null,null,{"$f":"IF(TRIM(AS52)=\"\", \"\", IF(VLOOKUP(AS52,'Footnotes list'!$D$9:$E$58,2,FALSE)=0,\"\",VLOOKUP(AS52,'Footnotes list'!$D$9:$E$58,2,FALSE) ) )","v":""},{"$f":"IF(AND(TRIM(AU50)=\"\",TRIM(AU51)=\"\"),\"\",AU50+AU51)","v":""},null,null,null,{"$f":"IF(TRIM(AX52)=\"\", \"\", IF(VLOOKUP(AX52,'Footnotes list'!$D$9:$E$58,2,FALSE)=0,\"\",VLOOKUP(AX52,'Footnotes list'!$D$9:$E$58,2,FALSE) ) )","v":""},{"$f":"IF(AND(TRIM(AZ50)=\"\",TRIM(AZ51)=\"\"),\"\",AZ50+AZ51)","v":""},null,null,null,{"$f":"IF(TRIM(BC52)=\"\", \"\", IF(VLOOKUP(BC52,'Footnotes list'!$D$9:$E$58,2,FALSE)=0,\"\",VLOOKUP(BC52,'Footnotes list'!$D$9:$E$58,2,FALSE) ) )","v":""},{"$f":"IF(AND(TRIM(BE50)=\"\",TRIM(BE51)=\"\"),\"\",BE50+BE51)","v":""},null,null,null,{"$f":"IF(TRIM(BH52)=\"\", \"\", IF(VLOOKUP(BH52,'Footnotes list'!$D$9:$E$58,2,FALSE)=0,\"\",VLOOKUP(BH52,'Footnotes list'!$D$9:$E$58,2,FALSE) ) )","v":""},{"$f":"IF(AND(TRIM(BJ50)=\"\",TRIM(BJ51)=\"\"),\"\",BJ50+BJ51)","v":""},null,null,null,{"$f":"IF(TRIM(BM52)=\"\", \"\", IF(VLOOKUP(BM52,'Footnotes list'!$D$9:$E$58,2,FALSE)=0,\"\",VLOOKUP(BM52,'Footnotes list'!$D$9:$E$58,2,FALSE) ) )","v":""},{"$f":"IF(AND(TRIM(BO50)=\"\", TRIM(BO51)=\"\"), \"\", (IF(ISNUMBER(BO50),BO50,0)+IF(ISNUMBER(BO51),BO51,0)))","v":""},null,null,null,{"$f":"IF(TRIM(BR52)=\"\", \"\", IF(VLOOKUP(BR52,'Footnotes list'!$D$9:$E$58,2,FALSE)=0,\"\",VLOOKUP(BR52,'Footnotes list'!$D$9:$E$58,2,FALSE) ) )","v":""},{"$f":"IF(AND(TRIM(BT50)=\"\",TRIM(BT51)=\"\"),\"\",BT50+BT51)","v":""},null,null,null,{"$f":"IF(TRIM(BW52)=\"\", \"\", IF(VLOOKUP(BW52,'Footnotes list'!$D$9:$E$58,2,FALSE)=0,\"\",VLOOKUP(BW52,'Footnotes list'!$D$9:$E$58,2,FALSE) ) )","v":""},{"$f":"IF(AND(TRIM(BY50)=\"\",TRIM(BY51)=\"\"),\"\",BY50+BY51)","v":""},null,null,null,{"$f":"IF(TRIM(CB52)=\"\", \"\", IF(VLOOKUP(CB52,'Footnotes list'!$D$9:$E$58,2,FALSE)=0,\"\",VLOOKUP(CB52,'Footnotes list'!$D$9:$E$58,2,FALSE) ) )","v":""},{"$f":"IF(AND(TRIM(CD50)=\"\",TRIM(CD51)=\"\"),\"\",CD50+CD51)","v":""},null,null,null,{"$f":"IF(TRIM(CG52)=\"\", \"\", IF(VLOOKUP(CG52,'Footnotes list'!$D$9:$E$58,2,FALSE)=0,\"\",VLOOKUP(CG52,'Footnotes list'!$D$9:$E$58,2,FALSE) ) )","v":""},{"$f":"IF(AND(TRIM(CI50)=\"\", TRIM(CI51)=\"\"), \"\", (IF(ISNUMBER(CI50),CI50,0)+IF(ISNUMBER(CI51),CI51,0)))","v":""},null,null,null,{"$f":"IF(TRIM(CL52)=\"\", \"\", IF(VLOOKUP(CL52,'Footnotes list'!$D$9:$E$58,2,FALSE)=0,\"\",VLOOKUP(CL52,'Footnotes list'!$D$9:$E$58,2,FALSE) ) )","v":""},{"$f":"IF(AND(TRIM(CN50)=\"\",TRIM(CN51)=\"\"),\"\",CN50+CN51)","v":""},null,null,null,{"$f":"IF(TRIM(CQ52)=\"\", \"\", IF(VLOOKUP(CQ52,'Footnotes list'!$D$9:$E$58,2,FALSE)=0,\"\",VLOOKUP(CQ52,'Footnotes list'!$D$9:$E$58,2,FALSE) ) )","v":""},{"$f":"IF(AND(TRIM(CS50)=\"\",TRIM(CS51)=\"\"),\"\",CS50+CS51)","v":""},null,null,null,{"$f":"IF(TRIM(CV52)=\"\", \"\", IF(VLOOKUP(CV52,'Footnotes list'!$D$9:$E$58,2,FALSE)=0,\"\",VLOOKUP(CV52,'Footnotes list'!$D$9:$E$58,2,FALSE) ) )","v":""},{"$f":"IF(AND(TRIM(CX50)=\"\",TRIM(CX51)=\"\"),\"\",CX50+CX51)","v":""},null,null,null,{"$f":"IF(TRIM(DA52)=\"\", \"\", IF(VLOOKUP(DA52,'Footnotes list'!$D$9:$E$58,2,FALSE)=0,\"\",VLOOKUP(DA52,'Footnotes list'!$D$9:$E$58,2,FALSE) ) )","v":""},{"$f":"IF(AND(TRIM(DC50)=\"\",TRIM(DC51)=\"\"),\"\",DC50+DC51)","v":""},null,null,null,{"$f":"IF(TRIM(DF52)=\"\", \"\", IF(VLOOKUP(DF52,'Footnotes list'!$D$9:$E$58,2,FALSE)=0,\"\",VLOOKUP(DF52,'Footnotes list'!$D$9:$E$58,2,FALSE) ) )","v":""},{"$f":"IF(AND(TRIM(DH50)=\"\", TRIM(DH51)=\"\"), \"\", SUM(DH50,DH51) )","v":""},null,null,null,{"$f":"IF(TRIM(DK52)=\"\", \"\", IF(VLOOKUP(DK52,'Footnotes list'!$D$9:$E$58,2,FALSE)=0,\"\",VLOOKUP(DK52,'Footnotes list'!$D$9:$E$58,2,FALSE) ) )","v":""}]
[null,"W076",null,"Textile wastes ",null,"Not applicable"]
[null,null,"W076",null,"NHAZ","Non-hazardous",null,null,null,null,{"$f":"IF(TRIM(J54)=\"\", \"\", IF(VLOOKUP(J54,'Footnotes list'!$D$9:$E$58,2,FALSE)=0,\"\",VLOOKUP(J54,'Footnotes list'!$D$9:$E$58,2,FALSE) ) )","v":""},null,null,null,null,{"$f":"IF(TRIM(O54)=\"\", \"\", IF(VLOOKUP(O54,'Footnotes list'!$D$9:$E$58,2,FALSE)=0,\"\",VLOOKUP(O54,'Footnotes list'!$D$9:$E$58,2,FALSE) ) )","v":""},null,null,null,null,{"$f":"IF(TRIM(T54)=\"\", \"\", IF(VLOOKUP(T54,'Footnotes list'!$D$9:$E$58,2,FALSE)=0,\"\",VLOOKUP(T54,'Footnotes list'!$D$9:$E$58,2,FALSE) ) )","v":""},null,null,null,null,{"$f":"IF(TRIM(Y54)=\"\", \"\", IF(VLOOKUP(Y54,'Footnotes list'!$D$9:$E$58,2,FALSE)=0,\"\",VLOOKUP(Y54,'Footnotes list'!$D$9:$E$58,2,FALSE) ) )","v":""},null,null,null,null,{"$f":"IF(TRIM(AD54)=\"\", \"\", IF(VLOOKUP(AD54,'Footnotes list'!$D$9:$E$58,2,FALSE)=0,\"\",VLOOKUP(AD54,'Footnotes list'!$D$9:$E$58,2,FALSE) ) )","v":""},null,null,null,null,{"$f":"IF(TRIM(AI54)=\"\", \"\", IF(VLOOKUP(AI54,'Footnotes list'!$D$9:$E$58,2,FALSE)=0,\"\",VLOOKUP(AI54,'Footnotes list'!$D$9:$E$58,2,FALSE) ) )","v":""},null,null,null,null,{"$f":"IF(TRIM(AN54)=\"\", \"\", IF(VLOOKUP(AN54,'Footnotes list'!$D$9:$E$58,2,FALSE)=0,\"\",VLOOKUP(AN54,'Footnotes list'!$D$9:$E$58,2,FALSE) ) )","v":""},null,null,null,null,{"$f":"IF(TRIM(AS54)=\"\", \"\", IF(VLOOKUP(AS54,'Footnotes list'!$D$9:$E$58,2,FALSE)=0,\"\",VLOOKUP(AS54,'Footnotes list'!$D$9:$E$58,2,FALSE) ) )","v":""},null,null,null,null,{"$f":"IF(TRIM(AX54)=\"\", \"\", IF(VLOOKUP(AX54,'Footnotes list'!$D$9:$E$58,2,FALSE)=0,\"\",VLOOKUP(AX54,'Footnotes list'!$D$9:$E$58,2,FALSE) ) )","v":""},null,null,null,null,{"$f":"IF(TRIM(BC54)=\"\", \"\", IF(VLOOKUP(BC54,'Footnotes list'!$D$9:$E$58,2,FALSE)=0,\"\",VLOOKUP(BC54,'Footnotes list'!$D$9:$E$58,2,FALSE) ) )","v":""},null,null,null,null,{"$f":"IF(TRIM(BH54)=\"\", \"\", IF(VLOOKUP(BH54,'Footnotes list'!$D$9:$E$58,2,FALSE)=0,\"\",VLOOKUP(BH54,'Footnotes list'!$D$9:$E$58,2,FALSE) ) )","v":""},null,null,null,null,{"$f":"IF(TRIM(BM54)=\"\", \"\", IF(VLOOKUP(BM54,'Footnotes list'!$D$9:$E$58,2,FALSE)=0,\"\",VLOOKUP(BM54,'Footnotes list'!$D$9:$E$58,2,FALSE) ) )","v":""},{"$f":"IF(AND(TRIM(Q54)=\"\",TRIM(V54)=\"\",TRIM(AA54)=\"\", TRIM(AF54)=\"\", TRIM(AK54)=\"\", TRIM(AP54)=\"\", TRIM(AU54)=\"\", TRIM(AZ54)=\"\", TRIM(BE54)=\"\", TRIM(BJ54)=\"\"),\"\",Q54+V54+AA54+AF54+AK54+AP54+AU54+AZ54+BE54+BJ54)","v":""},null,null,null,{"$f":"IF(TRIM(BR54)=\"\", \"\", IF(VLOOKUP(BR54,'Footnotes list'!$D$9:$E$58,2,FALSE)=0,\"\",VLOOKUP(BR54,'Footnotes list'!$D$9:$E$58,2,FALSE) ) )","v":""},null,null,null,null,{"$f":"IF(TRIM(BW54)=\"\", \"\", IF(VLOOKUP(BW54,'Footnotes list'!$D$9:$E$58,2,FALSE)=0,\"\",VLOOKUP(BW54,'Footnotes list'!$D$9:$E$58,2,FALSE) ) )","v":""},null,null,null,null,{"$f":"IF(TRIM(CB54)=\"\", \"\", IF(VLOOKUP(CB54,'Footnotes list'!$D$9:$E$58,2,FALSE)=0,\"\",VLOOKUP(CB54,'Footnotes list'!$D$9:$E$58,2,FALSE) ) )","v":""},null,null,null,null,{"$f":"IF(TRIM(CG54)=\"\", \"\", IF(VLOOKUP(CG54,'Footnotes list'!$D$9:$E$58,2,FALSE)=0,\"\",VLOOKUP(CG54,'Footnotes list'!$D$9:$E$58,2,FALSE) ) )","v":""},{"$f":"IF(AND(TRIM(BY54)=\"\",TRIM(CD54)=\"\"),\"\",BY54+CD54)","v":""},null,null,null,{"$f":"IF(TRIM(CL54)=\"\", \"\", IF(VLOOKUP(CL54,'Footnotes list'!$D$9:$E$58,2,FALSE)=0,\"\",VLOOKUP(CL54,'Footnotes list'!$D$9:$E$58,2,FALSE) ) )","v":""},null,null,null,null,{"$f":"IF(TRIM(CQ54)=\"\", \"\", IF(VLOOKUP(CQ54,'Footnotes list'!$D$9:$E$58,2,FALSE)=0,\"\",VLOOKUP(CQ54,'Footnotes list'!$D$9:$E$58,2,FALSE) ) )","v":""},null,null,null,null,{"$f":"IF(TRIM(CV54)=\"\", \"\", IF(VLOOKUP(CV54,'Footnotes list'!$D$9:$E$58,2,FALSE)=0,\"\",VLOOKUP(CV54,'Footnotes list'!$D$9:$E$58,2,FALSE) ) )","v":""},null,null,null,null,{"$f":"IF(TRIM(DA54)=\"\", \"\", IF(VLOOKUP(DA54,'Footnotes list'!$D$9:$E$58,2,FALSE)=0,\"\",VLOOKUP(DA54,'Footnotes list'!$D$9:$E$58,2,FALSE) ) )","v":""},null,null,null,null,{"$f":"IF(TRIM(DF54)=\"\", \"\", IF(VLOOKUP(DF54,'Footnotes list'!$D$9:$E$58,2,FALSE)=0,\"\",VLOOKUP(DF54,'Footnotes list'!$D$9:$E$58,2,FALSE) ) )","v":""},{"$f":"IF(AND(TRIM(G54)=\"\",TRIM(L54)=\"\",TRIM(BO54)=\"\",TRIM(BT54)=\"\",TRIM(CI54)=\"\",TRIM(CN54)=\"\",TRIM(CS54)=\"\",TRIM(CX54)=\"\",TRIM(DC54)=\"\"),\"\",SUM(G54,L54,BO54,BT54,CI54,CN54,CS54,CX54,DC54))","v":""},null,null,null,{"$f":"IF(TRIM(DK54)=\"\", \"\", IF(VLOOKUP(DK54,'Footnotes list'!$D$9:$E$58,2,FALSE)=0,\"\",VLOOKUP(DK54,'Footnotes list'!$D$9:$E$58,2,FALSE) ) )","v":""}]
[null,null,"W076",null,"HAZ_NHAZ","Total",{"$f":"IF(AND(TRIM(G53)=\"\",TRIM(G54)=\"\"),\"\",G53+G54)","v":""},null,null,null,{"$f":"IF(TRIM(J55)=\"\", \"\", IF(VLOOKUP(J55,'Footnotes list'!$D$9:$E$58,2,FALSE)=0,\"\",VLOOKUP(J55,'Footnotes list'!$D$9:$E$58,2,FALSE) ) )","v":""},{"$f":"IF(AND(TRIM(L53)=\"\",TRIM(L54)=\"\"),\"\",L53+L54)","v":""},null,null,null,{"$f":"IF(TRIM(O55)=\"\", \"\", IF(VLOOKUP(O55,'Footnotes list'!$D$9:$E$58,2,FALSE)=0,\"\",VLOOKUP(O55,'Footnotes list'!$D$9:$E$58,2,FALSE) ) )","v":""},{"$f":"IF(AND(TRIM(Q53)=\"\",TRIM(Q54)=\"\"),\"\",Q53+Q54)","v":""},null,null,null,{"$f":"IF(TRIM(T55)=\"\", \"\", IF(VLOOKUP(T55,'Footnotes list'!$D$9:$E$58,2,FALSE)=0,\"\",VLOOKUP(T55,'Footnotes list'!$D$9:$E$58,2,FALSE) ) )","v":""},{"$f":"IF(AND(TRIM(V53)=\"\",TRIM(V54)=\"\"),\"\",V53+V54)","v":""},null,null,null,{"$f":"IF(TRIM(Y55)=\"\", \"\", IF(VLOOKUP(Y55,'Footnotes list'!$D$9:$E$58,2,FALSE)=0,\"\",VLOOKUP(Y55,'Footnotes list'!$D$9:$E$58,2,FALSE) ) )","v":""},{"$f":"IF(AND(TRIM(AA53)=\"\",TRIM(AA54)=\"\"),\"\",AA53+AA54)","v":""},null,null,null,{"$f":"IF(TRIM(AD55)=\"\", \"\", IF(VLOOKUP(AD55,'Footnotes list'!$D$9:$E$58,2,FALSE)=0,\"\",VLOOKUP(AD55,'Footnotes list'!$D$9:$E$58,2,FALSE) ) )","v":""},{"$f":"IF(AND(TRIM(AF53)=\"\",TRIM(AF54)=\"\"),\"\",AF53+AF54)","v":""},null,null,null,{"$f":"IF(TRIM(AI55)=\"\", \"\", IF(VLOOKUP(AI55,'Footnotes list'!$D$9:$E$58,2,FALSE)=0,\"\",VLOOKUP(AI55,'Footnotes list'!$D$9:$E$58,2,FALSE) ) )","v":""},{"$f":"IF(AND(TRIM(AK53)=\"\",TRIM(AK54)=\"\"),\"\",AK53+AK54)","v":""},null,null,null,{"$f":"IF(TRIM(AN55)=\"\", \"\", IF(VLOOKUP(AN55,'Footnotes list'!$D$9:$E$58,2,FALSE)=0,\"\",VLOOKUP(AN55,'Footnotes list'!$D$9:$E$58,2,FALSE) ) )","v":""},{"$f":"IF(AND(TRIM(AP53)=\"\",TRIM(AP54)=\"\"),\"\",AP53+AP54)","v":""},null,null,null,{"$f":"IF(TRIM(AS55)=\"\", \"\", IF(VLOOKUP(AS55,'Footnotes list'!$D$9:$E$58,2,FALSE)=0,\"\",VLOOKUP(AS55,'Footnotes list'!$D$9:$E$58,2,FALSE) ) )","v":""},{"$f":"IF(AND(TRIM(AU53)=\"\",TRIM(AU54)=\"\"),\"\",AU53+AU54)","v":""},null,null,null,{"$f":"IF(TRIM(AX55)=\"\", \"\", IF(VLOOKUP(AX55,'Footnotes list'!$D$9:$E$58,2,FALSE)=0,\"\",VLOOKUP(AX55,'Footnotes list'!$D$9:$E$58,2,FALSE) ) )","v":""},{"$f":"IF(AND(TRIM(AZ53)=\"\",TRIM(AZ54)=\"\"),\"\",AZ53+AZ54)","v":""},null,null,null,{"$f":"IF(TRIM(BC55)=\"\", \"\", IF(VLOOKUP(BC55,'Footnotes list'!$D$9:$E$58,2,FALSE)=0,\"\",VLOOKUP(BC55,'Footnotes list'!$D$9:$E$58,2,FALSE) ) )","v":""},{"$f":"IF(AND(TRIM(BE53)=\"\",TRIM(BE54)=\"\"),\"\",BE53+BE54)","v":""},null,null,null,{"$f":"IF(TRIM(BH55)=\"\", \"\", IF(VLOOKUP(BH55,'Footnotes list'!$D$9:$E$58,2,FALSE)=0,\"\",VLOOKUP(BH55,'Footnotes list'!$D$9:$E$58,2,FALSE) ) )","v":""},{"$f":"IF(AND(TRIM(BJ53)=\"\",TRIM(BJ54)=\"\"),\"\",BJ53+BJ54)","v":""},null,null,null,{"$f":"IF(TRIM(BM55)=\"\", \"\", IF(VLOOKUP(BM55,'Footnotes list'!$D$9:$E$58,2,FALSE)=0,\"\",VLOOKUP(BM55,'Footnotes list'!$D$9:$E$58,2,FALSE) ) )","v":""},{"$f":"IF(AND(TRIM(BO53)=\"\", TRIM(BO54)=\"\"), \"\", (IF(ISNUMBER(BO53),BO53,0)+IF(ISNUMBER(BO54),BO54,0)))","v":""},null,null,null,{"$f":"IF(TRIM(BR55)=\"\", \"\", IF(VLOOKUP(BR55,'Footnotes list'!$D$9:$E$58,2,FALSE)=0,\"\",VLOOKUP(BR55,'Footnotes list'!$D$9:$E$58,2,FALSE) ) )","v":""},{"$f":"IF(AND(TRIM(BT53)=\"\",TRIM(BT54)=\"\"),\"\",BT53+BT54)","v":""},null,null,null,{"$f":"IF(TRIM(BW55)=\"\", \"\", IF(VLOOKUP(BW55,'Footnotes list'!$D$9:$E$58,2,FALSE)=0,\"\",VLOOKUP(BW55,'Footnotes list'!$D$9:$E$58,2,FALSE) ) )","v":""},{"$f":"IF(AND(TRIM(BY53)=\"\",TRIM(BY54)=\"\"),\"\",BY53+BY54)","v":""},null,null,null,{"$f":"IF(TRIM(CB55)=\"\", \"\", IF(VLOOKUP(CB55,'Footnotes list'!$D$9:$E$58,2,FALSE)=0,\"\",VLOOKUP(CB55,'Footnotes list'!$D$9:$E$58,2,FALSE) ) )","v":""},{"$f":"IF(AND(TRIM(CD53)=\"\",TRIM(CD54)=\"\"),\"\",CD53+CD54)","v":""},null,null,null,{"$f":"IF(TRIM(CG55)=\"\", \"\", IF(VLOOKUP(CG55,'Footnotes list'!$D$9:$E$58,2,FALSE)=0,\"\",VLOOKUP(CG55,'Footnotes list'!$D$9:$E$58,2,FALSE) ) )","v":""},{"$f":"IF(AND(TRIM(CI53)=\"\", TRIM(CI54)=\"\"), \"\", (IF(ISNUMBER(CI53),CI53,0)+IF(ISNUMBER(CI54),CI54,0)))","v":""},null,null,null,{"$f":"IF(TRIM(CL55)=\"\", \"\", IF(VLOOKUP(CL55,'Footnotes list'!$D$9:$E$58,2,FALSE)=0,\"\",VLOOKUP(CL55,'Footnotes list'!$D$9:$E$58,2,FALSE) ) )","v":""},{"$f":"IF(AND(TRIM(CN53)=\"\",TRIM(CN54)=\"\"),\"\",CN53+CN54)","v":""},null,null,null,{"$f":"IF(TRIM(CQ55)=\"\", \"\", IF(VLOOKUP(CQ55,'Footnotes list'!$D$9:$E$58,2,FALSE)=0,\"\",VLOOKUP(CQ55,'Footnotes list'!$D$9:$E$58,2,FALSE) ) )","v":""},{"$f":"IF(AND(TRIM(CS53)=\"\",TRIM(CS54)=\"\"),\"\",CS53+CS54)","v":""},null,null,null,{"$f":"IF(TRIM(CV55)=\"\", \"\", IF(VLOOKUP(CV55,'Footnotes list'!$D$9:$E$58,2,FALSE)=0,\"\",VLOOKUP(CV55,'Footnotes list'!$D$9:$E$58,2,FALSE) ) )","v":""},{"$f":"IF(AND(TRIM(CX53)=\"\",TRIM(CX54)=\"\"),\"\",CX53+CX54)","v":""},null,null,null,{"$f":"IF(TRIM(DA55)=\"\", \"\", IF(VLOOKUP(DA55,'Footnotes list'!$D$9:$E$58,2,FALSE)=0,\"\",VLOOKUP(DA55,'Footnotes list'!$D$9:$E$58,2,FALSE) ) )","v":""},{"$f":"IF(AND(TRIM(DC53)=\"\",TRIM(DC54)=\"\"),\"\",DC53+DC54)","v":""},null,null,null,{"$f":"IF(TRIM(DF55)=\"\", \"\", IF(VLOOKUP(DF55,'Footnotes list'!$D$9:$E$58,2,FALSE)=0,\"\",VLOOKUP(DF55,'Footnotes list'!$D$9:$E$58,2,FALSE) ) )","v":""},{"$f":"IF(AND(TRIM(DH53)=\"\", TRIM(DH54)=\"\"), \"\", SUM(DH53,DH54) )","v":""},null,null,null,{"$f":"IF(TRIM(DK55)=\"\", \"\", IF(VLOOKUP(DK55,'Footnotes list'!$D$9:$E$58,2,FALSE)=0,\"\",VLOOKUP(DK55,'Footnotes list'!$D$9:$E$58,2,FALSE) ) )","v":""}]
[null,"W077","W077","Waste containing PCB ","HAZ","Hazardous ",null,null,null,null,{"$f":"IF(TRIM(J56)=\"\", \"\", IF(VLOOKUP(J56,'Footnotes list'!$D$9:$E$58,2,FALSE)=0,\"\",VLOOKUP(J56,'Footnotes list'!$D$9:$E$58,2,FALSE) ) )","v":""},null,null,null,null,{"$f":"IF(TRIM(O56)=\"\", \"\", IF(VLOOKUP(O56,'Footnotes list'!$D$9:$E$58,2,FALSE)=0,\"\",VLOOKUP(O56,'Footnotes list'!$D$9:$E$58,2,FALSE) ) )","v":""},null,null,null,null,{"$f":"IF(TRIM(T56)=\"\", \"\", IF(VLOOKUP(T56,'Footnotes list'!$D$9:$E$58,2,FALSE)=0,\"\",VLOOKUP(T56,'Footnotes list'!$D$9:$E$58,2,FALSE) ) )","v":""},null,null,null,null,{"$f":"IF(TRIM(Y56)=\"\", \"\", IF(VLOOKUP(Y56,'Footnotes list'!$D$9:$E$58,2,FALSE)=0,\"\",VLOOKUP(Y56,'Footnotes list'!$D$9:$E$58,2,FALSE) ) )","v":""},null,null,null,null,{"$f":"IF(TRIM(AD56)=\"\", \"\", IF(VLOOKUP(AD56,'Footnotes list'!$D$9:$E$58,2,FALSE)=0,\"\",VLOOKUP(AD56,'Footnotes list'!$D$9:$E$58,2,FALSE) ) )","v":""},null,null,null,null,{"$f":"IF(TRIM(AI56)=\"\", \"\", IF(VLOOKUP(AI56,'Footnotes list'!$D$9:$E$58,2,FALSE)=0,\"\",VLOOKUP(AI56,'Footnotes list'!$D$9:$E$58,2,FALSE) ) )","v":""},null,null,null,null,{"$f":"IF(TRIM(AN56)=\"\", \"\", IF(VLOOKUP(AN56,'Footnotes list'!$D$9:$E$58,2,FALSE)=0,\"\",VLOOKUP(AN56,'Footnotes list'!$D$9:$E$58,2,FALSE) ) )","v":""},null,null,null,null,{"$f":"IF(TRIM(AS56)=\"\", \"\", IF(VLOOKUP(AS56,'Footnotes list'!$D$9:$E$58,2,FALSE)=0,\"\",VLOOKUP(AS56,'Footnotes list'!$D$9:$E$58,2,FALSE) ) )","v":""},null,null,null,null,{"$f":"IF(TRIM(AX56)=\"\", \"\", IF(VLOOKUP(AX56,'Footnotes list'!$D$9:$E$58,2,FALSE)=0,\"\",VLOOKUP(AX56,'Footnotes list'!$D$9:$E$58,2,FALSE) ) )","v":""},null,null,null,null,{"$f":"IF(TRIM(BC56)=\"\", \"\", IF(VLOOKUP(BC56,'Footnotes list'!$D$9:$E$58,2,FALSE)=0,\"\",VLOOKUP(BC56,'Footnotes list'!$D$9:$E$58,2,FALSE) ) )","v":""},null,null,null,null,{"$f":"IF(TRIM(BH56)=\"\", \"\", IF(VLOOKUP(BH56,'Footnotes list'!$D$9:$E$58,2,FALSE)=0,\"\",VLOOKUP(BH56,'Footnotes list'!$D$9:$E$58,2,FALSE) ) )","v":""},null,null,null,null,{"$f":"IF(TRIM(BM56)=\"\", \"\", IF(VLOOKUP(BM56,'Footnotes list'!$D$9:$E$58,2,FALSE)=0,\"\",VLOOKUP(BM56,'Footnotes list'!$D$9:$E$58,2,FALSE) ) )","v":""},{"$f":"IF(AND(TRIM(Q56)=\"\",TRIM(V56)=\"\",TRIM(AA56)=\"\", TRIM(AF56)=\"\", TRIM(AK56)=\"\", TRIM(AP56)=\"\", TRIM(AU56)=\"\", TRIM(AZ56)=\"\", TRIM(BE56)=\"\", TRIM(BJ56)=\"\"),\"\",Q56+V56+AA56+AF56+AK56+AP56+AU56+AZ56+BE56+BJ56)","v":""},null,null,null,{"$f":"IF(TRIM(BR56)=\"\", \"\", IF(VLOOKUP(BR56,'Footnotes list'!$D$9:$E$58,2,FALSE)=0,\"\",VLOOKUP(BR56,'Footnotes list'!$D$9:$E$58,2,FALSE) ) )","v":""},null,null,null,null,{"$f":"IF(TRIM(BW56)=\"\", \"\", IF(VLOOKUP(BW56,'Footnotes list'!$D$9:$E$58,2,FALSE)=0,\"\",VLOOKUP(BW56,'Footnotes list'!$D$9:$E$58,2,FALSE) ) )","v":""},null,null,null,null,{"$f":"IF(TRIM(CB56)=\"\", \"\", IF(VLOOKUP(CB56,'Footnotes list'!$D$9:$E$58,2,FALSE)=0,\"\",VLOOKUP(CB56,'Footnotes list'!$D$9:$E$58,2,FALSE) ) )","v":""},null,null,null,null,{"$f":"IF(TRIM(CG56)=\"\", \"\", IF(VLOOKUP(CG56,'Footnotes list'!$D$9:$E$58,2,FALSE)=0,\"\",VLOOKUP(CG56,'Footnotes list'!$D$9:$E$58,2,FALSE) ) )","v":""},{"$f":"IF(AND(TRIM(BY56)=\"\",TRIM(CD56)=\"\"),\"\",BY56+CD56)","v":""},null,null,null,{"$f":"IF(TRIM(CL56)=\"\", \"\", IF(VLOOKUP(CL56,'Footnotes list'!$D$9:$E$58,2,FALSE)=0,\"\",VLOOKUP(CL56,'Footnotes list'!$D$9:$E$58,2,FALSE) ) )","v":""},null,null,null,null,{"$f":"IF(TRIM(CQ56)=\"\", \"\", IF(VLOOKUP(CQ56,'Footnotes list'!$D$9:$E$58,2,FALSE)=0,\"\",VLOOKUP(CQ56,'Footnotes list'!$D$9:$E$58,2,FALSE) ) )","v":""},null,null,null,null,{"$f":"IF(TRIM(CV56)=\"\", \"\", IF(VLOOKUP(CV56,'Footnotes list'!$D$9:$E$58,2,FALSE)=0,\"\",VLOOKUP(CV56,'Footnotes list'!$D$9:$E$58,2,FALSE) ) )","v":""},null,null,null,null,{"$f":"IF(TRIM(DA56)=\"\", \"\", IF(VLOOKUP(DA56,'Footnotes list'!$D$9:$E$58,2,FALSE)=0,\"\",VLOOKUP(DA56,'Footnotes list'!$D$9:$E$58,2,FALSE) ) )","v":""},null,null,null,null,{"$f":"IF(TRIM(DF56)=\"\", \"\", IF(VLOOKUP(DF56,'Footnotes list'!$D$9:$E$58,2,FALSE)=0,\"\",VLOOKUP(DF56,'Footnotes list'!$D$9:$E$58,2,FALSE) ) )","v":""},{"$f":"IF(AND(TRIM(G56)=\"\",TRIM(L56)=\"\",TRIM(BO56)=\"\",TRIM(BT56)=\"\",TRIM(CI56)=\"\",TRIM(CN56)=\"\",TRIM(CS56)=\"\",TRIM(CX56)=\"\",TRIM(DC56)=\"\"),\"\",SUM(G56,L56,BO56,BT56,CI56,CN56,CS56,CX56,DC56))","v":""},null,null,null,{"$f":"IF(TRIM(DK56)=\"\", \"\", IF(VLOOKUP(DK56,'Footnotes list'!$D$9:$E$58,2,FALSE)=0,\"\",VLOOKUP(DK56,'Footnotes list'!$D$9:$E$58,2,FALSE) ) )","v":""}]
[null,null,null,null,null,"Not applicable"]
[null,null,"W077",null,"HAZ_NHAZ","Total",{"$f":"IF(AND(TRIM(G56)=\"\",TRIM(G57)=\"\"),\"\",G56+G57)","v":""},null,null,null,{"$f":"IF(TRIM(J58)=\"\", \"\", IF(VLOOKUP(J58,'Footnotes list'!$D$9:$E$58,2,FALSE)=0,\"\",VLOOKUP(J58,'Footnotes list'!$D$9:$E$58,2,FALSE) ) )","v":""},{"$f":"IF(AND(TRIM(L56)=\"\",TRIM(L57)=\"\"),\"\",L56+L57)","v":""},null,null,null,{"$f":"IF(TRIM(O58)=\"\", \"\", IF(VLOOKUP(O58,'Footnotes list'!$D$9:$E$58,2,FALSE)=0,\"\",VLOOKUP(O58,'Footnotes list'!$D$9:$E$58,2,FALSE) ) )","v":""},{"$f":"IF(AND(TRIM(Q56)=\"\",TRIM(Q57)=\"\"),\"\",Q56+Q57)","v":""},null,null,null,{"$f":"IF(TRIM(T58)=\"\", \"\", IF(VLOOKUP(T58,'Footnotes list'!$D$9:$E$58,2,FALSE)=0,\"\",VLOOKUP(T58,'Footnotes list'!$D$9:$E$58,2,FALSE) ) )","v":""},{"$f":"IF(AND(TRIM(V56)=\"\",TRIM(V57)=\"\"),\"\",V56+V57)","v":""},null,null,null,{"$f":"IF(TRIM(Y58)=\"\", \"\", IF(VLOOKUP(Y58,'Footnotes list'!$D$9:$E$58,2,FALSE)=0,\"\",VLOOKUP(Y58,'Footnotes list'!$D$9:$E$58,2,FALSE) ) )","v":""},{"$f":"IF(AND(TRIM(AA56)=\"\",TRIM(AA57)=\"\"),\"\",AA56+AA57)","v":""},null,null,null,{"$f":"IF(TRIM(AD58)=\"\", \"\", IF(VLOOKUP(AD58,'Footnotes list'!$D$9:$E$58,2,FALSE)=0,\"\",VLOOKUP(AD58,'Footnotes list'!$D$9:$E$58,2,FALSE) ) )","v":""},{"$f":"IF(AND(TRIM(AF56)=\"\",TRIM(AF57)=\"\"),\"\",AF56+AF57)","v":""},null,null,null,{"$f":"IF(TRIM(AI58)=\"\", \"\", IF(VLOOKUP(AI58,'Footnotes list'!$D$9:$E$58,2,FALSE)=0,\"\",VLOOKUP(AI58,'Footnotes list'!$D$9:$E$58,2,FALSE) ) )","v":""},{"$f":"IF(AND(TRIM(AK56)=\"\",TRIM(AK57)=\"\"),\"\",AK56+AK57)","v":""},null,null,null,{"$f":"IF(TRIM(AN58)=\"\", \"\", IF(VLOOKUP(AN58,'Footnotes list'!$D$9:$E$58,2,FALSE)=0,\"\",VLOOKUP(AN58,'Footnotes list'!$D$9:$E$58,2,FALSE) ) )","v":""},{"$f":"IF(AND(TRIM(AP56)=\"\",TRIM(AP57)=\"\"),\"\",AP56+AP57)","v":""},null,null,null,{"$f":"IF(TRIM(AS58)=\"\", \"\", IF(VLOOKUP(AS58,'Footnotes list'!$D$9:$E$58,2,FALSE)=0,\"\",VLOOKUP(AS58,'Footnotes list'!$D$9:$E$58,2,FALSE) ) )","v":""},{"$f":"IF(AND(TRIM(AU56)=\"\",TRIM(AU57)=\"\"),\"\",AU56+AU57)","v":""},null,null,null,{"$f":"IF(TRIM(AX58)=\"\", \"\", IF(VLOOKUP(AX58,'Footnotes list'!$D$9:$E$58,2,FALSE)=0,\"\",VLOOKUP(AX58,'Footnotes list'!$D$9:$E$58,2,FALSE) ) )","v":""},{"$f":"IF(AND(TRIM(AZ56)=\"\",TRIM(AZ57)=\"\"),\"\",AZ56+AZ57)","v":""},null,null,null,{"$f":"IF(TRIM(BC58)=\"\", \"\", IF(VLOOKUP(BC58,'Footnotes list'!$D$9:$E$58,2,FALSE)=0,\"\",VLOOKUP(BC58,'Footnotes list'!$D$9:$E$58,2,FALSE) ) )","v":""},{"$f":"IF(AND(TRIM(BE56)=\"\",TRIM(BE57)=\"\"),\"\",BE56+BE57)","v":""},null,null,null,{"$f":"IF(TRIM(BH58)=\"\", \"\", IF(VLOOKUP(BH58,'Footnotes list'!$D$9:$E$58,2,FALSE)=0,\"\",VLOOKUP(BH58,'Footnotes list'!$D$9:$E$58,2,FALSE) ) )","v":""},{"$f":"IF(AND(TRIM(BJ56)=\"\",TRIM(BJ57)=\"\"),\"\",BJ56+BJ57)","v":""},null,null,null,{"$f":"IF(TRIM(BM58)=\"\", \"\", IF(VLOOKUP(BM58,'Footnotes list'!$D$9:$E$58,2,FALSE)=0,\"\",VLOOKUP(BM58,'Footnotes list'!$D$9:$E$58,2,FALSE) ) )","v":""},{"$f":"IF(AND(TRIM(BO56)=\"\", TRIM(BO57)=\"\"), \"\", (IF(ISNUMBER(BO56),BO56,0)+IF(ISNUMBER(BO57),BO57,0)))","v":""},null,null,null,{"$f":"IF(TRIM(BR58)=\"\", \"\", IF(VLOOKUP(BR58,'Footnotes list'!$D$9:$E$58,2,FALSE)=0,\"\",VLOOKUP(BR58,'Footnotes list'!$D$9:$E$58,2,FALSE) ) )","v":""},{"$f":"IF(AND(TRIM(BT56)=\"\",TRIM(BT57)=\"\"),\"\",BT56+BT57)","v":""},null,null,null,{"$f":"IF(TRIM(BW58)=\"\", \"\", IF(VLOOKUP(BW58,'Footnotes list'!$D$9:$E$58,2,FALSE)=0,\"\",VLOOKUP(BW58,'Footnotes list'!$D$9:$E$58,2,FALSE) ) )","v":""},{"$f":"IF(AND(TRIM(BY56)=\"\",TRIM(BY57)=\"\"),\"\",BY56+BY57)","v":""},null,null,null,{"$f":"IF(TRIM(CB58)=\"\", \"\", IF(VLOOKUP(CB58,'Footnotes list'!$D$9:$E$58,2,FALSE)=0,\"\",VLOOKUP(CB58,'Footnotes list'!$D$9:$E$58,2,FALSE) ) )","v":""},{"$f":"IF(AND(TRIM(CD56)=\"\",TRIM(CD57)=\"\"),\"\",CD56+CD57)","v":""},null,null,null,{"$f":"IF(TRIM(CG58)=\"\", \"\", IF(VLOOKUP(CG58,'Footnotes list'!$D$9:$E$58,2,FALSE)=0,\"\",VLOOKUP(CG58,'Footnotes list'!$D$9:$E$58,2,FALSE) ) )","v":""},{"$f":"IF(AND(TRIM(CI56)=\"\", TRIM(CI57)=\"\"), \"\", (IF(ISNUMBER(CI56),CI56,0)+IF(ISNUMBER(CI57),CI57,0)))","v":""},null,null,null,{"$f":"IF(TRIM(CL58)=\"\", \"\", IF(VLOOKUP(CL58,'Footnotes list'!$D$9:$E$58,2,FALSE)=0,\"\",VLOOKUP(CL58,'Footnotes list'!$D$9:$E$58,2,FALSE) ) )","v":""},{"$f":"IF(AND(TRIM(CN56)=\"\",TRIM(CN57)=\"\"),\"\",CN56+CN57)","v":""},null,null,null,{"$f":"IF(TRIM(CQ58)=\"\", \"\", IF(VLOOKUP(CQ58,'Footnotes list'!$D$9:$E$58,2,FALSE)=0,\"\",VLOOKUP(CQ58,'Footnotes list'!$D$9:$E$58,2,FALSE) ) )","v":""},{"$f":"IF(AND(TRIM(CS56)=\"\",TRIM(CS57)=\"\"),\"\",CS56+CS57)","v":""},null,null,null,{"$f":"IF(TRIM(CV58)=\"\", \"\", IF(VLOOKUP(CV58,'Footnotes list'!$D$9:$E$58,2,FALSE)=0,\"\",VLOOKUP(CV58,'Footnotes list'!$D$9:$E$58,2,FALSE) ) )","v":""},{"$f":"IF(AND(TRIM(CX56)=\"\",TRIM(CX57)=\"\"),\"\",CX56+CX57)","v":""},null,null,null,{"$f":"IF(TRIM(DA58)=\"\", \"\", IF(VLOOKUP(DA58,'Footnotes list'!$D$9:$E$58,2,FALSE)=0,\"\",VLOOKUP(DA58,'Footnotes list'!$D$9:$E$58,2,FALSE) ) )","v":""},{"$f":"IF(AND(TRIM(DC56)=\"\",TRIM(DC57)=\"\"),\"\",DC56+DC57)","v":""},null,null,null,{"$f":"IF(TRIM(DF58)=\"\", \"\", IF(VLOOKUP(DF58,'Footnotes list'!$D$9:$E$58,2,FALSE)=0,\"\",VLOOKUP(DF58,'Footnotes list'!$D$9:$E$58,2,FALSE) ) )","v":""},{"$f":"IF(AND(TRIM(DH56)=\"\", TRIM(DH57)=\"\"), \"\", SUM(DH56,DH57) )","v":""},null,null,null,{"$f":"IF(TRIM(DK58)=\"\", \"\", IF(VLOOKUP(DK58,'Footnotes list'!$D$9:$E$58,2,FALSE)=0,\"\",VLOOKUP(DK58,'Footnotes list'!$D$9:$E$58,2,FALSE) ) )","v":""}]
[null,"W08A","W08A","Discarded equipment (except discarded vehicles and batteries and accumulators waste) (W08 except W081, W0841)","HAZ","Hazardous ",null,null,null,null,{"$f":"IF(TRIM(J59)=\"\", \"\", IF(VLOOKUP(J59,'Footnotes list'!$D$9:$E$58,2,FALSE)=0,\"\",VLOOKUP(J59,'Footnotes list'!$D$9:$E$58,2,FALSE) ) )","v":""},null,null,null,null,{"$f":"IF(TRIM(O59)=\"\", \"\", IF(VLOOKUP(O59,'Footnotes list'!$D$9:$E$58,2,FALSE)=0,\"\",VLOOKUP(O59,'Footnotes list'!$D$9:$E$58,2,FALSE) ) )","v":""},null,null,null,null,{"$f":"IF(TRIM(T59)=\"\", \"\", IF(VLOOKUP(T59,'Footnotes list'!$D$9:$E$58,2,FALSE)=0,\"\",VLOOKUP(T59,'Footnotes list'!$D$9:$E$58,2,FALSE) ) )","v":""},null,null,null,null,{"$f":"IF(TRIM(Y59)=\"\", \"\", IF(VLOOKUP(Y59,'Footnotes list'!$D$9:$E$58,2,FALSE)=0,\"\",VLOOKUP(Y59,'Footnotes list'!$D$9:$E$58,2,FALSE) ) )","v":""},null,null,null,null,{"$f":"IF(TRIM(AD59)=\"\", \"\", IF(VLOOKUP(AD59,'Footnotes list'!$D$9:$E$58,2,FALSE)=0,\"\",VLOOKUP(AD59,'Footnotes list'!$D$9:$E$58,2,FALSE) ) )","v":""},null,null,null,null,{"$f":"IF(TRIM(AI59)=\"\", \"\", IF(VLOOKUP(AI59,'Footnotes list'!$D$9:$E$58,2,FALSE)=0,\"\",VLOOKUP(AI59,'Footnotes list'!$D$9:$E$58,2,FALSE) ) )","v":""},null,null,null,null,{"$f":"IF(TRIM(AN59)=\"\", \"\", IF(VLOOKUP(AN59,'Footnotes list'!$D$9:$E$58,2,FALSE)=0,\"\",VLOOKUP(AN59,'Footnotes list'!$D$9:$E$58,2,FALSE) ) )","v":""},null,null,null,null,{"$f":"IF(TRIM(AS59)=\"\", \"\", IF(VLOOKUP(AS59,'Footnotes list'!$D$9:$E$58,2,FALSE)=0,\"\",VLOOKUP(AS59,'Footnotes list'!$D$9:$E$58,2,FALSE) ) )","v":""},null,null,null,null,{"$f":"IF(TRIM(AX59)=\"\", \"\", IF(VLOOKUP(AX59,'Footnotes list'!$D$9:$E$58,2,FALSE)=0,\"\",VLOOKUP(AX59,'Footnotes list'!$D$9:$E$58,2,FALSE) ) )","v":""},null,null,null,null,{"$f":"IF(TRIM(BC59)=\"\", \"\", IF(VLOOKUP(BC59,'Footnotes list'!$D$9:$E$58,2,FALSE)=0,\"\",VLOOKUP(BC59,'Footnotes list'!$D$9:$E$58,2,FALSE) ) )","v":""},null,null,null,null,{"$f":"IF(TRIM(BH59)=\"\", \"\", IF(VLOOKUP(BH59,'Footnotes list'!$D$9:$E$58,2,FALSE)=0,\"\",VLOOKUP(BH59,'Footnotes list'!$D$9:$E$58,2,FALSE) ) )","v":""},null,null,null,null,{"$f":"IF(TRIM(BM59)=\"\", \"\", IF(VLOOKUP(BM59,'Footnotes list'!$D$9:$E$58,2,FALSE)=0,\"\",VLOOKUP(BM59,'Footnotes list'!$D$9:$E$58,2,FALSE) ) )","v":""},{"$f":"IF(AND(TRIM(Q59)=\"\",TRIM(V59)=\"\",TRIM(AA59)=\"\", TRIM(AF59)=\"\", TRIM(AK59)=\"\", TRIM(AP59)=\"\", TRIM(AU59)=\"\", TRIM(AZ59)=\"\", TRIM(BE59)=\"\", TRIM(BJ59)=\"\"),\"\",Q59+V59+AA59+AF59+AK59+AP59+AU59+AZ59+BE59+BJ59)","v":""},null,null,null,{"$f":"IF(TRIM(BR59)=\"\", \"\", IF(VLOOKUP(BR59,'Footnotes list'!$D$9:$E$58,2,FALSE)=0,\"\",VLOOKUP(BR59,'Footnotes list'!$D$9:$E$58,2,FALSE) ) )","v":""},null,null,null,null,{"$f":"IF(TRIM(BW59)=\"\", \"\", IF(VLOOKUP(BW59,'Footnotes list'!$D$9:$E$58,2,FALSE)=0,\"\",VLOOKUP(BW59,'Footnotes list'!$D$9:$E$58,2,FALSE) ) )","v":""},null,null,null,null,{"$f":"IF(TRIM(CB59)=\"\", \"\", IF(VLOOKUP(CB59,'Footnotes list'!$D$9:$E$58,2,FALSE)=0,\"\",VLOOKUP(CB59,'Footnotes list'!$D$9:$E$58,2,FALSE) ) )","v":""},null,null,null,null,{"$f":"IF(TRIM(CG59)=\"\", \"\", IF(VLOOKUP(CG59,'Footnotes list'!$D$9:$E$58,2,FALSE)=0,\"\",VLOOKUP(CG59,'Footnotes list'!$D$9:$E$58,2,FALSE) ) )","v":""},{"$f":"IF(AND(TRIM(BY59)=\"\",TRIM(CD59)=\"\"),\"\",BY59+CD59)","v":""},null,null,null,{"$f":"IF(TRIM(CL59)=\"\", \"\", IF(VLOOKUP(CL59,'Footnotes list'!$D$9:$E$58,2,FALSE)=0,\"\",VLOOKUP(CL59,'Footnotes list'!$D$9:$E$58,2,FALSE) ) )","v":""},null,null,null,null,{"$f":"IF(TRIM(CQ59)=\"\", \"\", IF(VLOOKUP(CQ59,'Footnotes list'!$D$9:$E$58,2,FALSE)=0,\"\",VLOOKUP(CQ59,'Footnotes list'!$D$9:$E$58,2,FALSE) ) )","v":""},null,null,null,null,{"$f":"IF(TRIM(CV59)=\"\", \"\", IF(VLOOKUP(CV59,'Footnotes list'!$D$9:$E$58,2,FALSE)=0,\"\",VLOOKUP(CV59,'Footnotes list'!$D$9:$E$58,2,FALSE) ) )","v":""},null,null,null,null,{"$f":"IF(TRIM(DA59)=\"\", \"\", IF(VLOOKUP(DA59,'Footnotes list'!$D$9:$E$58,2,FALSE)=0,\"\",VLOOKUP(DA59,'Footnotes list'!$D$9:$E$58,2,FALSE) ) )","v":""},null,null,null,null,{"$f":"IF(TRIM(DF59)=\"\", \"\", IF(VLOOKUP(DF59,'Footnotes list'!$D$9:$E$58,2,FALSE)=0,\"\",VLOOKUP(DF59,'Footnotes list'!$D$9:$E$58,2,FALSE) ) )","v":""},{"$f":"IF(AND(TRIM(G59)=\"\",TRIM(L59)=\"\",TRIM(BO59)=\"\",TRIM(BT59)=\"\",TRIM(CI59)=\"\",TRIM(CN59)=\"\",TRIM(CS59)=\"\",TRIM(CX59)=\"\",TRIM(DC59)=\"\"),\"\",SUM(G59,L59,BO59,BT59,CI59,CN59,CS59,CX59,DC59))","v":""},null,null,null,{"$f":"IF(TRIM(DK59)=\"\", \"\", IF(VLOOKUP(DK59,'Footnotes list'!$D$9:$E$58,2,FALSE)=0,\"\",VLOOKUP(DK59,'Footnotes list'!$D$9:$E$58,2,FALSE) ) )","v":""}]
[null,null,"W08A",null,"NHAZ","Non-hazardous",null,null,null,null,{"$f":"IF(TRIM(J60)=\"\", \"\", IF(VLOOKUP(J60,'Footnotes list'!$D$9:$E$58,2,FALSE)=0,\"\",VLOOKUP(J60,'Footnotes list'!$D$9:$E$58,2,FALSE) ) )","v":""},null,null,null,null,{"$f":"IF(TRIM(O60)=\"\", \"\", IF(VLOOKUP(O60,'Footnotes list'!$D$9:$E$58,2,FALSE)=0,\"\",VLOOKUP(O60,'Footnotes list'!$D$9:$E$58,2,FALSE) ) )","v":""},null,null,null,null,{"$f":"IF(TRIM(T60)=\"\", \"\", IF(VLOOKUP(T60,'Footnotes list'!$D$9:$E$58,2,FALSE)=0,\"\",VLOOKUP(T60,'Footnotes list'!$D$9:$E$58,2,FALSE) ) )","v":""},null,null,null,null,{"$f":"IF(TRIM(Y60)=\"\", \"\", IF(VLOOKUP(Y60,'Footnotes list'!$D$9:$E$58,2,FALSE)=0,\"\",VLOOKUP(Y60,'Footnotes list'!$D$9:$E$58,2,FALSE) ) )","v":""},null,null,null,null,{"$f":"IF(TRIM(AD60)=\"\", \"\", IF(VLOOKUP(AD60,'Footnotes list'!$D$9:$E$58,2,FALSE)=0,\"\",VLOOKUP(AD60,'Footnotes list'!$D$9:$E$58,2,FALSE) ) )","v":""},null,null,null,null,{"$f":"IF(TRIM(AI60)=\"\", \"\", IF(VLOOKUP(AI60,'Footnotes list'!$D$9:$E$58,2,FALSE)=0,\"\",VLOOKUP(AI60,'Footnotes list'!$D$9:$E$58,2,FALSE) ) )","v":""},null,null,null,null,{"$f":"IF(TRIM(AN60)=\"\", \"\", IF(VLOOKUP(AN60,'Footnotes list'!$D$9:$E$58,2,FALSE)=0,\"\",VLOOKUP(AN60,'Footnotes list'!$D$9:$E$58,2,FALSE) ) )","v":""},null,null,null,null,{"$f":"IF(TRIM(AS60)=\"\", \"\", IF(VLOOKUP(AS60,'Footnotes list'!$D$9:$E$58,2,FALSE)=0,\"\",VLOOKUP(AS60,'Footnotes list'!$D$9:$E$58,2,FALSE) ) )","v":""},null,null,null,null,{"$f":"IF(TRIM(AX60)=\"\", \"\", IF(VLOOKUP(AX60,'Footnotes list'!$D$9:$E$58,2,FALSE)=0,\"\",VLOOKUP(AX60,'Footnotes list'!$D$9:$E$58,2,FALSE) ) )","v":""},null,null,null,null,{"$f":"IF(TRIM(BC60)=\"\", \"\", IF(VLOOKUP(BC60,'Footnotes list'!$D$9:$E$58,2,FALSE)=0,\"\",VLOOKUP(BC60,'Footnotes list'!$D$9:$E$58,2,FALSE) ) )","v":""},null,null,null,null,{"$f":"IF(TRIM(BH60)=\"\", \"\", IF(VLOOKUP(BH60,'Footnotes list'!$D$9:$E$58,2,FALSE)=0,\"\",VLOOKUP(BH60,'Footnotes list'!$D$9:$E$58,2,FALSE) ) )","v":""},null,null,null,null,{"$f":"IF(TRIM(BM60)=\"\", \"\", IF(VLOOKUP(BM60,'Footnotes list'!$D$9:$E$58,2,FALSE)=0,\"\",VLOOKUP(BM60,'Footnotes list'!$D$9:$E$58,2,FALSE) ) )","v":""},{"$f":"IF(AND(TRIM(Q60)=\"\",TRIM(V60)=\"\",TRIM(AA60)=\"\", TRIM(AF60)=\"\", TRIM(AK60)=\"\", TRIM(AP60)=\"\", TRIM(AU60)=\"\", TRIM(AZ60)=\"\", TRIM(BE60)=\"\", TRIM(BJ60)=\"\"),\"\",Q60+V60+AA60+AF60+AK60+AP60+AU60+AZ60+BE60+BJ60)","v":""},null,null,null,{"$f":"IF(TRIM(BR60)=\"\", \"\", IF(VLOOKUP(BR60,'Footnotes list'!$D$9:$E$58,2,FALSE)=0,\"\",VLOOKUP(BR60,'Footnotes list'!$D$9:$E$58,2,FALSE) ) )","v":""},null,null,null,null,{"$f":"IF(TRIM(BW60)=\"\", \"\", IF(VLOOKUP(BW60,'Footnotes list'!$D$9:$E$58,2,FALSE)=0,\"\",VLOOKUP(BW60,'Footnotes list'!$D$9:$E$58,2,FALSE) ) )","v":""},null,null,null,null,{"$f":"IF(TRIM(CB60)=\"\", \"\", IF(VLOOKUP(CB60,'Footnotes list'!$D$9:$E$58,2,FALSE)=0,\"\",VLOOKUP(CB60,'Footnotes list'!$D$9:$E$58,2,FALSE) ) )","v":""},null,null,null,null,{"$f":"IF(TRIM(CG60)=\"\", \"\", IF(VLOOKUP(CG60,'Footnotes list'!$D$9:$E$58,2,FALSE)=0,\"\",VLOOKUP(CG60,'Footnotes list'!$D$9:$E$58,2,FALSE) ) )","v":""},{"$f":"IF(AND(TRIM(BY60)=\"\",TRIM(CD60)=\"\"),\"\",BY60+CD60)","v":""},null,null,null,{"$f":"IF(TRIM(CL60)=\"\", \"\", IF(VLOOKUP(CL60,'Footnotes list'!$D$9:$E$58,2,FALSE)=0,\"\",VLOOKUP(CL60,'Footnotes list'!$D$9:$E$58,2,FALSE) ) )","v":""},null,null,null,null,{"$f":"IF(TRIM(CQ60)=\"\", \"\", IF(VLOOKUP(CQ60,'Footnotes list'!$D$9:$E$58,2,FALSE)=0,\"\",VLOOKUP(CQ60,'Footnotes list'!$D$9:$E$58,2,FALSE) ) )","v":""},null,null,null,null,{"$f":"IF(TRIM(CV60)=\"\", \"\", IF(VLOOKUP(CV60,'Footnotes list'!$D$9:$E$58,2,FALSE)=0,\"\",VLOOKUP(CV60,'Footnotes list'!$D$9:$E$58,2,FALSE) ) )","v":""},null,null,null,null,{"$f":"IF(TRIM(DA60)=\"\", \"\", IF(VLOOKUP(DA60,'Footnotes list'!$D$9:$E$58,2,FALSE)=0,\"\",VLOOKUP(DA60,'Footnotes list'!$D$9:$E$58,2,FALSE) ) )","v":""},null,null,null,null,{"$f":"IF(TRIM(DF60)=\"\", \"\", IF(VLOOKUP(DF60,'Footnotes list'!$D$9:$E$58,2,FALSE)=0,\"\",VLOOKUP(DF60,'Footnotes list'!$D$9:$E$58,2,FALSE) ) )","v":""},{"$f":"IF(AND(TRIM(G60)=\"\",TRIM(L60)=\"\",TRIM(BO60)=\"\",TRIM(BT60)=\"\",TRIM(CI60)=\"\",TRIM(CN60)=\"\",TRIM(CS60)=\"\",TRIM(CX60)=\"\",TRIM(DC60)=\"\"),\"\",SUM(G60,L60,BO60,BT60,CI60,CN60,CS60,CX60,DC60))","v":""},null,null,null,{"$f":"IF(TRIM(DK60)=\"\", \"\", IF(VLOOKUP(DK60,'Footnotes list'!$D$9:$E$58,2,FALSE)=0,\"\",VLOOKUP(DK60,'Footnotes list'!$D$9:$E$58,2,FALSE) ) )","v":""}]
[null,null,"W08A",null,"HAZ_NHAZ","Total",{"$f":"IF(AND(TRIM(G59)=\"\",TRIM(G60)=\"\"),\"\",G59+G60)","v":""},null,null,null,{"$f":"IF(TRIM(J61)=\"\", \"\", IF(VLOOKUP(J61,'Footnotes list'!$D$9:$E$58,2,FALSE)=0,\"\",VLOOKUP(J61,'Footnotes list'!$D$9:$E$58,2,FALSE) ) )","v":""},{"$f":"IF(AND(TRIM(L59)=\"\",TRIM(L60)=\"\"),\"\",L59+L60)","v":""},null,null,null,{"$f":"IF(TRIM(O61)=\"\", \"\", IF(VLOOKUP(O61,'Footnotes list'!$D$9:$E$58,2,FALSE)=0,\"\",VLOOKUP(O61,'Footnotes list'!$D$9:$E$58,2,FALSE) ) )","v":""},{"$f":"IF(AND(TRIM(Q59)=\"\",TRIM(Q60)=\"\"),\"\",Q59+Q60)","v":""},null,null,null,{"$f":"IF(TRIM(T61)=\"\", \"\", IF(VLOOKUP(T61,'Footnotes list'!$D$9:$E$58,2,FALSE)=0,\"\",VLOOKUP(T61,'Footnotes list'!$D$9:$E$58,2,FALSE) ) )","v":""},{"$f":"IF(AND(TRIM(V59)=\"\",TRIM(V60)=\"\"),\"\",V59+V60)","v":""},null,null,null,{"$f":"IF(TRIM(Y61)=\"\", \"\", IF(VLOOKUP(Y61,'Footnotes list'!$D$9:$E$58,2,FALSE)=0,\"\",VLOOKUP(Y61,'Footnotes list'!$D$9:$E$58,2,FALSE) ) )","v":""},{"$f":"IF(AND(TRIM(AA59)=\"\",TRIM(AA60)=\"\"),\"\",AA59+AA60)","v":""},null,null,null,{"$f":"IF(TRIM(AD61)=\"\", \"\", IF(VLOOKUP(AD61,'Footnotes list'!$D$9:$E$58,2,FALSE)=0,\"\",VLOOKUP(AD61,'Footnotes list'!$D$9:$E$58,2,FALSE) ) )","v":""},{"$f":"IF(AND(TRIM(AF59)=\"\",TRIM(AF60)=\"\"),\"\",AF59+AF60)","v":""},null,null,null,{"$f":"IF(TRIM(AI61)=\"\", \"\", IF(VLOOKUP(AI61,'Footnotes list'!$D$9:$E$58,2,FALSE)=0,\"\",VLOOKUP(AI61,'Footnotes list'!$D$9:$E$58,2,FALSE) ) )","v":""},{"$f":"IF(AND(TRIM(AK59)=\"\",TRIM(AK60)=\"\"),\"\",AK59+AK60)","v":""},null,null,null,{"$f":"IF(TRIM(AN61)=\"\", \"\", IF(VLOOKUP(AN61,'Footnotes list'!$D$9:$E$58,2,FALSE)=0,\"\",VLOOKUP(AN61,'Footnotes list'!$D$9:$E$58,2,FALSE) ) )","v":""},{"$f":"IF(AND(TRIM(AP59)=\"\",TRIM(AP60)=\"\"),\"\",AP59+AP60)","v":""},null,null,null,{"$f":"IF(TRIM(AS61)=\"\", \"\", IF(VLOOKUP(AS61,'Footnotes list'!$D$9:$E$58,2,FALSE)=0,\"\",VLOOKUP(AS61,'Footnotes list'!$D$9:$E$58,2,FALSE) ) )","v":""},{"$f":"IF(AND(TRIM(AU59)=\"\",TRIM(AU60)=\"\"),\"\",AU59+AU60)","v":""},null,null,null,{"$f":"IF(TRIM(AX61)=\"\", \"\", IF(VLOOKUP(AX61,'Footnotes list'!$D$9:$E$58,2,FALSE)=0,\"\",VLOOKUP(AX61,'Footnotes list'!$D$9:$E$58,2,FALSE) ) )","v":""},{"$f":"IF(AND(TRIM(AZ59)=\"\",TRIM(AZ60)=\"\"),\"\",AZ59+AZ60)","v":""},null,null,null,{"$f":"IF(TRIM(BC61)=\"\", \"\", IF(VLOOKUP(BC61,'Footnotes list'!$D$9:$E$58,2,FALSE)=0,\"\",VLOOKUP(BC61,'Footnotes list'!$D$9:$E$58,2,FALSE) ) )","v":""},{"$f":"IF(AND(TRIM(BE59)=\"\",TRIM(BE60)=\"\"),\"\",BE59+BE60)","v":""},null,null,null,{"$f":"IF(TRIM(BH61)=\"\", \"\", IF(VLOOKUP(BH61,'Footnotes list'!$D$9:$E$58,2,FALSE)=0,\"\",VLOOKUP(BH61,'Footnotes list'!$D$9:$E$58,2,FALSE) ) )","v":""},{"$f":"IF(AND(TRIM(BJ59)=\"\",TRIM(BJ60)=\"\"),\"\",BJ59+BJ60)","v":""},null,null,null,{"$f":"IF(TRIM(BM61)=\"\", \"\", IF(VLOOKUP(BM61,'Footnotes list'!$D$9:$E$58,2,FALSE)=0,\"\",VLOOKUP(BM61,'Footnotes list'!$D$9:$E$58,2,FALSE) ) )","v":""},{"$f":"IF(AND(TRIM(BO59)=\"\", TRIM(BO60)=\"\"), \"\", (IF(ISNUMBER(BO59),BO59,0)+IF(ISNUMBER(BO60),BO60,0)))","v":""},null,null,null,{"$f":"IF(TRIM(BR61)=\"\", \"\", IF(VLOOKUP(BR61,'Footnotes list'!$D$9:$E$58,2,FALSE)=0,\"\",VLOOKUP(BR61,'Footnotes list'!$D$9:$E$58,2,FALSE) ) )","v":""},{"$f":"IF(AND(TRIM(BT59)=\"\",TRIM(BT60)=\"\"),\"\",BT59+BT60)","v":""},null,null,null,{"$f":"IF(TRIM(BW61)=\"\", \"\", IF(VLOOKUP(BW61,'Footnotes list'!$D$9:$E$58,2,FALSE)=0,\"\",VLOOKUP(BW61,'Footnotes list'!$D$9:$E$58,2,FALSE) ) )","v":""},{"$f":"IF(AND(TRIM(BY59)=\"\",TRIM(BY60)=\"\"),\"\",BY59+BY60)","v":""},null,null,null,{"$f":"IF(TRIM(CB61)=\"\", \"\", IF(VLOOKUP(CB61,'Footnotes list'!$D$9:$E$58,2,FALSE)=0,\"\",VLOOKUP(CB61,'Footnotes list'!$D$9:$E$58,2,FALSE) ) )","v":""},{"$f":"IF(AND(TRIM(CD59)=\"\",TRIM(CD60)=\"\"),\"\",CD59+CD60)","v":""},null,null,null,{"$f":"IF(TRIM(CG61)=\"\", \"\", IF(VLOOKUP(CG61,'Footnotes list'!$D$9:$E$58,2,FALSE)=0,\"\",VLOOKUP(CG61,'Footnotes list'!$D$9:$E$58,2,FALSE) ) )","v":""},{"$f":"IF(AND(TRIM(CI59)=\"\", TRIM(CI60)=\"\"), \"\", (IF(ISNUMBER(CI59),CI59,0)+IF(ISNUMBER(CI60),CI60,0)))","v":""},null,null,null,{"$f":"IF(TRIM(CL61)=\"\", \"\", IF(VLOOKUP(CL61,'Footnotes list'!$D$9:$E$58,2,FALSE)=0,\"\",VLOOKUP(CL61,'Footnotes list'!$D$9:$E$58,2,FALSE) ) )","v":""},{"$f":"IF(AND(TRIM(CN59)=\"\",TRIM(CN60)=\"\"),\"\",CN59+CN60)","v":""},null,null,null,{"$f":"IF(TRIM(CQ61)=\"\", \"\", IF(VLOOKUP(CQ61,'Footnotes list'!$D$9:$E$58,2,FALSE)=0,\"\",VLOOKUP(CQ61,'Footnotes list'!$D$9:$E$58,2,FALSE) ) )","v":""},{"$f":"IF(AND(TRIM(CS59)=\"\",TRIM(CS60)=\"\"),\"\",CS59+CS60)","v":""},null,null,null,{"$f":"IF(TRIM(CV61)=\"\", \"\", IF(VLOOKUP(CV61,'Footnotes list'!$D$9:$E$58,2,FALSE)=0,\"\",VLOOKUP(CV61,'Footnotes list'!$D$9:$E$58,2,FALSE) ) )","v":""},{"$f":"IF(AND(TRIM(CX59)=\"\",TRIM(CX60)=\"\"),\"\",CX59+CX60)","v":""},null,null,null,{"$f":"IF(TRIM(DA61)=\"\", \"\", IF(VLOOKUP(DA61,'Footnotes list'!$D$9:$E$58,2,FALSE)=0,\"\",VLOOKUP(DA61,'Footnotes list'!$D$9:$E$58,2,FALSE) ) )","v":""},{"$f":"IF(AND(TRIM(DC59)=\"\",TRIM(DC60)=\"\"),\"\",DC59+DC60)","v":""},null,null,null,{"$f":"IF(TRIM(DF61)=\"\", \"\", IF(VLOOKUP(DF61,'Footnotes list'!$D$9:$E$58,2,FALSE)=0,\"\",VLOOKUP(DF61,'Footnotes list'!$D$9:$E$58,2,FALSE) ) )","v":""},{"$f":"IF(AND(TRIM(DH59)=\"\", TRIM(DH60)=\"\"), \"\", SUM(DH59,DH60) )","v":""},null,null,null,{"$f":"IF(TRIM(DK61)=\"\", \"\", IF(VLOOKUP(DK61,'Footnotes list'!$D$9:$E$58,2,FALSE)=0,\"\",VLOOKUP(DK61,'Footnotes list'!$D$9:$E$58,2,FALSE) ) )","v":""}]
[null,"W081","W081","Discarded vehicles ","HAZ","Hazardous ",null,null,null,null,{"$f":"IF(TRIM(J62)=\"\", \"\", IF(VLOOKUP(J62,'Footnotes list'!$D$9:$E$58,2,FALSE)=0,\"\",VLOOKUP(J62,'Footnotes list'!$D$9:$E$58,2,FALSE) ) )","v":""},null,null,null,null,{"$f":"IF(TRIM(O62)=\"\", \"\", IF(VLOOKUP(O62,'Footnotes list'!$D$9:$E$58,2,FALSE)=0,\"\",VLOOKUP(O62,'Footnotes list'!$D$9:$E$58,2,FALSE) ) )","v":""},null,null,null,null,{"$f":"IF(TRIM(T62)=\"\", \"\", IF(VLOOKUP(T62,'Footnotes list'!$D$9:$E$58,2,FALSE)=0,\"\",VLOOKUP(T62,'Footnotes list'!$D$9:$E$58,2,FALSE) ) )","v":""},null,null,null,null,{"$f":"IF(TRIM(Y62)=\"\", \"\", IF(VLOOKUP(Y62,'Footnotes list'!$D$9:$E$58,2,FALSE)=0,\"\",VLOOKUP(Y62,'Footnotes list'!$D$9:$E$58,2,FALSE) ) )","v":""},null,null,null,null,{"$f":"IF(TRIM(AD62)=\"\", \"\", IF(VLOOKUP(AD62,'Footnotes list'!$D$9:$E$58,2,FALSE)=0,\"\",VLOOKUP(AD62,'Footnotes list'!$D$9:$E$58,2,FALSE) ) )","v":""},null,null,null,null,{"$f":"IF(TRIM(AI62)=\"\", \"\", IF(VLOOKUP(AI62,'Footnotes list'!$D$9:$E$58,2,FALSE)=0,\"\",VLOOKUP(AI62,'Footnotes list'!$D$9:$E$58,2,FALSE) ) )","v":""},null,null,null,null,{"$f":"IF(TRIM(AN62)=\"\", \"\", IF(VLOOKUP(AN62,'Footnotes list'!$D$9:$E$58,2,FALSE)=0,\"\",VLOOKUP(AN62,'Footnotes list'!$D$9:$E$58,2,FALSE) ) )","v":""},null,null,null,null,{"$f":"IF(TRIM(AS62)=\"\", \"\", IF(VLOOKUP(AS62,'Footnotes list'!$D$9:$E$58,2,FALSE)=0,\"\",VLOOKUP(AS62,'Footnotes list'!$D$9:$E$58,2,FALSE) ) )","v":""},null,null,null,null,{"$f":"IF(TRIM(AX62)=\"\", \"\", IF(VLOOKUP(AX62,'Footnotes list'!$D$9:$E$58,2,FALSE)=0,\"\",VLOOKUP(AX62,'Footnotes list'!$D$9:$E$58,2,FALSE) ) )","v":""},null,null,null,null,{"$f":"IF(TRIM(BC62)=\"\", \"\", IF(VLOOKUP(BC62,'Footnotes list'!$D$9:$E$58,2,FALSE)=0,\"\",VLOOKUP(BC62,'Footnotes list'!$D$9:$E$58,2,FALSE) ) )","v":""},null,null,null,null,{"$f":"IF(TRIM(BH62)=\"\", \"\", IF(VLOOKUP(BH62,'Footnotes list'!$D$9:$E$58,2,FALSE)=0,\"\",VLOOKUP(BH62,'Footnotes list'!$D$9:$E$58,2,FALSE) ) )","v":""},null,null,null,null,{"$f":"IF(TRIM(BM62)=\"\", \"\", IF(VLOOKUP(BM62,'Footnotes list'!$D$9:$E$58,2,FALSE)=0,\"\",VLOOKUP(BM62,'Footnotes list'!$D$9:$E$58,2,FALSE) ) )","v":""},{"$f":"IF(AND(TRIM(Q62)=\"\",TRIM(V62)=\"\",TRIM(AA62)=\"\", TRIM(AF62)=\"\", TRIM(AK62)=\"\", TRIM(AP62)=\"\", TRIM(AU62)=\"\", TRIM(AZ62)=\"\", TRIM(BE62)=\"\", TRIM(BJ62)=\"\"),\"\",Q62+V62+AA62+AF62+AK62+AP62+AU62+AZ62+BE62+BJ62)","v":""},null,null,null,{"$f":"IF(TRIM(BR62)=\"\", \"\", IF(VLOOKUP(BR62,'Footnotes list'!$D$9:$E$58,2,FALSE)=0,\"\",VLOOKUP(BR62,'Footnotes list'!$D$9:$E$58,2,FALSE) ) )","v":""},null,null,null,null,{"$f":"IF(TRIM(BW62)=\"\", \"\", IF(VLOOKUP(BW62,'Footnotes list'!$D$9:$E$58,2,FALSE)=0,\"\",VLOOKUP(BW62,'Footnotes list'!$D$9:$E$58,2,FALSE) ) )","v":""},null,null,null,null,{"$f":"IF(TRIM(CB62)=\"\", \"\", IF(VLOOKUP(CB62,'Footnotes list'!$D$9:$E$58,2,FALSE)=0,\"\",VLOOKUP(CB62,'Footnotes list'!$D$9:$E$58,2,FALSE) ) )","v":""},null,null,null,null,{"$f":"IF(TRIM(CG62)=\"\", \"\", IF(VLOOKUP(CG62,'Footnotes list'!$D$9:$E$58,2,FALSE)=0,\"\",VLOOKUP(CG62,'Footnotes list'!$D$9:$E$58,2,FALSE) ) )","v":""},{"$f":"IF(AND(TRIM(BY62)=\"\",TRIM(CD62)=\"\"),\"\",BY62+CD62)","v":""},null,null,null,{"$f":"IF(TRIM(CL62)=\"\", \"\", IF(VLOOKUP(CL62,'Footnotes list'!$D$9:$E$58,2,FALSE)=0,\"\",VLOOKUP(CL62,'Footnotes list'!$D$9:$E$58,2,FALSE) ) )","v":""},null,null,null,null,{"$f":"IF(TRIM(CQ62)=\"\", \"\", IF(VLOOKUP(CQ62,'Footnotes list'!$D$9:$E$58,2,FALSE)=0,\"\",VLOOKUP(CQ62,'Footnotes list'!$D$9:$E$58,2,FALSE) ) )","v":""},null,null,null,null,{"$f":"IF(TRIM(CV62)=\"\", \"\", IF(VLOOKUP(CV62,'Footnotes list'!$D$9:$E$58,2,FALSE)=0,\"\",VLOOKUP(CV62,'Footnotes list'!$D$9:$E$58,2,FALSE) ) )","v":""},null,null,null,null,{"$f":"IF(TRIM(DA62)=\"\", \"\", IF(VLOOKUP(DA62,'Footnotes list'!$D$9:$E$58,2,FALSE)=0,\"\",VLOOKUP(DA62,'Footnotes list'!$D$9:$E$58,2,FALSE) ) )","v":""},null,null,null,null,{"$f":"IF(TRIM(DF62)=\"\", \"\", IF(VLOOKUP(DF62,'Footnotes list'!$D$9:$E$58,2,FALSE)=0,\"\",VLOOKUP(DF62,'Footnotes list'!$D$9:$E$58,2,FALSE) ) )","v":""},{"$f":"IF(AND(TRIM(G62)=\"\",TRIM(L62)=\"\",TRIM(BO62)=\"\",TRIM(BT62)=\"\",TRIM(CI62)=\"\",TRIM(CN62)=\"\",TRIM(CS62)=\"\",TRIM(CX62)=\"\",TRIM(DC62)=\"\"),\"\",SUM(G62,L62,BO62,BT62,CI62,CN62,CS62,CX62,DC62))","v":""},null,null,null,{"$f":"IF(TRIM(DK62)=\"\", \"\", IF(VLOOKUP(DK62,'Footnotes list'!$D$9:$E$58,2,FALSE)=0,\"\",VLOOKUP(DK62,'Footnotes list'!$D$9:$E$58,2,FALSE) ) )","v":""}]
[null,null,"W081",null,"NHAZ","Non-hazardous",null,null,null,null,{"$f":"IF(TRIM(J63)=\"\", \"\", IF(VLOOKUP(J63,'Footnotes list'!$D$9:$E$58,2,FALSE)=0,\"\",VLOOKUP(J63,'Footnotes list'!$D$9:$E$58,2,FALSE) ) )","v":""},null,null,null,null,{"$f":"IF(TRIM(O63)=\"\", \"\", IF(VLOOKUP(O63,'Footnotes list'!$D$9:$E$58,2,FALSE)=0,\"\",VLOOKUP(O63,'Footnotes list'!$D$9:$E$58,2,FALSE) ) )","v":""},null,null,null,null,{"$f":"IF(TRIM(T63)=\"\", \"\", IF(VLOOKUP(T63,'Footnotes list'!$D$9:$E$58,2,FALSE)=0,\"\",VLOOKUP(T63,'Footnotes list'!$D$9:$E$58,2,FALSE) ) )","v":""},null,null,null,null,{"$f":"IF(TRIM(Y63)=\"\", \"\", IF(VLOOKUP(Y63,'Footnotes list'!$D$9:$E$58,2,FALSE)=0,\"\",VLOOKUP(Y63,'Footnotes list'!$D$9:$E$58,2,FALSE) ) )","v":""},null,null,null,null,{"$f":"IF(TRIM(AD63)=\"\", \"\", IF(VLOOKUP(AD63,'Footnotes list'!$D$9:$E$58,2,FALSE)=0,\"\",VLOOKUP(AD63,'Footnotes list'!$D$9:$E$58,2,FALSE) ) )","v":""},null,null,null,null,{"$f":"IF(TRIM(AI63)=\"\", \"\", IF(VLOOKUP(AI63,'Footnotes list'!$D$9:$E$58,2,FALSE)=0,\"\",VLOOKUP(AI63,'Footnotes list'!$D$9:$E$58,2,FALSE) ) )","v":""},null,null,null,null,{"$f":"IF(TRIM(AN63)=\"\", \"\", IF(VLOOKUP(AN63,'Footnotes list'!$D$9:$E$58,2,FALSE)=0,\"\",VLOOKUP(AN63,'Footnotes list'!$D$9:$E$58,2,FALSE) ) )","v":""},null,null,null,null,{"$f":"IF(TRIM(AS63)=\"\", \"\", IF(VLOOKUP(AS63,'Footnotes list'!$D$9:$E$58,2,FALSE)=0,\"\",VLOOKUP(AS63,'Footnotes list'!$D$9:$E$58,2,FALSE) ) )","v":""},null,null,null,null,{"$f":"IF(TRIM(AX63)=\"\", \"\", IF(VLOOKUP(AX63,'Footnotes list'!$D$9:$E$58,2,FALSE)=0,\"\",VLOOKUP(AX63,'Footnotes list'!$D$9:$E$58,2,FALSE) ) )","v":""},null,null,null,null,{"$f":"IF(TRIM(BC63)=\"\", \"\", IF(VLOOKUP(BC63,'Footnotes list'!$D$9:$E$58,2,FALSE)=0,\"\",VLOOKUP(BC63,'Footnotes list'!$D$9:$E$58,2,FALSE) ) )","v":""},null,null,null,null,{"$f":"IF(TRIM(BH63)=\"\", \"\", IF(VLOOKUP(BH63,'Footnotes list'!$D$9:$E$58,2,FALSE)=0,\"\",VLOOKUP(BH63,'Footnotes list'!$D$9:$E$58,2,FALSE) ) )","v":""},null,null,null,null,{"$f":"IF(TRIM(BM63)=\"\", \"\", IF(VLOOKUP(BM63,'Footnotes list'!$D$9:$E$58,2,FALSE)=0,\"\",VLOOKUP(BM63,'Footnotes list'!$D$9:$E$58,2,FALSE) ) )","v":""},{"$f":"IF(AND(TRIM(Q63)=\"\",TRIM(V63)=\"\",TRIM(AA63)=\"\", TRIM(AF63)=\"\", TRIM(AK63)=\"\", TRIM(AP63)=\"\", TRIM(AU63)=\"\", TRIM(AZ63)=\"\", TRIM(BE63)=\"\", TRIM(BJ63)=\"\"),\"\",Q63+V63+AA63+AF63+AK63+AP63+AU63+AZ63+BE63+BJ63)","v":""},null,null,null,{"$f":"IF(TRIM(BR63)=\"\", \"\", IF(VLOOKUP(BR63,'Footnotes list'!$D$9:$E$58,2,FALSE)=0,\"\",VLOOKUP(BR63,'Footnotes list'!$D$9:$E$58,2,FALSE) ) )","v":""},null,null,null,null,{"$f":"IF(TRIM(BW63)=\"\", \"\", IF(VLOOKUP(BW63,'Footnotes list'!$D$9:$E$58,2,FALSE)=0,\"\",VLOOKUP(BW63,'Footnotes list'!$D$9:$E$58,2,FALSE) ) )","v":""},null,null,null,null,{"$f":"IF(TRIM(CB63)=\"\", \"\", IF(VLOOKUP(CB63,'Footnotes list'!$D$9:$E$58,2,FALSE)=0,\"\",VLOOKUP(CB63,'Footnotes list'!$D$9:$E$58,2,FALSE) ) )","v":""},null,null,null,null,{"$f":"IF(TRIM(CG63)=\"\", \"\", IF(VLOOKUP(CG63,'Footnotes list'!$D$9:$E$58,2,FALSE)=0,\"\",VLOOKUP(CG63,'Footnotes list'!$D$9:$E$58,2,FALSE) ) )","v":""},{"$f":"IF(AND(TRIM(BY63)=\"\",TRIM(CD63)=\"\"),\"\",BY63+CD63)","v":""},null,null,null,{"$f":"IF(TRIM(CL63)=\"\", \"\", IF(VLOOKUP(CL63,'Footnotes list'!$D$9:$E$58,2,FALSE)=0,\"\",VLOOKUP(CL63,'Footnotes list'!$D$9:$E$58,2,FALSE) ) )","v":""},null,null,null,null,{"$f":"IF(TRIM(CQ63)=\"\", \"\", IF(VLOOKUP(CQ63,'Footnotes list'!$D$9:$E$58,2,FALSE)=0,\"\",VLOOKUP(CQ63,'Footnotes list'!$D$9:$E$58,2,FALSE) ) )","v":""},null,null,null,null,{"$f":"IF(TRIM(CV63)=\"\", \"\", IF(VLOOKUP(CV63,'Footnotes list'!$D$9:$E$58,2,FALSE)=0,\"\",VLOOKUP(CV63,'Footnotes list'!$D$9:$E$58,2,FALSE) ) )","v":""},null,null,null,null,{"$f":"IF(TRIM(DA63)=\"\", \"\", IF(VLOOKUP(DA63,'Footnotes list'!$D$9:$E$58,2,FALSE)=0,\"\",VLOOKUP(DA63,'Footnotes list'!$D$9:$E$58,2,FALSE) ) )","v":""},null,null,null,null,{"$f":"IF(TRIM(DF63)=\"\", \"\", IF(VLOOKUP(DF63,'Footnotes list'!$D$9:$E$58,2,FALSE)=0,\"\",VLOOKUP(DF63,'Footnotes list'!$D$9:$E$58,2,FALSE) ) )","v":""},{"$f":"IF(AND(TRIM(G63)=\"\",TRIM(L63)=\"\",TRIM(BO63)=\"\",TRIM(BT63)=\"\",TRIM(CI63)=\"\",TRIM(CN63)=\"\",TRIM(CS63)=\"\",TRIM(CX63)=\"\",TRIM(DC63)=\"\"),\"\",SUM(G63,L63,BO63,BT63,CI63,CN63,CS63,CX63,DC63))","v":""},null,null,null,{"$f":"IF(TRIM(DK63)=\"\", \"\", IF(VLOOKUP(DK63,'Footnotes list'!$D$9:$E$58,2,FALSE)=0,\"\",VLOOKUP(DK63,'Footnotes list'!$D$9:$E$58,2,FALSE) ) )","v":""}]
[null,null,"W081",null,"HAZ_NHAZ","Total",{"$f":"IF(AND(TRIM(G62)=\"\",TRIM(G63)=\"\"),\"\",G62+G63)","v":""},null,null,null,{"$f":"IF(TRIM(J64)=\"\", \"\", IF(VLOOKUP(J64,'Footnotes list'!$D$9:$E$58,2,FALSE)=0,\"\",VLOOKUP(J64,'Footnotes list'!$D$9:$E$58,2,FALSE) ) )","v":""},{"$f":"IF(AND(TRIM(L62)=\"\",TRIM(L63)=\"\"),\"\",L62+L63)","v":""},null,null,null,{"$f":"IF(TRIM(O64)=\"\", \"\", IF(VLOOKUP(O64,'Footnotes list'!$D$9:$E$58,2,FALSE)=0,\"\",VLOOKUP(O64,'Footnotes list'!$D$9:$E$58,2,FALSE) ) )","v":""},{"$f":"IF(AND(TRIM(Q62)=\"\",TRIM(Q63)=\"\"),\"\",Q62+Q63)","v":""},null,null,null,{"$f":"IF(TRIM(T64)=\"\", \"\", IF(VLOOKUP(T64,'Footnotes list'!$D$9:$E$58,2,FALSE)=0,\"\",VLOOKUP(T64,'Footnotes list'!$D$9:$E$58,2,FALSE) ) )","v":""},{"$f":"IF(AND(TRIM(V62)=\"\",TRIM(V63)=\"\"),\"\",V62+V63)","v":""},null,null,null,{"$f":"IF(TRIM(Y64)=\"\", \"\", IF(VLOOKUP(Y64,'Footnotes list'!$D$9:$E$58,2,FALSE)=0,\"\",VLOOKUP(Y64,'Footnotes list'!$D$9:$E$58,2,FALSE) ) )","v":""},{"$f":"IF(AND(TRIM(AA62)=\"\",TRIM(AA63)=\"\"),\"\",AA62+AA63)","v":""},null,null,null,{"$f":"IF(TRIM(AD64)=\"\", \"\", IF(VLOOKUP(AD64,'Footnotes list'!$D$9:$E$58,2,FALSE)=0,\"\",VLOOKUP(AD64,'Footnotes list'!$D$9:$E$58,2,FALSE) ) )","v":""},{"$f":"IF(AND(TRIM(AF62)=\"\",TRIM(AF63)=\"\"),\"\",AF62+AF63)","v":""},null,null,null,{"$f":"IF(TRIM(AI64)=\"\", \"\", IF(VLOOKUP(AI64,'Footnotes list'!$D$9:$E$58,2,FALSE)=0,\"\",VLOOKUP(AI64,'Footnotes list'!$D$9:$E$58,2,FALSE) ) )","v":""},{"$f":"IF(AND(TRIM(AK62)=\"\",TRIM(AK63)=\"\"),\"\",AK62+AK63)","v":""},null,null,null,{"$f":"IF(TRIM(AN64)=\"\", \"\", IF(VLOOKUP(AN64,'Footnotes list'!$D$9:$E$58,2,FALSE)=0,\"\",VLOOKUP(AN64,'Footnotes list'!$D$9:$E$58,2,FALSE) ) )","v":""},{"$f":"IF(AND(TRIM(AP62)=\"\",TRIM(AP63)=\"\"),\"\",AP62+AP63)","v":""},null,null,null,{"$f":"IF(TRIM(AS64)=\"\", \"\", IF(VLOOKUP(AS64,'Footnotes list'!$D$9:$E$58,2,FALSE)=0,\"\",VLOOKUP(AS64,'Footnotes list'!$D$9:$E$58,2,FALSE) ) )","v":""},{"$f":"IF(AND(TRIM(AU62)=\"\",TRIM(AU63)=\"\"),\"\",AU62+AU63)","v":""},null,null,null,{"$f":"IF(TRIM(AX64)=\"\", \"\", IF(VLOOKUP(AX64,'Footnotes list'!$D$9:$E$58,2,FALSE)=0,\"\",VLOOKUP(AX64,'Footnotes list'!$D$9:$E$58,2,FALSE) ) )","v":""},{"$f":"IF(AND(TRIM(AZ62)=\"\",TRIM(AZ63)=\"\"),\"\",AZ62+AZ63)","v":""},null,null,null,{"$f":"IF(TRIM(BC64)=\"\", \"\", IF(VLOOKUP(BC64,'Footnotes list'!$D$9:$E$58,2,FALSE)=0,\"\",VLOOKUP(BC64,'Footnotes list'!$D$9:$E$58,2,FALSE) ) )","v":""},{"$f":"IF(AND(TRIM(BE62)=\"\",TRIM(BE63)=\"\"),\"\",BE62+BE63)","v":""},null,null,null,{"$f":"IF(TRIM(BH64)=\"\", \"\", IF(VLOOKUP(BH64,'Footnotes list'!$D$9:$E$58,2,FALSE)=0,\"\",VLOOKUP(BH64,'Footnotes list'!$D$9:$E$58,2,FALSE) ) )","v":""},{"$f":"IF(AND(TRIM(BJ62)=\"\",TRIM(BJ63)=\"\"),\"\",BJ62+BJ63)","v":""},null,null,null,{"$f":"IF(TRIM(BM64)=\"\", \"\", IF(VLOOKUP(BM64,'Footnotes list'!$D$9:$E$58,2,FALSE)=0,\"\",VLOOKUP(BM64,'Footnotes list'!$D$9:$E$58,2,FALSE) ) )","v":""},{"$f":"IF(AND(TRIM(BO62)=\"\", TRIM(BO63)=\"\"), \"\", (IF(ISNUMBER(BO62),BO62,0)+IF(ISNUMBER(BO63),BO63,0)))","v":""},null,null,null,{"$f":"IF(TRIM(BR64)=\"\", \"\", IF(VLOOKUP(BR64,'Footnotes list'!$D$9:$E$58,2,FALSE)=0,\"\",VLOOKUP(BR64,'Footnotes list'!$D$9:$E$58,2,FALSE) ) )","v":""},{"$f":"IF(AND(TRIM(BT62)=\"\",TRIM(BT63)=\"\"),\"\",BT62+BT63)","v":""},null,null,null,{"$f":"IF(TRIM(BW64)=\"\", \"\", IF(VLOOKUP(BW64,'Footnotes list'!$D$9:$E$58,2,FALSE)=0,\"\",VLOOKUP(BW64,'Footnotes list'!$D$9:$E$58,2,FALSE) ) )","v":""},{"$f":"IF(AND(TRIM(BY62)=\"\",TRIM(BY63)=\"\"),\"\",BY62+BY63)","v":""},null,null,null,{"$f":"IF(TRIM(CB64)=\"\", \"\", IF(VLOOKUP(CB64,'Footnotes list'!$D$9:$E$58,2,FALSE)=0,\"\",VLOOKUP(CB64,'Footnotes list'!$D$9:$E$58,2,FALSE) ) )","v":""},{"$f":"IF(AND(TRIM(CD62)=\"\",TRIM(CD63)=\"\"),\"\",CD62+CD63)","v":""},null,null,null,{"$f":"IF(TRIM(CG64)=\"\", \"\", IF(VLOOKUP(CG64,'Footnotes list'!$D$9:$E$58,2,FALSE)=0,\"\",VLOOKUP(CG64,'Footnotes list'!$D$9:$E$58,2,FALSE) ) )","v":""},{"$f":"IF(AND(TRIM(CI62)=\"\", TRIM(CI63)=\"\"), \"\", (IF(ISNUMBER(CI62),CI62,0)+IF(ISNUMBER(CI63),CI63,0)))","v":""},null,null,null,{"$f":"IF(TRIM(CL64)=\"\", \"\", IF(VLOOKUP(CL64,'Footnotes list'!$D$9:$E$58,2,FALSE)=0,\"\",VLOOKUP(CL64,'Footnotes list'!$D$9:$E$58,2,FALSE) ) )","v":""},{"$f":"IF(AND(TRIM(CN62)=\"\",TRIM(CN63)=\"\"),\"\",CN62+CN63)","v":""},null,null,null,{"$f":"IF(TRIM(CQ64)=\"\", \"\", IF(VLOOKUP(CQ64,'Footnotes list'!$D$9:$E$58,2,FALSE)=0,\"\",VLOOKUP(CQ64,'Footnotes list'!$D$9:$E$58,2,FALSE) ) )","v":""},{"$f":"IF(AND(TRIM(CS62)=\"\",TRIM(CS63)=\"\"),\"\",CS62+CS63)","v":""},null,null,null,{"$f":"IF(TRIM(CV64)=\"\", \"\", IF(VLOOKUP(CV64,'Footnotes list'!$D$9:$E$58,2,FALSE)=0,\"\",VLOOKUP(CV64,'Footnotes list'!$D$9:$E$58,2,FALSE) ) )","v":""},{"$f":"IF(AND(TRIM(CX62)=\"\",TRIM(CX63)=\"\"),\"\",CX62+CX63)","v":""},null,null,null,{"$f":"IF(TRIM(DA64)=\"\", \"\", IF(VLOOKUP(DA64,'Footnotes list'!$D$9:$E$58,2,FALSE)=0,\"\",VLOOKUP(DA64,'Footnotes list'!$D$9:$E$58,2,FALSE) ) )","v":""},{"$f":"IF(AND(TRIM(DC62)=\"\",TRIM(DC63)=\"\"),\"\",DC62+DC63)","v":""},null,null,null,{"$f":"IF(TRIM(DF64)=\"\", \"\", IF(VLOOKUP(DF64,'Footnotes list'!$D$9:$E$58,2,FALSE)=0,\"\",VLOOKUP(DF64,'Footnotes list'!$D$9:$E$58,2,FALSE) ) )","v":""},{"$f":"IF(AND(TRIM(DH62)=\"\", TRIM(DH63)=\"\"), \"\", SUM(DH62,DH63) )","v":""},null,null,null,{"$f":"IF(TRIM(DK64)=\"\", \"\", IF(VLOOKUP(DK64,'Footnotes list'!$D$9:$E$58,2,FALSE)=0,\"\",VLOOKUP(DK64,'Footnotes list'!$D$9:$E$58,2,FALSE) ) )","v":""}]
[null,"W0841","W0841","Batteries and accumulators wastes ","HAZ","Hazardous ",null,null,null,null,{"$f":"IF(TRIM(J65)=\"\", \"\", IF(VLOOKUP(J65,'Footnotes list'!$D$9:$E$58,2,FALSE)=0,\"\",VLOOKUP(J65,'Footnotes list'!$D$9:$E$58,2,FALSE) ) )","v":""},null,null,null,null,{"$f":"IF(TRIM(O65)=\"\", \"\", IF(VLOOKUP(O65,'Footnotes list'!$D$9:$E$58,2,FALSE)=0,\"\",VLOOKUP(O65,'Footnotes list'!$D$9:$E$58,2,FALSE) ) )","v":""},null,null,null,null,{"$f":"IF(TRIM(T65)=\"\", \"\", IF(VLOOKUP(T65,'Footnotes list'!$D$9:$E$58,2,FALSE)=0,\"\",VLOOKUP(T65,'Footnotes list'!$D$9:$E$58,2,FALSE) ) )","v":""},null,null,null,null,{"$f":"IF(TRIM(Y65)=\"\", \"\", IF(VLOOKUP(Y65,'Footnotes list'!$D$9:$E$58,2,FALSE)=0,\"\",VLOOKUP(Y65,'Footnotes list'!$D$9:$E$58,2,FALSE) ) )","v":""},null,null,null,null,{"$f":"IF(TRIM(AD65)=\"\", \"\", IF(VLOOKUP(AD65,'Footnotes list'!$D$9:$E$58,2,FALSE)=0,\"\",VLOOKUP(AD65,'Footnotes list'!$D$9:$E$58,2,FALSE) ) )","v":""},null,null,null,null,{"$f":"IF(TRIM(AI65)=\"\", \"\", IF(VLOOKUP(AI65,'Footnotes list'!$D$9:$E$58,2,FALSE)=0,\"\",VLOOKUP(AI65,'Footnotes list'!$D$9:$E$58,2,FALSE) ) )","v":""},null,null,null,null,{"$f":"IF(TRIM(AN65)=\"\", \"\", IF(VLOOKUP(AN65,'Footnotes list'!$D$9:$E$58,2,FALSE)=0,\"\",VLOOKUP(AN65,'Footnotes list'!$D$9:$E$58,2,FALSE) ) )","v":""},null,null,null,null,{"$f":"IF(TRIM(AS65)=\"\", \"\", IF(VLOOKUP(AS65,'Footnotes list'!$D$9:$E$58,2,FALSE)=0,\"\",VLOOKUP(AS65,'Footnotes list'!$D$9:$E$58,2,FALSE) ) )","v":""},null,null,null,null,{"$f":"IF(TRIM(AX65)=\"\", \"\", IF(VLOOKUP(AX65,'Footnotes list'!$D$9:$E$58,2,FALSE)=0,\"\",VLOOKUP(AX65,'Footnotes list'!$D$9:$E$58,2,FALSE) ) )","v":""},null,null,null,null,{"$f":"IF(TRIM(BC65)=\"\", \"\", IF(VLOOKUP(BC65,'Footnotes list'!$D$9:$E$58,2,FALSE)=0,\"\",VLOOKUP(BC65,'Footnotes list'!$D$9:$E$58,2,FALSE) ) )","v":""},null,null,null,null,{"$f":"IF(TRIM(BH65)=\"\", \"\", IF(VLOOKUP(BH65,'Footnotes list'!$D$9:$E$58,2,FALSE)=0,\"\",VLOOKUP(BH65,'Footnotes list'!$D$9:$E$58,2,FALSE) ) )","v":""},null,null,null,null,{"$f":"IF(TRIM(BM65)=\"\", \"\", IF(VLOOKUP(BM65,'Footnotes list'!$D$9:$E$58,2,FALSE)=0,\"\",VLOOKUP(BM65,'Footnotes list'!$D$9:$E$58,2,FALSE) ) )","v":""},{"$f":"IF(AND(TRIM(Q65)=\"\",TRIM(V65)=\"\",TRIM(AA65)=\"\", TRIM(AF65)=\"\", TRIM(AK65)=\"\", TRIM(AP65)=\"\", TRIM(AU65)=\"\", TRIM(AZ65)=\"\", TRIM(BE65)=\"\", TRIM(BJ65)=\"\"),\"\",Q65+V65+AA65+AF65+AK65+AP65+AU65+AZ65+BE65+BJ65)","v":""},null,null,null,{"$f":"IF(TRIM(BR65)=\"\", \"\", IF(VLOOKUP(BR65,'Footnotes list'!$D$9:$E$58,2,FALSE)=0,\"\",VLOOKUP(BR65,'Footnotes list'!$D$9:$E$58,2,FALSE) ) )","v":""},null,null,null,null,{"$f":"IF(TRIM(BW65)=\"\", \"\", IF(VLOOKUP(BW65,'Footnotes list'!$D$9:$E$58,2,FALSE)=0,\"\",VLOOKUP(BW65,'Footnotes list'!$D$9:$E$58,2,FALSE) ) )","v":""},null,null,null,null,{"$f":"IF(TRIM(CB65)=\"\", \"\", IF(VLOOKUP(CB65,'Footnotes list'!$D$9:$E$58,2,FALSE)=0,\"\",VLOOKUP(CB65,'Footnotes list'!$D$9:$E$58,2,FALSE) ) )","v":""},null,null,null,null,{"$f":"IF(TRIM(CG65)=\"\", \"\", IF(VLOOKUP(CG65,'Footnotes list'!$D$9:$E$58,2,FALSE)=0,\"\",VLOOKUP(CG65,'Footnotes list'!$D$9:$E$58,2,FALSE) ) )","v":""},{"$f":"IF(AND(TRIM(BY65)=\"\",TRIM(CD65)=\"\"),\"\",BY65+CD65)","v":""},null,null,null,{"$f":"IF(TRIM(CL65)=\"\", \"\", IF(VLOOKUP(CL65,'Footnotes list'!$D$9:$E$58,2,FALSE)=0,\"\",VLOOKUP(CL65,'Footnotes list'!$D$9:$E$58,2,FALSE) ) )","v":""},null,null,null,null,{"$f":"IF(TRIM(CQ65)=\"\", \"\", IF(VLOOKUP(CQ65,'Footnotes list'!$D$9:$E$58,2,FALSE)=0,\"\",VLOOKUP(CQ65,'Footnotes list'!$D$9:$E$58,2,FALSE) ) )","v":""},null,null,null,null,{"$f":"IF(TRIM(CV65)=\"\", \"\", IF(VLOOKUP(CV65,'Footnotes list'!$D$9:$E$58,2,FALSE)=0,\"\",VLOOKUP(CV65,'Footnotes list'!$D$9:$E$58,2,FALSE) ) )","v":""},null,null,null,null,{"$f":"IF(TRIM(DA65)=\"\", \"\", IF(VLOOKUP(DA65,'Footnotes list'!$D$9:$E$58,2,FALSE)=0,\"\",VLOOKUP(DA65,'Footnotes list'!$D$9:$E$58,2,FALSE) ) )","v":""},null,null,null,null,{"$f":"IF(TRIM(DF65)=\"\", \"\", IF(VLOOKUP(DF65,'Footnotes list'!$D$9:$E$58,2,FALSE)=0,\"\",VLOOKUP(DF65,'Footnotes list'!$D$9:$E$58,2,FALSE) ) )","v":""},{"$f":"IF(AND(TRIM(G65)=\"\",TRIM(L65)=\"\",TRIM(BO65)=\"\",TRIM(BT65)=\"\",TRIM(CI65)=\"\",TRIM(CN65)=\"\",TRIM(CS65)=\"\",TRIM(CX65)=\"\",TRIM(DC65)=\"\"),\"\",SUM(G65,L65,BO65,BT65,CI65,CN65,CS65,CX65,DC65))","v":""},null,null,null,{"$f":"IF(TRIM(DK65)=\"\", \"\", IF(VLOOKUP(DK65,'Footnotes list'!$D$9:$E$58,2,FALSE)=0,\"\",VLOOKUP(DK65,'Footnotes list'!$D$9:$E$58,2,FALSE) ) )","v":""}]
[null,null,"W0841",null,"NHAZ","Non-hazardous",null,null,null,null,{"$f":"IF(TRIM(J66)=\"\", \"\", IF(VLOOKUP(J66,'Footnotes list'!$D$9:$E$58,2,FALSE)=0,\"\",VLOOKUP(J66,'Footnotes list'!$D$9:$E$58,2,FALSE) ) )","v":""},null,null,null,null,{"$f":"IF(TRIM(O66)=\"\", \"\", IF(VLOOKUP(O66,'Footnotes list'!$D$9:$E$58,2,FALSE)=0,\"\",VLOOKUP(O66,'Footnotes list'!$D$9:$E$58,2,FALSE) ) )","v":""},null,null,null,null,{"$f":"IF(TRIM(T66)=\"\", \"\", IF(VLOOKUP(T66,'Footnotes list'!$D$9:$E$58,2,FALSE)=0,\"\",VLOOKUP(T66,'Footnotes list'!$D$9:$E$58,2,FALSE) ) )","v":""},null,null,null,null,{"$f":"IF(TRIM(Y66)=\"\", \"\", IF(VLOOKUP(Y66,'Footnotes list'!$D$9:$E$58,2,FALSE)=0,\"\",VLOOKUP(Y66,'Footnotes list'!$D$9:$E$58,2,FALSE) ) )","v":""},null,null,null,null,{"$f":"IF(TRIM(AD66)=\"\", \"\", IF(VLOOKUP(AD66,'Footnotes list'!$D$9:$E$58,2,FALSE)=0,\"\",VLOOKUP(AD66,'Footnotes list'!$D$9:$E$58,2,FALSE) ) )","v":""},null,null,null,null,{"$f":"IF(TRIM(AI66)=\"\", \"\", IF(VLOOKUP(AI66,'Footnotes list'!$D$9:$E$58,2,FALSE)=0,\"\",VLOOKUP(AI66,'Footnotes list'!$D$9:$E$58,2,FALSE) ) )","v":""},null,null,null,null,{"$f":"IF(TRIM(AN66)=\"\", \"\", IF(VLOOKUP(AN66,'Footnotes list'!$D$9:$E$58,2,FALSE)=0,\"\",VLOOKUP(AN66,'Footnotes list'!$D$9:$E$58,2,FALSE) ) )","v":""},null,null,null,null,{"$f":"IF(TRIM(AS66)=\"\", \"\", IF(VLOOKUP(AS66,'Footnotes list'!$D$9:$E$58,2,FALSE)=0,\"\",VLOOKUP(AS66,'Footnotes list'!$D$9:$E$58,2,FALSE) ) )","v":""},null,null,null,null,{"$f":"IF(TRIM(AX66)=\"\", \"\", IF(VLOOKUP(AX66,'Footnotes list'!$D$9:$E$58,2,FALSE)=0,\"\",VLOOKUP(AX66,'Footnotes list'!$D$9:$E$58,2,FALSE) ) )","v":""},null,null,null,null,{"$f":"IF(TRIM(BC66)=\"\", \"\", IF(VLOOKUP(BC66,'Footnotes list'!$D$9:$E$58,2,FALSE)=0,\"\",VLOOKUP(BC66,'Footnotes list'!$D$9:$E$58,2,FALSE) ) )","v":""},null,null,null,null,{"$f":"IF(TRIM(BH66)=\"\", \"\", IF(VLOOKUP(BH66,'Footnotes list'!$D$9:$E$58,2,FALSE)=0,\"\",VLOOKUP(BH66,'Footnotes list'!$D$9:$E$58,2,FALSE) ) )","v":""},null,null,null,null,{"$f":"IF(TRIM(BM66)=\"\", \"\", IF(VLOOKUP(BM66,'Footnotes list'!$D$9:$E$58,2,FALSE)=0,\"\",VLOOKUP(BM66,'Footnotes list'!$D$9:$E$58,2,FALSE) ) )","v":""},{"$f":"IF(AND(TRIM(Q66)=\"\",TRIM(V66)=\"\",TRIM(AA66)=\"\", TRIM(AF66)=\"\", TRIM(AK66)=\"\", TRIM(AP66)=\"\", TRIM(AU66)=\"\", TRIM(AZ66)=\"\", TRIM(BE66)=\"\", TRIM(BJ66)=\"\"),\"\",Q66+V66+AA66+AF66+AK66+AP66+AU66+AZ66+BE66+BJ66)","v":""},null,null,null,{"$f":"IF(TRIM(BR66)=\"\", \"\", IF(VLOOKUP(BR66,'Footnotes list'!$D$9:$E$58,2,FALSE)=0,\"\",VLOOKUP(BR66,'Footnotes list'!$D$9:$E$58,2,FALSE) ) )","v":""},null,null,null,null,{"$f":"IF(TRIM(BW66)=\"\", \"\", IF(VLOOKUP(BW66,'Footnotes list'!$D$9:$E$58,2,FALSE)=0,\"\",VLOOKUP(BW66,'Footnotes list'!$D$9:$E$58,2,FALSE) ) )","v":""},null,null,null,null,{"$f":"IF(TRIM(CB66)=\"\", \"\", IF(VLOOKUP(CB66,'Footnotes list'!$D$9:$E$58,2,FALSE)=0,\"\",VLOOKUP(CB66,'Footnotes list'!$D$9:$E$58,2,FALSE) ) )","v":""},null,null,null,null,{"$f":"IF(TRIM(CG66)=\"\", \"\", IF(VLOOKUP(CG66,'Footnotes list'!$D$9:$E$58,2,FALSE)=0,\"\",VLOOKUP(CG66,'Footnotes list'!$D$9:$E$58,2,FALSE) ) )","v":""},{"$f":"IF(AND(TRIM(BY66)=\"\",TRIM(CD66)=\"\"),\"\",BY66+CD66)","v":""},null,null,null,{"$f":"IF(TRIM(CL66)=\"\", \"\", IF(VLOOKUP(CL66,'Footnotes list'!$D$9:$E$58,2,FALSE)=0,\"\",VLOOKUP(CL66,'Footnotes list'!$D$9:$E$58,2,FALSE) ) )","v":""},null,null,null,null,{"$f":"IF(TRIM(CQ66)=\"\", \"\", IF(VLOOKUP(CQ66,'Footnotes list'!$D$9:$E$58,2,FALSE)=0,\"\",VLOOKUP(CQ66,'Footnotes list'!$D$9:$E$58,2,FALSE) ) )","v":""},null,null,null,null,{"$f":"IF(TRIM(CV66)=\"\", \"\", IF(VLOOKUP(CV66,'Footnotes list'!$D$9:$E$58,2,FALSE)=0,\"\",VLOOKUP(CV66,'Footnotes list'!$D$9:$E$58,2,FALSE) ) )","v":""},null,null,null,null,{"$f":"IF(TRIM(DA66)=\"\", \"\", IF(VLOOKUP(DA66,'Footnotes list'!$D$9:$E$58,2,FALSE)=0,\"\",VLOOKUP(DA66,'Footnotes list'!$D$9:$E$58,2,FALSE) ) )","v":""},null,null,null,null,{"$f":"IF(TRIM(DF66)=\"\", \"\", IF(VLOOKUP(DF66,'Footnotes list'!$D$9:$E$58,2,FALSE)=0,\"\",VLOOKUP(DF66,'Footnotes list'!$D$9:$E$58,2,FALSE) ) )","v":""},{"$f":"IF(AND(TRIM(G66)=\"\",TRIM(L66)=\"\",TRIM(BO66)=\"\",TRIM(BT66)=\"\",TRIM(CI66)=\"\",TRIM(CN66)=\"\",TRIM(CS66)=\"\",TRIM(CX66)=\"\",TRIM(DC66)=\"\"),\"\",SUM(G66,L66,BO66,BT66,CI66,CN66,CS66,CX66,DC66))","v":""},null,null,null,{"$f":"IF(TRIM(DK66)=\"\", \"\", IF(VLOOKUP(DK66,'Footnotes list'!$D$9:$E$58,2,FALSE)=0,\"\",VLOOKUP(DK66,'Footnotes list'!$D$9:$E$58,2,FALSE) ) )","v":""}]
[null,null,"W0841",null,"HAZ_NHAZ","Total",{"$f":"IF(AND(TRIM(G65)=\"\",TRIM(G66)=\"\"),\"\",G65+G66)","v":""},null,null,null,{"$f":"IF(TRIM(J67)=\"\", \"\", IF(VLOOKUP(J67,'Footnotes list'!$D$9:$E$58,2,FALSE)=0,\"\",VLOOKUP(J67,'Footnotes list'!$D$9:$E$58,2,FALSE) ) )","v":""},{"$f":"IF(AND(TRIM(L65)=\"\",TRIM(L66)=\"\"),\"\",L65+L66)","v":""},null,null,null,{"$f":"IF(TRIM(O67)=\"\", \"\", IF(VLOOKUP(O67,'Footnotes list'!$D$9:$E$58,2,FALSE)=0,\"\",VLOOKUP(O67,'Footnotes list'!$D$9:$E$58,2,FALSE) ) )","v":""},{"$f":"IF(AND(TRIM(Q65)=\"\",TRIM(Q66)=\"\"),\"\",Q65+Q66)","v":""},null,null,null,{"$f":"IF(TRIM(T67)=\"\", \"\", IF(VLOOKUP(T67,'Footnotes list'!$D$9:$E$58,2,FALSE)=0,\"\",VLOOKUP(T67,'Footnotes list'!$D$9:$E$58,2,FALSE) ) )","v":""},{"$f":"IF(AND(TRIM(V65)=\"\",TRIM(V66)=\"\"),\"\",V65+V66)","v":""},null,null,null,{"$f":"IF(TRIM(Y67)=\"\", \"\", IF(VLOOKUP(Y67,'Footnotes list'!$D$9:$E$58,2,FALSE)=0,\"\",VLOOKUP(Y67,'Footnotes list'!$D$9:$E$58,2,FALSE) ) )","v":""},{"$f":"IF(AND(TRIM(AA65)=\"\",TRIM(AA66)=\"\"),\"\",AA65+AA66)","v":""},null,null,null,{"$f":"IF(TRIM(AD67)=\"\", \"\", IF(VLOOKUP(AD67,'Footnotes list'!$D$9:$E$58,2,FALSE)=0,\"\",VLOOKUP(AD67,'Footnotes list'!$D$9:$E$58,2,FALSE) ) )","v":""},{"$f":"IF(AND(TRIM(AF65)=\"\",TRIM(AF66)=\"\"),\"\",AF65+AF66)","v":""},null,null,null,{"$f":"IF(TRIM(AI67)=\"\", \"\", IF(VLOOKUP(AI67,'Footnotes list'!$D$9:$E$58,2,FALSE)=0,\"\",VLOOKUP(AI67,'Footnotes list'!$D$9:$E$58,2,FALSE) ) )","v":""},{"$f":"IF(AND(TRIM(AK65)=\"\",TRIM(AK66)=\"\"),\"\",AK65+AK66)","v":""},null,null,null,{"$f":"IF(TRIM(AN67)=\"\", \"\", IF(VLOOKUP(AN67,'Footnotes list'!$D$9:$E$58,2,FALSE)=0,\"\",VLOOKUP(AN67,'Footnotes list'!$D$9:$E$58,2,FALSE) ) )","v":""},{"$f":"IF(AND(TRIM(AP65)=\"\",TRIM(AP66)=\"\"),\"\",AP65+AP66)","v":""},null,null,null,{"$f":"IF(TRIM(AS67)=\"\", \"\", IF(VLOOKUP(AS67,'Footnotes list'!$D$9:$E$58,2,FALSE)=0,\"\",VLOOKUP(AS67,'Footnotes list'!$D$9:$E$58,2,FALSE) ) )","v":""},{"$f":"IF(AND(TRIM(AU65)=\"\",TRIM(AU66)=\"\"),\"\",AU65+AU66)","v":""},null,null,null,{"$f":"IF(TRIM(AX67)=\"\", \"\", IF(VLOOKUP(AX67,'Footnotes list'!$D$9:$E$58,2,FALSE)=0,\"\",VLOOKUP(AX67,'Footnotes list'!$D$9:$E$58,2,FALSE) ) )","v":""},{"$f":"IF(AND(TRIM(AZ65)=\"\",TRIM(AZ66)=\"\"),\"\",AZ65+AZ66)","v":""},null,null,null,{"$f":"IF(TRIM(BC67)=\"\", \"\", IF(VLOOKUP(BC67,'Footnotes list'!$D$9:$E$58,2,FALSE)=0,\"\",VLOOKUP(BC67,'Footnotes list'!$D$9:$E$58,2,FALSE) ) )","v":""},{"$f":"IF(AND(TRIM(BE65)=\"\",TRIM(BE66)=\"\"),\"\",BE65+BE66)","v":""},null,null,null,{"$f":"IF(TRIM(BH67)=\"\", \"\", IF(VLOOKUP(BH67,'Footnotes list'!$D$9:$E$58,2,FALSE)=0,\"\",VLOOKUP(BH67,'Footnotes list'!$D$9:$E$58,2,FALSE) ) )","v":""},{"$f":"IF(AND(TRIM(BJ65)=\"\",TRIM(BJ66)=\"\"),\"\",BJ65+BJ66)","v":""},null,null,null,{"$f":"IF(TRIM(BM67)=\"\", \"\", IF(VLOOKUP(BM67,'Footnotes list'!$D$9:$E$58,2,FALSE)=0,\"\",VLOOKUP(BM67,'Footnotes list'!$D$9:$E$58,2,FALSE) ) )","v":""},{"$f":"IF(AND(TRIM(BO65)=\"\", TRIM(BO66)=\"\"), \"\", (IF(ISNUMBER(BO65),BO65,0)+IF(ISNUMBER(BO66),BO66,0)))","v":""},null,null,null,{"$f":"IF(TRIM(BR67)=\"\", \"\", IF(VLOOKUP(BR67,'Footnotes list'!$D$9:$E$58,2,FALSE)=0,\"\",VLOOKUP(BR67,'Footnotes list'!$D$9:$E$58,2,FALSE) ) )","v":""},{"$f":"IF(AND(TRIM(BT65)=\"\",TRIM(BT66)=\"\"),\"\",BT65+BT66)","v":""},null,null,null,{"$f":"IF(TRIM(BW67)=\"\", \"\", IF(VLOOKUP(BW67,'Footnotes list'!$D$9:$E$58,2,FALSE)=0,\"\",VLOOKUP(BW67,'Footnotes list'!$D$9:$E$58,2,FALSE) ) )","v":""},{"$f":"IF(AND(TRIM(BY65)=\"\",TRIM(BY66)=\"\"),\"\",BY65+BY66)","v":""},null,null,null,{"$f":"IF(TRIM(CB67)=\"\", \"\", IF(VLOOKUP(CB67,'Footnotes list'!$D$9:$E$58,2,FALSE)=0,\"\",VLOOKUP(CB67,'Footnotes list'!$D$9:$E$58,2,FALSE) ) )","v":""},{"$f":"IF(AND(TRIM(CD65)=\"\",TRIM(CD66)=\"\"),\"\",CD65+CD66)","v":""},null,null,null,{"$f":"IF(TRIM(CG67)=\"\", \"\", IF(VLOOKUP(CG67,'Footnotes list'!$D$9:$E$58,2,FALSE)=0,\"\",VLOOKUP(CG67,'Footnotes list'!$D$9:$E$58,2,FALSE) ) )","v":""},{"$f":"IF(AND(TRIM(CI65)=\"\", TRIM(CI66)=\"\"), \"\", (IF(ISNUMBER(CI65),CI65,0)+IF(ISNUMBER(CI66),CI66,0)))","v":""},null,null,null,{"$f":"IF(TRIM(CL67)=\"\", \"\", IF(VLOOKUP(CL67,'Footnotes list'!$D$9:$E$58,2,FALSE)=0,\"\",VLOOKUP(CL67,'Footnotes list'!$D$9:$E$58,2,FALSE) ) )","v":""},{"$f":"IF(AND(TRIM(CN65)=\"\",TRIM(CN66)=\"\"),\"\",CN65+CN66)","v":""},null,null,null,{"$f":"IF(TRIM(CQ67)=\"\", \"\", IF(VLOOKUP(CQ67,'Footnotes list'!$D$9:$E$58,2,FALSE)=0,\"\",VLOOKUP(CQ67,'Footnotes list'!$D$9:$E$58,2,FALSE) ) )","v":""},{"$f":"IF(AND(TRIM(CS65)=\"\",TRIM(CS66)=\"\"),\"\",CS65+CS66)","v":""},null,null,null,{"$f":"IF(TRIM(CV67)=\"\", \"\", IF(VLOOKUP(CV67,'Footnotes list'!$D$9:$E$58,2,FALSE)=0,\"\",VLOOKUP(CV67,'Footnotes list'!$D$9:$E$58,2,FALSE) ) )","v":""},{"$f":"IF(AND(TRIM(CX65)=\"\",TRIM(CX66)=\"\"),\"\",CX65+CX66)","v":""},null,null,null,{"$f":"IF(TRIM(DA67)=\"\", \"\", IF(VLOOKUP(DA67,'Footnotes list'!$D$9:$E$58,2,FALSE)=0,\"\",VLOOKUP(DA67,'Footnotes list'!$D$9:$E$58,2,FALSE) ) )","v":""},{"$f":"IF(AND(TRIM(DC65)=\"\",TRIM(DC66)=\"\"),\"\",DC65+DC66)","v":""},null,null,null,{"$f":"IF(TRIM(DF67)=\"\", \"\", IF(VLOOKUP(DF67,'Footnotes list'!$D$9:$E$58,2,FALSE)=0,\"\",VLOOKUP(DF67,'Footnotes list'!$D$9:$E$58,2,FALSE) ) )","v":""},{"$f":"IF(AND(TRIM(DH65)=\"\", TRIM(DH66)=\"\"), \"\", SUM(DH65,DH66) )","v":""},null,null,null,{"$f":"IF(TRIM(DK67)=\"\", \"\", IF(VLOOKUP(DK67,'Footnotes list'!$D$9:$E$58,2,FALSE)=0,\"\",VLOOKUP(DK67,'Footnotes list'!$D$9:$E$58,2,FALSE) ) )","v":""}]
[null,"W091",null,"Animal and mixed food waste ",null,"Not applicable"]
[null,null,"W091",null,"NHAZ","Non-hazardous",null,null,null,null,{"$f":"IF(TRIM(J69)=\"\", \"\", IF(VLOOKUP(J69,'Footnotes list'!$D$9:$E$58,2,FALSE)=0,\"\",VLOOKUP(J69,'Footnotes list'!$D$9:$E$58,2,FALSE) ) )","v":""},null,null,null,null,{"$f":"IF(TRIM(O69)=\"\", \"\", IF(VLOOKUP(O69,'Footnotes list'!$D$9:$E$58,2,FALSE)=0,\"\",VLOOKUP(O69,'Footnotes list'!$D$9:$E$58,2,FALSE) ) )","v":""},null,null,null,null,{"$f":"IF(TRIM(T69)=\"\", \"\", IF(VLOOKUP(T69,'Footnotes list'!$D$9:$E$58,2,FALSE)=0,\"\",VLOOKUP(T69,'Footnotes list'!$D$9:$E$58,2,FALSE) ) )","v":""},null,null,null,null,{"$f":"IF(TRIM(Y69)=\"\", \"\", IF(VLOOKUP(Y69,'Footnotes list'!$D$9:$E$58,2,FALSE)=0,\"\",VLOOKUP(Y69,'Footnotes list'!$D$9:$E$58,2,FALSE) ) )","v":""},null,null,null,null,{"$f":"IF(TRIM(AD69)=\"\", \"\", IF(VLOOKUP(AD69,'Footnotes list'!$D$9:$E$58,2,FALSE)=0,\"\",VLOOKUP(AD69,'Footnotes list'!$D$9:$E$58,2,FALSE) ) )","v":""},null,null,null,null,{"$f":"IF(TRIM(AI69)=\"\", \"\", IF(VLOOKUP(AI69,'Footnotes list'!$D$9:$E$58,2,FALSE)=0,\"\",VLOOKUP(AI69,'Footnotes list'!$D$9:$E$58,2,FALSE) ) )","v":""},null,null,null,null,{"$f":"IF(TRIM(AN69)=\"\", \"\", IF(VLOOKUP(AN69,'Footnotes list'!$D$9:$E$58,2,FALSE)=0,\"\",VLOOKUP(AN69,'Footnotes list'!$D$9:$E$58,2,FALSE) ) )","v":""},null,null,null,null,{"$f":"IF(TRIM(AS69)=\"\", \"\", IF(VLOOKUP(AS69,'Footnotes list'!$D$9:$E$58,2,FALSE)=0,\"\",VLOOKUP(AS69,'Footnotes list'!$D$9:$E$58,2,FALSE) ) )","v":""},null,null,null,null,{"$f":"IF(TRIM(AX69)=\"\", \"\", IF(VLOOKUP(AX69,'Footnotes list'!$D$9:$E$58,2,FALSE)=0,\"\",VLOOKUP(AX69,'Footnotes list'!$D$9:$E$58,2,FALSE) ) )","v":""},null,null,null,null,{"$f":"IF(TRIM(BC69)=\"\", \"\", IF(VLOOKUP(BC69,'Footnotes list'!$D$9:$E$58,2,FALSE)=0,\"\",VLOOKUP(BC69,'Footnotes list'!$D$9:$E$58,2,FALSE) ) )","v":""},null,null,null,null,{"$f":"IF(TRIM(BH69)=\"\", \"\", IF(VLOOKUP(BH69,'Footnotes list'!$D$9:$E$58,2,FALSE)=0,\"\",VLOOKUP(BH69,'Footnotes list'!$D$9:$E$58,2,FALSE) ) )","v":""},null,null,null,null,{"$f":"IF(TRIM(BM69)=\"\", \"\", IF(VLOOKUP(BM69,'Footnotes list'!$D$9:$E$58,2,FALSE)=0,\"\",VLOOKUP(BM69,'Footnotes list'!$D$9:$E$58,2,FALSE) ) )","v":""},{"$f":"IF(AND(TRIM(Q69)=\"\",TRIM(V69)=\"\",TRIM(AA69)=\"\", TRIM(AF69)=\"\", TRIM(AK69)=\"\", TRIM(AP69)=\"\", TRIM(AU69)=\"\", TRIM(AZ69)=\"\", TRIM(BE69)=\"\", TRIM(BJ69)=\"\"),\"\",Q69+V69+AA69+AF69+AK69+AP69+AU69+AZ69+BE69+BJ69)","v":""},null,null,null,{"$f":"IF(TRIM(BR69)=\"\", \"\", IF(VLOOKUP(BR69,'Footnotes list'!$D$9:$E$58,2,FALSE)=0,\"\",VLOOKUP(BR69,'Footnotes list'!$D$9:$E$58,2,FALSE) ) )","v":""},null,null,null,null,{"$f":"IF(TRIM(BW69)=\"\", \"\", IF(VLOOKUP(BW69,'Footnotes list'!$D$9:$E$58,2,FALSE)=0,\"\",VLOOKUP(BW69,'Footnotes list'!$D$9:$E$58,2,FALSE) ) )","v":""},null,null,null,null,{"$f":"IF(TRIM(CB69)=\"\", \"\", IF(VLOOKUP(CB69,'Footnotes list'!$D$9:$E$58,2,FALSE)=0,\"\",VLOOKUP(CB69,'Footnotes list'!$D$9:$E$58,2,FALSE) ) )","v":""},null,null,null,null,{"$f":"IF(TRIM(CG69)=\"\", \"\", IF(VLOOKUP(CG69,'Footnotes list'!$D$9:$E$58,2,FALSE)=0,\"\",VLOOKUP(CG69,'Footnotes list'!$D$9:$E$58,2,FALSE) ) )","v":""},{"$f":"IF(AND(TRIM(BY69)=\"\",TRIM(CD69)=\"\"),\"\",BY69+CD69)","v":""},null,null,null,{"$f":"IF(TRIM(CL69)=\"\", \"\", IF(VLOOKUP(CL69,'Footnotes list'!$D$9:$E$58,2,FALSE)=0,\"\",VLOOKUP(CL69,'Footnotes list'!$D$9:$E$58,2,FALSE) ) )","v":""},null,null,null,null,{"$f":"IF(TRIM(CQ69)=\"\", \"\", IF(VLOOKUP(CQ69,'Footnotes list'!$D$9:$E$58,2,FALSE)=0,\"\",VLOOKUP(CQ69,'Footnotes list'!$D$9:$E$58,2,FALSE) ) )","v":""},null,null,null,null,{"$f":"IF(TRIM(CV69)=\"\", \"\", IF(VLOOKUP(CV69,'Footnotes list'!$D$9:$E$58,2,FALSE)=0,\"\",VLOOKUP(CV69,'Footnotes list'!$D$9:$E$58,2,FALSE) ) )","v":""},null,null,null,null,{"$f":"IF(TRIM(DA69)=\"\", \"\", IF(VLOOKUP(DA69,'Footnotes list'!$D$9:$E$58,2,FALSE)=0,\"\",VLOOKUP(DA69,'Footnotes list'!$D$9:$E$58,2,FALSE) ) )","v":""},null,null,null,null,{"$f":"IF(TRIM(DF69)=\"\", \"\", IF(VLOOKUP(DF69,'Footnotes list'!$D$9:$E$58,2,FALSE)=0,\"\",VLOOKUP(DF69,'Footnotes list'!$D$9:$E$58,2,FALSE) ) )","v":""},{"$f":"IF(AND(TRIM(G69)=\"\",TRIM(L69)=\"\",TRIM(BO69)=\"\",TRIM(BT69)=\"\",TRIM(CI69)=\"\",TRIM(CN69)=\"\",TRIM(CS69)=\"\",TRIM(CX69)=\"\",TRIM(DC69)=\"\"),\"\",SUM(G69,L69,BO69,BT69,CI69,CN69,CS69,CX69,DC69))","v":""},null,null,null,{"$f":"IF(TRIM(DK69)=\"\", \"\", IF(VLOOKUP(DK69,'Footnotes list'!$D$9:$E$58,2,FALSE)=0,\"\",VLOOKUP(DK69,'Footnotes list'!$D$9:$E$58,2,FALSE) ) )","v":""}]
[null,null,"W091",null,"HAZ_NHAZ","Total",{"$f":"IF(AND(TRIM(G68)=\"\",TRIM(G69)=\"\"),\"\",G68+G69)","v":""},null,null,null,{"$f":"IF(TRIM(J70)=\"\", \"\", IF(VLOOKUP(J70,'Footnotes list'!$D$9:$E$58,2,FALSE)=0,\"\",VLOOKUP(J70,'Footnotes list'!$D$9:$E$58,2,FALSE) ) )","v":""},{"$f":"IF(AND(TRIM(L68)=\"\",TRIM(L69)=\"\"),\"\",L68+L69)","v":""},null,null,null,{"$f":"IF(TRIM(O70)=\"\", \"\", IF(VLOOKUP(O70,'Footnotes list'!$D$9:$E$58,2,FALSE)=0,\"\",VLOOKUP(O70,'Footnotes list'!$D$9:$E$58,2,FALSE) ) )","v":""},{"$f":"IF(AND(TRIM(Q68)=\"\",TRIM(Q69)=\"\"),\"\",Q68+Q69)","v":""},null,null,null,{"$f":"IF(TRIM(T70)=\"\", \"\", IF(VLOOKUP(T70,'Footnotes list'!$D$9:$E$58,2,FALSE)=0,\"\",VLOOKUP(T70,'Footnotes list'!$D$9:$E$58,2,FALSE) ) )","v":""},{"$f":"IF(AND(TRIM(V68)=\"\",TRIM(V69)=\"\"),\"\",V68+V69)","v":""},null,null,null,{"$f":"IF(TRIM(Y70)=\"\", \"\", IF(VLOOKUP(Y70,'Footnotes list'!$D$9:$E$58,2,FALSE)=0,\"\",VLOOKUP(Y70,'Footnotes list'!$D$9:$E$58,2,FALSE) ) )","v":""},{"$f":"IF(AND(TRIM(AA68)=\"\",TRIM(AA69)=\"\"),\"\",AA68+AA69)","v":""},null,null,null,{"$f":"IF(TRIM(AD70)=\"\", \"\", IF(VLOOKUP(AD70,'Footnotes list'!$D$9:$E$58,2,FALSE)=0,\"\",VLOOKUP(AD70,'Footnotes list'!$D$9:$E$58,2,FALSE) ) )","v":""},{"$f":"IF(AND(TRIM(AF68)=\"\",TRIM(AF69)=\"\"),\"\",AF68+AF69)","v":""},null,null,null,{"$f":"IF(TRIM(AI70)=\"\", \"\", IF(VLOOKUP(AI70,'Footnotes list'!$D$9:$E$58,2,FALSE)=0,\"\",VLOOKUP(AI70,'Footnotes list'!$D$9:$E$58,2,FALSE) ) )","v":""},{"$f":"IF(AND(TRIM(AK68)=\"\",TRIM(AK69)=\"\"),\"\",AK68+AK69)","v":""},null,null,null,{"$f":"IF(TRIM(AN70)=\"\", \"\", IF(VLOOKUP(AN70,'Footnotes list'!$D$9:$E$58,2,FALSE)=0,\"\",VLOOKUP(AN70,'Footnotes list'!$D$9:$E$58,2,FALSE) ) )","v":""},{"$f":"IF(AND(TRIM(AP68)=\"\",TRIM(AP69)=\"\"),\"\",AP68+AP69)","v":""},null,null,null,{"$f":"IF(TRIM(AS70)=\"\", \"\", IF(VLOOKUP(AS70,'Footnotes list'!$D$9:$E$58,2,FALSE)=0,\"\",VLOOKUP(AS70,'Footnotes list'!$D$9:$E$58,2,FALSE) ) )","v":""},{"$f":"IF(AND(TRIM(AU68)=\"\",TRIM(AU69)=\"\"),\"\",AU68+AU69)","v":""},null,null,null,{"$f":"IF(TRIM(AX70)=\"\", \"\", IF(VLOOKUP(AX70,'Footnotes list'!$D$9:$E$58,2,FALSE)=0,\"\",VLOOKUP(AX70,'Footnotes list'!$D$9:$E$58,2,FALSE) ) )","v":""},{"$f":"IF(AND(TRIM(AZ68)=\"\",TRIM(AZ69)=\"\"),\"\",AZ68+AZ69)","v":""},null,null,null,{"$f":"IF(TRIM(BC70)=\"\", \"\", IF(VLOOKUP(BC70,'Footnotes list'!$D$9:$E$58,2,FALSE)=0,\"\",VLOOKUP(BC70,'Footnotes list'!$D$9:$E$58,2,FALSE) ) )","v":""},{"$f":"IF(AND(TRIM(BE68)=\"\",TRIM(BE69)=\"\"),\"\",BE68+BE69)","v":""},null,null,null,{"$f":"IF(TRIM(BH70)=\"\", \"\", IF(VLOOKUP(BH70,'Footnotes list'!$D$9:$E$58,2,FALSE)=0,\"\",VLOOKUP(BH70,'Footnotes list'!$D$9:$E$58,2,FALSE) ) )","v":""},{"$f":"IF(AND(TRIM(BJ68)=\"\",TRIM(BJ69)=\"\"),\"\",BJ68+BJ69)","v":""},null,null,null,{"$f":"IF(TRIM(BM70)=\"\", \"\", IF(VLOOKUP(BM70,'Footnotes list'!$D$9:$E$58,2,FALSE)=0,\"\",VLOOKUP(BM70,'Footnotes list'!$D$9:$E$58,2,FALSE) ) )","v":""},{"$f":"IF(AND(TRIM(BO68)=\"\", TRIM(BO69)=\"\"), \"\", (IF(ISNUMBER(BO68),BO68,0)+IF(ISNUMBER(BO69),BO69,0)))","v":""},null,null,null,{"$f":"IF(TRIM(BR70)=\"\", \"\", IF(VLOOKUP(BR70,'Footnotes list'!$D$9:$E$58,2,FALSE)=0,\"\",VLOOKUP(BR70,'Footnotes list'!$D$9:$E$58,2,FALSE) ) )","v":""},{"$f":"IF(AND(TRIM(BT68)=\"\",TRIM(BT69)=\"\"),\"\",BT68+BT69)","v":""},null,null,null,{"$f":"IF(TRIM(BW70)=\"\", \"\", IF(VLOOKUP(BW70,'Footnotes list'!$D$9:$E$58,2,FALSE)=0,\"\",VLOOKUP(BW70,'Footnotes list'!$D$9:$E$58,2,FALSE) ) )","v":""},{"$f":"IF(AND(TRIM(BY68)=\"\",TRIM(BY69)=\"\"),\"\",BY68+BY69)","v":""},null,null,null,{"$f":"IF(TRIM(CB70)=\"\", \"\", IF(VLOOKUP(CB70,'Footnotes list'!$D$9:$E$58,2,FALSE)=0,\"\",VLOOKUP(CB70,'Footnotes list'!$D$9:$E$58,2,FALSE) ) )","v":""},{"$f":"IF(AND(TRIM(CD68)=\"\",TRIM(CD69)=\"\"),\"\",CD68+CD69)","v":""},null,null,null,{"$f":"IF(TRIM(CG70)=\"\", \"\", IF(VLOOKUP(CG70,'Footnotes list'!$D$9:$E$58,2,FALSE)=0,\"\",VLOOKUP(CG70,'Footnotes list'!$D$9:$E$58,2,FALSE) ) )","v":""},{"$f":"IF(AND(TRIM(CI68)=\"\", TRIM(CI69)=\"\"), \"\", (IF(ISNUMBER(CI68),CI68,0)+IF(ISNUMBER(CI69),CI69,0)))","v":""},null,null,null,{"$f":"IF(TRIM(CL70)=\"\", \"\", IF(VLOOKUP(CL70,'Footnotes list'!$D$9:$E$58,2,FALSE)=0,\"\",VLOOKUP(CL70,'Footnotes list'!$D$9:$E$58,2,FALSE) ) )","v":""},{"$f":"IF(AND(TRIM(CN68)=\"\",TRIM(CN69)=\"\"),\"\",CN68+CN69)","v":""},null,null,null,{"$f":"IF(TRIM(CQ70)=\"\", \"\", IF(VLOOKUP(CQ70,'Footnotes list'!$D$9:$E$58,2,FALSE)=0,\"\",VLOOKUP(CQ70,'Footnotes list'!$D$9:$E$58,2,FALSE) ) )","v":""},{"$f":"IF(AND(TRIM(CS68)=\"\",TRIM(CS69)=\"\"),\"\",CS68+CS69)","v":""},null,null,null,{"$f":"IF(TRIM(CV70)=\"\", \"\", IF(VLOOKUP(CV70,'Footnotes list'!$D$9:$E$58,2,FALSE)=0,\"\",VLOOKUP(CV70,'Footnotes list'!$D$9:$E$58,2,FALSE) ) )","v":""},{"$f":"IF(AND(TRIM(CX68)=\"\",TRIM(CX69)=\"\"),\"\",CX68+CX69)","v":""},null,null,null,{"$f":"IF(TRIM(DA70)=\"\", \"\", IF(VLOOKUP(DA70,'Footnotes list'!$D$9:$E$58,2,FALSE)=0,\"\",VLOOKUP(DA70,'Footnotes list'!$D$9:$E$58,2,FALSE) ) )","v":""},{"$f":"IF(AND(TRIM(DC68)=\"\",TRIM(DC69)=\"\"),\"\",DC68+DC69)","v":""},null,null,null,{"$f":"IF(TRIM(DF70)=\"\", \"\", IF(VLOOKUP(DF70,'Footnotes list'!$D$9:$E$58,2,FALSE)=0,\"\",VLOOKUP(DF70,'Footnotes list'!$D$9:$E$58,2,FALSE) ) )","v":""},{"$f":"IF(AND(TRIM(DH68)=\"\", TRIM(DH69)=\"\"), \"\", SUM(DH68,DH69) )","v":""},null,null,null,{"$f":"IF(TRIM(DK70)=\"\", \"\", IF(VLOOKUP(DK70,'Footnotes list'!$D$9:$E$58,2,FALSE)=0,\"\",VLOOKUP(DK70,'Footnotes list'!$D$9:$E$58,2,FALSE) ) )","v":""}]
[null,"W092",null,"Vegetal wastes ",null,"Not applicable"]
[null,null,"W092",null,"NHAZ","Non-hazardous",null,null,null,null,{"$f":"IF(TRIM(J72)=\"\", \"\", IF(VLOOKUP(J72,'Footnotes list'!$D$9:$E$58,2,FALSE)=0,\"\",VLOOKUP(J72,'Footnotes list'!$D$9:$E$58,2,FALSE) ) )","v":""},null,null,null,null,{"$f":"IF(TRIM(O72)=\"\", \"\", IF(VLOOKUP(O72,'Footnotes list'!$D$9:$E$58,2,FALSE)=0,\"\",VLOOKUP(O72,'Footnotes list'!$D$9:$E$58,2,FALSE) ) )","v":""},null,null,null,null,{"$f":"IF(TRIM(T72)=\"\", \"\", IF(VLOOKUP(T72,'Footnotes list'!$D$9:$E$58,2,FALSE)=0,\"\",VLOOKUP(T72,'Footnotes list'!$D$9:$E$58,2,FALSE) ) )","v":""},null,null,null,null,{"$f":"IF(TRIM(Y72)=\"\", \"\", IF(VLOOKUP(Y72,'Footnotes list'!$D$9:$E$58,2,FALSE)=0,\"\",VLOOKUP(Y72,'Footnotes list'!$D$9:$E$58,2,FALSE) ) )","v":""},null,null,null,null,{"$f":"IF(TRIM(AD72)=\"\", \"\", IF(VLOOKUP(AD72,'Footnotes list'!$D$9:$E$58,2,FALSE)=0,\"\",VLOOKUP(AD72,'Footnotes list'!$D$9:$E$58,2,FALSE) ) )","v":""},null,null,null,null,{"$f":"IF(TRIM(AI72)=\"\", \"\", IF(VLOOKUP(AI72,'Footnotes list'!$D$9:$E$58,2,FALSE)=0,\"\",VLOOKUP(AI72,'Footnotes list'!$D$9:$E$58,2,FALSE) ) )","v":""},null,null,null,null,{"$f":"IF(TRIM(AN72)=\"\", \"\", IF(VLOOKUP(AN72,'Footnotes list'!$D$9:$E$58,2,FALSE)=0,\"\",VLOOKUP(AN72,'Footnotes list'!$D$9:$E$58,2,FALSE) ) )","v":""},null,null,null,null,{"$f":"IF(TRIM(AS72)=\"\", \"\", IF(VLOOKUP(AS72,'Footnotes list'!$D$9:$E$58,2,FALSE)=0,\"\",VLOOKUP(AS72,'Footnotes list'!$D$9:$E$58,2,FALSE) ) )","v":""},null,null,null,null,{"$f":"IF(TRIM(AX72)=\"\", \"\", IF(VLOOKUP(AX72,'Footnotes list'!$D$9:$E$58,2,FALSE)=0,\"\",VLOOKUP(AX72,'Footnotes list'!$D$9:$E$58,2,FALSE) ) )","v":""},null,null,null,null,{"$f":"IF(TRIM(BC72)=\"\", \"\", IF(VLOOKUP(BC72,'Footnotes list'!$D$9:$E$58,2,FALSE)=0,\"\",VLOOKUP(BC72,'Footnotes list'!$D$9:$E$58,2,FALSE) ) )","v":""},null,null,null,null,{"$f":"IF(TRIM(BH72)=\"\", \"\", IF(VLOOKUP(BH72,'Footnotes list'!$D$9:$E$58,2,FALSE)=0,\"\",VLOOKUP(BH72,'Footnotes list'!$D$9:$E$58,2,FALSE) ) )","v":""},null,null,null,null,{"$f":"IF(TRIM(BM72)=\"\", \"\", IF(VLOOKUP(BM72,'Footnotes list'!$D$9:$E$58,2,FALSE)=0,\"\",VLOOKUP(BM72,'Footnotes list'!$D$9:$E$58,2,FALSE) ) )","v":""},{"$f":"IF(AND(TRIM(Q72)=\"\",TRIM(V72)=\"\",TRIM(AA72)=\"\", TRIM(AF72)=\"\", TRIM(AK72)=\"\", TRIM(AP72)=\"\", TRIM(AU72)=\"\", TRIM(AZ72)=\"\", TRIM(BE72)=\"\", TRIM(BJ72)=\"\"),\"\",Q72+V72+AA72+AF72+AK72+AP72+AU72+AZ72+BE72+BJ72)","v":""},null,null,null,{"$f":"IF(TRIM(BR72)=\"\", \"\", IF(VLOOKUP(BR72,'Footnotes list'!$D$9:$E$58,2,FALSE)=0,\"\",VLOOKUP(BR72,'Footnotes list'!$D$9:$E$58,2,FALSE) ) )","v":""},null,null,null,null,{"$f":"IF(TRIM(BW72)=\"\", \"\", IF(VLOOKUP(BW72,'Footnotes list'!$D$9:$E$58,2,FALSE)=0,\"\",VLOOKUP(BW72,'Footnotes list'!$D$9:$E$58,2,FALSE) ) )","v":""},null,null,null,null,{"$f":"IF(TRIM(CB72)=\"\", \"\", IF(VLOOKUP(CB72,'Footnotes list'!$D$9:$E$58,2,FALSE)=0,\"\",VLOOKUP(CB72,'Footnotes list'!$D$9:$E$58,2,FALSE) ) )","v":""},null,null,null,null,{"$f":"IF(TRIM(CG72)=\"\", \"\", IF(VLOOKUP(CG72,'Footnotes list'!$D$9:$E$58,2,FALSE)=0,\"\",VLOOKUP(CG72,'Footnotes list'!$D$9:$E$58,2,FALSE) ) )","v":""},{"$f":"IF(AND(TRIM(BY72)=\"\",TRIM(CD72)=\"\"),\"\",BY72+CD72)","v":""},null,null,null,{"$f":"IF(TRIM(CL72)=\"\", \"\", IF(VLOOKUP(CL72,'Footnotes list'!$D$9:$E$58,2,FALSE)=0,\"\",VLOOKUP(CL72,'Footnotes list'!$D$9:$E$58,2,FALSE) ) )","v":""},null,null,null,null,{"$f":"IF(TRIM(CQ72)=\"\", \"\", IF(VLOOKUP(CQ72,'Footnotes list'!$D$9:$E$58,2,FALSE)=0,\"\",VLOOKUP(CQ72,'Footnotes list'!$D$9:$E$58,2,FALSE) ) )","v":""},null,null,null,null,{"$f":"IF(TRIM(CV72)=\"\", \"\", IF(VLOOKUP(CV72,'Footnotes list'!$D$9:$E$58,2,FALSE)=0,\"\",VLOOKUP(CV72,'Footnotes list'!$D$9:$E$58,2,FALSE) ) )","v":""},null,null,null,null,{"$f":"IF(TRIM(DA72)=\"\", \"\", IF(VLOOKUP(DA72,'Footnotes list'!$D$9:$E$58,2,FALSE)=0,\"\",VLOOKUP(DA72,'Footnotes list'!$D$9:$E$58,2,FALSE) ) )","v":""},null,null,null,null,{"$f":"IF(TRIM(DF72)=\"\", \"\", IF(VLOOKUP(DF72,'Footnotes list'!$D$9:$E$58,2,FALSE)=0,\"\",VLOOKUP(DF72,'Footnotes list'!$D$9:$E$58,2,FALSE) ) )","v":""},{"$f":"IF(AND(TRIM(G72)=\"\",TRIM(L72)=\"\",TRIM(BO72)=\"\",TRIM(BT72)=\"\",TRIM(CI72)=\"\",TRIM(CN72)=\"\",TRIM(CS72)=\"\",TRIM(CX72)=\"\",TRIM(DC72)=\"\"),\"\",SUM(G72,L72,BO72,BT72,CI72,CN72,CS72,CX72,DC72))","v":""},null,null,null,{"$f":"IF(TRIM(DK72)=\"\", \"\", IF(VLOOKUP(DK72,'Footnotes list'!$D$9:$E$58,2,FALSE)=0,\"\",VLOOKUP(DK72,'Footnotes list'!$D$9:$E$58,2,FALSE) ) )","v":""}]
[null,null,"W092",null,"HAZ_NHAZ","Total",{"$f":"IF(AND(TRIM(G71)=\"\",TRIM(G72)=\"\"),\"\",G71+G72)","v":""},null,null,null,{"$f":"IF(TRIM(J73)=\"\", \"\", IF(VLOOKUP(J73,'Footnotes list'!$D$9:$E$58,2,FALSE)=0,\"\",VLOOKUP(J73,'Footnotes list'!$D$9:$E$58,2,FALSE) ) )","v":""},{"$f":"IF(AND(TRIM(L71)=\"\",TRIM(L72)=\"\"),\"\",L71+L72)","v":""},null,null,null,{"$f":"IF(TRIM(O73)=\"\", \"\", IF(VLOOKUP(O73,'Footnotes list'!$D$9:$E$58,2,FALSE)=0,\"\",VLOOKUP(O73,'Footnotes list'!$D$9:$E$58,2,FALSE) ) )","v":""},{"$f":"IF(AND(TRIM(Q71)=\"\",TRIM(Q72)=\"\"),\"\",Q71+Q72)","v":""},null,null,null,{"$f":"IF(TRIM(T73)=\"\", \"\", IF(VLOOKUP(T73,'Footnotes list'!$D$9:$E$58,2,FALSE)=0,\"\",VLOOKUP(T73,'Footnotes list'!$D$9:$E$58,2,FALSE) ) )","v":""},{"$f":"IF(AND(TRIM(V71)=\"\",TRIM(V72)=\"\"),\"\",V71+V72)","v":""},null,null,null,{"$f":"IF(TRIM(Y73)=\"\", \"\", IF(VLOOKUP(Y73,'Footnotes list'!$D$9:$E$58,2,FALSE)=0,\"\",VLOOKUP(Y73,'Footnotes list'!$D$9:$E$58,2,FALSE) ) )","v":""},{"$f":"IF(AND(TRIM(AA71)=\"\",TRIM(AA72)=\"\"),\"\",AA71+AA72)","v":""},null,null,null,{"$f":"IF(TRIM(AD73)=\"\", \"\", IF(VLOOKUP(AD73,'Footnotes list'!$D$9:$E$58,2,FALSE)=0,\"\",VLOOKUP(AD73,'Footnotes list'!$D$9:$E$58,2,FALSE) ) )","v":""},{"$f":"IF(AND(TRIM(AF71)=\"\",TRIM(AF72)=\"\"),\"\",AF71+AF72)","v":""},null,null,null,{"$f":"IF(TRIM(AI73)=\"\", \"\", IF(VLOOKUP(AI73,'Footnotes list'!$D$9:$E$58,2,FALSE)=0,\"\",VLOOKUP(AI73,'Footnotes list'!$D$9:$E$58,2,FALSE) ) )","v":""},{"$f":"IF(AND(TRIM(AK71)=\"\",TRIM(AK72)=\"\"),\"\",AK71+AK72)","v":""},null,null,null,{"$f":"IF(TRIM(AN73)=\"\", \"\", IF(VLOOKUP(AN73,'Footnotes list'!$D$9:$E$58,2,FALSE)=0,\"\",VLOOKUP(AN73,'Footnotes list'!$D$9:$E$58,2,FALSE) ) )","v":""},{"$f":"IF(AND(TRIM(AP71)=\"\",TRIM(AP72)=\"\"),\"\",AP71+AP72)","v":""},null,null,null,{"$f":"IF(TRIM(AS73)=\"\", \"\", IF(VLOOKUP(AS73,'Footnotes list'!$D$9:$E$58,2,FALSE)=0,\"\",VLOOKUP(AS73,'Footnotes list'!$D$9:$E$58,2,FALSE) ) )","v":""},{"$f":"IF(AND(TRIM(AU71)=\"\",TRIM(AU72)=\"\"),\"\",AU71+AU72)","v":""},null,null,null,{"$f":"IF(TRIM(AX73)=\"\", \"\", IF(VLOOKUP(AX73,'Footnotes list'!$D$9:$E$58,2,FALSE)=0,\"\",VLOOKUP(AX73,'Footnotes list'!$D$9:$E$58,2,FALSE) ) )","v":""},{"$f":"IF(AND(TRIM(AZ71)=\"\",TRIM(AZ72)=\"\"),\"\",AZ71+AZ72)","v":""},null,null,null,{"$f":"IF(TRIM(BC73)=\"\", \"\", IF(VLOOKUP(BC73,'Footnotes list'!$D$9:$E$58,2,FALSE)=0,\"\",VLOOKUP(BC73,'Footnotes list'!$D$9:$E$58,2,FALSE) ) )","v":""},{"$f":"IF(AND(TRIM(BE71)=\"\",TRIM(BE72)=\"\"),\"\",BE71+BE72)","v":""},null,null,null,{"$f":"IF(TRIM(BH73)=\"\", \"\", IF(VLOOKUP(BH73,'Footnotes list'!$D$9:$E$58,2,FALSE)=0,\"\",VLOOKUP(BH73,'Footnotes list'!$D$9:$E$58,2,FALSE) ) )","v":""},{"$f":"IF(AND(TRIM(BJ71)=\"\",TRIM(BJ72)=\"\"),\"\",BJ71+BJ72)","v":""},null,null,null,{"$f":"IF(TRIM(BM73)=\"\", \"\", IF(VLOOKUP(BM73,'Footnotes list'!$D$9:$E$58,2,FALSE)=0,\"\",VLOOKUP(BM73,'Footnotes list'!$D$9:$E$58,2,FALSE) ) )","v":""},{"$f":"IF(AND(TRIM(BO71)=\"\", TRIM(BO72)=\"\"), \"\", (IF(ISNUMBER(BO71),BO71,0)+IF(ISNUMBER(BO72),BO72,0)))","v":""},null,null,null,{"$f":"IF(TRIM(BR73)=\"\", \"\", IF(VLOOKUP(BR73,'Footnotes list'!$D$9:$E$58,2,FALSE)=0,\"\",VLOOKUP(BR73,'Footnotes list'!$D$9:$E$58,2,FALSE) ) )","v":""},{"$f":"IF(AND(TRIM(BT71)=\"\",TRIM(BT72)=\"\"),\"\",BT71+BT72)","v":""},null,null,null,{"$f":"IF(TRIM(BW73)=\"\", \"\", IF(VLOOKUP(BW73,'Footnotes list'!$D$9:$E$58,2,FALSE)=0,\"\",VLOOKUP(BW73,'Footnotes list'!$D$9:$E$58,2,FALSE) ) )","v":""},{"$f":"IF(AND(TRIM(BY71)=\"\",TRIM(BY72)=\"\"),\"\",BY71+BY72)","v":""},null,null,null,{"$f":"IF(TRIM(CB73)=\"\", \"\", IF(VLOOKUP(CB73,'Footnotes list'!$D$9:$E$58,2,FALSE)=0,\"\",VLOOKUP(CB73,'Footnotes list'!$D$9:$E$58,2,FALSE) ) )","v":""},{"$f":"IF(AND(TRIM(CD71)=\"\",TRIM(CD72)=\"\"),\"\",CD71+CD72)","v":""},null,null,null,{"$f":"IF(TRIM(CG73)=\"\", \"\", IF(VLOOKUP(CG73,'Footnotes list'!$D$9:$E$58,2,FALSE)=0,\"\",VLOOKUP(CG73,'Footnotes list'!$D$9:$E$58,2,FALSE) ) )","v":""},{"$f":"IF(AND(TRIM(CI71)=\"\", TRIM(CI72)=\"\"), \"\", (IF(ISNUMBER(CI71),CI71,0)+IF(ISNUMBER(CI72),CI72,0)))","v":""},null,null,null,{"$f":"IF(TRIM(CL73)=\"\", \"\", IF(VLOOKUP(CL73,'Footnotes list'!$D$9:$E$58,2,FALSE)=0,\"\",VLOOKUP(CL73,'Footnotes list'!$D$9:$E$58,2,FALSE) ) )","v":""},{"$f":"IF(AND(TRIM(CN71)=\"\",TRIM(CN72)=\"\"),\"\",CN71+CN72)","v":""},null,null,null,{"$f":"IF(TRIM(CQ73)=\"\", \"\", IF(VLOOKUP(CQ73,'Footnotes list'!$D$9:$E$58,2,FALSE)=0,\"\",VLOOKUP(CQ73,'Footnotes list'!$D$9:$E$58,2,FALSE) ) )","v":""},{"$f":"IF(AND(TRIM(CS71)=\"\",TRIM(CS72)=\"\"),\"\",CS71+CS72)","v":""},null,null,null,{"$f":"IF(TRIM(CV73)=\"\", \"\", IF(VLOOKUP(CV73,'Footnotes list'!$D$9:$E$58,2,FALSE)=0,\"\",VLOOKUP(CV73,'Footnotes list'!$D$9:$E$58,2,FALSE) ) )","v":""},{"$f":"IF(AND(TRIM(CX71)=\"\",TRIM(CX72)=\"\"),\"\",CX71+CX72)","v":""},null,null,null,{"$f":"IF(TRIM(DA73)=\"\", \"\", IF(VLOOKUP(DA73,'Footnotes list'!$D$9:$E$58,2,FALSE)=0,\"\",VLOOKUP(DA73,'Footnotes list'!$D$9:$E$58,2,FALSE) ) )","v":""},{"$f":"IF(AND(TRIM(DC71)=\"\",TRIM(DC72)=\"\"),\"\",DC71+DC72)","v":""},null,null,null,{"$f":"IF(TRIM(DF73)=\"\", \"\", IF(VLOOKUP(DF73,'Footnotes list'!$D$9:$E$58,2,FALSE)=0,\"\",VLOOKUP(DF73,'Footnotes list'!$D$9:$E$58,2,FALSE) ) )","v":""},{"$f":"IF(AND(TRIM(DH71)=\"\", TRIM(DH72)=\"\"), \"\", SUM(DH71,DH72) )","v":""},null,null,null,{"$f":"IF(TRIM(DK73)=\"\", \"\", IF(VLOOKUP(DK73,'Footnotes list'!$D$9:$E$58,2,FALSE)=0,\"\",VLOOKUP(DK73,'Footnotes list'!$D$9:$E$58,2,FALSE) ) )","v":""}]
[null,"W093",null,"Animal faeces, urine and manure ",null,"Not applicable"]
[null,null,"W093",null,"NHAZ","Non-hazardous",null,null,null,null,{"$f":"IF(TRIM(J75)=\"\", \"\", IF(VLOOKUP(J75,'Footnotes list'!$D$9:$E$58,2,FALSE)=0,\"\",VLOOKUP(J75,'Footnotes list'!$D$9:$E$58,2,FALSE) ) )","v":""},null,null,null,null,{"$f":"IF(TRIM(O75)=\"\", \"\", IF(VLOOKUP(O75,'Footnotes list'!$D$9:$E$58,2,FALSE)=0,\"\",VLOOKUP(O75,'Footnotes list'!$D$9:$E$58,2,FALSE) ) )","v":""},null,null,null,null,{"$f":"IF(TRIM(T75)=\"\", \"\", IF(VLOOKUP(T75,'Footnotes list'!$D$9:$E$58,2,FALSE)=0,\"\",VLOOKUP(T75,'Footnotes list'!$D$9:$E$58,2,FALSE) ) )","v":""},null,null,null,null,{"$f":"IF(TRIM(Y75)=\"\", \"\", IF(VLOOKUP(Y75,'Footnotes list'!$D$9:$E$58,2,FALSE)=0,\"\",VLOOKUP(Y75,'Footnotes list'!$D$9:$E$58,2,FALSE) ) )","v":""},null,null,null,null,{"$f":"IF(TRIM(AD75)=\"\", \"\", IF(VLOOKUP(AD75,'Footnotes list'!$D$9:$E$58,2,FALSE)=0,\"\",VLOOKUP(AD75,'Footnotes list'!$D$9:$E$58,2,FALSE) ) )","v":""},null,null,null,null,{"$f":"IF(TRIM(AI75)=\"\", \"\", IF(VLOOKUP(AI75,'Footnotes list'!$D$9:$E$58,2,FALSE)=0,\"\",VLOOKUP(AI75,'Footnotes list'!$D$9:$E$58,2,FALSE) ) )","v":""},null,null,null,null,{"$f":"IF(TRIM(AN75)=\"\", \"\", IF(VLOOKUP(AN75,'Footnotes list'!$D$9:$E$58,2,FALSE)=0,\"\",VLOOKUP(AN75,'Footnotes list'!$D$9:$E$58,2,FALSE) ) )","v":""},null,null,null,null,{"$f":"IF(TRIM(AS75)=\"\", \"\", IF(VLOOKUP(AS75,'Footnotes list'!$D$9:$E$58,2,FALSE)=0,\"\",VLOOKUP(AS75,'Footnotes list'!$D$9:$E$58,2,FALSE) ) )","v":""},null,null,null,null,{"$f":"IF(TRIM(AX75)=\"\", \"\", IF(VLOOKUP(AX75,'Footnotes list'!$D$9:$E$58,2,FALSE)=0,\"\",VLOOKUP(AX75,'Footnotes list'!$D$9:$E$58,2,FALSE) ) )","v":""},null,null,null,null,{"$f":"IF(TRIM(BC75)=\"\", \"\", IF(VLOOKUP(BC75,'Footnotes list'!$D$9:$E$58,2,FALSE)=0,\"\",VLOOKUP(BC75,'Footnotes list'!$D$9:$E$58,2,FALSE) ) )","v":""},null,null,null,null,{"$f":"IF(TRIM(BH75)=\"\", \"\", IF(VLOOKUP(BH75,'Footnotes list'!$D$9:$E$58,2,FALSE)=0,\"\",VLOOKUP(BH75,'Footnotes list'!$D$9:$E$58,2,FALSE) ) )","v":""},null,null,null,null,{"$f":"IF(TRIM(BM75)=\"\", \"\", IF(VLOOKUP(BM75,'Footnotes list'!$D$9:$E$58,2,FALSE)=0,\"\",VLOOKUP(BM75,'Footnotes list'!$D$9:$E$58,2,FALSE) ) )","v":""},{"$f":"IF(AND(TRIM(Q75)=\"\",TRIM(V75)=\"\",TRIM(AA75)=\"\", TRIM(AF75)=\"\", TRIM(AK75)=\"\", TRIM(AP75)=\"\", TRIM(AU75)=\"\", TRIM(AZ75)=\"\", TRIM(BE75)=\"\", TRIM(BJ75)=\"\"),\"\",Q75+V75+AA75+AF75+AK75+AP75+AU75+AZ75+BE75+BJ75)","v":""},null,null,null,{"$f":"IF(TRIM(BR75)=\"\", \"\", IF(VLOOKUP(BR75,'Footnotes list'!$D$9:$E$58,2,FALSE)=0,\"\",VLOOKUP(BR75,'Footnotes list'!$D$9:$E$58,2,FALSE) ) )","v":""},null,null,null,null,{"$f":"IF(TRIM(BW75)=\"\", \"\", IF(VLOOKUP(BW75,'Footnotes list'!$D$9:$E$58,2,FALSE)=0,\"\",VLOOKUP(BW75,'Footnotes list'!$D$9:$E$58,2,FALSE) ) )","v":""},null,null,null,null,{"$f":"IF(TRIM(CB75)=\"\", \"\", IF(VLOOKUP(CB75,'Footnotes list'!$D$9:$E$58,2,FALSE)=0,\"\",VLOOKUP(CB75,'Footnotes list'!$D$9:$E$58,2,FALSE) ) )","v":""},null,null,null,null,{"$f":"IF(TRIM(CG75)=\"\", \"\", IF(VLOOKUP(CG75,'Footnotes list'!$D$9:$E$58,2,FALSE)=0,\"\",VLOOKUP(CG75,'Footnotes list'!$D$9:$E$58,2,FALSE) ) )","v":""},{"$f":"IF(AND(TRIM(BY75)=\"\",TRIM(CD75)=\"\"),\"\",BY75+CD75)","v":""},null,null,null,{"$f":"IF(TRIM(CL75)=\"\", \"\", IF(VLOOKUP(CL75,'Footnotes list'!$D$9:$E$58,2,FALSE)=0,\"\",VLOOKUP(CL75,'Footnotes list'!$D$9:$E$58,2,FALSE) ) )","v":""},null,null,null,null,{"$f":"IF(TRIM(CQ75)=\"\", \"\", IF(VLOOKUP(CQ75,'Footnotes list'!$D$9:$E$58,2,FALSE)=0,\"\",VLOOKUP(CQ75,'Footnotes list'!$D$9:$E$58,2,FALSE) ) )","v":""},null,null,null,null,{"$f":"IF(TRIM(CV75)=\"\", \"\", IF(VLOOKUP(CV75,'Footnotes list'!$D$9:$E$58,2,FALSE)=0,\"\",VLOOKUP(CV75,'Footnotes list'!$D$9:$E$58,2,FALSE) ) )","v":""},null,null,null,null,{"$f":"IF(TRIM(DA75)=\"\", \"\", IF(VLOOKUP(DA75,'Footnotes list'!$D$9:$E$58,2,FALSE)=0,\"\",VLOOKUP(DA75,'Footnotes list'!$D$9:$E$58,2,FALSE) ) )","v":""},null,null,null,null,{"$f":"IF(TRIM(DF75)=\"\", \"\", IF(VLOOKUP(DF75,'Footnotes list'!$D$9:$E$58,2,FALSE)=0,\"\",VLOOKUP(DF75,'Footnotes list'!$D$9:$E$58,2,FALSE) ) )","v":""},{"$f":"IF(AND(TRIM(G75)=\"\",TRIM(L75)=\"\",TRIM(BO75)=\"\",TRIM(BT75)=\"\",TRIM(CI75)=\"\",TRIM(CN75)=\"\",TRIM(CS75)=\"\",TRIM(CX75)=\"\",TRIM(DC75)=\"\"),\"\",SUM(G75,L75,BO75,BT75,CI75,CN75,CS75,CX75,DC75))","v":""},null,null,null,{"$f":"IF(TRIM(DK75)=\"\", \"\", IF(VLOOKUP(DK75,'Footnotes list'!$D$9:$E$58,2,FALSE)=0,\"\",VLOOKUP(DK75,'Footnotes list'!$D$9:$E$58,2,FALSE) ) )","v":""}]
[null,null,"W093",null,"HAZ_NHAZ","Total",{"$f":"IF(AND(TRIM(G74)=\"\",TRIM(G75)=\"\"),\"\",G74+G75)","v":""},null,null,null,{"$f":"IF(TRIM(J76)=\"\", \"\", IF(VLOOKUP(J76,'Footnotes list'!$D$9:$E$58,2,FALSE)=0,\"\",VLOOKUP(J76,'Footnotes list'!$D$9:$E$58,2,FALSE) ) )","v":""},{"$f":"IF(AND(TRIM(L74)=\"\",TRIM(L75)=\"\"),\"\",L74+L75)","v":""},null,null,null,{"$f":"IF(TRIM(O76)=\"\", \"\", IF(VLOOKUP(O76,'Footnotes list'!$D$9:$E$58,2,FALSE)=0,\"\",VLOOKUP(O76,'Footnotes list'!$D$9:$E$58,2,FALSE) ) )","v":""},{"$f":"IF(AND(TRIM(Q74)=\"\",TRIM(Q75)=\"\"),\"\",Q74+Q75)","v":""},null,null,null,{"$f":"IF(TRIM(T76)=\"\", \"\", IF(VLOOKUP(T76,'Footnotes list'!$D$9:$E$58,2,FALSE)=0,\"\",VLOOKUP(T76,'Footnotes list'!$D$9:$E$58,2,FALSE) ) )","v":""},{"$f":"IF(AND(TRIM(V74)=\"\",TRIM(V75)=\"\"),\"\",V74+V75)","v":""},null,null,null,{"$f":"IF(TRIM(Y76)=\"\", \"\", IF(VLOOKUP(Y76,'Footnotes list'!$D$9:$E$58,2,FALSE)=0,\"\",VLOOKUP(Y76,'Footnotes list'!$D$9:$E$58,2,FALSE) ) )","v":""},{"$f":"IF(AND(TRIM(AA74)=\"\",TRIM(AA75)=\"\"),\"\",AA74+AA75)","v":""},null,null,null,{"$f":"IF(TRIM(AD76)=\"\", \"\", IF(VLOOKUP(AD76,'Footnotes list'!$D$9:$E$58,2,FALSE)=0,\"\",VLOOKUP(AD76,'Footnotes list'!$D$9:$E$58,2,FALSE) ) )","v":""},{"$f":"IF(AND(TRIM(AF74)=\"\",TRIM(AF75)=\"\"),\"\",AF74+AF75)","v":""},null,null,null,{"$f":"IF(TRIM(AI76)=\"\", \"\", IF(VLOOKUP(AI76,'Footnotes list'!$D$9:$E$58,2,FALSE)=0,\"\",VLOOKUP(AI76,'Footnotes list'!$D$9:$E$58,2,FALSE) ) )","v":""},{"$f":"IF(AND(TRIM(AK74)=\"\",TRIM(AK75)=\"\"),\"\",AK74+AK75)","v":""},null,null,null,{"$f":"IF(TRIM(AN76)=\"\", \"\", IF(VLOOKUP(AN76,'Footnotes list'!$D$9:$E$58,2,FALSE)=0,\"\",VLOOKUP(AN76,'Footnotes list'!$D$9:$E$58,2,FALSE) ) )","v":""},{"$f":"IF(AND(TRIM(AP74)=\"\",TRIM(AP75)=\"\"),\"\",AP74+AP75)","v":""},null,null,null,{"$f":"IF(TRIM(AS76)=\"\", \"\", IF(VLOOKUP(AS76,'Footnotes list'!$D$9:$E$58,2,FALSE)=0,\"\",VLOOKUP(AS76,'Footnotes list'!$D$9:$E$58,2,FALSE) ) )","v":""},{"$f":"IF(AND(TRIM(AU74)=\"\",TRIM(AU75)=\"\"),\"\",AU74+AU75)","v":""},null,null,null,{"$f":"IF(TRIM(AX76)=\"\", \"\", IF(VLOOKUP(AX76,'Footnotes list'!$D$9:$E$58,2,FALSE)=0,\"\",VLOOKUP(AX76,'Footnotes list'!$D$9:$E$58,2,FALSE) ) )","v":""},{"$f":"IF(AND(TRIM(AZ74)=\"\",TRIM(AZ75)=\"\"),\"\",AZ74+AZ75)","v":""},null,null,null,{"$f":"IF(TRIM(BC76)=\"\", \"\", IF(VLOOKUP(BC76,'Footnotes list'!$D$9:$E$58,2,FALSE)=0,\"\",VLOOKUP(BC76,'Footnotes list'!$D$9:$E$58,2,FALSE) ) )","v":""},{"$f":"IF(AND(TRIM(BE74)=\"\",TRIM(BE75)=\"\"),\"\",BE74+BE75)","v":""},null,null,null,{"$f":"IF(TRIM(BH76)=\"\", \"\", IF(VLOOKUP(BH76,'Footnotes list'!$D$9:$E$58,2,FALSE)=0,\"\",VLOOKUP(BH76,'Footnotes list'!$D$9:$E$58,2,FALSE) ) )","v":""},{"$f":"IF(AND(TRIM(BJ74)=\"\",TRIM(BJ75)=\"\"),\"\",BJ74+BJ75)","v":""},null,null,null,{"$f":"IF(TRIM(BM76)=\"\", \"\", IF(VLOOKUP(BM76,'Footnotes list'!$D$9:$E$58,2,FALSE)=0,\"\",VLOOKUP(BM76,'Footnotes list'!$D$9:$E$58,2,FALSE) ) )","v":""},{"$f":"IF(AND(TRIM(BO74)=\"\", TRIM(BO75)=\"\"), \"\", (IF(ISNUMBER(BO74),BO74,0)+IF(ISNUMBER(BO75),BO75,0)))","v":""},null,null,null,{"$f":"IF(TRIM(BR76)=\"\", \"\", IF(VLOOKUP(BR76,'Footnotes list'!$D$9:$E$58,2,FALSE)=0,\"\",VLOOKUP(BR76,'Footnotes list'!$D$9:$E$58,2,FALSE) ) )","v":""},{"$f":"IF(AND(TRIM(BT74)=\"\",TRIM(BT75)=\"\"),\"\",BT74+BT75)","v":""},null,null,null,{"$f":"IF(TRIM(BW76)=\"\", \"\", IF(VLOOKUP(BW76,'Footnotes list'!$D$9:$E$58,2,FALSE)=0,\"\",VLOOKUP(BW76,'Footnotes list'!$D$9:$E$58,2,FALSE) ) )","v":""},{"$f":"IF(AND(TRIM(BY74)=\"\",TRIM(BY75)=\"\"),\"\",BY74+BY75)","v":""},null,null,null,{"$f":"IF(TRIM(CB76)=\"\", \"\", IF(VLOOKUP(CB76,'Footnotes list'!$D$9:$E$58,2,FALSE)=0,\"\",VLOOKUP(CB76,'Footnotes list'!$D$9:$E$58,2,FALSE) ) )","v":""},{"$f":"IF(AND(TRIM(CD74)=\"\",TRIM(CD75)=\"\"),\"\",CD74+CD75)","v":""},null,null,null,{"$f":"IF(TRIM(CG76)=\"\", \"\", IF(VLOOKUP(CG76,'Footnotes list'!$D$9:$E$58,2,FALSE)=0,\"\",VLOOKUP(CG76,'Footnotes list'!$D$9:$E$58,2,FALSE) ) )","v":""},{"$f":"IF(AND(TRIM(CI74)=\"\", TRIM(CI75)=\"\"), \"\", (IF(ISNUMBER(CI74),CI74,0)+IF(ISNUMBER(CI75),CI75,0)))","v":""},null,null,null,{"$f":"IF(TRIM(CL76)=\"\", \"\", IF(VLOOKUP(CL76,'Footnotes list'!$D$9:$E$58,2,FALSE)=0,\"\",VLOOKUP(CL76,'Footnotes list'!$D$9:$E$58,2,FALSE) ) )","v":""},{"$f":"IF(AND(TRIM(CN74)=\"\",TRIM(CN75)=\"\"),\"\",CN74+CN75)","v":""},null,null,null,{"$f":"IF(TRIM(CQ76)=\"\", \"\", IF(VLOOKUP(CQ76,'Footnotes list'!$D$9:$E$58,2,FALSE)=0,\"\",VLOOKUP(CQ76,'Footnotes list'!$D$9:$E$58,2,FALSE) ) )","v":""},{"$f":"IF(AND(TRIM(CS74)=\"\",TRIM(CS75)=\"\"),\"\",CS74+CS75)","v":""},null,null,null,{"$f":"IF(TRIM(CV76)=\"\", \"\", IF(VLOOKUP(CV76,'Footnotes list'!$D$9:$E$58,2,FALSE)=0,\"\",VLOOKUP(CV76,'Footnotes list'!$D$9:$E$58,2,FALSE) ) )","v":""},{"$f":"IF(AND(TRIM(CX74)=\"\",TRIM(CX75)=\"\"),\"\",CX74+CX75)","v":""},null,null,null,{"$f":"IF(TRIM(DA76)=\"\", \"\", IF(VLOOKUP(DA76,'Footnotes list'!$D$9:$E$58,2,FALSE)=0,\"\",VLOOKUP(DA76,'Footnotes list'!$D$9:$E$58,2,FALSE) ) )","v":""},{"$f":"IF(AND(TRIM(DC74)=\"\",TRIM(DC75)=\"\"),\"\",DC74+DC75)","v":""},null,null,null,{"$f":"IF(TRIM(DF76)=\"\", \"\", IF(VLOOKUP(DF76,'Footnotes list'!$D$9:$E$58,2,FALSE)=0,\"\",VLOOKUP(DF76,'Footnotes list'!$D$9:$E$58,2,FALSE) ) )","v":""},{"$f":"IF(AND(TRIM(DH74)=\"\", TRIM(DH75)=\"\"), \"\", SUM(DH74,DH75) )","v":""},null,null,null,{"$f":"IF(TRIM(DK76)=\"\", \"\", IF(VLOOKUP(DK76,'Footnotes list'!$D$9:$E$58,2,FALSE)=0,\"\",VLOOKUP(DK76,'Footnotes list'!$D$9:$E$58,2,FALSE) ) )","v":""}]
[null,"W101",null,"Household and similar wastes ",null,"Not applicable"]
[null,null,"W101",null,"NHAZ","Non-hazardous",null,null,null,null,{"$f":"IF(TRIM(J78)=\"\", \"\", IF(VLOOKUP(J78,'Footnotes list'!$D$9:$E$58,2,FALSE)=0,\"\",VLOOKUP(J78,'Footnotes list'!$D$9:$E$58,2,FALSE) ) )","v":""},null,null,null,null,{"$f":"IF(TRIM(O78)=\"\", \"\", IF(VLOOKUP(O78,'Footnotes list'!$D$9:$E$58,2,FALSE)=0,\"\",VLOOKUP(O78,'Footnotes list'!$D$9:$E$58,2,FALSE) ) )","v":""},null,null,null,null,{"$f":"IF(TRIM(T78)=\"\", \"\", IF(VLOOKUP(T78,'Footnotes list'!$D$9:$E$58,2,FALSE)=0,\"\",VLOOKUP(T78,'Footnotes list'!$D$9:$E$58,2,FALSE) ) )","v":""},null,null,null,null,{"$f":"IF(TRIM(Y78)=\"\", \"\", IF(VLOOKUP(Y78,'Footnotes list'!$D$9:$E$58,2,FALSE)=0,\"\",VLOOKUP(Y78,'Footnotes list'!$D$9:$E$58,2,FALSE) ) )","v":""},null,null,null,null,{"$f":"IF(TRIM(AD78)=\"\", \"\", IF(VLOOKUP(AD78,'Footnotes list'!$D$9:$E$58,2,FALSE)=0,\"\",VLOOKUP(AD78,'Footnotes list'!$D$9:$E$58,2,FALSE) ) )","v":""},null,null,null,null,{"$f":"IF(TRIM(AI78)=\"\", \"\", IF(VLOOKUP(AI78,'Footnotes list'!$D$9:$E$58,2,FALSE)=0,\"\",VLOOKUP(AI78,'Footnotes list'!$D$9:$E$58,2,FALSE) ) )","v":""},null,null,null,null,{"$f":"IF(TRIM(AN78)=\"\", \"\", IF(VLOOKUP(AN78,'Footnotes list'!$D$9:$E$58,2,FALSE)=0,\"\",VLOOKUP(AN78,'Footnotes list'!$D$9:$E$58,2,FALSE) ) )","v":""},null,null,null,null,{"$f":"IF(TRIM(AS78)=\"\", \"\", IF(VLOOKUP(AS78,'Footnotes list'!$D$9:$E$58,2,FALSE)=0,\"\",VLOOKUP(AS78,'Footnotes list'!$D$9:$E$58,2,FALSE) ) )","v":""},null,null,null,null,{"$f":"IF(TRIM(AX78)=\"\", \"\", IF(VLOOKUP(AX78,'Footnotes list'!$D$9:$E$58,2,FALSE)=0,\"\",VLOOKUP(AX78,'Footnotes list'!$D$9:$E$58,2,FALSE) ) )","v":""},null,null,null,null,{"$f":"IF(TRIM(BC78)=\"\", \"\", IF(VLOOKUP(BC78,'Footnotes list'!$D$9:$E$58,2,FALSE)=0,\"\",VLOOKUP(BC78,'Footnotes list'!$D$9:$E$58,2,FALSE) ) )","v":""},null,null,null,null,{"$f":"IF(TRIM(BH78)=\"\", \"\", IF(VLOOKUP(BH78,'Footnotes list'!$D$9:$E$58,2,FALSE)=0,\"\",VLOOKUP(BH78,'Footnotes list'!$D$9:$E$58,2,FALSE) ) )","v":""},null,null,null,null,{"$f":"IF(TRIM(BM78)=\"\", \"\", IF(VLOOKUP(BM78,'Footnotes list'!$D$9:$E$58,2,FALSE)=0,\"\",VLOOKUP(BM78,'Footnotes list'!$D$9:$E$58,2,FALSE) ) )","v":""},{"$f":"IF(AND(TRIM(Q78)=\"\",TRIM(V78)=\"\",TRIM(AA78)=\"\", TRIM(AF78)=\"\", TRIM(AK78)=\"\", TRIM(AP78)=\"\", TRIM(AU78)=\"\", TRIM(AZ78)=\"\", TRIM(BE78)=\"\", TRIM(BJ78)=\"\"),\"\",Q78+V78+AA78+AF78+AK78+AP78+AU78+AZ78+BE78+BJ78)","v":""},null,null,null,{"$f":"IF(TRIM(BR78)=\"\", \"\", IF(VLOOKUP(BR78,'Footnotes list'!$D$9:$E$58,2,FALSE)=0,\"\",VLOOKUP(BR78,'Footnotes list'!$D$9:$E$58,2,FALSE) ) )","v":""},null,null,null,null,{"$f":"IF(TRIM(BW78)=\"\", \"\", IF(VLOOKUP(BW78,'Footnotes list'!$D$9:$E$58,2,FALSE)=0,\"\",VLOOKUP(BW78,'Footnotes list'!$D$9:$E$58,2,FALSE) ) )","v":""},null,null,null,null,{"$f":"IF(TRIM(CB78)=\"\", \"\", IF(VLOOKUP(CB78,'Footnotes list'!$D$9:$E$58,2,FALSE)=0,\"\",VLOOKUP(CB78,'Footnotes list'!$D$9:$E$58,2,FALSE) ) )","v":""},null,null,null,null,{"$f":"IF(TRIM(CG78)=\"\", \"\", IF(VLOOKUP(CG78,'Footnotes list'!$D$9:$E$58,2,FALSE)=0,\"\",VLOOKUP(CG78,'Footnotes list'!$D$9:$E$58,2,FALSE) ) )","v":""},{"$f":"IF(AND(TRIM(BY78)=\"\",TRIM(CD78)=\"\"),\"\",BY78+CD78)","v":""},null,null,null,{"$f":"IF(TRIM(CL78)=\"\", \"\", IF(VLOOKUP(CL78,'Footnotes list'!$D$9:$E$58,2,FALSE)=0,\"\",VLOOKUP(CL78,'Footnotes list'!$D$9:$E$58,2,FALSE) ) )","v":""},null,null,null,null,{"$f":"IF(TRIM(CQ78)=\"\", \"\", IF(VLOOKUP(CQ78,'Footnotes list'!$D$9:$E$58,2,FALSE)=0,\"\",VLOOKUP(CQ78,'Footnotes list'!$D$9:$E$58,2,FALSE) ) )","v":""},null,null,null,null,{"$f":"IF(TRIM(CV78)=\"\", \"\", IF(VLOOKUP(CV78,'Footnotes list'!$D$9:$E$58,2,FALSE)=0,\"\",VLOOKUP(CV78,'Footnotes list'!$D$9:$E$58,2,FALSE) ) )","v":""},null,null,null,null,{"$f":"IF(TRIM(DA78)=\"\", \"\", IF(VLOOKUP(DA78,'Footnotes list'!$D$9:$E$58,2,FALSE)=0,\"\",VLOOKUP(DA78,'Footnotes list'!$D$9:$E$58,2,FALSE) ) )","v":""},null,null,null,null,{"$f":"IF(TRIM(DF78)=\"\", \"\", IF(VLOOKUP(DF78,'Footnotes list'!$D$9:$E$58,2,FALSE)=0,\"\",VLOOKUP(DF78,'Footnotes list'!$D$9:$E$58,2,FALSE) ) )","v":""},{"$f":"IF(AND(TRIM(G78)=\"\",TRIM(L78)=\"\",TRIM(BO78)=\"\",TRIM(BT78)=\"\",TRIM(CI78)=\"\",TRIM(CN78)=\"\",TRIM(CS78)=\"\",TRIM(CX78)=\"\",TRIM(DC78)=\"\"),\"\",SUM(G78,L78,BO78,BT78,CI78,CN78,CS78,CX78,DC78))","v":""},null,null,null,{"$f":"IF(TRIM(DK78)=\"\", \"\", IF(VLOOKUP(DK78,'Footnotes list'!$D$9:$E$58,2,FALSE)=0,\"\",VLOOKUP(DK78,'Footnotes list'!$D$9:$E$58,2,FALSE) ) )","v":""}]
[null,null,"W101",null,"HAZ_NHAZ","Total",{"$f":"IF(AND(TRIM(G77)=\"\",TRIM(G78)=\"\"),\"\",G77+G78)","v":""},null,null,null,{"$f":"IF(TRIM(J79)=\"\", \"\", IF(VLOOKUP(J79,'Footnotes list'!$D$9:$E$58,2,FALSE)=0,\"\",VLOOKUP(J79,'Footnotes list'!$D$9:$E$58,2,FALSE) ) )","v":""},{"$f":"IF(AND(TRIM(L77)=\"\",TRIM(L78)=\"\"),\"\",L77+L78)","v":""},null,null,null,{"$f":"IF(TRIM(O79)=\"\", \"\", IF(VLOOKUP(O79,'Footnotes list'!$D$9:$E$58,2,FALSE)=0,\"\",VLOOKUP(O79,'Footnotes list'!$D$9:$E$58,2,FALSE) ) )","v":""},{"$f":"IF(AND(TRIM(Q77)=\"\",TRIM(Q78)=\"\"),\"\",Q77+Q78)","v":""},null,null,null,{"$f":"IF(TRIM(T79)=\"\", \"\", IF(VLOOKUP(T79,'Footnotes list'!$D$9:$E$58,2,FALSE)=0,\"\",VLOOKUP(T79,'Footnotes list'!$D$9:$E$58,2,FALSE) ) )","v":""},{"$f":"IF(AND(TRIM(V77)=\"\",TRIM(V78)=\"\"),\"\",V77+V78)","v":""},null,null,null,{"$f":"IF(TRIM(Y79)=\"\", \"\", IF(VLOOKUP(Y79,'Footnotes list'!$D$9:$E$58,2,FALSE)=0,\"\",VLOOKUP(Y79,'Footnotes list'!$D$9:$E$58,2,FALSE) ) )","v":""},{"$f":"IF(AND(TRIM(AA77)=\"\",TRIM(AA78)=\"\"),\"\",AA77+AA78)","v":""},null,null,null,{"$f":"IF(TRIM(AD79)=\"\", \"\", IF(VLOOKUP(AD79,'Footnotes list'!$D$9:$E$58,2,FALSE)=0,\"\",VLOOKUP(AD79,'Footnotes list'!$D$9:$E$58,2,FALSE) ) )","v":""},{"$f":"IF(AND(TRIM(AF77)=\"\",TRIM(AF78)=\"\"),\"\",AF77+AF78)","v":""},null,null,null,{"$f":"IF(TRIM(AI79)=\"\", \"\", IF(VLOOKUP(AI79,'Footnotes list'!$D$9:$E$58,2,FALSE)=0,\"\",VLOOKUP(AI79,'Footnotes list'!$D$9:$E$58,2,FALSE) ) )","v":""},{"$f":"IF(AND(TRIM(AK77)=\"\",TRIM(AK78)=\"\"),\"\",AK77+AK78)","v":""},null,null,null,{"$f":"IF(TRIM(AN79)=\"\", \"\", IF(VLOOKUP(AN79,'Footnotes list'!$D$9:$E$58,2,FALSE)=0,\"\",VLOOKUP(AN79,'Footnotes list'!$D$9:$E$58,2,FALSE) ) )","v":""},{"$f":"IF(AND(TRIM(AP77)=\"\",TRIM(AP78)=\"\"),\"\",AP77+AP78)","v":""},null,null,null,{"$f":"IF(TRIM(AS79)=\"\", \"\", IF(VLOOKUP(AS79,'Footnotes list'!$D$9:$E$58,2,FALSE)=0,\"\",VLOOKUP(AS79,'Footnotes list'!$D$9:$E$58,2,FALSE) ) )","v":""},{"$f":"IF(AND(TRIM(AU77)=\"\",TRIM(AU78)=\"\"),\"\",AU77+AU78)","v":""},null,null,null,{"$f":"IF(TRIM(AX79)=\"\", \"\", IF(VLOOKUP(AX79,'Footnotes list'!$D$9:$E$58,2,FALSE)=0,\"\",VLOOKUP(AX79,'Footnotes list'!$D$9:$E$58,2,FALSE) ) )","v":""},{"$f":"IF(AND(TRIM(AZ77)=\"\",TRIM(AZ78)=\"\"),\"\",AZ77+AZ78)","v":""},null,null,null,{"$f":"IF(TRIM(BC79)=\"\", \"\", IF(VLOOKUP(BC79,'Footnotes list'!$D$9:$E$58,2,FALSE)=0,\"\",VLOOKUP(BC79,'Footnotes list'!$D$9:$E$58,2,FALSE) ) )","v":""},{"$f":"IF(AND(TRIM(BE77)=\"\",TRIM(BE78)=\"\"),\"\",BE77+BE78)","v":""},null,null,null,{"$f":"IF(TRIM(BH79)=\"\", \"\", IF(VLOOKUP(BH79,'Footnotes list'!$D$9:$E$58,2,FALSE)=0,\"\",VLOOKUP(BH79,'Footnotes list'!$D$9:$E$58,2,FALSE) ) )","v":""},{"$f":"IF(AND(TRIM(BJ77)=\"\",TRIM(BJ78)=\"\"),\"\",BJ77+BJ78)","v":""},null,null,null,{"$f":"IF(TRIM(BM79)=\"\", \"\", IF(VLOOKUP(BM79,'Footnotes list'!$D$9:$E$58,2,FALSE)=0,\"\",VLOOKUP(BM79,'Footnotes list'!$D$9:$E$58,2,FALSE) ) )","v":""},{"$f":"IF(AND(TRIM(BO77)=\"\", TRIM(BO78)=\"\"), \"\", (IF(ISNUMBER(BO77),BO77,0)+IF(ISNUMBER(BO78),BO78,0)))","v":""},null,null,null,{"$f":"IF(TRIM(BR79)=\"\", \"\", IF(VLOOKUP(BR79,'Footnotes list'!$D$9:$E$58,2,FALSE)=0,\"\",VLOOKUP(BR79,'Footnotes list'!$D$9:$E$58,2,FALSE) ) )","v":""},{"$f":"IF(AND(TRIM(BT77)=\"\",TRIM(BT78)=\"\"),\"\",BT77+BT78)","v":""},null,null,null,{"$f":"IF(TRIM(BW79)=\"\", \"\", IF(VLOOKUP(BW79,'Footnotes list'!$D$9:$E$58,2,FALSE)=0,\"\",VLOOKUP(BW79,'Footnotes list'!$D$9:$E$58,2,FALSE) ) )","v":""},{"$f":"IF(AND(TRIM(BY77)=\"\",TRIM(BY78)=\"\"),\"\",BY77+BY78)","v":""},null,null,null,{"$f":"IF(TRIM(CB79)=\"\", \"\", IF(VLOOKUP(CB79,'Footnotes list'!$D$9:$E$58,2,FALSE)=0,\"\",VLOOKUP(CB79,'Footnotes list'!$D$9:$E$58,2,FALSE) ) )","v":""},{"$f":"IF(AND(TRIM(CD77)=\"\",TRIM(CD78)=\"\"),\"\",CD77+CD78)","v":""},null,null,null,{"$f":"IF(TRIM(CG79)=\"\", \"\", IF(VLOOKUP(CG79,'Footnotes list'!$D$9:$E$58,2,FALSE)=0,\"\",VLOOKUP(CG79,'Footnotes list'!$D$9:$E$58,2,FALSE) ) )","v":""},{"$f":"IF(AND(TRIM(CI77)=\"\", TRIM(CI78)=\"\"), \"\", (IF(ISNUMBER(CI77),CI77,0)+IF(ISNUMBER(CI78),CI78,0)))","v":""},null,null,null,{"$f":"IF(TRIM(CL79)=\"\", \"\", IF(VLOOKUP(CL79,'Footnotes list'!$D$9:$E$58,2,FALSE)=0,\"\",VLOOKUP(CL79,'Footnotes list'!$D$9:$E$58,2,FALSE) ) )","v":""},{"$f":"IF(AND(TRIM(CN77)=\"\",TRIM(CN78)=\"\"),\"\",CN77+CN78)","v":""},null,null,null,{"$f":"IF(TRIM(CQ79)=\"\", \"\", IF(VLOOKUP(CQ79,'Footnotes list'!$D$9:$E$58,2,FALSE)=0,\"\",VLOOKUP(CQ79,'Footnotes list'!$D$9:$E$58,2,FALSE) ) )","v":""},{"$f":"IF(AND(TRIM(CS77)=\"\",TRIM(CS78)=\"\"),\"\",CS77+CS78)","v":""},null,null,null,{"$f":"IF(TRIM(CV79)=\"\", \"\", IF(VLOOKUP(CV79,'Footnotes list'!$D$9:$E$58,2,FALSE)=0,\"\",VLOOKUP(CV79,'Footnotes list'!$D$9:$E$58,2,FALSE) ) )","v":""},{"$f":"IF(AND(TRIM(CX77)=\"\",TRIM(CX78)=\"\"),\"\",CX77+CX78)","v":""},null,null,null,{"$f":"IF(TRIM(DA79)=\"\", \"\", IF(VLOOKUP(DA79,'Footnotes list'!$D$9:$E$58,2,FALSE)=0,\"\",VLOOKUP(DA79,'Footnotes list'!$D$9:$E$58,2,FALSE) ) )","v":""},{"$f":"IF(AND(TRIM(DC77)=\"\",TRIM(DC78)=\"\"),\"\",DC77+DC78)","v":""},null,null,null,{"$f":"IF(TRIM(DF79)=\"\", \"\", IF(VLOOKUP(DF79,'Footnotes list'!$D$9:$E$58,2,FALSE)=0,\"\",VLOOKUP(DF79,'Footnotes list'!$D$9:$E$58,2,FALSE) ) )","v":""},{"$f":"IF(AND(TRIM(DH77)=\"\", TRIM(DH78)=\"\"), \"\", SUM(DH77,DH78) )","v":""},null,null,null,{"$f":"IF(TRIM(DK79)=\"\", \"\", IF(VLOOKUP(DK79,'Footnotes list'!$D$9:$E$58,2,FALSE)=0,\"\",VLOOKUP(DK79,'Footnotes list'!$D$9:$E$58,2,FALSE) ) )","v":""}]
[null,"W102","W102","Mixed and undifferentiated materials ","HAZ","Hazardous ",null,null,null,null,{"$f":"IF(TRIM(J80)=\"\", \"\", IF(VLOOKUP(J80,'Footnotes list'!$D$9:$E$58,2,FALSE)=0,\"\",VLOOKUP(J80,'Footnotes list'!$D$9:$E$58,2,FALSE) ) )","v":""},null,null,null,null,{"$f":"IF(TRIM(O80)=\"\", \"\", IF(VLOOKUP(O80,'Footnotes list'!$D$9:$E$58,2,FALSE)=0,\"\",VLOOKUP(O80,'Footnotes list'!$D$9:$E$58,2,FALSE) ) )","v":""},null,null,null,null,{"$f":"IF(TRIM(T80)=\"\", \"\", IF(VLOOKUP(T80,'Footnotes list'!$D$9:$E$58,2,FALSE)=0,\"\",VLOOKUP(T80,'Footnotes list'!$D$9:$E$58,2,FALSE) ) )","v":""},null,null,null,null,{"$f":"IF(TRIM(Y80)=\"\", \"\", IF(VLOOKUP(Y80,'Footnotes list'!$D$9:$E$58,2,FALSE)=0,\"\",VLOOKUP(Y80,'Footnotes list'!$D$9:$E$58,2,FALSE) ) )","v":""},null,null,null,null,{"$f":"IF(TRIM(AD80)=\"\", \"\", IF(VLOOKUP(AD80,'Footnotes list'!$D$9:$E$58,2,FALSE)=0,\"\",VLOOKUP(AD80,'Footnotes list'!$D$9:$E$58,2,FALSE) ) )","v":""},null,null,null,null,{"$f":"IF(TRIM(AI80)=\"\", \"\", IF(VLOOKUP(AI80,'Footnotes list'!$D$9:$E$58,2,FALSE)=0,\"\",VLOOKUP(AI80,'Footnotes list'!$D$9:$E$58,2,FALSE) ) )","v":""},null,null,null,null,{"$f":"IF(TRIM(AN80)=\"\", \"\", IF(VLOOKUP(AN80,'Footnotes list'!$D$9:$E$58,2,FALSE)=0,\"\",VLOOKUP(AN80,'Footnotes list'!$D$9:$E$58,2,FALSE) ) )","v":""},null,null,null,null,{"$f":"IF(TRIM(AS80)=\"\", \"\", IF(VLOOKUP(AS80,'Footnotes list'!$D$9:$E$58,2,FALSE)=0,\"\",VLOOKUP(AS80,'Footnotes list'!$D$9:$E$58,2,FALSE) ) )","v":""},null,null,null,null,{"$f":"IF(TRIM(AX80)=\"\", \"\", IF(VLOOKUP(AX80,'Footnotes list'!$D$9:$E$58,2,FALSE)=0,\"\",VLOOKUP(AX80,'Footnotes list'!$D$9:$E$58,2,FALSE) ) )","v":""},null,null,null,null,{"$f":"IF(TRIM(BC80)=\"\", \"\", IF(VLOOKUP(BC80,'Footnotes list'!$D$9:$E$58,2,FALSE)=0,\"\",VLOOKUP(BC80,'Footnotes list'!$D$9:$E$58,2,FALSE) ) )","v":""},null,null,null,null,{"$f":"IF(TRIM(BH80)=\"\", \"\", IF(VLOOKUP(BH80,'Footnotes list'!$D$9:$E$58,2,FALSE)=0,\"\",VLOOKUP(BH80,'Footnotes list'!$D$9:$E$58,2,FALSE) ) )","v":""},null,null,null,null,{"$f":"IF(TRIM(BM80)=\"\", \"\", IF(VLOOKUP(BM80,'Footnotes list'!$D$9:$E$58,2,FALSE)=0,\"\",VLOOKUP(BM80,'Footnotes list'!$D$9:$E$58,2,FALSE) ) )","v":""},{"$f":"IF(AND(TRIM(Q80)=\"\",TRIM(V80)=\"\",TRIM(AA80)=\"\", TRIM(AF80)=\"\", TRIM(AK80)=\"\", TRIM(AP80)=\"\", TRIM(AU80)=\"\", TRIM(AZ80)=\"\", TRIM(BE80)=\"\", TRIM(BJ80)=\"\"),\"\",Q80+V80+AA80+AF80+AK80+AP80+AU80+AZ80+BE80+BJ80)","v":""},null,null,null,{"$f":"IF(TRIM(BR80)=\"\", \"\", IF(VLOOKUP(BR80,'Footnotes list'!$D$9:$E$58,2,FALSE)=0,\"\",VLOOKUP(BR80,'Footnotes list'!$D$9:$E$58,2,FALSE) ) )","v":""},null,null,null,null,{"$f":"IF(TRIM(BW80)=\"\", \"\", IF(VLOOKUP(BW80,'Footnotes list'!$D$9:$E$58,2,FALSE)=0,\"\",VLOOKUP(BW80,'Footnotes list'!$D$9:$E$58,2,FALSE) ) )","v":""},null,null,null,null,{"$f":"IF(TRIM(CB80)=\"\", \"\", IF(VLOOKUP(CB80,'Footnotes list'!$D$9:$E$58,2,FALSE)=0,\"\",VLOOKUP(CB80,'Footnotes list'!$D$9:$E$58,2,FALSE) ) )","v":""},null,null,null,null,{"$f":"IF(TRIM(CG80)=\"\", \"\", IF(VLOOKUP(CG80,'Footnotes list'!$D$9:$E$58,2,FALSE)=0,\"\",VLOOKUP(CG80,'Footnotes list'!$D$9:$E$58,2,FALSE) ) )","v":""},{"$f":"IF(AND(TRIM(BY80)=\"\",TRIM(CD80)=\"\"),\"\",BY80+CD80)","v":""},null,null,null,{"$f":"IF(TRIM(CL80)=\"\", \"\", IF(VLOOKUP(CL80,'Footnotes list'!$D$9:$E$58,2,FALSE)=0,\"\",VLOOKUP(CL80,'Footnotes list'!$D$9:$E$58,2,FALSE) ) )","v":""},null,null,null,null,{"$f":"IF(TRIM(CQ80)=\"\", \"\", IF(VLOOKUP(CQ80,'Footnotes list'!$D$9:$E$58,2,FALSE)=0,\"\",VLOOKUP(CQ80,'Footnotes list'!$D$9:$E$58,2,FALSE) ) )","v":""},null,null,null,null,{"$f":"IF(TRIM(CV80)=\"\", \"\", IF(VLOOKUP(CV80,'Footnotes list'!$D$9:$E$58,2,FALSE)=0,\"\",VLOOKUP(CV80,'Footnotes list'!$D$9:$E$58,2,FALSE) ) )","v":""},null,null,null,null,{"$f":"IF(TRIM(DA80)=\"\", \"\", IF(VLOOKUP(DA80,'Footnotes list'!$D$9:$E$58,2,FALSE)=0,\"\",VLOOKUP(DA80,'Footnotes list'!$D$9:$E$58,2,FALSE) ) )","v":""},null,null,null,null,{"$f":"IF(TRIM(DF80)=\"\", \"\", IF(VLOOKUP(DF80,'Footnotes list'!$D$9:$E$58,2,FALSE)=0,\"\",VLOOKUP(DF80,'Footnotes list'!$D$9:$E$58,2,FALSE) ) )","v":""},{"$f":"IF(AND(TRIM(G80)=\"\",TRIM(L80)=\"\",TRIM(BO80)=\"\",TRIM(BT80)=\"\",TRIM(CI80)=\"\",TRIM(CN80)=\"\",TRIM(CS80)=\"\",TRIM(CX80)=\"\",TRIM(DC80)=\"\"),\"\",SUM(G80,L80,BO80,BT80,CI80,CN80,CS80,CX80,DC80))","v":""},null,null,null,{"$f":"IF(TRIM(DK80)=\"\", \"\", IF(VLOOKUP(DK80,'Footnotes list'!$D$9:$E$58,2,FALSE)=0,\"\",VLOOKUP(DK80,'Footnotes list'!$D$9:$E$58,2,FALSE) ) )","v":""}]
[null,null,"W102",null,"NHAZ","Non-hazardous",null,null,null,null,{"$f":"IF(TRIM(J81)=\"\", \"\", IF(VLOOKUP(J81,'Footnotes list'!$D$9:$E$58,2,FALSE)=0,\"\",VLOOKUP(J81,'Footnotes list'!$D$9:$E$58,2,FALSE) ) )","v":""},null,null,null,null,{"$f":"IF(TRIM(O81)=\"\", \"\", IF(VLOOKUP(O81,'Footnotes list'!$D$9:$E$58,2,FALSE)=0,\"\",VLOOKUP(O81,'Footnotes list'!$D$9:$E$58,2,FALSE) ) )","v":""},null,null,null,null,{"$f":"IF(TRIM(T81)=\"\", \"\", IF(VLOOKUP(T81,'Footnotes list'!$D$9:$E$58,2,FALSE)=0,\"\",VLOOKUP(T81,'Footnotes list'!$D$9:$E$58,2,FALSE) ) )","v":""},null,null,null,null,{"$f":"IF(TRIM(Y81)=\"\", \"\", IF(VLOOKUP(Y81,'Footnotes list'!$D$9:$E$58,2,FALSE)=0,\"\",VLOOKUP(Y81,'Footnotes list'!$D$9:$E$58,2,FALSE) ) )","v":""},null,null,null,null,{"$f":"IF(TRIM(AD81)=\"\", \"\", IF(VLOOKUP(AD81,'Footnotes list'!$D$9:$E$58,2,FALSE)=0,\"\",VLOOKUP(AD81,'Footnotes list'!$D$9:$E$58,2,FALSE) ) )","v":""},null,null,null,null,{"$f":"IF(TRIM(AI81)=\"\", \"\", IF(VLOOKUP(AI81,'Footnotes list'!$D$9:$E$58,2,FALSE)=0,\"\",VLOOKUP(AI81,'Footnotes list'!$D$9:$E$58,2,FALSE) ) )","v":""},null,null,null,null,{"$f":"IF(TRIM(AN81)=\"\", \"\", IF(VLOOKUP(AN81,'Footnotes list'!$D$9:$E$58,2,FALSE)=0,\"\",VLOOKUP(AN81,'Footnotes list'!$D$9:$E$58,2,FALSE) ) )","v":""},null,null,null,null,{"$f":"IF(TRIM(AS81)=\"\", \"\", IF(VLOOKUP(AS81,'Footnotes list'!$D$9:$E$58,2,FALSE)=0,\"\",VLOOKUP(AS81,'Footnotes list'!$D$9:$E$58,2,FALSE) ) )","v":""},null,null,null,null,{"$f":"IF(TRIM(AX81)=\"\", \"\", IF(VLOOKUP(AX81,'Footnotes list'!$D$9:$E$58,2,FALSE)=0,\"\",VLOOKUP(AX81,'Footnotes list'!$D$9:$E$58,2,FALSE) ) )","v":""},null,null,null,null,{"$f":"IF(TRIM(BC81)=\"\", \"\", IF(VLOOKUP(BC81,'Footnotes list'!$D$9:$E$58,2,FALSE)=0,\"\",VLOOKUP(BC81,'Footnotes list'!$D$9:$E$58,2,FALSE) ) )","v":""},null,null,null,null,{"$f":"IF(TRIM(BH81)=\"\", \"\", IF(VLOOKUP(BH81,'Footnotes list'!$D$9:$E$58,2,FALSE)=0,\"\",VLOOKUP(BH81,'Footnotes list'!$D$9:$E$58,2,FALSE) ) )","v":""},null,null,null,null,{"$f":"IF(TRIM(BM81)=\"\", \"\", IF(VLOOKUP(BM81,'Footnotes list'!$D$9:$E$58,2,FALSE)=0,\"\",VLOOKUP(BM81,'Footnotes list'!$D$9:$E$58,2,FALSE) ) )","v":""},{"$f":"IF(AND(TRIM(Q81)=\"\",TRIM(V81)=\"\",TRIM(AA81)=\"\", TRIM(AF81)=\"\", TRIM(AK81)=\"\", TRIM(AP81)=\"\", TRIM(AU81)=\"\", TRIM(AZ81)=\"\", TRIM(BE81)=\"\", TRIM(BJ81)=\"\"),\"\",Q81+V81+AA81+AF81+AK81+AP81+AU81+AZ81+BE81+BJ81)","v":""},null,null,null,{"$f":"IF(TRIM(BR81)=\"\", \"\", IF(VLOOKUP(BR81,'Footnotes list'!$D$9:$E$58,2,FALSE)=0,\"\",VLOOKUP(BR81,'Footnotes list'!$D$9:$E$58,2,FALSE) ) )","v":""},null,null,null,null,{"$f":"IF(TRIM(BW81)=\"\", \"\", IF(VLOOKUP(BW81,'Footnotes list'!$D$9:$E$58,2,FALSE)=0,\"\",VLOOKUP(BW81,'Footnotes list'!$D$9:$E$58,2,FALSE) ) )","v":""},null,null,null,null,{"$f":"IF(TRIM(CB81)=\"\", \"\", IF(VLOOKUP(CB81,'Footnotes list'!$D$9:$E$58,2,FALSE)=0,\"\",VLOOKUP(CB81,'Footnotes list'!$D$9:$E$58,2,FALSE) ) )","v":""},null,null,null,null,{"$f":"IF(TRIM(CG81)=\"\", \"\", IF(VLOOKUP(CG81,'Footnotes list'!$D$9:$E$58,2,FALSE)=0,\"\",VLOOKUP(CG81,'Footnotes list'!$D$9:$E$58,2,FALSE) ) )","v":""},{"$f":"IF(AND(TRIM(BY81)=\"\",TRIM(CD81)=\"\"),\"\",BY81+CD81)","v":""},null,null,null,{"$f":"IF(TRIM(CL81)=\"\", \"\", IF(VLOOKUP(CL81,'Footnotes list'!$D$9:$E$58,2,FALSE)=0,\"\",VLOOKUP(CL81,'Footnotes list'!$D$9:$E$58,2,FALSE) ) )","v":""},null,null,null,null,{"$f":"IF(TRIM(CQ81)=\"\", \"\", IF(VLOOKUP(CQ81,'Footnotes list'!$D$9:$E$58,2,FALSE)=0,\"\",VLOOKUP(CQ81,'Footnotes list'!$D$9:$E$58,2,FALSE) ) )","v":""},null,null,null,null,{"$f":"IF(TRIM(CV81)=\"\", \"\", IF(VLOOKUP(CV81,'Footnotes list'!$D$9:$E$58,2,FALSE)=0,\"\",VLOOKUP(CV81,'Footnotes list'!$D$9:$E$58,2,FALSE) ) )","v":""},null,null,null,null,{"$f":"IF(TRIM(DA81)=\"\", \"\", IF(VLOOKUP(DA81,'Footnotes list'!$D$9:$E$58,2,FALSE)=0,\"\",VLOOKUP(DA81,'Footnotes list'!$D$9:$E$58,2,FALSE) ) )","v":""},null,null,null,null,{"$f":"IF(TRIM(DF81)=\"\", \"\", IF(VLOOKUP(DF81,'Footnotes list'!$D$9:$E$58,2,FALSE)=0,\"\",VLOOKUP(DF81,'Footnotes list'!$D$9:$E$58,2,FALSE) ) )","v":""},{"$f":"IF(AND(TRIM(G81)=\"\",TRIM(L81)=\"\",TRIM(BO81)=\"\",TRIM(BT81)=\"\",TRIM(CI81)=\"\",TRIM(CN81)=\"\",TRIM(CS81)=\"\",TRIM(CX81)=\"\",TRIM(DC81)=\"\"),\"\",SUM(G81,L81,BO81,BT81,CI81,CN81,CS81,CX81,DC81))","v":""},null,null,null,{"$f":"IF(TRIM(DK81)=\"\", \"\", IF(VLOOKUP(DK81,'Footnotes list'!$D$9:$E$58,2,FALSE)=0,\"\",VLOOKUP(DK81,'Footnotes list'!$D$9:$E$58,2,FALSE) ) )","v":""}]
[null,null,"W102",null,"HAZ_NHAZ","Total",{"$f":"IF(AND(TRIM(G80)=\"\",TRIM(G81)=\"\"),\"\",G80+G81)","v":""},null,null,null,{"$f":"IF(TRIM(J82)=\"\", \"\", IF(VLOOKUP(J82,'Footnotes list'!$D$9:$E$58,2,FALSE)=0,\"\",VLOOKUP(J82,'Footnotes list'!$D$9:$E$58,2,FALSE) ) )","v":""},{"$f":"IF(AND(TRIM(L80)=\"\",TRIM(L81)=\"\"),\"\",L80+L81)","v":""},null,null,null,{"$f":"IF(TRIM(O82)=\"\", \"\", IF(VLOOKUP(O82,'Footnotes list'!$D$9:$E$58,2,FALSE)=0,\"\",VLOOKUP(O82,'Footnotes list'!$D$9:$E$58,2,FALSE) ) )","v":""},{"$f":"IF(AND(TRIM(Q80)=\"\",TRIM(Q81)=\"\"),\"\",Q80+Q81)","v":""},null,null,null,{"$f":"IF(TRIM(T82)=\"\", \"\", IF(VLOOKUP(T82,'Footnotes list'!$D$9:$E$58,2,FALSE)=0,\"\",VLOOKUP(T82,'Footnotes list'!$D$9:$E$58,2,FALSE) ) )","v":""},{"$f":"IF(AND(TRIM(V80)=\"\",TRIM(V81)=\"\"),\"\",V80+V81)","v":""},null,null,null,{"$f":"IF(TRIM(Y82)=\"\", \"\", IF(VLOOKUP(Y82,'Footnotes list'!$D$9:$E$58,2,FALSE)=0,\"\",VLOOKUP(Y82,'Footnotes list'!$D$9:$E$58,2,FALSE) ) )","v":""},{"$f":"IF(AND(TRIM(AA80)=\"\",TRIM(AA81)=\"\"),\"\",AA80+AA81)","v":""},null,null,null,{"$f":"IF(TRIM(AD82)=\"\", \"\", IF(VLOOKUP(AD82,'Footnotes list'!$D$9:$E$58,2,FALSE)=0,\"\",VLOOKUP(AD82,'Footnotes list'!$D$9:$E$58,2,FALSE) ) )","v":""},{"$f":"IF(AND(TRIM(AF80)=\"\",TRIM(AF81)=\"\"),\"\",AF80+AF81)","v":""},null,null,null,{"$f":"IF(TRIM(AI82)=\"\", \"\", IF(VLOOKUP(AI82,'Footnotes list'!$D$9:$E$58,2,FALSE)=0,\"\",VLOOKUP(AI82,'Footnotes list'!$D$9:$E$58,2,FALSE) ) )","v":""},{"$f":"IF(AND(TRIM(AK80)=\"\",TRIM(AK81)=\"\"),\"\",AK80+AK81)","v":""},null,null,null,{"$f":"IF(TRIM(AN82)=\"\", \"\", IF(VLOOKUP(AN82,'Footnotes list'!$D$9:$E$58,2,FALSE)=0,\"\",VLOOKUP(AN82,'Footnotes list'!$D$9:$E$58,2,FALSE) ) )","v":""},{"$f":"IF(AND(TRIM(AP80)=\"\",TRIM(AP81)=\"\"),\"\",AP80+AP81)","v":""},null,null,null,{"$f":"IF(TRIM(AS82)=\"\", \"\", IF(VLOOKUP(AS82,'Footnotes list'!$D$9:$E$58,2,FALSE)=0,\"\",VLOOKUP(AS82,'Footnotes list'!$D$9:$E$58,2,FALSE) ) )","v":""},{"$f":"IF(AND(TRIM(AU80)=\"\",TRIM(AU81)=\"\"),\"\",AU80+AU81)","v":""},null,null,null,{"$f":"IF(TRIM(AX82)=\"\", \"\", IF(VLOOKUP(AX82,'Footnotes list'!$D$9:$E$58,2,FALSE)=0,\"\",VLOOKUP(AX82,'Footnotes list'!$D$9:$E$58,2,FALSE) ) )","v":""},{"$f":"IF(AND(TRIM(AZ80)=\"\",TRIM(AZ81)=\"\"),\"\",AZ80+AZ81)","v":""},null,null,null,{"$f":"IF(TRIM(BC82)=\"\", \"\", IF(VLOOKUP(BC82,'Footnotes list'!$D$9:$E$58,2,FALSE)=0,\"\",VLOOKUP(BC82,'Footnotes list'!$D$9:$E$58,2,FALSE) ) )","v":""},{"$f":"IF(AND(TRIM(BE80)=\"\",TRIM(BE81)=\"\"),\"\",BE80+BE81)","v":""},null,null,null,{"$f":"IF(TRIM(BH82)=\"\", \"\", IF(VLOOKUP(BH82,'Footnotes list'!$D$9:$E$58,2,FALSE)=0,\"\",VLOOKUP(BH82,'Footnotes list'!$D$9:$E$58,2,FALSE) ) )","v":""},{"$f":"IF(AND(TRIM(BJ80)=\"\",TRIM(BJ81)=\"\"),\"\",BJ80+BJ81)","v":""},null,null,null,{"$f":"IF(TRIM(BM82)=\"\", \"\", IF(VLOOKUP(BM82,'Footnotes list'!$D$9:$E$58,2,FALSE)=0,\"\",VLOOKUP(BM82,'Footnotes list'!$D$9:$E$58,2,FALSE) ) )","v":""},{"$f":"IF(AND(TRIM(BO80)=\"\", TRIM(BO81)=\"\"), \"\", (IF(ISNUMBER(BO80),BO80,0)+IF(ISNUMBER(BO81),BO81,0)))","v":""},null,null,null,{"$f":"IF(TRIM(BR82)=\"\", \"\", IF(VLOOKUP(BR82,'Footnotes list'!$D$9:$E$58,2,FALSE)=0,\"\",VLOOKUP(BR82,'Footnotes list'!$D$9:$E$58,2,FALSE) ) )","v":""},{"$f":"IF(AND(TRIM(BT80)=\"\",TRIM(BT81)=\"\"),\"\",BT80+BT81)","v":""},null,null,null,{"$f":"IF(TRIM(BW82)=\"\", \"\", IF(VLOOKUP(BW82,'Footnotes list'!$D$9:$E$58,2,FALSE)=0,\"\",VLOOKUP(BW82,'Footnotes list'!$D$9:$E$58,2,FALSE) ) )","v":""},{"$f":"IF(AND(TRIM(BY80)=\"\",TRIM(BY81)=\"\"),\"\",BY80+BY81)","v":""},null,null,null,{"$f":"IF(TRIM(CB82)=\"\", \"\", IF(VLOOKUP(CB82,'Footnotes list'!$D$9:$E$58,2,FALSE)=0,\"\",VLOOKUP(CB82,'Footnotes list'!$D$9:$E$58,2,FALSE) ) )","v":""},{"$f":"IF(AND(TRIM(CD80)=\"\",TRIM(CD81)=\"\"),\"\",CD80+CD81)","v":""},null,null,null,{"$f":"IF(TRIM(CG82)=\"\", \"\", IF(VLOOKUP(CG82,'Footnotes list'!$D$9:$E$58,2,FALSE)=0,\"\",VLOOKUP(CG82,'Footnotes list'!$D$9:$E$58,2,FALSE) ) )","v":""},{"$f":"IF(AND(TRIM(CI80)=\"\", TRIM(CI81)=\"\"), \"\", (IF(ISNUMBER(CI80),CI80,0)+IF(ISNUMBER(CI81),CI81,0)))","v":""},null,null,null,{"$f":"IF(TRIM(CL82)=\"\", \"\", IF(VLOOKUP(CL82,'Footnotes list'!$D$9:$E$58,2,FALSE)=0,\"\",VLOOKUP(CL82,'Footnotes list'!$D$9:$E$58,2,FALSE) ) )","v":""},{"$f":"IF(AND(TRIM(CN80)=\"\",TRIM(CN81)=\"\"),\"\",CN80+CN81)","v":""},null,null,null,{"$f":"IF(TRIM(CQ82)=\"\", \"\", IF(VLOOKUP(CQ82,'Footnotes list'!$D$9:$E$58,2,FALSE)=0,\"\",VLOOKUP(CQ82,'Footnotes list'!$D$9:$E$58,2,FALSE) ) )","v":""},{"$f":"IF(AND(TRIM(CS80)=\"\",TRIM(CS81)=\"\"),\"\",CS80+CS81)","v":""},null,null,null,{"$f":"IF(TRIM(CV82)=\"\", \"\", IF(VLOOKUP(CV82,'Footnotes list'!$D$9:$E$58,2,FALSE)=0,\"\",VLOOKUP(CV82,'Footnotes list'!$D$9:$E$58,2,FALSE) ) )","v":""},{"$f":"IF(AND(TRIM(CX80)=\"\",TRIM(CX81)=\"\"),\"\",CX80+CX81)","v":""},null,null,null,{"$f":"IF(TRIM(DA82)=\"\", \"\", IF(VLOOKUP(DA82,'Footnotes list'!$D$9:$E$58,2,FALSE)=0,\"\",VLOOKUP(DA82,'Footnotes list'!$D$9:$E$58,2,FALSE) ) )","v":""},{"$f":"IF(AND(TRIM(DC80)=\"\",TRIM(DC81)=\"\"),\"\",DC80+DC81)","v":""},null,null,null,{"$f":"IF(TRIM(DF82)=\"\", \"\", IF(VLOOKUP(DF82,'Footnotes list'!$D$9:$E$58,2,FALSE)=0,\"\",VLOOKUP(DF82,'Footnotes list'!$D$9:$E$58,2,FALSE) ) )","v":""},{"$f":"IF(AND(TRIM(DH80)=\"\", TRIM(DH81)=\"\"), \"\", SUM(DH80,DH81) )","v":""},null,null,null,{"$f":"IF(TRIM(DK82)=\"\", \"\", IF(VLOOKUP(DK82,'Footnotes list'!$D$9:$E$58,2,FALSE)=0,\"\",VLOOKUP(DK82,'Footnotes list'!$D$9:$E$58,2,FALSE) ) )","v":""}]
[null,"W103","W103","Sorting residues ","HAZ","Hazardous ",null,null,null,null,{"$f":"IF(TRIM(J83)=\"\", \"\", IF(VLOOKUP(J83,'Footnotes list'!$D$9:$E$58,2,FALSE)=0,\"\",VLOOKUP(J83,'Footnotes list'!$D$9:$E$58,2,FALSE) ) )","v":""},null,null,null,null,{"$f":"IF(TRIM(O83)=\"\", \"\", IF(VLOOKUP(O83,'Footnotes list'!$D$9:$E$58,2,FALSE)=0,\"\",VLOOKUP(O83,'Footnotes list'!$D$9:$E$58,2,FALSE) ) )","v":""},null,null,null,null,{"$f":"IF(TRIM(T83)=\"\", \"\", IF(VLOOKUP(T83,'Footnotes list'!$D$9:$E$58,2,FALSE)=0,\"\",VLOOKUP(T83,'Footnotes list'!$D$9:$E$58,2,FALSE) ) )","v":""},null,null,null,null,{"$f":"IF(TRIM(Y83)=\"\", \"\", IF(VLOOKUP(Y83,'Footnotes list'!$D$9:$E$58,2,FALSE)=0,\"\",VLOOKUP(Y83,'Footnotes list'!$D$9:$E$58,2,FALSE) ) )","v":""},null,null,null,null,{"$f":"IF(TRIM(AD83)=\"\", \"\", IF(VLOOKUP(AD83,'Footnotes list'!$D$9:$E$58,2,FALSE)=0,\"\",VLOOKUP(AD83,'Footnotes list'!$D$9:$E$58,2,FALSE) ) )","v":""},null,null,null,null,{"$f":"IF(TRIM(AI83)=\"\", \"\", IF(VLOOKUP(AI83,'Footnotes list'!$D$9:$E$58,2,FALSE)=0,\"\",VLOOKUP(AI83,'Footnotes list'!$D$9:$E$58,2,FALSE) ) )","v":""},null,null,null,null,{"$f":"IF(TRIM(AN83)=\"\", \"\", IF(VLOOKUP(AN83,'Footnotes list'!$D$9:$E$58,2,FALSE)=0,\"\",VLOOKUP(AN83,'Footnotes list'!$D$9:$E$58,2,FALSE) ) )","v":""},null,null,null,null,{"$f":"IF(TRIM(AS83)=\"\", \"\", IF(VLOOKUP(AS83,'Footnotes list'!$D$9:$E$58,2,FALSE)=0,\"\",VLOOKUP(AS83,'Footnotes list'!$D$9:$E$58,2,FALSE) ) )","v":""},null,null,null,null,{"$f":"IF(TRIM(AX83)=\"\", \"\", IF(VLOOKUP(AX83,'Footnotes list'!$D$9:$E$58,2,FALSE)=0,\"\",VLOOKUP(AX83,'Footnotes list'!$D$9:$E$58,2,FALSE) ) )","v":""},null,null,null,null,{"$f":"IF(TRIM(BC83)=\"\", \"\", IF(VLOOKUP(BC83,'Footnotes list'!$D$9:$E$58,2,FALSE)=0,\"\",VLOOKUP(BC83,'Footnotes list'!$D$9:$E$58,2,FALSE) ) )","v":""},null,null,null,null,{"$f":"IF(TRIM(BH83)=\"\", \"\", IF(VLOOKUP(BH83,'Footnotes list'!$D$9:$E$58,2,FALSE)=0,\"\",VLOOKUP(BH83,'Footnotes list'!$D$9:$E$58,2,FALSE) ) )","v":""},null,null,null,null,{"$f":"IF(TRIM(BM83)=\"\", \"\", IF(VLOOKUP(BM83,'Footnotes list'!$D$9:$E$58,2,FALSE)=0,\"\",VLOOKUP(BM83,'Footnotes list'!$D$9:$E$58,2,FALSE) ) )","v":""},{"$f":"IF(AND(TRIM(Q83)=\"\",TRIM(V83)=\"\",TRIM(AA83)=\"\", TRIM(AF83)=\"\", TRIM(AK83)=\"\", TRIM(AP83)=\"\", TRIM(AU83)=\"\", TRIM(AZ83)=\"\", TRIM(BE83)=\"\", TRIM(BJ83)=\"\"),\"\",Q83+V83+AA83+AF83+AK83+AP83+AU83+AZ83+BE83+BJ83)","v":""},null,null,null,{"$f":"IF(TRIM(BR83)=\"\", \"\", IF(VLOOKUP(BR83,'Footnotes list'!$D$9:$E$58,2,FALSE)=0,\"\",VLOOKUP(BR83,'Footnotes list'!$D$9:$E$58,2,FALSE) ) )","v":""},null,null,null,null,{"$f":"IF(TRIM(BW83)=\"\", \"\", IF(VLOOKUP(BW83,'Footnotes list'!$D$9:$E$58,2,FALSE)=0,\"\",VLOOKUP(BW83,'Footnotes list'!$D$9:$E$58,2,FALSE) ) )","v":""},null,null,null,null,{"$f":"IF(TRIM(CB83)=\"\", \"\", IF(VLOOKUP(CB83,'Footnotes list'!$D$9:$E$58,2,FALSE)=0,\"\",VLOOKUP(CB83,'Footnotes list'!$D$9:$E$58,2,FALSE) ) )","v":""},null,null,null,null,{"$f":"IF(TRIM(CG83)=\"\", \"\", IF(VLOOKUP(CG83,'Footnotes list'!$D$9:$E$58,2,FALSE)=0,\"\",VLOOKUP(CG83,'Footnotes list'!$D$9:$E$58,2,FALSE) ) )","v":""},{"$f":"IF(AND(TRIM(BY83)=\"\",TRIM(CD83)=\"\"),\"\",BY83+CD83)","v":""},null,null,null,{"$f":"IF(TRIM(CL83)=\"\", \"\", IF(VLOOKUP(CL83,'Footnotes list'!$D$9:$E$58,2,FALSE)=0,\"\",VLOOKUP(CL83,'Footnotes list'!$D$9:$E$58,2,FALSE) ) )","v":""},null,null,null,null,{"$f":"IF(TRIM(CQ83)=\"\", \"\", IF(VLOOKUP(CQ83,'Footnotes list'!$D$9:$E$58,2,FALSE)=0,\"\",VLOOKUP(CQ83,'Footnotes list'!$D$9:$E$58,2,FALSE) ) )","v":""},null,null,null,null,{"$f":"IF(TRIM(CV83)=\"\", \"\", IF(VLOOKUP(CV83,'Footnotes list'!$D$9:$E$58,2,FALSE)=0,\"\",VLOOKUP(CV83,'Footnotes list'!$D$9:$E$58,2,FALSE) ) )","v":""},null,null,null,null,{"$f":"IF(TRIM(DA83)=\"\", \"\", IF(VLOOKUP(DA83,'Footnotes list'!$D$9:$E$58,2,FALSE)=0,\"\",VLOOKUP(DA83,'Footnotes list'!$D$9:$E$58,2,FALSE) ) )","v":""},null,null,null,null,{"$f":"IF(TRIM(DF83)=\"\", \"\", IF(VLOOKUP(DF83,'Footnotes list'!$D$9:$E$58,2,FALSE)=0,\"\",VLOOKUP(DF83,'Footnotes list'!$D$9:$E$58,2,FALSE) ) )","v":""},{"$f":"IF(AND(TRIM(G83)=\"\",TRIM(L83)=\"\",TRIM(BO83)=\"\",TRIM(BT83)=\"\",TRIM(CI83)=\"\",TRIM(CN83)=\"\",TRIM(CS83)=\"\",TRIM(CX83)=\"\",TRIM(DC83)=\"\"),\"\",SUM(G83,L83,BO83,BT83,CI83,CN83,CS83,CX83,DC83))","v":""},null,null,null,{"$f":"IF(TRIM(DK83)=\"\", \"\", IF(VLOOKUP(DK83,'Footnotes list'!$D$9:$E$58,2,FALSE)=0,\"\",VLOOKUP(DK83,'Footnotes list'!$D$9:$E$58,2,FALSE) ) )","v":""}]
[null,null,"W103",null,"NHAZ","Non-hazardous",null,null,null,null,{"$f":"IF(TRIM(J84)=\"\", \"\", IF(VLOOKUP(J84,'Footnotes list'!$D$9:$E$58,2,FALSE)=0,\"\",VLOOKUP(J84,'Footnotes list'!$D$9:$E$58,2,FALSE) ) )","v":""},null,null,null,null,{"$f":"IF(TRIM(O84)=\"\", \"\", IF(VLOOKUP(O84,'Footnotes list'!$D$9:$E$58,2,FALSE)=0,\"\",VLOOKUP(O84,'Footnotes list'!$D$9:$E$58,2,FALSE) ) )","v":""},null,null,null,null,{"$f":"IF(TRIM(T84)=\"\", \"\", IF(VLOOKUP(T84,'Footnotes list'!$D$9:$E$58,2,FALSE)=0,\"\",VLOOKUP(T84,'Footnotes list'!$D$9:$E$58,2,FALSE) ) )","v":""},null,null,null,null,{"$f":"IF(TRIM(Y84)=\"\", \"\", IF(VLOOKUP(Y84,'Footnotes list'!$D$9:$E$58,2,FALSE)=0,\"\",VLOOKUP(Y84,'Footnotes list'!$D$9:$E$58,2,FALSE) ) )","v":""},null,null,null,null,{"$f":"IF(TRIM(AD84)=\"\", \"\", IF(VLOOKUP(AD84,'Footnotes list'!$D$9:$E$58,2,FALSE)=0,\"\",VLOOKUP(AD84,'Footnotes list'!$D$9:$E$58,2,FALSE) ) )","v":""},null,null,null,null,{"$f":"IF(TRIM(AI84)=\"\", \"\", IF(VLOOKUP(AI84,'Footnotes list'!$D$9:$E$58,2,FALSE)=0,\"\",VLOOKUP(AI84,'Footnotes list'!$D$9:$E$58,2,FALSE) ) )","v":""},null,null,null,null,{"$f":"IF(TRIM(AN84)=\"\", \"\", IF(VLOOKUP(AN84,'Footnotes list'!$D$9:$E$58,2,FALSE)=0,\"\",VLOOKUP(AN84,'Footnotes list'!$D$9:$E$58,2,FALSE) ) )","v":""},null,null,null,null,{"$f":"IF(TRIM(AS84)=\"\", \"\", IF(VLOOKUP(AS84,'Footnotes list'!$D$9:$E$58,2,FALSE)=0,\"\",VLOOKUP(AS84,'Footnotes list'!$D$9:$E$58,2,FALSE) ) )","v":""},null,null,null,null,{"$f":"IF(TRIM(AX84)=\"\", \"\", IF(VLOOKUP(AX84,'Footnotes list'!$D$9:$E$58,2,FALSE)=0,\"\",VLOOKUP(AX84,'Footnotes list'!$D$9:$E$58,2,FALSE) ) )","v":""},null,null,null,null,{"$f":"IF(TRIM(BC84)=\"\", \"\", IF(VLOOKUP(BC84,'Footnotes list'!$D$9:$E$58,2,FALSE)=0,\"\",VLOOKUP(BC84,'Footnotes list'!$D$9:$E$58,2,FALSE) ) )","v":""},null,null,null,null,{"$f":"IF(TRIM(BH84)=\"\", \"\", IF(VLOOKUP(BH84,'Footnotes list'!$D$9:$E$58,2,FALSE)=0,\"\",VLOOKUP(BH84,'Footnotes list'!$D$9:$E$58,2,FALSE) ) )","v":""},null,null,null,null,{"$f":"IF(TRIM(BM84)=\"\", \"\", IF(VLOOKUP(BM84,'Footnotes list'!$D$9:$E$58,2,FALSE)=0,\"\",VLOOKUP(BM84,'Footnotes list'!$D$9:$E$58,2,FALSE) ) )","v":""},{"$f":"IF(AND(TRIM(Q84)=\"\",TRIM(V84)=\"\",TRIM(AA84)=\"\", TRIM(AF84)=\"\", TRIM(AK84)=\"\", TRIM(AP84)=\"\", TRIM(AU84)=\"\", TRIM(AZ84)=\"\", TRIM(BE84)=\"\", TRIM(BJ84)=\"\"),\"\",Q84+V84+AA84+AF84+AK84+AP84+AU84+AZ84+BE84+BJ84)","v":""},null,null,null,{"$f":"IF(TRIM(BR84)=\"\", \"\", IF(VLOOKUP(BR84,'Footnotes list'!$D$9:$E$58,2,FALSE)=0,\"\",VLOOKUP(BR84,'Footnotes list'!$D$9:$E$58,2,FALSE) ) )","v":""},null,null,null,null,{"$f":"IF(TRIM(BW84)=\"\", \"\", IF(VLOOKUP(BW84,'Footnotes list'!$D$9:$E$58,2,FALSE)=0,\"\",VLOOKUP(BW84,'Footnotes list'!$D$9:$E$58,2,FALSE) ) )","v":""},null,null,null,null,{"$f":"IF(TRIM(CB84)=\"\", \"\", IF(VLOOKUP(CB84,'Footnotes list'!$D$9:$E$58,2,FALSE)=0,\"\",VLOOKUP(CB84,'Footnotes list'!$D$9:$E$58,2,FALSE) ) )","v":""},null,null,null,null,{"$f":"IF(TRIM(CG84)=\"\", \"\", IF(VLOOKUP(CG84,'Footnotes list'!$D$9:$E$58,2,FALSE)=0,\"\",VLOOKUP(CG84,'Footnotes list'!$D$9:$E$58,2,FALSE) ) )","v":""},{"$f":"IF(AND(TRIM(BY84)=\"\",TRIM(CD84)=\"\"),\"\",BY84+CD84)","v":""},null,null,null,{"$f":"IF(TRIM(CL84)=\"\", \"\", IF(VLOOKUP(CL84,'Footnotes list'!$D$9:$E$58,2,FALSE)=0,\"\",VLOOKUP(CL84,'Footnotes list'!$D$9:$E$58,2,FALSE) ) )","v":""},null,null,null,null,{"$f":"IF(TRIM(CQ84)=\"\", \"\", IF(VLOOKUP(CQ84,'Footnotes list'!$D$9:$E$58,2,FALSE)=0,\"\",VLOOKUP(CQ84,'Footnotes list'!$D$9:$E$58,2,FALSE) ) )","v":""},null,null,null,null,{"$f":"IF(TRIM(CV84)=\"\", \"\", IF(VLOOKUP(CV84,'Footnotes list'!$D$9:$E$58,2,FALSE)=0,\"\",VLOOKUP(CV84,'Footnotes list'!$D$9:$E$58,2,FALSE) ) )","v":""},null,null,null,null,{"$f":"IF(TRIM(DA84)=\"\", \"\", IF(VLOOKUP(DA84,'Footnotes list'!$D$9:$E$58,2,FALSE)=0,\"\",VLOOKUP(DA84,'Footnotes list'!$D$9:$E$58,2,FALSE) ) )","v":""},null,null,null,null,{"$f":"IF(TRIM(DF84)=\"\", \"\", IF(VLOOKUP(DF84,'Footnotes list'!$D$9:$E$58,2,FALSE)=0,\"\",VLOOKUP(DF84,'Footnotes list'!$D$9:$E$58,2,FALSE) ) )","v":""},{"$f":"IF(AND(TRIM(G84)=\"\",TRIM(L84)=\"\",TRIM(BO84)=\"\",TRIM(BT84)=\"\",TRIM(CI84)=\"\",TRIM(CN84)=\"\",TRIM(CS84)=\"\",TRIM(CX84)=\"\",TRIM(DC84)=\"\"),\"\",SUM(G84,L84,BO84,BT84,CI84,CN84,CS84,CX84,DC84))","v":""},null,null,null,{"$f":"IF(TRIM(DK84)=\"\", \"\", IF(VLOOKUP(DK84,'Footnotes list'!$D$9:$E$58,2,FALSE)=0,\"\",VLOOKUP(DK84,'Footnotes list'!$D$9:$E$58,2,FALSE) ) )","v":""}]
[null,null,"W103",null,"HAZ_NHAZ","Total",{"$f":"IF(AND(TRIM(G83)=\"\",TRIM(G84)=\"\"),\"\",G83+G84)","v":""},null,null,null,{"$f":"IF(TRIM(J85)=\"\", \"\", IF(VLOOKUP(J85,'Footnotes list'!$D$9:$E$58,2,FALSE)=0,\"\",VLOOKUP(J85,'Footnotes list'!$D$9:$E$58,2,FALSE) ) )","v":""},{"$f":"IF(AND(TRIM(L83)=\"\",TRIM(L84)=\"\"),\"\",L83+L84)","v":""},null,null,null,{"$f":"IF(TRIM(O85)=\"\", \"\", IF(VLOOKUP(O85,'Footnotes list'!$D$9:$E$58,2,FALSE)=0,\"\",VLOOKUP(O85,'Footnotes list'!$D$9:$E$58,2,FALSE) ) )","v":""},{"$f":"IF(AND(TRIM(Q83)=\"\",TRIM(Q84)=\"\"),\"\",Q83+Q84)","v":""},null,null,null,{"$f":"IF(TRIM(T85)=\"\", \"\", IF(VLOOKUP(T85,'Footnotes list'!$D$9:$E$58,2,FALSE)=0,\"\",VLOOKUP(T85,'Footnotes list'!$D$9:$E$58,2,FALSE) ) )","v":""},{"$f":"IF(AND(TRIM(V83)=\"\",TRIM(V84)=\"\"),\"\",V83+V84)","v":""},null,null,null,{"$f":"IF(TRIM(Y85)=\"\", \"\", IF(VLOOKUP(Y85,'Footnotes list'!$D$9:$E$58,2,FALSE)=0,\"\",VLOOKUP(Y85,'Footnotes list'!$D$9:$E$58,2,FALSE) ) )","v":""},{"$f":"IF(AND(TRIM(AA83)=\"\",TRIM(AA84)=\"\"),\"\",AA83+AA84)","v":""},null,null,null,{"$f":"IF(TRIM(AD85)=\"\", \"\", IF(VLOOKUP(AD85,'Footnotes list'!$D$9:$E$58,2,FALSE)=0,\"\",VLOOKUP(AD85,'Footnotes list'!$D$9:$E$58,2,FALSE) ) )","v":""},{"$f":"IF(AND(TRIM(AF83)=\"\",TRIM(AF84)=\"\"),\"\",AF83+AF84)","v":""},null,null,null,{"$f":"IF(TRIM(AI85)=\"\", \"\", IF(VLOOKUP(AI85,'Footnotes list'!$D$9:$E$58,2,FALSE)=0,\"\",VLOOKUP(AI85,'Footnotes list'!$D$9:$E$58,2,FALSE) ) )","v":""},{"$f":"IF(AND(TRIM(AK83)=\"\",TRIM(AK84)=\"\"),\"\",AK83+AK84)","v":""},null,null,null,{"$f":"IF(TRIM(AN85)=\"\", \"\", IF(VLOOKUP(AN85,'Footnotes list'!$D$9:$E$58,2,FALSE)=0,\"\",VLOOKUP(AN85,'Footnotes list'!$D$9:$E$58,2,FALSE) ) )","v":""},{"$f":"IF(AND(TRIM(AP83)=\"\",TRIM(AP84)=\"\"),\"\",AP83+AP84)","v":""},null,null,null,{"$f":"IF(TRIM(AS85)=\"\", \"\", IF(VLOOKUP(AS85,'Footnotes list'!$D$9:$E$58,2,FALSE)=0,\"\",VLOOKUP(AS85,'Footnotes list'!$D$9:$E$58,2,FALSE) ) )","v":""},{"$f":"IF(AND(TRIM(AU83)=\"\",TRIM(AU84)=\"\"),\"\",AU83+AU84)","v":""},null,null,null,{"$f":"IF(TRIM(AX85)=\"\", \"\", IF(VLOOKUP(AX85,'Footnotes list'!$D$9:$E$58,2,FALSE)=0,\"\",VLOOKUP(AX85,'Footnotes list'!$D$9:$E$58,2,FALSE) ) )","v":""},{"$f":"IF(AND(TRIM(AZ83)=\"\",TRIM(AZ84)=\"\"),\"\",AZ83+AZ84)","v":""},null,null,null,{"$f":"IF(TRIM(BC85)=\"\", \"\", IF(VLOOKUP(BC85,'Footnotes list'!$D$9:$E$58,2,FALSE)=0,\"\",VLOOKUP(BC85,'Footnotes list'!$D$9:$E$58,2,FALSE) ) )","v":""},{"$f":"IF(AND(TRIM(BE83)=\"\",TRIM(BE84)=\"\"),\"\",BE83+BE84)","v":""},null,null,null,{"$f":"IF(TRIM(BH85)=\"\", \"\", IF(VLOOKUP(BH85,'Footnotes list'!$D$9:$E$58,2,FALSE)=0,\"\",VLOOKUP(BH85,'Footnotes list'!$D$9:$E$58,2,FALSE) ) )","v":""},{"$f":"IF(AND(TRIM(BJ83)=\"\",TRIM(BJ84)=\"\"),\"\",BJ83+BJ84)","v":""},null,null,null,{"$f":"IF(TRIM(BM85)=\"\", \"\", IF(VLOOKUP(BM85,'Footnotes list'!$D$9:$E$58,2,FALSE)=0,\"\",VLOOKUP(BM85,'Footnotes list'!$D$9:$E$58,2,FALSE) ) )","v":""},{"$f":"IF(AND(TRIM(BO83)=\"\", TRIM(BO84)=\"\"), \"\", (IF(ISNUMBER(BO83),BO83,0)+IF(ISNUMBER(BO84),BO84,0)))","v":""},null,null,null,{"$f":"IF(TRIM(BR85)=\"\", \"\", IF(VLOOKUP(BR85,'Footnotes list'!$D$9:$E$58,2,FALSE)=0,\"\",VLOOKUP(BR85,'Footnotes list'!$D$9:$E$58,2,FALSE) ) )","v":""},{"$f":"IF(AND(TRIM(BT83)=\"\",TRIM(BT84)=\"\"),\"\",BT83+BT84)","v":""},null,null,null,{"$f":"IF(TRIM(BW85)=\"\", \"\", IF(VLOOKUP(BW85,'Footnotes list'!$D$9:$E$58,2,FALSE)=0,\"\",VLOOKUP(BW85,'Footnotes list'!$D$9:$E$58,2,FALSE) ) )","v":""},{"$f":"IF(AND(TRIM(BY83)=\"\",TRIM(BY84)=\"\"),\"\",BY83+BY84)","v":""},null,null,null,{"$f":"IF(TRIM(CB85)=\"\", \"\", IF(VLOOKUP(CB85,'Footnotes list'!$D$9:$E$58,2,FALSE)=0,\"\",VLOOKUP(CB85,'Footnotes list'!$D$9:$E$58,2,FALSE) ) )","v":""},{"$f":"IF(AND(TRIM(CD83)=\"\",TRIM(CD84)=\"\"),\"\",CD83+CD84)","v":""},null,null,null,{"$f":"IF(TRIM(CG85)=\"\", \"\", IF(VLOOKUP(CG85,'Footnotes list'!$D$9:$E$58,2,FALSE)=0,\"\",VLOOKUP(CG85,'Footnotes list'!$D$9:$E$58,2,FALSE) ) )","v":""},{"$f":"IF(AND(TRIM(CI83)=\"\", TRIM(CI84)=\"\"), \"\", (IF(ISNUMBER(CI83),CI83,0)+IF(ISNUMBER(CI84),CI84,0)))","v":""},null,null,null,{"$f":"IF(TRIM(CL85)=\"\", \"\", IF(VLOOKUP(CL85,'Footnotes list'!$D$9:$E$58,2,FALSE)=0,\"\",VLOOKUP(CL85,'Footnotes list'!$D$9:$E$58,2,FALSE) ) )","v":""},{"$f":"IF(AND(TRIM(CN83)=\"\",TRIM(CN84)=\"\"),\"\",CN83+CN84)","v":""},null,null,null,{"$f":"IF(TRIM(CQ85)=\"\", \"\", IF(VLOOKUP(CQ85,'Footnotes list'!$D$9:$E$58,2,FALSE)=0,\"\",VLOOKUP(CQ85,'Footnotes list'!$D$9:$E$58,2,FALSE) ) )","v":""},{"$f":"IF(AND(TRIM(CS83)=\"\",TRIM(CS84)=\"\"),\"\",CS83+CS84)","v":""},null,null,null,{"$f":"IF(TRIM(CV85)=\"\", \"\", IF(VLOOKUP(CV85,'Footnotes list'!$D$9:$E$58,2,FALSE)=0,\"\",VLOOKUP(CV85,'Footnotes list'!$D$9:$E$58,2,FALSE) ) )","v":""},{"$f":"IF(AND(TRIM(CX83)=\"\",TRIM(CX84)=\"\"),\"\",CX83+CX84)","v":""},null,null,null,{"$f":"IF(TRIM(DA85)=\"\", \"\", IF(VLOOKUP(DA85,'Footnotes list'!$D$9:$E$58,2,FALSE)=0,\"\",VLOOKUP(DA85,'Footnotes list'!$D$9:$E$58,2,FALSE) ) )","v":""},{"$f":"IF(AND(TRIM(DC83)=\"\",TRIM(DC84)=\"\"),\"\",DC83+DC84)","v":""},null,null,null,{"$f":"IF(TRIM(DF85)=\"\", \"\", IF(VLOOKUP(DF85,'Footnotes list'!$D$9:$E$58,2,FALSE)=0,\"\",VLOOKUP(DF85,'Footnotes list'!$D$9:$E$58,2,FALSE) ) )","v":""},{"$f":"IF(AND(TRIM(DH83)=\"\", TRIM(DH84)=\"\"), \"\", SUM(DH83,DH84) )","v":""},null,null,null,{"$f":"IF(TRIM(DK85)=\"\", \"\", IF(VLOOKUP(DK85,'Footnotes list'!$D$9:$E$58,2,FALSE)=0,\"\",VLOOKUP(DK85,'Footnotes list'!$D$9:$E$58,2,FALSE) ) )","v":""}]
[null,"W11",null,"Common sludges ",null,"Not applicable"]
[null,null,"W11",null,"NHAZ","Non-hazardous",null,null,null,null,{"$f":"IF(TRIM(J87)=\"\", \"\", IF(VLOOKUP(J87,'Footnotes list'!$D$9:$E$58,2,FALSE)=0,\"\",VLOOKUP(J87,'Footnotes list'!$D$9:$E$58,2,FALSE) ) )","v":""},null,null,null,null,{"$f":"IF(TRIM(O87)=\"\", \"\", IF(VLOOKUP(O87,'Footnotes list'!$D$9:$E$58,2,FALSE)=0,\"\",VLOOKUP(O87,'Footnotes list'!$D$9:$E$58,2,FALSE) ) )","v":""},null,null,null,null,{"$f":"IF(TRIM(T87)=\"\", \"\", IF(VLOOKUP(T87,'Footnotes list'!$D$9:$E$58,2,FALSE)=0,\"\",VLOOKUP(T87,'Footnotes list'!$D$9:$E$58,2,FALSE) ) )","v":""},null,null,null,null,{"$f":"IF(TRIM(Y87)=\"\", \"\", IF(VLOOKUP(Y87,'Footnotes list'!$D$9:$E$58,2,FALSE)=0,\"\",VLOOKUP(Y87,'Footnotes list'!$D$9:$E$58,2,FALSE) ) )","v":""},null,null,null,null,{"$f":"IF(TRIM(AD87)=\"\", \"\", IF(VLOOKUP(AD87,'Footnotes list'!$D$9:$E$58,2,FALSE)=0,\"\",VLOOKUP(AD87,'Footnotes list'!$D$9:$E$58,2,FALSE) ) )","v":""},null,null,null,null,{"$f":"IF(TRIM(AI87)=\"\", \"\", IF(VLOOKUP(AI87,'Footnotes list'!$D$9:$E$58,2,FALSE)=0,\"\",VLOOKUP(AI87,'Footnotes list'!$D$9:$E$58,2,FALSE) ) )","v":""},null,null,null,null,{"$f":"IF(TRIM(AN87)=\"\", \"\", IF(VLOOKUP(AN87,'Footnotes list'!$D$9:$E$58,2,FALSE)=0,\"\",VLOOKUP(AN87,'Footnotes list'!$D$9:$E$58,2,FALSE) ) )","v":""},null,null,null,null,{"$f":"IF(TRIM(AS87)=\"\", \"\", IF(VLOOKUP(AS87,'Footnotes list'!$D$9:$E$58,2,FALSE)=0,\"\",VLOOKUP(AS87,'Footnotes list'!$D$9:$E$58,2,FALSE) ) )","v":""},null,null,null,null,{"$f":"IF(TRIM(AX87)=\"\", \"\", IF(VLOOKUP(AX87,'Footnotes list'!$D$9:$E$58,2,FALSE)=0,\"\",VLOOKUP(AX87,'Footnotes list'!$D$9:$E$58,2,FALSE) ) )","v":""},null,null,null,null,{"$f":"IF(TRIM(BC87)=\"\", \"\", IF(VLOOKUP(BC87,'Footnotes list'!$D$9:$E$58,2,FALSE)=0,\"\",VLOOKUP(BC87,'Footnotes list'!$D$9:$E$58,2,FALSE) ) )","v":""},null,null,null,null,{"$f":"IF(TRIM(BH87)=\"\", \"\", IF(VLOOKUP(BH87,'Footnotes list'!$D$9:$E$58,2,FALSE)=0,\"\",VLOOKUP(BH87,'Footnotes list'!$D$9:$E$58,2,FALSE) ) )","v":""},null,null,null,null,{"$f":"IF(TRIM(BM87)=\"\", \"\", IF(VLOOKUP(BM87,'Footnotes list'!$D$9:$E$58,2,FALSE)=0,\"\",VLOOKUP(BM87,'Footnotes list'!$D$9:$E$58,2,FALSE) ) )","v":""},{"$f":"IF(AND(TRIM(Q87)=\"\",TRIM(V87)=\"\",TRIM(AA87)=\"\", TRIM(AF87)=\"\", TRIM(AK87)=\"\", TRIM(AP87)=\"\", TRIM(AU87)=\"\", TRIM(AZ87)=\"\", TRIM(BE87)=\"\", TRIM(BJ87)=\"\"),\"\",Q87+V87+AA87+AF87+AK87+AP87+AU87+AZ87+BE87+BJ87)","v":""},null,null,null,{"$f":"IF(TRIM(BR87)=\"\", \"\", IF(VLOOKUP(BR87,'Footnotes list'!$D$9:$E$58,2,FALSE)=0,\"\",VLOOKUP(BR87,'Footnotes list'!$D$9:$E$58,2,FALSE) ) )","v":""},null,null,null,null,{"$f":"IF(TRIM(BW87)=\"\", \"\", IF(VLOOKUP(BW87,'Footnotes list'!$D$9:$E$58,2,FALSE)=0,\"\",VLOOKUP(BW87,'Footnotes list'!$D$9:$E$58,2,FALSE) ) )","v":""},null,null,null,null,{"$f":"IF(TRIM(CB87)=\"\", \"\", IF(VLOOKUP(CB87,'Footnotes list'!$D$9:$E$58,2,FALSE)=0,\"\",VLOOKUP(CB87,'Footnotes list'!$D$9:$E$58,2,FALSE) ) )","v":""},null,null,null,null,{"$f":"IF(TRIM(CG87)=\"\", \"\", IF(VLOOKUP(CG87,'Footnotes list'!$D$9:$E$58,2,FALSE)=0,\"\",VLOOKUP(CG87,'Footnotes list'!$D$9:$E$58,2,FALSE) ) )","v":""},{"$f":"IF(AND(TRIM(BY87)=\"\",TRIM(CD87)=\"\"),\"\",BY87+CD87)","v":""},null,null,null,{"$f":"IF(TRIM(CL87)=\"\", \"\", IF(VLOOKUP(CL87,'Footnotes list'!$D$9:$E$58,2,FALSE)=0,\"\",VLOOKUP(CL87,'Footnotes list'!$D$9:$E$58,2,FALSE) ) )","v":""},null,null,null,null,{"$f":"IF(TRIM(CQ87)=\"\", \"\", IF(VLOOKUP(CQ87,'Footnotes list'!$D$9:$E$58,2,FALSE)=0,\"\",VLOOKUP(CQ87,'Footnotes list'!$D$9:$E$58,2,FALSE) ) )","v":""},null,null,null,null,{"$f":"IF(TRIM(CV87)=\"\", \"\", IF(VLOOKUP(CV87,'Footnotes list'!$D$9:$E$58,2,FALSE)=0,\"\",VLOOKUP(CV87,'Footnotes list'!$D$9:$E$58,2,FALSE) ) )","v":""},null,null,null,null,{"$f":"IF(TRIM(DA87)=\"\", \"\", IF(VLOOKUP(DA87,'Footnotes list'!$D$9:$E$58,2,FALSE)=0,\"\",VLOOKUP(DA87,'Footnotes list'!$D$9:$E$58,2,FALSE) ) )","v":""},null,null,null,null,{"$f":"IF(TRIM(DF87)=\"\", \"\", IF(VLOOKUP(DF87,'Footnotes list'!$D$9:$E$58,2,FALSE)=0,\"\",VLOOKUP(DF87,'Footnotes list'!$D$9:$E$58,2,FALSE) ) )","v":""},{"$f":"IF(AND(TRIM(G87)=\"\",TRIM(L87)=\"\",TRIM(BO87)=\"\",TRIM(BT87)=\"\",TRIM(CI87)=\"\",TRIM(CN87)=\"\",TRIM(CS87)=\"\",TRIM(CX87)=\"\",TRIM(DC87)=\"\"),\"\",SUM(G87,L87,BO87,BT87,CI87,CN87,CS87,CX87,DC87))","v":""},null,null,null,{"$f":"IF(TRIM(DK87)=\"\", \"\", IF(VLOOKUP(DK87,'Footnotes list'!$D$9:$E$58,2,FALSE)=0,\"\",VLOOKUP(DK87,'Footnotes list'!$D$9:$E$58,2,FALSE) ) )","v":""}]
[null,null,"W11",null,"HAZ_NHAZ","Total",{"$f":"IF(AND(TRIM(G86)=\"\",TRIM(G87)=\"\"),\"\",G86+G87)","v":""},null,null,null,{"$f":"IF(TRIM(J88)=\"\", \"\", IF(VLOOKUP(J88,'Footnotes list'!$D$9:$E$58,2,FALSE)=0,\"\",VLOOKUP(J88,'Footnotes list'!$D$9:$E$58,2,FALSE) ) )","v":""},{"$f":"IF(AND(TRIM(L86)=\"\",TRIM(L87)=\"\"),\"\",L86+L87)","v":""},null,null,null,{"$f":"IF(TRIM(O88)=\"\", \"\", IF(VLOOKUP(O88,'Footnotes list'!$D$9:$E$58,2,FALSE)=0,\"\",VLOOKUP(O88,'Footnotes list'!$D$9:$E$58,2,FALSE) ) )","v":""},{"$f":"IF(AND(TRIM(Q86)=\"\",TRIM(Q87)=\"\"),\"\",Q86+Q87)","v":""},null,null,null,{"$f":"IF(TRIM(T88)=\"\", \"\", IF(VLOOKUP(T88,'Footnotes list'!$D$9:$E$58,2,FALSE)=0,\"\",VLOOKUP(T88,'Footnotes list'!$D$9:$E$58,2,FALSE) ) )","v":""},{"$f":"IF(AND(TRIM(V86)=\"\",TRIM(V87)=\"\"),\"\",V86+V87)","v":""},null,null,null,{"$f":"IF(TRIM(Y88)=\"\", \"\", IF(VLOOKUP(Y88,'Footnotes list'!$D$9:$E$58,2,FALSE)=0,\"\",VLOOKUP(Y88,'Footnotes list'!$D$9:$E$58,2,FALSE) ) )","v":""},{"$f":"IF(AND(TRIM(AA86)=\"\",TRIM(AA87)=\"\"),\"\",AA86+AA87)","v":""},null,null,null,{"$f":"IF(TRIM(AD88)=\"\", \"\", IF(VLOOKUP(AD88,'Footnotes list'!$D$9:$E$58,2,FALSE)=0,\"\",VLOOKUP(AD88,'Footnotes list'!$D$9:$E$58,2,FALSE) ) )","v":""},{"$f":"IF(AND(TRIM(AF86)=\"\",TRIM(AF87)=\"\"),\"\",AF86+AF87)","v":""},null,null,null,{"$f":"IF(TRIM(AI88)=\"\", \"\", IF(VLOOKUP(AI88,'Footnotes list'!$D$9:$E$58,2,FALSE)=0,\"\",VLOOKUP(AI88,'Footnotes list'!$D$9:$E$58,2,FALSE) ) )","v":""},{"$f":"IF(AND(TRIM(AK86)=\"\",TRIM(AK87)=\"\"),\"\",AK86+AK87)","v":""},null,null,null,{"$f":"IF(TRIM(AN88)=\"\", \"\", IF(VLOOKUP(AN88,'Footnotes list'!$D$9:$E$58,2,FALSE)=0,\"\",VLOOKUP(AN88,'Footnotes list'!$D$9:$E$58,2,FALSE) ) )","v":""},{"$f":"IF(AND(TRIM(AP86)=\"\",TRIM(AP87)=\"\"),\"\",AP86+AP87)","v":""},null,null,null,{"$f":"IF(TRIM(AS88)=\"\", \"\", IF(VLOOKUP(AS88,'Footnotes list'!$D$9:$E$58,2,FALSE)=0,\"\",VLOOKUP(AS88,'Footnotes list'!$D$9:$E$58,2,FALSE) ) )","v":""},{"$f":"IF(AND(TRIM(AU86)=\"\",TRIM(AU87)=\"\"),\"\",AU86+AU87)","v":""},null,null,null,{"$f":"IF(TRIM(AX88)=\"\", \"\", IF(VLOOKUP(AX88,'Footnotes list'!$D$9:$E$58,2,FALSE)=0,\"\",VLOOKUP(AX88,'Footnotes list'!$D$9:$E$58,2,FALSE) ) )","v":""},{"$f":"IF(AND(TRIM(AZ86)=\"\",TRIM(AZ87)=\"\"),\"\",AZ86+AZ87)","v":""},null,null,null,{"$f":"IF(TRIM(BC88)=\"\", \"\", IF(VLOOKUP(BC88,'Footnotes list'!$D$9:$E$58,2,FALSE)=0,\"\",VLOOKUP(BC88,'Footnotes list'!$D$9:$E$58,2,FALSE) ) )","v":""},{"$f":"IF(AND(TRIM(BE86)=\"\",TRIM(BE87)=\"\"),\"\",BE86+BE87)","v":""},null,null,null,{"$f":"IF(TRIM(BH88)=\"\", \"\", IF(VLOOKUP(BH88,'Footnotes list'!$D$9:$E$58,2,FALSE)=0,\"\",VLOOKUP(BH88,'Footnotes list'!$D$9:$E$58,2,FALSE) ) )","v":""},{"$f":"IF(AND(TRIM(BJ86)=\"\",TRIM(BJ87)=\"\"),\"\",BJ86+BJ87)","v":""},null,null,null,{"$f":"IF(TRIM(BM88)=\"\", \"\", IF(VLOOKUP(BM88,'Footnotes list'!$D$9:$E$58,2,FALSE)=0,\"\",VLOOKUP(BM88,'Footnotes list'!$D$9:$E$58,2,FALSE) ) )","v":""},{"$f":"IF(AND(TRIM(BO86)=\"\", TRIM(BO87)=\"\"), \"\", (IF(ISNUMBER(BO86),BO86,0)+IF(ISNUMBER(BO87),BO87,0)))","v":""},null,null,null,{"$f":"IF(TRIM(BR88)=\"\", \"\", IF(VLOOKUP(BR88,'Footnotes list'!$D$9:$E$58,2,FALSE)=0,\"\",VLOOKUP(BR88,'Footnotes list'!$D$9:$E$58,2,FALSE) ) )","v":""},{"$f":"IF(AND(TRIM(BT86)=\"\",TRIM(BT87)=\"\"),\"\",BT86+BT87)","v":""},null,null,null,{"$f":"IF(TRIM(BW88)=\"\", \"\", IF(VLOOKUP(BW88,'Footnotes list'!$D$9:$E$58,2,FALSE)=0,\"\",VLOOKUP(BW88,'Footnotes list'!$D$9:$E$58,2,FALSE) ) )","v":""},{"$f":"IF(AND(TRIM(BY86)=\"\",TRIM(BY87)=\"\"),\"\",BY86+BY87)","v":""},null,null,null,{"$f":"IF(TRIM(CB88)=\"\", \"\", IF(VLOOKUP(CB88,'Footnotes list'!$D$9:$E$58,2,FALSE)=0,\"\",VLOOKUP(CB88,'Footnotes list'!$D$9:$E$58,2,FALSE) ) )","v":""},{"$f":"IF(AND(TRIM(CD86)=\"\",TRIM(CD87)=\"\"),\"\",CD86+CD87)","v":""},null,null,null,{"$f":"IF(TRIM(CG88)=\"\", \"\", IF(VLOOKUP(CG88,'Footnotes list'!$D$9:$E$58,2,FALSE)=0,\"\",VLOOKUP(CG88,'Footnotes list'!$D$9:$E$58,2,FALSE) ) )","v":""},{"$f":"IF(AND(TRIM(CI86)=\"\", TRIM(CI87)=\"\"), \"\", (IF(ISNUMBER(CI86),CI86,0)+IF(ISNUMBER(CI87),CI87,0)))","v":""},null,null,null,{"$f":"IF(TRIM(CL88)=\"\", \"\", IF(VLOOKUP(CL88,'Footnotes list'!$D$9:$E$58,2,FALSE)=0,\"\",VLOOKUP(CL88,'Footnotes list'!$D$9:$E$58,2,FALSE) ) )","v":""},{"$f":"IF(AND(TRIM(CN86)=\"\",TRIM(CN87)=\"\"),\"\",CN86+CN87)","v":""},null,null,null,{"$f":"IF(TRIM(CQ88)=\"\", \"\", IF(VLOOKUP(CQ88,'Footnotes list'!$D$9:$E$58,2,FALSE)=0,\"\",VLOOKUP(CQ88,'Footnotes list'!$D$9:$E$58,2,FALSE) ) )","v":""},{"$f":"IF(AND(TRIM(CS86)=\"\",TRIM(CS87)=\"\"),\"\",CS86+CS87)","v":""},null,null,null,{"$f":"IF(TRIM(CV88)=\"\", \"\", IF(VLOOKUP(CV88,'Footnotes list'!$D$9:$E$58,2,FALSE)=0,\"\",VLOOKUP(CV88,'Footnotes list'!$D$9:$E$58,2,FALSE) ) )","v":""},{"$f":"IF(AND(TRIM(CX86)=\"\",TRIM(CX87)=\"\"),\"\",CX86+CX87)","v":""},null,null,null,{"$f":"IF(TRIM(DA88)=\"\", \"\", IF(VLOOKUP(DA88,'Footnotes list'!$D$9:$E$58,2,FALSE)=0,\"\",VLOOKUP(DA88,'Footnotes list'!$D$9:$E$58,2,FALSE) ) )","v":""},{"$f":"IF(AND(TRIM(DC86)=\"\",TRIM(DC87)=\"\"),\"\",DC86+DC87)","v":""},null,null,null,{"$f":"IF(TRIM(DF88)=\"\", \"\", IF(VLOOKUP(DF88,'Footnotes list'!$D$9:$E$58,2,FALSE)=0,\"\",VLOOKUP(DF88,'Footnotes list'!$D$9:$E$58,2,FALSE) ) )","v":""},{"$f":"IF(AND(TRIM(DH86)=\"\", TRIM(DH87)=\"\"), \"\", SUM(DH86,DH87) )","v":""},null,null,null,{"$f":"IF(TRIM(DK88)=\"\", \"\", IF(VLOOKUP(DK88,'Footnotes list'!$D$9:$E$58,2,FALSE)=0,\"\",VLOOKUP(DK88,'Footnotes list'!$D$9:$E$58,2,FALSE) ) )","v":""}]
[null,"W121","W121","Mineral waste from construction and demolition","HAZ","Hazardous ",null,null,null,null,{"$f":"IF(TRIM(J89)=\"\", \"\", IF(VLOOKUP(J89,'Footnotes list'!$D$9:$E$58,2,FALSE)=0,\"\",VLOOKUP(J89,'Footnotes list'!$D$9:$E$58,2,FALSE) ) )","v":""},null,null,null,null,{"$f":"IF(TRIM(O89)=\"\", \"\", IF(VLOOKUP(O89,'Footnotes list'!$D$9:$E$58,2,FALSE)=0,\"\",VLOOKUP(O89,'Footnotes list'!$D$9:$E$58,2,FALSE) ) )","v":""},null,null,null,null,{"$f":"IF(TRIM(T89)=\"\", \"\", IF(VLOOKUP(T89,'Footnotes list'!$D$9:$E$58,2,FALSE)=0,\"\",VLOOKUP(T89,'Footnotes list'!$D$9:$E$58,2,FALSE) ) )","v":""},null,null,null,null,{"$f":"IF(TRIM(Y89)=\"\", \"\", IF(VLOOKUP(Y89,'Footnotes list'!$D$9:$E$58,2,FALSE)=0,\"\",VLOOKUP(Y89,'Footnotes list'!$D$9:$E$58,2,FALSE) ) )","v":""},null,null,null,null,{"$f":"IF(TRIM(AD89)=\"\", \"\", IF(VLOOKUP(AD89,'Footnotes list'!$D$9:$E$58,2,FALSE)=0,\"\",VLOOKUP(AD89,'Footnotes list'!$D$9:$E$58,2,FALSE) ) )","v":""},null,null,null,null,{"$f":"IF(TRIM(AI89)=\"\", \"\", IF(VLOOKUP(AI89,'Footnotes list'!$D$9:$E$58,2,FALSE)=0,\"\",VLOOKUP(AI89,'Footnotes list'!$D$9:$E$58,2,FALSE) ) )","v":""},null,null,null,null,{"$f":"IF(TRIM(AN89)=\"\", \"\", IF(VLOOKUP(AN89,'Footnotes list'!$D$9:$E$58,2,FALSE)=0,\"\",VLOOKUP(AN89,'Footnotes list'!$D$9:$E$58,2,FALSE) ) )","v":""},null,null,null,null,{"$f":"IF(TRIM(AS89)=\"\", \"\", IF(VLOOKUP(AS89,'Footnotes list'!$D$9:$E$58,2,FALSE)=0,\"\",VLOOKUP(AS89,'Footnotes list'!$D$9:$E$58,2,FALSE) ) )","v":""},null,null,null,null,{"$f":"IF(TRIM(AX89)=\"\", \"\", IF(VLOOKUP(AX89,'Footnotes list'!$D$9:$E$58,2,FALSE)=0,\"\",VLOOKUP(AX89,'Footnotes list'!$D$9:$E$58,2,FALSE) ) )","v":""},null,null,null,null,{"$f":"IF(TRIM(BC89)=\"\", \"\", IF(VLOOKUP(BC89,'Footnotes list'!$D$9:$E$58,2,FALSE)=0,\"\",VLOOKUP(BC89,'Footnotes list'!$D$9:$E$58,2,FALSE) ) )","v":""},null,null,null,null,{"$f":"IF(TRIM(BH89)=\"\", \"\", IF(VLOOKUP(BH89,'Footnotes list'!$D$9:$E$58,2,FALSE)=0,\"\",VLOOKUP(BH89,'Footnotes list'!$D$9:$E$58,2,FALSE) ) )","v":""},null,null,null,null,{"$f":"IF(TRIM(BM89)=\"\", \"\", IF(VLOOKUP(BM89,'Footnotes list'!$D$9:$E$58,2,FALSE)=0,\"\",VLOOKUP(BM89,'Footnotes list'!$D$9:$E$58,2,FALSE) ) )","v":""},{"$f":"IF(AND(TRIM(Q89)=\"\",TRIM(V89)=\"\",TRIM(AA89)=\"\", TRIM(AF89)=\"\", TRIM(AK89)=\"\", TRIM(AP89)=\"\", TRIM(AU89)=\"\", TRIM(AZ89)=\"\", TRIM(BE89)=\"\", TRIM(BJ89)=\"\"),\"\",Q89+V89+AA89+AF89+AK89+AP89+AU89+AZ89+BE89+BJ89)","v":""},null,null,null,{"$f":"IF(TRIM(BR89)=\"\", \"\", IF(VLOOKUP(BR89,'Footnotes list'!$D$9:$E$58,2,FALSE)=0,\"\",VLOOKUP(BR89,'Footnotes list'!$D$9:$E$58,2,FALSE) ) )","v":""},null,null,null,null,{"$f":"IF(TRIM(BW89)=\"\", \"\", IF(VLOOKUP(BW89,'Footnotes list'!$D$9:$E$58,2,FALSE)=0,\"\",VLOOKUP(BW89,'Footnotes list'!$D$9:$E$58,2,FALSE) ) )","v":""},null,null,null,null,{"$f":"IF(TRIM(CB89)=\"\", \"\", IF(VLOOKUP(CB89,'Footnotes list'!$D$9:$E$58,2,FALSE)=0,\"\",VLOOKUP(CB89,'Footnotes list'!$D$9:$E$58,2,FALSE) ) )","v":""},null,null,null,null,{"$f":"IF(TRIM(CG89)=\"\", \"\", IF(VLOOKUP(CG89,'Footnotes list'!$D$9:$E$58,2,FALSE)=0,\"\",VLOOKUP(CG89,'Footnotes list'!$D$9:$E$58,2,FALSE) ) )","v":""},{"$f":"IF(AND(TRIM(BY89)=\"\",TRIM(CD89)=\"\"),\"\",BY89+CD89)","v":""},null,null,null,{"$f":"IF(TRIM(CL89)=\"\", \"\", IF(VLOOKUP(CL89,'Footnotes list'!$D$9:$E$58,2,FALSE)=0,\"\",VLOOKUP(CL89,'Footnotes list'!$D$9:$E$58,2,FALSE) ) )","v":""},null,null,null,null,{"$f":"IF(TRIM(CQ89)=\"\", \"\", IF(VLOOKUP(CQ89,'Footnotes list'!$D$9:$E$58,2,FALSE)=0,\"\",VLOOKUP(CQ89,'Footnotes list'!$D$9:$E$58,2,FALSE) ) )","v":""},null,null,null,null,{"$f":"IF(TRIM(CV89)=\"\", \"\", IF(VLOOKUP(CV89,'Footnotes list'!$D$9:$E$58,2,FALSE)=0,\"\",VLOOKUP(CV89,'Footnotes list'!$D$9:$E$58,2,FALSE) ) )","v":""},null,null,null,null,{"$f":"IF(TRIM(DA89)=\"\", \"\", IF(VLOOKUP(DA89,'Footnotes list'!$D$9:$E$58,2,FALSE)=0,\"\",VLOOKUP(DA89,'Footnotes list'!$D$9:$E$58,2,FALSE) ) )","v":""},null,null,null,null,{"$f":"IF(TRIM(DF89)=\"\", \"\", IF(VLOOKUP(DF89,'Footnotes list'!$D$9:$E$58,2,FALSE)=0,\"\",VLOOKUP(DF89,'Footnotes list'!$D$9:$E$58,2,FALSE) ) )","v":""},{"$f":"IF(AND(TRIM(G89)=\"\",TRIM(L89)=\"\",TRIM(BO89)=\"\",TRIM(BT89)=\"\",TRIM(CI89)=\"\",TRIM(CN89)=\"\",TRIM(CS89)=\"\",TRIM(CX89)=\"\",TRIM(DC89)=\"\"),\"\",SUM(G89,L89,BO89,BT89,CI89,CN89,CS89,CX89,DC89))","v":""},null,null,null,{"$f":"IF(TRIM(DK89)=\"\", \"\", IF(VLOOKUP(DK89,'Footnotes list'!$D$9:$E$58,2,FALSE)=0,\"\",VLOOKUP(DK89,'Footnotes list'!$D$9:$E$58,2,FALSE) ) )","v":""}]
[null,null,"W121",null,"NHAZ","Non-hazardous",null,null,null,null,{"$f":"IF(TRIM(J90)=\"\", \"\", IF(VLOOKUP(J90,'Footnotes list'!$D$9:$E$58,2,FALSE)=0,\"\",VLOOKUP(J90,'Footnotes list'!$D$9:$E$58,2,FALSE) ) )","v":""},null,null,null,null,{"$f":"IF(TRIM(O90)=\"\", \"\", IF(VLOOKUP(O90,'Footnotes list'!$D$9:$E$58,2,FALSE)=0,\"\",VLOOKUP(O90,'Footnotes list'!$D$9:$E$58,2,FALSE) ) )","v":""},null,null,null,null,{"$f":"IF(TRIM(T90)=\"\", \"\", IF(VLOOKUP(T90,'Footnotes list'!$D$9:$E$58,2,FALSE)=0,\"\",VLOOKUP(T90,'Footnotes list'!$D$9:$E$58,2,FALSE) ) )","v":""},null,null,null,null,{"$f":"IF(TRIM(Y90)=\"\", \"\", IF(VLOOKUP(Y90,'Footnotes list'!$D$9:$E$58,2,FALSE)=0,\"\",VLOOKUP(Y90,'Footnotes list'!$D$9:$E$58,2,FALSE) ) )","v":""},null,null,null,null,{"$f":"IF(TRIM(AD90)=\"\", \"\", IF(VLOOKUP(AD90,'Footnotes list'!$D$9:$E$58,2,FALSE)=0,\"\",VLOOKUP(AD90,'Footnotes list'!$D$9:$E$58,2,FALSE) ) )","v":""},null,null,null,null,{"$f":"IF(TRIM(AI90)=\"\", \"\", IF(VLOOKUP(AI90,'Footnotes list'!$D$9:$E$58,2,FALSE)=0,\"\",VLOOKUP(AI90,'Footnotes list'!$D$9:$E$58,2,FALSE) ) )","v":""},null,null,null,null,{"$f":"IF(TRIM(AN90)=\"\", \"\", IF(VLOOKUP(AN90,'Footnotes list'!$D$9:$E$58,2,FALSE)=0,\"\",VLOOKUP(AN90,'Footnotes list'!$D$9:$E$58,2,FALSE) ) )","v":""},null,null,null,null,{"$f":"IF(TRIM(AS90)=\"\", \"\", IF(VLOOKUP(AS90,'Footnotes list'!$D$9:$E$58,2,FALSE)=0,\"\",VLOOKUP(AS90,'Footnotes list'!$D$9:$E$58,2,FALSE) ) )","v":""},null,null,null,null,{"$f":"IF(TRIM(AX90)=\"\", \"\", IF(VLOOKUP(AX90,'Footnotes list'!$D$9:$E$58,2,FALSE)=0,\"\",VLOOKUP(AX90,'Footnotes list'!$D$9:$E$58,2,FALSE) ) )","v":""},null,null,null,null,{"$f":"IF(TRIM(BC90)=\"\", \"\", IF(VLOOKUP(BC90,'Footnotes list'!$D$9:$E$58,2,FALSE)=0,\"\",VLOOKUP(BC90,'Footnotes list'!$D$9:$E$58,2,FALSE) ) )","v":""},null,null,null,null,{"$f":"IF(TRIM(BH90)=\"\", \"\", IF(VLOOKUP(BH90,'Footnotes list'!$D$9:$E$58,2,FALSE)=0,\"\",VLOOKUP(BH90,'Footnotes list'!$D$9:$E$58,2,FALSE) ) )","v":""},null,null,null,null,{"$f":"IF(TRIM(BM90)=\"\", \"\", IF(VLOOKUP(BM90,'Footnotes list'!$D$9:$E$58,2,FALSE)=0,\"\",VLOOKUP(BM90,'Footnotes list'!$D$9:$E$58,2,FALSE) ) )","v":""},{"$f":"IF(AND(TRIM(Q90)=\"\",TRIM(V90)=\"\",TRIM(AA90)=\"\", TRIM(AF90)=\"\", TRIM(AK90)=\"\", TRIM(AP90)=\"\", TRIM(AU90)=\"\", TRIM(AZ90)=\"\", TRIM(BE90)=\"\", TRIM(BJ90)=\"\"),\"\",Q90+V90+AA90+AF90+AK90+AP90+AU90+AZ90+BE90+BJ90)","v":""},null,null,null,{"$f":"IF(TRIM(BR90)=\"\", \"\", IF(VLOOKUP(BR90,'Footnotes list'!$D$9:$E$58,2,FALSE)=0,\"\",VLOOKUP(BR90,'Footnotes list'!$D$9:$E$58,2,FALSE) ) )","v":""},null,null,null,null,{"$f":"IF(TRIM(BW90)=\"\", \"\", IF(VLOOKUP(BW90,'Footnotes list'!$D$9:$E$58,2,FALSE)=0,\"\",VLOOKUP(BW90,'Footnotes list'!$D$9:$E$58,2,FALSE) ) )","v":""},null,null,null,null,{"$f":"IF(TRIM(CB90)=\"\", \"\", IF(VLOOKUP(CB90,'Footnotes list'!$D$9:$E$58,2,FALSE)=0,\"\",VLOOKUP(CB90,'Footnotes list'!$D$9:$E$58,2,FALSE) ) )","v":""},null,null,null,null,{"$f":"IF(TRIM(CG90)=\"\", \"\", IF(VLOOKUP(CG90,'Footnotes list'!$D$9:$E$58,2,FALSE)=0,\"\",VLOOKUP(CG90,'Footnotes list'!$D$9:$E$58,2,FALSE) ) )","v":""},{"$f":"IF(AND(TRIM(BY90)=\"\",TRIM(CD90)=\"\"),\"\",BY90+CD90)","v":""},null,null,null,{"$f":"IF(TRIM(CL90)=\"\", \"\", IF(VLOOKUP(CL90,'Footnotes list'!$D$9:$E$58,2,FALSE)=0,\"\",VLOOKUP(CL90,'Footnotes list'!$D$9:$E$58,2,FALSE) ) )","v":""},null,null,null,null,{"$f":"IF(TRIM(CQ90)=\"\", \"\", IF(VLOOKUP(CQ90,'Footnotes list'!$D$9:$E$58,2,FALSE)=0,\"\",VLOOKUP(CQ90,'Footnotes list'!$D$9:$E$58,2,FALSE) ) )","v":""},null,null,null,null,{"$f":"IF(TRIM(CV90)=\"\", \"\", IF(VLOOKUP(CV90,'Footnotes list'!$D$9:$E$58,2,FALSE)=0,\"\",VLOOKUP(CV90,'Footnotes list'!$D$9:$E$58,2,FALSE) ) )","v":""},null,null,null,null,{"$f":"IF(TRIM(DA90)=\"\", \"\", IF(VLOOKUP(DA90,'Footnotes list'!$D$9:$E$58,2,FALSE)=0,\"\",VLOOKUP(DA90,'Footnotes list'!$D$9:$E$58,2,FALSE) ) )","v":""},null,null,null,null,{"$f":"IF(TRIM(DF90)=\"\", \"\", IF(VLOOKUP(DF90,'Footnotes list'!$D$9:$E$58,2,FALSE)=0,\"\",VLOOKUP(DF90,'Footnotes list'!$D$9:$E$58,2,FALSE) ) )","v":""},{"$f":"IF(AND(TRIM(G90)=\"\",TRIM(L90)=\"\",TRIM(BO90)=\"\",TRIM(BT90)=\"\",TRIM(CI90)=\"\",TRIM(CN90)=\"\",TRIM(CS90)=\"\",TRIM(CX90)=\"\",TRIM(DC90)=\"\"),\"\",SUM(G90,L90,BO90,BT90,CI90,CN90,CS90,CX90,DC90))","v":""},null,null,null,{"$f":"IF(TRIM(DK90)=\"\", \"\", IF(VLOOKUP(DK90,'Footnotes list'!$D$9:$E$58,2,FALSE)=0,\"\",VLOOKUP(DK90,'Footnotes list'!$D$9:$E$58,2,FALSE) ) )","v":""}]
[null,null,"W121",null,"HAZ_NHAZ","Total",{"$f":"IF(AND(TRIM(G89)=\"\",TRIM(G90)=\"\"),\"\",G89+G90)","v":""},null,null,null,{"$f":"IF(TRIM(J91)=\"\", \"\", IF(VLOOKUP(J91,'Footnotes list'!$D$9:$E$58,2,FALSE)=0,\"\",VLOOKUP(J91,'Footnotes list'!$D$9:$E$58,2,FALSE) ) )","v":""},{"$f":"IF(AND(TRIM(L89)=\"\",TRIM(L90)=\"\"),\"\",L89+L90)","v":""},null,null,null,{"$f":"IF(TRIM(O91)=\"\", \"\", IF(VLOOKUP(O91,'Footnotes list'!$D$9:$E$58,2,FALSE)=0,\"\",VLOOKUP(O91,'Footnotes list'!$D$9:$E$58,2,FALSE) ) )","v":""},{"$f":"IF(AND(TRIM(Q89)=\"\",TRIM(Q90)=\"\"),\"\",Q89+Q90)","v":""},null,null,null,{"$f":"IF(TRIM(T91)=\"\", \"\", IF(VLOOKUP(T91,'Footnotes list'!$D$9:$E$58,2,FALSE)=0,\"\",VLOOKUP(T91,'Footnotes list'!$D$9:$E$58,2,FALSE) ) )","v":""},{"$f":"IF(AND(TRIM(V89)=\"\",TRIM(V90)=\"\"),\"\",V89+V90)","v":""},null,null,null,{"$f":"IF(TRIM(Y91)=\"\", \"\", IF(VLOOKUP(Y91,'Footnotes list'!$D$9:$E$58,2,FALSE)=0,\"\",VLOOKUP(Y91,'Footnotes list'!$D$9:$E$58,2,FALSE) ) )","v":""},{"$f":"IF(AND(TRIM(AA89)=\"\",TRIM(AA90)=\"\"),\"\",AA89+AA90)","v":""},null,null,null,{"$f":"IF(TRIM(AD91)=\"\", \"\", IF(VLOOKUP(AD91,'Footnotes list'!$D$9:$E$58,2,FALSE)=0,\"\",VLOOKUP(AD91,'Footnotes list'!$D$9:$E$58,2,FALSE) ) )","v":""},{"$f":"IF(AND(TRIM(AF89)=\"\",TRIM(AF90)=\"\"),\"\",AF89+AF90)","v":""},null,null,null,{"$f":"IF(TRIM(AI91)=\"\", \"\", IF(VLOOKUP(AI91,'Footnotes list'!$D$9:$E$58,2,FALSE)=0,\"\",VLOOKUP(AI91,'Footnotes list'!$D$9:$E$58,2,FALSE) ) )","v":""},{"$f":"IF(AND(TRIM(AK89)=\"\",TRIM(AK90)=\"\"),\"\",AK89+AK90)","v":""},null,null,null,{"$f":"IF(TRIM(AN91)=\"\", \"\", IF(VLOOKUP(AN91,'Footnotes list'!$D$9:$E$58,2,FALSE)=0,\"\",VLOOKUP(AN91,'Footnotes list'!$D$9:$E$58,2,FALSE) ) )","v":""},{"$f":"IF(AND(TRIM(AP89)=\"\",TRIM(AP90)=\"\"),\"\",AP89+AP90)","v":""},null,null,null,{"$f":"IF(TRIM(AS91)=\"\", \"\", IF(VLOOKUP(AS91,'Footnotes list'!$D$9:$E$58,2,FALSE)=0,\"\",VLOOKUP(AS91,'Footnotes list'!$D$9:$E$58,2,FALSE) ) )","v":""},{"$f":"IF(AND(TRIM(AU89)=\"\",TRIM(AU90)=\"\"),\"\",AU89+AU90)","v":""},null,null,null,{"$f":"IF(TRIM(AX91)=\"\", \"\", IF(VLOOKUP(AX91,'Footnotes list'!$D$9:$E$58,2,FALSE)=0,\"\",VLOOKUP(AX91,'Footnotes list'!$D$9:$E$58,2,FALSE) ) )","v":""},{"$f":"IF(AND(TRIM(AZ89)=\"\",TRIM(AZ90)=\"\"),\"\",AZ89+AZ90)","v":""},null,null,null,{"$f":"IF(TRIM(BC91)=\"\", \"\", IF(VLOOKUP(BC91,'Footnotes list'!$D$9:$E$58,2,FALSE)=0,\"\",VLOOKUP(BC91,'Footnotes list'!$D$9:$E$58,2,FALSE) ) )","v":""},{"$f":"IF(AND(TRIM(BE89)=\"\",TRIM(BE90)=\"\"),\"\",BE89+BE90)","v":""},null,null,null,{"$f":"IF(TRIM(BH91)=\"\", \"\", IF(VLOOKUP(BH91,'Footnotes list'!$D$9:$E$58,2,FALSE)=0,\"\",VLOOKUP(BH91,'Footnotes list'!$D$9:$E$58,2,FALSE) ) )","v":""},{"$f":"IF(AND(TRIM(BJ89)=\"\",TRIM(BJ90)=\"\"),\"\",BJ89+BJ90)","v":""},null,null,null,{"$f":"IF(TRIM(BM91)=\"\", \"\", IF(VLOOKUP(BM91,'Footnotes list'!$D$9:$E$58,2,FALSE)=0,\"\",VLOOKUP(BM91,'Footnotes list'!$D$9:$E$58,2,FALSE) ) )","v":""},{"$f":"IF(AND(TRIM(BO89)=\"\", TRIM(BO90)=\"\"), \"\", (IF(ISNUMBER(BO89),BO89,0)+IF(ISNUMBER(BO90),BO90,0)))","v":""},null,null,null,{"$f":"IF(TRIM(BR91)=\"\", \"\", IF(VLOOKUP(BR91,'Footnotes list'!$D$9:$E$58,2,FALSE)=0,\"\",VLOOKUP(BR91,'Footnotes list'!$D$9:$E$58,2,FALSE) ) )","v":""},{"$f":"IF(AND(TRIM(BT89)=\"\",TRIM(BT90)=\"\"),\"\",BT89+BT90)","v":""},null,null,null,{"$f":"IF(TRIM(BW91)=\"\", \"\", IF(VLOOKUP(BW91,'Footnotes list'!$D$9:$E$58,2,FALSE)=0,\"\",VLOOKUP(BW91,'Footnotes list'!$D$9:$E$58,2,FALSE) ) )","v":""},{"$f":"IF(AND(TRIM(BY89)=\"\",TRIM(BY90)=\"\"),\"\",BY89+BY90)","v":""},null,null,null,{"$f":"IF(TRIM(CB91)=\"\", \"\", IF(VLOOKUP(CB91,'Footnotes list'!$D$9:$E$58,2,FALSE)=0,\"\",VLOOKUP(CB91,'Footnotes list'!$D$9:$E$58,2,FALSE) ) )","v":""},{"$f":"IF(AND(TRIM(CD89)=\"\",TRIM(CD90)=\"\"),\"\",CD89+CD90)","v":""},null,null,null,{"$f":"IF(TRIM(CG91)=\"\", \"\", IF(VLOOKUP(CG91,'Footnotes list'!$D$9:$E$58,2,FALSE)=0,\"\",VLOOKUP(CG91,'Footnotes list'!$D$9:$E$58,2,FALSE) ) )","v":""},{"$f":"IF(AND(TRIM(CI89)=\"\", TRIM(CI90)=\"\"), \"\", (IF(ISNUMBER(CI89),CI89,0)+IF(ISNUMBER(CI90),CI90,0)))","v":""},null,null,null,{"$f":"IF(TRIM(CL91)=\"\", \"\", IF(VLOOKUP(CL91,'Footnotes list'!$D$9:$E$58,2,FALSE)=0,\"\",VLOOKUP(CL91,'Footnotes list'!$D$9:$E$58,2,FALSE) ) )","v":""},{"$f":"IF(AND(TRIM(CN89)=\"\",TRIM(CN90)=\"\"),\"\",CN89+CN90)","v":""},null,null,null,{"$f":"IF(TRIM(CQ91)=\"\", \"\", IF(VLOOKUP(CQ91,'Footnotes list'!$D$9:$E$58,2,FALSE)=0,\"\",VLOOKUP(CQ91,'Footnotes list'!$D$9:$E$58,2,FALSE) ) )","v":""},{"$f":"IF(AND(TRIM(CS89)=\"\",TRIM(CS90)=\"\"),\"\",CS89+CS90)","v":""},null,null,null,{"$f":"IF(TRIM(CV91)=\"\", \"\", IF(VLOOKUP(CV91,'Footnotes list'!$D$9:$E$58,2,FALSE)=0,\"\",VLOOKUP(CV91,'Footnotes list'!$D$9:$E$58,2,FALSE) ) )","v":""},{"$f":"IF(AND(TRIM(CX89)=\"\",TRIM(CX90)=\"\"),\"\",CX89+CX90)","v":""},null,null,null,{"$f":"IF(TRIM(DA91)=\"\", \"\", IF(VLOOKUP(DA91,'Footnotes list'!$D$9:$E$58,2,FALSE)=0,\"\",VLOOKUP(DA91,'Footnotes list'!$D$9:$E$58,2,FALSE) ) )","v":""},{"$f":"IF(AND(TRIM(DC89)=\"\",TRIM(DC90)=\"\"),\"\",DC89+DC90)","v":""},null,null,null,{"$f":"IF(TRIM(DF91)=\"\", \"\", IF(VLOOKUP(DF91,'Footnotes list'!$D$9:$E$58,2,FALSE)=0,\"\",VLOOKUP(DF91,'Footnotes list'!$D$9:$E$58,2,FALSE) ) )","v":""},{"$f":"IF(AND(TRIM(DH89)=\"\", TRIM(DH90)=\"\"), \"\", SUM(DH89,DH90) )","v":""},null,null,null,{"$f":"IF(TRIM(DK91)=\"\", \"\", IF(VLOOKUP(DK91,'Footnotes list'!$D$9:$E$58,2,FALSE)=0,\"\",VLOOKUP(DK91,'Footnotes list'!$D$9:$E$58,2,FALSE) ) )","v":""}]
[null,"W12B","W12B","Other mineral wastes (W122+W123+W125)","HAZ","Hazardous ",null,null,null,null,{"$f":"IF(TRIM(J92)=\"\", \"\", IF(VLOOKUP(J92,'Footnotes list'!$D$9:$E$58,2,FALSE)=0,\"\",VLOOKUP(J92,'Footnotes list'!$D$9:$E$58,2,FALSE) ) )","v":""},null,null,null,null,{"$f":"IF(TRIM(O92)=\"\", \"\", IF(VLOOKUP(O92,'Footnotes list'!$D$9:$E$58,2,FALSE)=0,\"\",VLOOKUP(O92,'Footnotes list'!$D$9:$E$58,2,FALSE) ) )","v":""},null,null,null,null,{"$f":"IF(TRIM(T92)=\"\", \"\", IF(VLOOKUP(T92,'Footnotes list'!$D$9:$E$58,2,FALSE)=0,\"\",VLOOKUP(T92,'Footnotes list'!$D$9:$E$58,2,FALSE) ) )","v":""},null,null,null,null,{"$f":"IF(TRIM(Y92)=\"\", \"\", IF(VLOOKUP(Y92,'Footnotes list'!$D$9:$E$58,2,FALSE)=0,\"\",VLOOKUP(Y92,'Footnotes list'!$D$9:$E$58,2,FALSE) ) )","v":""},null,null,null,null,{"$f":"IF(TRIM(AD92)=\"\", \"\", IF(VLOOKUP(AD92,'Footnotes list'!$D$9:$E$58,2,FALSE)=0,\"\",VLOOKUP(AD92,'Footnotes list'!$D$9:$E$58,2,FALSE) ) )","v":""},null,null,null,null,{"$f":"IF(TRIM(AI92)=\"\", \"\", IF(VLOOKUP(AI92,'Footnotes list'!$D$9:$E$58,2,FALSE)=0,\"\",VLOOKUP(AI92,'Footnotes list'!$D$9:$E$58,2,FALSE) ) )","v":""},null,null,null,null,{"$f":"IF(TRIM(AN92)=\"\", \"\", IF(VLOOKUP(AN92,'Footnotes list'!$D$9:$E$58,2,FALSE)=0,\"\",VLOOKUP(AN92,'Footnotes list'!$D$9:$E$58,2,FALSE) ) )","v":""},null,null,null,null,{"$f":"IF(TRIM(AS92)=\"\", \"\", IF(VLOOKUP(AS92,'Footnotes list'!$D$9:$E$58,2,FALSE)=0,\"\",VLOOKUP(AS92,'Footnotes list'!$D$9:$E$58,2,FALSE) ) )","v":""},null,null,null,null,{"$f":"IF(TRIM(AX92)=\"\", \"\", IF(VLOOKUP(AX92,'Footnotes list'!$D$9:$E$58,2,FALSE)=0,\"\",VLOOKUP(AX92,'Footnotes list'!$D$9:$E$58,2,FALSE) ) )","v":""},null,null,null,null,{"$f":"IF(TRIM(BC92)=\"\", \"\", IF(VLOOKUP(BC92,'Footnotes list'!$D$9:$E$58,2,FALSE)=0,\"\",VLOOKUP(BC92,'Footnotes list'!$D$9:$E$58,2,FALSE) ) )","v":""},null,null,null,null,{"$f":"IF(TRIM(BH92)=\"\", \"\", IF(VLOOKUP(BH92,'Footnotes list'!$D$9:$E$58,2,FALSE)=0,\"\",VLOOKUP(BH92,'Footnotes list'!$D$9:$E$58,2,FALSE) ) )","v":""},null,null,null,null,{"$f":"IF(TRIM(BM92)=\"\", \"\", IF(VLOOKUP(BM92,'Footnotes list'!$D$9:$E$58,2,FALSE)=0,\"\",VLOOKUP(BM92,'Footnotes list'!$D$9:$E$58,2,FALSE) ) )","v":""},{"$f":"IF(AND(TRIM(Q92)=\"\",TRIM(V92)=\"\",TRIM(AA92)=\"\", TRIM(AF92)=\"\", TRIM(AK92)=\"\", TRIM(AP92)=\"\", TRIM(AU92)=\"\", TRIM(AZ92)=\"\", TRIM(BE92)=\"\", TRIM(BJ92)=\"\"),\"\",Q92+V92+AA92+AF92+AK92+AP92+AU92+AZ92+BE92+BJ92)","v":""},null,null,null,{"$f":"IF(TRIM(BR92)=\"\", \"\", IF(VLOOKUP(BR92,'Footnotes list'!$D$9:$E$58,2,FALSE)=0,\"\",VLOOKUP(BR92,'Footnotes list'!$D$9:$E$58,2,FALSE) ) )","v":""},null,null,null,null,{"$f":"IF(TRIM(BW92)=\"\", \"\", IF(VLOOKUP(BW92,'Footnotes list'!$D$9:$E$58,2,FALSE)=0,\"\",VLOOKUP(BW92,'Footnotes list'!$D$9:$E$58,2,FALSE) ) )","v":""},null,null,null,null,{"$f":"IF(TRIM(CB92)=\"\", \"\", IF(VLOOKUP(CB92,'Footnotes list'!$D$9:$E$58,2,FALSE)=0,\"\",VLOOKUP(CB92,'Footnotes list'!$D$9:$E$58,2,FALSE) ) )","v":""},null,null,null,null,{"$f":"IF(TRIM(CG92)=\"\", \"\", IF(VLOOKUP(CG92,'Footnotes list'!$D$9:$E$58,2,FALSE)=0,\"\",VLOOKUP(CG92,'Footnotes list'!$D$9:$E$58,2,FALSE) ) )","v":""},{"$f":"IF(AND(TRIM(BY92)=\"\",TRIM(CD92)=\"\"),\"\",BY92+CD92)","v":""},null,null,null,{"$f":"IF(TRIM(CL92)=\"\", \"\", IF(VLOOKUP(CL92,'Footnotes list'!$D$9:$E$58,2,FALSE)=0,\"\",VLOOKUP(CL92,'Footnotes list'!$D$9:$E$58,2,FALSE) ) )","v":""},null,null,null,null,{"$f":"IF(TRIM(CQ92)=\"\", \"\", IF(VLOOKUP(CQ92,'Footnotes list'!$D$9:$E$58,2,FALSE)=0,\"\",VLOOKUP(CQ92,'Footnotes list'!$D$9:$E$58,2,FALSE) ) )","v":""},null,null,null,null,{"$f":"IF(TRIM(CV92)=\"\", \"\", IF(VLOOKUP(CV92,'Footnotes list'!$D$9:$E$58,2,FALSE)=0,\"\",VLOOKUP(CV92,'Footnotes list'!$D$9:$E$58,2,FALSE) ) )","v":""},null,null,null,null,{"$f":"IF(TRIM(DA92)=\"\", \"\", IF(VLOOKUP(DA92,'Footnotes list'!$D$9:$E$58,2,FALSE)=0,\"\",VLOOKUP(DA92,'Footnotes list'!$D$9:$E$58,2,FALSE) ) )","v":""},null,null,null,null,{"$f":"IF(TRIM(DF92)=\"\", \"\", IF(VLOOKUP(DF92,'Footnotes list'!$D$9:$E$58,2,FALSE)=0,\"\",VLOOKUP(DF92,'Footnotes list'!$D$9:$E$58,2,FALSE) ) )","v":""},{"$f":"IF(AND(TRIM(G92)=\"\",TRIM(L92)=\"\",TRIM(BO92)=\"\",TRIM(BT92)=\"\",TRIM(CI92)=\"\",TRIM(CN92)=\"\",TRIM(CS92)=\"\",TRIM(CX92)=\"\",TRIM(DC92)=\"\"),\"\",SUM(G92,L92,BO92,BT92,CI92,CN92,CS92,CX92,DC92))","v":""},null,null,null,{"$f":"IF(TRIM(DK92)=\"\", \"\", IF(VLOOKUP(DK92,'Footnotes list'!$D$9:$E$58,2,FALSE)=0,\"\",VLOOKUP(DK92,'Footnotes list'!$D$9:$E$58,2,FALSE) ) )","v":""}]
[null,null,"W12B",null,"NHAZ","Non-hazardous",null,null,null,null,{"$f":"IF(TRIM(J93)=\"\", \"\", IF(VLOOKUP(J93,'Footnotes list'!$D$9:$E$58,2,FALSE)=0,\"\",VLOOKUP(J93,'Footnotes list'!$D$9:$E$58,2,FALSE) ) )","v":""},null,null,null,null,{"$f":"IF(TRIM(O93)=\"\", \"\", IF(VLOOKUP(O93,'Footnotes list'!$D$9:$E$58,2,FALSE)=0,\"\",VLOOKUP(O93,'Footnotes list'!$D$9:$E$58,2,FALSE) ) )","v":""},null,null,null,null,{"$f":"IF(TRIM(T93)=\"\", \"\", IF(VLOOKUP(T93,'Footnotes list'!$D$9:$E$58,2,FALSE)=0,\"\",VLOOKUP(T93,'Footnotes list'!$D$9:$E$58,2,FALSE) ) )","v":""},null,null,null,null,{"$f":"IF(TRIM(Y93)=\"\", \"\", IF(VLOOKUP(Y93,'Footnotes list'!$D$9:$E$58,2,FALSE)=0,\"\",VLOOKUP(Y93,'Footnotes list'!$D$9:$E$58,2,FALSE) ) )","v":""},null,null,null,null,{"$f":"IF(TRIM(AD93)=\"\", \"\", IF(VLOOKUP(AD93,'Footnotes list'!$D$9:$E$58,2,FALSE)=0,\"\",VLOOKUP(AD93,'Footnotes list'!$D$9:$E$58,2,FALSE) ) )","v":""},null,null,null,null,{"$f":"IF(TRIM(AI93)=\"\", \"\", IF(VLOOKUP(AI93,'Footnotes list'!$D$9:$E$58,2,FALSE)=0,\"\",VLOOKUP(AI93,'Footnotes list'!$D$9:$E$58,2,FALSE) ) )","v":""},null,null,null,null,{"$f":"IF(TRIM(AN93)=\"\", \"\", IF(VLOOKUP(AN93,'Footnotes list'!$D$9:$E$58,2,FALSE)=0,\"\",VLOOKUP(AN93,'Footnotes list'!$D$9:$E$58,2,FALSE) ) )","v":""},null,null,null,null,{"$f":"IF(TRIM(AS93)=\"\", \"\", IF(VLOOKUP(AS93,'Footnotes list'!$D$9:$E$58,2,FALSE)=0,\"\",VLOOKUP(AS93,'Footnotes list'!$D$9:$E$58,2,FALSE) ) )","v":""},null,null,null,null,{"$f":"IF(TRIM(AX93)=\"\", \"\", IF(VLOOKUP(AX93,'Footnotes list'!$D$9:$E$58,2,FALSE)=0,\"\",VLOOKUP(AX93,'Footnotes list'!$D$9:$E$58,2,FALSE) ) )","v":""},null,null,null,null,{"$f":"IF(TRIM(BC93)=\"\", \"\", IF(VLOOKUP(BC93,'Footnotes list'!$D$9:$E$58,2,FALSE)=0,\"\",VLOOKUP(BC93,'Footnotes list'!$D$9:$E$58,2,FALSE) ) )","v":""},null,null,null,null,{"$f":"IF(TRIM(BH93)=\"\", \"\", IF(VLOOKUP(BH93,'Footnotes list'!$D$9:$E$58,2,FALSE)=0,\"\",VLOOKUP(BH93,'Footnotes list'!$D$9:$E$58,2,FALSE) ) )","v":""},null,null,null,null,{"$f":"IF(TRIM(BM93)=\"\", \"\", IF(VLOOKUP(BM93,'Footnotes list'!$D$9:$E$58,2,FALSE)=0,\"\",VLOOKUP(BM93,'Footnotes list'!$D$9:$E$58,2,FALSE) ) )","v":""},{"$f":"IF(AND(TRIM(Q93)=\"\",TRIM(V93)=\"\",TRIM(AA93)=\"\", TRIM(AF93)=\"\", TRIM(AK93)=\"\", TRIM(AP93)=\"\", TRIM(AU93)=\"\", TRIM(AZ93)=\"\", TRIM(BE93)=\"\", TRIM(BJ93)=\"\"),\"\",Q93+V93+AA93+AF93+AK93+AP93+AU93+AZ93+BE93+BJ93)","v":""},null,null,null,{"$f":"IF(TRIM(BR93)=\"\", \"\", IF(VLOOKUP(BR93,'Footnotes list'!$D$9:$E$58,2,FALSE)=0,\"\",VLOOKUP(BR93,'Footnotes list'!$D$9:$E$58,2,FALSE) ) )","v":""},null,null,null,null,{"$f":"IF(TRIM(BW93)=\"\", \"\", IF(VLOOKUP(BW93,'Footnotes list'!$D$9:$E$58,2,FALSE)=0,\"\",VLOOKUP(BW93,'Footnotes list'!$D$9:$E$58,2,FALSE) ) )","v":""},null,null,null,null,{"$f":"IF(TRIM(CB93)=\"\", \"\", IF(VLOOKUP(CB93,'Footnotes list'!$D$9:$E$58,2,FALSE)=0,\"\",VLOOKUP(CB93,'Footnotes list'!$D$9:$E$58,2,FALSE) ) )","v":""},null,null,null,null,{"$f":"IF(TRIM(CG93)=\"\", \"\", IF(VLOOKUP(CG93,'Footnotes list'!$D$9:$E$58,2,FALSE)=0,\"\",VLOOKUP(CG93,'Footnotes list'!$D$9:$E$58,2,FALSE) ) )","v":""},{"$f":"IF(AND(TRIM(BY93)=\"\",TRIM(CD93)=\"\"),\"\",BY93+CD93)","v":""},null,null,null,{"$f":"IF(TRIM(CL93)=\"\", \"\", IF(VLOOKUP(CL93,'Footnotes list'!$D$9:$E$58,2,FALSE)=0,\"\",VLOOKUP(CL93,'Footnotes list'!$D$9:$E$58,2,FALSE) ) )","v":""},null,null,null,null,{"$f":"IF(TRIM(CQ93)=\"\", \"\", IF(VLOOKUP(CQ93,'Footnotes list'!$D$9:$E$58,2,FALSE)=0,\"\",VLOOKUP(CQ93,'Footnotes list'!$D$9:$E$58,2,FALSE) ) )","v":""},null,null,null,null,{"$f":"IF(TRIM(CV93)=\"\", \"\", IF(VLOOKUP(CV93,'Footnotes list'!$D$9:$E$58,2,FALSE)=0,\"\",VLOOKUP(CV93,'Footnotes list'!$D$9:$E$58,2,FALSE) ) )","v":""},null,null,null,null,{"$f":"IF(TRIM(DA93)=\"\", \"\", IF(VLOOKUP(DA93,'Footnotes list'!$D$9:$E$58,2,FALSE)=0,\"\",VLOOKUP(DA93,'Footnotes list'!$D$9:$E$58,2,FALSE) ) )","v":""},null,null,null,null,{"$f":"IF(TRIM(DF93)=\"\", \"\", IF(VLOOKUP(DF93,'Footnotes list'!$D$9:$E$58,2,FALSE)=0,\"\",VLOOKUP(DF93,'Footnotes list'!$D$9:$E$58,2,FALSE) ) )","v":""},{"$f":"IF(AND(TRIM(G93)=\"\",TRIM(L93)=\"\",TRIM(BO93)=\"\",TRIM(BT93)=\"\",TRIM(CI93)=\"\",TRIM(CN93)=\"\",TRIM(CS93)=\"\",TRIM(CX93)=\"\",TRIM(DC93)=\"\"),\"\",SUM(G93,L93,BO93,BT93,CI93,CN93,CS93,CX93,DC93))","v":""},null,null,null,{"$f":"IF(TRIM(DK93)=\"\", \"\", IF(VLOOKUP(DK93,'Footnotes list'!$D$9:$E$58,2,FALSE)=0,\"\",VLOOKUP(DK93,'Footnotes list'!$D$9:$E$58,2,FALSE) ) )","v":""}]
[null,null,"W12B",null,"HAZ_NHAZ","Total",{"$f":"IF(AND(TRIM(G92)=\"\",TRIM(G93)=\"\"),\"\",G92+G93)","v":""},null,null,null,{"$f":"IF(TRIM(J94)=\"\", \"\", IF(VLOOKUP(J94,'Footnotes list'!$D$9:$E$58,2,FALSE)=0,\"\",VLOOKUP(J94,'Footnotes list'!$D$9:$E$58,2,FALSE) ) )","v":""},{"$f":"IF(AND(TRIM(L92)=\"\",TRIM(L93)=\"\"),\"\",L92+L93)","v":""},null,null,null,{"$f":"IF(TRIM(O94)=\"\", \"\", IF(VLOOKUP(O94,'Footnotes list'!$D$9:$E$58,2,FALSE)=0,\"\",VLOOKUP(O94,'Footnotes list'!$D$9:$E$58,2,FALSE) ) )","v":""},{"$f":"IF(AND(TRIM(Q92)=\"\",TRIM(Q93)=\"\"),\"\",Q92+Q93)","v":""},null,null,null,{"$f":"IF(TRIM(T94)=\"\", \"\", IF(VLOOKUP(T94,'Footnotes list'!$D$9:$E$58,2,FALSE)=0,\"\",VLOOKUP(T94,'Footnotes list'!$D$9:$E$58,2,FALSE) ) )","v":""},{"$f":"IF(AND(TRIM(V92)=\"\",TRIM(V93)=\"\"),\"\",V92+V93)","v":""},null,null,null,{"$f":"IF(TRIM(Y94)=\"\", \"\", IF(VLOOKUP(Y94,'Footnotes list'!$D$9:$E$58,2,FALSE)=0,\"\",VLOOKUP(Y94,'Footnotes list'!$D$9:$E$58,2,FALSE) ) )","v":""},{"$f":"IF(AND(TRIM(AA92)=\"\",TRIM(AA93)=\"\"),\"\",AA92+AA93)","v":""},null,null,null,{"$f":"IF(TRIM(AD94)=\"\", \"\", IF(VLOOKUP(AD94,'Footnotes list'!$D$9:$E$58,2,FALSE)=0,\"\",VLOOKUP(AD94,'Footnotes list'!$D$9:$E$58,2,FALSE) ) )","v":""},{"$f":"IF(AND(TRIM(AF92)=\"\",TRIM(AF93)=\"\"),\"\",AF92+AF93)","v":""},null,null,null,{"$f":"IF(TRIM(AI94)=\"\", \"\", IF(VLOOKUP(AI94,'Footnotes list'!$D$9:$E$58,2,FALSE)=0,\"\",VLOOKUP(AI94,'Footnotes list'!$D$9:$E$58,2,FALSE) ) )","v":""},{"$f":"IF(AND(TRIM(AK92)=\"\",TRIM(AK93)=\"\"),\"\",AK92+AK93)","v":""},null,null,null,{"$f":"IF(TRIM(AN94)=\"\", \"\", IF(VLOOKUP(AN94,'Footnotes list'!$D$9:$E$58,2,FALSE)=0,\"\",VLOOKUP(AN94,'Footnotes list'!$D$9:$E$58,2,FALSE) ) )","v":""},{"$f":"IF(AND(TRIM(AP92)=\"\",TRIM(AP93)=\"\"),\"\",AP92+AP93)","v":""},null,null,null,{"$f":"IF(TRIM(AS94)=\"\", \"\", IF(VLOOKUP(AS94,'Footnotes list'!$D$9:$E$58,2,FALSE)=0,\"\",VLOOKUP(AS94,'Footnotes list'!$D$9:$E$58,2,FALSE) ) )","v":""},{"$f":"IF(AND(TRIM(AU92)=\"\",TRIM(AU93)=\"\"),\"\",AU92+AU93)","v":""},null,null,null,{"$f":"IF(TRIM(AX94)=\"\", \"\", IF(VLOOKUP(AX94,'Footnotes list'!$D$9:$E$58,2,FALSE)=0,\"\",VLOOKUP(AX94,'Footnotes list'!$D$9:$E$58,2,FALSE) ) )","v":""},{"$f":"IF(AND(TRIM(AZ92)=\"\",TRIM(AZ93)=\"\"),\"\",AZ92+AZ93)","v":""},null,null,null,{"$f":"IF(TRIM(BC94)=\"\", \"\", IF(VLOOKUP(BC94,'Footnotes list'!$D$9:$E$58,2,FALSE)=0,\"\",VLOOKUP(BC94,'Footnotes list'!$D$9:$E$58,2,FALSE) ) )","v":""},{"$f":"IF(AND(TRIM(BE92)=\"\",TRIM(BE93)=\"\"),\"\",BE92+BE93)","v":""},null,null,null,{"$f":"IF(TRIM(BH94)=\"\", \"\", IF(VLOOKUP(BH94,'Footnotes list'!$D$9:$E$58,2,FALSE)=0,\"\",VLOOKUP(BH94,'Footnotes list'!$D$9:$E$58,2,FALSE) ) )","v":""},{"$f":"IF(AND(TRIM(BJ92)=\"\",TRIM(BJ93)=\"\"),\"\",BJ92+BJ93)","v":""},null,null,null,{"$f":"IF(TRIM(BM94)=\"\", \"\", IF(VLOOKUP(BM94,'Footnotes list'!$D$9:$E$58,2,FALSE)=0,\"\",VLOOKUP(BM94,'Footnotes list'!$D$9:$E$58,2,FALSE) ) )","v":""},{"$f":"IF(AND(TRIM(BO92)=\"\", TRIM(BO93)=\"\"), \"\", (IF(ISNUMBER(BO92),BO92,0)+IF(ISNUMBER(BO93),BO93,0)))","v":""},null,null,null,{"$f":"IF(TRIM(BR94)=\"\", \"\", IF(VLOOKUP(BR94,'Footnotes list'!$D$9:$E$58,2,FALSE)=0,\"\",VLOOKUP(BR94,'Footnotes list'!$D$9:$E$58,2,FALSE) ) )","v":""},{"$f":"IF(AND(TRIM(BT92)=\"\",TRIM(BT93)=\"\"),\"\",BT92+BT93)","v":""},null,null,null,{"$f":"IF(TRIM(BW94)=\"\", \"\", IF(VLOOKUP(BW94,'Footnotes list'!$D$9:$E$58,2,FALSE)=0,\"\",VLOOKUP(BW94,'Footnotes list'!$D$9:$E$58,2,FALSE) ) )","v":""},{"$f":"IF(AND(TRIM(BY92)=\"\",TRIM(BY93)=\"\"),\"\",BY92+BY93)","v":""},null,null,null,{"$f":"IF(TRIM(CB94)=\"\", \"\", IF(VLOOKUP(CB94,'Footnotes list'!$D$9:$E$58,2,FALSE)=0,\"\",VLOOKUP(CB94,'Footnotes list'!$D$9:$E$58,2,FALSE) ) )","v":""},{"$f":"IF(AND(TRIM(CD92)=\"\",TRIM(CD93)=\"\"),\"\",CD92+CD93)","v":""},null,null,null,{"$f":"IF(TRIM(CG94)=\"\", \"\", IF(VLOOKUP(CG94,'Footnotes list'!$D$9:$E$58,2,FALSE)=0,\"\",VLOOKUP(CG94,'Footnotes list'!$D$9:$E$58,2,FALSE) ) )","v":""},{"$f":"IF(AND(TRIM(CI92)=\"\", TRIM(CI93)=\"\"), \"\", (IF(ISNUMBER(CI92),CI92,0)+IF(ISNUMBER(CI93),CI93,0)))","v":""},null,null,null,{"$f":"IF(TRIM(CL94)=\"\", \"\", IF(VLOOKUP(CL94,'Footnotes list'!$D$9:$E$58,2,FALSE)=0,\"\",VLOOKUP(CL94,'Footnotes list'!$D$9:$E$58,2,FALSE) ) )","v":""},{"$f":"IF(AND(TRIM(CN92)=\"\",TRIM(CN93)=\"\"),\"\",CN92+CN93)","v":""},null,null,null,{"$f":"IF(TRIM(CQ94)=\"\", \"\", IF(VLOOKUP(CQ94,'Footnotes list'!$D$9:$E$58,2,FALSE)=0,\"\",VLOOKUP(CQ94,'Footnotes list'!$D$9:$E$58,2,FALSE) ) )","v":""},{"$f":"IF(AND(TRIM(CS92)=\"\",TRIM(CS93)=\"\"),\"\",CS92+CS93)","v":""},null,null,null,{"$f":"IF(TRIM(CV94)=\"\", \"\", IF(VLOOKUP(CV94,'Footnotes list'!$D$9:$E$58,2,FALSE)=0,\"\",VLOOKUP(CV94,'Footnotes list'!$D$9:$E$58,2,FALSE) ) )","v":""},{"$f":"IF(AND(TRIM(CX92)=\"\",TRIM(CX93)=\"\"),\"\",CX92+CX93)","v":""},null,null,null,{"$f":"IF(TRIM(DA94)=\"\", \"\", IF(VLOOKUP(DA94,'Footnotes list'!$D$9:$E$58,2,FALSE)=0,\"\",VLOOKUP(DA94,'Footnotes list'!$D$9:$E$58,2,FALSE) ) )","v":""},{"$f":"IF(AND(TRIM(DC92)=\"\",TRIM(DC93)=\"\"),\"\",DC92+DC93)","v":""},null,null,null,{"$f":"IF(TRIM(DF94)=\"\", \"\", IF(VLOOKUP(DF94,'Footnotes list'!$D$9:$E$58,2,FALSE)=0,\"\",VLOOKUP(DF94,'Footnotes list'!$D$9:$E$58,2,FALSE) ) )","v":""},{"$f":"IF(AND(TRIM(DH92)=\"\", TRIM(DH93)=\"\"), \"\", SUM(DH92,DH93) )","v":""},null,null,null,{"$f":"IF(TRIM(DK94)=\"\", \"\", IF(VLOOKUP(DK94,'Footnotes list'!$D$9:$E$58,2,FALSE)=0,\"\",VLOOKUP(DK94,'Footnotes list'!$D$9:$E$58,2,FALSE) ) )","v":""}]
[null,"W124","W124","Combustion wastes ","HAZ","Hazardous ",null,null,null,null,{"$f":"IF(TRIM(J95)=\"\", \"\", IF(VLOOKUP(J95,'Footnotes list'!$D$9:$E$58,2,FALSE)=0,\"\",VLOOKUP(J95,'Footnotes list'!$D$9:$E$58,2,FALSE) ) )","v":""},null,null,null,null,{"$f":"IF(TRIM(O95)=\"\", \"\", IF(VLOOKUP(O95,'Footnotes list'!$D$9:$E$58,2,FALSE)=0,\"\",VLOOKUP(O95,'Footnotes list'!$D$9:$E$58,2,FALSE) ) )","v":""},null,null,null,null,{"$f":"IF(TRIM(T95)=\"\", \"\", IF(VLOOKUP(T95,'Footnotes list'!$D$9:$E$58,2,FALSE)=0,\"\",VLOOKUP(T95,'Footnotes list'!$D$9:$E$58,2,FALSE) ) )","v":""},null,null,null,null,{"$f":"IF(TRIM(Y95)=\"\", \"\", IF(VLOOKUP(Y95,'Footnotes list'!$D$9:$E$58,2,FALSE)=0,\"\",VLOOKUP(Y95,'Footnotes list'!$D$9:$E$58,2,FALSE) ) )","v":""},null,null,null,null,{"$f":"IF(TRIM(AD95)=\"\", \"\", IF(VLOOKUP(AD95,'Footnotes list'!$D$9:$E$58,2,FALSE)=0,\"\",VLOOKUP(AD95,'Footnotes list'!$D$9:$E$58,2,FALSE) ) )","v":""},null,null,null,null,{"$f":"IF(TRIM(AI95)=\"\", \"\", IF(VLOOKUP(AI95,'Footnotes list'!$D$9:$E$58,2,FALSE)=0,\"\",VLOOKUP(AI95,'Footnotes list'!$D$9:$E$58,2,FALSE) ) )","v":""},null,null,null,null,{"$f":"IF(TRIM(AN95)=\"\", \"\", IF(VLOOKUP(AN95,'Footnotes list'!$D$9:$E$58,2,FALSE)=0,\"\",VLOOKUP(AN95,'Footnotes list'!$D$9:$E$58,2,FALSE) ) )","v":""},null,null,null,null,{"$f":"IF(TRIM(AS95)=\"\", \"\", IF(VLOOKUP(AS95,'Footnotes list'!$D$9:$E$58,2,FALSE)=0,\"\",VLOOKUP(AS95,'Footnotes list'!$D$9:$E$58,2,FALSE) ) )","v":""},null,null,null,null,{"$f":"IF(TRIM(AX95)=\"\", \"\", IF(VLOOKUP(AX95,'Footnotes list'!$D$9:$E$58,2,FALSE)=0,\"\",VLOOKUP(AX95,'Footnotes list'!$D$9:$E$58,2,FALSE) ) )","v":""},null,null,null,null,{"$f":"IF(TRIM(BC95)=\"\", \"\", IF(VLOOKUP(BC95,'Footnotes list'!$D$9:$E$58,2,FALSE)=0,\"\",VLOOKUP(BC95,'Footnotes list'!$D$9:$E$58,2,FALSE) ) )","v":""},null,null,null,null,{"$f":"IF(TRIM(BH95)=\"\", \"\", IF(VLOOKUP(BH95,'Footnotes list'!$D$9:$E$58,2,FALSE)=0,\"\",VLOOKUP(BH95,'Footnotes list'!$D$9:$E$58,2,FALSE) ) )","v":""},null,null,null,null,{"$f":"IF(TRIM(BM95)=\"\", \"\", IF(VLOOKUP(BM95,'Footnotes list'!$D$9:$E$58,2,FALSE)=0,\"\",VLOOKUP(BM95,'Footnotes list'!$D$9:$E$58,2,FALSE) ) )","v":""},{"$f":"IF(AND(TRIM(Q95)=\"\",TRIM(V95)=\"\",TRIM(AA95)=\"\", TRIM(AF95)=\"\", TRIM(AK95)=\"\", TRIM(AP95)=\"\", TRIM(AU95)=\"\", TRIM(AZ95)=\"\", TRIM(BE95)=\"\", TRIM(BJ95)=\"\"),\"\",Q95+V95+AA95+AF95+AK95+AP95+AU95+AZ95+BE95+BJ95)","v":""},null,null,null,{"$f":"IF(TRIM(BR95)=\"\", \"\", IF(VLOOKUP(BR95,'Footnotes list'!$D$9:$E$58,2,FALSE)=0,\"\",VLOOKUP(BR95,'Footnotes list'!$D$9:$E$58,2,FALSE) ) )","v":""},null,null,null,null,{"$f":"IF(TRIM(BW95)=\"\", \"\", IF(VLOOKUP(BW95,'Footnotes list'!$D$9:$E$58,2,FALSE)=0,\"\",VLOOKUP(BW95,'Footnotes list'!$D$9:$E$58,2,FALSE) ) )","v":""},null,null,null,null,{"$f":"IF(TRIM(CB95)=\"\", \"\", IF(VLOOKUP(CB95,'Footnotes list'!$D$9:$E$58,2,FALSE)=0,\"\",VLOOKUP(CB95,'Footnotes list'!$D$9:$E$58,2,FALSE) ) )","v":""},null,null,null,null,{"$f":"IF(TRIM(CG95)=\"\", \"\", IF(VLOOKUP(CG95,'Footnotes list'!$D$9:$E$58,2,FALSE)=0,\"\",VLOOKUP(CG95,'Footnotes list'!$D$9:$E$58,2,FALSE) ) )","v":""},{"$f":"IF(AND(TRIM(BY95)=\"\",TRIM(CD95)=\"\"),\"\",BY95+CD95)","v":""},null,null,null,{"$f":"IF(TRIM(CL95)=\"\", \"\", IF(VLOOKUP(CL95,'Footnotes list'!$D$9:$E$58,2,FALSE)=0,\"\",VLOOKUP(CL95,'Footnotes list'!$D$9:$E$58,2,FALSE) ) )","v":""},null,null,null,null,{"$f":"IF(TRIM(CQ95)=\"\", \"\", IF(VLOOKUP(CQ95,'Footnotes list'!$D$9:$E$58,2,FALSE)=0,\"\",VLOOKUP(CQ95,'Footnotes list'!$D$9:$E$58,2,FALSE) ) )","v":""},null,null,null,null,{"$f":"IF(TRIM(CV95)=\"\", \"\", IF(VLOOKUP(CV95,'Footnotes list'!$D$9:$E$58,2,FALSE)=0,\"\",VLOOKUP(CV95,'Footnotes list'!$D$9:$E$58,2,FALSE) ) )","v":""},null,null,null,null,{"$f":"IF(TRIM(DA95)=\"\", \"\", IF(VLOOKUP(DA95,'Footnotes list'!$D$9:$E$58,2,FALSE)=0,\"\",VLOOKUP(DA95,'Footnotes list'!$D$9:$E$58,2,FALSE) ) )","v":""},null,null,null,null,{"$f":"IF(TRIM(DF95)=\"\", \"\", IF(VLOOKUP(DF95,'Footnotes list'!$D$9:$E$58,2,FALSE)=0,\"\",VLOOKUP(DF95,'Footnotes list'!$D$9:$E$58,2,FALSE) ) )","v":""},{"$f":"IF(AND(TRIM(G95)=\"\",TRIM(L95)=\"\",TRIM(BO95)=\"\",TRIM(BT95)=\"\",TRIM(CI95)=\"\",TRIM(CN95)=\"\",TRIM(CS95)=\"\",TRIM(CX95)=\"\",TRIM(DC95)=\"\"),\"\",SUM(G95,L95,BO95,BT95,CI95,CN95,CS95,CX95,DC95))","v":""},null,null,null,{"$f":"IF(TRIM(DK95)=\"\", \"\", IF(VLOOKUP(DK95,'Footnotes list'!$D$9:$E$58,2,FALSE)=0,\"\",VLOOKUP(DK95,'Footnotes list'!$D$9:$E$58,2,FALSE) ) )","v":""}]
[null,null,"W124",null,"NHAZ","Non-hazardous",null,null,null,null,{"$f":"IF(TRIM(J96)=\"\", \"\", IF(VLOOKUP(J96,'Footnotes list'!$D$9:$E$58,2,FALSE)=0,\"\",VLOOKUP(J96,'Footnotes list'!$D$9:$E$58,2,FALSE) ) )","v":""},null,null,null,null,{"$f":"IF(TRIM(O96)=\"\", \"\", IF(VLOOKUP(O96,'Footnotes list'!$D$9:$E$58,2,FALSE)=0,\"\",VLOOKUP(O96,'Footnotes list'!$D$9:$E$58,2,FALSE) ) )","v":""},null,null,null,null,{"$f":"IF(TRIM(T96)=\"\", \"\", IF(VLOOKUP(T96,'Footnotes list'!$D$9:$E$58,2,FALSE)=0,\"\",VLOOKUP(T96,'Footnotes list'!$D$9:$E$58,2,FALSE) ) )","v":""},null,null,null,null,{"$f":"IF(TRIM(Y96)=\"\", \"\", IF(VLOOKUP(Y96,'Footnotes list'!$D$9:$E$58,2,FALSE)=0,\"\",VLOOKUP(Y96,'Footnotes list'!$D$9:$E$58,2,FALSE) ) )","v":""},null,null,null,null,{"$f":"IF(TRIM(AD96)=\"\", \"\", IF(VLOOKUP(AD96,'Footnotes list'!$D$9:$E$58,2,FALSE)=0,\"\",VLOOKUP(AD96,'Footnotes list'!$D$9:$E$58,2,FALSE) ) )","v":""},null,null,null,null,{"$f":"IF(TRIM(AI96)=\"\", \"\", IF(VLOOKUP(AI96,'Footnotes list'!$D$9:$E$58,2,FALSE)=0,\"\",VLOOKUP(AI96,'Footnotes list'!$D$9:$E$58,2,FALSE) ) )","v":""},null,null,null,null,{"$f":"IF(TRIM(AN96)=\"\", \"\", IF(VLOOKUP(AN96,'Footnotes list'!$D$9:$E$58,2,FALSE)=0,\"\",VLOOKUP(AN96,'Footnotes list'!$D$9:$E$58,2,FALSE) ) )","v":""},null,null,null,null,{"$f":"IF(TRIM(AS96)=\"\", \"\", IF(VLOOKUP(AS96,'Footnotes list'!$D$9:$E$58,2,FALSE)=0,\"\",VLOOKUP(AS96,'Footnotes list'!$D$9:$E$58,2,FALSE) ) )","v":""},null,null,null,null,{"$f":"IF(TRIM(AX96)=\"\", \"\", IF(VLOOKUP(AX96,'Footnotes list'!$D$9:$E$58,2,FALSE)=0,\"\",VLOOKUP(AX96,'Footnotes list'!$D$9:$E$58,2,FALSE) ) )","v":""},null,null,null,null,{"$f":"IF(TRIM(BC96)=\"\", \"\", IF(VLOOKUP(BC96,'Footnotes list'!$D$9:$E$58,2,FALSE)=0,\"\",VLOOKUP(BC96,'Footnotes list'!$D$9:$E$58,2,FALSE) ) )","v":""},null,null,null,null,{"$f":"IF(TRIM(BH96)=\"\", \"\", IF(VLOOKUP(BH96,'Footnotes list'!$D$9:$E$58,2,FALSE)=0,\"\",VLOOKUP(BH96,'Footnotes list'!$D$9:$E$58,2,FALSE) ) )","v":""},null,null,null,null,{"$f":"IF(TRIM(BM96)=\"\", \"\", IF(VLOOKUP(BM96,'Footnotes list'!$D$9:$E$58,2,FALSE)=0,\"\",VLOOKUP(BM96,'Footnotes list'!$D$9:$E$58,2,FALSE) ) )","v":""},{"$f":"IF(AND(TRIM(Q96)=\"\",TRIM(V96)=\"\",TRIM(AA96)=\"\", TRIM(AF96)=\"\", TRIM(AK96)=\"\", TRIM(AP96)=\"\", TRIM(AU96)=\"\", TRIM(AZ96)=\"\", TRIM(BE96)=\"\", TRIM(BJ96)=\"\"),\"\",Q96+V96+AA96+AF96+AK96+AP96+AU96+AZ96+BE96+BJ96)","v":""},null,null,null,{"$f":"IF(TRIM(BR96)=\"\", \"\", IF(VLOOKUP(BR96,'Footnotes list'!$D$9:$E$58,2,FALSE)=0,\"\",VLOOKUP(BR96,'Footnotes list'!$D$9:$E$58,2,FALSE) ) )","v":""},null,null,null,null,{"$f":"IF(TRIM(BW96)=\"\", \"\", IF(VLOOKUP(BW96,'Footnotes list'!$D$9:$E$58,2,FALSE)=0,\"\",VLOOKUP(BW96,'Footnotes list'!$D$9:$E$58,2,FALSE) ) )","v":""},null,null,null,null,{"$f":"IF(TRIM(CB96)=\"\", \"\", IF(VLOOKUP(CB96,'Footnotes list'!$D$9:$E$58,2,FALSE)=0,\"\",VLOOKUP(CB96,'Footnotes list'!$D$9:$E$58,2,FALSE) ) )","v":""},null,null,null,null,{"$f":"IF(TRIM(CG96)=\"\", \"\", IF(VLOOKUP(CG96,'Footnotes list'!$D$9:$E$58,2,FALSE)=0,\"\",VLOOKUP(CG96,'Footnotes list'!$D$9:$E$58,2,FALSE) ) )","v":""},{"$f":"IF(AND(TRIM(BY96)=\"\",TRIM(CD96)=\"\"),\"\",BY96+CD96)","v":""},null,null,null,{"$f":"IF(TRIM(CL96)=\"\", \"\", IF(VLOOKUP(CL96,'Footnotes list'!$D$9:$E$58,2,FALSE)=0,\"\",VLOOKUP(CL96,'Footnotes list'!$D$9:$E$58,2,FALSE) ) )","v":""},null,null,null,null,{"$f":"IF(TRIM(CQ96)=\"\", \"\", IF(VLOOKUP(CQ96,'Footnotes list'!$D$9:$E$58,2,FALSE)=0,\"\",VLOOKUP(CQ96,'Footnotes list'!$D$9:$E$58,2,FALSE) ) )","v":""},null,null,null,null,{"$f":"IF(TRIM(CV96)=\"\", \"\", IF(VLOOKUP(CV96,'Footnotes list'!$D$9:$E$58,2,FALSE)=0,\"\",VLOOKUP(CV96,'Footnotes list'!$D$9:$E$58,2,FALSE) ) )","v":""},null,null,null,null,{"$f":"IF(TRIM(DA96)=\"\", \"\", IF(VLOOKUP(DA96,'Footnotes list'!$D$9:$E$58,2,FALSE)=0,\"\",VLOOKUP(DA96,'Footnotes list'!$D$9:$E$58,2,FALSE) ) )","v":""},null,null,null,null,{"$f":"IF(TRIM(DF96)=\"\", \"\", IF(VLOOKUP(DF96,'Footnotes list'!$D$9:$E$58,2,FALSE)=0,\"\",VLOOKUP(DF96,'Footnotes list'!$D$9:$E$58,2,FALSE) ) )","v":""},{"$f":"IF(AND(TRIM(G96)=\"\",TRIM(L96)=\"\",TRIM(BO96)=\"\",TRIM(BT96)=\"\",TRIM(CI96)=\"\",TRIM(CN96)=\"\",TRIM(CS96)=\"\",TRIM(CX96)=\"\",TRIM(DC96)=\"\"),\"\",SUM(G96,L96,BO96,BT96,CI96,CN96,CS96,CX96,DC96))","v":""},null,null,null,{"$f":"IF(TRIM(DK96)=\"\", \"\", IF(VLOOKUP(DK96,'Footnotes list'!$D$9:$E$58,2,FALSE)=0,\"\",VLOOKUP(DK96,'Footnotes list'!$D$9:$E$58,2,FALSE) ) )","v":""}]
[null,null,"W124",null,"HAZ_NHAZ","Total",{"$f":"IF(AND(TRIM(G95)=\"\",TRIM(G96)=\"\"),\"\",G95+G96)","v":""},null,null,null,{"$f":"IF(TRIM(J97)=\"\", \"\", IF(VLOOKUP(J97,'Footnotes list'!$D$9:$E$58,2,FALSE)=0,\"\",VLOOKUP(J97,'Footnotes list'!$D$9:$E$58,2,FALSE) ) )","v":""},{"$f":"IF(AND(TRIM(L95)=\"\",TRIM(L96)=\"\"),\"\",L95+L96)","v":""},null,null,null,{"$f":"IF(TRIM(O97)=\"\", \"\", IF(VLOOKUP(O97,'Footnotes list'!$D$9:$E$58,2,FALSE)=0,\"\",VLOOKUP(O97,'Footnotes list'!$D$9:$E$58,2,FALSE) ) )","v":""},{"$f":"IF(AND(TRIM(Q95)=\"\",TRIM(Q96)=\"\"),\"\",Q95+Q96)","v":""},null,null,null,{"$f":"IF(TRIM(T97)=\"\", \"\", IF(VLOOKUP(T97,'Footnotes list'!$D$9:$E$58,2,FALSE)=0,\"\",VLOOKUP(T97,'Footnotes list'!$D$9:$E$58,2,FALSE) ) )","v":""},{"$f":"IF(AND(TRIM(V95)=\"\",TRIM(V96)=\"\"),\"\",V95+V96)","v":""},null,null,null,{"$f":"IF(TRIM(Y97)=\"\", \"\", IF(VLOOKUP(Y97,'Footnotes list'!$D$9:$E$58,2,FALSE)=0,\"\",VLOOKUP(Y97,'Footnotes list'!$D$9:$E$58,2,FALSE) ) )","v":""},{"$f":"IF(AND(TRIM(AA95)=\"\",TRIM(AA96)=\"\"),\"\",AA95+AA96)","v":""},null,null,null,{"$f":"IF(TRIM(AD97)=\"\", \"\", IF(VLOOKUP(AD97,'Footnotes list'!$D$9:$E$58,2,FALSE)=0,\"\",VLOOKUP(AD97,'Footnotes list'!$D$9:$E$58,2,FALSE) ) )","v":""},{"$f":"IF(AND(TRIM(AF95)=\"\",TRIM(AF96)=\"\"),\"\",AF95+AF96)","v":""},null,null,null,{"$f":"IF(TRIM(AI97)=\"\", \"\", IF(VLOOKUP(AI97,'Footnotes list'!$D$9:$E$58,2,FALSE)=0,\"\",VLOOKUP(AI97,'Footnotes list'!$D$9:$E$58,2,FALSE) ) )","v":""},{"$f":"IF(AND(TRIM(AK95)=\"\",TRIM(AK96)=\"\"),\"\",AK95+AK96)","v":""},null,null,null,{"$f":"IF(TRIM(AN97)=\"\", \"\", IF(VLOOKUP(AN97,'Footnotes list'!$D$9:$E$58,2,FALSE)=0,\"\",VLOOKUP(AN97,'Footnotes list'!$D$9:$E$58,2,FALSE) ) )","v":""},{"$f":"IF(AND(TRIM(AP95)=\"\",TRIM(AP96)=\"\"),\"\",AP95+AP96)","v":""},null,null,null,{"$f":"IF(TRIM(AS97)=\"\", \"\", IF(VLOOKUP(AS97,'Footnotes list'!$D$9:$E$58,2,FALSE)=0,\"\",VLOOKUP(AS97,'Footnotes list'!$D$9:$E$58,2,FALSE) ) )","v":""},{"$f":"IF(AND(TRIM(AU95)=\"\",TRIM(AU96)=\"\"),\"\",AU95+AU96)","v":""},null,null,null,{"$f":"IF(TRIM(AX97)=\"\", \"\", IF(VLOOKUP(AX97,'Footnotes list'!$D$9:$E$58,2,FALSE)=0,\"\",VLOOKUP(AX97,'Footnotes list'!$D$9:$E$58,2,FALSE) ) )","v":""},{"$f":"IF(AND(TRIM(AZ95)=\"\",TRIM(AZ96)=\"\"),\"\",AZ95+AZ96)","v":""},null,null,null,{"$f":"IF(TRIM(BC97)=\"\", \"\", IF(VLOOKUP(BC97,'Footnotes list'!$D$9:$E$58,2,FALSE)=0,\"\",VLOOKUP(BC97,'Footnotes list'!$D$9:$E$58,2,FALSE) ) )","v":""},{"$f":"IF(AND(TRIM(BE95)=\"\",TRIM(BE96)=\"\"),\"\",BE95+BE96)","v":""},null,null,null,{"$f":"IF(TRIM(BH97)=\"\", \"\", IF(VLOOKUP(BH97,'Footnotes list'!$D$9:$E$58,2,FALSE)=0,\"\",VLOOKUP(BH97,'Footnotes list'!$D$9:$E$58,2,FALSE) ) )","v":""},{"$f":"IF(AND(TRIM(BJ95)=\"\",TRIM(BJ96)=\"\"),\"\",BJ95+BJ96)","v":""},null,null,null,{"$f":"IF(TRIM(BM97)=\"\", \"\", IF(VLOOKUP(BM97,'Footnotes list'!$D$9:$E$58,2,FALSE)=0,\"\",VLOOKUP(BM97,'Footnotes list'!$D$9:$E$58,2,FALSE) ) )","v":""},{"$f":"IF(AND(TRIM(BO95)=\"\", TRIM(BO96)=\"\"), \"\", (IF(ISNUMBER(BO95),BO95,0)+IF(ISNUMBER(BO96),BO96,0)))","v":""},null,null,null,{"$f":"IF(TRIM(BR97)=\"\", \"\", IF(VLOOKUP(BR97,'Footnotes list'!$D$9:$E$58,2,FALSE)=0,\"\",VLOOKUP(BR97,'Footnotes list'!$D$9:$E$58,2,FALSE) ) )","v":""},{"$f":"IF(AND(TRIM(BT95)=\"\",TRIM(BT96)=\"\"),\"\",BT95+BT96)","v":""},null,null,null,{"$f":"IF(TRIM(BW97)=\"\", \"\", IF(VLOOKUP(BW97,'Footnotes list'!$D$9:$E$58,2,FALSE)=0,\"\",VLOOKUP(BW97,'Footnotes list'!$D$9:$E$58,2,FALSE) ) )","v":""},{"$f":"IF(AND(TRIM(BY95)=\"\",TRIM(BY96)=\"\"),\"\",BY95+BY96)","v":""},null,null,null,{"$f":"IF(TRIM(CB97)=\"\", \"\", IF(VLOOKUP(CB97,'Footnotes list'!$D$9:$E$58,2,FALSE)=0,\"\",VLOOKUP(CB97,'Footnotes list'!$D$9:$E$58,2,FALSE) ) )","v":""},{"$f":"IF(AND(TRIM(CD95)=\"\",TRIM(CD96)=\"\"),\"\",CD95+CD96)","v":""},null,null,null,{"$f":"IF(TRIM(CG97)=\"\", \"\", IF(VLOOKUP(CG97,'Footnotes list'!$D$9:$E$58,2,FALSE)=0,\"\",VLOOKUP(CG97,'Footnotes list'!$D$9:$E$58,2,FALSE) ) )","v":""},{"$f":"IF(AND(TRIM(CI95)=\"\", TRIM(CI96)=\"\"), \"\", (IF(ISNUMBER(CI95),CI95,0)+IF(ISNUMBER(CI96),CI96,0)))","v":""},null,null,null,{"$f":"IF(TRIM(CL97)=\"\", \"\", IF(VLOOKUP(CL97,'Footnotes list'!$D$9:$E$58,2,FALSE)=0,\"\",VLOOKUP(CL97,'Footnotes list'!$D$9:$E$58,2,FALSE) ) )","v":""},{"$f":"IF(AND(TRIM(CN95)=\"\",TRIM(CN96)=\"\"),\"\",CN95+CN96)","v":""},null,null,null,{"$f":"IF(TRIM(CQ97)=\"\", \"\", IF(VLOOKUP(CQ97,'Footnotes list'!$D$9:$E$58,2,FALSE)=0,\"\",VLOOKUP(CQ97,'Footnotes list'!$D$9:$E$58,2,FALSE) ) )","v":""},{"$f":"IF(AND(TRIM(CS95)=\"\",TRIM(CS96)=\"\"),\"\",CS95+CS96)","v":""},null,null,null,{"$f":"IF(TRIM(CV97)=\"\", \"\", IF(VLOOKUP(CV97,'Footnotes list'!$D$9:$E$58,2,FALSE)=0,\"\",VLOOKUP(CV97,'Footnotes list'!$D$9:$E$58,2,FALSE) ) )","v":""},{"$f":"IF(AND(TRIM(CX95)=\"\",TRIM(CX96)=\"\"),\"\",CX95+CX96)","v":""},null,null,null,{"$f":"IF(TRIM(DA97)=\"\", \"\", IF(VLOOKUP(DA97,'Footnotes list'!$D$9:$E$58,2,FALSE)=0,\"\",VLOOKUP(DA97,'Footnotes list'!$D$9:$E$58,2,FALSE) ) )","v":""},{"$f":"IF(AND(TRIM(DC95)=\"\",TRIM(DC96)=\"\"),\"\",DC95+DC96)","v":""},null,null,null,{"$f":"IF(TRIM(DF97)=\"\", \"\", IF(VLOOKUP(DF97,'Footnotes list'!$D$9:$E$58,2,FALSE)=0,\"\",VLOOKUP(DF97,'Footnotes list'!$D$9:$E$58,2,FALSE) ) )","v":""},{"$f":"IF(AND(TRIM(DH95)=\"\", TRIM(DH96)=\"\"), \"\", SUM(DH95,DH96) )","v":""},null,null,null,{"$f":"IF(TRIM(DK97)=\"\", \"\", IF(VLOOKUP(DK97,'Footnotes list'!$D$9:$E$58,2,FALSE)=0,\"\",VLOOKUP(DK97,'Footnotes list'!$D$9:$E$58,2,FALSE) ) )","v":""}]
[null,"W126","W126","Soils ","HAZ","Hazardous ",null,null,null,null,{"$f":"IF(TRIM(J98)=\"\", \"\", IF(VLOOKUP(J98,'Footnotes list'!$D$9:$E$58,2,FALSE)=0,\"\",VLOOKUP(J98,'Footnotes list'!$D$9:$E$58,2,FALSE) ) )","v":""},null,null,null,null,{"$f":"IF(TRIM(O98)=\"\", \"\", IF(VLOOKUP(O98,'Footnotes list'!$D$9:$E$58,2,FALSE)=0,\"\",VLOOKUP(O98,'Footnotes list'!$D$9:$E$58,2,FALSE) ) )","v":""},null,null,null,null,{"$f":"IF(TRIM(T98)=\"\", \"\", IF(VLOOKUP(T98,'Footnotes list'!$D$9:$E$58,2,FALSE)=0,\"\",VLOOKUP(T98,'Footnotes list'!$D$9:$E$58,2,FALSE) ) )","v":""},null,null,null,null,{"$f":"IF(TRIM(Y98)=\"\", \"\", IF(VLOOKUP(Y98,'Footnotes list'!$D$9:$E$58,2,FALSE)=0,\"\",VLOOKUP(Y98,'Footnotes list'!$D$9:$E$58,2,FALSE) ) )","v":""},null,null,null,null,{"$f":"IF(TRIM(AD98)=\"\", \"\", IF(VLOOKUP(AD98,'Footnotes list'!$D$9:$E$58,2,FALSE)=0,\"\",VLOOKUP(AD98,'Footnotes list'!$D$9:$E$58,2,FALSE) ) )","v":""},null,null,null,null,{"$f":"IF(TRIM(AI98)=\"\", \"\", IF(VLOOKUP(AI98,'Footnotes list'!$D$9:$E$58,2,FALSE)=0,\"\",VLOOKUP(AI98,'Footnotes list'!$D$9:$E$58,2,FALSE) ) )","v":""},null,null,null,null,{"$f":"IF(TRIM(AN98)=\"\", \"\", IF(VLOOKUP(AN98,'Footnotes list'!$D$9:$E$58,2,FALSE)=0,\"\",VLOOKUP(AN98,'Footnotes list'!$D$9:$E$58,2,FALSE) ) )","v":""},null,null,null,null,{"$f":"IF(TRIM(AS98)=\"\", \"\", IF(VLOOKUP(AS98,'Footnotes list'!$D$9:$E$58,2,FALSE)=0,\"\",VLOOKUP(AS98,'Footnotes list'!$D$9:$E$58,2,FALSE) ) )","v":""},null,null,null,null,{"$f":"IF(TRIM(AX98)=\"\", \"\", IF(VLOOKUP(AX98,'Footnotes list'!$D$9:$E$58,2,FALSE)=0,\"\",VLOOKUP(AX98,'Footnotes list'!$D$9:$E$58,2,FALSE) ) )","v":""},null,null,null,null,{"$f":"IF(TRIM(BC98)=\"\", \"\", IF(VLOOKUP(BC98,'Footnotes list'!$D$9:$E$58,2,FALSE)=0,\"\",VLOOKUP(BC98,'Footnotes list'!$D$9:$E$58,2,FALSE) ) )","v":""},null,null,null,null,{"$f":"IF(TRIM(BH98)=\"\", \"\", IF(VLOOKUP(BH98,'Footnotes list'!$D$9:$E$58,2,FALSE)=0,\"\",VLOOKUP(BH98,'Footnotes list'!$D$9:$E$58,2,FALSE) ) )","v":""},null,null,null,null,{"$f":"IF(TRIM(BM98)=\"\", \"\", IF(VLOOKUP(BM98,'Footnotes list'!$D$9:$E$58,2,FALSE)=0,\"\",VLOOKUP(BM98,'Footnotes list'!$D$9:$E$58,2,FALSE) ) )","v":""},{"$f":"IF(AND(TRIM(Q98)=\"\",TRIM(V98)=\"\",TRIM(AA98)=\"\", TRIM(AF98)=\"\", TRIM(AK98)=\"\", TRIM(AP98)=\"\", TRIM(AU98)=\"\", TRIM(AZ98)=\"\", TRIM(BE98)=\"\", TRIM(BJ98)=\"\"),\"\",Q98+V98+AA98+AF98+AK98+AP98+AU98+AZ98+BE98+BJ98)","v":""},null,null,null,{"$f":"IF(TRIM(BR98)=\"\", \"\", IF(VLOOKUP(BR98,'Footnotes list'!$D$9:$E$58,2,FALSE)=0,\"\",VLOOKUP(BR98,'Footnotes list'!$D$9:$E$58,2,FALSE) ) )","v":""},null,null,null,null,{"$f":"IF(TRIM(BW98)=\"\", \"\", IF(VLOOKUP(BW98,'Footnotes list'!$D$9:$E$58,2,FALSE)=0,\"\",VLOOKUP(BW98,'Footnotes list'!$D$9:$E$58,2,FALSE) ) )","v":""},null,null,null,null,{"$f":"IF(TRIM(CB98)=\"\", \"\", IF(VLOOKUP(CB98,'Footnotes list'!$D$9:$E$58,2,FALSE)=0,\"\",VLOOKUP(CB98,'Footnotes list'!$D$9:$E$58,2,FALSE) ) )","v":""},null,null,null,null,{"$f":"IF(TRIM(CG98)=\"\", \"\", IF(VLOOKUP(CG98,'Footnotes list'!$D$9:$E$58,2,FALSE)=0,\"\",VLOOKUP(CG98,'Footnotes list'!$D$9:$E$58,2,FALSE) ) )","v":""},{"$f":"IF(AND(TRIM(BY98)=\"\",TRIM(CD98)=\"\"),\"\",BY98+CD98)","v":""},null,null,null,{"$f":"IF(TRIM(CL98)=\"\", \"\", IF(VLOOKUP(CL98,'Footnotes list'!$D$9:$E$58,2,FALSE)=0,\"\",VLOOKUP(CL98,'Footnotes list'!$D$9:$E$58,2,FALSE) ) )","v":""},null,null,null,null,{"$f":"IF(TRIM(CQ98)=\"\", \"\", IF(VLOOKUP(CQ98,'Footnotes list'!$D$9:$E$58,2,FALSE)=0,\"\",VLOOKUP(CQ98,'Footnotes list'!$D$9:$E$58,2,FALSE) ) )","v":""},null,null,null,null,{"$f":"IF(TRIM(CV98)=\"\", \"\", IF(VLOOKUP(CV98,'Footnotes list'!$D$9:$E$58,2,FALSE)=0,\"\",VLOOKUP(CV98,'Footnotes list'!$D$9:$E$58,2,FALSE) ) )","v":""},null,null,null,null,{"$f":"IF(TRIM(DA98)=\"\", \"\", IF(VLOOKUP(DA98,'Footnotes list'!$D$9:$E$58,2,FALSE)=0,\"\",VLOOKUP(DA98,'Footnotes list'!$D$9:$E$58,2,FALSE) ) )","v":""},null,null,null,null,{"$f":"IF(TRIM(DF98)=\"\", \"\", IF(VLOOKUP(DF98,'Footnotes list'!$D$9:$E$58,2,FALSE)=0,\"\",VLOOKUP(DF98,'Footnotes list'!$D$9:$E$58,2,FALSE) ) )","v":""},{"$f":"IF(AND(TRIM(G98)=\"\",TRIM(L98)=\"\",TRIM(BO98)=\"\",TRIM(BT98)=\"\",TRIM(CI98)=\"\",TRIM(CN98)=\"\",TRIM(CS98)=\"\",TRIM(CX98)=\"\",TRIM(DC98)=\"\"),\"\",SUM(G98,L98,BO98,BT98,CI98,CN98,CS98,CX98,DC98))","v":""},null,null,null,{"$f":"IF(TRIM(DK98)=\"\", \"\", IF(VLOOKUP(DK98,'Footnotes list'!$D$9:$E$58,2,FALSE)=0,\"\",VLOOKUP(DK98,'Footnotes list'!$D$9:$E$58,2,FALSE) ) )","v":""}]
[null,null,"W126",null,"NHAZ","Non-hazardous",null,null,null,null,{"$f":"IF(TRIM(J99)=\"\", \"\", IF(VLOOKUP(J99,'Footnotes list'!$D$9:$E$58,2,FALSE)=0,\"\",VLOOKUP(J99,'Footnotes list'!$D$9:$E$58,2,FALSE) ) )","v":""},null,null,null,null,{"$f":"IF(TRIM(O99)=\"\", \"\", IF(VLOOKUP(O99,'Footnotes list'!$D$9:$E$58,2,FALSE)=0,\"\",VLOOKUP(O99,'Footnotes list'!$D$9:$E$58,2,FALSE) ) )","v":""},null,null,null,null,{"$f":"IF(TRIM(T99)=\"\", \"\", IF(VLOOKUP(T99,'Footnotes list'!$D$9:$E$58,2,FALSE)=0,\"\",VLOOKUP(T99,'Footnotes list'!$D$9:$E$58,2,FALSE) ) )","v":""},null,null,null,null,{"$f":"IF(TRIM(Y99)=\"\", \"\", IF(VLOOKUP(Y99,'Footnotes list'!$D$9:$E$58,2,FALSE)=0,\"\",VLOOKUP(Y99,'Footnotes list'!$D$9:$E$58,2,FALSE) ) )","v":""},null,null,null,null,{"$f":"IF(TRIM(AD99)=\"\", \"\", IF(VLOOKUP(AD99,'Footnotes list'!$D$9:$E$58,2,FALSE)=0,\"\",VLOOKUP(AD99,'Footnotes list'!$D$9:$E$58,2,FALSE) ) )","v":""},null,null,null,null,{"$f":"IF(TRIM(AI99)=\"\", \"\", IF(VLOOKUP(AI99,'Footnotes list'!$D$9:$E$58,2,FALSE)=0,\"\",VLOOKUP(AI99,'Footnotes list'!$D$9:$E$58,2,FALSE) ) )","v":""},null,null,null,null,{"$f":"IF(TRIM(AN99)=\"\", \"\", IF(VLOOKUP(AN99,'Footnotes list'!$D$9:$E$58,2,FALSE)=0,\"\",VLOOKUP(AN99,'Footnotes list'!$D$9:$E$58,2,FALSE) ) )","v":""},null,null,null,null,{"$f":"IF(TRIM(AS99)=\"\", \"\", IF(VLOOKUP(AS99,'Footnotes list'!$D$9:$E$58,2,FALSE)=0,\"\",VLOOKUP(AS99,'Footnotes list'!$D$9:$E$58,2,FALSE) ) )","v":""},null,null,null,null,{"$f":"IF(TRIM(AX99)=\"\", \"\", IF(VLOOKUP(AX99,'Footnotes list'!$D$9:$E$58,2,FALSE)=0,\"\",VLOOKUP(AX99,'Footnotes list'!$D$9:$E$58,2,FALSE) ) )","v":""},null,null,null,null,{"$f":"IF(TRIM(BC99)=\"\", \"\", IF(VLOOKUP(BC99,'Footnotes list'!$D$9:$E$58,2,FALSE)=0,\"\",VLOOKUP(BC99,'Footnotes list'!$D$9:$E$58,2,FALSE) ) )","v":""},null,null,null,null,{"$f":"IF(TRIM(BH99)=\"\", \"\", IF(VLOOKUP(BH99,'Footnotes list'!$D$9:$E$58,2,FALSE)=0,\"\",VLOOKUP(BH99,'Footnotes list'!$D$9:$E$58,2,FALSE) ) )","v":""},null,null,null,null,{"$f":"IF(TRIM(BM99)=\"\", \"\", IF(VLOOKUP(BM99,'Footnotes list'!$D$9:$E$58,2,FALSE)=0,\"\",VLOOKUP(BM99,'Footnotes list'!$D$9:$E$58,2,FALSE) ) )","v":""},{"$f":"IF(AND(TRIM(Q99)=\"\",TRIM(V99)=\"\",TRIM(AA99)=\"\", TRIM(AF99)=\"\", TRIM(AK99)=\"\", TRIM(AP99)=\"\", TRIM(AU99)=\"\", TRIM(AZ99)=\"\", TRIM(BE99)=\"\", TRIM(BJ99)=\"\"),\"\",Q99+V99+AA99+AF99+AK99+AP99+AU99+AZ99+BE99+BJ99)","v":""},null,null,null,{"$f":"IF(TRIM(BR99)=\"\", \"\", IF(VLOOKUP(BR99,'Footnotes list'!$D$9:$E$58,2,FALSE)=0,\"\",VLOOKUP(BR99,'Footnotes list'!$D$9:$E$58,2,FALSE) ) )","v":""},null,null,null,null,{"$f":"IF(TRIM(BW99)=\"\", \"\", IF(VLOOKUP(BW99,'Footnotes list'!$D$9:$E$58,2,FALSE)=0,\"\",VLOOKUP(BW99,'Footnotes list'!$D$9:$E$58,2,FALSE) ) )","v":""},null,null,null,null,{"$f":"IF(TRIM(CB99)=\"\", \"\", IF(VLOOKUP(CB99,'Footnotes list'!$D$9:$E$58,2,FALSE)=0,\"\",VLOOKUP(CB99,'Footnotes list'!$D$9:$E$58,2,FALSE) ) )","v":""},null,null,null,null,{"$f":"IF(TRIM(CG99)=\"\", \"\", IF(VLOOKUP(CG99,'Footnotes list'!$D$9:$E$58,2,FALSE)=0,\"\",VLOOKUP(CG99,'Footnotes list'!$D$9:$E$58,2,FALSE) ) )","v":""},{"$f":"IF(AND(TRIM(BY99)=\"\",TRIM(CD99)=\"\"),\"\",BY99+CD99)","v":""},null,null,null,{"$f":"IF(TRIM(CL99)=\"\", \"\", IF(VLOOKUP(CL99,'Footnotes list'!$D$9:$E$58,2,FALSE)=0,\"\",VLOOKUP(CL99,'Footnotes list'!$D$9:$E$58,2,FALSE) ) )","v":""},null,null,null,null,{"$f":"IF(TRIM(CQ99)=\"\", \"\", IF(VLOOKUP(CQ99,'Footnotes list'!$D$9:$E$58,2,FALSE)=0,\"\",VLOOKUP(CQ99,'Footnotes list'!$D$9:$E$58,2,FALSE) ) )","v":""},null,null,null,null,{"$f":"IF(TRIM(CV99)=\"\", \"\", IF(VLOOKUP(CV99,'Footnotes list'!$D$9:$E$58,2,FALSE)=0,\"\",VLOOKUP(CV99,'Footnotes list'!$D$9:$E$58,2,FALSE) ) )","v":""},null,null,null,null,{"$f":"IF(TRIM(DA99)=\"\", \"\", IF(VLOOKUP(DA99,'Footnotes list'!$D$9:$E$58,2,FALSE)=0,\"\",VLOOKUP(DA99,'Footnotes list'!$D$9:$E$58,2,FALSE) ) )","v":""},null,null,null,null,{"$f":"IF(TRIM(DF99)=\"\", \"\", IF(VLOOKUP(DF99,'Footnotes list'!$D$9:$E$58,2,FALSE)=0,\"\",VLOOKUP(DF99,'Footnotes list'!$D$9:$E$58,2,FALSE) ) )","v":""},{"$f":"IF(AND(TRIM(G99)=\"\",TRIM(L99)=\"\",TRIM(BO99)=\"\",TRIM(BT99)=\"\",TRIM(CI99)=\"\",TRIM(CN99)=\"\",TRIM(CS99)=\"\",TRIM(CX99)=\"\",TRIM(DC99)=\"\"),\"\",SUM(G99,L99,BO99,BT99,CI99,CN99,CS99,CX99,DC99))","v":""},null,null,null,{"$f":"IF(TRIM(DK99)=\"\", \"\", IF(VLOOKUP(DK99,'Footnotes list'!$D$9:$E$58,2,FALSE)=0,\"\",VLOOKUP(DK99,'Footnotes list'!$D$9:$E$58,2,FALSE) ) )","v":""}]
[null,null,"W126",null,"HAZ_NHAZ","Total",{"$f":"IF(AND(TRIM(G98)=\"\",TRIM(G99)=\"\"),\"\",G98+G99)","v":""},null,null,null,{"$f":"IF(TRIM(J100)=\"\", \"\", IF(VLOOKUP(J100,'Footnotes list'!$D$9:$E$58,2,FALSE)=0,\"\",VLOOKUP(J100,'Footnotes list'!$D$9:$E$58,2,FALSE) ) )","v":""},{"$f":"IF(AND(TRIM(L98)=\"\",TRIM(L99)=\"\"),\"\",L98+L99)","v":""},null,null,null,{"$f":"IF(TRIM(O100)=\"\", \"\", IF(VLOOKUP(O100,'Footnotes list'!$D$9:$E$58,2,FALSE)=0,\"\",VLOOKUP(O100,'Footnotes list'!$D$9:$E$58,2,FALSE) ) )","v":""},{"$f":"IF(AND(TRIM(Q98)=\"\",TRIM(Q99)=\"\"),\"\",Q98+Q99)","v":""},null,null,null,{"$f":"IF(TRIM(T100)=\"\", \"\", IF(VLOOKUP(T100,'Footnotes list'!$D$9:$E$58,2,FALSE)=0,\"\",VLOOKUP(T100,'Footnotes list'!$D$9:$E$58,2,FALSE) ) )","v":""},{"$f":"IF(AND(TRIM(V98)=\"\",TRIM(V99)=\"\"),\"\",V98+V99)","v":""},null,null,null,{"$f":"IF(TRIM(Y100)=\"\", \"\", IF(VLOOKUP(Y100,'Footnotes list'!$D$9:$E$58,2,FALSE)=0,\"\",VLOOKUP(Y100,'Footnotes list'!$D$9:$E$58,2,FALSE) ) )","v":""},{"$f":"IF(AND(TRIM(AA98)=\"\",TRIM(AA99)=\"\"),\"\",AA98+AA99)","v":""},null,null,null,{"$f":"IF(TRIM(AD100)=\"\", \"\", IF(VLOOKUP(AD100,'Footnotes list'!$D$9:$E$58,2,FALSE)=0,\"\",VLOOKUP(AD100,'Footnotes list'!$D$9:$E$58,2,FALSE) ) )","v":""},{"$f":"IF(AND(TRIM(AF98)=\"\",TRIM(AF99)=\"\"),\"\",AF98+AF99)","v":""},null,null,null,{"$f":"IF(TRIM(AI100)=\"\", \"\", IF(VLOOKUP(AI100,'Footnotes list'!$D$9:$E$58,2,FALSE)=0,\"\",VLOOKUP(AI100,'Footnotes list'!$D$9:$E$58,2,FALSE) ) )","v":""},{"$f":"IF(AND(TRIM(AK98)=\"\",TRIM(AK99)=\"\"),\"\",AK98+AK99)","v":""},null,null,null,{"$f":"IF(TRIM(AN100)=\"\", \"\", IF(VLOOKUP(AN100,'Footnotes list'!$D$9:$E$58,2,FALSE)=0,\"\",VLOOKUP(AN100,'Footnotes list'!$D$9:$E$58,2,FALSE) ) )","v":""},{"$f":"IF(AND(TRIM(AP98)=\"\",TRIM(AP99)=\"\"),\"\",AP98+AP99)","v":""},null,null,null,{"$f":"IF(TRIM(AS100)=\"\", \"\", IF(VLOOKUP(AS100,'Footnotes list'!$D$9:$E$58,2,FALSE)=0,\"\",VLOOKUP(AS100,'Footnotes list'!$D$9:$E$58,2,FALSE) ) )","v":""},{"$f":"IF(AND(TRIM(AU98)=\"\",TRIM(AU99)=\"\"),\"\",AU98+AU99)","v":""},null,null,null,{"$f":"IF(TRIM(AX100)=\"\", \"\", IF(VLOOKUP(AX100,'Footnotes list'!$D$9:$E$58,2,FALSE)=0,\"\",VLOOKUP(AX100,'Footnotes list'!$D$9:$E$58,2,FALSE) ) )","v":""},{"$f":"IF(AND(TRIM(AZ98)=\"\",TRIM(AZ99)=\"\"),\"\",AZ98+AZ99)","v":""},null,null,null,{"$f":"IF(TRIM(BC100)=\"\", \"\", IF(VLOOKUP(BC100,'Footnotes list'!$D$9:$E$58,2,FALSE)=0,\"\",VLOOKUP(BC100,'Footnotes list'!$D$9:$E$58,2,FALSE) ) )","v":""},{"$f":"IF(AND(TRIM(BE98)=\"\",TRIM(BE99)=\"\"),\"\",BE98+BE99)","v":""},null,null,null,{"$f":"IF(TRIM(BH100)=\"\", \"\", IF(VLOOKUP(BH100,'Footnotes list'!$D$9:$E$58,2,FALSE)=0,\"\",VLOOKUP(BH100,'Footnotes list'!$D$9:$E$58,2,FALSE) ) )","v":""},{"$f":"IF(AND(TRIM(BJ98)=\"\",TRIM(BJ99)=\"\"),\"\",BJ98+BJ99)","v":""},null,null,null,{"$f":"IF(TRIM(BM100)=\"\", \"\", IF(VLOOKUP(BM100,'Footnotes list'!$D$9:$E$58,2,FALSE)=0,\"\",VLOOKUP(BM100,'Footnotes list'!$D$9:$E$58,2,FALSE) ) )","v":""},{"$f":"IF(AND(TRIM(BO98)=\"\", TRIM(BO99)=\"\"), \"\", (IF(ISNUMBER(BO98),BO98,0)+IF(ISNUMBER(BO99),BO99,0)))","v":""},null,null,null,{"$f":"IF(TRIM(BR100)=\"\", \"\", IF(VLOOKUP(BR100,'Footnotes list'!$D$9:$E$58,2,FALSE)=0,\"\",VLOOKUP(BR100,'Footnotes list'!$D$9:$E$58,2,FALSE) ) )","v":""},{"$f":"IF(AND(TRIM(BT98)=\"\",TRIM(BT99)=\"\"),\"\",BT98+BT99)","v":""},null,null,null,{"$f":"IF(TRIM(BW100)=\"\", \"\", IF(VLOOKUP(BW100,'Footnotes list'!$D$9:$E$58,2,FALSE)=0,\"\",VLOOKUP(BW100,'Footnotes list'!$D$9:$E$58,2,FALSE) ) )","v":""},{"$f":"IF(AND(TRIM(BY98)=\"\",TRIM(BY99)=\"\"),\"\",BY98+BY99)","v":""},null,null,null,{"$f":"IF(TRIM(CB100)=\"\", \"\", IF(VLOOKUP(CB100,'Footnotes list'!$D$9:$E$58,2,FALSE)=0,\"\",VLOOKUP(CB100,'Footnotes list'!$D$9:$E$58,2,FALSE) ) )","v":""},{"$f":"IF(AND(TRIM(CD98)=\"\",TRIM(CD99)=\"\"),\"\",CD98+CD99)","v":""},null,null,null,{"$f":"IF(TRIM(CG100)=\"\", \"\", IF(VLOOKUP(CG100,'Footnotes list'!$D$9:$E$58,2,FALSE)=0,\"\",VLOOKUP(CG100,'Footnotes list'!$D$9:$E$58,2,FALSE) ) )","v":""},{"$f":"IF(AND(TRIM(CI98)=\"\", TRIM(CI99)=\"\"), \"\", (IF(ISNUMBER(CI98),CI98,0)+IF(ISNUMBER(CI99),CI99,0)))","v":""},null,null,null,{"$f":"IF(TRIM(CL100)=\"\", \"\", IF(VLOOKUP(CL100,'Footnotes list'!$D$9:$E$58,2,FALSE)=0,\"\",VLOOKUP(CL100,'Footnotes list'!$D$9:$E$58,2,FALSE) ) )","v":""},{"$f":"IF(AND(TRIM(CN98)=\"\",TRIM(CN99)=\"\"),\"\",CN98+CN99)","v":""},null,null,null,{"$f":"IF(TRIM(CQ100)=\"\", \"\", IF(VLOOKUP(CQ100,'Footnotes list'!$D$9:$E$58,2,FALSE)=0,\"\",VLOOKUP(CQ100,'Footnotes list'!$D$9:$E$58,2,FALSE) ) )","v":""},{"$f":"IF(AND(TRIM(CS98)=\"\",TRIM(CS99)=\"\"),\"\",CS98+CS99)","v":""},null,null,null,{"$f":"IF(TRIM(CV100)=\"\", \"\", IF(VLOOKUP(CV100,'Footnotes list'!$D$9:$E$58,2,FALSE)=0,\"\",VLOOKUP(CV100,'Footnotes list'!$D$9:$E$58,2,FALSE) ) )","v":""},{"$f":"IF(AND(TRIM(CX98)=\"\",TRIM(CX99)=\"\"),\"\",CX98+CX99)","v":""},null,null,null,{"$f":"IF(TRIM(DA100)=\"\", \"\", IF(VLOOKUP(DA100,'Footnotes list'!$D$9:$E$58,2,FALSE)=0,\"\",VLOOKUP(DA100,'Footnotes list'!$D$9:$E$58,2,FALSE) ) )","v":""},{"$f":"IF(AND(TRIM(DC98)=\"\",TRIM(DC99)=\"\"),\"\",DC98+DC99)","v":""},null,null,null,{"$f":"IF(TRIM(DF100)=\"\", \"\", IF(VLOOKUP(DF100,'Footnotes list'!$D$9:$E$58,2,FALSE)=0,\"\",VLOOKUP(DF100,'Footnotes list'!$D$9:$E$58,2,FALSE) ) )","v":""},{"$f":"IF(AND(TRIM(DH98)=\"\", TRIM(DH99)=\"\"), \"\", SUM(DH98,DH99) )","v":""},null,null,null,{"$f":"IF(TRIM(DK100)=\"\", \"\", IF(VLOOKUP(DK100,'Footnotes list'!$D$9:$E$58,2,FALSE)=0,\"\",VLOOKUP(DK100,'Footnotes list'!$D$9:$E$58,2,FALSE) ) )","v":""}]
[null,"W127","W127","Dredging spoils ","HAZ","Hazardous ",null,null,null,null,{"$f":"IF(TRIM(J101)=\"\", \"\", IF(VLOOKUP(J101,'Footnotes list'!$D$9:$E$58,2,FALSE)=0,\"\",VLOOKUP(J101,'Footnotes list'!$D$9:$E$58,2,FALSE) ) )","v":""},null,null,null,null,{"$f":"IF(TRIM(O101)=\"\", \"\", IF(VLOOKUP(O101,'Footnotes list'!$D$9:$E$58,2,FALSE)=0,\"\",VLOOKUP(O101,'Footnotes list'!$D$9:$E$58,2,FALSE) ) )","v":""},null,null,null,null,{"$f":"IF(TRIM(T101)=\"\", \"\", IF(VLOOKUP(T101,'Footnotes list'!$D$9:$E$58,2,FALSE)=0,\"\",VLOOKUP(T101,'Footnotes list'!$D$9:$E$58,2,FALSE) ) )","v":""},null,null,null,null,{"$f":"IF(TRIM(Y101)=\"\", \"\", IF(VLOOKUP(Y101,'Footnotes list'!$D$9:$E$58,2,FALSE)=0,\"\",VLOOKUP(Y101,'Footnotes list'!$D$9:$E$58,2,FALSE) ) )","v":""},null,null,null,null,{"$f":"IF(TRIM(AD101)=\"\", \"\", IF(VLOOKUP(AD101,'Footnotes list'!$D$9:$E$58,2,FALSE)=0,\"\",VLOOKUP(AD101,'Footnotes list'!$D$9:$E$58,2,FALSE) ) )","v":""},null,null,null,null,{"$f":"IF(TRIM(AI101)=\"\", \"\", IF(VLOOKUP(AI101,'Footnotes list'!$D$9:$E$58,2,FALSE)=0,\"\",VLOOKUP(AI101,'Footnotes list'!$D$9:$E$58,2,FALSE) ) )","v":""},null,null,null,null,{"$f":"IF(TRIM(AN101)=\"\", \"\", IF(VLOOKUP(AN101,'Footnotes list'!$D$9:$E$58,2,FALSE)=0,\"\",VLOOKUP(AN101,'Footnotes list'!$D$9:$E$58,2,FALSE) ) )","v":""},null,null,null,null,{"$f":"IF(TRIM(AS101)=\"\", \"\", IF(VLOOKUP(AS101,'Footnotes list'!$D$9:$E$58,2,FALSE)=0,\"\",VLOOKUP(AS101,'Footnotes list'!$D$9:$E$58,2,FALSE) ) )","v":""},null,null,null,null,{"$f":"IF(TRIM(AX101)=\"\", \"\", IF(VLOOKUP(AX101,'Footnotes list'!$D$9:$E$58,2,FALSE)=0,\"\",VLOOKUP(AX101,'Footnotes list'!$D$9:$E$58,2,FALSE) ) )","v":""},null,null,null,null,{"$f":"IF(TRIM(BC101)=\"\", \"\", IF(VLOOKUP(BC101,'Footnotes list'!$D$9:$E$58,2,FALSE)=0,\"\",VLOOKUP(BC101,'Footnotes list'!$D$9:$E$58,2,FALSE) ) )","v":""},null,null,null,null,{"$f":"IF(TRIM(BH101)=\"\", \"\", IF(VLOOKUP(BH101,'Footnotes list'!$D$9:$E$58,2,FALSE)=0,\"\",VLOOKUP(BH101,'Footnotes list'!$D$9:$E$58,2,FALSE) ) )","v":""},null,null,null,null,{"$f":"IF(TRIM(BM101)=\"\", \"\", IF(VLOOKUP(BM101,'Footnotes list'!$D$9:$E$58,2,FALSE)=0,\"\",VLOOKUP(BM101,'Footnotes list'!$D$9:$E$58,2,FALSE) ) )","v":""},{"$f":"IF(AND(TRIM(Q101)=\"\",TRIM(V101)=\"\",TRIM(AA101)=\"\", TRIM(AF101)=\"\", TRIM(AK101)=\"\", TRIM(AP101)=\"\", TRIM(AU101)=\"\", TRIM(AZ101)=\"\", TRIM(BE101)=\"\", TRIM(BJ101)=\"\"),\"\",Q101+V101+AA101+AF101+AK101+AP101+AU101+AZ101+BE101+BJ101)","v":""},null,null,null,{"$f":"IF(TRIM(BR101)=\"\", \"\", IF(VLOOKUP(BR101,'Footnotes list'!$D$9:$E$58,2,FALSE)=0,\"\",VLOOKUP(BR101,'Footnotes list'!$D$9:$E$58,2,FALSE) ) )","v":""},null,null,null,null,{"$f":"IF(TRIM(BW101)=\"\", \"\", IF(VLOOKUP(BW101,'Footnotes list'!$D$9:$E$58,2,FALSE)=0,\"\",VLOOKUP(BW101,'Footnotes list'!$D$9:$E$58,2,FALSE) ) )","v":""},null,null,null,null,{"$f":"IF(TRIM(CB101)=\"\", \"\", IF(VLOOKUP(CB101,'Footnotes list'!$D$9:$E$58,2,FALSE)=0,\"\",VLOOKUP(CB101,'Footnotes list'!$D$9:$E$58,2,FALSE) ) )","v":""},null,null,null,null,{"$f":"IF(TRIM(CG101)=\"\", \"\", IF(VLOOKUP(CG101,'Footnotes list'!$D$9:$E$58,2,FALSE)=0,\"\",VLOOKUP(CG101,'Footnotes list'!$D$9:$E$58,2,FALSE) ) )","v":""},{"$f":"IF(AND(TRIM(BY101)=\"\",TRIM(CD101)=\"\"),\"\",BY101+CD101)","v":""},null,null,null,{"$f":"IF(TRIM(CL101)=\"\", \"\", IF(VLOOKUP(CL101,'Footnotes list'!$D$9:$E$58,2,FALSE)=0,\"\",VLOOKUP(CL101,'Footnotes list'!$D$9:$E$58,2,FALSE) ) )","v":""},null,null,null,null,{"$f":"IF(TRIM(CQ101)=\"\", \"\", IF(VLOOKUP(CQ101,'Footnotes list'!$D$9:$E$58,2,FALSE)=0,\"\",VLOOKUP(CQ101,'Footnotes list'!$D$9:$E$58,2,FALSE) ) )","v":""},null,null,null,null,{"$f":"IF(TRIM(CV101)=\"\", \"\", IF(VLOOKUP(CV101,'Footnotes list'!$D$9:$E$58,2,FALSE)=0,\"\",VLOOKUP(CV101,'Footnotes list'!$D$9:$E$58,2,FALSE) ) )","v":""},null,null,null,null,{"$f":"IF(TRIM(DA101)=\"\", \"\", IF(VLOOKUP(DA101,'Footnotes list'!$D$9:$E$58,2,FALSE)=0,\"\",VLOOKUP(DA101,'Footnotes list'!$D$9:$E$58,2,FALSE) ) )","v":""},null,null,null,null,{"$f":"IF(TRIM(DF101)=\"\", \"\", IF(VLOOKUP(DF101,'Footnotes list'!$D$9:$E$58,2,FALSE)=0,\"\",VLOOKUP(DF101,'Footnotes list'!$D$9:$E$58,2,FALSE) ) )","v":""},{"$f":"IF(AND(TRIM(G101)=\"\",TRIM(L101)=\"\",TRIM(BO101)=\"\",TRIM(BT101)=\"\",TRIM(CI101)=\"\",TRIM(CN101)=\"\",TRIM(CS101)=\"\",TRIM(CX101)=\"\",TRIM(DC101)=\"\"),\"\",SUM(G101,L101,BO101,BT101,CI101,CN101,CS101,CX101,DC101))","v":""},null,null,null,{"$f":"IF(TRIM(DK101)=\"\", \"\", IF(VLOOKUP(DK101,'Footnotes list'!$D$9:$E$58,2,FALSE)=0,\"\",VLOOKUP(DK101,'Footnotes list'!$D$9:$E$58,2,FALSE) ) )","v":""}]
[null,null,"W127",null,"NHAZ","Non-hazardous",null,null,null,null,{"$f":"IF(TRIM(J102)=\"\", \"\", IF(VLOOKUP(J102,'Footnotes list'!$D$9:$E$58,2,FALSE)=0,\"\",VLOOKUP(J102,'Footnotes list'!$D$9:$E$58,2,FALSE) ) )","v":""},null,null,null,null,{"$f":"IF(TRIM(O102)=\"\", \"\", IF(VLOOKUP(O102,'Footnotes list'!$D$9:$E$58,2,FALSE)=0,\"\",VLOOKUP(O102,'Footnotes list'!$D$9:$E$58,2,FALSE) ) )","v":""},null,null,null,null,{"$f":"IF(TRIM(T102)=\"\", \"\", IF(VLOOKUP(T102,'Footnotes list'!$D$9:$E$58,2,FALSE)=0,\"\",VLOOKUP(T102,'Footnotes list'!$D$9:$E$58,2,FALSE) ) )","v":""},null,null,null,null,{"$f":"IF(TRIM(Y102)=\"\", \"\", IF(VLOOKUP(Y102,'Footnotes list'!$D$9:$E$58,2,FALSE)=0,\"\",VLOOKUP(Y102,'Footnotes list'!$D$9:$E$58,2,FALSE) ) )","v":""},null,null,null,null,{"$f":"IF(TRIM(AD102)=\"\", \"\", IF(VLOOKUP(AD102,'Footnotes list'!$D$9:$E$58,2,FALSE)=0,\"\",VLOOKUP(AD102,'Footnotes list'!$D$9:$E$58,2,FALSE) ) )","v":""},null,null,null,null,{"$f":"IF(TRIM(AI102)=\"\", \"\", IF(VLOOKUP(AI102,'Footnotes list'!$D$9:$E$58,2,FALSE)=0,\"\",VLOOKUP(AI102,'Footnotes list'!$D$9:$E$58,2,FALSE) ) )","v":""},null,null,null,null,{"$f":"IF(TRIM(AN102)=\"\", \"\", IF(VLOOKUP(AN102,'Footnotes list'!$D$9:$E$58,2,FALSE)=0,\"\",VLOOKUP(AN102,'Footnotes list'!$D$9:$E$58,2,FALSE) ) )","v":""},null,null,null,null,{"$f":"IF(TRIM(AS102)=\"\", \"\", IF(VLOOKUP(AS102,'Footnotes list'!$D$9:$E$58,2,FALSE)=0,\"\",VLOOKUP(AS102,'Footnotes list'!$D$9:$E$58,2,FALSE) ) )","v":""},null,null,null,null,{"$f":"IF(TRIM(AX102)=\"\", \"\", IF(VLOOKUP(AX102,'Footnotes list'!$D$9:$E$58,2,FALSE)=0,\"\",VLOOKUP(AX102,'Footnotes list'!$D$9:$E$58,2,FALSE) ) )","v":""},null,null,null,null,{"$f":"IF(TRIM(BC102)=\"\", \"\", IF(VLOOKUP(BC102,'Footnotes list'!$D$9:$E$58,2,FALSE)=0,\"\",VLOOKUP(BC102,'Footnotes list'!$D$9:$E$58,2,FALSE) ) )","v":""},null,null,null,null,{"$f":"IF(TRIM(BH102)=\"\", \"\", IF(VLOOKUP(BH102,'Footnotes list'!$D$9:$E$58,2,FALSE)=0,\"\",VLOOKUP(BH102,'Footnotes list'!$D$9:$E$58,2,FALSE) ) )","v":""},null,null,null,null,{"$f":"IF(TRIM(BM102)=\"\", \"\", IF(VLOOKUP(BM102,'Footnotes list'!$D$9:$E$58,2,FALSE)=0,\"\",VLOOKUP(BM102,'Footnotes list'!$D$9:$E$58,2,FALSE) ) )","v":""},{"$f":"IF(AND(TRIM(Q102)=\"\",TRIM(V102)=\"\",TRIM(AA102)=\"\", TRIM(AF102)=\"\", TRIM(AK102)=\"\", TRIM(AP102)=\"\", TRIM(AU102)=\"\", TRIM(AZ102)=\"\", TRIM(BE102)=\"\", TRIM(BJ102)=\"\"),\"\",Q102+V102+AA102+AF102+AK102+AP102+AU102+AZ102+BE102+BJ102)","v":""},null,null,null,{"$f":"IF(TRIM(BR102)=\"\", \"\", IF(VLOOKUP(BR102,'Footnotes list'!$D$9:$E$58,2,FALSE)=0,\"\",VLOOKUP(BR102,'Footnotes list'!$D$9:$E$58,2,FALSE) ) )","v":""},null,null,null,null,{"$f":"IF(TRIM(BW102)=\"\", \"\", IF(VLOOKUP(BW102,'Footnotes list'!$D$9:$E$58,2,FALSE)=0,\"\",VLOOKUP(BW102,'Footnotes list'!$D$9:$E$58,2,FALSE) ) )","v":""},null,null,null,null,{"$f":"IF(TRIM(CB102)=\"\", \"\", IF(VLOOKUP(CB102,'Footnotes list'!$D$9:$E$58,2,FALSE)=0,\"\",VLOOKUP(CB102,'Footnotes list'!$D$9:$E$58,2,FALSE) ) )","v":""},null,null,null,null,{"$f":"IF(TRIM(CG102)=\"\", \"\", IF(VLOOKUP(CG102,'Footnotes list'!$D$9:$E$58,2,FALSE)=0,\"\",VLOOKUP(CG102,'Footnotes list'!$D$9:$E$58,2,FALSE) ) )","v":""},{"$f":"IF(AND(TRIM(BY102)=\"\",TRIM(CD102)=\"\"),\"\",BY102+CD102)","v":""},null,null,null,{"$f":"IF(TRIM(CL102)=\"\", \"\", IF(VLOOKUP(CL102,'Footnotes list'!$D$9:$E$58,2,FALSE)=0,\"\",VLOOKUP(CL102,'Footnotes list'!$D$9:$E$58,2,FALSE) ) )","v":""},null,null,null,null,{"$f":"IF(TRIM(CQ102)=\"\", \"\", IF(VLOOKUP(CQ102,'Footnotes list'!$D$9:$E$58,2,FALSE)=0,\"\",VLOOKUP(CQ102,'Footnotes list'!$D$9:$E$58,2,FALSE) ) )","v":""},null,null,null,null,{"$f":"IF(TRIM(CV102)=\"\", \"\", IF(VLOOKUP(CV102,'Footnotes list'!$D$9:$E$58,2,FALSE)=0,\"\",VLOOKUP(CV102,'Footnotes list'!$D$9:$E$58,2,FALSE) ) )","v":""},null,null,null,null,{"$f":"IF(TRIM(DA102)=\"\", \"\", IF(VLOOKUP(DA102,'Footnotes list'!$D$9:$E$58,2,FALSE)=0,\"\",VLOOKUP(DA102,'Footnotes list'!$D$9:$E$58,2,FALSE) ) )","v":""},null,null,null,null,{"$f":"IF(TRIM(DF102)=\"\", \"\", IF(VLOOKUP(DF102,'Footnotes list'!$D$9:$E$58,2,FALSE)=0,\"\",VLOOKUP(DF102,'Footnotes list'!$D$9:$E$58,2,FALSE) ) )","v":""},{"$f":"IF(AND(TRIM(G102)=\"\",TRIM(L102)=\"\",TRIM(BO102)=\"\",TRIM(BT102)=\"\",TRIM(CI102)=\"\",TRIM(CN102)=\"\",TRIM(CS102)=\"\",TRIM(CX102)=\"\",TRIM(DC102)=\"\"),\"\",SUM(G102,L102,BO102,BT102,CI102,CN102,CS102,CX102,DC102))","v":""},null,null,null,{"$f":"IF(TRIM(DK102)=\"\", \"\", IF(VLOOKUP(DK102,'Footnotes list'!$D$9:$E$58,2,FALSE)=0,\"\",VLOOKUP(DK102,'Footnotes list'!$D$9:$E$58,2,FALSE) ) )","v":""}]
[null,null,"W127",null,"HAZ_NHAZ","Total",{"$f":"IF(AND(TRIM(G101)=\"\",TRIM(G102)=\"\"),\"\",G101+G102)","v":""},null,null,null,{"$f":"IF(TRIM(J103)=\"\", \"\", IF(VLOOKUP(J103,'Footnotes list'!$D$9:$E$58,2,FALSE)=0,\"\",VLOOKUP(J103,'Footnotes list'!$D$9:$E$58,2,FALSE) ) )","v":""},{"$f":"IF(AND(TRIM(L101)=\"\",TRIM(L102)=\"\"),\"\",L101+L102)","v":""},null,null,null,{"$f":"IF(TRIM(O103)=\"\", \"\", IF(VLOOKUP(O103,'Footnotes list'!$D$9:$E$58,2,FALSE)=0,\"\",VLOOKUP(O103,'Footnotes list'!$D$9:$E$58,2,FALSE) ) )","v":""},{"$f":"IF(AND(TRIM(Q101)=\"\",TRIM(Q102)=\"\"),\"\",Q101+Q102)","v":""},null,null,null,{"$f":"IF(TRIM(T103)=\"\", \"\", IF(VLOOKUP(T103,'Footnotes list'!$D$9:$E$58,2,FALSE)=0,\"\",VLOOKUP(T103,'Footnotes list'!$D$9:$E$58,2,FALSE) ) )","v":""},{"$f":"IF(AND(TRIM(V101)=\"\",TRIM(V102)=\"\"),\"\",V101+V102)","v":""},null,null,null,{"$f":"IF(TRIM(Y103)=\"\", \"\", IF(VLOOKUP(Y103,'Footnotes list'!$D$9:$E$58,2,FALSE)=0,\"\",VLOOKUP(Y103,'Footnotes list'!$D$9:$E$58,2,FALSE) ) )","v":""},{"$f":"IF(AND(TRIM(AA101)=\"\",TRIM(AA102)=\"\"),\"\",AA101+AA102)","v":""},null,null,null,{"$f":"IF(TRIM(AD103)=\"\", \"\", IF(VLOOKUP(AD103,'Footnotes list'!$D$9:$E$58,2,FALSE)=0,\"\",VLOOKUP(AD103,'Footnotes list'!$D$9:$E$58,2,FALSE) ) )","v":""},{"$f":"IF(AND(TRIM(AF101)=\"\",TRIM(AF102)=\"\"),\"\",AF101+AF102)","v":""},null,null,null,{"$f":"IF(TRIM(AI103)=\"\", \"\", IF(VLOOKUP(AI103,'Footnotes list'!$D$9:$E$58,2,FALSE)=0,\"\",VLOOKUP(AI103,'Footnotes list'!$D$9:$E$58,2,FALSE) ) )","v":""},{"$f":"IF(AND(TRIM(AK101)=\"\",TRIM(AK102)=\"\"),\"\",AK101+AK102)","v":""},null,null,null,{"$f":"IF(TRIM(AN103)=\"\", \"\", IF(VLOOKUP(AN103,'Footnotes list'!$D$9:$E$58,2,FALSE)=0,\"\",VLOOKUP(AN103,'Footnotes list'!$D$9:$E$58,2,FALSE) ) )","v":""},{"$f":"IF(AND(TRIM(AP101)=\"\",TRIM(AP102)=\"\"),\"\",AP101+AP102)","v":""},null,null,null,{"$f":"IF(TRIM(AS103)=\"\", \"\", IF(VLOOKUP(AS103,'Footnotes list'!$D$9:$E$58,2,FALSE)=0,\"\",VLOOKUP(AS103,'Footnotes list'!$D$9:$E$58,2,FALSE) ) )","v":""},{"$f":"IF(AND(TRIM(AU101)=\"\",TRIM(AU102)=\"\"),\"\",AU101+AU102)","v":""},null,null,null,{"$f":"IF(TRIM(AX103)=\"\", \"\", IF(VLOOKUP(AX103,'Footnotes list'!$D$9:$E$58,2,FALSE)=0,\"\",VLOOKUP(AX103,'Footnotes list'!$D$9:$E$58,2,FALSE) ) )","v":""},{"$f":"IF(AND(TRIM(AZ101)=\"\",TRIM(AZ102)=\"\"),\"\",AZ101+AZ102)","v":""},null,null,null,{"$f":"IF(TRIM(BC103)=\"\", \"\", IF(VLOOKUP(BC103,'Footnotes list'!$D$9:$E$58,2,FALSE)=0,\"\",VLOOKUP(BC103,'Footnotes list'!$D$9:$E$58,2,FALSE) ) )","v":""},{"$f":"IF(AND(TRIM(BE101)=\"\",TRIM(BE102)=\"\"),\"\",BE101+BE102)","v":""},null,null,null,{"$f":"IF(TRIM(BH103)=\"\", \"\", IF(VLOOKUP(BH103,'Footnotes list'!$D$9:$E$58,2,FALSE)=0,\"\",VLOOKUP(BH103,'Footnotes list'!$D$9:$E$58,2,FALSE) ) )","v":""},{"$f":"IF(AND(TRIM(BJ101)=\"\",TRIM(BJ102)=\"\"),\"\",BJ101+BJ102)","v":""},null,null,null,{"$f":"IF(TRIM(BM103)=\"\", \"\", IF(VLOOKUP(BM103,'Footnotes list'!$D$9:$E$58,2,FALSE)=0,\"\",VLOOKUP(BM103,'Footnotes list'!$D$9:$E$58,2,FALSE) ) )","v":""},{"$f":"IF(AND(TRIM(BO101)=\"\", TRIM(BO102)=\"\"), \"\", (IF(ISNUMBER(BO101),BO101,0)+IF(ISNUMBER(BO102),BO102,0)))","v":""},null,null,null,{"$f":"IF(TRIM(BR103)=\"\", \"\", IF(VLOOKUP(BR103,'Footnotes list'!$D$9:$E$58,2,FALSE)=0,\"\",VLOOKUP(BR103,'Footnotes list'!$D$9:$E$58,2,FALSE) ) )","v":""},{"$f":"IF(AND(TRIM(BT101)=\"\",TRIM(BT102)=\"\"),\"\",BT101+BT102)","v":""},null,null,null,{"$f":"IF(TRIM(BW103)=\"\", \"\", IF(VLOOKUP(BW103,'Footnotes list'!$D$9:$E$58,2,FALSE)=0,\"\",VLOOKUP(BW103,'Footnotes list'!$D$9:$E$58,2,FALSE) ) )","v":""},{"$f":"IF(AND(TRIM(BY101)=\"\",TRIM(BY102)=\"\"),\"\",BY101+BY102)","v":""},null,null,null,{"$f":"IF(TRIM(CB103)=\"\", \"\", IF(VLOOKUP(CB103,'Footnotes list'!$D$9:$E$58,2,FALSE)=0,\"\",VLOOKUP(CB103,'Footnotes list'!$D$9:$E$58,2,FALSE) ) )","v":""},{"$f":"IF(AND(TRIM(CD101)=\"\",TRIM(CD102)=\"\"),\"\",CD101+CD102)","v":""},null,null,null,{"$f":"IF(TRIM(CG103)=\"\", \"\", IF(VLOOKUP(CG103,'Footnotes list'!$D$9:$E$58,2,FALSE)=0,\"\",VLOOKUP(CG103,'Footnotes list'!$D$9:$E$58,2,FALSE) ) )","v":""},{"$f":"IF(AND(TRIM(CI101)=\"\", TRIM(CI102)=\"\"), \"\", (IF(ISNUMBER(CI101),CI101,0)+IF(ISNUMBER(CI102),CI102,0)))","v":""},null,null,null,{"$f":"IF(TRIM(CL103)=\"\", \"\", IF(VLOOKUP(CL103,'Footnotes list'!$D$9:$E$58,2,FALSE)=0,\"\",VLOOKUP(CL103,'Footnotes list'!$D$9:$E$58,2,FALSE) ) )","v":""},{"$f":"IF(AND(TRIM(CN101)=\"\",TRIM(CN102)=\"\"),\"\",CN101+CN102)","v":""},null,null,null,{"$f":"IF(TRIM(CQ103)=\"\", \"\", IF(VLOOKUP(CQ103,'Footnotes list'!$D$9:$E$58,2,FALSE)=0,\"\",VLOOKUP(CQ103,'Footnotes list'!$D$9:$E$58,2,FALSE) ) )","v":""},{"$f":"IF(AND(TRIM(CS101)=\"\",TRIM(CS102)=\"\"),\"\",CS101+CS102)","v":""},null,null,null,{"$f":"IF(TRIM(CV103)=\"\", \"\", IF(VLOOKUP(CV103,'Footnotes list'!$D$9:$E$58,2,FALSE)=0,\"\",VLOOKUP(CV103,'Footnotes list'!$D$9:$E$58,2,FALSE) ) )","v":""},{"$f":"IF(AND(TRIM(CX101)=\"\",TRIM(CX102)=\"\"),\"\",CX101+CX102)","v":""},null,null,null,{"$f":"IF(TRIM(DA103)=\"\", \"\", IF(VLOOKUP(DA103,'Footnotes list'!$D$9:$E$58,2,FALSE)=0,\"\",VLOOKUP(DA103,'Footnotes list'!$D$9:$E$58,2,FALSE) ) )","v":""},{"$f":"IF(AND(TRIM(DC101)=\"\",TRIM(DC102)=\"\"),\"\",DC101+DC102)","v":""},null,null,null,{"$f":"IF(TRIM(DF103)=\"\", \"\", IF(VLOOKUP(DF103,'Footnotes list'!$D$9:$E$58,2,FALSE)=0,\"\",VLOOKUP(DF103,'Footnotes list'!$D$9:$E$58,2,FALSE) ) )","v":""},{"$f":"IF(AND(TRIM(DH101)=\"\", TRIM(DH102)=\"\"), \"\", SUM(DH101,DH102) )","v":""},null,null,null,{"$f":"IF(TRIM(DK103)=\"\", \"\", IF(VLOOKUP(DK103,'Footnotes list'!$D$9:$E$58,2,FALSE)=0,\"\",VLOOKUP(DK103,'Footnotes list'!$D$9:$E$58,2,FALSE) ) )","v":""}]
[null,"W128_13","W128_13","Mineral wastes from waste treatment and stabilised wastes","HAZ","Hazardous ",null,null,null,null,{"$f":"IF(TRIM(J104)=\"\", \"\", IF(VLOOKUP(J104,'Footnotes list'!$D$9:$E$58,2,FALSE)=0,\"\",VLOOKUP(J104,'Footnotes list'!$D$9:$E$58,2,FALSE) ) )","v":""},null,null,null,null,{"$f":"IF(TRIM(O104)=\"\", \"\", IF(VLOOKUP(O104,'Footnotes list'!$D$9:$E$58,2,FALSE)=0,\"\",VLOOKUP(O104,'Footnotes list'!$D$9:$E$58,2,FALSE) ) )","v":""},null,null,null,null,{"$f":"IF(TRIM(T104)=\"\", \"\", IF(VLOOKUP(T104,'Footnotes list'!$D$9:$E$58,2,FALSE)=0,\"\",VLOOKUP(T104,'Footnotes list'!$D$9:$E$58,2,FALSE) ) )","v":""},null,null,null,null,{"$f":"IF(TRIM(Y104)=\"\", \"\", IF(VLOOKUP(Y104,'Footnotes list'!$D$9:$E$58,2,FALSE)=0,\"\",VLOOKUP(Y104,'Footnotes list'!$D$9:$E$58,2,FALSE) ) )","v":""},null,null,null,null,{"$f":"IF(TRIM(AD104)=\"\", \"\", IF(VLOOKUP(AD104,'Footnotes list'!$D$9:$E$58,2,FALSE)=0,\"\",VLOOKUP(AD104,'Footnotes list'!$D$9:$E$58,2,FALSE) ) )","v":""},null,null,null,null,{"$f":"IF(TRIM(AI104)=\"\", \"\", IF(VLOOKUP(AI104,'Footnotes list'!$D$9:$E$58,2,FALSE)=0,\"\",VLOOKUP(AI104,'Footnotes list'!$D$9:$E$58,2,FALSE) ) )","v":""},null,null,null,null,{"$f":"IF(TRIM(AN104)=\"\", \"\", IF(VLOOKUP(AN104,'Footnotes list'!$D$9:$E$58,2,FALSE)=0,\"\",VLOOKUP(AN104,'Footnotes list'!$D$9:$E$58,2,FALSE) ) )","v":""},null,null,null,null,{"$f":"IF(TRIM(AS104)=\"\", \"\", IF(VLOOKUP(AS104,'Footnotes list'!$D$9:$E$58,2,FALSE)=0,\"\",VLOOKUP(AS104,'Footnotes list'!$D$9:$E$58,2,FALSE) ) )","v":""},null,null,null,null,{"$f":"IF(TRIM(AX104)=\"\", \"\", IF(VLOOKUP(AX104,'Footnotes list'!$D$9:$E$58,2,FALSE)=0,\"\",VLOOKUP(AX104,'Footnotes list'!$D$9:$E$58,2,FALSE) ) )","v":""},null,null,null,null,{"$f":"IF(TRIM(BC104)=\"\", \"\", IF(VLOOKUP(BC104,'Footnotes list'!$D$9:$E$58,2,FALSE)=0,\"\",VLOOKUP(BC104,'Footnotes list'!$D$9:$E$58,2,FALSE) ) )","v":""},null,null,null,null,{"$f":"IF(TRIM(BH104)=\"\", \"\", IF(VLOOKUP(BH104,'Footnotes list'!$D$9:$E$58,2,FALSE)=0,\"\",VLOOKUP(BH104,'Footnotes list'!$D$9:$E$58,2,FALSE) ) )","v":""},null,null,null,null,{"$f":"IF(TRIM(BM104)=\"\", \"\", IF(VLOOKUP(BM104,'Footnotes list'!$D$9:$E$58,2,FALSE)=0,\"\",VLOOKUP(BM104,'Footnotes list'!$D$9:$E$58,2,FALSE) ) )","v":""},{"$f":"IF(AND(TRIM(Q104)=\"\",TRIM(V104)=\"\",TRIM(AA104)=\"\", TRIM(AF104)=\"\", TRIM(AK104)=\"\", TRIM(AP104)=\"\", TRIM(AU104)=\"\", TRIM(AZ104)=\"\", TRIM(BE104)=\"\", TRIM(BJ104)=\"\"),\"\",Q104+V104+AA104+AF104+AK104+AP104+AU104+AZ104+BE104+BJ104)","v":""},null,null,null,{"$f":"IF(TRIM(BR104)=\"\", \"\", IF(VLOOKUP(BR104,'Footnotes list'!$D$9:$E$58,2,FALSE)=0,\"\",VLOOKUP(BR104,'Footnotes list'!$D$9:$E$58,2,FALSE) ) )","v":""},null,null,null,null,{"$f":"IF(TRIM(BW104)=\"\", \"\", IF(VLOOKUP(BW104,'Footnotes list'!$D$9:$E$58,2,FALSE)=0,\"\",VLOOKUP(BW104,'Footnotes list'!$D$9:$E$58,2,FALSE) ) )","v":""},null,null,null,null,{"$f":"IF(TRIM(CB104)=\"\", \"\", IF(VLOOKUP(CB104,'Footnotes list'!$D$9:$E$58,2,FALSE)=0,\"\",VLOOKUP(CB104,'Footnotes list'!$D$9:$E$58,2,FALSE) ) )","v":""},null,null,null,null,{"$f":"IF(TRIM(CG104)=\"\", \"\", IF(VLOOKUP(CG104,'Footnotes list'!$D$9:$E$58,2,FALSE)=0,\"\",VLOOKUP(CG104,'Footnotes list'!$D$9:$E$58,2,FALSE) ) )","v":""},{"$f":"IF(AND(TRIM(BY104)=\"\",TRIM(CD104)=\"\"),\"\",BY104+CD104)","v":""},null,null,null,{"$f":"IF(TRIM(CL104)=\"\", \"\", IF(VLOOKUP(CL104,'Footnotes list'!$D$9:$E$58,2,FALSE)=0,\"\",VLOOKUP(CL104,'Footnotes list'!$D$9:$E$58,2,FALSE) ) )","v":""},null,null,null,null,{"$f":"IF(TRIM(CQ104)=\"\", \"\", IF(VLOOKUP(CQ104,'Footnotes list'!$D$9:$E$58,2,FALSE)=0,\"\",VLOOKUP(CQ104,'Footnotes list'!$D$9:$E$58,2,FALSE) ) )","v":""},null,null,null,null,{"$f":"IF(TRIM(CV104)=\"\", \"\", IF(VLOOKUP(CV104,'Footnotes list'!$D$9:$E$58,2,FALSE)=0,\"\",VLOOKUP(CV104,'Footnotes list'!$D$9:$E$58,2,FALSE) ) )","v":""},null,null,null,null,{"$f":"IF(TRIM(DA104)=\"\", \"\", IF(VLOOKUP(DA104,'Footnotes list'!$D$9:$E$58,2,FALSE)=0,\"\",VLOOKUP(DA104,'Footnotes list'!$D$9:$E$58,2,FALSE) ) )","v":""},null,null,null,null,{"$f":"IF(TRIM(DF104)=\"\", \"\", IF(VLOOKUP(DF104,'Footnotes list'!$D$9:$E$58,2,FALSE)=0,\"\",VLOOKUP(DF104,'Footnotes list'!$D$9:$E$58,2,FALSE) ) )","v":""},{"$f":"IF(AND(TRIM(G104)=\"\",TRIM(L104)=\"\",TRIM(BO104)=\"\",TRIM(BT104)=\"\",TRIM(CI104)=\"\",TRIM(CN104)=\"\",TRIM(CS104)=\"\",TRIM(CX104)=\"\",TRIM(DC104)=\"\"),\"\",SUM(G104,L104,BO104,BT104,CI104,CN104,CS104,CX104,DC104))","v":""},null,null,null,{"$f":"IF(TRIM(DK104)=\"\", \"\", IF(VLOOKUP(DK104,'Footnotes list'!$D$9:$E$58,2,FALSE)=0,\"\",VLOOKUP(DK104,'Footnotes list'!$D$9:$E$58,2,FALSE) ) )","v":""}]
[null,null,"W128_13",null,"NHAZ","Non-hazardous",null,null,null,null,{"$f":"IF(TRIM(J105)=\"\", \"\", IF(VLOOKUP(J105,'Footnotes list'!$D$9:$E$58,2,FALSE)=0,\"\",VLOOKUP(J105,'Footnotes list'!$D$9:$E$58,2,FALSE) ) )","v":""},null,null,null,null,{"$f":"IF(TRIM(O105)=\"\", \"\", IF(VLOOKUP(O105,'Footnotes list'!$D$9:$E$58,2,FALSE)=0,\"\",VLOOKUP(O105,'Footnotes list'!$D$9:$E$58,2,FALSE) ) )","v":""},null,null,null,null,{"$f":"IF(TRIM(T105)=\"\", \"\", IF(VLOOKUP(T105,'Footnotes list'!$D$9:$E$58,2,FALSE)=0,\"\",VLOOKUP(T105,'Footnotes list'!$D$9:$E$58,2,FALSE) ) )","v":""},null,null,null,null,{"$f":"IF(TRIM(Y105)=\"\", \"\", IF(VLOOKUP(Y105,'Footnotes list'!$D$9:$E$58,2,FALSE)=0,\"\",VLOOKUP(Y105,'Footnotes list'!$D$9:$E$58,2,FALSE) ) )","v":""},null,null,null,null,{"$f":"IF(TRIM(AD105)=\"\", \"\", IF(VLOOKUP(AD105,'Footnotes list'!$D$9:$E$58,2,FALSE)=0,\"\",VLOOKUP(AD105,'Footnotes list'!$D$9:$E$58,2,FALSE) ) )","v":""},null,null,null,null,{"$f":"IF(TRIM(AI105)=\"\", \"\", IF(VLOOKUP(AI105,'Footnotes list'!$D$9:$E$58,2,FALSE)=0,\"\",VLOOKUP(AI105,'Footnotes list'!$D$9:$E$58,2,FALSE) ) )","v":""},null,null,null,null,{"$f":"IF(TRIM(AN105)=\"\", \"\", IF(VLOOKUP(AN105,'Footnotes list'!$D$9:$E$58,2,FALSE)=0,\"\",VLOOKUP(AN105,'Footnotes list'!$D$9:$E$58,2,FALSE) ) )","v":""},null,null,null,null,{"$f":"IF(TRIM(AS105)=\"\", \"\", IF(VLOOKUP(AS105,'Footnotes list'!$D$9:$E$58,2,FALSE)=0,\"\",VLOOKUP(AS105,'Footnotes list'!$D$9:$E$58,2,FALSE) ) )","v":""},null,null,null,null,{"$f":"IF(TRIM(AX105)=\"\", \"\", IF(VLOOKUP(AX105,'Footnotes list'!$D$9:$E$58,2,FALSE)=0,\"\",VLOOKUP(AX105,'Footnotes list'!$D$9:$E$58,2,FALSE) ) )","v":""},null,null,null,null,{"$f":"IF(TRIM(BC105)=\"\", \"\", IF(VLOOKUP(BC105,'Footnotes list'!$D$9:$E$58,2,FALSE)=0,\"\",VLOOKUP(BC105,'Footnotes list'!$D$9:$E$58,2,FALSE) ) )","v":""},null,null,null,null,{"$f":"IF(TRIM(BH105)=\"\", \"\", IF(VLOOKUP(BH105,'Footnotes list'!$D$9:$E$58,2,FALSE)=0,\"\",VLOOKUP(BH105,'Footnotes list'!$D$9:$E$58,2,FALSE) ) )","v":""},null,null,null,null,{"$f":"IF(TRIM(BM105)=\"\", \"\", IF(VLOOKUP(BM105,'Footnotes list'!$D$9:$E$58,2,FALSE)=0,\"\",VLOOKUP(BM105,'Footnotes list'!$D$9:$E$58,2,FALSE) ) )","v":""},{"$f":"IF(AND(TRIM(Q105)=\"\",TRIM(V105)=\"\",TRIM(AA105)=\"\", TRIM(AF105)=\"\", TRIM(AK105)=\"\", TRIM(AP105)=\"\", TRIM(AU105)=\"\", TRIM(AZ105)=\"\", TRIM(BE105)=\"\", TRIM(BJ105)=\"\"),\"\",Q105+V105+AA105+AF105+AK105+AP105+AU105+AZ105+BE105+BJ105)","v":""},null,null,null,{"$f":"IF(TRIM(BR105)=\"\", \"\", IF(VLOOKUP(BR105,'Footnotes list'!$D$9:$E$58,2,FALSE)=0,\"\",VLOOKUP(BR105,'Footnotes list'!$D$9:$E$58,2,FALSE) ) )","v":""},null,null,null,null,{"$f":"IF(TRIM(BW105)=\"\", \"\", IF(VLOOKUP(BW105,'Footnotes list'!$D$9:$E$58,2,FALSE)=0,\"\",VLOOKUP(BW105,'Footnotes list'!$D$9:$E$58,2,FALSE) ) )","v":""},null,null,null,null,{"$f":"IF(TRIM(CB105)=\"\", \"\", IF(VLOOKUP(CB105,'Footnotes list'!$D$9:$E$58,2,FALSE)=0,\"\",VLOOKUP(CB105,'Footnotes list'!$D$9:$E$58,2,FALSE) ) )","v":""},null,null,null,null,{"$f":"IF(TRIM(CG105)=\"\", \"\", IF(VLOOKUP(CG105,'Footnotes list'!$D$9:$E$58,2,FALSE)=0,\"\",VLOOKUP(CG105,'Footnotes list'!$D$9:$E$58,2,FALSE) ) )","v":""},{"$f":"IF(AND(TRIM(BY105)=\"\",TRIM(CD105)=\"\"),\"\",BY105+CD105)","v":""},null,null,null,{"$f":"IF(TRIM(CL105)=\"\", \"\", IF(VLOOKUP(CL105,'Footnotes list'!$D$9:$E$58,2,FALSE)=0,\"\",VLOOKUP(CL105,'Footnotes list'!$D$9:$E$58,2,FALSE) ) )","v":""},null,null,null,null,{"$f":"IF(TRIM(CQ105)=\"\", \"\", IF(VLOOKUP(CQ105,'Footnotes list'!$D$9:$E$58,2,FALSE)=0,\"\",VLOOKUP(CQ105,'Footnotes list'!$D$9:$E$58,2,FALSE) ) )","v":""},null,null,null,null,{"$f":"IF(TRIM(CV105)=\"\", \"\", IF(VLOOKUP(CV105,'Footnotes list'!$D$9:$E$58,2,FALSE)=0,\"\",VLOOKUP(CV105,'Footnotes list'!$D$9:$E$58,2,FALSE) ) )","v":""},null,null,null,null,{"$f":"IF(TRIM(DA105)=\"\", \"\", IF(VLOOKUP(DA105,'Footnotes list'!$D$9:$E$58,2,FALSE)=0,\"\",VLOOKUP(DA105,'Footnotes list'!$D$9:$E$58,2,FALSE) ) )","v":""},null,null,null,null,{"$f":"IF(TRIM(DF105)=\"\", \"\", IF(VLOOKUP(DF105,'Footnotes list'!$D$9:$E$58,2,FALSE)=0,\"\",VLOOKUP(DF105,'Footnotes list'!$D$9:$E$58,2,FALSE) ) )","v":""},{"$f":"IF(AND(TRIM(G105)=\"\",TRIM(L105)=\"\",TRIM(BO105)=\"\",TRIM(BT105)=\"\",TRIM(CI105)=\"\",TRIM(CN105)=\"\",TRIM(CS105)=\"\",TRIM(CX105)=\"\",TRIM(DC105)=\"\"),\"\",SUM(G105,L105,BO105,BT105,CI105,CN105,CS105,CX105,DC105))","v":""},null,null,null,{"$f":"IF(TRIM(DK105)=\"\", \"\", IF(VLOOKUP(DK105,'Footnotes list'!$D$9:$E$58,2,FALSE)=0,\"\",VLOOKUP(DK105,'Footnotes list'!$D$9:$E$58,2,FALSE) ) )","v":""}]
[null,null,"W128_13",null,"HAZ_NHAZ","Total",{"$f":"IF(AND(TRIM(G104)=\"\",TRIM(G105)=\"\"),\"\",G104+G105)","v":""},null,null,null,{"$f":"IF(TRIM(J106)=\"\", \"\", IF(VLOOKUP(J106,'Footnotes list'!$D$9:$E$58,2,FALSE)=0,\"\",VLOOKUP(J106,'Footnotes list'!$D$9:$E$58,2,FALSE) ) )","v":""},{"$f":"IF(AND(TRIM(L104)=\"\",TRIM(L105)=\"\"),\"\",L104+L105)","v":""},null,null,null,{"$f":"IF(TRIM(O106)=\"\", \"\", IF(VLOOKUP(O106,'Footnotes list'!$D$9:$E$58,2,FALSE)=0,\"\",VLOOKUP(O106,'Footnotes list'!$D$9:$E$58,2,FALSE) ) )","v":""},{"$f":"IF(AND(TRIM(Q104)=\"\",TRIM(Q105)=\"\"),\"\",Q104+Q105)","v":""},null,null,null,{"$f":"IF(TRIM(T106)=\"\", \"\", IF(VLOOKUP(T106,'Footnotes list'!$D$9:$E$58,2,FALSE)=0,\"\",VLOOKUP(T106,'Footnotes list'!$D$9:$E$58,2,FALSE) ) )","v":""},{"$f":"IF(AND(TRIM(V104)=\"\",TRIM(V105)=\"\"),\"\",V104+V105)","v":""},null,null,null,{"$f":"IF(TRIM(Y106)=\"\", \"\", IF(VLOOKUP(Y106,'Footnotes list'!$D$9:$E$58,2,FALSE)=0,\"\",VLOOKUP(Y106,'Footnotes list'!$D$9:$E$58,2,FALSE) ) )","v":""},{"$f":"IF(AND(TRIM(AA104)=\"\",TRIM(AA105)=\"\"),\"\",AA104+AA105)","v":""},null,null,null,{"$f":"IF(TRIM(AD106)=\"\", \"\", IF(VLOOKUP(AD106,'Footnotes list'!$D$9:$E$58,2,FALSE)=0,\"\",VLOOKUP(AD106,'Footnotes list'!$D$9:$E$58,2,FALSE) ) )","v":""},{"$f":"IF(AND(TRIM(AF104)=\"\",TRIM(AF105)=\"\"),\"\",AF104+AF105)","v":""},null,null,null,{"$f":"IF(TRIM(AI106)=\"\", \"\", IF(VLOOKUP(AI106,'Footnotes list'!$D$9:$E$58,2,FALSE)=0,\"\",VLOOKUP(AI106,'Footnotes list'!$D$9:$E$58,2,FALSE) ) )","v":""},{"$f":"IF(AND(TRIM(AK104)=\"\",TRIM(AK105)=\"\"),\"\",AK104+AK105)","v":""},null,null,null,{"$f":"IF(TRIM(AN106)=\"\", \"\", IF(VLOOKUP(AN106,'Footnotes list'!$D$9:$E$58,2,FALSE)=0,\"\",VLOOKUP(AN106,'Footnotes list'!$D$9:$E$58,2,FALSE) ) )","v":""},{"$f":"IF(AND(TRIM(AP104)=\"\",TRIM(AP105)=\"\"),\"\",AP104+AP105)","v":""},null,null,null,{"$f":"IF(TRIM(AS106)=\"\", \"\", IF(VLOOKUP(AS106,'Footnotes list'!$D$9:$E$58,2,FALSE)=0,\"\",VLOOKUP(AS106,'Footnotes list'!$D$9:$E$58,2,FALSE) ) )","v":""},{"$f":"IF(AND(TRIM(AU104)=\"\",TRIM(AU105)=\"\"),\"\",AU104+AU105)","v":""},null,null,null,{"$f":"IF(TRIM(AX106)=\"\", \"\", IF(VLOOKUP(AX106,'Footnotes list'!$D$9:$E$58,2,FALSE)=0,\"\",VLOOKUP(AX106,'Footnotes list'!$D$9:$E$58,2,FALSE) ) )","v":""},{"$f":"IF(AND(TRIM(AZ104)=\"\",TRIM(AZ105)=\"\"),\"\",AZ104+AZ105)","v":""},null,null,null,{"$f":"IF(TRIM(BC106)=\"\", \"\", IF(VLOOKUP(BC106,'Footnotes list'!$D$9:$E$58,2,FALSE)=0,\"\",VLOOKUP(BC106,'Footnotes list'!$D$9:$E$58,2,FALSE) ) )","v":""},{"$f":"IF(AND(TRIM(BE104)=\"\",TRIM(BE105)=\"\"),\"\",BE104+BE105)","v":""},null,null,null,{"$f":"IF(TRIM(BH106)=\"\", \"\", IF(VLOOKUP(BH106,'Footnotes list'!$D$9:$E$58,2,FALSE)=0,\"\",VLOOKUP(BH106,'Footnotes list'!$D$9:$E$58,2,FALSE) ) )","v":""},{"$f":"IF(AND(TRIM(BJ104)=\"\",TRIM(BJ105)=\"\"),\"\",BJ104+BJ105)","v":""},null,null,null,{"$f":"IF(TRIM(BM106)=\"\", \"\", IF(VLOOKUP(BM106,'Footnotes list'!$D$9:$E$58,2,FALSE)=0,\"\",VLOOKUP(BM106,'Footnotes list'!$D$9:$E$58,2,FALSE) ) )","v":""},{"$f":"IF(AND(TRIM(BO104)=\"\", TRIM(BO105)=\"\"), \"\", (IF(ISNUMBER(BO104),BO104,0)+IF(ISNUMBER(BO105),BO105,0)))","v":""},null,null,null,{"$f":"IF(TRIM(BR106)=\"\", \"\", IF(VLOOKUP(BR106,'Footnotes list'!$D$9:$E$58,2,FALSE)=0,\"\",VLOOKUP(BR106,'Footnotes list'!$D$9:$E$58,2,FALSE) ) )","v":""},{"$f":"IF(AND(TRIM(BT104)=\"\",TRIM(BT105)=\"\"),\"\",BT104+BT105)","v":""},null,null,null,{"$f":"IF(TRIM(BW106)=\"\", \"\", IF(VLOOKUP(BW106,'Footnotes list'!$D$9:$E$58,2,FALSE)=0,\"\",VLOOKUP(BW106,'Footnotes list'!$D$9:$E$58,2,FALSE) ) )","v":""},{"$f":"IF(AND(TRIM(BY104)=\"\",TRIM(BY105)=\"\"),\"\",BY104+BY105)","v":""},null,null,null,{"$f":"IF(TRIM(CB106)=\"\", \"\", IF(VLOOKUP(CB106,'Footnotes list'!$D$9:$E$58,2,FALSE)=0,\"\",VLOOKUP(CB106,'Footnotes list'!$D$9:$E$58,2,FALSE) ) )","v":""},{"$f":"IF(AND(TRIM(CD104)=\"\",TRIM(CD105)=\"\"),\"\",CD104+CD105)","v":""},null,null,null,{"$f":"IF(TRIM(CG106)=\"\", \"\", IF(VLOOKUP(CG106,'Footnotes list'!$D$9:$E$58,2,FALSE)=0,\"\",VLOOKUP(CG106,'Footnotes list'!$D$9:$E$58,2,FALSE) ) )","v":""},{"$f":"IF(AND(TRIM(CI104)=\"\", TRIM(CI105)=\"\"), \"\", (IF(ISNUMBER(CI104),CI104,0)+IF(ISNUMBER(CI105),CI105,0)))","v":""},null,null,null,{"$f":"IF(TRIM(CL106)=\"\", \"\", IF(VLOOKUP(CL106,'Footnotes list'!$D$9:$E$58,2,FALSE)=0,\"\",VLOOKUP(CL106,'Footnotes list'!$D$9:$E$58,2,FALSE) ) )","v":""},{"$f":"IF(AND(TRIM(CN104)=\"\",TRIM(CN105)=\"\"),\"\",CN104+CN105)","v":""},null,null,null,{"$f":"IF(TRIM(CQ106)=\"\", \"\", IF(VLOOKUP(CQ106,'Footnotes list'!$D$9:$E$58,2,FALSE)=0,\"\",VLOOKUP(CQ106,'Footnotes list'!$D$9:$E$58,2,FALSE) ) )","v":""},{"$f":"IF(AND(TRIM(CS104)=\"\",TRIM(CS105)=\"\"),\"\",CS104+CS105)","v":""},null,null,null,{"$f":"IF(TRIM(CV106)=\"\", \"\", IF(VLOOKUP(CV106,'Footnotes list'!$D$9:$E$58,2,FALSE)=0,\"\",VLOOKUP(CV106,'Footnotes list'!$D$9:$E$58,2,FALSE) ) )","v":""},{"$f":"IF(AND(TRIM(CX104)=\"\",TRIM(CX105)=\"\"),\"\",CX104+CX105)","v":""},null,null,null,{"$f":"IF(TRIM(DA106)=\"\", \"\", IF(VLOOKUP(DA106,'Footnotes list'!$D$9:$E$58,2,FALSE)=0,\"\",VLOOKUP(DA106,'Footnotes list'!$D$9:$E$58,2,FALSE) ) )","v":""},{"$f":"IF(AND(TRIM(DC104)=\"\",TRIM(DC105)=\"\"),\"\",DC104+DC105)","v":""},null,null,null,{"$f":"IF(TRIM(DF106)=\"\", \"\", IF(VLOOKUP(DF106,'Footnotes list'!$D$9:$E$58,2,FALSE)=0,\"\",VLOOKUP(DF106,'Footnotes list'!$D$9:$E$58,2,FALSE) ) )","v":""},{"$f":"IF(AND(TRIM(DH104)=\"\", TRIM(DH105)=\"\"), \"\", SUM(DH104,DH105) )","v":""},null,null,null,{"$f":"IF(TRIM(DK106)=\"\", \"\", IF(VLOOKUP(DK106,'Footnotes list'!$D$9:$E$58,2,FALSE)=0,\"\",VLOOKUP(DK106,'Footnotes list'!$D$9:$E$58,2,FALSE) ) )","v":""}]
[null,"PRIM","PRIM","Primary waste","HAZ","Hazardous ",{"$f":"SUM(G8,G11,G14,G17,G20,G26,G29,G32,G35,G38,G41,G44,G47,G50,G53,G56,G59,G62,G65,G68,G71,G74,G77,G80,G86,G89,G92,G95,G98,G101)","v":0},null,null,null,{"$f":"IF(TRIM(J107)=\"\", \"\", IF(VLOOKUP(J107,'Footnotes list'!$D$9:$E$58,2,FALSE)=0,\"\",VLOOKUP(J107,'Footnotes list'!$D$9:$E$58,2,FALSE) ) )","v":""},{"$f":"SUM(L8,L11,L14,L17,L20,L26,L29,L32,L35,L38,L41,L44,L47,L50,L53,L56,L59,L62,L65,L68,L71,L74,L77,L80,L86,L89,L92,L95,L98,L101)","v":0},null,null,null,{"$f":"IF(TRIM(O107)=\"\", \"\", IF(VLOOKUP(O107,'Footnotes list'!$D$9:$E$58,2,FALSE)=0,\"\",VLOOKUP(O107,'Footnotes list'!$D$9:$E$58,2,FALSE) ) )","v":""},{"$f":"SUM(Q8,Q11,Q14,Q17,Q20,Q26,Q29,Q32,Q35,Q38,Q41,Q44,Q47,Q50,Q53,Q56,Q59,Q62,Q65,Q68,Q71,Q74,Q77,Q80,Q86,Q89,Q92,Q95,Q98,Q101)","v":0},null,null,null,{"$f":"IF(TRIM(T107)=\"\", \"\", IF(VLOOKUP(T107,'Footnotes list'!$D$9:$E$58,2,FALSE)=0,\"\",VLOOKUP(T107,'Footnotes list'!$D$9:$E$58,2,FALSE) ) )","v":""},{"$f":"SUM(V8,V11,V14,V17,V20,V26,V29,V32,V35,V38,V41,V44,V47,V50,V53,V56,V59,V62,V65,V68,V71,V74,V77,V80,V86,V89,V92,V95,V98,V101)","v":0},null,null,null,{"$f":"IF(TRIM(Y107)=\"\", \"\", IF(VLOOKUP(Y107,'Footnotes list'!$D$9:$E$58,2,FALSE)=0,\"\",VLOOKUP(Y107,'Footnotes list'!$D$9:$E$58,2,FALSE) ) )","v":""},{"$f":"SUM(AA8,AA11,AA14,AA17,AA20,AA26,AA29,AA32,AA35,AA38,AA41,AA44,AA47,AA50,AA53,AA56,AA59,AA62,AA65,AA68,AA71,AA74,AA77,AA80,AA86,AA89,AA92,AA95,AA98,AA101)","v":0},null,null,null,{"$f":"IF(TRIM(AD107)=\"\", \"\", IF(VLOOKUP(AD107,'Footnotes list'!$D$9:$E$58,2,FALSE)=0,\"\",VLOOKUP(AD107,'Footnotes list'!$D$9:$E$58,2,FALSE) ) )","v":""},{"$f":"SUM(AF8,AF11,AF14,AF17,AF20,AF26,AF29,AF32,AF35,AF38,AF41,AF44,AF47,AF50,AF53,AF56,AF59,AF62,AF65,AF68,AF71,AF74,AF77,AF80,AF86,AF89,AF92,AF95,AF98,AF101)","v":0},null,null,null,{"$f":"IF(TRIM(AI107)=\"\", \"\", IF(VLOOKUP(AI107,'Footnotes list'!$D$9:$E$58,2,FALSE)=0,\"\",VLOOKUP(AI107,'Footnotes list'!$D$9:$E$58,2,FALSE) ) )","v":""},{"$f":"SUM(AK8,AK11,AK14,AK17,AK20,AK26,AK29,AK32,AK35,AK38,AK41,AK44,AK47,AK50,AK53,AK56,AK59,AK62,AK65,AK68,AK71,AK74,AK77,AK80,AK86,AK89,AK92,AK95,AK98,AK101)","v":0},null,null,null,{"$f":"IF(TRIM(AN107)=\"\", \"\", IF(VLOOKUP(AN107,'Footnotes list'!$D$9:$E$58,2,FALSE)=0,\"\",VLOOKUP(AN107,'Footnotes list'!$D$9:$E$58,2,FALSE) ) )","v":""},{"$f":"SUM(AP8,AP11,AP14,AP17,AP20,AP26,AP29,AP32,AP35,AP38,AP41,AP44,AP47,AP50,AP53,AP56,AP59,AP62,AP65,AP68,AP71,AP74,AP77,AP80,AP86,AP89,AP92,AP95,AP98,AP101)","v":0},null,null,null,{"$f":"IF(TRIM(AS107)=\"\", \"\", IF(VLOOKUP(AS107,'Footnotes list'!$D$9:$E$58,2,FALSE)=0,\"\",VLOOKUP(AS107,'Footnotes list'!$D$9:$E$58,2,FALSE) ) )","v":""},{"$f":"SUM(AU8,AU11,AU14,AU17,AU20,AU26,AU29,AU32,AU35,AU38,AU41,AU44,AU47,AU50,AU53,AU56,AU59,AU62,AU65,AU68,AU71,AU74,AU77,AU80,AU86,AU89,AU92,AU95,AU98,AU101)","v":0},null,null,null,{"$f":"IF(TRIM(AX107)=\"\", \"\", IF(VLOOKUP(AX107,'Footnotes list'!$D$9:$E$58,2,FALSE)=0,\"\",VLOOKUP(AX107,'Footnotes list'!$D$9:$E$58,2,FALSE) ) )","v":""},{"$f":"SUM(AZ8,AZ11,AZ14,AZ17,AZ20,AZ26,AZ29,AZ32,AZ35,AZ38,AZ41,AZ44,AZ47,AZ50,AZ53,AZ56,AZ59,AZ62,AZ65,AZ68,AZ71,AZ74,AZ77,AZ80,AZ86,AZ89,AZ92,AZ95,AZ98,AZ101)","v":0},null,null,null,{"$f":"IF(TRIM(BC107)=\"\", \"\", IF(VLOOKUP(BC107,'Footnotes list'!$D$9:$E$58,2,FALSE)=0,\"\",VLOOKUP(BC107,'Footnotes list'!$D$9:$E$58,2,FALSE) ) )","v":""},{"$f":"SUM(BE8,BE11,BE14,BE17,BE20,BE26,BE29,BE32,BE35,BE38,BE41,BE44,BE47,BE50,BE53,BE56,BE59,BE62,BE65,BE68,BE71,BE74,BE77,BE80,BE86,BE89,BE92,BE95,BE98,BE101)","v":0},null,null,null,{"$f":"IF(TRIM(BH107)=\"\", \"\", IF(VLOOKUP(BH107,'Footnotes list'!$D$9:$E$58,2,FALSE)=0,\"\",VLOOKUP(BH107,'Footnotes list'!$D$9:$E$58,2,FALSE) ) )","v":""},{"$f":"SUM(BJ8,BJ11,BJ14,BJ17,BJ20,BJ26,BJ29,BJ32,BJ35,BJ38,BJ41,BJ44,BJ47,BJ50,BJ53,BJ56,BJ59,BJ62,BJ65,BJ68,BJ71,BJ74,BJ77,BJ80,BJ86,BJ89,BJ92,BJ95,BJ98,BJ101)","v":0},null,null,null,{"$f":"IF(TRIM(BM107)=\"\", \"\", IF(VLOOKUP(BM107,'Footnotes list'!$D$9:$E$58,2,FALSE)=0,\"\",VLOOKUP(BM107,'Footnotes list'!$D$9:$E$58,2,FALSE) ) )","v":""},{"$f":"SUM(BO8,BO11,BO14,BO17,BO20,BO26,BO29,BO32,BO35,BO38,BO41,BO44,BO47,BO50,BO53,BO56,BO59,BO62,BO65,BO68,BO71,BO74,BO77,BO80,BO86,BO89,BO92,BO95,BO98,BO101)","v":0},null,null,null,{"$f":"IF(TRIM(BR107)=\"\", \"\", IF(VLOOKUP(BR107,'Footnotes list'!$D$9:$E$58,2,FALSE)=0,\"\",VLOOKUP(BR107,'Footnotes list'!$D$9:$E$58,2,FALSE) ) )","v":""},{"$f":"SUM(BT8,BT11,BT14,BT17,BT20,BT26,BT29,BT32,BT35,BT38,BT41,BT44,BT47,BT50,BT53,BT56,BT59,BT62,BT65,BT68,BT71,BT74,BT77,BT80,BT86,BT89,BT92,BT95,BT98,BT101)","v":0},null,null,null,{"$f":"IF(TRIM(BW107)=\"\", \"\", IF(VLOOKUP(BW107,'Footnotes list'!$D$9:$E$58,2,FALSE)=0,\"\",VLOOKUP(BW107,'Footnotes list'!$D$9:$E$58,2,FALSE) ) )","v":""},{"$f":"SUM(BY8,BY11,BY14,BY17,BY20,BY26,BY29,BY32,BY35,BY38,BY41,BY44,BY47,BY50,BY53,BY56,BY59,BY62,BY65,BY68,BY71,BY74,BY77,BY80,BY86,BY89,BY92,BY95,BY98,BY101)","v":0},null,null,null,{"$f":"IF(TRIM(CB107)=\"\", \"\", IF(VLOOKUP(CB107,'Footnotes list'!$D$9:$E$58,2,FALSE)=0,\"\",VLOOKUP(CB107,'Footnotes list'!$D$9:$E$58,2,FALSE) ) )","v":""},{"$f":"SUM(CD8,CD11,CD14,CD17,CD20,CD26,CD29,CD32,CD35,CD38,CD41,CD44,CD47,CD50,CD53,CD56,CD59,CD62,CD65,CD68,CD71,CD74,CD77,CD80,CD86,CD89,CD92,CD95,CD98,CD101)","v":0},null,null,null,{"$f":"IF(TRIM(CG107)=\"\", \"\", IF(VLOOKUP(CG107,'Footnotes list'!$D$9:$E$58,2,FALSE)=0,\"\",VLOOKUP(CG107,'Footnotes list'!$D$9:$E$58,2,FALSE) ) )","v":""},{"$f":"SUM(CI8,CI11,CI14,CI17,CI20,CI26,CI29,CI32,CI35,CI38,CI41,CI44,CI47,CI50,CI53,CI56,CI59,CI62,CI65,CI68,CI71,CI74,CI77,CI80,CI86,CI89,CI92,CI95,CI98,CI101)","v":0},null,null,null,{"$f":"IF(TRIM(CL107)=\"\", \"\", IF(VLOOKUP(CL107,'Footnotes list'!$D$9:$E$58,2,FALSE)=0,\"\",VLOOKUP(CL107,'Footnotes list'!$D$9:$E$58,2,FALSE) ) )","v":""},{"$f":"SUM(CN8,CN11,CN14,CN17,CN20,CN26,CN29,CN32,CN35,CN38,CN41,CN44,CN47,CN50,CN53,CN56,CN59,CN62,CN65,CN68,CN71,CN74,CN77,CN80,CN86,CN89,CN92,CN95,CN98,CN101)","v":0},null,null,null,{"$f":"IF(TRIM(CQ107)=\"\", \"\", IF(VLOOKUP(CQ107,'Footnotes list'!$D$9:$E$58,2,FALSE)=0,\"\",VLOOKUP(CQ107,'Footnotes list'!$D$9:$E$58,2,FALSE) ) )","v":""},{"$f":"SUM(CS8,CS11,CS14,CS17,CS20,CS26,CS29,CS32,CS35,CS38,CS41,CS44,CS47,CS50,CS53,CS56,CS59,CS62,CS65,CS68,CS71,CS74,CS77,CS80,CS86,CS89,CS92,CS95,CS98,CS101)","v":0},null,null,null,{"$f":"IF(TRIM(CV107)=\"\", \"\", IF(VLOOKUP(CV107,'Footnotes list'!$D$9:$E$58,2,FALSE)=0,\"\",VLOOKUP(CV107,'Footnotes list'!$D$9:$E$58,2,FALSE) ) )","v":""},{"$f":"SUM(CX8,CX11,CX14,CX17,CX20,CX26,CX29,CX32,CX35,CX38,CX41,CX44,CX47,CX50,CX53,CX56,CX59,CX62,CX65,CX68,CX71,CX74,CX77,CX80,CX86,CX89,CX92,CX95,CX98,CX101)","v":0},null,null,null,{"$f":"IF(TRIM(DA107)=\"\", \"\", IF(VLOOKUP(DA107,'Footnotes list'!$D$9:$E$58,2,FALSE)=0,\"\",VLOOKUP(DA107,'Footnotes list'!$D$9:$E$58,2,FALSE) ) )","v":""},{"$f":"SUM(DC8,DC11,DC14,DC17,DC20,DC26,DC29,DC32,DC35,DC38,DC41,DC44,DC47,DC50,DC53,DC56,DC59,DC62,DC65,DC68,DC71,DC74,DC77,DC80,DC86,DC89,DC92,DC95,DC98,DC101)","v":0},null,null,null,{"$f":"IF(TRIM(DF107)=\"\", \"\", IF(VLOOKUP(DF107,'Footnotes list'!$D$9:$E$58,2,FALSE)=0,\"\",VLOOKUP(DF107,'Footnotes list'!$D$9:$E$58,2,FALSE) ) )","v":""},{"$f":"SUM(DH8,DH11,DH14,DH17,DH20,DH26,DH29,DH32,DH35,DH38,DH41,DH44,DH47,DH50,DH53,DH56,DH59,DH62,DH65,DH68,DH71,DH74,DH77,DH80,DH86,DH89,DH92,DH95,DH98,DH101)","v":0},null,null,null,{"$f":"IF(TRIM(DK107)=\"\", \"\", IF(VLOOKUP(DK107,'Footnotes list'!$D$9:$E$58,2,FALSE)=0,\"\",VLOOKUP(DK107,'Footnotes list'!$D$9:$E$58,2,FALSE) ) )","v":""}]
[null,null,"PRIM",null,"NHAZ","Non-hazardous",{"$f":"SUM(G9,G12,G15,G18,G21,G27,G30,G33,G36,G39,G42,G45,G48,G51,G54,G57,G60,G63,G66,G69,G72,G75,G78,G81,G87,G90,G93,G96,G99,G102)","v":0},null,null,null,{"$f":"IF(TRIM(J108)=\"\", \"\", IF(VLOOKUP(J108,'Footnotes list'!$D$9:$E$58,2,FALSE)=0,\"\",VLOOKUP(J108,'Footnotes list'!$D$9:$E$58,2,FALSE) ) )","v":""},{"$f":"SUM(L9,L12,L15,L18,L21,L27,L30,L33,L36,L39,L42,L45,L48,L51,L54,L57,L60,L63,L66,L69,L72,L75,L78,L81,L87,L90,L93,L96,L99,L102)","v":0},null,null,null,{"$f":"IF(TRIM(O108)=\"\", \"\", IF(VLOOKUP(O108,'Footnotes list'!$D$9:$E$58,2,FALSE)=0,\"\",VLOOKUP(O108,'Footnotes list'!$D$9:$E$58,2,FALSE) ) )","v":""},{"$f":"SUM(Q9,Q12,Q15,Q18,Q21,Q27,Q30,Q33,Q36,Q39,Q42,Q45,Q48,Q51,Q54,Q57,Q60,Q63,Q66,Q69,Q72,Q75,Q78,Q81,Q87,Q90,Q93,Q96,Q99,Q102)","v":0},null,null,null,{"$f":"IF(TRIM(T108)=\"\", \"\", IF(VLOOKUP(T108,'Footnotes list'!$D$9:$E$58,2,FALSE)=0,\"\",VLOOKUP(T108,'Footnotes list'!$D$9:$E$58,2,FALSE) ) )","v":""},{"$f":"SUM(V9,V12,V15,V18,V21,V27,V30,V33,V36,V39,V42,V45,V48,V51,V54,V57,V60,V63,V66,V69,V72,V75,V78,V81,V87,V90,V93,V96,V99,V102)","v":0},null,null,null,{"$f":"IF(TRIM(Y108)=\"\", \"\", IF(VLOOKUP(Y108,'Footnotes list'!$D$9:$E$58,2,FALSE)=0,\"\",VLOOKUP(Y108,'Footnotes list'!$D$9:$E$58,2,FALSE) ) )","v":""},{"$f":"SUM(AA9,AA12,AA15,AA18,AA21,AA27,AA30,AA33,AA36,AA39,AA42,AA45,AA48,AA51,AA54,AA57,AA60,AA63,AA66,AA69,AA72,AA75,AA78,AA81,AA87,AA90,AA93,AA96,AA99,AA102)","v":0},null,null,null,{"$f":"IF(TRIM(AD108)=\"\", \"\", IF(VLOOKUP(AD108,'Footnotes list'!$D$9:$E$58,2,FALSE)=0,\"\",VLOOKUP(AD108,'Footnotes list'!$D$9:$E$58,2,FALSE) ) )","v":""},{"$f":"SUM(AF9,AF12,AF15,AF18,AF21,AF27,AF30,AF33,AF36,AF39,AF42,AF45,AF48,AF51,AF54,AF57,AF60,AF63,AF66,AF69,AF72,AF75,AF78,AF81,AF87,AF90,AF93,AF96,AF99,AF102)","v":0},null,null,null,{"$f":"IF(TRIM(AI108)=\"\", \"\", IF(VLOOKUP(AI108,'Footnotes list'!$D$9:$E$58,2,FALSE)=0,\"\",VLOOKUP(AI108,'Footnotes list'!$D$9:$E$58,2,FALSE) ) )","v":""},{"$f":"SUM(AK9,AK12,AK15,AK18,AK21,AK27,AK30,AK33,AK36,AK39,AK42,AK45,AK48,AK51,AK54,AK57,AK60,AK63,AK66,AK69,AK72,AK75,AK78,AK81,AK87,AK90,AK93,AK96,AK99,AK102)","v":0},null,null,null,{"$f":"IF(TRIM(AN108)=\"\", \"\", IF(VLOOKUP(AN108,'Footnotes list'!$D$9:$E$58,2,FALSE)=0,\"\",VLOOKUP(AN108,'Footnotes list'!$D$9:$E$58,2,FALSE) ) )","v":""},{"$f":"SUM(AP9,AP12,AP15,AP18,AP21,AP27,AP30,AP33,AP36,AP39,AP42,AP45,AP48,AP51,AP54,AP57,AP60,AP63,AP66,AP69,AP72,AP75,AP78,AP81,AP87,AP90,AP93,AP96,AP99,AP102)","v":0},null,null,null,{"$f":"IF(TRIM(AS108)=\"\", \"\", IF(VLOOKUP(AS108,'Footnotes list'!$D$9:$E$58,2,FALSE)=0,\"\",VLOOKUP(AS108,'Footnotes list'!$D$9:$E$58,2,FALSE) ) )","v":""},{"$f":"SUM(AU9,AU12,AU15,AU18,AU21,AU27,AU30,AU33,AU36,AU39,AU42,AU45,AU48,AU51,AU54,AU57,AU60,AU63,AU66,AU69,AU72,AU75,AU78,AU81,AU87,AU90,AU93,AU96,AU99,AU102)","v":0},null,null,null,{"$f":"IF(TRIM(AX108)=\"\", \"\", IF(VLOOKUP(AX108,'Footnotes list'!$D$9:$E$58,2,FALSE)=0,\"\",VLOOKUP(AX108,'Footnotes list'!$D$9:$E$58,2,FALSE) ) )","v":""},{"$f":"SUM(AZ9,AZ12,AZ15,AZ18,AZ21,AZ27,AZ30,AZ33,AZ36,AZ39,AZ42,AZ45,AZ48,AZ51,AZ54,AZ57,AZ60,AZ63,AZ66,AZ69,AZ72,AZ75,AZ78,AZ81,AZ87,AZ90,AZ93,AZ96,AZ99,AZ102)","v":0},null,null,null,{"$f":"IF(TRIM(BC108)=\"\", \"\", IF(VLOOKUP(BC108,'Footnotes list'!$D$9:$E$58,2,FALSE)=0,\"\",VLOOKUP(BC108,'Footnotes list'!$D$9:$E$58,2,FALSE) ) )","v":""},{"$f":"SUM(BE9,BE12,BE15,BE18,BE21,BE27,BE30,BE33,BE36,BE39,BE42,BE45,BE48,BE51,BE54,BE57,BE60,BE63,BE66,BE69,BE72,BE75,BE78,BE81,BE87,BE90,BE93,BE96,BE99,BE102)","v":0},null,null,null,{"$f":"IF(TRIM(BH108)=\"\", \"\", IF(VLOOKUP(BH108,'Footnotes list'!$D$9:$E$58,2,FALSE)=0,\"\",VLOOKUP(BH108,'Footnotes list'!$D$9:$E$58,2,FALSE) ) )","v":""},{"$f":"SUM(BJ9,BJ12,BJ15,BJ18,BJ21,BJ27,BJ30,BJ33,BJ36,BJ39,BJ42,BJ45,BJ48,BJ51,BJ54,BJ57,BJ60,BJ63,BJ66,BJ69,BJ72,BJ75,BJ78,BJ81,BJ87,BJ90,BJ93,BJ96,BJ99,BJ102)","v":0},null,null,null,{"$f":"IF(TRIM(BM108)=\"\", \"\", IF(VLOOKUP(BM108,'Footnotes list'!$D$9:$E$58,2,FALSE)=0,\"\",VLOOKUP(BM108,'Footnotes list'!$D$9:$E$58,2,FALSE) ) )","v":""},{"$f":"SUM(BO9,BO12,BO15,BO18,BO21,BO27,BO30,BO33,BO36,BO39,BO42,BO45,BO48,BO51,BO54,BO57,BO60,BO63,BO66,BO69,BO72,BO75,BO78,BO81,BO87,BO90,BO93,BO96,BO99,BO102)","v":0},null,null,null,{"$f":"IF(TRIM(BR108)=\"\", \"\", IF(VLOOKUP(BR108,'Footnotes list'!$D$9:$E$58,2,FALSE)=0,\"\",VLOOKUP(BR108,'Footnotes list'!$D$9:$E$58,2,FALSE) ) )","v":""},{"$f":"SUM(BT9,BT12,BT15,BT18,BT21,BT27,BT30,BT33,BT36,BT39,BT42,BT45,BT48,BT51,BT54,BT57,BT60,BT63,BT66,BT69,BT72,BT75,BT78,BT81,BT87,BT90,BT93,BT96,BT99,BT102)","v":0},null,null,null,{"$f":"IF(TRIM(BW108)=\"\", \"\", IF(VLOOKUP(BW108,'Footnotes list'!$D$9:$E$58,2,FALSE)=0,\"\",VLOOKUP(BW108,'Footnotes list'!$D$9:$E$58,2,FALSE) ) )","v":""},{"$f":"SUM(BY9,BY12,BY15,BY18,BY21,BY27,BY30,BY33,BY36,BY39,BY42,BY45,BY48,BY51,BY54,BY57,BY60,BY63,BY66,BY69,BY72,BY75,BY78,BY81,BY87,BY90,BY93,BY96,BY99,BY102)","v":0},null,null,null,{"$f":"IF(TRIM(CB108)=\"\", \"\", IF(VLOOKUP(CB108,'Footnotes list'!$D$9:$E$58,2,FALSE)=0,\"\",VLOOKUP(CB108,'Footnotes list'!$D$9:$E$58,2,FALSE) ) )","v":""},{"$f":"SUM(CD9,CD12,CD15,CD18,CD21,CD27,CD30,CD33,CD36,CD39,CD42,CD45,CD48,CD51,CD54,CD57,CD60,CD63,CD66,CD69,CD72,CD75,CD78,CD81,CD87,CD90,CD93,CD96,CD99,CD102)","v":0},null,null,null,{"$f":"IF(TRIM(CG108)=\"\", \"\", IF(VLOOKUP(CG108,'Footnotes list'!$D$9:$E$58,2,FALSE)=0,\"\",VLOOKUP(CG108,'Footnotes list'!$D$9:$E$58,2,FALSE) ) )","v":""},{"$f":"SUM(CI9,CI12,CI15,CI18,CI21,CI27,CI30,CI33,CI36,CI39,CI42,CI45,CI48,CI51,CI54,CI57,CI60,CI63,CI66,CI69,CI72,CI75,CI78,CI81,CI87,CI90,CI93,CI96,CI99,CI102)","v":0},null,null,null,{"$f":"IF(TRIM(CL108)=\"\", \"\", IF(VLOOKUP(CL108,'Footnotes list'!$D$9:$E$58,2,FALSE)=0,\"\",VLOOKUP(CL108,'Footnotes list'!$D$9:$E$58,2,FALSE) ) )","v":""},{"$f":"SUM(CN9,CN12,CN15,CN18,CN21,CN27,CN30,CN33,CN36,CN39,CN42,CN45,CN48,CN51,CN54,CN57,CN60,CN63,CN66,CN69,CN72,CN75,CN78,CN81,CN87,CN90,CN93,CN96,CN99,CN102)","v":0},null,null,null,{"$f":"IF(TRIM(CQ108)=\"\", \"\", IF(VLOOKUP(CQ108,'Footnotes list'!$D$9:$E$58,2,FALSE)=0,\"\",VLOOKUP(CQ108,'Footnotes list'!$D$9:$E$58,2,FALSE) ) )","v":""},{"$f":"SUM(CS9,CS12,CS15,CS18,CS21,CS27,CS30,CS33,CS36,CS39,CS42,CS45,CS48,CS51,CS54,CS57,CS60,CS63,CS66,CS69,CS72,CS75,CS78,CS81,CS87,CS90,CS93,CS96,CS99,CS102)","v":0},null,null,null,{"$f":"IF(TRIM(CV108)=\"\", \"\", IF(VLOOKUP(CV108,'Footnotes list'!$D$9:$E$58,2,FALSE)=0,\"\",VLOOKUP(CV108,'Footnotes list'!$D$9:$E$58,2,FALSE) ) )","v":""},{"$f":"SUM(CX9,CX12,CX15,CX18,CX21,CX27,CX30,CX33,CX36,CX39,CX42,CX45,CX48,CX51,CX54,CX57,CX60,CX63,CX66,CX69,CX72,CX75,CX78,CX81,CX87,CX90,CX93,CX96,CX99,CX102)","v":0},null,null,null,{"$f":"IF(TRIM(DA108)=\"\", \"\", IF(VLOOKUP(DA108,'Footnotes list'!$D$9:$E$58,2,FALSE)=0,\"\",VLOOKUP(DA108,'Footnotes list'!$D$9:$E$58,2,FALSE) ) )","v":""},{"$f":"SUM(DC9,DC12,DC15,DC18,DC21,DC27,DC30,DC33,DC36,DC39,DC42,DC45,DC48,DC51,DC54,DC57,DC60,DC63,DC66,DC69,DC72,DC75,DC78,DC81,DC87,DC90,DC93,DC96,DC99,DC102)","v":0},null,null,null,{"$f":"IF(TRIM(DF108)=\"\", \"\", IF(VLOOKUP(DF108,'Footnotes list'!$D$9:$E$58,2,FALSE)=0,\"\",VLOOKUP(DF108,'Footnotes list'!$D$9:$E$58,2,FALSE) ) )","v":""},{"$f":"SUM(DH9,DH12,DH15,DH18,DH21,DH27,DH30,DH33,DH36,DH39,DH42,DH45,DH48,DH51,DH54,DH57,DH60,DH63,DH66,DH69,DH72,DH75,DH78,DH81,DH87,DH90,DH93,DH96,DH99,DH102)","v":0},null,null,null,{"$f":"IF(TRIM(DK108)=\"\", \"\", IF(VLOOKUP(DK108,'Footnotes list'!$D$9:$E$58,2,FALSE)=0,\"\",VLOOKUP(DK108,'Footnotes list'!$D$9:$E$58,2,FALSE) ) )","v":""}]
[null,null,"PRIM",null,"HAZ_NHAZ","Total",0,null,null,null,{"$f":"IF(TRIM(J109)=\"\", \"\", IF(VLOOKUP(J109,'Footnotes list'!$D$9:$E$58,2,FALSE)=0,\"\",VLOOKUP(J109,'Footnotes list'!$D$9:$E$58,2,FALSE) ) )","v":""},0,null,null,null,{"$f":"IF(TRIM(O109)=\"\", \"\", IF(VLOOKUP(O109,'Footnotes list'!$D$9:$E$58,2,FALSE)=0,\"\",VLOOKUP(O109,'Footnotes list'!$D$9:$E$58,2,FALSE) ) )","v":""},0,null,null,null,{"$f":"IF(TRIM(T109)=\"\", \"\", IF(VLOOKUP(T109,'Footnotes list'!$D$9:$E$58,2,FALSE)=0,\"\",VLOOKUP(T109,'Footnotes list'!$D$9:$E$58,2,FALSE) ) )","v":""},0,null,null,null,{"$f":"IF(TRIM(Y109)=\"\", \"\", IF(VLOOKUP(Y109,'Footnotes list'!$D$9:$E$58,2,FALSE)=0,\"\",VLOOKUP(Y109,'Footnotes list'!$D$9:$E$58,2,FALSE) ) )","v":""},0,null,null,null,{"$f":"IF(TRIM(AD109)=\"\", \"\", IF(VLOOKUP(AD109,'Footnotes list'!$D$9:$E$58,2,FALSE)=0,\"\",VLOOKUP(AD109,'Footnotes list'!$D$9:$E$58,2,FALSE) ) )","v":""},0,null,null,null,{"$f":"IF(TRIM(AI109)=\"\", \"\", IF(VLOOKUP(AI109,'Footnotes list'!$D$9:$E$58,2,FALSE)=0,\"\",VLOOKUP(AI109,'Footnotes list'!$D$9:$E$58,2,FALSE) ) )","v":""},0,null,null,null,{"$f":"IF(TRIM(AN109)=\"\", \"\", IF(VLOOKUP(AN109,'Footnotes list'!$D$9:$E$58,2,FALSE)=0,\"\",VLOOKUP(AN109,'Footnotes list'!$D$9:$E$58,2,FALSE) ) )","v":""},0,null,null,null,{"$f":"IF(TRIM(AS109)=\"\", \"\", IF(VLOOKUP(AS109,'Footnotes list'!$D$9:$E$58,2,FALSE)=0,\"\",VLOOKUP(AS109,'Footnotes list'!$D$9:$E$58,2,FALSE) ) )","v":""},0,null,null,null,{"$f":"IF(TRIM(AX109)=\"\", \"\", IF(VLOOKUP(AX109,'Footnotes list'!$D$9:$E$58,2,FALSE)=0,\"\",VLOOKUP(AX109,'Footnotes list'!$D$9:$E$58,2,FALSE) ) )","v":""},0,null,null,null,{"$f":"IF(TRIM(BC109)=\"\", \"\", IF(VLOOKUP(BC109,'Footnotes list'!$D$9:$E$58,2,FALSE)=0,\"\",VLOOKUP(BC109,'Footnotes list'!$D$9:$E$58,2,FALSE) ) )","v":""},0,null,null,null,{"$f":"IF(TRIM(BH109)=\"\", \"\", IF(VLOOKUP(BH109,'Footnotes list'!$D$9:$E$58,2,FALSE)=0,\"\",VLOOKUP(BH109,'Footnotes list'!$D$9:$E$58,2,FALSE) ) )","v":""},0,null,null,null,{"$f":"IF(TRIM(BM109)=\"\", \"\", IF(VLOOKUP(BM109,'Footnotes list'!$D$9:$E$58,2,FALSE)=0,\"\",VLOOKUP(BM109,'Footnotes list'!$D$9:$E$58,2,FALSE) ) )","v":""},0,null,null,null,{"$f":"IF(TRIM(BR109)=\"\", \"\", IF(VLOOKUP(BR109,'Footnotes list'!$D$9:$E$58,2,FALSE)=0,\"\",VLOOKUP(BR109,'Footnotes list'!$D$9:$E$58,2,FALSE) ) )","v":""},0,null,null,null,{"$f":"IF(TRIM(BW109)=\"\", \"\", IF(VLOOKUP(BW109,'Footnotes list'!$D$9:$E$58,2,FALSE)=0,\"\",VLOOKUP(BW109,'Footnotes list'!$D$9:$E$58,2,FALSE) ) )","v":""},0,null,null,null,{"$f":"IF(TRIM(CB109)=\"\", \"\", IF(VLOOKUP(CB109,'Footnotes list'!$D$9:$E$58,2,FALSE)=0,\"\",VLOOKUP(CB109,'Footnotes list'!$D$9:$E$58,2,FALSE) ) )","v":""},0,null,null,null,{"$f":"IF(TRIM(CG109)=\"\", \"\", IF(VLOOKUP(CG109,'Footnotes list'!$D$9:$E$58,2,FALSE)=0,\"\",VLOOKUP(CG109,'Footnotes list'!$D$9:$E$58,2,FALSE) ) )","v":""},0,null,null,null,{"$f":"IF(TRIM(CL109)=\"\", \"\", IF(VLOOKUP(CL109,'Footnotes list'!$D$9:$E$58,2,FALSE)=0,\"\",VLOOKUP(CL109,'Footnotes list'!$D$9:$E$58,2,FALSE) ) )","v":""},0,null,null,null,{"$f":"IF(TRIM(CQ109)=\"\", \"\", IF(VLOOKUP(CQ109,'Footnotes list'!$D$9:$E$58,2,FALSE)=0,\"\",VLOOKUP(CQ109,'Footnotes list'!$D$9:$E$58,2,FALSE) ) )","v":""},0,null,null,null,{"$f":"IF(TRIM(CV109)=\"\", \"\", IF(VLOOKUP(CV109,'Footnotes list'!$D$9:$E$58,2,FALSE)=0,\"\",VLOOKUP(CV109,'Footnotes list'!$D$9:$E$58,2,FALSE) ) )","v":""},0,null,null,null,{"$f":"IF(TRIM(DA109)=\"\", \"\", IF(VLOOKUP(DA109,'Footnotes list'!$D$9:$E$58,2,FALSE)=0,\"\",VLOOKUP(DA109,'Footnotes list'!$D$9:$E$58,2,FALSE) ) )","v":""},0,null,null,null,{"$f":"IF(TRIM(DF109)=\"\", \"\", IF(VLOOKUP(DF109,'Footnotes list'!$D$9:$E$58,2,FALSE)=0,\"\",VLOOKUP(DF109,'Footnotes list'!$D$9:$E$58,2,FALSE) ) )","v":""},0,null,null,null,{"$f":"IF(TRIM(DK109)=\"\", \"\", IF(VLOOKUP(DK109,'Footnotes list'!$D$9:$E$58,2,FALSE)=0,\"\",VLOOKUP(DK109,'Footnotes list'!$D$9:$E$58,2,FALSE) ) )","v":""}]
[null,"SEC","SEC","Secondary Waste ","HAZ","Hazardous ",{"$f":"SUM(G23,G83,G104)","v":0},null,null,null,{"$f":"IF(TRIM(J110)=\"\", \"\", IF(VLOOKUP(J110,'Footnotes list'!$D$9:$E$58,2,FALSE)=0,\"\",VLOOKUP(J110,'Footnotes list'!$D$9:$E$58,2,FALSE) ) )","v":""},{"$f":"SUM(L23,L83,L104)","v":0},null,null,null,{"$f":"IF(TRIM(O110)=\"\", \"\", IF(VLOOKUP(O110,'Footnotes list'!$D$9:$E$58,2,FALSE)=0,\"\",VLOOKUP(O110,'Footnotes list'!$D$9:$E$58,2,FALSE) ) )","v":""},{"$f":"SUM(Q23,Q83,Q104)","v":0},null,null,null,{"$f":"IF(TRIM(T110)=\"\", \"\", IF(VLOOKUP(T110,'Footnotes list'!$D$9:$E$58,2,FALSE)=0,\"\",VLOOKUP(T110,'Footnotes list'!$D$9:$E$58,2,FALSE) ) )","v":""},{"$f":"SUM(V23,V83,V104)","v":0},null,null,null,{"$f":"IF(TRIM(Y110)=\"\", \"\", IF(VLOOKUP(Y110,'Footnotes list'!$D$9:$E$58,2,FALSE)=0,\"\",VLOOKUP(Y110,'Footnotes list'!$D$9:$E$58,2,FALSE) ) )","v":""},{"$f":"SUM(AA23,AA83,AA104)","v":0},null,null,null,{"$f":"IF(TRIM(AD110)=\"\", \"\", IF(VLOOKUP(AD110,'Footnotes list'!$D$9:$E$58,2,FALSE)=0,\"\",VLOOKUP(AD110,'Footnotes list'!$D$9:$E$58,2,FALSE) ) )","v":""},{"$f":"SUM(AF23,AF83,AF104)","v":0},null,null,null,{"$f":"IF(TRIM(AI110)=\"\", \"\", IF(VLOOKUP(AI110,'Footnotes list'!$D$9:$E$58,2,FALSE)=0,\"\",VLOOKUP(AI110,'Footnotes list'!$D$9:$E$58,2,FALSE) ) )","v":""},{"$f":"SUM(AK23,AK83,AK104)","v":0},null,null,null,{"$f":"IF(TRIM(AN110)=\"\", \"\", IF(VLOOKUP(AN110,'Footnotes list'!$D$9:$E$58,2,FALSE)=0,\"\",VLOOKUP(AN110,'Footnotes list'!$D$9:$E$58,2,FALSE) ) )","v":""},{"$f":"SUM(AP23,AP83,AP104)","v":0},null,null,null,{"$f":"IF(TRIM(AS110)=\"\", \"\", IF(VLOOKUP(AS110,'Footnotes list'!$D$9:$E$58,2,FALSE)=0,\"\",VLOOKUP(AS110,'Footnotes list'!$D$9:$E$58,2,FALSE) ) )","v":""},{"$f":"SUM(AU23,AU83,AU104)","v":0},null,null,null,{"$f":"IF(TRIM(AX110)=\"\", \"\", IF(VLOOKUP(AX110,'Footnotes list'!$D$9:$E$58,2,FALSE)=0,\"\",VLOOKUP(AX110,'Footnotes list'!$D$9:$E$58,2,FALSE) ) )","v":""},{"$f":"SUM(AZ23,AZ83,AZ104)","v":0},null,null,null,{"$f":"IF(TRIM(BC110)=\"\", \"\", IF(VLOOKUP(BC110,'Footnotes list'!$D$9:$E$58,2,FALSE)=0,\"\",VLOOKUP(BC110,'Footnotes list'!$D$9:$E$58,2,FALSE) ) )","v":""},{"$f":"SUM(BE23,BE83,BE104)","v":0},null,null,null,{"$f":"IF(TRIM(BH110)=\"\", \"\", IF(VLOOKUP(BH110,'Footnotes list'!$D$9:$E$58,2,FALSE)=0,\"\",VLOOKUP(BH110,'Footnotes list'!$D$9:$E$58,2,FALSE) ) )","v":""},{"$f":"SUM(BJ23,BJ83,BJ104)","v":0},null,null,null,{"$f":"IF(TRIM(BM110)=\"\", \"\", IF(VLOOKUP(BM110,'Footnotes list'!$D$9:$E$58,2,FALSE)=0,\"\",VLOOKUP(BM110,'Footnotes list'!$D$9:$E$58,2,FALSE) ) )","v":""},{"$f":"SUM(BO23,BO83,BO104)","v":0},null,null,null,{"$f":"IF(TRIM(BR110)=\"\", \"\", IF(VLOOKUP(BR110,'Footnotes list'!$D$9:$E$58,2,FALSE)=0,\"\",VLOOKUP(BR110,'Footnotes list'!$D$9:$E$58,2,FALSE) ) )","v":""},{"$f":"SUM(BT23,BT83,BT104)","v":0},null,null,null,{"$f":"IF(TRIM(BW110)=\"\", \"\", IF(VLOOKUP(BW110,'Footnotes list'!$D$9:$E$58,2,FALSE)=0,\"\",VLOOKUP(BW110,'Footnotes list'!$D$9:$E$58,2,FALSE) ) )","v":""},{"$f":"SUM(BY23,BY83,BY104)","v":0},null,null,null,{"$f":"IF(TRIM(CB110)=\"\", \"\", IF(VLOOKUP(CB110,'Footnotes list'!$D$9:$E$58,2,FALSE)=0,\"\",VLOOKUP(CB110,'Footnotes list'!$D$9:$E$58,2,FALSE) ) )","v":""},{"$f":"SUM(CD23,CD83,CD104)","v":0},null,null,null,{"$f":"IF(TRIM(CG110)=\"\", \"\", IF(VLOOKUP(CG110,'Footnotes list'!$D$9:$E$58,2,FALSE)=0,\"\",VLOOKUP(CG110,'Footnotes list'!$D$9:$E$58,2,FALSE) ) )","v":""},{"$f":"SUM(CI23,CI83,CI104)","v":0},null,null,null,{"$f":"IF(TRIM(CL110)=\"\", \"\", IF(VLOOKUP(CL110,'Footnotes list'!$D$9:$E$58,2,FALSE)=0,\"\",VLOOKUP(CL110,'Footnotes list'!$D$9:$E$58,2,FALSE) ) )","v":""},{"$f":"SUM(CN23,CN83,CN104)","v":0},null,null,null,{"$f":"IF(TRIM(CQ110)=\"\", \"\", IF(VLOOKUP(CQ110,'Footnotes list'!$D$9:$E$58,2,FALSE)=0,\"\",VLOOKUP(CQ110,'Footnotes list'!$D$9:$E$58,2,FALSE) ) )","v":""},{"$f":"SUM(CS23,CS83,CS104)","v":0},null,null,null,{"$f":"IF(TRIM(CV110)=\"\", \"\", IF(VLOOKUP(CV110,'Footnotes list'!$D$9:$E$58,2,FALSE)=0,\"\",VLOOKUP(CV110,'Footnotes list'!$D$9:$E$58,2,FALSE) ) )","v":""},{"$f":"SUM(CX23,CX83,CX104)","v":0},null,null,null,{"$f":"IF(TRIM(DA110)=\"\", \"\", IF(VLOOKUP(DA110,'Footnotes list'!$D$9:$E$58,2,FALSE)=0,\"\",VLOOKUP(DA110,'Footnotes list'!$D$9:$E$58,2,FALSE) ) )","v":""},{"$f":"SUM(DC23,DC83,DC104)","v":0},null,null,null,{"$f":"IF(TRIM(DF110)=\"\", \"\", IF(VLOOKUP(DF110,'Footnotes list'!$D$9:$E$58,2,FALSE)=0,\"\",VLOOKUP(DF110,'Footnotes list'!$D$9:$E$58,2,FALSE) ) )","v":""},{"$f":"SUM(DH23,DH83,DH104)","v":0},null,null,null,{"$f":"IF(TRIM(DK110)=\"\", \"\", IF(VLOOKUP(DK110,'Footnotes list'!$D$9:$E$58,2,FALSE)=0,\"\",VLOOKUP(DK110,'Footnotes list'!$D$9:$E$58,2,FALSE) ) )","v":""}]
[null,null,"SEC",null,"NHAZ","Non-hazardous",{"$f":"SUM(G24,G84,G105)","v":0},null,null,null,{"$f":"IF(TRIM(J111)=\"\", \"\", IF(VLOOKUP(J111,'Footnotes list'!$D$9:$E$58,2,FALSE)=0,\"\",VLOOKUP(J111,'Footnotes list'!$D$9:$E$58,2,FALSE) ) )","v":""},{"$f":"SUM(L24,L84,L105)","v":0},null,null,null,{"$f":"IF(TRIM(O111)=\"\", \"\", IF(VLOOKUP(O111,'Footnotes list'!$D$9:$E$58,2,FALSE)=0,\"\",VLOOKUP(O111,'Footnotes list'!$D$9:$E$58,2,FALSE) ) )","v":""},{"$f":"SUM(Q24,Q84,Q105)","v":0},null,null,null,{"$f":"IF(TRIM(T111)=\"\", \"\", IF(VLOOKUP(T111,'Footnotes list'!$D$9:$E$58,2,FALSE)=0,\"\",VLOOKUP(T111,'Footnotes list'!$D$9:$E$58,2,FALSE) ) )","v":""},{"$f":"SUM(V24,V84,V105)","v":0},null,null,null,{"$f":"IF(TRIM(Y111)=\"\", \"\", IF(VLOOKUP(Y111,'Footnotes list'!$D$9:$E$58,2,FALSE)=0,\"\",VLOOKUP(Y111,'Footnotes list'!$D$9:$E$58,2,FALSE) ) )","v":""},{"$f":"SUM(AA24,AA84,AA105)","v":0},null,null,null,{"$f":"IF(TRIM(AD111)=\"\", \"\", IF(VLOOKUP(AD111,'Footnotes list'!$D$9:$E$58,2,FALSE)=0,\"\",VLOOKUP(AD111,'Footnotes list'!$D$9:$E$58,2,FALSE) ) )","v":""},{"$f":"SUM(AF24,AF84,AF105)","v":0},null,null,null,{"$f":"IF(TRIM(AI111)=\"\", \"\", IF(VLOOKUP(AI111,'Footnotes list'!$D$9:$E$58,2,FALSE)=0,\"\",VLOOKUP(AI111,'Footnotes list'!$D$9:$E$58,2,FALSE) ) )","v":""},{"$f":"SUM(AK24,AK84,AK105)","v":0},null,null,null,{"$f":"IF(TRIM(AN111)=\"\", \"\", IF(VLOOKUP(AN111,'Footnotes list'!$D$9:$E$58,2,FALSE)=0,\"\",VLOOKUP(AN111,'Footnotes list'!$D$9:$E$58,2,FALSE) ) )","v":""},{"$f":"SUM(AP24,AP84,AP105)","v":0},null,null,null,{"$f":"IF(TRIM(AS111)=\"\", \"\", IF(VLOOKUP(AS111,'Footnotes list'!$D$9:$E$58,2,FALSE)=0,\"\",VLOOKUP(AS111,'Footnotes list'!$D$9:$E$58,2,FALSE) ) )","v":""},{"$f":"SUM(AU24,AU84,AU105)","v":0},null,null,null,{"$f":"IF(TRIM(AX111)=\"\", \"\", IF(VLOOKUP(AX111,'Footnotes list'!$D$9:$E$58,2,FALSE)=0,\"\",VLOOKUP(AX111,'Footnotes list'!$D$9:$E$58,2,FALSE) ) )","v":""},{"$f":"SUM(AZ24,AZ84,AZ105)","v":0},null,null,null,{"$f":"IF(TRIM(BC111)=\"\", \"\", IF(VLOOKUP(BC111,'Footnotes list'!$D$9:$E$58,2,FALSE)=0,\"\",VLOOKUP(BC111,'Footnotes list'!$D$9:$E$58,2,FALSE) ) )","v":""},{"$f":"SUM(BE24,BE84,BE105)","v":0},null,null,null,{"$f":"IF(TRIM(BH111)=\"\", \"\", IF(VLOOKUP(BH111,'Footnotes list'!$D$9:$E$58,2,FALSE)=0,\"\",VLOOKUP(BH111,'Footnotes list'!$D$9:$E$58,2,FALSE) ) )","v":""},{"$f":"SUM(BJ24,BJ84,BJ105)","v":0},null,null,null,{"$f":"IF(TRIM(BM111)=\"\", \"\", IF(VLOOKUP(BM111,'Footnotes list'!$D$9:$E$58,2,FALSE)=0,\"\",VLOOKUP(BM111,'Footnotes list'!$D$9:$E$58,2,FALSE) ) )","v":""},{"$f":"SUM(BO24,BO84,BO105)","v":0},null,null,null,{"$f":"IF(TRIM(BR111)=\"\", \"\", IF(VLOOKUP(BR111,'Footnotes list'!$D$9:$E$58,2,FALSE)=0,\"\",VLOOKUP(BR111,'Footnotes list'!$D$9:$E$58,2,FALSE) ) )","v":""},{"$f":"SUM(BT24,BT84,BT105)","v":0},null,null,null,{"$f":"IF(TRIM(BW111)=\"\", \"\", IF(VLOOKUP(BW111,'Footnotes list'!$D$9:$E$58,2,FALSE)=0,\"\",VLOOKUP(BW111,'Footnotes list'!$D$9:$E$58,2,FALSE) ) )","v":""},{"$f":"SUM(BY24,BY84,BY105)","v":0},null,null,null,{"$f":"IF(TRIM(CB111)=\"\", \"\", IF(VLOOKUP(CB111,'Footnotes list'!$D$9:$E$58,2,FALSE)=0,\"\",VLOOKUP(CB111,'Footnotes list'!$D$9:$E$58,2,FALSE) ) )","v":""},{"$f":"SUM(CD24,CD84,CD105)","v":0},null,null,null,{"$f":"IF(TRIM(CG111)=\"\", \"\", IF(VLOOKUP(CG111,'Footnotes list'!$D$9:$E$58,2,FALSE)=0,\"\",VLOOKUP(CG111,'Footnotes list'!$D$9:$E$58,2,FALSE) ) )","v":""},{"$f":"SUM(CI24,CI84,CI105)","v":0},null,null,null,{"$f":"IF(TRIM(CL111)=\"\", \"\", IF(VLOOKUP(CL111,'Footnotes list'!$D$9:$E$58,2,FALSE)=0,\"\",VLOOKUP(CL111,'Footnotes list'!$D$9:$E$58,2,FALSE) ) )","v":""},{"$f":"SUM(CN24,CN84,CN105)","v":0},null,null,null,{"$f":"IF(TRIM(CQ111)=\"\", \"\", IF(VLOOKUP(CQ111,'Footnotes list'!$D$9:$E$58,2,FALSE)=0,\"\",VLOOKUP(CQ111,'Footnotes list'!$D$9:$E$58,2,FALSE) ) )","v":""},{"$f":"SUM(CS24,CS84,CS105)","v":0},null,null,null,{"$f":"IF(TRIM(CV111)=\"\", \"\", IF(VLOOKUP(CV111,'Footnotes list'!$D$9:$E$58,2,FALSE)=0,\"\",VLOOKUP(CV111,'Footnotes list'!$D$9:$E$58,2,FALSE) ) )","v":""},{"$f":"SUM(CX24,CX84,CX105)","v":0},null,null,null,{"$f":"IF(TRIM(DA111)=\"\", \"\", IF(VLOOKUP(DA111,'Footnotes list'!$D$9:$E$58,2,FALSE)=0,\"\",VLOOKUP(DA111,'Footnotes list'!$D$9:$E$58,2,FALSE) ) )","v":""},{"$f":"SUM(DC24,DC84,DC105)","v":0},null,null,null,{"$f":"IF(TRIM(DF111)=\"\", \"\", IF(VLOOKUP(DF111,'Footnotes list'!$D$9:$E$58,2,FALSE)=0,\"\",VLOOKUP(DF111,'Footnotes list'!$D$9:$E$58,2,FALSE) ) )","v":""},{"$f":"SUM(DH24,DH84,DH105)","v":0},null,null,null,{"$f":"IF(TRIM(DK111)=\"\", \"\", IF(VLOOKUP(DK111,'Footnotes list'!$D$9:$E$58,2,FALSE)=0,\"\",VLOOKUP(DK111,'Footnotes list'!$D$9:$E$58,2,FALSE) ) )","v":""}]
[null,null,"SEC",null,"HAZ_NHAZ","Total",0,null,null,null,{"$f":"IF(TRIM(J112)=\"\", \"\", IF(VLOOKUP(J112,'Footnotes list'!$D$9:$E$58,2,FALSE)=0,\"\",VLOOKUP(J112,'Footnotes list'!$D$9:$E$58,2,FALSE) ) )","v":""},0,null,null,null,{"$f":"IF(TRIM(O112)=\"\", \"\", IF(VLOOKUP(O112,'Footnotes list'!$D$9:$E$58,2,FALSE)=0,\"\",VLOOKUP(O112,'Footnotes list'!$D$9:$E$58,2,FALSE) ) )","v":""},0,null,null,null,{"$f":"IF(TRIM(T112)=\"\", \"\", IF(VLOOKUP(T112,'Footnotes list'!$D$9:$E$58,2,FALSE)=0,\"\",VLOOKUP(T112,'Footnotes list'!$D$9:$E$58,2,FALSE) ) )","v":""},0,null,null,null,{"$f":"IF(TRIM(Y112)=\"\", \"\", IF(VLOOKUP(Y112,'Footnotes list'!$D$9:$E$58,2,FALSE)=0,\"\",VLOOKUP(Y112,'Footnotes list'!$D$9:$E$58,2,FALSE) ) )","v":""},0,null,null,null,{"$f":"IF(TRIM(AD112)=\"\", \"\", IF(VLOOKUP(AD112,'Footnotes list'!$D$9:$E$58,2,FALSE)=0,\"\",VLOOKUP(AD112,'Footnotes list'!$D$9:$E$58,2,FALSE) ) )","v":""},0,null,null,null,{"$f":"IF(TRIM(AI112)=\"\", \"\", IF(VLOOKUP(AI112,'Footnotes list'!$D$9:$E$58,2,FALSE)=0,\"\",VLOOKUP(AI112,'Footnotes list'!$D$9:$E$58,2,FALSE) ) )","v":""},0,null,null,null,{"$f":"IF(TRIM(AN112)=\"\", \"\", IF(VLOOKUP(AN112,'Footnotes list'!$D$9:$E$58,2,FALSE)=0,\"\",VLOOKUP(AN112,'Footnotes list'!$D$9:$E$58,2,FALSE) ) )","v":""},0,null,null,null,{"$f":"IF(TRIM(AS112)=\"\", \"\", IF(VLOOKUP(AS112,'Footnotes list'!$D$9:$E$58,2,FALSE)=0,\"\",VLOOKUP(AS112,'Footnotes list'!$D$9:$E$58,2,FALSE) ) )","v":""},0,null,null,null,{"$f":"IF(TRIM(AX112)=\"\", \"\", IF(VLOOKUP(AX112,'Footnotes list'!$D$9:$E$58,2,FALSE)=0,\"\",VLOOKUP(AX112,'Footnotes list'!$D$9:$E$58,2,FALSE) ) )","v":""},0,null,null,null,{"$f":"IF(TRIM(BC112)=\"\", \"\", IF(VLOOKUP(BC112,'Footnotes list'!$D$9:$E$58,2,FALSE)=0,\"\",VLOOKUP(BC112,'Footnotes list'!$D$9:$E$58,2,FALSE) ) )","v":""},0,null,null,null,{"$f":"IF(TRIM(BH112)=\"\", \"\", IF(VLOOKUP(BH112,'Footnotes list'!$D$9:$E$58,2,FALSE)=0,\"\",VLOOKUP(BH112,'Footnotes list'!$D$9:$E$58,2,FALSE) ) )","v":""},0,null,null,null,{"$f":"IF(TRIM(BM112)=\"\", \"\", IF(VLOOKUP(BM112,'Footnotes list'!$D$9:$E$58,2,FALSE)=0,\"\",VLOOKUP(BM112,'Footnotes list'!$D$9:$E$58,2,FALSE) ) )","v":""},0,null,null,null,{"$f":"IF(TRIM(BR112)=\"\", \"\", IF(VLOOKUP(BR112,'Footnotes list'!$D$9:$E$58,2,FALSE)=0,\"\",VLOOKUP(BR112,'Footnotes list'!$D$9:$E$58,2,FALSE) ) )","v":""},0,null,null,null,{"$f":"IF(TRIM(BW112)=\"\", \"\", IF(VLOOKUP(BW112,'Footnotes list'!$D$9:$E$58,2,FALSE)=0,\"\",VLOOKUP(BW112,'Footnotes list'!$D$9:$E$58,2,FALSE) ) )","v":""},0,null,null,null,{"$f":"IF(TRIM(CB112)=\"\", \"\", IF(VLOOKUP(CB112,'Footnotes list'!$D$9:$E$58,2,FALSE)=0,\"\",VLOOKUP(CB112,'Footnotes list'!$D$9:$E$58,2,FALSE) ) )","v":""},0,null,null,null,{"$f":"IF(TRIM(CG112)=\"\", \"\", IF(VLOOKUP(CG112,'Footnotes list'!$D$9:$E$58,2,FALSE)=0,\"\",VLOOKUP(CG112,'Footnotes list'!$D$9:$E$58,2,FALSE) ) )","v":""},0,null,null,null,{"$f":"IF(TRIM(CL112)=\"\", \"\", IF(VLOOKUP(CL112,'Footnotes list'!$D$9:$E$58,2,FALSE)=0,\"\",VLOOKUP(CL112,'Footnotes list'!$D$9:$E$58,2,FALSE) ) )","v":""},0,null,null,null,{"$f":"IF(TRIM(CQ112)=\"\", \"\", IF(VLOOKUP(CQ112,'Footnotes list'!$D$9:$E$58,2,FALSE)=0,\"\",VLOOKUP(CQ112,'Footnotes list'!$D$9:$E$58,2,FALSE) ) )","v":""},0,null,null,null,{"$f":"IF(TRIM(CV112)=\"\", \"\", IF(VLOOKUP(CV112,'Footnotes list'!$D$9:$E$58,2,FALSE)=0,\"\",VLOOKUP(CV112,'Footnotes list'!$D$9:$E$58,2,FALSE) ) )","v":""},0,null,null,null,{"$f":"IF(TRIM(DA112)=\"\", \"\", IF(VLOOKUP(DA112,'Footnotes list'!$D$9:$E$58,2,FALSE)=0,\"\",VLOOKUP(DA112,'Footnotes list'!$D$9:$E$58,2,FALSE) ) )","v":""},0,null,null,null,{"$f":"IF(TRIM(DF112)=\"\", \"\", IF(VLOOKUP(DF112,'Footnotes list'!$D$9:$E$58,2,FALSE)=0,\"\",VLOOKUP(DF112,'Footnotes list'!$D$9:$E$58,2,FALSE) ) )","v":""},0,null,null,null,{"$f":"IF(TRIM(DK112)=\"\", \"\", IF(VLOOKUP(DK112,'Footnotes list'!$D$9:$E$58,2,FALSE)=0,\"\",VLOOKUP(DK112,'Footnotes list'!$D$9:$E$58,2,FALSE) ) )","v":""}]
[null,"TOT_X_MIN","TOT_X_MIN","Total Waste (excluding mineral waste)","HAZ","Hazardous ",{"$f":"SUM(G8,G11,G14,G17,G20,G23,G26,G29,G32,G35,G38,G41,G44,G47,G50,G53,G56,G59,G62,G65,G68,G71,G74,G77,G80,G83,G86,G95,G104)","v":0},null,null,null,{"$f":"IF(TRIM(J113)=\"\", \"\", IF(VLOOKUP(J113,'Footnotes list'!$D$9:$E$58,2,FALSE)=0,\"\",VLOOKUP(J113,'Footnotes list'!$D$9:$E$58,2,FALSE) ) )","v":""},{"$f":"SUM(L8,L11,L14,L17,L20,L23,L26,L29,L32,L35,L38,L41,L44,L47,L50,L53,L56,L59,L62,L65,L68,L71,L74,L77,L80,L83,L86,L95,L104)","v":0},null,null,null,{"$f":"IF(TRIM(O113)=\"\", \"\", IF(VLOOKUP(O113,'Footnotes list'!$D$9:$E$58,2,FALSE)=0,\"\",VLOOKUP(O113,'Footnotes list'!$D$9:$E$58,2,FALSE) ) )","v":""},{"$f":"SUM(Q8,Q11,Q14,Q17,Q20,Q23,Q26,Q29,Q32,Q35,Q38,Q41,Q44,Q47,Q50,Q53,Q56,Q59,Q62,Q65,Q68,Q71,Q74,Q77,Q80,Q83,Q86,Q95,Q104)","v":0},null,null,null,{"$f":"IF(TRIM(T113)=\"\", \"\", IF(VLOOKUP(T113,'Footnotes list'!$D$9:$E$58,2,FALSE)=0,\"\",VLOOKUP(T113,'Footnotes list'!$D$9:$E$58,2,FALSE) ) )","v":""},{"$f":"SUM(V8,V11,V14,V17,V20,V23,V26,V29,V32,V35,V38,V41,V44,V47,V50,V53,V56,V59,V62,V65,V68,V71,V74,V77,V80,V83,V86,V95,V104)","v":0},null,null,null,{"$f":"IF(TRIM(Y113)=\"\", \"\", IF(VLOOKUP(Y113,'Footnotes list'!$D$9:$E$58,2,FALSE)=0,\"\",VLOOKUP(Y113,'Footnotes list'!$D$9:$E$58,2,FALSE) ) )","v":""},{"$f":"SUM(AA8,AA11,AA14,AA17,AA20,AA23,AA26,AA29,AA32,AA35,AA38,AA41,AA44,AA47,AA50,AA53,AA56,AA59,AA62,AA65,AA68,AA71,AA74,AA77,AA80,AA83,AA86,AA95,AA104)","v":0},null,null,null,{"$f":"IF(TRIM(AD113)=\"\", \"\", IF(VLOOKUP(AD113,'Footnotes list'!$D$9:$E$58,2,FALSE)=0,\"\",VLOOKUP(AD113,'Footnotes list'!$D$9:$E$58,2,FALSE) ) )","v":""},{"$f":"SUM(AF8,AF11,AF14,AF17,AF20,AF23,AF26,AF29,AF32,AF35,AF38,AF41,AF44,AF47,AF50,AF53,AF56,AF59,AF62,AF65,AF68,AF71,AF74,AF77,AF80,AF83,AF86,AF95,AF104)","v":0},null,null,null,{"$f":"IF(TRIM(AI113)=\"\", \"\", IF(VLOOKUP(AI113,'Footnotes list'!$D$9:$E$58,2,FALSE)=0,\"\",VLOOKUP(AI113,'Footnotes list'!$D$9:$E$58,2,FALSE) ) )","v":""},{"$f":"SUM(AK8,AK11,AK14,AK17,AK20,AK23,AK26,AK29,AK32,AK35,AK38,AK41,AK44,AK47,AK50,AK53,AK56,AK59,AK62,AK65,AK68,AK71,AK74,AK77,AK80,AK83,AK86,AK95,AK104)","v":0},null,null,null,{"$f":"IF(TRIM(AN113)=\"\", \"\", IF(VLOOKUP(AN113,'Footnotes list'!$D$9:$E$58,2,FALSE)=0,\"\",VLOOKUP(AN113,'Footnotes list'!$D$9:$E$58,2,FALSE) ) )","v":""},{"$f":"SUM(AP8,AP11,AP14,AP17,AP20,AP23,AP26,AP29,AP32,AP35,AP38,AP41,AP44,AP47,AP50,AP53,AP56,AP59,AP62,AP65,AP68,AP71,AP74,AP77,AP80,AP83,AP86,AP95,AP104)","v":0},null,null,null,{"$f":"IF(TRIM(AS113)=\"\", \"\", IF(VLOOKUP(AS113,'Footnotes list'!$D$9:$E$58,2,FALSE)=0,\"\",VLOOKUP(AS113,'Footnotes list'!$D$9:$E$58,2,FALSE) ) )","v":""},{"$f":"SUM(AU8,AU11,AU14,AU17,AU20,AU23,AU26,AU29,AU32,AU35,AU38,AU41,AU44,AU47,AU50,AU53,AU56,AU59,AU62,AU65,AU68,AU71,AU74,AU77,AU80,AU83,AU86,AU95,AU104)","v":0},null,null,null,{"$f":"IF(TRIM(AX113)=\"\", \"\", IF(VLOOKUP(AX113,'Footnotes list'!$D$9:$E$58,2,FALSE)=0,\"\",VLOOKUP(AX113,'Footnotes list'!$D$9:$E$58,2,FALSE) ) )","v":""},{"$f":"SUM(AZ8,AZ11,AZ14,AZ17,AZ20,AZ23,AZ26,AZ29,AZ32,AZ35,AZ38,AZ41,AZ44,AZ47,AZ50,AZ53,AZ56,AZ59,AZ62,AZ65,AZ68,AZ71,AZ74,AZ77,AZ80,AZ83,AZ86,AZ95,AZ104)","v":0},null,null,null,{"$f":"IF(TRIM(BC113)=\"\", \"\", IF(VLOOKUP(BC113,'Footnotes list'!$D$9:$E$58,2,FALSE)=0,\"\",VLOOKUP(BC113,'Footnotes list'!$D$9:$E$58,2,FALSE) ) )","v":""},{"$f":"SUM(BE8,BE11,BE14,BE17,BE20,BE23,BE26,BE29,BE32,BE35,BE38,BE41,BE44,BE47,BE50,BE53,BE56,BE59,BE62,BE65,BE68,BE71,BE74,BE77,BE80,BE83,BE86,BE95,BE104)","v":0},null,null,null,{"$f":"IF(TRIM(BH113)=\"\", \"\", IF(VLOOKUP(BH113,'Footnotes list'!$D$9:$E$58,2,FALSE)=0,\"\",VLOOKUP(BH113,'Footnotes list'!$D$9:$E$58,2,FALSE) ) )","v":""},{"$f":"SUM(BJ8,BJ11,BJ14,BJ17,BJ20,BJ23,BJ26,BJ29,BJ32,BJ35,BJ38,BJ41,BJ44,BJ47,BJ50,BJ53,BJ56,BJ59,BJ62,BJ65,BJ68,BJ71,BJ74,BJ77,BJ80,BJ83,BJ86,BJ95,BJ104)","v":0},null,null,null,{"$f":"IF(TRIM(BM113)=\"\", \"\", IF(VLOOKUP(BM113,'Footnotes list'!$D$9:$E$58,2,FALSE)=0,\"\",VLOOKUP(BM113,'Footnotes list'!$D$9:$E$58,2,FALSE) ) )","v":""},{"$f":"SUM(BO8,BO11,BO14,BO17,BO20,BO23,BO26,BO29,BO32,BO35,BO38,BO41,BO44,BO47,BO50,BO53,BO56,BO59,BO62,BO65,BO68,BO71,BO74,BO77,BO80,BO83,BO86,BO95,BO104)","v":0},null,null,null,{"$f":"IF(TRIM(BR113)=\"\", \"\", IF(VLOOKUP(BR113,'Footnotes list'!$D$9:$E$58,2,FALSE)=0,\"\",VLOOKUP(BR113,'Footnotes list'!$D$9:$E$58,2,FALSE) ) )","v":""},{"$f":"SUM(BT8,BT11,BT14,BT17,BT20,BT23,BT26,BT29,BT32,BT35,BT38,BT41,BT44,BT47,BT50,BT53,BT56,BT59,BT62,BT65,BT68,BT71,BT74,BT77,BT80,BT83,BT86,BT95,BT104)","v":0},null,null,null,{"$f":"IF(TRIM(BW113)=\"\", \"\", IF(VLOOKUP(BW113,'Footnotes list'!$D$9:$E$58,2,FALSE)=0,\"\",VLOOKUP(BW113,'Footnotes list'!$D$9:$E$58,2,FALSE) ) )","v":""},{"$f":"SUM(BY8,BY11,BY14,BY17,BY20,BY23,BY26,BY29,BY32,BY35,BY38,BY41,BY44,BY47,BY50,BY53,BY56,BY59,BY62,BY65,BY68,BY71,BY74,BY77,BY80,BY83,BY86,BY95,BY104)","v":0},null,null,null,{"$f":"IF(TRIM(CB113)=\"\", \"\", IF(VLOOKUP(CB113,'Footnotes list'!$D$9:$E$58,2,FALSE)=0,\"\",VLOOKUP(CB113,'Footnotes list'!$D$9:$E$58,2,FALSE) ) )","v":""},{"$f":"SUM(CD8,CD11,CD14,CD17,CD20,CD23,CD26,CD29,CD32,CD35,CD38,CD41,CD44,CD47,CD50,CD53,CD56,CD59,CD62,CD65,CD68,CD71,CD74,CD77,CD80,CD83,CD86,CD95,CD104)","v":0},null,null,null,{"$f":"IF(TRIM(CG113)=\"\", \"\", IF(VLOOKUP(CG113,'Footnotes list'!$D$9:$E$58,2,FALSE)=0,\"\",VLOOKUP(CG113,'Footnotes list'!$D$9:$E$58,2,FALSE) ) )","v":""},{"$f":"SUM(CI8,CI11,CI14,CI17,CI20,CI23,CI26,CI29,CI32,CI35,CI38,CI41,CI44,CI47,CI50,CI53,CI56,CI59,CI62,CI65,CI68,CI71,CI74,CI77,CI80,CI83,CI86,CI95,CI104)","v":0},null,null,null,{"$f":"IF(TRIM(CL113)=\"\", \"\", IF(VLOOKUP(CL113,'Footnotes list'!$D$9:$E$58,2,FALSE)=0,\"\",VLOOKUP(CL113,'Footnotes list'!$D$9:$E$58,2,FALSE) ) )","v":""},{"$f":"SUM(CN8,CN11,CN14,CN17,CN20,CN23,CN26,CN29,CN32,CN35,CN38,CN41,CN44,CN47,CN50,CN53,CN56,CN59,CN62,CN65,CN68,CN71,CN74,CN77,CN80,CN83,CN86,CN95,CN104)","v":0},null,null,null,{"$f":"IF(TRIM(CQ113)=\"\", \"\", IF(VLOOKUP(CQ113,'Footnotes list'!$D$9:$E$58,2,FALSE)=0,\"\",VLOOKUP(CQ113,'Footnotes list'!$D$9:$E$58,2,FALSE) ) )","v":""},{"$f":"SUM(CS8,CS11,CS14,CS17,CS20,CS23,CS26,CS29,CS32,CS35,CS38,CS41,CS44,CS47,CS50,CS53,CS56,CS59,CS62,CS65,CS68,CS71,CS74,CS77,CS80,CS83,CS86,CS95,CS104)","v":0},null,null,null,{"$f":"IF(TRIM(CV113)=\"\", \"\", IF(VLOOKUP(CV113,'Footnotes list'!$D$9:$E$58,2,FALSE)=0,\"\",VLOOKUP(CV113,'Footnotes list'!$D$9:$E$58,2,FALSE) ) )","v":""},{"$f":"SUM(CX8,CX11,CX14,CX17,CX20,CX23,CX26,CX29,CX32,CX35,CX38,CX41,CX44,CX47,CX50,CX53,CX56,CX59,CX62,CX65,CX68,CX71,CX74,CX77,CX80,CX83,CX86,CX95,CX104)","v":0},null,null,null,{"$f":"IF(TRIM(DA113)=\"\", \"\", IF(VLOOKUP(DA113,'Footnotes list'!$D$9:$E$58,2,FALSE)=0,\"\",VLOOKUP(DA113,'Footnotes list'!$D$9:$E$58,2,FALSE) ) )","v":""},{"$f":"SUM(DC8,DC11,DC14,DC17,DC20,DC23,DC26,DC29,DC32,DC35,DC38,DC41,DC44,DC47,DC50,DC53,DC56,DC59,DC62,DC65,DC68,DC71,DC74,DC77,DC80,DC83,DC86,DC95,DC104)","v":0},null,null,null,{"$f":"IF(TRIM(DF113)=\"\", \"\", IF(VLOOKUP(DF113,'Footnotes list'!$D$9:$E$58,2,FALSE)=0,\"\",VLOOKUP(DF113,'Footnotes list'!$D$9:$E$58,2,FALSE) ) )","v":""},{"$f":"SUM(DH8,DH11,DH14,DH17,DH20,DH23,DH26,DH29,DH32,DH35,DH38,DH41,DH44,DH47,DH50,DH53,DH56,DH59,DH62,DH65,DH68,DH71,DH74,DH77,DH80,DH83,DH86,DH95,DH104)","v":0},null,null,null,{"$f":"IF(TRIM(DK113)=\"\", \"\", IF(VLOOKUP(DK113,'Footnotes list'!$D$9:$E$58,2,FALSE)=0,\"\",VLOOKUP(DK113,'Footnotes list'!$D$9:$E$58,2,FALSE) ) )","v":""}]
[null,null,"TOT_X_MIN",null,"NHAZ","Non-hazardous",{"$f":"SUM(G9,G12,G15,G18,G21,G24,G27,G30,G33,G36,G39,G42,G45,G48,G51,G54,G57,G60,G63,G66,G69,G72,G75,G78,G81,G84,G87,G96,G105)","v":0},null,null,null,{"$f":"IF(TRIM(J114)=\"\", \"\", IF(VLOOKUP(J114,'Footnotes list'!$D$9:$E$58,2,FALSE)=0,\"\",VLOOKUP(J114,'Footnotes list'!$D$9:$E$58,2,FALSE) ) )","v":""},{"$f":"SUM(L9,L12,L15,L18,L21,L24,L27,L30,L33,L36,L39,L42,L45,L48,L51,L54,L57,L60,L63,L66,L69,L72,L75,L78,L81,L84,L87,L96,L105)","v":0},null,null,null,{"$f":"IF(TRIM(O114)=\"\", \"\", IF(VLOOKUP(O114,'Footnotes list'!$D$9:$E$58,2,FALSE)=0,\"\",VLOOKUP(O114,'Footnotes list'!$D$9:$E$58,2,FALSE) ) )","v":""},{"$f":"SUM(Q9,Q12,Q15,Q18,Q21,Q24,Q27,Q30,Q33,Q36,Q39,Q42,Q45,Q48,Q51,Q54,Q57,Q60,Q63,Q66,Q69,Q72,Q75,Q78,Q81,Q84,Q87,Q96,Q105)","v":0},null,null,null,{"$f":"IF(TRIM(T114)=\"\", \"\", IF(VLOOKUP(T114,'Footnotes list'!$D$9:$E$58,2,FALSE)=0,\"\",VLOOKUP(T114,'Footnotes list'!$D$9:$E$58,2,FALSE) ) )","v":""},{"$f":"SUM(V9,V12,V15,V18,V21,V24,V27,V30,V33,V36,V39,V42,V45,V48,V51,V54,V57,V60,V63,V66,V69,V72,V75,V78,V81,V84,V87,V96,V105)","v":0},null,null,null,{"$f":"IF(TRIM(Y114)=\"\", \"\", IF(VLOOKUP(Y114,'Footnotes list'!$D$9:$E$58,2,FALSE)=0,\"\",VLOOKUP(Y114,'Footnotes list'!$D$9:$E$58,2,FALSE) ) )","v":""},{"$f":"SUM(AA9,AA12,AA15,AA18,AA21,AA24,AA27,AA30,AA33,AA36,AA39,AA42,AA45,AA48,AA51,AA54,AA57,AA60,AA63,AA66,AA69,AA72,AA75,AA78,AA81,AA84,AA87,AA96,AA105)","v":0},null,null,null,{"$f":"IF(TRIM(AD114)=\"\", \"\", IF(VLOOKUP(AD114,'Footnotes list'!$D$9:$E$58,2,FALSE)=0,\"\",VLOOKUP(AD114,'Footnotes list'!$D$9:$E$58,2,FALSE) ) )","v":""},{"$f":"SUM(AF9,AF12,AF15,AF18,AF21,AF24,AF27,AF30,AF33,AF36,AF39,AF42,AF45,AF48,AF51,AF54,AF57,AF60,AF63,AF66,AF69,AF72,AF75,AF78,AF81,AF84,AF87,AF96,AF105)","v":0},null,null,null,{"$f":"IF(TRIM(AI114)=\"\", \"\", IF(VLOOKUP(AI114,'Footnotes list'!$D$9:$E$58,2,FALSE)=0,\"\",VLOOKUP(AI114,'Footnotes list'!$D$9:$E$58,2,FALSE) ) )","v":""},{"$f":"SUM(AK9,AK12,AK15,AK18,AK21,AK24,AK27,AK30,AK33,AK36,AK39,AK42,AK45,AK48,AK51,AK54,AK57,AK60,AK63,AK66,AK69,AK72,AK75,AK78,AK81,AK84,AK87,AK96,AK105)","v":0},null,null,null,{"$f":"IF(TRIM(AN114)=\"\", \"\", IF(VLOOKUP(AN114,'Footnotes list'!$D$9:$E$58,2,FALSE)=0,\"\",VLOOKUP(AN114,'Footnotes list'!$D$9:$E$58,2,FALSE) ) )","v":""},{"$f":"SUM(AP9,AP12,AP15,AP18,AP21,AP24,AP27,AP30,AP33,AP36,AP39,AP42,AP45,AP48,AP51,AP54,AP57,AP60,AP63,AP66,AP69,AP72,AP75,AP78,AP81,AP84,AP87,AP96,AP105)","v":0},null,null,null,{"$f":"IF(TRIM(AS114)=\"\", \"\", IF(VLOOKUP(AS114,'Footnotes list'!$D$9:$E$58,2,FALSE)=0,\"\",VLOOKUP(AS114,'Footnotes list'!$D$9:$E$58,2,FALSE) ) )","v":""},{"$f":"SUM(AU9,AU12,AU15,AU18,AU21,AU24,AU27,AU30,AU33,AU36,AU39,AU42,AU45,AU48,AU51,AU54,AU57,AU60,AU63,AU66,AU69,AU72,AU75,AU78,AU81,AU84,AU87,AU96,AU105)","v":0},null,null,null,{"$f":"IF(TRIM(AX114)=\"\", \"\", IF(VLOOKUP(AX114,'Footnotes list'!$D$9:$E$58,2,FALSE)=0,\"\",VLOOKUP(AX114,'Footnotes list'!$D$9:$E$58,2,FALSE) ) )","v":""},{"$f":"SUM(AZ9,AZ12,AZ15,AZ18,AZ21,AZ24,AZ27,AZ30,AZ33,AZ36,AZ39,AZ42,AZ45,AZ48,AZ51,AZ54,AZ57,AZ60,AZ63,AZ66,AZ69,AZ72,AZ75,AZ78,AZ81,AZ84,AZ87,AZ96,AZ105)","v":0},null,null,null,{"$f":"IF(TRIM(BC114)=\"\", \"\", IF(VLOOKUP(BC114,'Footnotes list'!$D$9:$E$58,2,FALSE)=0,\"\",VLOOKUP(BC114,'Footnotes list'!$D$9:$E$58,2,FALSE) ) )","v":""},{"$f":"SUM(BE9,BE12,BE15,BE18,BE21,BE24,BE27,BE30,BE33,BE36,BE39,BE42,BE45,BE48,BE51,BE54,BE57,BE60,BE63,BE66,BE69,BE72,BE75,BE78,BE81,BE84,BE87,BE96,BE105)","v":0},null,null,null,{"$f":"IF(TRIM(BH114)=\"\", \"\", IF(VLOOKUP(BH114,'Footnotes list'!$D$9:$E$58,2,FALSE)=0,\"\",VLOOKUP(BH114,'Footnotes list'!$D$9:$E$58,2,FALSE) ) )","v":""},{"$f":"SUM(BJ9,BJ12,BJ15,BJ18,BJ21,BJ24,BJ27,BJ30,BJ33,BJ36,BJ39,BJ42,BJ45,BJ48,BJ51,BJ54,BJ57,BJ60,BJ63,BJ66,BJ69,BJ72,BJ75,BJ78,BJ81,BJ84,BJ87,BJ96,BJ105)","v":0},null,null,null,{"$f":"IF(TRIM(BM114)=\"\", \"\", IF(VLOOKUP(BM114,'Footnotes list'!$D$9:$E$58,2,FALSE)=0,\"\",VLOOKUP(BM114,'Footnotes list'!$D$9:$E$58,2,FALSE) ) )","v":""},{"$f":"SUM(BO9,BO12,BO15,BO18,BO21,BO24,BO27,BO30,BO33,BO36,BO39,BO42,BO45,BO48,BO51,BO54,BO57,BO60,BO63,BO66,BO69,BO72,BO75,BO78,BO81,BO84,BO87,BO96,BO105)","v":0},null,null,null,{"$f":"IF(TRIM(BR114)=\"\", \"\", IF(VLOOKUP(BR114,'Footnotes list'!$D$9:$E$58,2,FALSE)=0,\"\",VLOOKUP(BR114,'Footnotes list'!$D$9:$E$58,2,FALSE) ) )","v":""},{"$f":"SUM(BT9,BT12,BT15,BT18,BT21,BT24,BT27,BT30,BT33,BT36,BT39,BT42,BT45,BT48,BT51,BT54,BT57,BT60,BT63,BT66,BT69,BT72,BT75,BT78,BT81,BT84,BT87,BT96,BT105)","v":0},null,null,null,{"$f":"IF(TRIM(BW114)=\"\", \"\", IF(VLOOKUP(BW114,'Footnotes list'!$D$9:$E$58,2,FALSE)=0,\"\",VLOOKUP(BW114,'Footnotes list'!$D$9:$E$58,2,FALSE) ) )","v":""},{"$f":"SUM(BY9,BY12,BY15,BY18,BY21,BY24,BY27,BY30,BY33,BY36,BY39,BY42,BY45,BY48,BY51,BY54,BY57,BY60,BY63,BY66,BY69,BY72,BY75,BY78,BY81,BY84,BY87,BY96,BY105)","v":0},null,null,null,{"$f":"IF(TRIM(CB114)=\"\", \"\", IF(VLOOKUP(CB114,'Footnotes list'!$D$9:$E$58,2,FALSE)=0,\"\",VLOOKUP(CB114,'Footnotes list'!$D$9:$E$58,2,FALSE) ) )","v":""},{"$f":"SUM(CD9,CD12,CD15,CD18,CD21,CD24,CD27,CD30,CD33,CD36,CD39,CD42,CD45,CD48,CD51,CD54,CD57,CD60,CD63,CD66,CD69,CD72,CD75,CD78,CD81,CD84,CD87,CD96,CD105)","v":0},null,null,null,{"$f":"IF(TRIM(CG114)=\"\", \"\", IF(VLOOKUP(CG114,'Footnotes list'!$D$9:$E$58,2,FALSE)=0,\"\",VLOOKUP(CG114,'Footnotes list'!$D$9:$E$58,2,FALSE) ) )","v":""},{"$f":"SUM(CI9,CI12,CI15,CI18,CI21,CI24,CI27,CI30,CI33,CI36,CI39,CI42,CI45,CI48,CI51,CI54,CI57,CI60,CI63,CI66,CI69,CI72,CI75,CI78,CI81,CI84,CI87,CI96,CI105)","v":0},null,null,null,{"$f":"IF(TRIM(CL114)=\"\", \"\", IF(VLOOKUP(CL114,'Footnotes list'!$D$9:$E$58,2,FALSE)=0,\"\",VLOOKUP(CL114,'Footnotes list'!$D$9:$E$58,2,FALSE) ) )","v":""},{"$f":"SUM(CN9,CN12,CN15,CN18,CN21,CN24,CN27,CN30,CN33,CN36,CN39,CN42,CN45,CN48,CN51,CN54,CN57,CN60,CN63,CN66,CN69,CN72,CN75,CN78,CN81,CN84,CN87,CN96,CN105)","v":0},null,null,null,{"$f":"IF(TRIM(CQ114)=\"\", \"\", IF(VLOOKUP(CQ114,'Footnotes list'!$D$9:$E$58,2,FALSE)=0,\"\",VLOOKUP(CQ114,'Footnotes list'!$D$9:$E$58,2,FALSE) ) )","v":""},{"$f":"SUM(CS9,CS12,CS15,CS18,CS21,CS24,CS27,CS30,CS33,CS36,CS39,CS42,CS45,CS48,CS51,CS54,CS57,CS60,CS63,CS66,CS69,CS72,CS75,CS78,CS81,CS84,CS87,CS96,CS105)","v":0},null,null,null,{"$f":"IF(TRIM(CV114)=\"\", \"\", IF(VLOOKUP(CV114,'Footnotes list'!$D$9:$E$58,2,FALSE)=0,\"\",VLOOKUP(CV114,'Footnotes list'!$D$9:$E$58,2,FALSE) ) )","v":""},{"$f":"SUM(CX9,CX12,CX15,CX18,CX21,CX24,CX27,CX30,CX33,CX36,CX39,CX42,CX45,CX48,CX51,CX54,CX57,CX60,CX63,CX66,CX69,CX72,CX75,CX78,CX81,CX84,CX87,CX96,CX105)","v":0},null,null,null,{"$f":"IF(TRIM(DA114)=\"\", \"\", IF(VLOOKUP(DA114,'Footnotes list'!$D$9:$E$58,2,FALSE)=0,\"\",VLOOKUP(DA114,'Footnotes list'!$D$9:$E$58,2,FALSE) ) )","v":""},{"$f":"SUM(DC9,DC12,DC15,DC18,DC21,DC24,DC27,DC30,DC33,DC36,DC39,DC42,DC45,DC48,DC51,DC54,DC57,DC60,DC63,DC66,DC69,DC72,DC75,DC78,DC81,DC84,DC87,DC96,DC105)","v":0},null,null,null,{"$f":"IF(TRIM(DF114)=\"\", \"\", IF(VLOOKUP(DF114,'Footnotes list'!$D$9:$E$58,2,FALSE)=0,\"\",VLOOKUP(DF114,'Footnotes list'!$D$9:$E$58,2,FALSE) ) )","v":""},{"$f":"SUM(DH9,DH12,DH15,DH18,DH21,DH24,DH27,DH30,DH33,DH36,DH39,DH42,DH45,DH48,DH51,DH54,DH57,DH60,DH63,DH66,DH69,DH72,DH75,DH78,DH81,DH84,DH87,DH96,DH105)","v":0},null,null,null,{"$f":"IF(TRIM(DK114)=\"\", \"\", IF(VLOOKUP(DK114,'Footnotes list'!$D$9:$E$58,2,FALSE)=0,\"\",VLOOKUP(DK114,'Footnotes list'!$D$9:$E$58,2,FALSE) ) )","v":""}]
[null,null,"TOT_X_MIN",null,"HAZ_NHAZ","Total",0,null,null,null,{"$f":"IF(TRIM(J115)=\"\", \"\", IF(VLOOKUP(J115,'Footnotes list'!$D$9:$E$58,2,FALSE)=0,\"\",VLOOKUP(J115,'Footnotes list'!$D$9:$E$58,2,FALSE) ) )","v":""},0,null,null,null,{"$f":"IF(TRIM(O115)=\"\", \"\", IF(VLOOKUP(O115,'Footnotes list'!$D$9:$E$58,2,FALSE)=0,\"\",VLOOKUP(O115,'Footnotes list'!$D$9:$E$58,2,FALSE) ) )","v":""},0,null,null,null,{"$f":"IF(TRIM(T115)=\"\", \"\", IF(VLOOKUP(T115,'Footnotes list'!$D$9:$E$58,2,FALSE)=0,\"\",VLOOKUP(T115,'Footnotes list'!$D$9:$E$58,2,FALSE) ) )","v":""},0,null,null,null,{"$f":"IF(TRIM(Y115)=\"\", \"\", IF(VLOOKUP(Y115,'Footnotes list'!$D$9:$E$58,2,FALSE)=0,\"\",VLOOKUP(Y115,'Footnotes list'!$D$9:$E$58,2,FALSE) ) )","v":""},0,null,null,null,{"$f":"IF(TRIM(AD115)=\"\", \"\", IF(VLOOKUP(AD115,'Footnotes list'!$D$9:$E$58,2,FALSE)=0,\"\",VLOOKUP(AD115,'Footnotes list'!$D$9:$E$58,2,FALSE) ) )","v":""},0,null,null,null,{"$f":"IF(TRIM(AI115)=\"\", \"\", IF(VLOOKUP(AI115,'Footnotes list'!$D$9:$E$58,2,FALSE)=0,\"\",VLOOKUP(AI115,'Footnotes list'!$D$9:$E$58,2,FALSE) ) )","v":""},0,null,null,null,{"$f":"IF(TRIM(AN115)=\"\", \"\", IF(VLOOKUP(AN115,'Footnotes list'!$D$9:$E$58,2,FALSE)=0,\"\",VLOOKUP(AN115,'Footnotes list'!$D$9:$E$58,2,FALSE) ) )","v":""},0,null,null,null,{"$f":"IF(TRIM(AS115)=\"\", \"\", IF(VLOOKUP(AS115,'Footnotes list'!$D$9:$E$58,2,FALSE)=0,\"\",VLOOKUP(AS115,'Footnotes list'!$D$9:$E$58,2,FALSE) ) )","v":""},0,null,null,null,{"$f":"IF(TRIM(AX115)=\"\", \"\", IF(VLOOKUP(AX115,'Footnotes list'!$D$9:$E$58,2,FALSE)=0,\"\",VLOOKUP(AX115,'Footnotes list'!$D$9:$E$58,2,FALSE) ) )","v":""},0,null,null,null,{"$f":"IF(TRIM(BC115)=\"\", \"\", IF(VLOOKUP(BC115,'Footnotes list'!$D$9:$E$58,2,FALSE)=0,\"\",VLOOKUP(BC115,'Footnotes list'!$D$9:$E$58,2,FALSE) ) )","v":""},0,null,null,null,{"$f":"IF(TRIM(BH115)=\"\", \"\", IF(VLOOKUP(BH115,'Footnotes list'!$D$9:$E$58,2,FALSE)=0,\"\",VLOOKUP(BH115,'Footnotes list'!$D$9:$E$58,2,FALSE) ) )","v":""},0,null,null,null,{"$f":"IF(TRIM(BM115)=\"\", \"\", IF(VLOOKUP(BM115,'Footnotes list'!$D$9:$E$58,2,FALSE)=0,\"\",VLOOKUP(BM115,'Footnotes list'!$D$9:$E$58,2,FALSE) ) )","v":""},0,null,null,null,{"$f":"IF(TRIM(BR115)=\"\", \"\", IF(VLOOKUP(BR115,'Footnotes list'!$D$9:$E$58,2,FALSE)=0,\"\",VLOOKUP(BR115,'Footnotes list'!$D$9:$E$58,2,FALSE) ) )","v":""},0,null,null,null,{"$f":"IF(TRIM(BW115)=\"\", \"\", IF(VLOOKUP(BW115,'Footnotes list'!$D$9:$E$58,2,FALSE)=0,\"\",VLOOKUP(BW115,'Footnotes list'!$D$9:$E$58,2,FALSE) ) )","v":""},0,null,null,null,{"$f":"IF(TRIM(CB115)=\"\", \"\", IF(VLOOKUP(CB115,'Footnotes list'!$D$9:$E$58,2,FALSE)=0,\"\",VLOOKUP(CB115,'Footnotes list'!$D$9:$E$58,2,FALSE) ) )","v":""},0,null,null,null,{"$f":"IF(TRIM(CG115)=\"\", \"\", IF(VLOOKUP(CG115,'Footnotes list'!$D$9:$E$58,2,FALSE)=0,\"\",VLOOKUP(CG115,'Footnotes list'!$D$9:$E$58,2,FALSE) ) )","v":""},0,null,null,null,{"$f":"IF(TRIM(CL115)=\"\", \"\", IF(VLOOKUP(CL115,'Footnotes list'!$D$9:$E$58,2,FALSE)=0,\"\",VLOOKUP(CL115,'Footnotes list'!$D$9:$E$58,2,FALSE) ) )","v":""},0,null,null,null,{"$f":"IF(TRIM(CQ115)=\"\", \"\", IF(VLOOKUP(CQ115,'Footnotes list'!$D$9:$E$58,2,FALSE)=0,\"\",VLOOKUP(CQ115,'Footnotes list'!$D$9:$E$58,2,FALSE) ) )","v":""},0,null,null,null,{"$f":"IF(TRIM(CV115)=\"\", \"\", IF(VLOOKUP(CV115,'Footnotes list'!$D$9:$E$58,2,FALSE)=0,\"\",VLOOKUP(CV115,'Footnotes list'!$D$9:$E$58,2,FALSE) ) )","v":""},0,null,null,null,{"$f":"IF(TRIM(DA115)=\"\", \"\", IF(VLOOKUP(DA115,'Footnotes list'!$D$9:$E$58,2,FALSE)=0,\"\",VLOOKUP(DA115,'Footnotes list'!$D$9:$E$58,2,FALSE) ) )","v":""},0,null,null,null,{"$f":"IF(TRIM(DF115)=\"\", \"\", IF(VLOOKUP(DF115,'Footnotes list'!$D$9:$E$58,2,FALSE)=0,\"\",VLOOKUP(DF115,'Footnotes list'!$D$9:$E$58,2,FALSE) ) )","v":""},0,null,null,null,{"$f":"IF(TRIM(DK115)=\"\", \"\", IF(VLOOKUP(DK115,'Footnotes list'!$D$9:$E$58,2,FALSE)=0,\"\",VLOOKUP(DK115,'Footnotes list'!$D$9:$E$58,2,FALSE) ) )","v":""}]
[null,"TOTAL","TOTAL","Total Waste ","HAZ","Hazardous ",{"$f":"SUM(G8,G11,G14,G17,G20,G23,G26,G29,G32,G35,G38,G41,G44,G47,G50,G53,G56,G59,G62,G65,G68,G71,G74,G77,G80,G83,G86,G89,G92,G95,G98,G101,G104)","v":0},null,null,null,{"$f":"IF(TRIM(J116)=\"\", \"\", IF(VLOOKUP(J116,'Footnotes list'!$D$9:$E$58,2,FALSE)=0,\"\",VLOOKUP(J116,'Footnotes list'!$D$9:$E$58,2,FALSE) ) )","v":""},{"$f":"SUM(L8,L11,L14,L17,L20,L23,L26,L29,L32,L35,L38,L41,L44,L47,L50,L53,L56,L59,L62,L65,L68,L71,L74,L77,L80,L83,L86,L89,L92,L95,L98,L101,L104)","v":0},null,null,null,{"$f":"IF(TRIM(O116)=\"\", \"\", IF(VLOOKUP(O116,'Footnotes list'!$D$9:$E$58,2,FALSE)=0,\"\",VLOOKUP(O116,'Footnotes list'!$D$9:$E$58,2,FALSE) ) )","v":""},{"$f":"SUM(Q8,Q11,Q14,Q17,Q20,Q23,Q26,Q29,Q32,Q35,Q38,Q41,Q44,Q47,Q50,Q53,Q56,Q59,Q62,Q65,Q68,Q71,Q74,Q77,Q80,Q83,Q86,Q89,Q92,Q95,Q98,Q101,Q104)","v":0},null,null,null,{"$f":"IF(TRIM(T116)=\"\", \"\", IF(VLOOKUP(T116,'Footnotes list'!$D$9:$E$58,2,FALSE)=0,\"\",VLOOKUP(T116,'Footnotes list'!$D$9:$E$58,2,FALSE) ) )","v":""},{"$f":"SUM(V8,V11,V14,V17,V20,V23,V26,V29,V32,V35,V38,V41,V44,V47,V50,V53,V56,V59,V62,V65,V68,V71,V74,V77,V80,V83,V86,V89,V92,V95,V98,V101,V104)","v":0},null,null,null,{"$f":"IF(TRIM(Y116)=\"\", \"\", IF(VLOOKUP(Y116,'Footnotes list'!$D$9:$E$58,2,FALSE)=0,\"\",VLOOKUP(Y116,'Footnotes list'!$D$9:$E$58,2,FALSE) ) )","v":""},{"$f":"SUM(AA8,AA11,AA14,AA17,AA20,AA23,AA26,AA29,AA32,AA35,AA38,AA41,AA44,AA47,AA50,AA53,AA56,AA59,AA62,AA65,AA68,AA71,AA74,AA77,AA80,AA83,AA86,AA89,AA92,AA95,AA98,AA101,AA104)","v":0},null,null,null,{"$f":"IF(TRIM(AD116)=\"\", \"\", IF(VLOOKUP(AD116,'Footnotes list'!$D$9:$E$58,2,FALSE)=0,\"\",VLOOKUP(AD116,'Footnotes list'!$D$9:$E$58,2,FALSE) ) )","v":""},{"$f":"SUM(AF8,AF11,AF14,AF17,AF20,AF23,AF26,AF29,AF32,AF35,AF38,AF41,AF44,AF47,AF50,AF53,AF56,AF59,AF62,AF65,AF68,AF71,AF74,AF77,AF80,AF83,AF86,AF89,AF92,AF95,AF98,AF101,AF104)","v":0},null,null,null,{"$f":"IF(TRIM(AI116)=\"\", \"\", IF(VLOOKUP(AI116,'Footnotes list'!$D$9:$E$58,2,FALSE)=0,\"\",VLOOKUP(AI116,'Footnotes list'!$D$9:$E$58,2,FALSE) ) )","v":""},{"$f":"SUM(AK8,AK11,AK14,AK17,AK20,AK23,AK26,AK29,AK32,AK35,AK38,AK41,AK44,AK47,AK50,AK53,AK56,AK59,AK62,AK65,AK68,AK71,AK74,AK77,AK80,AK83,AK86,AK89,AK92,AK95,AK98,AK101,AK104)","v":0},null,null,null,{"$f":"IF(TRIM(AN116)=\"\", \"\", IF(VLOOKUP(AN116,'Footnotes list'!$D$9:$E$58,2,FALSE)=0,\"\",VLOOKUP(AN116,'Footnotes list'!$D$9:$E$58,2,FALSE) ) )","v":""},{"$f":"SUM(AP8,AP11,AP14,AP17,AP20,AP23,AP26,AP29,AP32,AP35,AP38,AP41,AP44,AP47,AP50,AP53,AP56,AP59,AP62,AP65,AP68,AP71,AP74,AP77,AP80,AP83,AP86,AP89,AP92,AP95,AP98,AP101,AP104)","v":0},null,null,null,{"$f":"IF(TRIM(AS116)=\"\", \"\", IF(VLOOKUP(AS116,'Footnotes list'!$D$9:$E$58,2,FALSE)=0,\"\",VLOOKUP(AS116,'Footnotes list'!$D$9:$E$58,2,FALSE) ) )","v":""},{"$f":"SUM(AU8,AU11,AU14,AU17,AU20,AU23,AU26,AU29,AU32,AU35,AU38,AU41,AU44,AU47,AU50,AU53,AU56,AU59,AU62,AU65,AU68,AU71,AU74,AU77,AU80,AU83,AU86,AU89,AU92,AU95,AU98,AU101,AU104)","v":0},null,null,null,{"$f":"IF(TRIM(AX116)=\"\", \"\", IF(VLOOKUP(AX116,'Footnotes list'!$D$9:$E$58,2,FALSE)=0,\"\",VLOOKUP(AX116,'Footnotes list'!$D$9:$E$58,2,FALSE) ) )","v":""},{"$f":"SUM(AZ8,AZ11,AZ14,AZ17,AZ20,AZ23,AZ26,AZ29,AZ32,AZ35,AZ38,AZ41,AZ44,AZ47,AZ50,AZ53,AZ56,AZ59,AZ62,AZ65,AZ68,AZ71,AZ74,AZ77,AZ80,AZ83,AZ86,AZ89,AZ92,AZ95,AZ98,AZ101,AZ104)","v":0},null,null,null,{"$f":"IF(TRIM(BC116)=\"\", \"\", IF(VLOOKUP(BC116,'Footnotes list'!$D$9:$E$58,2,FALSE)=0,\"\",VLOOKUP(BC116,'Footnotes list'!$D$9:$E$58,2,FALSE) ) )","v":""},{"$f":"SUM(BE8,BE11,BE14,BE17,BE20,BE23,BE26,BE29,BE32,BE35,BE38,BE41,BE44,BE47,BE50,BE53,BE56,BE59,BE62,BE65,BE68,BE71,BE74,BE77,BE80,BE83,BE86,BE89,BE92,BE95,BE98,BE101,BE104)","v":0},null,null,null,{"$f":"IF(TRIM(BH116)=\"\", \"\", IF(VLOOKUP(BH116,'Footnotes list'!$D$9:$E$58,2,FALSE)=0,\"\",VLOOKUP(BH116,'Footnotes list'!$D$9:$E$58,2,FALSE) ) )","v":""},{"$f":"SUM(BJ8,BJ11,BJ14,BJ17,BJ20,BJ23,BJ26,BJ29,BJ32,BJ35,BJ38,BJ41,BJ44,BJ47,BJ50,BJ53,BJ56,BJ59,BJ62,BJ65,BJ68,BJ71,BJ74,BJ77,BJ80,BJ83,BJ86,BJ89,BJ92,BJ95,BJ98,BJ101,BJ104)","v":0},null,null,null,{"$f":"IF(TRIM(BM116)=\"\", \"\", IF(VLOOKUP(BM116,'Footnotes list'!$D$9:$E$58,2,FALSE)=0,\"\",VLOOKUP(BM116,'Footnotes list'!$D$9:$E$58,2,FALSE) ) )","v":""},{"$f":"SUM(BO8,BO11,BO14,BO17,BO20,BO23,BO26,BO29,BO32,BO35,BO38,BO41,BO44,BO47,BO50,BO53,BO56,BO59,BO62,BO65,BO68,BO71,BO74,BO77,BO80,BO83,BO86,BO89,BO92,BO95,BO98,BO101,BO104)","v":0},null,null,null,{"$f":"IF(TRIM(BR116)=\"\", \"\", IF(VLOOKUP(BR116,'Footnotes list'!$D$9:$E$58,2,FALSE)=0,\"\",VLOOKUP(BR116,'Footnotes list'!$D$9:$E$58,2,FALSE) ) )","v":""},{"$f":"SUM(BT8,BT11,BT14,BT17,BT20,BT23,BT26,BT29,BT32,BT35,BT38,BT41,BT44,BT47,BT50,BT53,BT56,BT59,BT62,BT65,BT68,BT71,BT74,BT77,BT80,BT83,BT86,BT89,BT92,BT95,BT98,BT101,BT104)","v":0},null,null,null,{"$f":"IF(TRIM(BW116)=\"\", \"\", IF(VLOOKUP(BW116,'Footnotes list'!$D$9:$E$58,2,FALSE)=0,\"\",VLOOKUP(BW116,'Footnotes list'!$D$9:$E$58,2,FALSE) ) )","v":""},{"$f":"SUM(BY8,BY11,BY14,BY17,BY20,BY23,BY26,BY29,BY32,BY35,BY38,BY41,BY44,BY47,BY50,BY53,BY56,BY59,BY62,BY65,BY68,BY71,BY74,BY77,BY80,BY83,BY86,BY89,BY92,BY95,BY98,BY101,BY104)","v":0},null,null,null,{"$f":"IF(TRIM(CB116)=\"\", \"\", IF(VLOOKUP(CB116,'Footnotes list'!$D$9:$E$58,2,FALSE)=0,\"\",VLOOKUP(CB116,'Footnotes list'!$D$9:$E$58,2,FALSE) ) )","v":""},{"$f":"SUM(CD8,CD11,CD14,CD17,CD20,CD23,CD26,CD29,CD32,CD35,CD38,CD41,CD44,CD47,CD50,CD53,CD56,CD59,CD62,CD65,CD68,CD71,CD74,CD77,CD80,CD83,CD86,CD89,CD92,CD95,CD98,CD101,CD104)","v":0},null,null,null,{"$f":"IF(TRIM(CG116)=\"\", \"\", IF(VLOOKUP(CG116,'Footnotes list'!$D$9:$E$58,2,FALSE)=0,\"\",VLOOKUP(CG116,'Footnotes list'!$D$9:$E$58,2,FALSE) ) )","v":""},{"$f":"SUM(CI8,CI11,CI14,CI17,CI20,CI23,CI26,CI29,CI32,CI35,CI38,CI41,CI44,CI47,CI50,CI53,CI56,CI59,CI62,CI65,CI68,CI71,CI74,CI77,CI80,CI83,CI86,CI89,CI92,CI95,CI98,CI101,CI104)","v":0},null,null,null,{"$f":"IF(TRIM(CL116)=\"\", \"\", IF(VLOOKUP(CL116,'Footnotes list'!$D$9:$E$58,2,FALSE)=0,\"\",VLOOKUP(CL116,'Footnotes list'!$D$9:$E$58,2,FALSE) ) )","v":""},{"$f":"SUM(CN8,CN11,CN14,CN17,CN20,CN23,CN26,CN29,CN32,CN35,CN38,CN41,CN44,CN47,CN50,CN53,CN56,CN59,CN62,CN65,CN68,CN71,CN74,CN77,CN80,CN83,CN86,CN89,CN92,CN95,CN98,CN101,CN104)","v":0},null,null,null,{"$f":"IF(TRIM(CQ116)=\"\", \"\", IF(VLOOKUP(CQ116,'Footnotes list'!$D$9:$E$58,2,FALSE)=0,\"\",VLOOKUP(CQ116,'Footnotes list'!$D$9:$E$58,2,FALSE) ) )","v":""},{"$f":"SUM(CS8,CS11,CS14,CS17,CS20,CS23,CS26,CS29,CS32,CS35,CS38,CS41,CS44,CS47,CS50,CS53,CS56,CS59,CS62,CS65,CS68,CS71,CS74,CS77,CS80,CS83,CS86,CS89,CS92,CS95,CS98,CS101,CS104)","v":0},null,null,null,{"$f":"IF(TRIM(CV116)=\"\", \"\", IF(VLOOKUP(CV116,'Footnotes list'!$D$9:$E$58,2,FALSE)=0,\"\",VLOOKUP(CV116,'Footnotes list'!$D$9:$E$58,2,FALSE) ) )","v":""},{"$f":"SUM(CX8,CX11,CX14,CX17,CX20,CX23,CX26,CX29,CX32,CX35,CX38,CX41,CX44,CX47,CX50,CX53,CX56,CX59,CX62,CX65,CX68,CX71,CX74,CX77,CX80,CX83,CX86,CX89,CX92,CX95,CX98,CX101,CX104)","v":0},null,null,null,{"$f":"IF(TRIM(DA116)=\"\", \"\", IF(VLOOKUP(DA116,'Footnotes list'!$D$9:$E$58,2,FALSE)=0,\"\",VLOOKUP(DA116,'Footnotes list'!$D$9:$E$58,2,FALSE) ) )","v":""},{"$f":"SUM(DC8,DC11,DC14,DC17,DC20,DC23,DC26,DC29,DC32,DC35,DC38,DC41,DC44,DC47,DC50,DC53,DC56,DC59,DC62,DC65,DC68,DC71,DC74,DC77,DC80,DC83,DC86,DC89,DC92,DC95,DC98,DC101,DC104)","v":0},null,null,null,{"$f":"IF(TRIM(DF116)=\"\", \"\", IF(VLOOKUP(DF116,'Footnotes list'!$D$9:$E$58,2,FALSE)=0,\"\",VLOOKUP(DF116,'Footnotes list'!$D$9:$E$58,2,FALSE) ) )","v":""},{"$f":"SUM(DH8,DH11,DH14,DH17,DH20,DH23,DH26,DH29,DH32,DH35,DH38,DH41,DH44,DH47,DH50,DH53,DH56,DH59,DH62,DH65,DH68,DH71,DH74,DH77,DH80,DH83,DH86,DH89,DH92,DH95,DH98,DH101,DH104)","v":0},null,null,null,{"$f":"IF(TRIM(DK116)=\"\", \"\", IF(VLOOKUP(DK116,'Footnotes list'!$D$9:$E$58,2,FALSE)=0,\"\",VLOOKUP(DK116,'Footnotes list'!$D$9:$E$58,2,FALSE) ) )","v":""}]
[null,null,"TOTAL",null,"NHAZ","Non-hazardous",{"$f":"SUM(G9,G12,G15,G18,G21,G24,G27,G30,G33,G36,G39,G42,G45,G48,G51,G54,G57,G60,G63,G66,G69,G72,G75,G78,G81,G84,G87,G90,G93,G96,G99,G102,G105)","v":0},null,null,null,{"$f":"IF(TRIM(J117)=\"\", \"\", IF(VLOOKUP(J117,'Footnotes list'!$D$9:$E$58,2,FALSE)=0,\"\",VLOOKUP(J117,'Footnotes list'!$D$9:$E$58,2,FALSE) ) )","v":""},{"$f":"SUM(L9,L12,L15,L18,L21,L24,L27,L30,L33,L36,L39,L42,L45,L48,L51,L54,L57,L60,L63,L66,L69,L72,L75,L78,L81,L84,L87,L90,L93,L96,L99,L102,L105)","v":0},null,null,null,{"$f":"IF(TRIM(O117)=\"\", \"\", IF(VLOOKUP(O117,'Footnotes list'!$D$9:$E$58,2,FALSE)=0,\"\",VLOOKUP(O117,'Footnotes list'!$D$9:$E$58,2,FALSE) ) )","v":""},{"$f":"SUM(Q9,Q12,Q15,Q18,Q21,Q24,Q27,Q30,Q33,Q36,Q39,Q42,Q45,Q48,Q51,Q54,Q57,Q60,Q63,Q66,Q69,Q72,Q75,Q78,Q81,Q84,Q87,Q90,Q93,Q96,Q99,Q102,Q105)","v":0},null,null,null,{"$f":"IF(TRIM(T117)=\"\", \"\", IF(VLOOKUP(T117,'Footnotes list'!$D$9:$E$58,2,FALSE)=0,\"\",VLOOKUP(T117,'Footnotes list'!$D$9:$E$58,2,FALSE) ) )","v":""},{"$f":"SUM(V9,V12,V15,V18,V21,V24,V27,V30,V33,V36,V39,V42,V45,V48,V51,V54,V57,V60,V63,V66,V69,V72,V75,V78,V81,V84,V87,V90,V93,V96,V99,V102,V105)","v":0},null,null,null,{"$f":"IF(TRIM(Y117)=\"\", \"\", IF(VLOOKUP(Y117,'Footnotes list'!$D$9:$E$58,2,FALSE)=0,\"\",VLOOKUP(Y117,'Footnotes list'!$D$9:$E$58,2,FALSE) ) )","v":""},{"$f":"SUM(AA9,AA12,AA15,AA18,AA21,AA24,AA27,AA30,AA33,AA36,AA39,AA42,AA45,AA48,AA51,AA54,AA57,AA60,AA63,AA66,AA69,AA72,AA75,AA78,AA81,AA84,AA87,AA90,AA93,AA96,AA99,AA102,AA105)","v":0},null,null,null,{"$f":"IF(TRIM(AD117)=\"\", \"\", IF(VLOOKUP(AD117,'Footnotes list'!$D$9:$E$58,2,FALSE)=0,\"\",VLOOKUP(AD117,'Footnotes list'!$D$9:$E$58,2,FALSE) ) )","v":""},{"$f":"SUM(AF9,AF12,AF15,AF18,AF21,AF24,AF27,AF30,AF33,AF36,AF39,AF42,AF45,AF48,AF51,AF54,AF57,AF60,AF63,AF66,AF69,AF72,AF75,AF78,AF81,AF84,AF87,AF90,AF93,AF96,AF99,AF102,AF105)","v":0},null,null,null,{"$f":"IF(TRIM(AI117)=\"\", \"\", IF(VLOOKUP(AI117,'Footnotes list'!$D$9:$E$58,2,FALSE)=0,\"\",VLOOKUP(AI117,'Footnotes list'!$D$9:$E$58,2,FALSE) ) )","v":""},{"$f":"SUM(AK9,AK12,AK15,AK18,AK21,AK24,AK27,AK30,AK33,AK36,AK39,AK42,AK45,AK48,AK51,AK54,AK57,AK60,AK63,AK66,AK69,AK72,AK75,AK78,AK81,AK84,AK87,AK90,AK93,AK96,AK99,AK102,AK105)","v":0},null,null,null,{"$f":"IF(TRIM(AN117)=\"\", \"\", IF(VLOOKUP(AN117,'Footnotes list'!$D$9:$E$58,2,FALSE)=0,\"\",VLOOKUP(AN117,'Footnotes list'!$D$9:$E$58,2,FALSE) ) )","v":""},{"$f":"SUM(AP9,AP12,AP15,AP18,AP21,AP24,AP27,AP30,AP33,AP36,AP39,AP42,AP45,AP48,AP51,AP54,AP57,AP60,AP63,AP66,AP69,AP72,AP75,AP78,AP81,AP84,AP87,AP90,AP93,AP96,AP99,AP102,AP105)","v":0},null,null,null,{"$f":"IF(TRIM(AS117)=\"\", \"\", IF(VLOOKUP(AS117,'Footnotes list'!$D$9:$E$58,2,FALSE)=0,\"\",VLOOKUP(AS117,'Footnotes list'!$D$9:$E$58,2,FALSE) ) )","v":""},{"$f":"SUM(AU9,AU12,AU15,AU18,AU21,AU24,AU27,AU30,AU33,AU36,AU39,AU42,AU45,AU48,AU51,AU54,AU57,AU60,AU63,AU66,AU69,AU72,AU75,AU78,AU81,AU84,AU87,AU90,AU93,AU96,AU99,AU102,AU105)","v":0},null,null,null,{"$f":"IF(TRIM(AX117)=\"\", \"\", IF(VLOOKUP(AX117,'Footnotes list'!$D$9:$E$58,2,FALSE)=0,\"\",VLOOKUP(AX117,'Footnotes list'!$D$9:$E$58,2,FALSE) ) )","v":""},{"$f":"SUM(AZ9,AZ12,AZ15,AZ18,AZ21,AZ24,AZ27,AZ30,AZ33,AZ36,AZ39,AZ42,AZ45,AZ48,AZ51,AZ54,AZ57,AZ60,AZ63,AZ66,AZ69,AZ72,AZ75,AZ78,AZ81,AZ84,AZ87,AZ90,AZ93,AZ96,AZ99,AZ102,AZ105)","v":0},null,null,null,{"$f":"IF(TRIM(BC117)=\"\", \"\", IF(VLOOKUP(BC117,'Footnotes list'!$D$9:$E$58,2,FALSE)=0,\"\",VLOOKUP(BC117,'Footnotes list'!$D$9:$E$58,2,FALSE) ) )","v":""},{"$f":"SUM(BE9,BE12,BE15,BE18,BE21,BE24,BE27,BE30,BE33,BE36,BE39,BE42,BE45,BE48,BE51,BE54,BE57,BE60,BE63,BE66,BE69,BE72,BE75,BE78,BE81,BE84,BE87,BE90,BE93,BE96,BE99,BE102,BE105)","v":0},null,null,null,{"$f":"IF(TRIM(BH117)=\"\", \"\", IF(VLOOKUP(BH117,'Footnotes list'!$D$9:$E$58,2,FALSE)=0,\"\",VLOOKUP(BH117,'Footnotes list'!$D$9:$E$58,2,FALSE) ) )","v":""},{"$f":"SUM(BJ9,BJ12,BJ15,BJ18,BJ21,BJ24,BJ27,BJ30,BJ33,BJ36,BJ39,BJ42,BJ45,BJ48,BJ51,BJ54,BJ57,BJ60,BJ63,BJ66,BJ69,BJ72,BJ75,BJ78,BJ81,BJ84,BJ87,BJ90,BJ93,BJ96,BJ99,BJ102,BJ105)","v":0},null,null,null,{"$f":"IF(TRIM(BM117)=\"\", \"\", IF(VLOOKUP(BM117,'Footnotes list'!$D$9:$E$58,2,FALSE)=0,\"\",VLOOKUP(BM117,'Footnotes list'!$D$9:$E$58,2,FALSE) ) )","v":""},{"$f":"SUM(BO9,BO12,BO15,BO18,BO21,BO24,BO27,BO30,BO33,BO36,BO39,BO42,BO45,BO48,BO51,BO54,BO57,BO60,BO63,BO66,BO69,BO72,BO75,BO78,BO81,BO84,BO87,BO90,BO93,BO96,BO99,BO102,BO105)","v":0},null,null,null,{"$f":"IF(TRIM(BR117)=\"\", \"\", IF(VLOOKUP(BR117,'Footnotes list'!$D$9:$E$58,2,FALSE)=0,\"\",VLOOKUP(BR117,'Footnotes list'!$D$9:$E$58,2,FALSE) ) )","v":""},{"$f":"SUM(BT9,BT12,BT15,BT18,BT21,BT24,BT27,BT30,BT33,BT36,BT39,BT42,BT45,BT48,BT51,BT54,BT57,BT60,BT63,BT66,BT69,BT72,BT75,BT78,BT81,BT84,BT87,BT90,BT93,BT96,BT99,BT102,BT105)","v":0},null,null,null,{"$f":"IF(TRIM(BW117)=\"\", \"\", IF(VLOOKUP(BW117,'Footnotes list'!$D$9:$E$58,2,FALSE)=0,\"\",VLOOKUP(BW117,'Footnotes list'!$D$9:$E$58,2,FALSE) ) )","v":""},{"$f":"SUM(BY9,BY12,BY15,BY18,BY21,BY24,BY27,BY30,BY33,BY36,BY39,BY42,BY45,BY48,BY51,BY54,BY57,BY60,BY63,BY66,BY69,BY72,BY75,BY78,BY81,BY84,BY87,BY90,BY93,BY96,BY99,BY102,BY105)","v":0},null,null,null,{"$f":"IF(TRIM(CB117)=\"\", \"\", IF(VLOOKUP(CB117,'Footnotes list'!$D$9:$E$58,2,FALSE)=0,\"\",VLOOKUP(CB117,'Footnotes list'!$D$9:$E$58,2,FALSE) ) )","v":""},{"$f":"SUM(CD9,CD12,CD15,CD18,CD21,CD24,CD27,CD30,CD33,CD36,CD39,CD42,CD45,CD48,CD51,CD54,CD57,CD60,CD63,CD66,CD69,CD72,CD75,CD78,CD81,CD84,CD87,CD90,CD93,CD96,CD99,CD102,CD105)","v":0},null,null,null,{"$f":"IF(TRIM(CG117)=\"\", \"\", IF(VLOOKUP(CG117,'Footnotes list'!$D$9:$E$58,2,FALSE)=0,\"\",VLOOKUP(CG117,'Footnotes list'!$D$9:$E$58,2,FALSE) ) )","v":""},{"$f":"SUM(CI9,CI12,CI15,CI18,CI21,CI24,CI27,CI30,CI33,CI36,CI39,CI42,CI45,CI48,CI51,CI54,CI57,CI60,CI63,CI66,CI69,CI72,CI75,CI78,CI81,CI84,CI87,CI90,CI93,CI96,CI99,CI102,CI105)","v":0},null,null,null,{"$f":"IF(TRIM(CL117)=\"\", \"\", IF(VLOOKUP(CL117,'Footnotes list'!$D$9:$E$58,2,FALSE)=0,\"\",VLOOKUP(CL117,'Footnotes list'!$D$9:$E$58,2,FALSE) ) )","v":""},{"$f":"SUM(CN9,CN12,CN15,CN18,CN21,CN24,CN27,CN30,CN33,CN36,CN39,CN42,CN45,CN48,CN51,CN54,CN57,CN60,CN63,CN66,CN69,CN72,CN75,CN78,CN81,CN84,CN87,CN90,CN93,CN96,CN99,CN102,CN105)","v":0},null,null,null,{"$f":"IF(TRIM(CQ117)=\"\", \"\", IF(VLOOKUP(CQ117,'Footnotes list'!$D$9:$E$58,2,FALSE)=0,\"\",VLOOKUP(CQ117,'Footnotes list'!$D$9:$E$58,2,FALSE) ) )","v":""},{"$f":"SUM(CS9,CS12,CS15,CS18,CS21,CS24,CS27,CS30,CS33,CS36,CS39,CS42,CS45,CS48,CS51,CS54,CS57,CS60,CS63,CS66,CS69,CS72,CS75,CS78,CS81,CS84,CS87,CS90,CS93,CS96,CS99,CS102,CS105)","v":0},null,null,null,{"$f":"IF(TRIM(CV117)=\"\", \"\", IF(VLOOKUP(CV117,'Footnotes list'!$D$9:$E$58,2,FALSE)=0,\"\",VLOOKUP(CV117,'Footnotes list'!$D$9:$E$58,2,FALSE) ) )","v":""},{"$f":"SUM(CX9,CX12,CX15,CX18,CX21,CX24,CX27,CX30,CX33,CX36,CX39,CX42,CX45,CX48,CX51,CX54,CX57,CX60,CX63,CX66,CX69,CX72,CX75,CX78,CX81,CX84,CX87,CX90,CX93,CX96,CX99,CX102,CX105)","v":0},null,null,null,{"$f":"IF(TRIM(DA117)=\"\", \"\", IF(VLOOKUP(DA117,'Footnotes list'!$D$9:$E$58,2,FALSE)=0,\"\",VLOOKUP(DA117,'Footnotes list'!$D$9:$E$58,2,FALSE) ) )","v":""},{"$f":"SUM(DC9,DC12,DC15,DC18,DC21,DC24,DC27,DC30,DC33,DC36,DC39,DC42,DC45,DC48,DC51,DC54,DC57,DC60,DC63,DC66,DC69,DC72,DC75,DC78,DC81,DC84,DC87,DC90,DC93,DC96,DC99,DC102,DC105)","v":0},null,null,null,{"$f":"IF(TRIM(DF117)=\"\", \"\", IF(VLOOKUP(DF117,'Footnotes list'!$D$9:$E$58,2,FALSE)=0,\"\",VLOOKUP(DF117,'Footnotes list'!$D$9:$E$58,2,FALSE) ) )","v":""},{"$f":"SUM(DH9,DH12,DH15,DH18,DH21,DH24,DH27,DH30,DH33,DH36,DH39,DH42,DH45,DH48,DH51,DH54,DH57,DH60,DH63,DH66,DH69,DH72,DH75,DH78,DH81,DH84,DH87,DH90,DH93,DH96,DH99,DH102,DH105)","v":0},null,null,null,{"$f":"IF(TRIM(DK117)=\"\", \"\", IF(VLOOKUP(DK117,'Footnotes list'!$D$9:$E$58,2,FALSE)=0,\"\",VLOOKUP(DK117,'Footnotes list'!$D$9:$E$58,2,FALSE) ) )","v":""}]
[null,null,"TOTAL",null,"HAZ_NHAZ","Total",0,null,null,null,{"$f":"IF(TRIM(J118)=\"\", \"\", IF(VLOOKUP(J118,'Footnotes list'!$D$9:$E$58,2,FALSE)=0,\"\",VLOOKUP(J118,'Footnotes list'!$D$9:$E$58,2,FALSE) ) )","v":""},0,null,null,null,{"$f":"IF(TRIM(O118)=\"\", \"\", IF(VLOOKUP(O118,'Footnotes list'!$D$9:$E$58,2,FALSE)=0,\"\",VLOOKUP(O118,'Footnotes list'!$D$9:$E$58,2,FALSE) ) )","v":""},0,null,null,null,{"$f":"IF(TRIM(T118)=\"\", \"\", IF(VLOOKUP(T118,'Footnotes list'!$D$9:$E$58,2,FALSE)=0,\"\",VLOOKUP(T118,'Footnotes list'!$D$9:$E$58,2,FALSE) ) )","v":""},0,null,null,null,{"$f":"IF(TRIM(Y118)=\"\", \"\", IF(VLOOKUP(Y118,'Footnotes list'!$D$9:$E$58,2,FALSE)=0,\"\",VLOOKUP(Y118,'Footnotes list'!$D$9:$E$58,2,FALSE) ) )","v":""},0,null,null,null,{"$f":"IF(TRIM(AD118)=\"\", \"\", IF(VLOOKUP(AD118,'Footnotes list'!$D$9:$E$58,2,FALSE)=0,\"\",VLOOKUP(AD118,'Footnotes list'!$D$9:$E$58,2,FALSE) ) )","v":""},0,null,null,null,{"$f":"IF(TRIM(AI118)=\"\", \"\", IF(VLOOKUP(AI118,'Footnotes list'!$D$9:$E$58,2,FALSE)=0,\"\",VLOOKUP(AI118,'Footnotes list'!$D$9:$E$58,2,FALSE) ) )","v":""},0,null,null,null,{"$f":"IF(TRIM(AN118)=\"\", \"\", IF(VLOOKUP(AN118,'Footnotes list'!$D$9:$E$58,2,FALSE)=0,\"\",VLOOKUP(AN118,'Footnotes list'!$D$9:$E$58,2,FALSE) ) )","v":""},0,null,null,null,{"$f":"IF(TRIM(AS118)=\"\", \"\", IF(VLOOKUP(AS118,'Footnotes list'!$D$9:$E$58,2,FALSE)=0,\"\",VLOOKUP(AS118,'Footnotes list'!$D$9:$E$58,2,FALSE) ) )","v":""},0,null,null,null,{"$f":"IF(TRIM(AX118)=\"\", \"\", IF(VLOOKUP(AX118,'Footnotes list'!$D$9:$E$58,2,FALSE)=0,\"\",VLOOKUP(AX118,'Footnotes list'!$D$9:$E$58,2,FALSE) ) )","v":""},0,null,null,null,{"$f":"IF(TRIM(BC118)=\"\", \"\", IF(VLOOKUP(BC118,'Footnotes list'!$D$9:$E$58,2,FALSE)=0,\"\",VLOOKUP(BC118,'Footnotes list'!$D$9:$E$58,2,FALSE) ) )","v":""},0,null,null,null,{"$f":"IF(TRIM(BH118)=\"\", \"\", IF(VLOOKUP(BH118,'Footnotes list'!$D$9:$E$58,2,FALSE)=0,\"\",VLOOKUP(BH118,'Footnotes list'!$D$9:$E$58,2,FALSE) ) )","v":""},0,null,null,null,{"$f":"IF(TRIM(BM118)=\"\", \"\", IF(VLOOKUP(BM118,'Footnotes list'!$D$9:$E$58,2,FALSE)=0,\"\",VLOOKUP(BM118,'Footnotes list'!$D$9:$E$58,2,FALSE) ) )","v":""},0,null,null,null,{"$f":"IF(TRIM(BR118)=\"\", \"\", IF(VLOOKUP(BR118,'Footnotes list'!$D$9:$E$58,2,FALSE)=0,\"\",VLOOKUP(BR118,'Footnotes list'!$D$9:$E$58,2,FALSE) ) )","v":""},0,null,null,null,{"$f":"IF(TRIM(BW118)=\"\", \"\", IF(VLOOKUP(BW118,'Footnotes list'!$D$9:$E$58,2,FALSE)=0,\"\",VLOOKUP(BW118,'Footnotes list'!$D$9:$E$58,2,FALSE) ) )","v":""},0,null,null,null,{"$f":"IF(TRIM(CB118)=\"\", \"\", IF(VLOOKUP(CB118,'Footnotes list'!$D$9:$E$58,2,FALSE)=0,\"\",VLOOKUP(CB118,'Footnotes list'!$D$9:$E$58,2,FALSE) ) )","v":""},0,null,null,null,{"$f":"IF(TRIM(CG118)=\"\", \"\", IF(VLOOKUP(CG118,'Footnotes list'!$D$9:$E$58,2,FALSE)=0,\"\",VLOOKUP(CG118,'Footnotes list'!$D$9:$E$58,2,FALSE) ) )","v":""},0,null,null,null,{"$f":"IF(TRIM(CL118)=\"\", \"\", IF(VLOOKUP(CL118,'Footnotes list'!$D$9:$E$58,2,FALSE)=0,\"\",VLOOKUP(CL118,'Footnotes list'!$D$9:$E$58,2,FALSE) ) )","v":""},0,null,null,null,{"$f":"IF(TRIM(CQ118)=\"\", \"\", IF(VLOOKUP(CQ118,'Footnotes list'!$D$9:$E$58,2,FALSE)=0,\"\",VLOOKUP(CQ118,'Footnotes list'!$D$9:$E$58,2,FALSE) ) )","v":""},0,null,null,null,{"$f":"IF(TRIM(CV118)=\"\", \"\", IF(VLOOKUP(CV118,'Footnotes list'!$D$9:$E$58,2,FALSE)=0,\"\",VLOOKUP(CV118,'Footnotes list'!$D$9:$E$58,2,FALSE) ) )","v":""},0,null,null,null,{"$f":"IF(TRIM(DA118)=\"\", \"\", IF(VLOOKUP(DA118,'Footnotes list'!$D$9:$E$58,2,FALSE)=0,\"\",VLOOKUP(DA118,'Footnotes list'!$D$9:$E$58,2,FALSE) ) )","v":""},0,null,null,null,{"$f":"IF(TRIM(DF118)=\"\", \"\", IF(VLOOKUP(DF118,'Footnotes list'!$D$9:$E$58,2,FALSE)=0,\"\",VLOOKUP(DF118,'Footnotes list'!$D$9:$E$58,2,FALSE) ) )","v":""},0,null,null,null,{"$f":"IF(TRIM(DK118)=\"\", \"\", IF(VLOOKUP(DK118,'Footnotes list'!$D$9:$E$58,2,FALSE)=0,\"\",VLOOKUP(DK118,'Footnotes list'!$D$9:$E$58,2,FALSE) ) )","v":""}]
[]
[null,"Notes:"]
[]
[null,"Cell shading:"]
[null,"White: Data provision is mandatory."]
[null,"Light grey: Automatic calculation. Formula can exceptionally be changed by a value"]
[null,"Light orange: Footnotes (only to be filled-in when relevant)"]
[null,"Black: Not applicable"]
[]
[]
[null,"Valid standard footnotes:"]
[null,"     B -  Break in time series"]
[null,"     E -  Estimate"]
[null,"     P -  Provisional"]
[]
[null,"Valid confidentiality footnotes:"]
[null,"     C -  Confidential"]
[null,"     D -  Secondary confidentiality set by the sender, not for publication"]

{"sheet":"StandardFootnotes","index":10,"n_rows":3,"n_cols":7,"rows_kept":3,"cut":false,"hidden":true,"merged":[]}
["Severity","SheetName","Top Left Cell","Bottom Right Cell","Row Step","Column Step","Footnote type \n(CONF/STATUS)"]
["Error","Table_1","H8","DI118",1,5,"STATUS"]
["Error","Table_1","I8","DJ118",1,5,"CONF"]

{"sheet":"Pre-filling parameters","index":11,"n_rows":3,"n_cols":11,"rows_kept":3,"cut":false,"hidden":true,"merged":[]}
["Sheet From","Sheet To","Top Left Cell","Bottom Right Cell","Row Step","Column Step","Confidentiality flag\n(YES/NO)","Replace locked cells\n(YES/NO)","Hide sheet after pasting\n(YES/NO)","Footnote Call-out (number) exists\n(YES/NO)"]
["Table_1 (COPY-PASTING)","Table_1","G8","DL106",1,5,"YES","NO","NO","YES","Waste detail"]
["Table_1 (COPY-PASTING)","Table_1","G107","DL118",1,5,"YES","NO","NO","YES","GRAND TOTALS"]

{"sheet":"Changelog","index":12,"n_rows":24,"n_cols":7,"rows_kept":24,"cut":false,"hidden":true,"merged":[]}
["Changed by","SheetName","Cell","Change","Version","Date","REMARKS"]
["CDD","ChangeLog",null,"Sheet was added. Changes before 06/05/2022 do no appear in this log.","v0.8m22","May 2022"]
[null,null,null,"Add macros m21"]
[null,null,null,"Include SSS \"ForbiddenStrings\""]
[null,"CountryName",null,"This QC has been merge into \"mandatory\" QC"]
[null,"ALL",null,"Adapt to Style Guide for E2 Waste questionnaires"]
[null,"Table_1",null,"Change code HH back to EP_HH"]
[null,"MacroBehaviour",null,"Include MacroBehaviour sheet (see the sheet content for details)"]
["CDD","Table_1 (COPY-PASTING)",null,"Introduced to allow copy-pasting from that sheet to the reporting one"]
["CDD","Table_!","F3","BUG CORRECTION: This cell must display the country code, but it was always empty because it was pointing to a wrong cell in \"GETTING STARTED\"","v0.8m24","2022-06-17"]
[]
[]
[]
[]
[]
[]
[]
[]
[]
[]
[]
[]
[]
[null,null,null,"º"]

{"sheet":"MacroBehaviour","index":13,"n_rows":3,"n_cols":7,"rows_kept":3,"cut":false,"hidden":true,"merged":[[0,0,0,2],[0,4,0,6]]}
["COMMON TO ALL (OR MOST)  QUESTIONNAIRE",null,null,null,"SPECIFIC TO THIS QUESTIONNAIRE"]
["Parameter","Value","(Valid values)",null,"Parameter","Value","(Valid values)"]
["DevelopmentMode",true,"TRUE (during development)\nFALSE (For real reporting and testing, prevents copy-paste of formats by the user)"]

{"sheet":"Lists","index":14,"n_rows":43,"n_cols":13,"rows_kept":43,"cut":false,"hidden":true,"merged":[[1,9,1,10],[5,9,5,10],[10,9,10,10],[15,9,15,10]]}
["Country label","Country code",null,"Valid flags","Label",null,"Code","Description",null,"Textual variables","String",null,"WASTE-2026-DC"]
["Belgium","BE",null,"B","Break in time series",null,"C","confidential",null,"Institutional names"]
["Bulgaria","BG",null,"E","Estimated data",null,"D","secondary confidentiality set by the sender",null,"Eurostat Text","Statistical Office of the European Union"]
["Czechia","CZ",null,"P","Provisional",null,null,null,null,"Directorate Text","Directorate E: Sectoral and regional statistics"]
["Denmark","DK",null,"BE","Break in time series, estimated",null,null,null,null,"Unit Text","Unit E-2: Environmental statistics and accounts; sustainable development"]
["Germany","DE",null,"BP","Break in time series, provisional",null,null,null,null,"Data collection information"]
["Estonia","EE",null,"EP","Estimated, provisional",null,null,null,null,"Data Collection Text","Biennial Waste Statistics Regulation - Waste Generation"]
["Ireland","IE",null,"BEP","Break in time series, estimated, provisional",null,null,null,null,"Data Collection Year",2026]
["Greece","EL",null,null,null,null,null,null,null,"Launching date","19 May 2026"]
["Spain","ES",null,null,null,null,null,null,null,"Submission deadline","30 June 2026"]
["France","FR",null,null,null,null,null,null,null,"EDAMIS data"]
["Croatia","HR",null,null,null,null,null,null,null,"Domain name","WASTE"]
["Italy","IT",null,null,null,null,null,null,null,"Dataset name","WASTE_GEN"]
["Cyprus","CY",null,null,null,null,null,null,null,"Web page","https://webgate.ec.europa.eu/edamis/helpcenter/website/index.htm"]
["Latvia","LV",null,null,null,null,null,null,null,"Functional e-mail","estat-support-edamis@ec.europa.eu"]
["Lithuania","LT",null,null,null,null,null,null,null,"E2 information"]
["Luxembourg","LU",null,null,null,null,null,null,null,"Telephone","(+352) 4301 33213"]
["Hungary","HU",null,null,null,null,null,null,null,"Contact","ESTAT-WASTE-STATISTICS@EC.EUROPA.EU"]
["Malta","MT",null,null,null,null,null,null,null,"Methodology URL","https://ec.europa.eu/eurostat/web/waste/methodology"]
["Netherlands","NL",null,null,null,null,null,null,null,"Legislation URL","https://ec.europa.eu/eurostat/web/waste/legislation"]
["Austria","AT"]
["Poland","PL"]
["Portugal","PT"]
["Romania","RO"]
["Slovenia","SI"]
["Slovakia","SK"]
["Finland","FI"]
["Sweden","SE"]
["United Kingdom","UK"]
["Iceland","IS"]
["Liechtenstein","LI"]
["Norway","NO"]
["Switzerland","CH"]
["Montenegro","ME"]
["North Macedonia","MK"]
["Albania","AL"]
["Serbia","RS"]
["Turkey","TR"]
["Bosnia and Herzegovina","BA"]
["Kosovo (UNSCR 1244)","XK"]
["Georgia","GE"]
["Moldova","MD"]
["Ukraine","UE"]

{"sheet":"Locks","index":15,"n_rows":37,"n_cols":8,"rows_kept":37,"cut":false,"hidden":true,"merged":[]}
["SheetName","Top Left Cell","Bottom Right Cell","Row Step","Column Step","Lock Type","Focus Back To","IMPORTANT: The same cell must not be included in two ranges. In such a case the switch will operate twice, leaving the cell in the same original state"]
["Table_1","G10","BJ106",3,5,"Formulas","G8","Hazardous + non hazardous (left block, until NACE C)"]
["Table_1","BT10","CD106",3,5,"Formulas","G8","Hazardous + non hazardous (Middle block, between NACE C and E)"]
["Table_1","CN10","DC106",3,5,"Formulas","G8","Hazardous + non hazardous (Right block, between NACE E and Total NACE)"]
["Table_1","G107","DH118",1,5,"Formulas","G8","Bottom grand totals"]
["Table_1","BO8","CI8",999,20,"Formulas","G8","NACE C and NACE E"]
["Table_1","BO10","CI14",1,20,"Formulas","G8","NACE C and NACE E"]
["Table_1","BO16","CI28",1,20,"Formulas","G8","NACE C and NACE E"]
["Table_1","BO30","CI31",1,20,"Formulas","G8","NACE C and NACE E"]
["Table_1","BO33","CI34",1,20,"Formulas","G8","NACE C and NACE E"]
["Table_1","BO36","CI40",1,20,"Formulas","G8","NACE C and NACE E"]
["Table_1","BO42","CI43",1,20,"Formulas","G8","NACE C and NACE E"]
["Table_1","BO45","CI46",1,20,"Formulas","G8","NACE C and NACE E"]
["Table_1","BO48","CI52",1,20,"Formulas","G8","NACE C and NACE E"]
["Table_1","BO54","CI56",1,20,"Formulas","G8","NACE C and NACE E"]
["Table_1","BO58","CI67",1,20,"Formulas","G8","NACE C and NACE E"]
["Table_1","BO69","CI70",1,20,"Formulas","G8","NACE C and NACE E"]
["Table_1","BO72","CI73",1,20,"Formulas","G8","NACE C and NACE E"]
["Table_1","BO75","CI76",1,20,"Formulas","G8","NACE C and NACE E"]
["Table_1","BO78","CI85",1,20,"Formulas","G8","NACE C and NACE E"]
["Table_1","BO87","CI106",1,20,"Formulas","G8","NACE C and NACE E"]
["Table_1","DH8","DH8",999,999,"Formulas","G8","TOTAL NACE"]
["Table_1","DH10","DH14",1,999,"Formulas","G8","TOTAL NACE"]
["Table_1","DH16","DH28",1,999,"Formulas","G8","TOTAL NACE"]
["Table_1","DH30","DH31",1,999,"Formulas","G8","TOTAL NACE"]
["Table_1","DH33","DH34",1,999,"Formulas","G8","TOTAL NACE"]
["Table_1","DH36","DH40",1,999,"Formulas","G8","TOTAL NACE"]
["Table_1","DH42","DH43",1,999,"Formulas","G8","TOTAL NACE"]
["Table_1","DH45","DH46",1,999,"Formulas","G8","TOTAL NACE"]
["Table_1","DH48","DH52",1,999,"Formulas","G8","TOTAL NACE"]
["Table_1","DH54","DH56",1,999,"Formulas","G8","TOTAL NACE"]
["Table_1","DH58","DH67",1,999,"Formulas","G8","TOTAL NACE"]
["Table_1","DH69","DH70",1,999,"Formulas","G8","TOTAL NACE"]
["Table_1","DH72","DH73",1,999,"Formulas","G8","TOTAL NACE"]
["Table_1","DH75","DH76",1,999,"Formulas","G8","TOTAL NACE"]
["Table_1","DH78","DH85",1,999,"Formulas","G8","TOTAL NACE"]
["Table_1","DH87","DH106",1,999,"Formulas","G8","TOTAL NACE"]

{"sheet":"Summations","index":16,"n_rows":110,"n_cols":13,"rows_kept":110,"cut":false,"hidden":true,"merged":[[11,5,11,6]]}
["Severity","Sheet Name","List of Cells\n (first block)","First Total Cell (first block)","Last Total Cell\n(Last block)","Row Block Repetition Step","Column Block Repetition Step","Greater or Equal","Valid Threshold","Only if all data is available","Non compliance Is Valid If Footnote Exists","Footnote Shift From Value","Display text in error"]
["Error","Table_1","G8,G11,G14,G17,G20,G26,G29,G32,G35,G38,G41,G44,G47,G50,G53,G56,G59,G62,G65,G68,G71,G74,G77,G80,G86,G89,G92,G95,G98,G101","G107","DH109",1,5,"EQ",0.1,"NO","YES",3,"Primary Waste"]
["Error","Table_1","G23,G83,G104","G110","DH112",1,5,"EQ",0.1,"NO","YES",3,"Secondary Waste"]
["Error","Table_1","G8,G11,G14,G17,G20,G23,G26,G29,G32,G35,G38,G41,G44,G47,G50,G53,G56,G59,G62,G65,G68,G71,G74,G77,G80,G83,G86,G95,G104","G113","DH115",1,5,"EQ",0.1,"NO","YES",3,"Total Waste (excluding mineral waste)"]
["Error","Table_1","G8,G11,G14,G17,G20,G23,G26,G29,G32,G35,G38,G41,G44,G47,G50,G53,G56,G59,G62,G65,G68,G71,G74,G77,G80,G83,G86,G89,G92,G95,G98,G101,G104","G116","DH118",1,5,"EQ",0.1,"NO","YES",3,"Waste total"]
["Error","Table_1","G8,G9","G10","DH118",3,5,"EQ",0.1,"NO","YES",3,"Total = Haz. + Non-Haz."]
["Error","Table_1","Q8,V8,AA8,AF8,AK8,AP8,AU8,AZ8,BE8,BJ8","BO8","BO118",1,9999,"EQ",0.1,"NO","YES",3,"NACE C"]
["Error","Table_1","BY8,CD8","CI8","CI118",1,9999,"EQ",0.1,"NO","YES",3,"NACE E"]
["Error","Table_1","G8,L8,BO8,BT8,CI8,CN8,CS8,CX8,DC8","DH8","DH118",1,9999,"EQ",0.1,"NO","YES",3,"Total NACE + Households"]
[]
[]
[null,null,null,null,null,"Must be > 0 for a not relevant dimension. Else you get an infinite loop",null,"EQ or GE or GT","GT does not admit threshold","NO or YES",null,"Not Applicable if the previous column is \"NO\""]
[]
["DESCRIPTION"]
["This sheet is meant to define the validation for summations in a row or in a column."]
["- A block is defined as a sequence of addendums in the same row or column"]
["- Only the first block must be explicitly defined"]
["- The block can be repeated at regular patterns through rows and columns at the same time"]
[]
[]
["PARAMETRES"]
["SheetName",null,"Name of the sheet to be validated (e.g. Table 1)"]
["List of Cells\n (first block)",null,"First cell in the first block to be validated"]
["First TotalCell (first block)"]
["Last TotalCell (Last block)"]
["Row Block Repetition Step"]
["Column Block Repetition Step"]
["Greater or Equal"]
["Valid Threshold"]
["Only if all data is available"]
["Display text in error",null,"Valid values: EQ (Strictly equal); GE (Greater or Equal); GT (Strictly greater - No threshold will be considered)"]
[]
[]
[]
[]
[]
[]
[]
[]
[]
[]
[]
[]
[]
[]
[]
[]
[]
[]
[]
[]
[]
[]
[]
[]
[]
[]
[]
[]
[]
[]
[]
[]
[]
[]
[]
[]
[]
[]
[]
[]
[]
[]
[]
[]
[]
[]
[]
[]
[]
[]
[]
[]
[]
[]
[]
[]
[]
[]
[]
[]
[]
[]
[]
[]
[]
[]
[]
[]
[]
[]
[]
[]
[]
[]
[]
[]
[]
[]
[null,null,null,{"$f":"SUM(Summations!B3º)","v":{"$error":"#NAME?"}}]

{"sheet":"Mandatory","index":17,"n_rows":20,"n_cols":9,"rows_kept":20,"cut":false,"hidden":true,"merged":[]}
["Severity","SheetName","Top Left Cell","Bottom Right Cell","Row Step","Column Step","Empty Is Valid If Footnote Exists","Footnote Shift From Value"]
["Error","GETTING STARTED","E9","E10",1,999,"NO",999,"STANDARD FOR ALL QUESTIONNAIRES"]
["Error","GETTING STARTED","D14","D22",2,999,"NO",999]
["Error","Table_1","G8","DC8",1,5,"YES",4]
["Error","Table_1","G10","DC14",1,5,"YES",4]
["Error","Table_1","G16","DC28",1,5,"YES",4]
["Error","Table_1","G30","DC31",1,5,"YES",4]
["Error","Table_1","G33","DC34",1,5,"YES",4]
["Error","Table_1","G36","DC40",1,5,"YES",4]
["Error","Table_1","G42","DC43",1,5,"YES",4]
["Error","Table_1","G45","DC46",1,5,"YES",4]
["Error","Table_1","G48","DC52",1,5,"YES",4]
["Error","Table_1","G54","DC56",1,5,"YES",4]
["Error","Table_1","G56","DC56",1,5,"YES",4]
["Error","Table_1","G58","DC67",1,5,"YES",4]
["Error","Table_1","G69","DC70",1,5,"YES",4]
["Error","Table_1","G72","DC73",1,5,"YES",4]
["Error","Table_1","G75","DC76",1,5,"YES",4]
["Error","Table_1","G78","DC85",1,5,"YES",4]
["Error","Table_1","G87","DC118",1,5,"YES",4]

{"sheet":"SimpleRatios","index":18,"n_rows":6,"n_cols":15,"rows_kept":6,"cut":false,"hidden":true,"merged":[[5,6,5,7]]}
["Severity","Sheet Name","Numerator\n (first block)","Denominator (first block)","First result\n(First block)","Last result\n(Last block)","Row Block Repetition Step","Column Block Repetition Step","Numerator multiplied by ","Ratio Greater or Equal than result cell","Valid Tolerance","If denominator = 0","Display text in error","Accept error If Footnote Exists","Column shift from value to footnote"]
[]
[]
[]
[]
[null,null,null,null,null,null,"Must be > 0 for a not relevant dimension. Else you get an infinite loop"]

{"sheet":"Thresholds","index":19,"n_rows":1,"n_cols":8,"rows_kept":1,"cut":false,"hidden":true,"merged":[]}
["Severity","SheetName","Top Left Cell","Bottom Right Cell","Row Step","Column Step","Lower value","Upper value"]

{"sheet":"x IsFormula","index":20,"n_rows":37,"n_cols":7,"rows_kept":37,"cut":false,"hidden":true,"merged":[]}
["Severity","Sheet Name","Top Left Cell","Bottom Right Cell","Row Step","Column Step","CDD: Validation removed because all summations are \"EQ\". Hence this validation has no added value"]
["Info","Table_1","G10","BJ106",3,5,"Hazardous + non hazardous (left block, until NACE C)"]
["Info","Table_1","BT10","CD106",3,5,"Hazardous + non hazardous (Middle block, between NACE C and E)"]
["Info","Table_1","CN10","DC106",3,5,"Hazardous + non hazardous (Right block, between NACE E and Total NACE)"]
["Info","Table_1","G107","DH118",1,5,"Bottom grand totals"]
["Info","Table_1","BO8","CI8",999,20,"NACE C and NACE E"]
["Info","Table_1","BO10","CI14",1,20,"NACE C and NACE E"]
["Info","Table_1","BO16","CI28",1,20,"NACE C and NACE E"]
["Info","Table_1","BO30","CI31",1,20,"NACE C and NACE E"]
["Info","Table_1","BO33","CI34",1,20,"NACE C and NACE E"]
["Info","Table_1","BO36","CI40",1,20,"NACE C and NACE E"]
["Info","Table_1","BO42","CI43",1,20,"NACE C and NACE E"]
["Info","Table_1","BO45","CI46",1,20,"NACE C and NACE E"]
["Info","Table_1","BO48","CI52",1,20,"NACE C and NACE E"]
["Info","Table_1","BO54","CI56",1,20,"NACE C and NACE E"]
["Info","Table_1","BO58","CI67",1,20,"NACE C and NACE E"]
["Info","Table_1","BO69","CI70",1,20,"NACE C and NACE E"]
["Info","Table_1","BO72","CI73",1,20,"NACE C and NACE E"]
["Info","Table_1","BO75","CI76",1,20,"NACE C and NACE E"]
["Info","Table_1","BO78","CI85",1,20,"NACE C and NACE E"]
["Info","Table_1","BO87","CI106",1,20,"NACE C and NACE E"]
["Info","Table_1","DH8","DH8",999,999,"TOTAL NACE"]
["Info","Table_1","DH10","DH14",1,999,"TOTAL NACE"]
["Info","Table_1","DH16","DH28",1,999,"TOTAL NACE"]
["Info","Table_1","DH30","DH31",1,999,"TOTAL NACE"]
["Info","Table_1","DH33","DH34",1,999,"TOTAL NACE"]
["Info","Table_1","DH36","DH40",1,999,"TOTAL NACE"]
["Info","Table_1","DH42","DH43",1,999,"TOTAL NACE"]
["Info","Table_1","DH45","DH46",1,999,"TOTAL NACE"]
["Info","Table_1","DH48","DH52",1,999,"TOTAL NACE"]
["Info","Table_1","DH54","DH56",1,999,"TOTAL NACE"]
["Info","Table_1","DH58","DH67",1,999,"TOTAL NACE"]
["Info","Table_1","DH69","DH70",1,999,"TOTAL NACE"]
["Info","Table_1","DH72","DH73",1,999,"TOTAL NACE"]
["Info","Table_1","DH75","DH76",1,999,"TOTAL NACE"]
["Info","Table_1","DH78","DH85",1,999,"TOTAL NACE"]
["Info","Table_1","DH87","DH106",1,999,"TOTAL NACE"]

{"sheet":"MustNotBeNegative","index":21,"n_rows":2,"n_cols":6,"rows_kept":2,"cut":false,"hidden":true,"merged":[]}
["Severity","SheetName","TopLeftCell","BottomRightCell","RowStep","ColumnStep"]
["Error","Table_1","G8","DC118",1,5]

{"sheet":"FootnoteContent","index":22,"n_rows":2,"n_cols":7,"rows_kept":2,"cut":false,"hidden":true,"merged":[]}
["Severity","SheetName","TopLeftCell","BottomRightCell","RowStep","ColumnStep","DistanceFromReferenceToText"]
["Error","Table_1","J8","DK118",1,5,1]

{"sheet":"ForbiddenStrings","index":23,"n_rows":5,"n_cols":8,"rows_kept":5,"cut":false,"hidden":true,"merged":[]}
["Severity","SheetName","TopLeftCell","BottomRightCell","RowStep","ColumnStep","ForbiddenString","Display text in error"]
["Warning","Footnotes list","E9","E58",1,999,"not available","Please verify the explanatory note sufficiently explains why the data is not available"]
["Warning","Footnotes list","E9","E58",1,999,"not reported","Please verify the explanatory note sufficiently explains why the data is not available"]
["Warning","Footnotes list","E9","E58",1,999,"unavailable data","Please verify the explanatory note sufficiently explains why the data is not available"]
["Warning","Footnotes list","E9","E58",1,999,"no data available","Please verify the explanatory note sufficiently explains why the data is not available"]

{"sheet":"IsNumeric","index":24,"n_rows":2,"n_cols":6,"rows_kept":2,"cut":false,"hidden":true,"merged":[]}
["Severity","SheetName","TopLeftCell","BottomRightCell","RowStep","ColumnStep"]
["Error","Table_1","G8","DC118",1,5]

{"sheet":"Table_1 (COPY)","index":25,"n_rows":136,"n_cols":116,"rows_kept":136,"cut":false,"hidden":true,"merged":[[5,6,5,10],[5,11,5,15],[5,16,5,20],[5,21,5,25],[5,26,5,30],[5,31,5,35],[5,96,5,100],[5,101,5,105],[5,106,5,110],[5,111,5,115],[5,86,5,90],[5,91,5,95],[5,36,5,40],[5,41,5,45],[5,46,5,50],[5,51,5,55],[5,56,5,60],[5,61,5,65],[5,66,5,70],[5,71,5,75],[5,76,5,80],[5,81,5,85],[6,94,6,95],[6,99,6,100],[6,104,6,105],[6,109,6,110],[6,114,6,115],[7,1,9,1],[7,3,9,3],[6,64,6,65],[6,69,6,70],[6,74,6,75],[6,79,6,80],[6,84,6,85],[6,89,6,90],[6,34,6,35],[6,39,6,40],[6,44,6,45],[6,49,6,50],[6,54,6,55],[6,59,6,60],[6,1,6,5],[6,9,6,10],[6,14,6,15],[6,19,6,20],[6,24,6,25],[6,29,6,30],[19,1,21,1],[19,3,21,3],[22,1,24,1],[22,3,24,3],[25,1,27,1],[25,3,27,3],[10,1,12,1],[10,3,12,3],[13,1,15,1],[13,3,15,3],[16,1,18,1],[16,3,18,3],[37,1,39,1],[37,3,39,3],[40,1,42,1],[40,3,42,3],[43,1,45,1],[43,3,45,3],[28,1,30,1],[28,3,30,3],[31,1,33,1],[31,3,33,3],[34,1,36,1],[34,3,36,3],[55,1,57,1],[55,3,57,3],[58,1,60,1],[58,3,60,3],[61,1,63,1],[61,3,63,3],[46,1,48,1],[46,3,48,3],[49,1,51,1],[49,3,51,3],[52,1,54,1],[52,3,54,3],[88,3,90,3],[73,1,75,1],[73,3,75,3],[76,1,78,1],[76,3,78,3],[79,1,81,1],[79,3,81,3],[64,1,66,1],[64,3,66,3],[67,1,69,1],[67,3,69,3],[70,1,72,1],[70,3,72,3],[1,6,3,115],[109,1,111,1],[109,3,111,3],[112,1,114,1],[112,3,114,3],[115,1,117,1],[115,3,117,3],[100,1,102,1],[100,3,102,3],[103,1,105,1],[103,3,105,3],[106,1,108,1],[106,3,108,3],[91,1,93,1],[91,3,93,3],[94,1,96,1],[94,3,96,3],[97,1,99,1],[97,3,99,3],[82,1,84,1],[82,3,84,3],[85,1,87,1],[85,3,87,3],[88,1,90,1]]}
[]
[null,null,null,null,null,null,"COPY NOT VALID FOR REPORTING … COPY NOT VALID FOR REPORTING ...  COPY NOT VALID FOR REPORTING … COPY NOT VALID FOR REPORTING … COPY NOT VALID FOR REPORTING ... COPY NOT VALID FOR REPORTING ... COPY NOT VALID FOR REPORTING  … COPY NOT VALID FOR REPORTING ... COPY NOT VALID FOR REPORTING "]
[null,"Country:",null,{"$f":"IF('GETTING STARTED'!E9=\"\",\"\",'GETTING STARTED'!$E$9)","v":"Croatia"},null,{"$f":"IF('GETTING STARTED'!F9=\"\",\"\",'GETTING STARTED'!$F$9)","v":""}]
[null,"Reference year:",null,{"$f":"IF('GETTING STARTED'!E10=\"\",\"\",'GETTING STARTED'!$E$10)","v":2024}]
[null,null,null,null,null,null,"A",null,null,null,null,"B",null,null,null,null,"C10-C12",null,null,null,null,"C13-C15",null,null,null,null,"C16",null,null,null,null,"C17_C18",null,null,null,null,"C19",null,null,null,null,"C20-C22",null,null,null,null,"C23",null,null,null,null,"C24_C25",null,null,null,null,"C26-C30",null,null,null,null,"C31-C33",null,null,null,null,"C",null,null,null,null,"D",null,null,null,null,"E36_E37_E39",null,null,null,null,"E38",null,null,null,null,"E",null,null,null,null,"F",null,null,null,null,"G-U_X_G4677",null,null,null,null,"G4677",null,null,null,null,"EP_HH",null,null,null,null,"TOTAL_HH"]
[null,"Unit: Tonnes",null,"T",null,null,{"$f":"G5","v":"A"},null,null,null,null,{"$f":"L5","v":"B"},null,null,null,null,{"$f":"Q5","v":"C10-C12"},null,null,null,null,{"$f":"V5","v":"C13-C15"},null,null,null,null,{"$f":"AA5","v":"C16"},null,null,null,null,{"$f":"AF5","v":"C17_C18"},null,null,null,null,{"$f":"AK5","v":"C19"},null,null,null,null,{"$f":"AP5","v":"C20-C22"},null,null,null,null,{"$f":"AU5","v":"C23"},null,null,null,null,{"$f":"AZ5","v":"C24_C25"},null,null,null,null,{"$f":"BE5","v":"C26-C30"},null,null,null,null,{"$f":"BJ5","v":"C31-C33"},null,null,null,null,{"$f":"BO5","v":"C"},null,null,null,null,{"$f":"BT5","v":"D"},null,null,null,null,{"$f":"BY5","v":"E36_E37_E39"},null,null,null,null,{"$f":"CD5","v":"E38"},null,null,null,null,{"$f":"CI5","v":"E"},null,null,null,null,{"$f":"CN5","v":"F"},null,null,null,null,{"$f":"CS5","v":"G-U_X_G4677"},null,null,null,null,{"$f":"CX5","v":"G4677"},null,null,null,null,{"$f":"DC5","v":"EP_HH"},null,null,null,null,{"$f":"DH5","v":"TOTAL_HH"}]
[null,"WASTE GENERATION\nby waste category (EWC-STAT)\nand economic activity (NACE)",null,null,null,null,"Agriculture, forestry and fishing","Standard footnote","Confidentiality footnote","Explanatory footnote",null,"Mining and quarrying","Standard footnote","Confidentiality footnote","Explanatory footnote",null,"Manufacture of food products; beverages and tobacco products","Standard footnote","Confidentiality footnote","Explanatory footnote",null,"Manufacture of textiles, wearing apparel, leather and related products","Standard footnote","Confidentiality footnote","Explanatory footnote",null,"Manufacture of wood and of products of wood and cork, except furniture; manufacture of articles of straw and plaiting materials","Standard footnote","Confidentiality footnote","Explanatory footnote",null,"Manufacture of paper and paper products; printing and reproduction of recorded media","Standard footnote","Confidentiality footnote","Explanatory footnote",null,"Manufacture of coke and refined petroleum products","Standard footnote","Confidentiality footnote","Explanatory footnote",null,"Manufacture of chemical, pharmaceutical, rubber and plastic products","Standard footnote","Confidentiality footnote","Explanatory footnote",null,"Manufacture of other non-metallic mineral products","Standard footnote","Confidentiality footnote","Explanatory footnote",null,"Manufacture of basic metals and fabricated metal products, except machinery and equipment","Standard footnote","Confidentiality footnote","Explanatory footnote",null,"Manufacture of computer, electronic and optical products, electrical equipment, motor vehicles and other transport equipment","Standard footnote","Confidentiality footnote","Explanatory footnote",null,"Manufacture of furniture; jewellery, musical instruments, toys; repair and installation of machinery and equipment","Standard footnote","Confidentiality footnote","Explanatory footnote",null,"Manufacturing","Standard footnote","Confidentiality footnote","Explanatory footnote",null,"Electricity, gas, steam and air conditioning supply","Standard footnote","Confidentiality footnote","Explanatory footnote",null,"Water collection, treatment and supply; sewerage; remediation activities and other waste management services","Standard footnote","Confidentiality footnote","Explanatory footnote",null,"Waste collection, treatment and disposal activities; materials recovery","Standard footnote","Confidentiality footnote","Explanatory footnote",null,"Water supply; sewerage, waste management and remediation activities","Standard footnote","Confidentiality footnote","Explanatory footnote",null,"Construction","Standard footnote","Confidentiality footnote","Explanatory footnote",null,"Services (except wholesale of waste and scrap)","Standard footnote","Confidentiality footnote","Explanatory footnote",null,"Wholesale of waste and scrap","Standard footnote","Confidentiality footnote","Explanatory footnote",null,"Households","Standard footnote","Confidentiality footnote","Explanatory footnote",null,"All NACE activities plus households","Standard footnote","Confidentiality footnote","Explanatory footnote"]
[null,"W011","W011","Spent solvents ","HAZ","Hazardous ",null,null,null,null,{"$f":"IF(TRIM(J8)=\"\", \"\", IF(VLOOKUP(J8,'Footnotes list'!$D$9:$E$58,2,FALSE)=0,\"\",VLOOKUP(J8,'Footnotes list'!$D$9:$E$58,2,FALSE) ) )","v":""},null,null,null,null,{"$f":"IF(TRIM(O8)=\"\", \"\", IF(VLOOKUP(O8,'Footnotes list'!$D$9:$E$58,2,FALSE)=0,\"\",VLOOKUP(O8,'Footnotes list'!$D$9:$E$58,2,FALSE) ) )","v":""},null,null,null,null,{"$f":"IF(TRIM(T8)=\"\", \"\", IF(VLOOKUP(T8,'Footnotes list'!$D$9:$E$58,2,FALSE)=0,\"\",VLOOKUP(T8,'Footnotes list'!$D$9:$E$58,2,FALSE) ) )","v":""},null,null,null,null,{"$f":"IF(TRIM(Y8)=\"\", \"\", IF(VLOOKUP(Y8,'Footnotes list'!$D$9:$E$58,2,FALSE)=0,\"\",VLOOKUP(Y8,'Footnotes list'!$D$9:$E$58,2,FALSE) ) )","v":""},null,null,null,null,{"$f":"IF(TRIM(AD8)=\"\", \"\", IF(VLOOKUP(AD8,'Footnotes list'!$D$9:$E$58,2,FALSE)=0,\"\",VLOOKUP(AD8,'Footnotes list'!$D$9:$E$58,2,FALSE) ) )","v":""},null,null,null,null,{"$f":"IF(TRIM(AI8)=\"\", \"\", IF(VLOOKUP(AI8,'Footnotes list'!$D$9:$E$58,2,FALSE)=0,\"\",VLOOKUP(AI8,'Footnotes list'!$D$9:$E$58,2,FALSE) ) )","v":""},null,null,null,null,{"$f":"IF(TRIM(AN8)=\"\", \"\", IF(VLOOKUP(AN8,'Footnotes list'!$D$9:$E$58,2,FALSE)=0,\"\",VLOOKUP(AN8,'Footnotes list'!$D$9:$E$58,2,FALSE) ) )","v":""},null,null,null,null,{"$f":"IF(TRIM(AS8)=\"\", \"\", IF(VLOOKUP(AS8,'Footnotes list'!$D$9:$E$58,2,FALSE)=0,\"\",VLOOKUP(AS8,'Footnotes list'!$D$9:$E$58,2,FALSE) ) )","v":""},null,null,null,null,{"$f":"IF(TRIM(AX8)=\"\", \"\", IF(VLOOKUP(AX8,'Footnotes list'!$D$9:$E$58,2,FALSE)=0,\"\",VLOOKUP(AX8,'Footnotes list'!$D$9:$E$58,2,FALSE) ) )","v":""},null,null,null,null,{"$f":"IF(TRIM(BC8)=\"\", \"\", IF(VLOOKUP(BC8,'Footnotes list'!$D$9:$E$58,2,FALSE)=0,\"\",VLOOKUP(BC8,'Footnotes list'!$D$9:$E$58,2,FALSE) ) )","v":""},null,null,null,null,{"$f":"IF(TRIM(BH8)=\"\", \"\", IF(VLOOKUP(BH8,'Footnotes list'!$D$9:$E$58,2,FALSE)=0,\"\",VLOOKUP(BH8,'Footnotes list'!$D$9:$E$58,2,FALSE) ) )","v":""},null,null,null,null,{"$f":"IF(TRIM(BM8)=\"\", \"\", IF(VLOOKUP(BM8,'Footnotes list'!$D$9:$E$58,2,FALSE)=0,\"\",VLOOKUP(BM8,'Footnotes list'!$D$9:$E$58,2,FALSE) ) )","v":""},{"$f":"IF(AND(TRIM(Q8)=\"\",TRIM(V8)=\"\",TRIM(AA8)=\"\", TRIM(AF8)=\"\", TRIM(AK8)=\"\", TRIM(AP8)=\"\", TRIM(AU8)=\"\", TRIM(AZ8)=\"\", TRIM(BE8)=\"\", TRIM(BJ8)=\"\"),\"\",Q8+V8+AA8+AF8+AK8+AP8+AU8+AZ8+BE8+BJ8)","v":""},null,null,null,{"$f":"IF(TRIM(BR8)=\"\", \"\", IF(VLOOKUP(BR8,'Footnotes list'!$D$9:$E$58,2,FALSE)=0,\"\",VLOOKUP(BR8,'Footnotes list'!$D$9:$E$58,2,FALSE) ) )","v":""},null,null,null,null,{"$f":"IF(TRIM(BW8)=\"\", \"\", IF(VLOOKUP(BW8,'Footnotes list'!$D$9:$E$58,2,FALSE)=0,\"\",VLOOKUP(BW8,'Footnotes list'!$D$9:$E$58,2,FALSE) ) )","v":""},null,null,null,null,{"$f":"IF(TRIM(CB8)=\"\", \"\", IF(VLOOKUP(CB8,'Footnotes list'!$D$9:$E$58,2,FALSE)=0,\"\",VLOOKUP(CB8,'Footnotes list'!$D$9:$E$58,2,FALSE) ) )","v":""},null,null,null,null,{"$f":"IF(TRIM(CG8)=\"\", \"\", IF(VLOOKUP(CG8,'Footnotes list'!$D$9:$E$58,2,FALSE)=0,\"\",VLOOKUP(CG8,'Footnotes list'!$D$9:$E$58,2,FALSE) ) )","v":""},{"$f":"IF(AND(TRIM(BY8)=\"\",TRIM(CD8)=\"\"),\"\",BY8+CD8)","v":""},null,null,null,{"$f":"IF(TRIM(CL8)=\"\", \"\", IF(VLOOKUP(CL8,'Footnotes list'!$D$9:$E$58,2,FALSE)=0,\"\",VLOOKUP(CL8,'Footnotes list'!$D$9:$E$58,2,FALSE) ) )","v":""},null,null,null,null,{"$f":"IF(TRIM(CQ8)=\"\", \"\", IF(VLOOKUP(CQ8,'Footnotes list'!$D$9:$E$58,2,FALSE)=0,\"\",VLOOKUP(CQ8,'Footnotes list'!$D$9:$E$58,2,FALSE) ) )","v":""},null,null,null,null,{"$f":"IF(TRIM(CV8)=\"\", \"\", IF(VLOOKUP(CV8,'Footnotes list'!$D$9:$E$58,2,FALSE)=0,\"\",VLOOKUP(CV8,'Footnotes list'!$D$9:$E$58,2,FALSE) ) )","v":""},null,null,null,null,{"$f":"IF(TRIM(DA8)=\"\", \"\", IF(VLOOKUP(DA8,'Footnotes list'!$D$9:$E$58,2,FALSE)=0,\"\",VLOOKUP(DA8,'Footnotes list'!$D$9:$E$58,2,FALSE) ) )","v":""},null,null,null,null,{"$f":"IF(TRIM(DF8)=\"\", \"\", IF(VLOOKUP(DF8,'Footnotes list'!$D$9:$E$58,2,FALSE)=0,\"\",VLOOKUP(DF8,'Footnotes list'!$D$9:$E$58,2,FALSE) ) )","v":""},{"$f":"IF(AND(TRIM(G8)=\"\",TRIM(L8)=\"\",TRIM(BO8)=\"\",TRIM(BT8)=\"\",TRIM(CI8)=\"\",TRIM(CN8)=\"\",TRIM(CS8)=\"\",TRIM(CX8)=\"\",TRIM(DC8)=\"\"),\"\",SUM(G8,L8,BO8,BT8,CI8,CN8,CS8,CX8,DC8))","v":""},null,null,null,{"$f":"IF(TRIM(DK8)=\"\", \"\", IF(VLOOKUP(DK8,'Footnotes list'!$D$9:$E$58,2,FALSE)=0,\"\",VLOOKUP(DK8,'Footnotes list'!$D$9:$E$58,2,FALSE) ) )","v":""}]
[null,null,null,null,null,"Not applicable"]
[null,null,"W011",null,"HAZ_NHAZ","Total",{"$f":"IF(AND(TRIM(G8)=\"\",TRIM(G9)=\"\"),\"\",G8+G9)","v":""},null,null,null,{"$f":"IF(TRIM(J10)=\"\", \"\", IF(VLOOKUP(J10,'Footnotes list'!$D$9:$E$58,2,FALSE)=0,\"\",VLOOKUP(J10,'Footnotes list'!$D$9:$E$58,2,FALSE) ) )","v":""},{"$f":"IF(AND(TRIM(L8)=\"\",TRIM(L9)=\"\"),\"\",L8+L9)","v":""},null,null,null,{"$f":"IF(TRIM(O10)=\"\", \"\", IF(VLOOKUP(O10,'Footnotes list'!$D$9:$E$58,2,FALSE)=0,\"\",VLOOKUP(O10,'Footnotes list'!$D$9:$E$58,2,FALSE) ) )","v":""},{"$f":"IF(AND(TRIM(Q8)=\"\",TRIM(Q9)=\"\"),\"\",Q8+Q9)","v":""},null,null,null,{"$f":"IF(TRIM(T10)=\"\", \"\", IF(VLOOKUP(T10,'Footnotes list'!$D$9:$E$58,2,FALSE)=0,\"\",VLOOKUP(T10,'Footnotes list'!$D$9:$E$58,2,FALSE) ) )","v":""},{"$f":"IF(AND(TRIM(V8)=\"\",TRIM(V9)=\"\"),\"\",V8+V9)","v":""},null,null,null,{"$f":"IF(TRIM(Y10)=\"\", \"\", IF(VLOOKUP(Y10,'Footnotes list'!$D$9:$E$58,2,FALSE)=0,\"\",VLOOKUP(Y10,'Footnotes list'!$D$9:$E$58,2,FALSE) ) )","v":""},{"$f":"IF(AND(TRIM(AA8)=\"\",TRIM(AA9)=\"\"),\"\",AA8+AA9)","v":""},null,null,null,{"$f":"IF(TRIM(AD10)=\"\", \"\", IF(VLOOKUP(AD10,'Footnotes list'!$D$9:$E$58,2,FALSE)=0,\"\",VLOOKUP(AD10,'Footnotes list'!$D$9:$E$58,2,FALSE) ) )","v":""},{"$f":"IF(AND(TRIM(AF8)=\"\",TRIM(AF9)=\"\"),\"\",AF8+AF9)","v":""},null,null,null,{"$f":"IF(TRIM(AI10)=\"\", \"\", IF(VLOOKUP(AI10,'Footnotes list'!$D$9:$E$58,2,FALSE)=0,\"\",VLOOKUP(AI10,'Footnotes list'!$D$9:$E$58,2,FALSE) ) )","v":""},{"$f":"IF(AND(TRIM(AK8)=\"\",TRIM(AK9)=\"\"),\"\",AK8+AK9)","v":""},null,null,null,{"$f":"IF(TRIM(AN10)=\"\", \"\", IF(VLOOKUP(AN10,'Footnotes list'!$D$9:$E$58,2,FALSE)=0,\"\",VLOOKUP(AN10,'Footnotes list'!$D$9:$E$58,2,FALSE) ) )","v":""},{"$f":"IF(AND(TRIM(AP8)=\"\",TRIM(AP9)=\"\"),\"\",AP8+AP9)","v":""},null,null,null,{"$f":"IF(TRIM(AS10)=\"\", \"\", IF(VLOOKUP(AS10,'Footnotes list'!$D$9:$E$58,2,FALSE)=0,\"\",VLOOKUP(AS10,'Footnotes list'!$D$9:$E$58,2,FALSE) ) )","v":""},{"$f":"IF(AND(TRIM(AU8)=\"\",TRIM(AU9)=\"\"),\"\",AU8+AU9)","v":""},null,null,null,{"$f":"IF(TRIM(AX10)=\"\", \"\", IF(VLOOKUP(AX10,'Footnotes list'!$D$9:$E$58,2,FALSE)=0,\"\",VLOOKUP(AX10,'Footnotes list'!$D$9:$E$58,2,FALSE) ) )","v":""},{"$f":"IF(AND(TRIM(AZ8)=\"\",TRIM(AZ9)=\"\"),\"\",AZ8+AZ9)","v":""},null,null,null,{"$f":"IF(TRIM(BC10)=\"\", \"\", IF(VLOOKUP(BC10,'Footnotes list'!$D$9:$E$58,2,FALSE)=0,\"\",VLOOKUP(BC10,'Footnotes list'!$D$9:$E$58,2,FALSE) ) )","v":""},{"$f":"IF(AND(TRIM(BE8)=\"\",TRIM(BE9)=\"\"),\"\",BE8+BE9)","v":""},null,null,null,{"$f":"IF(TRIM(BH10)=\"\", \"\", IF(VLOOKUP(BH10,'Footnotes list'!$D$9:$E$58,2,FALSE)=0,\"\",VLOOKUP(BH10,'Footnotes list'!$D$9:$E$58,2,FALSE) ) )","v":""},{"$f":"IF(AND(TRIM(BJ8)=\"\",TRIM(BJ9)=\"\"),\"\",BJ8+BJ9)","v":""},null,null,null,{"$f":"IF(TRIM(BM10)=\"\", \"\", IF(VLOOKUP(BM10,'Footnotes list'!$D$9:$E$58,2,FALSE)=0,\"\",VLOOKUP(BM10,'Footnotes list'!$D$9:$E$58,2,FALSE) ) )","v":""},{"$f":"IF(AND(TRIM(BO8)=\"\", TRIM(BO9)=\"\"), \"\", (IF(ISNUMBER(BO8),BO8,0)+IF(ISNUMBER(BO9),BO9,0)))","v":""},null,null,null,{"$f":"IF(TRIM(BR10)=\"\", \"\", IF(VLOOKUP(BR10,'Footnotes list'!$D$9:$E$58,2,FALSE)=0,\"\",VLOOKUP(BR10,'Footnotes list'!$D$9:$E$58,2,FALSE) ) )","v":""},{"$f":"IF(AND(TRIM(BT8)=\"\",TRIM(BT9)=\"\"),\"\",BT8+BT9)","v":""},null,null,null,{"$f":"IF(TRIM(BW10)=\"\", \"\", IF(VLOOKUP(BW10,'Footnotes list'!$D$9:$E$58,2,FALSE)=0,\"\",VLOOKUP(BW10,'Footnotes list'!$D$9:$E$58,2,FALSE) ) )","v":""},{"$f":"IF(AND(TRIM(BY8)=\"\",TRIM(BY9)=\"\"),\"\",BY8+BY9)","v":""},null,null,null,{"$f":"IF(TRIM(CB10)=\"\", \"\", IF(VLOOKUP(CB10,'Footnotes list'!$D$9:$E$58,2,FALSE)=0,\"\",VLOOKUP(CB10,'Footnotes list'!$D$9:$E$58,2,FALSE) ) )","v":""},{"$f":"IF(AND(TRIM(CD8)=\"\",TRIM(CD9)=\"\"),\"\",CD8+CD9)","v":""},null,null,null,{"$f":"IF(TRIM(CG10)=\"\", \"\", IF(VLOOKUP(CG10,'Footnotes list'!$D$9:$E$58,2,FALSE)=0,\"\",VLOOKUP(CG10,'Footnotes list'!$D$9:$E$58,2,FALSE) ) )","v":""},{"$f":"IF(AND(TRIM(CI8)=\"\", TRIM(CI9)=\"\"), \"\", (IF(ISNUMBER(CI8),CI8,0)+IF(ISNUMBER(CI9),CI9,0)))","v":""},null,null,null,{"$f":"IF(TRIM(CL10)=\"\", \"\", IF(VLOOKUP(CL10,'Footnotes list'!$D$9:$E$58,2,FALSE)=0,\"\",VLOOKUP(CL10,'Footnotes list'!$D$9:$E$58,2,FALSE) ) )","v":""},{"$f":"IF(AND(TRIM(CN8)=\"\",TRIM(CN9)=\"\"),\"\",CN8+CN9)","v":""},null,null,null,{"$f":"IF(TRIM(CQ10)=\"\", \"\", IF(VLOOKUP(CQ10,'Footnotes list'!$D$9:$E$58,2,FALSE)=0,\"\",VLOOKUP(CQ10,'Footnotes list'!$D$9:$E$58,2,FALSE) ) )","v":""},{"$f":"IF(AND(TRIM(CS8)=\"\",TRIM(CS9)=\"\"),\"\",CS8+CS9)","v":""},null,null,null,{"$f":"IF(TRIM(CV10)=\"\", \"\", IF(VLOOKUP(CV10,'Footnotes list'!$D$9:$E$58,2,FALSE)=0,\"\",VLOOKUP(CV10,'Footnotes list'!$D$9:$E$58,2,FALSE) ) )","v":""},{"$f":"IF(AND(TRIM(CX8)=\"\",TRIM(CX9)=\"\"),\"\",CX8+CX9)","v":""},null,null,null,{"$f":"IF(TRIM(DA10)=\"\", \"\", IF(VLOOKUP(DA10,'Footnotes list'!$D$9:$E$58,2,FALSE)=0,\"\",VLOOKUP(DA10,'Footnotes list'!$D$9:$E$58,2,FALSE) ) )","v":""},{"$f":"IF(AND(TRIM(DC8)=\"\",TRIM(DC9)=\"\"),\"\",DC8+DC9)","v":""},null,null,null,{"$f":"IF(TRIM(DF10)=\"\", \"\", IF(VLOOKUP(DF10,'Footnotes list'!$D$9:$E$58,2,FALSE)=0,\"\",VLOOKUP(DF10,'Footnotes list'!$D$9:$E$58,2,FALSE) ) )","v":""},{"$f":"IF(AND(TRIM(DH8)=\"\", TRIM(DH9)=\"\"), \"\", SUM(DH8,DH9) )","v":""},null,null,null,{"$f":"IF(TRIM(DK10)=\"\", \"\", IF(VLOOKUP(DK10,'Footnotes list'!$D$9:$E$58,2,FALSE)=0,\"\",VLOOKUP(DK10,'Footnotes list'!$D$9:$E$58,2,FALSE) ) )","v":""}]
[null,"W012","W012","Acid, alkaline or saline wastes ","HAZ","Hazardous ",null,null,null,null,{"$f":"IF(TRIM(J11)=\"\", \"\", IF(VLOOKUP(J11,'Footnotes list'!$D$9:$E$58,2,FALSE)=0,\"\",VLOOKUP(J11,'Footnotes list'!$D$9:$E$58,2,FALSE) ) )","v":""},null,null,null,null,{"$f":"IF(TRIM(O11)=\"\", \"\", IF(VLOOKUP(O11,'Footnotes list'!$D$9:$E$58,2,FALSE)=0,\"\",VLOOKUP(O11,'Footnotes list'!$D$9:$E$58,2,FALSE) ) )","v":""},null,null,null,null,{"$f":"IF(TRIM(T11)=\"\", \"\", IF(VLOOKUP(T11,'Footnotes list'!$D$9:$E$58,2,FALSE)=0,\"\",VLOOKUP(T11,'Footnotes list'!$D$9:$E$58,2,FALSE) ) )","v":""},null,null,null,null,{"$f":"IF(TRIM(Y11)=\"\", \"\", IF(VLOOKUP(Y11,'Footnotes list'!$D$9:$E$58,2,FALSE)=0,\"\",VLOOKUP(Y11,'Footnotes list'!$D$9:$E$58,2,FALSE) ) )","v":""},null,null,null,null,{"$f":"IF(TRIM(AD11)=\"\", \"\", IF(VLOOKUP(AD11,'Footnotes list'!$D$9:$E$58,2,FALSE)=0,\"\",VLOOKUP(AD11,'Footnotes list'!$D$9:$E$58,2,FALSE) ) )","v":""},null,null,null,null,{"$f":"IF(TRIM(AI11)=\"\", \"\", IF(VLOOKUP(AI11,'Footnotes list'!$D$9:$E$58,2,FALSE)=0,\"\",VLOOKUP(AI11,'Footnotes list'!$D$9:$E$58,2,FALSE) ) )","v":""},null,null,null,null,{"$f":"IF(TRIM(AN11)=\"\", \"\", IF(VLOOKUP(AN11,'Footnotes list'!$D$9:$E$58,2,FALSE)=0,\"\",VLOOKUP(AN11,'Footnotes list'!$D$9:$E$58,2,FALSE) ) )","v":""},null,null,null,null,{"$f":"IF(TRIM(AS11)=\"\", \"\", IF(VLOOKUP(AS11,'Footnotes list'!$D$9:$E$58,2,FALSE)=0,\"\",VLOOKUP(AS11,'Footnotes list'!$D$9:$E$58,2,FALSE) ) )","v":""},null,null,null,null,{"$f":"IF(TRIM(AX11)=\"\", \"\", IF(VLOOKUP(AX11,'Footnotes list'!$D$9:$E$58,2,FALSE)=0,\"\",VLOOKUP(AX11,'Footnotes list'!$D$9:$E$58,2,FALSE) ) )","v":""},null,null,null,null,{"$f":"IF(TRIM(BC11)=\"\", \"\", IF(VLOOKUP(BC11,'Footnotes list'!$D$9:$E$58,2,FALSE)=0,\"\",VLOOKUP(BC11,'Footnotes list'!$D$9:$E$58,2,FALSE) ) )","v":""},null,null,null,null,{"$f":"IF(TRIM(BH11)=\"\", \"\", IF(VLOOKUP(BH11,'Footnotes list'!$D$9:$E$58,2,FALSE)=0,\"\",VLOOKUP(BH11,'Footnotes list'!$D$9:$E$58,2,FALSE) ) )","v":""},null,null,null,null,{"$f":"IF(TRIM(BM11)=\"\", \"\", IF(VLOOKUP(BM11,'Footnotes list'!$D$9:$E$58,2,FALSE)=0,\"\",VLOOKUP(BM11,'Footnotes list'!$D$9:$E$58,2,FALSE) ) )","v":""},{"$f":"IF(AND(TRIM(Q11)=\"\",TRIM(V11)=\"\",TRIM(AA11)=\"\", TRIM(AF11)=\"\", TRIM(AK11)=\"\", TRIM(AP11)=\"\", TRIM(AU11)=\"\", TRIM(AZ11)=\"\", TRIM(BE11)=\"\", TRIM(BJ11)=\"\"),\"\",Q11+V11+AA11+AF11+AK11+AP11+AU11+AZ11+BE11+BJ11)","v":""},null,null,null,{"$f":"IF(TRIM(BR11)=\"\", \"\", IF(VLOOKUP(BR11,'Footnotes list'!$D$9:$E$58,2,FALSE)=0,\"\",VLOOKUP(BR11,'Footnotes list'!$D$9:$E$58,2,FALSE) ) )","v":""},null,null,null,null,{"$f":"IF(TRIM(BW11)=\"\", \"\", IF(VLOOKUP(BW11,'Footnotes list'!$D$9:$E$58,2,FALSE)=0,\"\",VLOOKUP(BW11,'Footnotes list'!$D$9:$E$58,2,FALSE) ) )","v":""},null,null,null,null,{"$f":"IF(TRIM(CB11)=\"\", \"\", IF(VLOOKUP(CB11,'Footnotes list'!$D$9:$E$58,2,FALSE)=0,\"\",VLOOKUP(CB11,'Footnotes list'!$D$9:$E$58,2,FALSE) ) )","v":""},null,null,null,null,{"$f":"IF(TRIM(CG11)=\"\", \"\", IF(VLOOKUP(CG11,'Footnotes list'!$D$9:$E$58,2,FALSE)=0,\"\",VLOOKUP(CG11,'Footnotes list'!$D$9:$E$58,2,FALSE) ) )","v":""},{"$f":"IF(AND(TRIM(BY11)=\"\",TRIM(CD11)=\"\"),\"\",BY11+CD11)","v":""},null,null,null,{"$f":"IF(TRIM(CL11)=\"\", \"\", IF(VLOOKUP(CL11,'Footnotes list'!$D$9:$E$58,2,FALSE)=0,\"\",VLOOKUP(CL11,'Footnotes list'!$D$9:$E$58,2,FALSE) ) )","v":""},null,null,null,null,{"$f":"IF(TRIM(CQ11)=\"\", \"\", IF(VLOOKUP(CQ11,'Footnotes list'!$D$9:$E$58,2,FALSE)=0,\"\",VLOOKUP(CQ11,'Footnotes list'!$D$9:$E$58,2,FALSE) ) )","v":""},null,null,null,null,{"$f":"IF(TRIM(CV11)=\"\", \"\", IF(VLOOKUP(CV11,'Footnotes list'!$D$9:$E$58,2,FALSE)=0,\"\",VLOOKUP(CV11,'Footnotes list'!$D$9:$E$58,2,FALSE) ) )","v":""},null,null,null,null,{"$f":"IF(TRIM(DA11)=\"\", \"\", IF(VLOOKUP(DA11,'Footnotes list'!$D$9:$E$58,2,FALSE)=0,\"\",VLOOKUP(DA11,'Footnotes list'!$D$9:$E$58,2,FALSE) ) )","v":""},null,null,null,null,{"$f":"IF(TRIM(DF11)=\"\", \"\", IF(VLOOKUP(DF11,'Footnotes list'!$D$9:$E$58,2,FALSE)=0,\"\",VLOOKUP(DF11,'Footnotes list'!$D$9:$E$58,2,FALSE) ) )","v":""},{"$f":"IF(AND(TRIM(G11)=\"\",TRIM(L11)=\"\",TRIM(BO11)=\"\",TRIM(BT11)=\"\",TRIM(CI11)=\"\",TRIM(CN11)=\"\",TRIM(CS11)=\"\",TRIM(CX11)=\"\",TRIM(DC11)=\"\"),\"\",SUM(G11,L11,BO11,BT11,CI11,CN11,CS11,CX11,DC11))","v":""},null,null,null,{"$f":"IF(TRIM(DK11)=\"\", \"\", IF(VLOOKUP(DK11,'Footnotes list'!$D$9:$E$58,2,FALSE)=0,\"\",VLOOKUP(DK11,'Footnotes list'!$D$9:$E$58,2,FALSE) ) )","v":""}]
[null,null,"W012",null,"NHAZ","Non-hazardous",null,null,null,null,{"$f":"IF(TRIM(J12)=\"\", \"\", IF(VLOOKUP(J12,'Footnotes list'!$D$9:$E$58,2,FALSE)=0,\"\",VLOOKUP(J12,'Footnotes list'!$D$9:$E$58,2,FALSE) ) )","v":""},null,null,null,null,{"$f":"IF(TRIM(O12)=\"\", \"\", IF(VLOOKUP(O12,'Footnotes list'!$D$9:$E$58,2,FALSE)=0,\"\",VLOOKUP(O12,'Footnotes list'!$D$9:$E$58,2,FALSE) ) )","v":""},null,null,null,null,{"$f":"IF(TRIM(T12)=\"\", \"\", IF(VLOOKUP(T12,'Footnotes list'!$D$9:$E$58,2,FALSE)=0,\"\",VLOOKUP(T12,'Footnotes list'!$D$9:$E$58,2,FALSE) ) )","v":""},null,null,null,null,{"$f":"IF(TRIM(Y12)=\"\", \"\", IF(VLOOKUP(Y12,'Footnotes list'!$D$9:$E$58,2,FALSE)=0,\"\",VLOOKUP(Y12,'Footnotes list'!$D$9:$E$58,2,FALSE) ) )","v":""},null,null,null,null,{"$f":"IF(TRIM(AD12)=\"\", \"\", IF(VLOOKUP(AD12,'Footnotes list'!$D$9:$E$58,2,FALSE)=0,\"\",VLOOKUP(AD12,'Footnotes list'!$D$9:$E$58,2,FALSE) ) )","v":""},null,null,null,null,{"$f":"IF(TRIM(AI12)=\"\", \"\", IF(VLOOKUP(AI12,'Footnotes list'!$D$9:$E$58,2,FALSE)=0,\"\",VLOOKUP(AI12,'Footnotes list'!$D$9:$E$58,2,FALSE) ) )","v":""},null,null,null,null,{"$f":"IF(TRIM(AN12)=\"\", \"\", IF(VLOOKUP(AN12,'Footnotes list'!$D$9:$E$58,2,FALSE)=0,\"\",VLOOKUP(AN12,'Footnotes list'!$D$9:$E$58,2,FALSE) ) )","v":""},null,null,null,null,{"$f":"IF(TRIM(AS12)=\"\", \"\", IF(VLOOKUP(AS12,'Footnotes list'!$D$9:$E$58,2,FALSE)=0,\"\",VLOOKUP(AS12,'Footnotes list'!$D$9:$E$58,2,FALSE) ) )","v":""},null,null,null,null,{"$f":"IF(TRIM(AX12)=\"\", \"\", IF(VLOOKUP(AX12,'Footnotes list'!$D$9:$E$58,2,FALSE)=0,\"\",VLOOKUP(AX12,'Footnotes list'!$D$9:$E$58,2,FALSE) ) )","v":""},null,null,null,null,{"$f":"IF(TRIM(BC12)=\"\", \"\", IF(VLOOKUP(BC12,'Footnotes list'!$D$9:$E$58,2,FALSE)=0,\"\",VLOOKUP(BC12,'Footnotes list'!$D$9:$E$58,2,FALSE) ) )","v":""},null,null,null,null,{"$f":"IF(TRIM(BH12)=\"\", \"\", IF(VLOOKUP(BH12,'Footnotes list'!$D$9:$E$58,2,FALSE)=0,\"\",VLOOKUP(BH12,'Footnotes list'!$D$9:$E$58,2,FALSE) ) )","v":""},null,null,null,null,{"$f":"IF(TRIM(BM12)=\"\", \"\", IF(VLOOKUP(BM12,'Footnotes list'!$D$9:$E$58,2,FALSE)=0,\"\",VLOOKUP(BM12,'Footnotes list'!$D$9:$E$58,2,FALSE) ) )","v":""},{"$f":"IF(AND(TRIM(Q12)=\"\",TRIM(V12)=\"\",TRIM(AA12)=\"\", TRIM(AF12)=\"\", TRIM(AK12)=\"\", TRIM(AP12)=\"\", TRIM(AU12)=\"\", TRIM(AZ12)=\"\", TRIM(BE12)=\"\", TRIM(BJ12)=\"\"),\"\",Q12+V12+AA12+AF12+AK12+AP12+AU12+AZ12+BE12+BJ12)","v":""},null,null,null,{"$f":"IF(TRIM(BR12)=\"\", \"\", IF(VLOOKUP(BR12,'Footnotes list'!$D$9:$E$58,2,FALSE)=0,\"\",VLOOKUP(BR12,'Footnotes list'!$D$9:$E$58,2,FALSE) ) )","v":""},null,null,null,null,{"$f":"IF(TRIM(BW12)=\"\", \"\", IF(VLOOKUP(BW12,'Footnotes list'!$D$9:$E$58,2,FALSE)=0,\"\",VLOOKUP(BW12,'Footnotes list'!$D$9:$E$58,2,FALSE) ) )","v":""},null,null,null,null,{"$f":"IF(TRIM(CB12)=\"\", \"\", IF(VLOOKUP(CB12,'Footnotes list'!$D$9:$E$58,2,FALSE)=0,\"\",VLOOKUP(CB12,'Footnotes list'!$D$9:$E$58,2,FALSE) ) )","v":""},null,null,null,null,{"$f":"IF(TRIM(CG12)=\"\", \"\", IF(VLOOKUP(CG12,'Footnotes list'!$D$9:$E$58,2,FALSE)=0,\"\",VLOOKUP(CG12,'Footnotes list'!$D$9:$E$58,2,FALSE) ) )","v":""},{"$f":"IF(AND(TRIM(BY12)=\"\",TRIM(CD12)=\"\"),\"\",BY12+CD12)","v":""},null,null,null,{"$f":"IF(TRIM(CL12)=\"\", \"\", IF(VLOOKUP(CL12,'Footnotes list'!$D$9:$E$58,2,FALSE)=0,\"\",VLOOKUP(CL12,'Footnotes list'!$D$9:$E$58,2,FALSE) ) )","v":""},null,null,null,null,{"$f":"IF(TRIM(CQ12)=\"\", \"\", IF(VLOOKUP(CQ12,'Footnotes list'!$D$9:$E$58,2,FALSE)=0,\"\",VLOOKUP(CQ12,'Footnotes list'!$D$9:$E$58,2,FALSE) ) )","v":""},null,null,null,null,{"$f":"IF(TRIM(CV12)=\"\", \"\", IF(VLOOKUP(CV12,'Footnotes list'!$D$9:$E$58,2,FALSE)=0,\"\",VLOOKUP(CV12,'Footnotes list'!$D$9:$E$58,2,FALSE) ) )","v":""},null,null,null,null,{"$f":"IF(TRIM(DA12)=\"\", \"\", IF(VLOOKUP(DA12,'Footnotes list'!$D$9:$E$58,2,FALSE)=0,\"\",VLOOKUP(DA12,'Footnotes list'!$D$9:$E$58,2,FALSE) ) )","v":""},null,null,null,null,{"$f":"IF(TRIM(DF12)=\"\", \"\", IF(VLOOKUP(DF12,'Footnotes list'!$D$9:$E$58,2,FALSE)=0,\"\",VLOOKUP(DF12,'Footnotes list'!$D$9:$E$58,2,FALSE) ) )","v":""},{"$f":"IF(AND(TRIM(G12)=\"\",TRIM(L12)=\"\",TRIM(BO12)=\"\",TRIM(BT12)=\"\",TRIM(CI12)=\"\",TRIM(CN12)=\"\",TRIM(CS12)=\"\",TRIM(CX12)=\"\",TRIM(DC12)=\"\"),\"\",SUM(G12,L12,BO12,BT12,CI12,CN12,CS12,CX12,DC12))","v":""},null,null,null,{"$f":"IF(TRIM(DK12)=\"\", \"\", IF(VLOOKUP(DK12,'Footnotes list'!$D$9:$E$58,2,FALSE)=0,\"\",VLOOKUP(DK12,'Footnotes list'!$D$9:$E$58,2,FALSE) ) )","v":""}]
[null,null,"W012",null,"HAZ_NHAZ","Total",{"$f":"IF(AND(TRIM(G11)=\"\",TRIM(G12)=\"\"),\"\",G11+G12)","v":""},null,null,null,{"$f":"IF(TRIM(J13)=\"\", \"\", IF(VLOOKUP(J13,'Footnotes list'!$D$9:$E$58,2,FALSE)=0,\"\",VLOOKUP(J13,'Footnotes list'!$D$9:$E$58,2,FALSE) ) )","v":""},{"$f":"IF(AND(TRIM(L11)=\"\",TRIM(L12)=\"\"),\"\",L11+L12)","v":""},null,null,null,{"$f":"IF(TRIM(O13)=\"\", \"\", IF(VLOOKUP(O13,'Footnotes list'!$D$9:$E$58,2,FALSE)=0,\"\",VLOOKUP(O13,'Footnotes list'!$D$9:$E$58,2,FALSE) ) )","v":""},{"$f":"IF(AND(TRIM(Q11)=\"\",TRIM(Q12)=\"\"),\"\",Q11+Q12)","v":""},null,null,null,{"$f":"IF(TRIM(T13)=\"\", \"\", IF(VLOOKUP(T13,'Footnotes list'!$D$9:$E$58,2,FALSE)=0,\"\",VLOOKUP(T13,'Footnotes list'!$D$9:$E$58,2,FALSE) ) )","v":""},{"$f":"IF(AND(TRIM(V11)=\"\",TRIM(V12)=\"\"),\"\",V11+V12)","v":""},null,null,null,{"$f":"IF(TRIM(Y13)=\"\", \"\", IF(VLOOKUP(Y13,'Footnotes list'!$D$9:$E$58,2,FALSE)=0,\"\",VLOOKUP(Y13,'Footnotes list'!$D$9:$E$58,2,FALSE) ) )","v":""},{"$f":"IF(AND(TRIM(AA11)=\"\",TRIM(AA12)=\"\"),\"\",AA11+AA12)","v":""},null,null,null,{"$f":"IF(TRIM(AD13)=\"\", \"\", IF(VLOOKUP(AD13,'Footnotes list'!$D$9:$E$58,2,FALSE)=0,\"\",VLOOKUP(AD13,'Footnotes list'!$D$9:$E$58,2,FALSE) ) )","v":""},{"$f":"IF(AND(TRIM(AF11)=\"\",TRIM(AF12)=\"\"),\"\",AF11+AF12)","v":""},null,null,null,{"$f":"IF(TRIM(AI13)=\"\", \"\", IF(VLOOKUP(AI13,'Footnotes list'!$D$9:$E$58,2,FALSE)=0,\"\",VLOOKUP(AI13,'Footnotes list'!$D$9:$E$58,2,FALSE) ) )","v":""},{"$f":"IF(AND(TRIM(AK11)=\"\",TRIM(AK12)=\"\"),\"\",AK11+AK12)","v":""},null,null,null,{"$f":"IF(TRIM(AN13)=\"\", \"\", IF(VLOOKUP(AN13,'Footnotes list'!$D$9:$E$58,2,FALSE)=0,\"\",VLOOKUP(AN13,'Footnotes list'!$D$9:$E$58,2,FALSE) ) )","v":""},{"$f":"IF(AND(TRIM(AP11)=\"\",TRIM(AP12)=\"\"),\"\",AP11+AP12)","v":""},null,null,null,{"$f":"IF(TRIM(AS13)=\"\", \"\", IF(VLOOKUP(AS13,'Footnotes list'!$D$9:$E$58,2,FALSE)=0,\"\",VLOOKUP(AS13,'Footnotes list'!$D$9:$E$58,2,FALSE) ) )","v":""},{"$f":"IF(AND(TRIM(AU11)=\"\",TRIM(AU12)=\"\"),\"\",AU11+AU12)","v":""},null,null,null,{"$f":"IF(TRIM(AX13)=\"\", \"\", IF(VLOOKUP(AX13,'Footnotes list'!$D$9:$E$58,2,FALSE)=0,\"\",VLOOKUP(AX13,'Footnotes list'!$D$9:$E$58,2,FALSE) ) )","v":""},{"$f":"IF(AND(TRIM(AZ11)=\"\",TRIM(AZ12)=\"\"),\"\",AZ11+AZ12)","v":""},null,null,null,{"$f":"IF(TRIM(BC13)=\"\", \"\", IF(VLOOKUP(BC13,'Footnotes list'!$D$9:$E$58,2,FALSE)=0,\"\",VLOOKUP(BC13,'Footnotes list'!$D$9:$E$58,2,FALSE) ) )","v":""},{"$f":"IF(AND(TRIM(BE11)=\"\",TRIM(BE12)=\"\"),\"\",BE11+BE12)","v":""},null,null,null,{"$f":"IF(TRIM(BH13)=\"\", \"\", IF(VLOOKUP(BH13,'Footnotes list'!$D$9:$E$58,2,FALSE)=0,\"\",VLOOKUP(BH13,'Footnotes list'!$D$9:$E$58,2,FALSE) ) )","v":""},{"$f":"IF(AND(TRIM(BJ11)=\"\",TRIM(BJ12)=\"\"),\"\",BJ11+BJ12)","v":""},null,null,null,{"$f":"IF(TRIM(BM13)=\"\", \"\", IF(VLOOKUP(BM13,'Footnotes list'!$D$9:$E$58,2,FALSE)=0,\"\",VLOOKUP(BM13,'Footnotes list'!$D$9:$E$58,2,FALSE) ) )","v":""},{"$f":"IF(AND(TRIM(BO11)=\"\", TRIM(BO12)=\"\"), \"\", (IF(ISNUMBER(BO11),BO11,0)+IF(ISNUMBER(BO12),BO12,0)))","v":""},null,null,null,{"$f":"IF(TRIM(BR13)=\"\", \"\", IF(VLOOKUP(BR13,'Footnotes list'!$D$9:$E$58,2,FALSE)=0,\"\",VLOOKUP(BR13,'Footnotes list'!$D$9:$E$58,2,FALSE) ) )","v":""},{"$f":"IF(AND(TRIM(BT11)=\"\",TRIM(BT12)=\"\"),\"\",BT11+BT12)","v":""},null,null,null,{"$f":"IF(TRIM(BW13)=\"\", \"\", IF(VLOOKUP(BW13,'Footnotes list'!$D$9:$E$58,2,FALSE)=0,\"\",VLOOKUP(BW13,'Footnotes list'!$D$9:$E$58,2,FALSE) ) )","v":""},{"$f":"IF(AND(TRIM(BY11)=\"\",TRIM(BY12)=\"\"),\"\",BY11+BY12)","v":""},null,null,null,{"$f":"IF(TRIM(CB13)=\"\", \"\", IF(VLOOKUP(CB13,'Footnotes list'!$D$9:$E$58,2,FALSE)=0,\"\",VLOOKUP(CB13,'Footnotes list'!$D$9:$E$58,2,FALSE) ) )","v":""},{"$f":"IF(AND(TRIM(CD11)=\"\",TRIM(CD12)=\"\"),\"\",CD11+CD12)","v":""},null,null,null,{"$f":"IF(TRIM(CG13)=\"\", \"\", IF(VLOOKUP(CG13,'Footnotes list'!$D$9:$E$58,2,FALSE)=0,\"\",VLOOKUP(CG13,'Footnotes list'!$D$9:$E$58,2,FALSE) ) )","v":""},{"$f":"IF(AND(TRIM(CI11)=\"\", TRIM(CI12)=\"\"), \"\", (IF(ISNUMBER(CI11),CI11,0)+IF(ISNUMBER(CI12),CI12,0)))","v":""},null,null,null,{"$f":"IF(TRIM(CL13)=\"\", \"\", IF(VLOOKUP(CL13,'Footnotes list'!$D$9:$E$58,2,FALSE)=0,\"\",VLOOKUP(CL13,'Footnotes list'!$D$9:$E$58,2,FALSE) ) )","v":""},{"$f":"IF(AND(TRIM(CN11)=\"\",TRIM(CN12)=\"\"),\"\",CN11+CN12)","v":""},null,null,null,{"$f":"IF(TRIM(CQ13)=\"\", \"\", IF(VLOOKUP(CQ13,'Footnotes list'!$D$9:$E$58,2,FALSE)=0,\"\",VLOOKUP(CQ13,'Footnotes list'!$D$9:$E$58,2,FALSE) ) )","v":""},{"$f":"IF(AND(TRIM(CS11)=\"\",TRIM(CS12)=\"\"),\"\",CS11+CS12)","v":""},null,null,null,{"$f":"IF(TRIM(CV13)=\"\", \"\", IF(VLOOKUP(CV13,'Footnotes list'!$D$9:$E$58,2,FALSE)=0,\"\",VLOOKUP(CV13,'Footnotes list'!$D$9:$E$58,2,FALSE) ) )","v":""},{"$f":"IF(AND(TRIM(CX11)=\"\",TRIM(CX12)=\"\"),\"\",CX11+CX12)","v":""},null,null,null,{"$f":"IF(TRIM(DA13)=\"\", \"\", IF(VLOOKUP(DA13,'Footnotes list'!$D$9:$E$58,2,FALSE)=0,\"\",VLOOKUP(DA13,'Footnotes list'!$D$9:$E$58,2,FALSE) ) )","v":""},{"$f":"IF(AND(TRIM(DC11)=\"\",TRIM(DC12)=\"\"),\"\",DC11+DC12)","v":""},null,null,null,{"$f":"IF(TRIM(DF13)=\"\", \"\", IF(VLOOKUP(DF13,'Footnotes list'!$D$9:$E$58,2,FALSE)=0,\"\",VLOOKUP(DF13,'Footnotes list'!$D$9:$E$58,2,FALSE) ) )","v":""},{"$f":"IF(AND(TRIM(DH11)=\"\", TRIM(DH12)=\"\"), \"\", SUM(DH11,DH12) )","v":""},null,null,null,{"$f":"IF(TRIM(DK13)=\"\", \"\", IF(VLOOKUP(DK13,'Footnotes list'!$D$9:$E$58,2,FALSE)=0,\"\",VLOOKUP(DK13,'Footnotes list'!$D$9:$E$58,2,FALSE) ) )","v":""}]
[null,"W013","W013","Used oils ","HAZ","Hazardous ",null,null,null,null,{"$f":"IF(TRIM(J14)=\"\", \"\", IF(VLOOKUP(J14,'Footnotes list'!$D$9:$E$58,2,FALSE)=0,\"\",VLOOKUP(J14,'Footnotes list'!$D$9:$E$58,2,FALSE) ) )","v":""},null,null,null,null,{"$f":"IF(TRIM(O14)=\"\", \"\", IF(VLOOKUP(O14,'Footnotes list'!$D$9:$E$58,2,FALSE)=0,\"\",VLOOKUP(O14,'Footnotes list'!$D$9:$E$58,2,FALSE) ) )","v":""},null,null,null,null,{"$f":"IF(TRIM(T14)=\"\", \"\", IF(VLOOKUP(T14,'Footnotes list'!$D$9:$E$58,2,FALSE)=0,\"\",VLOOKUP(T14,'Footnotes list'!$D$9:$E$58,2,FALSE) ) )","v":""},null,null,null,null,{"$f":"IF(TRIM(Y14)=\"\", \"\", IF(VLOOKUP(Y14,'Footnotes list'!$D$9:$E$58,2,FALSE)=0,\"\",VLOOKUP(Y14,'Footnotes list'!$D$9:$E$58,2,FALSE) ) )","v":""},null,null,null,null,{"$f":"IF(TRIM(AD14)=\"\", \"\", IF(VLOOKUP(AD14,'Footnotes list'!$D$9:$E$58,2,FALSE)=0,\"\",VLOOKUP(AD14,'Footnotes list'!$D$9:$E$58,2,FALSE) ) )","v":""},null,null,null,null,{"$f":"IF(TRIM(AI14)=\"\", \"\", IF(VLOOKUP(AI14,'Footnotes list'!$D$9:$E$58,2,FALSE)=0,\"\",VLOOKUP(AI14,'Footnotes list'!$D$9:$E$58,2,FALSE) ) )","v":""},null,null,null,null,{"$f":"IF(TRIM(AN14)=\"\", \"\", IF(VLOOKUP(AN14,'Footnotes list'!$D$9:$E$58,2,FALSE)=0,\"\",VLOOKUP(AN14,'Footnotes list'!$D$9:$E$58,2,FALSE) ) )","v":""},null,null,null,null,{"$f":"IF(TRIM(AS14)=\"\", \"\", IF(VLOOKUP(AS14,'Footnotes list'!$D$9:$E$58,2,FALSE)=0,\"\",VLOOKUP(AS14,'Footnotes list'!$D$9:$E$58,2,FALSE) ) )","v":""},null,null,null,null,{"$f":"IF(TRIM(AX14)=\"\", \"\", IF(VLOOKUP(AX14,'Footnotes list'!$D$9:$E$58,2,FALSE)=0,\"\",VLOOKUP(AX14,'Footnotes list'!$D$9:$E$58,2,FALSE) ) )","v":""},null,null,null,null,{"$f":"IF(TRIM(BC14)=\"\", \"\", IF(VLOOKUP(BC14,'Footnotes list'!$D$9:$E$58,2,FALSE)=0,\"\",VLOOKUP(BC14,'Footnotes list'!$D$9:$E$58,2,FALSE) ) )","v":""},null,null,null,null,{"$f":"IF(TRIM(BH14)=\"\", \"\", IF(VLOOKUP(BH14,'Footnotes list'!$D$9:$E$58,2,FALSE)=0,\"\",VLOOKUP(BH14,'Footnotes list'!$D$9:$E$58,2,FALSE) ) )","v":""},null,null,null,null,{"$f":"IF(TRIM(BM14)=\"\", \"\", IF(VLOOKUP(BM14,'Footnotes list'!$D$9:$E$58,2,FALSE)=0,\"\",VLOOKUP(BM14,'Footnotes list'!$D$9:$E$58,2,FALSE) ) )","v":""},{"$f":"IF(AND(TRIM(Q14)=\"\",TRIM(V14)=\"\",TRIM(AA14)=\"\", TRIM(AF14)=\"\", TRIM(AK14)=\"\", TRIM(AP14)=\"\", TRIM(AU14)=\"\", TRIM(AZ14)=\"\", TRIM(BE14)=\"\", TRIM(BJ14)=\"\"),\"\",Q14+V14+AA14+AF14+AK14+AP14+AU14+AZ14+BE14+BJ14)","v":""},null,null,null,{"$f":"IF(TRIM(BR14)=\"\", \"\", IF(VLOOKUP(BR14,'Footnotes list'!$D$9:$E$58,2,FALSE)=0,\"\",VLOOKUP(BR14,'Footnotes list'!$D$9:$E$58,2,FALSE) ) )","v":""},null,null,null,null,{"$f":"IF(TRIM(BW14)=\"\", \"\", IF(VLOOKUP(BW14,'Footnotes list'!$D$9:$E$58,2,FALSE)=0,\"\",VLOOKUP(BW14,'Footnotes list'!$D$9:$E$58,2,FALSE) ) )","v":""},null,null,null,null,{"$f":"IF(TRIM(CB14)=\"\", \"\", IF(VLOOKUP(CB14,'Footnotes list'!$D$9:$E$58,2,FALSE)=0,\"\",VLOOKUP(CB14,'Footnotes list'!$D$9:$E$58,2,FALSE) ) )","v":""},null,null,null,null,{"$f":"IF(TRIM(CG14)=\"\", \"\", IF(VLOOKUP(CG14,'Footnotes list'!$D$9:$E$58,2,FALSE)=0,\"\",VLOOKUP(CG14,'Footnotes list'!$D$9:$E$58,2,FALSE) ) )","v":""},{"$f":"IF(AND(TRIM(BY14)=\"\",TRIM(CD14)=\"\"),\"\",BY14+CD14)","v":""},null,null,null,{"$f":"IF(TRIM(CL14)=\"\", \"\", IF(VLOOKUP(CL14,'Footnotes list'!$D$9:$E$58,2,FALSE)=0,\"\",VLOOKUP(CL14,'Footnotes list'!$D$9:$E$58,2,FALSE) ) )","v":""},null,null,null,null,{"$f":"IF(TRIM(CQ14)=\"\", \"\", IF(VLOOKUP(CQ14,'Footnotes list'!$D$9:$E$58,2,FALSE)=0,\"\",VLOOKUP(CQ14,'Footnotes list'!$D$9:$E$58,2,FALSE) ) )","v":""},null,null,null,null,{"$f":"IF(TRIM(CV14)=\"\", \"\", IF(VLOOKUP(CV14,'Footnotes list'!$D$9:$E$58,2,FALSE)=0,\"\",VLOOKUP(CV14,'Footnotes list'!$D$9:$E$58,2,FALSE) ) )","v":""},null,null,null,null,{"$f":"IF(TRIM(DA14)=\"\", \"\", IF(VLOOKUP(DA14,'Footnotes list'!$D$9:$E$58,2,FALSE)=0,\"\",VLOOKUP(DA14,'Footnotes list'!$D$9:$E$58,2,FALSE) ) )","v":""},null,null,null,null,{"$f":"IF(TRIM(DF14)=\"\", \"\", IF(VLOOKUP(DF14,'Footnotes list'!$D$9:$E$58,2,FALSE)=0,\"\",VLOOKUP(DF14,'Footnotes list'!$D$9:$E$58,2,FALSE) ) )","v":""},{"$f":"IF(AND(TRIM(G14)=\"\",TRIM(L14)=\"\",TRIM(BO14)=\"\",TRIM(BT14)=\"\",TRIM(CI14)=\"\",TRIM(CN14)=\"\",TRIM(CS14)=\"\",TRIM(CX14)=\"\",TRIM(DC14)=\"\"),\"\",SUM(G14,L14,BO14,BT14,CI14,CN14,CS14,CX14,DC14))","v":""},null,null,null,{"$f":"IF(TRIM(DK14)=\"\", \"\", IF(VLOOKUP(DK14,'Footnotes list'!$D$9:$E$58,2,FALSE)=0,\"\",VLOOKUP(DK14,'Footnotes list'!$D$9:$E$58,2,FALSE) ) )","v":""}]
[null,null,null,null,null,"Not applicable"]
[null,null,"W013",null,"HAZ_NHAZ","Total",{"$f":"IF(AND(TRIM(G14)=\"\",TRIM(G15)=\"\"),\"\",G14+G15)","v":""},null,null,null,{"$f":"IF(TRIM(J16)=\"\", \"\", IF(VLOOKUP(J16,'Footnotes list'!$D$9:$E$58,2,FALSE)=0,\"\",VLOOKUP(J16,'Footnotes list'!$D$9:$E$58,2,FALSE) ) )","v":""},{"$f":"IF(AND(TRIM(L14)=\"\",TRIM(L15)=\"\"),\"\",L14+L15)","v":""},null,null,null,{"$f":"IF(TRIM(O16)=\"\", \"\", IF(VLOOKUP(O16,'Footnotes list'!$D$9:$E$58,2,FALSE)=0,\"\",VLOOKUP(O16,'Footnotes list'!$D$9:$E$58,2,FALSE) ) )","v":""},{"$f":"IF(AND(TRIM(Q14)=\"\",TRIM(Q15)=\"\"),\"\",Q14+Q15)","v":""},null,null,null,{"$f":"IF(TRIM(T16)=\"\", \"\", IF(VLOOKUP(T16,'Footnotes list'!$D$9:$E$58,2,FALSE)=0,\"\",VLOOKUP(T16,'Footnotes list'!$D$9:$E$58,2,FALSE) ) )","v":""},{"$f":"IF(AND(TRIM(V14)=\"\",TRIM(V15)=\"\"),\"\",V14+V15)","v":""},null,null,null,{"$f":"IF(TRIM(Y16)=\"\", \"\", IF(VLOOKUP(Y16,'Footnotes list'!$D$9:$E$58,2,FALSE)=0,\"\",VLOOKUP(Y16,'Footnotes list'!$D$9:$E$58,2,FALSE) ) )","v":""},{"$f":"IF(AND(TRIM(AA14)=\"\",TRIM(AA15)=\"\"),\"\",AA14+AA15)","v":""},null,null,null,{"$f":"IF(TRIM(AD16)=\"\", \"\", IF(VLOOKUP(AD16,'Footnotes list'!$D$9:$E$58,2,FALSE)=0,\"\",VLOOKUP(AD16,'Footnotes list'!$D$9:$E$58,2,FALSE) ) )","v":""},{"$f":"IF(AND(TRIM(AF14)=\"\",TRIM(AF15)=\"\"),\"\",AF14+AF15)","v":""},null,null,null,{"$f":"IF(TRIM(AI16)=\"\", \"\", IF(VLOOKUP(AI16,'Footnotes list'!$D$9:$E$58,2,FALSE)=0,\"\",VLOOKUP(AI16,'Footnotes list'!$D$9:$E$58,2,FALSE) ) )","v":""},{"$f":"IF(AND(TRIM(AK14)=\"\",TRIM(AK15)=\"\"),\"\",AK14+AK15)","v":""},null,null,null,{"$f":"IF(TRIM(AN16)=\"\", \"\", IF(VLOOKUP(AN16,'Footnotes list'!$D$9:$E$58,2,FALSE)=0,\"\",VLOOKUP(AN16,'Footnotes list'!$D$9:$E$58,2,FALSE) ) )","v":""},{"$f":"IF(AND(TRIM(AP14)=\"\",TRIM(AP15)=\"\"),\"\",AP14+AP15)","v":""},null,null,null,{"$f":"IF(TRIM(AS16)=\"\", \"\", IF(VLOOKUP(AS16,'Footnotes list'!$D$9:$E$58,2,FALSE)=0,\"\",VLOOKUP(AS16,'Footnotes list'!$D$9:$E$58,2,FALSE) ) )","v":""},{"$f":"IF(AND(TRIM(AU14)=\"\",TRIM(AU15)=\"\"),\"\",AU14+AU15)","v":""},null,null,null,{"$f":"IF(TRIM(AX16)=\"\", \"\", IF(VLOOKUP(AX16,'Footnotes list'!$D$9:$E$58,2,FALSE)=0,\"\",VLOOKUP(AX16,'Footnotes list'!$D$9:$E$58,2,FALSE) ) )","v":""},{"$f":"IF(AND(TRIM(AZ14)=\"\",TRIM(AZ15)=\"\"),\"\",AZ14+AZ15)","v":""},null,null,null,{"$f":"IF(TRIM(BC16)=\"\", \"\", IF(VLOOKUP(BC16,'Footnotes list'!$D$9:$E$58,2,FALSE)=0,\"\",VLOOKUP(BC16,'Footnotes list'!$D$9:$E$58,2,FALSE) ) )","v":""},{"$f":"IF(AND(TRIM(BE14)=\"\",TRIM(BE15)=\"\"),\"\",BE14+BE15)","v":""},null,null,null,{"$f":"IF(TRIM(BH16)=\"\", \"\", IF(VLOOKUP(BH16,'Footnotes list'!$D$9:$E$58,2,FALSE)=0,\"\",VLOOKUP(BH16,'Footnotes list'!$D$9:$E$58,2,FALSE) ) )","v":""},{"$f":"IF(AND(TRIM(BJ14)=\"\",TRIM(BJ15)=\"\"),\"\",BJ14+BJ15)","v":""},null,null,null,{"$f":"IF(TRIM(BM16)=\"\", \"\", IF(VLOOKUP(BM16,'Footnotes list'!$D$9:$E$58,2,FALSE)=0,\"\",VLOOKUP(BM16,'Footnotes list'!$D$9:$E$58,2,FALSE) ) )","v":""},{"$f":"IF(AND(TRIM(BO14)=\"\", TRIM(BO15)=\"\"), \"\", (IF(ISNUMBER(BO14),BO14,0)+IF(ISNUMBER(BO15),BO15,0)))","v":""},null,null,null,{"$f":"IF(TRIM(BR16)=\"\", \"\", IF(VLOOKUP(BR16,'Footnotes list'!$D$9:$E$58,2,FALSE)=0,\"\",VLOOKUP(BR16,'Footnotes list'!$D$9:$E$58,2,FALSE) ) )","v":""},{"$f":"IF(AND(TRIM(BT14)=\"\",TRIM(BT15)=\"\"),\"\",BT14+BT15)","v":""},null,null,null,{"$f":"IF(TRIM(BW16)=\"\", \"\", IF(VLOOKUP(BW16,'Footnotes list'!$D$9:$E$58,2,FALSE)=0,\"\",VLOOKUP(BW16,'Footnotes list'!$D$9:$E$58,2,FALSE) ) )","v":""},{"$f":"IF(AND(TRIM(BY14)=\"\",TRIM(BY15)=\"\"),\"\",BY14+BY15)","v":""},null,null,null,{"$f":"IF(TRIM(CB16)=\"\", \"\", IF(VLOOKUP(CB16,'Footnotes list'!$D$9:$E$58,2,FALSE)=0,\"\",VLOOKUP(CB16,'Footnotes list'!$D$9:$E$58,2,FALSE) ) )","v":""},{"$f":"IF(AND(TRIM(CD14)=\"\",TRIM(CD15)=\"\"),\"\",CD14+CD15)","v":""},null,null,null,{"$f":"IF(TRIM(CG16)=\"\", \"\", IF(VLOOKUP(CG16,'Footnotes list'!$D$9:$E$58,2,FALSE)=0,\"\",VLOOKUP(CG16,'Footnotes list'!$D$9:$E$58,2,FALSE) ) )","v":""},{"$f":"IF(AND(TRIM(CI14)=\"\", TRIM(CI15)=\"\"), \"\", (IF(ISNUMBER(CI14),CI14,0)+IF(ISNUMBER(CI15),CI15,0)))","v":""},null,null,null,{"$f":"IF(TRIM(CL16)=\"\", \"\", IF(VLOOKUP(CL16,'Footnotes list'!$D$9:$E$58,2,FALSE)=0,\"\",VLOOKUP(CL16,'Footnotes list'!$D$9:$E$58,2,FALSE) ) )","v":""},{"$f":"IF(AND(TRIM(CN14)=\"\",TRIM(CN15)=\"\"),\"\",CN14+CN15)","v":""},null,null,null,{"$f":"IF(TRIM(CQ16)=\"\", \"\", IF(VLOOKUP(CQ16,'Footnotes list'!$D$9:$E$58,2,FALSE)=0,\"\",VLOOKUP(CQ16,'Footnotes list'!$D$9:$E$58,2,FALSE) ) )","v":""},{"$f":"IF(AND(TRIM(CS14)=\"\",TRIM(CS15)=\"\"),\"\",CS14+CS15)","v":""},null,null,null,{"$f":"IF(TRIM(CV16)=\"\", \"\", IF(VLOOKUP(CV16,'Footnotes list'!$D$9:$E$58,2,FALSE)=0,\"\",VLOOKUP(CV16,'Footnotes list'!$D$9:$E$58,2,FALSE) ) )","v":""},{"$f":"IF(AND(TRIM(CX14)=\"\",TRIM(CX15)=\"\"),\"\",CX14+CX15)","v":""},null,null,null,{"$f":"IF(TRIM(DA16)=\"\", \"\", IF(VLOOKUP(DA16,'Footnotes list'!$D$9:$E$58,2,FALSE)=0,\"\",VLOOKUP(DA16,'Footnotes list'!$D$9:$E$58,2,FALSE) ) )","v":""},{"$f":"IF(AND(TRIM(DC14)=\"\",TRIM(DC15)=\"\"),\"\",DC14+DC15)","v":""},null,null,null,{"$f":"IF(TRIM(DF16)=\"\", \"\", IF(VLOOKUP(DF16,'Footnotes list'!$D$9:$E$58,2,FALSE)=0,\"\",VLOOKUP(DF16,'Footnotes list'!$D$9:$E$58,2,FALSE) ) )","v":""},{"$f":"IF(AND(TRIM(DH14)=\"\", TRIM(DH15)=\"\"), \"\", SUM(DH14,DH15) )","v":""},null,null,null,{"$f":"IF(TRIM(DK16)=\"\", \"\", IF(VLOOKUP(DK16,'Footnotes list'!$D$9:$E$58,2,FALSE)=0,\"\",VLOOKUP(DK16,'Footnotes list'!$D$9:$E$58,2,FALSE) ) )","v":""}]
[null,"W02A","W02A","Chemical wastes ","HAZ","Hazardous ",null,null,null,null,{"$f":"IF(TRIM(J17)=\"\", \"\", IF(VLOOKUP(J17,'Footnotes list'!$D$9:$E$58,2,FALSE)=0,\"\",VLOOKUP(J17,'Footnotes list'!$D$9:$E$58,2,FALSE) ) )","v":""},null,null,null,null,{"$f":"IF(TRIM(O17)=\"\", \"\", IF(VLOOKUP(O17,'Footnotes list'!$D$9:$E$58,2,FALSE)=0,\"\",VLOOKUP(O17,'Footnotes list'!$D$9:$E$58,2,FALSE) ) )","v":""},null,null,null,null,{"$f":"IF(TRIM(T17)=\"\", \"\", IF(VLOOKUP(T17,'Footnotes list'!$D$9:$E$58,2,FALSE)=0,\"\",VLOOKUP(T17,'Footnotes list'!$D$9:$E$58,2,FALSE) ) )","v":""},null,null,null,null,{"$f":"IF(TRIM(Y17)=\"\", \"\", IF(VLOOKUP(Y17,'Footnotes list'!$D$9:$E$58,2,FALSE)=0,\"\",VLOOKUP(Y17,'Footnotes list'!$D$9:$E$58,2,FALSE) ) )","v":""},null,null,null,null,{"$f":"IF(TRIM(AD17)=\"\", \"\", IF(VLOOKUP(AD17,'Footnotes list'!$D$9:$E$58,2,FALSE)=0,\"\",VLOOKUP(AD17,'Footnotes list'!$D$9:$E$58,2,FALSE) ) )","v":""},null,null,null,null,{"$f":"IF(TRIM(AI17)=\"\", \"\", IF(VLOOKUP(AI17,'Footnotes list'!$D$9:$E$58,2,FALSE)=0,\"\",VLOOKUP(AI17,'Footnotes list'!$D$9:$E$58,2,FALSE) ) )","v":""},null,null,null,null,{"$f":"IF(TRIM(AN17)=\"\", \"\", IF(VLOOKUP(AN17,'Footnotes list'!$D$9:$E$58,2,FALSE)=0,\"\",VLOOKUP(AN17,'Footnotes list'!$D$9:$E$58,2,FALSE) ) )","v":""},null,null,null,null,{"$f":"IF(TRIM(AS17)=\"\", \"\", IF(VLOOKUP(AS17,'Footnotes list'!$D$9:$E$58,2,FALSE)=0,\"\",VLOOKUP(AS17,'Footnotes list'!$D$9:$E$58,2,FALSE) ) )","v":""},null,null,null,null,{"$f":"IF(TRIM(AX17)=\"\", \"\", IF(VLOOKUP(AX17,'Footnotes list'!$D$9:$E$58,2,FALSE)=0,\"\",VLOOKUP(AX17,'Footnotes list'!$D$9:$E$58,2,FALSE) ) )","v":""},null,null,null,null,{"$f":"IF(TRIM(BC17)=\"\", \"\", IF(VLOOKUP(BC17,'Footnotes list'!$D$9:$E$58,2,FALSE)=0,\"\",VLOOKUP(BC17,'Footnotes list'!$D$9:$E$58,2,FALSE) ) )","v":""},null,null,null,null,{"$f":"IF(TRIM(BH17)=\"\", \"\", IF(VLOOKUP(BH17,'Footnotes list'!$D$9:$E$58,2,FALSE)=0,\"\",VLOOKUP(BH17,'Footnotes list'!$D$9:$E$58,2,FALSE) ) )","v":""},null,null,null,null,{"$f":"IF(TRIM(BM17)=\"\", \"\", IF(VLOOKUP(BM17,'Footnotes list'!$D$9:$E$58,2,FALSE)=0,\"\",VLOOKUP(BM17,'Footnotes list'!$D$9:$E$58,2,FALSE) ) )","v":""},{"$f":"IF(AND(TRIM(Q17)=\"\",TRIM(V17)=\"\",TRIM(AA17)=\"\", TRIM(AF17)=\"\", TRIM(AK17)=\"\", TRIM(AP17)=\"\", TRIM(AU17)=\"\", TRIM(AZ17)=\"\", TRIM(BE17)=\"\", TRIM(BJ17)=\"\"),\"\",Q17+V17+AA17+AF17+AK17+AP17+AU17+AZ17+BE17+BJ17)","v":""},null,null,null,{"$f":"IF(TRIM(BR17)=\"\", \"\", IF(VLOOKUP(BR17,'Footnotes list'!$D$9:$E$58,2,FALSE)=0,\"\",VLOOKUP(BR17,'Footnotes list'!$D$9:$E$58,2,FALSE) ) )","v":""},null,null,null,null,{"$f":"IF(TRIM(BW17)=\"\", \"\", IF(VLOOKUP(BW17,'Footnotes list'!$D$9:$E$58,2,FALSE)=0,\"\",VLOOKUP(BW17,'Footnotes list'!$D$9:$E$58,2,FALSE) ) )","v":""},null,null,null,null,{"$f":"IF(TRIM(CB17)=\"\", \"\", IF(VLOOKUP(CB17,'Footnotes list'!$D$9:$E$58,2,FALSE)=0,\"\",VLOOKUP(CB17,'Footnotes list'!$D$9:$E$58,2,FALSE) ) )","v":""},null,null,null,null,{"$f":"IF(TRIM(CG17)=\"\", \"\", IF(VLOOKUP(CG17,'Footnotes list'!$D$9:$E$58,2,FALSE)=0,\"\",VLOOKUP(CG17,'Footnotes list'!$D$9:$E$58,2,FALSE) ) )","v":""},{"$f":"IF(AND(TRIM(BY17)=\"\",TRIM(CD17)=\"\"),\"\",BY17+CD17)","v":""},null,null,null,{"$f":"IF(TRIM(CL17)=\"\", \"\", IF(VLOOKUP(CL17,'Footnotes list'!$D$9:$E$58,2,FALSE)=0,\"\",VLOOKUP(CL17,'Footnotes list'!$D$9:$E$58,2,FALSE) ) )","v":""},null,null,null,null,{"$f":"IF(TRIM(CQ17)=\"\", \"\", IF(VLOOKUP(CQ17,'Footnotes list'!$D$9:$E$58,2,FALSE)=0,\"\",VLOOKUP(CQ17,'Footnotes list'!$D$9:$E$58,2,FALSE) ) )","v":""},null,null,null,null,{"$f":"IF(TRIM(CV17)=\"\", \"\", IF(VLOOKUP(CV17,'Footnotes list'!$D$9:$E$58,2,FALSE)=0,\"\",VLOOKUP(CV17,'Footnotes list'!$D$9:$E$58,2,FALSE) ) )","v":""},null,null,null,null,{"$f":"IF(TRIM(DA17)=\"\", \"\", IF(VLOOKUP(DA17,'Footnotes list'!$D$9:$E$58,2,FALSE)=0,\"\",VLOOKUP(DA17,'Footnotes list'!$D$9:$E$58,2,FALSE) ) )","v":""},null,null,null,null,{"$f":"IF(TRIM(DF17)=\"\", \"\", IF(VLOOKUP(DF17,'Footnotes list'!$D$9:$E$58,2,FALSE)=0,\"\",VLOOKUP(DF17,'Footnotes list'!$D$9:$E$58,2,FALSE) ) )","v":""},{"$f":"IF(AND(TRIM(G17)=\"\",TRIM(L17)=\"\",TRIM(BO17)=\"\",TRIM(BT17)=\"\",TRIM(CI17)=\"\",TRIM(CN17)=\"\",TRIM(CS17)=\"\",TRIM(CX17)=\"\",TRIM(DC17)=\"\"),\"\",SUM(G17,L17,BO17,BT17,CI17,CN17,CS17,CX17,DC17))","v":""},null,null,null,{"$f":"IF(TRIM(DK17)=\"\", \"\", IF(VLOOKUP(DK17,'Footnotes list'!$D$9:$E$58,2,FALSE)=0,\"\",VLOOKUP(DK17,'Footnotes list'!$D$9:$E$58,2,FALSE) ) )","v":""}]
[null,null,"W02A",null,"NHAZ","Non-hazardous",null,null,null,null,{"$f":"IF(TRIM(J18)=\"\", \"\", IF(VLOOKUP(J18,'Footnotes list'!$D$9:$E$58,2,FALSE)=0,\"\",VLOOKUP(J18,'Footnotes list'!$D$9:$E$58,2,FALSE) ) )","v":""},null,null,null,null,{"$f":"IF(TRIM(O18)=\"\", \"\", IF(VLOOKUP(O18,'Footnotes list'!$D$9:$E$58,2,FALSE)=0,\"\",VLOOKUP(O18,'Footnotes list'!$D$9:$E$58,2,FALSE) ) )","v":""},null,null,null,null,{"$f":"IF(TRIM(T18)=\"\", \"\", IF(VLOOKUP(T18,'Footnotes list'!$D$9:$E$58,2,FALSE)=0,\"\",VLOOKUP(T18,'Footnotes list'!$D$9:$E$58,2,FALSE) ) )","v":""},null,null,null,null,{"$f":"IF(TRIM(Y18)=\"\", \"\", IF(VLOOKUP(Y18,'Footnotes list'!$D$9:$E$58,2,FALSE)=0,\"\",VLOOKUP(Y18,'Footnotes list'!$D$9:$E$58,2,FALSE) ) )","v":""},null,null,null,null,{"$f":"IF(TRIM(AD18)=\"\", \"\", IF(VLOOKUP(AD18,'Footnotes list'!$D$9:$E$58,2,FALSE)=0,\"\",VLOOKUP(AD18,'Footnotes list'!$D$9:$E$58,2,FALSE) ) )","v":""},null,null,null,null,{"$f":"IF(TRIM(AI18)=\"\", \"\", IF(VLOOKUP(AI18,'Footnotes list'!$D$9:$E$58,2,FALSE)=0,\"\",VLOOKUP(AI18,'Footnotes list'!$D$9:$E$58,2,FALSE) ) )","v":""},null,null,null,null,{"$f":"IF(TRIM(AN18)=\"\", \"\", IF(VLOOKUP(AN18,'Footnotes list'!$D$9:$E$58,2,FALSE)=0,\"\",VLOOKUP(AN18,'Footnotes list'!$D$9:$E$58,2,FALSE) ) )","v":""},null,null,null,null,{"$f":"IF(TRIM(AS18)=\"\", \"\", IF(VLOOKUP(AS18,'Footnotes list'!$D$9:$E$58,2,FALSE)=0,\"\",VLOOKUP(AS18,'Footnotes list'!$D$9:$E$58,2,FALSE) ) )","v":""},null,null,null,null,{"$f":"IF(TRIM(AX18)=\"\", \"\", IF(VLOOKUP(AX18,'Footnotes list'!$D$9:$E$58,2,FALSE)=0,\"\",VLOOKUP(AX18,'Footnotes list'!$D$9:$E$58,2,FALSE) ) )","v":""},null,null,null,null,{"$f":"IF(TRIM(BC18)=\"\", \"\", IF(VLOOKUP(BC18,'Footnotes list'!$D$9:$E$58,2,FALSE)=0,\"\",VLOOKUP(BC18,'Footnotes list'!$D$9:$E$58,2,FALSE) ) )","v":""},null,null,null,null,{"$f":"IF(TRIM(BH18)=\"\", \"\", IF(VLOOKUP(BH18,'Footnotes list'!$D$9:$E$58,2,FALSE)=0,\"\",VLOOKUP(BH18,'Footnotes list'!$D$9:$E$58,2,FALSE) ) )","v":""},null,null,null,null,{"$f":"IF(TRIM(BM18)=\"\", \"\", IF(VLOOKUP(BM18,'Footnotes list'!$D$9:$E$58,2,FALSE)=0,\"\",VLOOKUP(BM18,'Footnotes list'!$D$9:$E$58,2,FALSE) ) )","v":""},{"$f":"IF(AND(TRIM(Q18)=\"\",TRIM(V18)=\"\",TRIM(AA18)=\"\", TRIM(AF18)=\"\", TRIM(AK18)=\"\", TRIM(AP18)=\"\", TRIM(AU18)=\"\", TRIM(AZ18)=\"\", TRIM(BE18)=\"\", TRIM(BJ18)=\"\"),\"\",Q18+V18+AA18+AF18+AK18+AP18+AU18+AZ18+BE18+BJ18)","v":""},null,null,null,{"$f":"IF(TRIM(BR18)=\"\", \"\", IF(VLOOKUP(BR18,'Footnotes list'!$D$9:$E$58,2,FALSE)=0,\"\",VLOOKUP(BR18,'Footnotes list'!$D$9:$E$58,2,FALSE) ) )","v":""},null,null,null,null,{"$f":"IF(TRIM(BW18)=\"\", \"\", IF(VLOOKUP(BW18,'Footnotes list'!$D$9:$E$58,2,FALSE)=0,\"\",VLOOKUP(BW18,'Footnotes list'!$D$9:$E$58,2,FALSE) ) )","v":""},null,null,null,null,{"$f":"IF(TRIM(CB18)=\"\", \"\", IF(VLOOKUP(CB18,'Footnotes list'!$D$9:$E$58,2,FALSE)=0,\"\",VLOOKUP(CB18,'Footnotes list'!$D$9:$E$58,2,FALSE) ) )","v":""},null,null,null,null,{"$f":"IF(TRIM(CG18)=\"\", \"\", IF(VLOOKUP(CG18,'Footnotes list'!$D$9:$E$58,2,FALSE)=0,\"\",VLOOKUP(CG18,'Footnotes list'!$D$9:$E$58,2,FALSE) ) )","v":""},{"$f":"IF(AND(TRIM(BY18)=\"\",TRIM(CD18)=\"\"),\"\",BY18+CD18)","v":""},null,null,null,{"$f":"IF(TRIM(CL18)=\"\", \"\", IF(VLOOKUP(CL18,'Footnotes list'!$D$9:$E$58,2,FALSE)=0,\"\",VLOOKUP(CL18,'Footnotes list'!$D$9:$E$58,2,FALSE) ) )","v":""},null,null,null,null,{"$f":"IF(TRIM(CQ18)=\"\", \"\", IF(VLOOKUP(CQ18,'Footnotes list'!$D$9:$E$58,2,FALSE)=0,\"\",VLOOKUP(CQ18,'Footnotes list'!$D$9:$E$58,2,FALSE) ) )","v":""},null,null,null,null,{"$f":"IF(TRIM(CV18)=\"\", \"\", IF(VLOOKUP(CV18,'Footnotes list'!$D$9:$E$58,2,FALSE)=0,\"\",VLOOKUP(CV18,'Footnotes list'!$D$9:$E$58,2,FALSE) ) )","v":""},null,null,null,null,{"$f":"IF(TRIM(DA18)=\"\", \"\", IF(VLOOKUP(DA18,'Footnotes list'!$D$9:$E$58,2,FALSE)=0,\"\",VLOOKUP(DA18,'Footnotes list'!$D$9:$E$58,2,FALSE) ) )","v":""},null,null,null,null,{"$f":"IF(TRIM(DF18)=\"\", \"\", IF(VLOOKUP(DF18,'Footnotes list'!$D$9:$E$58,2,FALSE)=0,\"\",VLOOKUP(DF18,'Footnotes list'!$D$9:$E$58,2,FALSE) ) )","v":""},{"$f":"IF(AND(TRIM(G18)=\"\",TRIM(L18)=\"\",TRIM(BO18)=\"\",TRIM(BT18)=\"\",TRIM(CI18)=\"\",TRIM(CN18)=\"\",TRIM(CS18)=\"\",TRIM(CX18)=\"\",TRIM(DC18)=\"\"),\"\",SUM(G18,L18,BO18,BT18,CI18,CN18,CS18,CX18,DC18))","v":""},null,null,null,{"$f":"IF(TRIM(DK18)=\"\", \"\", IF(VLOOKUP(DK18,'Footnotes list'!$D$9:$E$58,2,FALSE)=0,\"\",VLOOKUP(DK18,'Footnotes list'!$D$9:$E$58,2,FALSE) ) )","v":""}]
[null,null,"W02A",null,"HAZ_NHAZ","Total",{"$f":"IF(AND(TRIM(G17)=\"\",TRIM(G18)=\"\"),\"\",G17+G18)","v":""},null,null,null,{"$f":"IF(TRIM(J19)=\"\", \"\", IF(VLOOKUP(J19,'Footnotes list'!$D$9:$E$58,2,FALSE)=0,\"\",VLOOKUP(J19,'Footnotes list'!$D$9:$E$58,2,FALSE) ) )","v":""},{"$f":"IF(AND(TRIM(L17)=\"\",TRIM(L18)=\"\"),\"\",L17+L18)","v":""},null,null,null,{"$f":"IF(TRIM(O19)=\"\", \"\", IF(VLOOKUP(O19,'Footnotes list'!$D$9:$E$58,2,FALSE)=0,\"\",VLOOKUP(O19,'Footnotes list'!$D$9:$E$58,2,FALSE) ) )","v":""},{"$f":"IF(AND(TRIM(Q17)=\"\",TRIM(Q18)=\"\"),\"\",Q17+Q18)","v":""},null,null,null,{"$f":"IF(TRIM(T19)=\"\", \"\", IF(VLOOKUP(T19,'Footnotes list'!$D$9:$E$58,2,FALSE)=0,\"\",VLOOKUP(T19,'Footnotes list'!$D$9:$E$58,2,FALSE) ) )","v":""},{"$f":"IF(AND(TRIM(V17)=\"\",TRIM(V18)=\"\"),\"\",V17+V18)","v":""},null,null,null,{"$f":"IF(TRIM(Y19)=\"\", \"\", IF(VLOOKUP(Y19,'Footnotes list'!$D$9:$E$58,2,FALSE)=0,\"\",VLOOKUP(Y19,'Footnotes list'!$D$9:$E$58,2,FALSE) ) )","v":""},{"$f":"IF(AND(TRIM(AA17)=\"\",TRIM(AA18)=\"\"),\"\",AA17+AA18)","v":""},null,null,null,{"$f":"IF(TRIM(AD19)=\"\", \"\", IF(VLOOKUP(AD19,'Footnotes list'!$D$9:$E$58,2,FALSE)=0,\"\",VLOOKUP(AD19,'Footnotes list'!$D$9:$E$58,2,FALSE) ) )","v":""},{"$f":"IF(AND(TRIM(AF17)=\"\",TRIM(AF18)=\"\"),\"\",AF17+AF18)","v":""},null,null,null,{"$f":"IF(TRIM(AI19)=\"\", \"\", IF(VLOOKUP(AI19,'Footnotes list'!$D$9:$E$58,2,FALSE)=0,\"\",VLOOKUP(AI19,'Footnotes list'!$D$9:$E$58,2,FALSE) ) )","v":""},{"$f":"IF(AND(TRIM(AK17)=\"\",TRIM(AK18)=\"\"),\"\",AK17+AK18)","v":""},null,null,null,{"$f":"IF(TRIM(AN19)=\"\", \"\", IF(VLOOKUP(AN19,'Footnotes list'!$D$9:$E$58,2,FALSE)=0,\"\",VLOOKUP(AN19,'Footnotes list'!$D$9:$E$58,2,FALSE) ) )","v":""},{"$f":"IF(AND(TRIM(AP17)=\"\",TRIM(AP18)=\"\"),\"\",AP17+AP18)","v":""},null,null,null,{"$f":"IF(TRIM(AS19)=\"\", \"\", IF(VLOOKUP(AS19,'Footnotes list'!$D$9:$E$58,2,FALSE)=0,\"\",VLOOKUP(AS19,'Footnotes list'!$D$9:$E$58,2,FALSE) ) )","v":""},{"$f":"IF(AND(TRIM(AU17)=\"\",TRIM(AU18)=\"\"),\"\",AU17+AU18)","v":""},null,null,null,{"$f":"IF(TRIM(AX19)=\"\", \"\", IF(VLOOKUP(AX19,'Footnotes list'!$D$9:$E$58,2,FALSE)=0,\"\",VLOOKUP(AX19,'Footnotes list'!$D$9:$E$58,2,FALSE) ) )","v":""},{"$f":"IF(AND(TRIM(AZ17)=\"\",TRIM(AZ18)=\"\"),\"\",AZ17+AZ18)","v":""},null,null,null,{"$f":"IF(TRIM(BC19)=\"\", \"\", IF(VLOOKUP(BC19,'Footnotes list'!$D$9:$E$58,2,FALSE)=0,\"\",VLOOKUP(BC19,'Footnotes list'!$D$9:$E$58,2,FALSE) ) )","v":""},{"$f":"IF(AND(TRIM(BE17)=\"\",TRIM(BE18)=\"\"),\"\",BE17+BE18)","v":""},null,null,null,{"$f":"IF(TRIM(BH19)=\"\", \"\", IF(VLOOKUP(BH19,'Footnotes list'!$D$9:$E$58,2,FALSE)=0,\"\",VLOOKUP(BH19,'Footnotes list'!$D$9:$E$58,2,FALSE) ) )","v":""},{"$f":"IF(AND(TRIM(BJ17)=\"\",TRIM(BJ18)=\"\"),\"\",BJ17+BJ18)","v":""},null,null,null,{"$f":"IF(TRIM(BM19)=\"\", \"\", IF(VLOOKUP(BM19,'Footnotes list'!$D$9:$E$58,2,FALSE)=0,\"\",VLOOKUP(BM19,'Footnotes list'!$D$9:$E$58,2,FALSE) ) )","v":""},{"$f":"IF(AND(TRIM(BO17)=\"\", TRIM(BO18)=\"\"), \"\", (IF(ISNUMBER(BO17),BO17,0)+IF(ISNUMBER(BO18),BO18,0)))","v":""},null,null,null,{"$f":"IF(TRIM(BR19)=\"\", \"\", IF(VLOOKUP(BR19,'Footnotes list'!$D$9:$E$58,2,FALSE)=0,\"\",VLOOKUP(BR19,'Footnotes list'!$D$9:$E$58,2,FALSE) ) )","v":""},{"$f":"IF(AND(TRIM(BT17)=\"\",TRIM(BT18)=\"\"),\"\",BT17+BT18)","v":""},null,null,null,{"$f":"IF(TRIM(BW19)=\"\", \"\", IF(VLOOKUP(BW19,'Footnotes list'!$D$9:$E$58,2,FALSE)=0,\"\",VLOOKUP(BW19,'Footnotes list'!$D$9:$E$58,2,FALSE) ) )","v":""},{"$f":"IF(AND(TRIM(BY17)=\"\",TRIM(BY18)=\"\"),\"\",BY17+BY18)","v":""},null,null,null,{"$f":"IF(TRIM(CB19)=\"\", \"\", IF(VLOOKUP(CB19,'Footnotes list'!$D$9:$E$58,2,FALSE)=0,\"\",VLOOKUP(CB19,'Footnotes list'!$D$9:$E$58,2,FALSE) ) )","v":""},{"$f":"IF(AND(TRIM(CD17)=\"\",TRIM(CD18)=\"\"),\"\",CD17+CD18)","v":""},null,null,null,{"$f":"IF(TRIM(CG19)=\"\", \"\", IF(VLOOKUP(CG19,'Footnotes list'!$D$9:$E$58,2,FALSE)=0,\"\",VLOOKUP(CG19,'Footnotes list'!$D$9:$E$58,2,FALSE) ) )","v":""},{"$f":"IF(AND(TRIM(CI17)=\"\", TRIM(CI18)=\"\"), \"\", (IF(ISNUMBER(CI17),CI17,0)+IF(ISNUMBER(CI18),CI18,0)))","v":""},null,null,null,{"$f":"IF(TRIM(CL19)=\"\", \"\", IF(VLOOKUP(CL19,'Footnotes list'!$D$9:$E$58,2,FALSE)=0,\"\",VLOOKUP(CL19,'Footnotes list'!$D$9:$E$58,2,FALSE) ) )","v":""},{"$f":"IF(AND(TRIM(CN17)=\"\",TRIM(CN18)=\"\"),\"\",CN17+CN18)","v":""},null,null,null,{"$f":"IF(TRIM(CQ19)=\"\", \"\", IF(VLOOKUP(CQ19,'Footnotes list'!$D$9:$E$58,2,FALSE)=0,\"\",VLOOKUP(CQ19,'Footnotes list'!$D$9:$E$58,2,FALSE) ) )","v":""},{"$f":"IF(AND(TRIM(CS17)=\"\",TRIM(CS18)=\"\"),\"\",CS17+CS18)","v":""},null,null,null,{"$f":"IF(TRIM(CV19)=\"\", \"\", IF(VLOOKUP(CV19,'Footnotes list'!$D$9:$E$58,2,FALSE)=0,\"\",VLOOKUP(CV19,'Footnotes list'!$D$9:$E$58,2,FALSE) ) )","v":""},{"$f":"IF(AND(TRIM(CX17)=\"\",TRIM(CX18)=\"\"),\"\",CX17+CX18)","v":""},null,null,null,{"$f":"IF(TRIM(DA19)=\"\", \"\", IF(VLOOKUP(DA19,'Footnotes list'!$D$9:$E$58,2,FALSE)=0,\"\",VLOOKUP(DA19,'Footnotes list'!$D$9:$E$58,2,FALSE) ) )","v":""},{"$f":"IF(AND(TRIM(DC17)=\"\",TRIM(DC18)=\"\"),\"\",DC17+DC18)","v":""},null,null,null,{"$f":"IF(TRIM(DF19)=\"\", \"\", IF(VLOOKUP(DF19,'Footnotes list'!$D$9:$E$58,2,FALSE)=0,\"\",VLOOKUP(DF19,'Footnotes list'!$D$9:$E$58,2,FALSE) ) )","v":""},{"$f":"IF(AND(TRIM(DH17)=\"\", TRIM(DH18)=\"\"), \"\", SUM(DH17,DH18) )","v":""},null,null,null,{"$f":"IF(TRIM(DK19)=\"\", \"\", IF(VLOOKUP(DK19,'Footnotes list'!$D$9:$E$58,2,FALSE)=0,\"\",VLOOKUP(DK19,'Footnotes list'!$D$9:$E$58,2,FALSE) ) )","v":""}]
[null,"W032","W032","Industrial effluent sludges ","HAZ","Hazardous ",null,null,null,null,{"$f":"IF(TRIM(J20)=\"\", \"\", IF(VLOOKUP(J20,'Footnotes list'!$D$9:$E$58,2,FALSE)=0,\"\",VLOOKUP(J20,'Footnotes list'!$D$9:$E$58,2,FALSE) ) )","v":""},null,null,null,null,{"$f":"IF(TRIM(O20)=\"\", \"\", IF(VLOOKUP(O20,'Footnotes list'!$D$9:$E$58,2,FALSE)=0,\"\",VLOOKUP(O20,'Footnotes list'!$D$9:$E$58,2,FALSE) ) )","v":""},null,null,null,null,{"$f":"IF(TRIM(T20)=\"\", \"\", IF(VLOOKUP(T20,'Footnotes list'!$D$9:$E$58,2,FALSE)=0,\"\",VLOOKUP(T20,'Footnotes list'!$D$9:$E$58,2,FALSE) ) )","v":""},null,null,null,null,{"$f":"IF(TRIM(Y20)=\"\", \"\", IF(VLOOKUP(Y20,'Footnotes list'!$D$9:$E$58,2,FALSE)=0,\"\",VLOOKUP(Y20,'Footnotes list'!$D$9:$E$58,2,FALSE) ) )","v":""},null,null,null,null,{"$f":"IF(TRIM(AD20)=\"\", \"\", IF(VLOOKUP(AD20,'Footnotes list'!$D$9:$E$58,2,FALSE)=0,\"\",VLOOKUP(AD20,'Footnotes list'!$D$9:$E$58,2,FALSE) ) )","v":""},null,null,null,null,{"$f":"IF(TRIM(AI20)=\"\", \"\", IF(VLOOKUP(AI20,'Footnotes list'!$D$9:$E$58,2,FALSE)=0,\"\",VLOOKUP(AI20,'Footnotes list'!$D$9:$E$58,2,FALSE) ) )","v":""},null,null,null,null,{"$f":"IF(TRIM(AN20)=\"\", \"\", IF(VLOOKUP(AN20,'Footnotes list'!$D$9:$E$58,2,FALSE)=0,\"\",VLOOKUP(AN20,'Footnotes list'!$D$9:$E$58,2,FALSE) ) )","v":""},null,null,null,null,{"$f":"IF(TRIM(AS20)=\"\", \"\", IF(VLOOKUP(AS20,'Footnotes list'!$D$9:$E$58,2,FALSE)=0,\"\",VLOOKUP(AS20,'Footnotes list'!$D$9:$E$58,2,FALSE) ) )","v":""},null,null,null,null,{"$f":"IF(TRIM(AX20)=\"\", \"\", IF(VLOOKUP(AX20,'Footnotes list'!$D$9:$E$58,2,FALSE)=0,\"\",VLOOKUP(AX20,'Footnotes list'!$D$9:$E$58,2,FALSE) ) )","v":""},null,null,null,null,{"$f":"IF(TRIM(BC20)=\"\", \"\", IF(VLOOKUP(BC20,'Footnotes list'!$D$9:$E$58,2,FALSE)=0,\"\",VLOOKUP(BC20,'Footnotes list'!$D$9:$E$58,2,FALSE) ) )","v":""},null,null,null,null,{"$f":"IF(TRIM(BH20)=\"\", \"\", IF(VLOOKUP(BH20,'Footnotes list'!$D$9:$E$58,2,FALSE)=0,\"\",VLOOKUP(BH20,'Footnotes list'!$D$9:$E$58,2,FALSE) ) )","v":""},null,null,null,null,{"$f":"IF(TRIM(BM20)=\"\", \"\", IF(VLOOKUP(BM20,'Footnotes list'!$D$9:$E$58,2,FALSE)=0,\"\",VLOOKUP(BM20,'Footnotes list'!$D$9:$E$58,2,FALSE) ) )","v":""},{"$f":"IF(AND(TRIM(Q20)=\"\",TRIM(V20)=\"\",TRIM(AA20)=\"\", TRIM(AF20)=\"\", TRIM(AK20)=\"\", TRIM(AP20)=\"\", TRIM(AU20)=\"\", TRIM(AZ20)=\"\", TRIM(BE20)=\"\", TRIM(BJ20)=\"\"),\"\",Q20+V20+AA20+AF20+AK20+AP20+AU20+AZ20+BE20+BJ20)","v":""},null,null,null,{"$f":"IF(TRIM(BR20)=\"\", \"\", IF(VLOOKUP(BR20,'Footnotes list'!$D$9:$E$58,2,FALSE)=0,\"\",VLOOKUP(BR20,'Footnotes list'!$D$9:$E$58,2,FALSE) ) )","v":""},null,null,null,null,{"$f":"IF(TRIM(BW20)=\"\", \"\", IF(VLOOKUP(BW20,'Footnotes list'!$D$9:$E$58,2,FALSE)=0,\"\",VLOOKUP(BW20,'Footnotes list'!$D$9:$E$58,2,FALSE) ) )","v":""},null,null,null,null,{"$f":"IF(TRIM(CB20)=\"\", \"\", IF(VLOOKUP(CB20,'Footnotes list'!$D$9:$E$58,2,FALSE)=0,\"\",VLOOKUP(CB20,'Footnotes list'!$D$9:$E$58,2,FALSE) ) )","v":""},null,null,null,null,{"$f":"IF(TRIM(CG20)=\"\", \"\", IF(VLOOKUP(CG20,'Footnotes list'!$D$9:$E$58,2,FALSE)=0,\"\",VLOOKUP(CG20,'Footnotes list'!$D$9:$E$58,2,FALSE) ) )","v":""},{"$f":"IF(AND(TRIM(BY20)=\"\",TRIM(CD20)=\"\"),\"\",BY20+CD20)","v":""},null,null,null,{"$f":"IF(TRIM(CL20)=\"\", \"\", IF(VLOOKUP(CL20,'Footnotes list'!$D$9:$E$58,2,FALSE)=0,\"\",VLOOKUP(CL20,'Footnotes list'!$D$9:$E$58,2,FALSE) ) )","v":""},null,null,null,null,{"$f":"IF(TRIM(CQ20)=\"\", \"\", IF(VLOOKUP(CQ20,'Footnotes list'!$D$9:$E$58,2,FALSE)=0,\"\",VLOOKUP(CQ20,'Footnotes list'!$D$9:$E$58,2,FALSE) ) )","v":""},null,null,null,null,{"$f":"IF(TRIM(CV20)=\"\", \"\", IF(VLOOKUP(CV20,'Footnotes list'!$D$9:$E$58,2,FALSE)=0,\"\",VLOOKUP(CV20,'Footnotes list'!$D$9:$E$58,2,FALSE) ) )","v":""},null,null,null,null,{"$f":"IF(TRIM(DA20)=\"\", \"\", IF(VLOOKUP(DA20,'Footnotes list'!$D$9:$E$58,2,FALSE)=0,\"\",VLOOKUP(DA20,'Footnotes list'!$D$9:$E$58,2,FALSE) ) )","v":""},null,null,null,null,{"$f":"IF(TRIM(DF20)=\"\", \"\", IF(VLOOKUP(DF20,'Footnotes list'!$D$9:$E$58,2,FALSE)=0,\"\",VLOOKUP(DF20,'Footnotes list'!$D$9:$E$58,2,FALSE) ) )","v":""},{"$f":"IF(AND(TRIM(G20)=\"\",TRIM(L20)=\"\",TRIM(BO20)=\"\",TRIM(BT20)=\"\",TRIM(CI20)=\"\",TRIM(CN20)=\"\",TRIM(CS20)=\"\",TRIM(CX20)=\"\",TRIM(DC20)=\"\"),\"\",SUM(G20,L20,BO20,BT20,CI20,CN20,CS20,CX20,DC20))","v":""},null,null,null,{"$f":"IF(TRIM(DK20)=\"\", \"\", IF(VLOOKUP(DK20,'Footnotes list'!$D$9:$E$58,2,FALSE)=0,\"\",VLOOKUP(DK20,'Footnotes list'!$D$9:$E$58,2,FALSE) ) )","v":""}]
[null,null,"W032",null,"NHAZ","Non-hazardous",null,null,null,null,{"$f":"IF(TRIM(J21)=\"\", \"\", IF(VLOOKUP(J21,'Footnotes list'!$D$9:$E$58,2,FALSE)=0,\"\",VLOOKUP(J21,'Footnotes list'!$D$9:$E$58,2,FALSE) ) )","v":""},null,null,null,null,{"$f":"IF(TRIM(O21)=\"\", \"\", IF(VLOOKUP(O21,'Footnotes list'!$D$9:$E$58,2,FALSE)=0,\"\",VLOOKUP(O21,'Footnotes list'!$D$9:$E$58,2,FALSE) ) )","v":""},null,null,null,null,{"$f":"IF(TRIM(T21)=\"\", \"\", IF(VLOOKUP(T21,'Footnotes list'!$D$9:$E$58,2,FALSE)=0,\"\",VLOOKUP(T21,'Footnotes list'!$D$9:$E$58,2,FALSE) ) )","v":""},null,null,null,null,{"$f":"IF(TRIM(Y21)=\"\", \"\", IF(VLOOKUP(Y21,'Footnotes list'!$D$9:$E$58,2,FALSE)=0,\"\",VLOOKUP(Y21,'Footnotes list'!$D$9:$E$58,2,FALSE) ) )","v":""},null,null,null,null,{"$f":"IF(TRIM(AD21)=\"\", \"\", IF(VLOOKUP(AD21,'Footnotes list'!$D$9:$E$58,2,FALSE)=0,\"\",VLOOKUP(AD21,'Footnotes list'!$D$9:$E$58,2,FALSE) ) )","v":""},null,null,null,null,{"$f":"IF(TRIM(AI21)=\"\", \"\", IF(VLOOKUP(AI21,'Footnotes list'!$D$9:$E$58,2,FALSE)=0,\"\",VLOOKUP(AI21,'Footnotes list'!$D$9:$E$58,2,FALSE) ) )","v":""},null,null,null,null,{"$f":"IF(TRIM(AN21)=\"\", \"\", IF(VLOOKUP(AN21,'Footnotes list'!$D$9:$E$58,2,FALSE)=0,\"\",VLOOKUP(AN21,'Footnotes list'!$D$9:$E$58,2,FALSE) ) )","v":""},null,null,null,null,{"$f":"IF(TRIM(AS21)=\"\", \"\", IF(VLOOKUP(AS21,'Footnotes list'!$D$9:$E$58,2,FALSE)=0,\"\",VLOOKUP(AS21,'Footnotes list'!$D$9:$E$58,2,FALSE) ) )","v":""},null,null,null,null,{"$f":"IF(TRIM(AX21)=\"\", \"\", IF(VLOOKUP(AX21,'Footnotes list'!$D$9:$E$58,2,FALSE)=0,\"\",VLOOKUP(AX21,'Footnotes list'!$D$9:$E$58,2,FALSE) ) )","v":""},null,null,null,null,{"$f":"IF(TRIM(BC21)=\"\", \"\", IF(VLOOKUP(BC21,'Footnotes list'!$D$9:$E$58,2,FALSE)=0,\"\",VLOOKUP(BC21,'Footnotes list'!$D$9:$E$58,2,FALSE) ) )","v":""},null,null,null,null,{"$f":"IF(TRIM(BH21)=\"\", \"\", IF(VLOOKUP(BH21,'Footnotes list'!$D$9:$E$58,2,FALSE)=0,\"\",VLOOKUP(BH21,'Footnotes list'!$D$9:$E$58,2,FALSE) ) )","v":""},null,null,null,null,{"$f":"IF(TRIM(BM21)=\"\", \"\", IF(VLOOKUP(BM21,'Footnotes list'!$D$9:$E$58,2,FALSE)=0,\"\",VLOOKUP(BM21,'Footnotes list'!$D$9:$E$58,2,FALSE) ) )","v":""},{"$f":"IF(AND(TRIM(Q21)=\"\",TRIM(V21)=\"\",TRIM(AA21)=\"\", TRIM(AF21)=\"\", TRIM(AK21)=\"\", TRIM(AP21)=\"\", TRIM(AU21)=\"\", TRIM(AZ21)=\"\", TRIM(BE21)=\"\", TRIM(BJ21)=\"\"),\"\",Q21+V21+AA21+AF21+AK21+AP21+AU21+AZ21+BE21+BJ21)","v":""},null,null,null,{"$f":"IF(TRIM(BR21)=\"\", \"\", IF(VLOOKUP(BR21,'Footnotes list'!$D$9:$E$58,2,FALSE)=0,\"\",VLOOKUP(BR21,'Footnotes list'!$D$9:$E$58,2,FALSE) ) )","v":""},null,null,null,null,{"$f":"IF(TRIM(BW21)=\"\", \"\", IF(VLOOKUP(BW21,'Footnotes list'!$D$9:$E$58,2,FALSE)=0,\"\",VLOOKUP(BW21,'Footnotes list'!$D$9:$E$58,2,FALSE) ) )","v":""},null,null,null,null,{"$f":"IF(TRIM(CB21)=\"\", \"\", IF(VLOOKUP(CB21,'Footnotes list'!$D$9:$E$58,2,FALSE)=0,\"\",VLOOKUP(CB21,'Footnotes list'!$D$9:$E$58,2,FALSE) ) )","v":""},null,null,null,null,{"$f":"IF(TRIM(CG21)=\"\", \"\", IF(VLOOKUP(CG21,'Footnotes list'!$D$9:$E$58,2,FALSE)=0,\"\",VLOOKUP(CG21,'Footnotes list'!$D$9:$E$58,2,FALSE) ) )","v":""},{"$f":"IF(AND(TRIM(BY21)=\"\",TRIM(CD21)=\"\"),\"\",BY21+CD21)","v":""},null,null,null,{"$f":"IF(TRIM(CL21)=\"\", \"\", IF(VLOOKUP(CL21,'Footnotes list'!$D$9:$E$58,2,FALSE)=0,\"\",VLOOKUP(CL21,'Footnotes list'!$D$9:$E$58,2,FALSE) ) )","v":""},null,null,null,null,{"$f":"IF(TRIM(CQ21)=\"\", \"\", IF(VLOOKUP(CQ21,'Footnotes list'!$D$9:$E$58,2,FALSE)=0,\"\",VLOOKUP(CQ21,'Footnotes list'!$D$9:$E$58,2,FALSE) ) )","v":""},null,null,null,null,{"$f":"IF(TRIM(CV21)=\"\", \"\", IF(VLOOKUP(CV21,'Footnotes list'!$D$9:$E$58,2,FALSE)=0,\"\",VLOOKUP(CV21,'Footnotes list'!$D$9:$E$58,2,FALSE) ) )","v":""},null,null,null,null,{"$f":"IF(TRIM(DA21)=\"\", \"\", IF(VLOOKUP(DA21,'Footnotes list'!$D$9:$E$58,2,FALSE)=0,\"\",VLOOKUP(DA21,'Footnotes list'!$D$9:$E$58,2,FALSE) ) )","v":""},null,null,null,null,{"$f":"IF(TRIM(DF21)=\"\", \"\", IF(VLOOKUP(DF21,'Footnotes list'!$D$9:$E$58,2,FALSE)=0,\"\",VLOOKUP(DF21,'Footnotes list'!$D$9:$E$58,2,FALSE) ) )","v":""},{"$f":"IF(AND(TRIM(G21)=\"\",TRIM(L21)=\"\",TRIM(BO21)=\"\",TRIM(BT21)=\"\",TRIM(CI21)=\"\",TRIM(CN21)=\"\",TRIM(CS21)=\"\",TRIM(CX21)=\"\",TRIM(DC21)=\"\"),\"\",SUM(G21,L21,BO21,BT21,CI21,CN21,CS21,CX21,DC21))","v":""},null,null,null,{"$f":"IF(TRIM(DK21)=\"\", \"\", IF(VLOOKUP(DK21,'Footnotes list'!$D$9:$E$58,2,FALSE)=0,\"\",VLOOKUP(DK21,'Footnotes list'!$D$9:$E$58,2,FALSE) ) )","v":""}]
[null,null,"W032",null,"HAZ_NHAZ","Total",{"$f":"IF(AND(TRIM(G20)=\"\",TRIM(G21)=\"\"),\"\",G20+G21)","v":""},null,null,null,{"$f":"IF(TRIM(J22)=\"\", \"\", IF(VLOOKUP(J22,'Footnotes list'!$D$9:$E$58,2,FALSE)=0,\"\",VLOOKUP(J22,'Footnotes list'!$D$9:$E$58,2,FALSE) ) )","v":""},{"$f":"IF(AND(TRIM(L20)=\"\",TRIM(L21)=\"\"),\"\",L20+L21)","v":""},null,null,null,{"$f":"IF(TRIM(O22)=\"\", \"\", IF(VLOOKUP(O22,'Footnotes list'!$D$9:$E$58,2,FALSE)=0,\"\",VLOOKUP(O22,'Footnotes list'!$D$9:$E$58,2,FALSE) ) )","v":""},{"$f":"IF(AND(TRIM(Q20)=\"\",TRIM(Q21)=\"\"),\"\",Q20+Q21)","v":""},null,null,null,{"$f":"IF(TRIM(T22)=\"\", \"\", IF(VLOOKUP(T22,'Footnotes list'!$D$9:$E$58,2,FALSE)=0,\"\",VLOOKUP(T22,'Footnotes list'!$D$9:$E$58,2,FALSE) ) )","v":""},{"$f":"IF(AND(TRIM(V20)=\"\",TRIM(V21)=\"\"),\"\",V20+V21)","v":""},null,null,null,{"$f":"IF(TRIM(Y22)=\"\", \"\", IF(VLOOKUP(Y22,'Footnotes list'!$D$9:$E$58,2,FALSE)=0,\"\",VLOOKUP(Y22,'Footnotes list'!$D$9:$E$58,2,FALSE) ) )","v":""},{"$f":"IF(AND(TRIM(AA20)=\"\",TRIM(AA21)=\"\"),\"\",AA20+AA21)","v":""},null,null,null,{"$f":"IF(TRIM(AD22)=\"\", \"\", IF(VLOOKUP(AD22,'Footnotes list'!$D$9:$E$58,2,FALSE)=0,\"\",VLOOKUP(AD22,'Footnotes list'!$D$9:$E$58,2,FALSE) ) )","v":""},{"$f":"IF(AND(TRIM(AF20)=\"\",TRIM(AF21)=\"\"),\"\",AF20+AF21)","v":""},null,null,null,{"$f":"IF(TRIM(AI22)=\"\", \"\", IF(VLOOKUP(AI22,'Footnotes list'!$D$9:$E$58,2,FALSE)=0,\"\",VLOOKUP(AI22,'Footnotes list'!$D$9:$E$58,2,FALSE) ) )","v":""},{"$f":"IF(AND(TRIM(AK20)=\"\",TRIM(AK21)=\"\"),\"\",AK20+AK21)","v":""},null,null,null,{"$f":"IF(TRIM(AN22)=\"\", \"\", IF(VLOOKUP(AN22,'Footnotes list'!$D$9:$E$58,2,FALSE)=0,\"\",VLOOKUP(AN22,'Footnotes list'!$D$9:$E$58,2,FALSE) ) )","v":""},{"$f":"IF(AND(TRIM(AP20)=\"\",TRIM(AP21)=\"\"),\"\",AP20+AP21)","v":""},null,null,null,{"$f":"IF(TRIM(AS22)=\"\", \"\", IF(VLOOKUP(AS22,'Footnotes list'!$D$9:$E$58,2,FALSE)=0,\"\",VLOOKUP(AS22,'Footnotes list'!$D$9:$E$58,2,FALSE) ) )","v":""},{"$f":"IF(AND(TRIM(AU20)=\"\",TRIM(AU21)=\"\"),\"\",AU20+AU21)","v":""},null,null,null,{"$f":"IF(TRIM(AX22)=\"\", \"\", IF(VLOOKUP(AX22,'Footnotes list'!$D$9:$E$58,2,FALSE)=0,\"\",VLOOKUP(AX22,'Footnotes list'!$D$9:$E$58,2,FALSE) ) )","v":""},{"$f":"IF(AND(TRIM(AZ20)=\"\",TRIM(AZ21)=\"\"),\"\",AZ20+AZ21)","v":""},null,null,null,{"$f":"IF(TRIM(BC22)=\"\", \"\", IF(VLOOKUP(BC22,'Footnotes list'!$D$9:$E$58,2,FALSE)=0,\"\",VLOOKUP(BC22,'Footnotes list'!$D$9:$E$58,2,FALSE) ) )","v":""},{"$f":"IF(AND(TRIM(BE20)=\"\",TRIM(BE21)=\"\"),\"\",BE20+BE21)","v":""},null,null,null,{"$f":"IF(TRIM(BH22)=\"\", \"\", IF(VLOOKUP(BH22,'Footnotes list'!$D$9:$E$58,2,FALSE)=0,\"\",VLOOKUP(BH22,'Footnotes list'!$D$9:$E$58,2,FALSE) ) )","v":""},{"$f":"IF(AND(TRIM(BJ20)=\"\",TRIM(BJ21)=\"\"),\"\",BJ20+BJ21)","v":""},null,null,null,{"$f":"IF(TRIM(BM22)=\"\", \"\", IF(VLOOKUP(BM22,'Footnotes list'!$D$9:$E$58,2,FALSE)=0,\"\",VLOOKUP(BM22,'Footnotes list'!$D$9:$E$58,2,FALSE) ) )","v":""},{"$f":"IF(AND(TRIM(BO20)=\"\", TRIM(BO21)=\"\"), \"\", (IF(ISNUMBER(BO20),BO20,0)+IF(ISNUMBER(BO21),BO21,0)))","v":""},null,null,null,{"$f":"IF(TRIM(BR22)=\"\", \"\", IF(VLOOKUP(BR22,'Footnotes list'!$D$9:$E$58,2,FALSE)=0,\"\",VLOOKUP(BR22,'Footnotes list'!$D$9:$E$58,2,FALSE) ) )","v":""},{"$f":"IF(AND(TRIM(BT20)=\"\",TRIM(BT21)=\"\"),\"\",BT20+BT21)","v":""},null,null,null,{"$f":"IF(TRIM(BW22)=\"\", \"\", IF(VLOOKUP(BW22,'Footnotes list'!$D$9:$E$58,2,FALSE)=0,\"\",VLOOKUP(BW22,'Footnotes list'!$D$9:$E$58,2,FALSE) ) )","v":""},{"$f":"IF(AND(TRIM(BY20)=\"\",TRIM(BY21)=\"\"),\"\",BY20+BY21)","v":""},null,null,null,{"$f":"IF(TRIM(CB22)=\"\", \"\", IF(VLOOKUP(CB22,'Footnotes list'!$D$9:$E$58,2,FALSE)=0,\"\",VLOOKUP(CB22,'Footnotes list'!$D$9:$E$58,2,FALSE) ) )","v":""},{"$f":"IF(AND(TRIM(CD20)=\"\",TRIM(CD21)=\"\"),\"\",CD20+CD21)","v":""},null,null,null,{"$f":"IF(TRIM(CG22)=\"\", \"\", IF(VLOOKUP(CG22,'Footnotes list'!$D$9:$E$58,2,FALSE)=0,\"\",VLOOKUP(CG22,'Footnotes list'!$D$9:$E$58,2,FALSE) ) )","v":""},{"$f":"IF(AND(TRIM(CI20)=\"\", TRIM(CI21)=\"\"), \"\", (IF(ISNUMBER(CI20),CI20,0)+IF(ISNUMBER(CI21),CI21,0)))","v":""},null,null,null,{"$f":"IF(TRIM(CL22)=\"\", \"\", IF(VLOOKUP(CL22,'Footnotes list'!$D$9:$E$58,2,FALSE)=0,\"\",VLOOKUP(CL22,'Footnotes list'!$D$9:$E$58,2,FALSE) ) )","v":""},{"$f":"IF(AND(TRIM(CN20)=\"\",TRIM(CN21)=\"\"),\"\",CN20+CN21)","v":""},null,null,null,{"$f":"IF(TRIM(CQ22)=\"\", \"\", IF(VLOOKUP(CQ22,'Footnotes list'!$D$9:$E$58,2,FALSE)=0,\"\",VLOOKUP(CQ22,'Footnotes list'!$D$9:$E$58,2,FALSE) ) )","v":""},{"$f":"IF(AND(TRIM(CS20)=\"\",TRIM(CS21)=\"\"),\"\",CS20+CS21)","v":""},null,null,null,{"$f":"IF(TRIM(CV22)=\"\", \"\", IF(VLOOKUP(CV22,'Footnotes list'!$D$9:$E$58,2,FALSE)=0,\"\",VLOOKUP(CV22,'Footnotes list'!$D$9:$E$58,2,FALSE) ) )","v":""},{"$f":"IF(AND(TRIM(CX20)=\"\",TRIM(CX21)=\"\"),\"\",CX20+CX21)","v":""},null,null,null,{"$f":"IF(TRIM(DA22)=\"\", \"\", IF(VLOOKUP(DA22,'Footnotes list'!$D$9:$E$58,2,FALSE)=0,\"\",VLOOKUP(DA22,'Footnotes list'!$D$9:$E$58,2,FALSE) ) )","v":""},{"$f":"IF(AND(TRIM(DC20)=\"\",TRIM(DC21)=\"\"),\"\",DC20+DC21)","v":""},null,null,null,{"$f":"IF(TRIM(DF22)=\"\", \"\", IF(VLOOKUP(DF22,'Footnotes list'!$D$9:$E$58,2,FALSE)=0,\"\",VLOOKUP(DF22,'Footnotes list'!$D$9:$E$58,2,FALSE) ) )","v":""},{"$f":"IF(AND(TRIM(DH20)=\"\", TRIM(DH21)=\"\"), \"\", SUM(DH20,DH21) )","v":""},null,null,null,{"$f":"IF(TRIM(DK22)=\"\", \"\", IF(VLOOKUP(DK22,'Footnotes list'!$D$9:$E$58,2,FALSE)=0,\"\",VLOOKUP(DK22,'Footnotes list'!$D$9:$E$58,2,FALSE) ) )","v":""}]
[null,"W033","W033","Sludges and liquid wastes from waste treatment","HAZ","Hazardous ",null,null,null,null,{"$f":"IF(TRIM(J23)=\"\", \"\", IF(VLOOKUP(J23,'Footnotes list'!$D$9:$E$58,2,FALSE)=0,\"\",VLOOKUP(J23,'Footnotes list'!$D$9:$E$58,2,FALSE) ) )","v":""},null,null,null,null,{"$f":"IF(TRIM(O23)=\"\", \"\", IF(VLOOKUP(O23,'Footnotes list'!$D$9:$E$58,2,FALSE)=0,\"\",VLOOKUP(O23,'Footnotes list'!$D$9:$E$58,2,FALSE) ) )","v":""},null,null,null,null,{"$f":"IF(TRIM(T23)=\"\", \"\", IF(VLOOKUP(T23,'Footnotes list'!$D$9:$E$58,2,FALSE)=0,\"\",VLOOKUP(T23,'Footnotes list'!$D$9:$E$58,2,FALSE) ) )","v":""},null,null,null,null,{"$f":"IF(TRIM(Y23)=\"\", \"\", IF(VLOOKUP(Y23,'Footnotes list'!$D$9:$E$58,2,FALSE)=0,\"\",VLOOKUP(Y23,'Footnotes list'!$D$9:$E$58,2,FALSE) ) )","v":""},null,null,null,null,{"$f":"IF(TRIM(AD23)=\"\", \"\", IF(VLOOKUP(AD23,'Footnotes list'!$D$9:$E$58,2,FALSE)=0,\"\",VLOOKUP(AD23,'Footnotes list'!$D$9:$E$58,2,FALSE) ) )","v":""},null,null,null,null,{"$f":"IF(TRIM(AI23)=\"\", \"\", IF(VLOOKUP(AI23,'Footnotes list'!$D$9:$E$58,2,FALSE)=0,\"\",VLOOKUP(AI23,'Footnotes list'!$D$9:$E$58,2,FALSE) ) )","v":""},null,null,null,null,{"$f":"IF(TRIM(AN23)=\"\", \"\", IF(VLOOKUP(AN23,'Footnotes list'!$D$9:$E$58,2,FALSE)=0,\"\",VLOOKUP(AN23,'Footnotes list'!$D$9:$E$58,2,FALSE) ) )","v":""},null,null,null,null,{"$f":"IF(TRIM(AS23)=\"\", \"\", IF(VLOOKUP(AS23,'Footnotes list'!$D$9:$E$58,2,FALSE)=0,\"\",VLOOKUP(AS23,'Footnotes list'!$D$9:$E$58,2,FALSE) ) )","v":""},null,null,null,null,{"$f":"IF(TRIM(AX23)=\"\", \"\", IF(VLOOKUP(AX23,'Footnotes list'!$D$9:$E$58,2,FALSE)=0,\"\",VLOOKUP(AX23,'Footnotes list'!$D$9:$E$58,2,FALSE) ) )","v":""},null,null,null,null,{"$f":"IF(TRIM(BC23)=\"\", \"\", IF(VLOOKUP(BC23,'Footnotes list'!$D$9:$E$58,2,FALSE)=0,\"\",VLOOKUP(BC23,'Footnotes list'!$D$9:$E$58,2,FALSE) ) )","v":""},null,null,null,null,{"$f":"IF(TRIM(BH23)=\"\", \"\", IF(VLOOKUP(BH23,'Footnotes list'!$D$9:$E$58,2,FALSE)=0,\"\",VLOOKUP(BH23,'Footnotes list'!$D$9:$E$58,2,FALSE) ) )","v":""},null,null,null,null,{"$f":"IF(TRIM(BM23)=\"\", \"\", IF(VLOOKUP(BM23,'Footnotes list'!$D$9:$E$58,2,FALSE)=0,\"\",VLOOKUP(BM23,'Footnotes list'!$D$9:$E$58,2,FALSE) ) )","v":""},{"$f":"IF(AND(TRIM(Q23)=\"\",TRIM(V23)=\"\",TRIM(AA23)=\"\", TRIM(AF23)=\"\", TRIM(AK23)=\"\", TRIM(AP23)=\"\", TRIM(AU23)=\"\", TRIM(AZ23)=\"\", TRIM(BE23)=\"\", TRIM(BJ23)=\"\"),\"\",Q23+V23+AA23+AF23+AK23+AP23+AU23+AZ23+BE23+BJ23)","v":""},null,null,null,{"$f":"IF(TRIM(BR23)=\"\", \"\", IF(VLOOKUP(BR23,'Footnotes list'!$D$9:$E$58,2,FALSE)=0,\"\",VLOOKUP(BR23,'Footnotes list'!$D$9:$E$58,2,FALSE) ) )","v":""},null,null,null,null,{"$f":"IF(TRIM(BW23)=\"\", \"\", IF(VLOOKUP(BW23,'Footnotes list'!$D$9:$E$58,2,FALSE)=0,\"\",VLOOKUP(BW23,'Footnotes list'!$D$9:$E$58,2,FALSE) ) )","v":""},null,null,null,null,{"$f":"IF(TRIM(CB23)=\"\", \"\", IF(VLOOKUP(CB23,'Footnotes list'!$D$9:$E$58,2,FALSE)=0,\"\",VLOOKUP(CB23,'Footnotes list'!$D$9:$E$58,2,FALSE) ) )","v":""},null,null,null,null,{"$f":"IF(TRIM(CG23)=\"\", \"\", IF(VLOOKUP(CG23,'Footnotes list'!$D$9:$E$58,2,FALSE)=0,\"\",VLOOKUP(CG23,'Footnotes list'!$D$9:$E$58,2,FALSE) ) )","v":""},{"$f":"IF(AND(TRIM(BY23)=\"\",TRIM(CD23)=\"\"),\"\",BY23+CD23)","v":""},null,null,null,{"$f":"IF(TRIM(CL23)=\"\", \"\", IF(VLOOKUP(CL23,'Footnotes list'!$D$9:$E$58,2,FALSE)=0,\"\",VLOOKUP(CL23,'Footnotes list'!$D$9:$E$58,2,FALSE) ) )","v":""},null,null,null,null,{"$f":"IF(TRIM(CQ23)=\"\", \"\", IF(VLOOKUP(CQ23,'Footnotes list'!$D$9:$E$58,2,FALSE)=0,\"\",VLOOKUP(CQ23,'Footnotes list'!$D$9:$E$58,2,FALSE) ) )","v":""},null,null,null,null,{"$f":"IF(TRIM(CV23)=\"\", \"\", IF(VLOOKUP(CV23,'Footnotes list'!$D$9:$E$58,2,FALSE)=0,\"\",VLOOKUP(CV23,'Footnotes list'!$D$9:$E$58,2,FALSE) ) )","v":""},null,null,null,null,{"$f":"IF(TRIM(DA23)=\"\", \"\", IF(VLOOKUP(DA23,'Footnotes list'!$D$9:$E$58,2,FALSE)=0,\"\",VLOOKUP(DA23,'Footnotes list'!$D$9:$E$58,2,FALSE) ) )","v":""},null,null,null,null,{"$f":"IF(TRIM(DF23)=\"\", \"\", IF(VLOOKUP(DF23,'Footnotes list'!$D$9:$E$58,2,FALSE)=0,\"\",VLOOKUP(DF23,'Footnotes list'!$D$9:$E$58,2,FALSE) ) )","v":""},{"$f":"IF(AND(TRIM(G23)=\"\",TRIM(L23)=\"\",TRIM(BO23)=\"\",TRIM(BT23)=\"\",TRIM(CI23)=\"\",TRIM(CN23)=\"\",TRIM(CS23)=\"\",TRIM(CX23)=\"\",TRIM(DC23)=\"\"),\"\",SUM(G23,L23,BO23,BT23,CI23,CN23,CS23,CX23,DC23))","v":""},null,null,null,{"$f":"IF(TRIM(DK23)=\"\", \"\", IF(VLOOKUP(DK23,'Footnotes list'!$D$9:$E$58,2,FALSE)=0,\"\",VLOOKUP(DK23,'Footnotes list'!$D$9:$E$58,2,FALSE) ) )","v":""}]
[null,null,"W033",null,"NHAZ","Non-hazardous",null,null,null,null,{"$f":"IF(TRIM(J24)=\"\", \"\", IF(VLOOKUP(J24,'Footnotes list'!$D$9:$E$58,2,FALSE)=0,\"\",VLOOKUP(J24,'Footnotes list'!$D$9:$E$58,2,FALSE) ) )","v":""},null,null,null,null,{"$f":"IF(TRIM(O24)=\"\", \"\", IF(VLOOKUP(O24,'Footnotes list'!$D$9:$E$58,2,FALSE)=0,\"\",VLOOKUP(O24,'Footnotes list'!$D$9:$E$58,2,FALSE) ) )","v":""},null,null,null,null,{"$f":"IF(TRIM(T24)=\"\", \"\", IF(VLOOKUP(T24,'Footnotes list'!$D$9:$E$58,2,FALSE)=0,\"\",VLOOKUP(T24,'Footnotes list'!$D$9:$E$58,2,FALSE) ) )","v":""},null,null,null,null,{"$f":"IF(TRIM(Y24)=\"\", \"\", IF(VLOOKUP(Y24,'Footnotes list'!$D$9:$E$58,2,FALSE)=0,\"\",VLOOKUP(Y24,'Footnotes list'!$D$9:$E$58,2,FALSE) ) )","v":""},null,null,null,null,{"$f":"IF(TRIM(AD24)=\"\", \"\", IF(VLOOKUP(AD24,'Footnotes list'!$D$9:$E$58,2,FALSE)=0,\"\",VLOOKUP(AD24,'Footnotes list'!$D$9:$E$58,2,FALSE) ) )","v":""},null,null,null,null,{"$f":"IF(TRIM(AI24)=\"\", \"\", IF(VLOOKUP(AI24,'Footnotes list'!$D$9:$E$58,2,FALSE)=0,\"\",VLOOKUP(AI24,'Footnotes list'!$D$9:$E$58,2,FALSE) ) )","v":""},null,null,null,null,{"$f":"IF(TRIM(AN24)=\"\", \"\", IF(VLOOKUP(AN24,'Footnotes list'!$D$9:$E$58,2,FALSE)=0,\"\",VLOOKUP(AN24,'Footnotes list'!$D$9:$E$58,2,FALSE) ) )","v":""},null,null,null,null,{"$f":"IF(TRIM(AS24)=\"\", \"\", IF(VLOOKUP(AS24,'Footnotes list'!$D$9:$E$58,2,FALSE)=0,\"\",VLOOKUP(AS24,'Footnotes list'!$D$9:$E$58,2,FALSE) ) )","v":""},null,null,null,null,{"$f":"IF(TRIM(AX24)=\"\", \"\", IF(VLOOKUP(AX24,'Footnotes list'!$D$9:$E$58,2,FALSE)=0,\"\",VLOOKUP(AX24,'Footnotes list'!$D$9:$E$58,2,FALSE) ) )","v":""},null,null,null,null,{"$f":"IF(TRIM(BC24)=\"\", \"\", IF(VLOOKUP(BC24,'Footnotes list'!$D$9:$E$58,2,FALSE)=0,\"\",VLOOKUP(BC24,'Footnotes list'!$D$9:$E$58,2,FALSE) ) )","v":""},null,null,null,null,{"$f":"IF(TRIM(BH24)=\"\", \"\", IF(VLOOKUP(BH24,'Footnotes list'!$D$9:$E$58,2,FALSE)=0,\"\",VLOOKUP(BH24,'Footnotes list'!$D$9:$E$58,2,FALSE) ) )","v":""},null,null,null,null,{"$f":"IF(TRIM(BM24)=\"\", \"\", IF(VLOOKUP(BM24,'Footnotes list'!$D$9:$E$58,2,FALSE)=0,\"\",VLOOKUP(BM24,'Footnotes list'!$D$9:$E$58,2,FALSE) ) )","v":""},{"$f":"IF(AND(TRIM(Q24)=\"\",TRIM(V24)=\"\",TRIM(AA24)=\"\", TRIM(AF24)=\"\", TRIM(AK24)=\"\", TRIM(AP24)=\"\", TRIM(AU24)=\"\", TRIM(AZ24)=\"\", TRIM(BE24)=\"\", TRIM(BJ24)=\"\"),\"\",Q24+V24+AA24+AF24+AK24+AP24+AU24+AZ24+BE24+BJ24)","v":""},null,null,null,{"$f":"IF(TRIM(BR24)=\"\", \"\", IF(VLOOKUP(BR24,'Footnotes list'!$D$9:$E$58,2,FALSE)=0,\"\",VLOOKUP(BR24,'Footnotes list'!$D$9:$E$58,2,FALSE) ) )","v":""},null,null,null,null,{"$f":"IF(TRIM(BW24)=\"\", \"\", IF(VLOOKUP(BW24,'Footnotes list'!$D$9:$E$58,2,FALSE)=0,\"\",VLOOKUP(BW24,'Footnotes list'!$D$9:$E$58,2,FALSE) ) )","v":""},null,null,null,null,{"$f":"IF(TRIM(CB24)=\"\", \"\", IF(VLOOKUP(CB24,'Footnotes list'!$D$9:$E$58,2,FALSE)=0,\"\",VLOOKUP(CB24,'Footnotes list'!$D$9:$E$58,2,FALSE) ) )","v":""},null,null,null,null,{"$f":"IF(TRIM(CG24)=\"\", \"\", IF(VLOOKUP(CG24,'Footnotes list'!$D$9:$E$58,2,FALSE)=0,\"\",VLOOKUP(CG24,'Footnotes list'!$D$9:$E$58,2,FALSE) ) )","v":""},{"$f":"IF(AND(TRIM(BY24)=\"\",TRIM(CD24)=\"\"),\"\",BY24+CD24)","v":""},null,null,null,{"$f":"IF(TRIM(CL24)=\"\", \"\", IF(VLOOKUP(CL24,'Footnotes list'!$D$9:$E$58,2,FALSE)=0,\"\",VLOOKUP(CL24,'Footnotes list'!$D$9:$E$58,2,FALSE) ) )","v":""},null,null,null,null,{"$f":"IF(TRIM(CQ24)=\"\", \"\", IF(VLOOKUP(CQ24,'Footnotes list'!$D$9:$E$58,2,FALSE)=0,\"\",VLOOKUP(CQ24,'Footnotes list'!$D$9:$E$58,2,FALSE) ) )","v":""},null,null,null,null,{"$f":"IF(TRIM(CV24)=\"\", \"\", IF(VLOOKUP(CV24,'Footnotes list'!$D$9:$E$58,2,FALSE)=0,\"\",VLOOKUP(CV24,'Footnotes list'!$D$9:$E$58,2,FALSE) ) )","v":""},null,null,null,null,{"$f":"IF(TRIM(DA24)=\"\", \"\", IF(VLOOKUP(DA24,'Footnotes list'!$D$9:$E$58,2,FALSE)=0,\"\",VLOOKUP(DA24,'Footnotes list'!$D$9:$E$58,2,FALSE) ) )","v":""},null,null,null,null,{"$f":"IF(TRIM(DF24)=\"\", \"\", IF(VLOOKUP(DF24,'Footnotes list'!$D$9:$E$58,2,FALSE)=0,\"\",VLOOKUP(DF24,'Footnotes list'!$D$9:$E$58,2,FALSE) ) )","v":""},{"$f":"IF(AND(TRIM(G24)=\"\",TRIM(L24)=\"\",TRIM(BO24)=\"\",TRIM(BT24)=\"\",TRIM(CI24)=\"\",TRIM(CN24)=\"\",TRIM(CS24)=\"\",TRIM(CX24)=\"\",TRIM(DC24)=\"\"),\"\",SUM(G24,L24,BO24,BT24,CI24,CN24,CS24,CX24,DC24))","v":""},null,null,null,{"$f":"IF(TRIM(DK24)=\"\", \"\", IF(VLOOKUP(DK24,'Footnotes list'!$D$9:$E$58,2,FALSE)=0,\"\",VLOOKUP(DK24,'Footnotes list'!$D$9:$E$58,2,FALSE) ) )","v":""}]
[null,null,"W033",null,"HAZ_NHAZ","Total",{"$f":"IF(AND(TRIM(G23)=\"\",TRIM(G24)=\"\"),\"\",G23+G24)","v":""},null,null,null,{"$f":"IF(TRIM(J25)=\"\", \"\", IF(VLOOKUP(J25,'Footnotes list'!$D$9:$E$58,2,FALSE)=0,\"\",VLOOKUP(J25,'Footnotes list'!$D$9:$E$58,2,FALSE) ) )","v":""},{"$f":"IF(AND(TRIM(L23)=\"\",TRIM(L24)=\"\"),\"\",L23+L24)","v":""},null,null,null,{"$f":"IF(TRIM(O25)=\"\", \"\", IF(VLOOKUP(O25,'Footnotes list'!$D$9:$E$58,2,FALSE)=0,\"\",VLOOKUP(O25,'Footnotes list'!$D$9:$E$58,2,FALSE) ) )","v":""},{"$f":"IF(AND(TRIM(Q23)=\"\",TRIM(Q24)=\"\"),\"\",Q23+Q24)","v":""},null,null,null,{"$f":"IF(TRIM(T25)=\"\", \"\", IF(VLOOKUP(T25,'Footnotes list'!$D$9:$E$58,2,FALSE)=0,\"\",VLOOKUP(T25,'Footnotes list'!$D$9:$E$58,2,FALSE) ) )","v":""},{"$f":"IF(AND(TRIM(V23)=\"\",TRIM(V24)=\"\"),\"\",V23+V24)","v":""},null,null,null,{"$f":"IF(TRIM(Y25)=\"\", \"\", IF(VLOOKUP(Y25,'Footnotes list'!$D$9:$E$58,2,FALSE)=0,\"\",VLOOKUP(Y25,'Footnotes list'!$D$9:$E$58,2,FALSE) ) )","v":""},{"$f":"IF(AND(TRIM(AA23)=\"\",TRIM(AA24)=\"\"),\"\",AA23+AA24)","v":""},null,null,null,{"$f":"IF(TRIM(AD25)=\"\", \"\", IF(VLOOKUP(AD25,'Footnotes list'!$D$9:$E$58,2,FALSE)=0,\"\",VLOOKUP(AD25,'Footnotes list'!$D$9:$E$58,2,FALSE) ) )","v":""},{"$f":"IF(AND(TRIM(AF23)=\"\",TRIM(AF24)=\"\"),\"\",AF23+AF24)","v":""},null,null,null,{"$f":"IF(TRIM(AI25)=\"\", \"\", IF(VLOOKUP(AI25,'Footnotes list'!$D$9:$E$58,2,FALSE)=0,\"\",VLOOKUP(AI25,'Footnotes list'!$D$9:$E$58,2,FALSE) ) )","v":""},{"$f":"IF(AND(TRIM(AK23)=\"\",TRIM(AK24)=\"\"),\"\",AK23+AK24)","v":""},null,null,null,{"$f":"IF(TRIM(AN25)=\"\", \"\", IF(VLOOKUP(AN25,'Footnotes list'!$D$9:$E$58,2,FALSE)=0,\"\",VLOOKUP(AN25,'Footnotes list'!$D$9:$E$58,2,FALSE) ) )","v":""},{"$f":"IF(AND(TRIM(AP23)=\"\",TRIM(AP24)=\"\"),\"\",AP23+AP24)","v":""},null,null,null,{"$f":"IF(TRIM(AS25)=\"\", \"\", IF(VLOOKUP(AS25,'Footnotes list'!$D$9:$E$58,2,FALSE)=0,\"\",VLOOKUP(AS25,'Footnotes list'!$D$9:$E$58,2,FALSE) ) )","v":""},{"$f":"IF(AND(TRIM(AU23)=\"\",TRIM(AU24)=\"\"),\"\",AU23+AU24)","v":""},null,null,null,{"$f":"IF(TRIM(AX25)=\"\", \"\", IF(VLOOKUP(AX25,'Footnotes list'!$D$9:$E$58,2,FALSE)=0,\"\",VLOOKUP(AX25,'Footnotes list'!$D$9:$E$58,2,FALSE) ) )","v":""},{"$f":"IF(AND(TRIM(AZ23)=\"\",TRIM(AZ24)=\"\"),\"\",AZ23+AZ24)","v":""},null,null,null,{"$f":"IF(TRIM(BC25)=\"\", \"\", IF(VLOOKUP(BC25,'Footnotes list'!$D$9:$E$58,2,FALSE)=0,\"\",VLOOKUP(BC25,'Footnotes list'!$D$9:$E$58,2,FALSE) ) )","v":""},{"$f":"IF(AND(TRIM(BE23)=\"\",TRIM(BE24)=\"\"),\"\",BE23+BE24)","v":""},null,null,null,{"$f":"IF(TRIM(BH25)=\"\", \"\", IF(VLOOKUP(BH25,'Footnotes list'!$D$9:$E$58,2,FALSE)=0,\"\",VLOOKUP(BH25,'Footnotes list'!$D$9:$E$58,2,FALSE) ) )","v":""},{"$f":"IF(AND(TRIM(BJ23)=\"\",TRIM(BJ24)=\"\"),\"\",BJ23+BJ24)","v":""},null,null,null,{"$f":"IF(TRIM(BM25)=\"\", \"\", IF(VLOOKUP(BM25,'Footnotes list'!$D$9:$E$58,2,FALSE)=0,\"\",VLOOKUP(BM25,'Footnotes list'!$D$9:$E$58,2,FALSE) ) )","v":""},{"$f":"IF(AND(TRIM(BO23)=\"\", TRIM(BO24)=\"\"), \"\", (IF(ISNUMBER(BO23),BO23,0)+IF(ISNUMBER(BO24),BO24,0)))","v":""},null,null,null,{"$f":"IF(TRIM(BR25)=\"\", \"\", IF(VLOOKUP(BR25,'Footnotes list'!$D$9:$E$58,2,FALSE)=0,\"\",VLOOKUP(BR25,'Footnotes list'!$D$9:$E$58,2,FALSE) ) )","v":""},{"$f":"IF(AND(TRIM(BT23)=\"\",TRIM(BT24)=\"\"),\"\",BT23+BT24)","v":""},null,null,null,{"$f":"IF(TRIM(BW25)=\"\", \"\", IF(VLOOKUP(BW25,'Footnotes list'!$D$9:$E$58,2,FALSE)=0,\"\",VLOOKUP(BW25,'Footnotes list'!$D$9:$E$58,2,FALSE) ) )","v":""},{"$f":"IF(AND(TRIM(BY23)=\"\",TRIM(BY24)=\"\"),\"\",BY23+BY24)","v":""},null,null,null,{"$f":"IF(TRIM(CB25)=\"\", \"\", IF(VLOOKUP(CB25,'Footnotes list'!$D$9:$E$58,2,FALSE)=0,\"\",VLOOKUP(CB25,'Footnotes list'!$D$9:$E$58,2,FALSE) ) )","v":""},{"$f":"IF(AND(TRIM(CD23)=\"\",TRIM(CD24)=\"\"),\"\",CD23+CD24)","v":""},null,null,null,{"$f":"IF(TRIM(CG25)=\"\", \"\", IF(VLOOKUP(CG25,'Footnotes list'!$D$9:$E$58,2,FALSE)=0,\"\",VLOOKUP(CG25,'Footnotes list'!$D$9:$E$58,2,FALSE) ) )","v":""},{"$f":"IF(AND(TRIM(CI23)=\"\", TRIM(CI24)=\"\"), \"\", (IF(ISNUMBER(CI23),CI23,0)+IF(ISNUMBER(CI24),CI24,0)))","v":""},null,null,null,{"$f":"IF(TRIM(CL25)=\"\", \"\", IF(VLOOKUP(CL25,'Footnotes list'!$D$9:$E$58,2,FALSE)=0,\"\",VLOOKUP(CL25,'Footnotes list'!$D$9:$E$58,2,FALSE) ) )","v":""},{"$f":"IF(AND(TRIM(CN23)=\"\",TRIM(CN24)=\"\"),\"\",CN23+CN24)","v":""},null,null,null,{"$f":"IF(TRIM(CQ25)=\"\", \"\", IF(VLOOKUP(CQ25,'Footnotes list'!$D$9:$E$58,2,FALSE)=0,\"\",VLOOKUP(CQ25,'Footnotes list'!$D$9:$E$58,2,FALSE) ) )","v":""},{"$f":"IF(AND(TRIM(CS23)=\"\",TRIM(CS24)=\"\"),\"\",CS23+CS24)","v":""},null,null,null,{"$f":"IF(TRIM(CV25)=\"\", \"\", IF(VLOOKUP(CV25,'Footnotes list'!$D$9:$E$58,2,FALSE)=0,\"\",VLOOKUP(CV25,'Footnotes list'!$D$9:$E$58,2,FALSE) ) )","v":""},{"$f":"IF(AND(TRIM(CX23)=\"\",TRIM(CX24)=\"\"),\"\",CX23+CX24)","v":""},null,null,null,{"$f":"IF(TRIM(DA25)=\"\", \"\", IF(VLOOKUP(DA25,'Footnotes list'!$D$9:$E$58,2,FALSE)=0,\"\",VLOOKUP(DA25,'Footnotes list'!$D$9:$E$58,2,FALSE) ) )","v":""},{"$f":"IF(AND(TRIM(DC23)=\"\",TRIM(DC24)=\"\"),\"\",DC23+DC24)","v":""},null,null,null,{"$f":"IF(TRIM(DF25)=\"\", \"\", IF(VLOOKUP(DF25,'Footnotes list'!$D$9:$E$58,2,FALSE)=0,\"\",VLOOKUP(DF25,'Footnotes list'!$D$9:$E$58,2,FALSE) ) )","v":""},{"$f":"IF(AND(TRIM(DH23)=\"\", TRIM(DH24)=\"\"), \"\", SUM(DH23,DH24) )","v":""},null,null,null,{"$f":"IF(TRIM(DK25)=\"\", \"\", IF(VLOOKUP(DK25,'Footnotes list'!$D$9:$E$58,2,FALSE)=0,\"\",VLOOKUP(DK25,'Footnotes list'!$D$9:$E$58,2,FALSE) ) )","v":""}]
[null,"W05","W05","Health care and biological wastes ","HAZ","Hazardous ",null,null,null,null,{"$f":"IF(TRIM(J26)=\"\", \"\", IF(VLOOKUP(J26,'Footnotes list'!$D$9:$E$58,2,FALSE)=0,\"\",VLOOKUP(J26,'Footnotes list'!$D$9:$E$58,2,FALSE) ) )","v":""},null,null,null,null,{"$f":"IF(TRIM(O26)=\"\", \"\", IF(VLOOKUP(O26,'Footnotes list'!$D$9:$E$58,2,FALSE)=0,\"\",VLOOKUP(O26,'Footnotes list'!$D$9:$E$58,2,FALSE) ) )","v":""},null,null,null,null,{"$f":"IF(TRIM(T26)=\"\", \"\", IF(VLOOKUP(T26,'Footnotes list'!$D$9:$E$58,2,FALSE)=0,\"\",VLOOKUP(T26,'Footnotes list'!$D$9:$E$58,2,FALSE) ) )","v":""},null,null,null,null,{"$f":"IF(TRIM(Y26)=\"\", \"\", IF(VLOOKUP(Y26,'Footnotes list'!$D$9:$E$58,2,FALSE)=0,\"\",VLOOKUP(Y26,'Footnotes list'!$D$9:$E$58,2,FALSE) ) )","v":""},null,null,null,null,{"$f":"IF(TRIM(AD26)=\"\", \"\", IF(VLOOKUP(AD26,'Footnotes list'!$D$9:$E$58,2,FALSE)=0,\"\",VLOOKUP(AD26,'Footnotes list'!$D$9:$E$58,2,FALSE) ) )","v":""},null,null,null,null,{"$f":"IF(TRIM(AI26)=\"\", \"\", IF(VLOOKUP(AI26,'Footnotes list'!$D$9:$E$58,2,FALSE)=0,\"\",VLOOKUP(AI26,'Footnotes list'!$D$9:$E$58,2,FALSE) ) )","v":""},null,null,null,null,{"$f":"IF(TRIM(AN26)=\"\", \"\", IF(VLOOKUP(AN26,'Footnotes list'!$D$9:$E$58,2,FALSE)=0,\"\",VLOOKUP(AN26,'Footnotes list'!$D$9:$E$58,2,FALSE) ) )","v":""},null,null,null,null,{"$f":"IF(TRIM(AS26)=\"\", \"\", IF(VLOOKUP(AS26,'Footnotes list'!$D$9:$E$58,2,FALSE)=0,\"\",VLOOKUP(AS26,'Footnotes list'!$D$9:$E$58,2,FALSE) ) )","v":""},null,null,null,null,{"$f":"IF(TRIM(AX26)=\"\", \"\", IF(VLOOKUP(AX26,'Footnotes list'!$D$9:$E$58,2,FALSE)=0,\"\",VLOOKUP(AX26,'Footnotes list'!$D$9:$E$58,2,FALSE) ) )","v":""},null,null,null,null,{"$f":"IF(TRIM(BC26)=\"\", \"\", IF(VLOOKUP(BC26,'Footnotes list'!$D$9:$E$58,2,FALSE)=0,\"\",VLOOKUP(BC26,'Footnotes list'!$D$9:$E$58,2,FALSE) ) )","v":""},null,null,null,null,{"$f":"IF(TRIM(BH26)=\"\", \"\", IF(VLOOKUP(BH26,'Footnotes list'!$D$9:$E$58,2,FALSE)=0,\"\",VLOOKUP(BH26,'Footnotes list'!$D$9:$E$58,2,FALSE) ) )","v":""},null,null,null,null,{"$f":"IF(TRIM(BM26)=\"\", \"\", IF(VLOOKUP(BM26,'Footnotes list'!$D$9:$E$58,2,FALSE)=0,\"\",VLOOKUP(BM26,'Footnotes list'!$D$9:$E$58,2,FALSE) ) )","v":""},{"$f":"IF(AND(TRIM(Q26)=\"\",TRIM(V26)=\"\",TRIM(AA26)=\"\", TRIM(AF26)=\"\", TRIM(AK26)=\"\", TRIM(AP26)=\"\", TRIM(AU26)=\"\", TRIM(AZ26)=\"\", TRIM(BE26)=\"\", TRIM(BJ26)=\"\"),\"\",Q26+V26+AA26+AF26+AK26+AP26+AU26+AZ26+BE26+BJ26)","v":""},null,null,null,{"$f":"IF(TRIM(BR26)=\"\", \"\", IF(VLOOKUP(BR26,'Footnotes list'!$D$9:$E$58,2,FALSE)=0,\"\",VLOOKUP(BR26,'Footnotes list'!$D$9:$E$58,2,FALSE) ) )","v":""},null,null,null,null,{"$f":"IF(TRIM(BW26)=\"\", \"\", IF(VLOOKUP(BW26,'Footnotes list'!$D$9:$E$58,2,FALSE)=0,\"\",VLOOKUP(BW26,'Footnotes list'!$D$9:$E$58,2,FALSE) ) )","v":""},null,null,null,null,{"$f":"IF(TRIM(CB26)=\"\", \"\", IF(VLOOKUP(CB26,'Footnotes list'!$D$9:$E$58,2,FALSE)=0,\"\",VLOOKUP(CB26,'Footnotes list'!$D$9:$E$58,2,FALSE) ) )","v":""},null,null,null,null,{"$f":"IF(TRIM(CG26)=\"\", \"\", IF(VLOOKUP(CG26,'Footnotes list'!$D$9:$E$58,2,FALSE)=0,\"\",VLOOKUP(CG26,'Footnotes list'!$D$9:$E$58,2,FALSE) ) )","v":""},{"$f":"IF(AND(TRIM(BY26)=\"\",TRIM(CD26)=\"\"),\"\",BY26+CD26)","v":""},null,null,null,{"$f":"IF(TRIM(CL26)=\"\", \"\", IF(VLOOKUP(CL26,'Footnotes list'!$D$9:$E$58,2,FALSE)=0,\"\",VLOOKUP(CL26,'Footnotes list'!$D$9:$E$58,2,FALSE) ) )","v":""},null,null,null,null,{"$f":"IF(TRIM(CQ26)=\"\", \"\", IF(VLOOKUP(CQ26,'Footnotes list'!$D$9:$E$58,2,FALSE)=0,\"\",VLOOKUP(CQ26,'Footnotes list'!$D$9:$E$58,2,FALSE) ) )","v":""},null,null,null,null,{"$f":"IF(TRIM(CV26)=\"\", \"\", IF(VLOOKUP(CV26,'Footnotes list'!$D$9:$E$58,2,FALSE)=0,\"\",VLOOKUP(CV26,'Footnotes list'!$D$9:$E$58,2,FALSE) ) )","v":""},null,null,null,null,{"$f":"IF(TRIM(DA26)=\"\", \"\", IF(VLOOKUP(DA26,'Footnotes list'!$D$9:$E$58,2,FALSE)=0,\"\",VLOOKUP(DA26,'Footnotes list'!$D$9:$E$58,2,FALSE) ) )","v":""},null,null,null,null,{"$f":"IF(TRIM(DF26)=\"\", \"\", IF(VLOOKUP(DF26,'Footnotes list'!$D$9:$E$58,2,FALSE)=0,\"\",VLOOKUP(DF26,'Footnotes list'!$D$9:$E$58,2,FALSE) ) )","v":""},{"$f":"IF(AND(TRIM(G26)=\"\",TRIM(L26)=\"\",TRIM(BO26)=\"\",TRIM(BT26)=\"\",TRIM(CI26)=\"\",TRIM(CN26)=\"\",TRIM(CS26)=\"\",TRIM(CX26)=\"\",TRIM(DC26)=\"\"),\"\",SUM(G26,L26,BO26,BT26,CI26,CN26,CS26,CX26,DC26))","v":""},null,null,null,{"$f":"IF(TRIM(DK26)=\"\", \"\", IF(VLOOKUP(DK26,'Footnotes list'!$D$9:$E$58,2,FALSE)=0,\"\",VLOOKUP(DK26,'Footnotes list'!$D$9:$E$58,2,FALSE) ) )","v":""}]
[null,null,"W05",null,"NHAZ","Non-hazardous",null,null,null,null,{"$f":"IF(TRIM(J27)=\"\", \"\", IF(VLOOKUP(J27,'Footnotes list'!$D$9:$E$58,2,FALSE)=0,\"\",VLOOKUP(J27,'Footnotes list'!$D$9:$E$58,2,FALSE) ) )","v":""},null,null,null,null,{"$f":"IF(TRIM(O27)=\"\", \"\", IF(VLOOKUP(O27,'Footnotes list'!$D$9:$E$58,2,FALSE)=0,\"\",VLOOKUP(O27,'Footnotes list'!$D$9:$E$58,2,FALSE) ) )","v":""},null,null,null,null,{"$f":"IF(TRIM(T27)=\"\", \"\", IF(VLOOKUP(T27,'Footnotes list'!$D$9:$E$58,2,FALSE)=0,\"\",VLOOKUP(T27,'Footnotes list'!$D$9:$E$58,2,FALSE) ) )","v":""},null,null,null,null,{"$f":"IF(TRIM(Y27)=\"\", \"\", IF(VLOOKUP(Y27,'Footnotes list'!$D$9:$E$58,2,FALSE)=0,\"\",VLOOKUP(Y27,'Footnotes list'!$D$9:$E$58,2,FALSE) ) )","v":""},null,null,null,null,{"$f":"IF(TRIM(AD27)=\"\", \"\", IF(VLOOKUP(AD27,'Footnotes list'!$D$9:$E$58,2,FALSE)=0,\"\",VLOOKUP(AD27,'Footnotes list'!$D$9:$E$58,2,FALSE) ) )","v":""},null,null,null,null,{"$f":"IF(TRIM(AI27)=\"\", \"\", IF(VLOOKUP(AI27,'Footnotes list'!$D$9:$E$58,2,FALSE)=0,\"\",VLOOKUP(AI27,'Footnotes list'!$D$9:$E$58,2,FALSE) ) )","v":""},null,null,null,null,{"$f":"IF(TRIM(AN27)=\"\", \"\", IF(VLOOKUP(AN27,'Footnotes list'!$D$9:$E$58,2,FALSE)=0,\"\",VLOOKUP(AN27,'Footnotes list'!$D$9:$E$58,2,FALSE) ) )","v":""},null,null,null,null,{"$f":"IF(TRIM(AS27)=\"\", \"\", IF(VLOOKUP(AS27,'Footnotes list'!$D$9:$E$58,2,FALSE)=0,\"\",VLOOKUP(AS27,'Footnotes list'!$D$9:$E$58,2,FALSE) ) )","v":""},null,null,null,null,{"$f":"IF(TRIM(AX27)=\"\", \"\", IF(VLOOKUP(AX27,'Footnotes list'!$D$9:$E$58,2,FALSE)=0,\"\",VLOOKUP(AX27,'Footnotes list'!$D$9:$E$58,2,FALSE) ) )","v":""},null,null,null,null,{"$f":"IF(TRIM(BC27)=\"\", \"\", IF(VLOOKUP(BC27,'Footnotes list'!$D$9:$E$58,2,FALSE)=0,\"\",VLOOKUP(BC27,'Footnotes list'!$D$9:$E$58,2,FALSE) ) )","v":""},null,null,null,null,{"$f":"IF(TRIM(BH27)=\"\", \"\", IF(VLOOKUP(BH27,'Footnotes list'!$D$9:$E$58,2,FALSE)=0,\"\",VLOOKUP(BH27,'Footnotes list'!$D$9:$E$58,2,FALSE) ) )","v":""},null,null,null,null,{"$f":"IF(TRIM(BM27)=\"\", \"\", IF(VLOOKUP(BM27,'Footnotes list'!$D$9:$E$58,2,FALSE)=0,\"\",VLOOKUP(BM27,'Footnotes list'!$D$9:$E$58,2,FALSE) ) )","v":""},{"$f":"IF(AND(TRIM(Q27)=\"\",TRIM(V27)=\"\",TRIM(AA27)=\"\", TRIM(AF27)=\"\", TRIM(AK27)=\"\", TRIM(AP27)=\"\", TRIM(AU27)=\"\", TRIM(AZ27)=\"\", TRIM(BE27)=\"\", TRIM(BJ27)=\"\"),\"\",Q27+V27+AA27+AF27+AK27+AP27+AU27+AZ27+BE27+BJ27)","v":""},null,null,null,{"$f":"IF(TRIM(BR27)=\"\", \"\", IF(VLOOKUP(BR27,'Footnotes list'!$D$9:$E$58,2,FALSE)=0,\"\",VLOOKUP(BR27,'Footnotes list'!$D$9:$E$58,2,FALSE) ) )","v":""},null,null,null,null,{"$f":"IF(TRIM(BW27)=\"\", \"\", IF(VLOOKUP(BW27,'Footnotes list'!$D$9:$E$58,2,FALSE)=0,\"\",VLOOKUP(BW27,'Footnotes list'!$D$9:$E$58,2,FALSE) ) )","v":""},null,null,null,null,{"$f":"IF(TRIM(CB27)=\"\", \"\", IF(VLOOKUP(CB27,'Footnotes list'!$D$9:$E$58,2,FALSE)=0,\"\",VLOOKUP(CB27,'Footnotes list'!$D$9:$E$58,2,FALSE) ) )","v":""},null,null,null,null,{"$f":"IF(TRIM(CG27)=\"\", \"\", IF(VLOOKUP(CG27,'Footnotes list'!$D$9:$E$58,2,FALSE)=0,\"\",VLOOKUP(CG27,'Footnotes list'!$D$9:$E$58,2,FALSE) ) )","v":""},{"$f":"IF(AND(TRIM(BY27)=\"\",TRIM(CD27)=\"\"),\"\",BY27+CD27)","v":""},null,null,null,{"$f":"IF(TRIM(CL27)=\"\", \"\", IF(VLOOKUP(CL27,'Footnotes list'!$D$9:$E$58,2,FALSE)=0,\"\",VLOOKUP(CL27,'Footnotes list'!$D$9:$E$58,2,FALSE) ) )","v":""},null,null,null,null,{"$f":"IF(TRIM(CQ27)=\"\", \"\", IF(VLOOKUP(CQ27,'Footnotes list'!$D$9:$E$58,2,FALSE)=0,\"\",VLOOKUP(CQ27,'Footnotes list'!$D$9:$E$58,2,FALSE) ) )","v":""},null,null,null,null,{"$f":"IF(TRIM(CV27)=\"\", \"\", IF(VLOOKUP(CV27,'Footnotes list'!$D$9:$E$58,2,FALSE)=0,\"\",VLOOKUP(CV27,'Footnotes list'!$D$9:$E$58,2,FALSE) ) )","v":""},null,null,null,null,{"$f":"IF(TRIM(DA27)=\"\", \"\", IF(VLOOKUP(DA27,'Footnotes list'!$D$9:$E$58,2,FALSE)=0,\"\",VLOOKUP(DA27,'Footnotes list'!$D$9:$E$58,2,FALSE) ) )","v":""},null,null,null,null,{"$f":"IF(TRIM(DF27)=\"\", \"\", IF(VLOOKUP(DF27,'Footnotes list'!$D$9:$E$58,2,FALSE)=0,\"\",VLOOKUP(DF27,'Footnotes list'!$D$9:$E$58,2,FALSE) ) )","v":""},{"$f":"IF(AND(TRIM(G27)=\"\",TRIM(L27)=\"\",TRIM(BO27)=\"\",TRIM(BT27)=\"\",TRIM(CI27)=\"\",TRIM(CN27)=\"\",TRIM(CS27)=\"\",TRIM(CX27)=\"\",TRIM(DC27)=\"\"),\"\",SUM(G27,L27,BO27,BT27,CI27,CN27,CS27,CX27,DC27))","v":""},null,null,null,{"$f":"IF(TRIM(DK27)=\"\", \"\", IF(VLOOKUP(DK27,'Footnotes list'!$D$9:$E$58,2,FALSE)=0,\"\",VLOOKUP(DK27,'Footnotes list'!$D$9:$E$58,2,FALSE) ) )","v":""}]
[null,null,"W05",null,"HAZ_NHAZ","Total",{"$f":"IF(AND(TRIM(G26)=\"\",TRIM(G27)=\"\"),\"\",G26+G27)","v":""},null,null,null,{"$f":"IF(TRIM(J28)=\"\", \"\", IF(VLOOKUP(J28,'Footnotes list'!$D$9:$E$58,2,FALSE)=0,\"\",VLOOKUP(J28,'Footnotes list'!$D$9:$E$58,2,FALSE) ) )","v":""},{"$f":"IF(AND(TRIM(L26)=\"\",TRIM(L27)=\"\"),\"\",L26+L27)","v":""},null,null,null,{"$f":"IF(TRIM(O28)=\"\", \"\", IF(VLOOKUP(O28,'Footnotes list'!$D$9:$E$58,2,FALSE)=0,\"\",VLOOKUP(O28,'Footnotes list'!$D$9:$E$58,2,FALSE) ) )","v":""},{"$f":"IF(AND(TRIM(Q26)=\"\",TRIM(Q27)=\"\"),\"\",Q26+Q27)","v":""},null,null,null,{"$f":"IF(TRIM(T28)=\"\", \"\", IF(VLOOKUP(T28,'Footnotes list'!$D$9:$E$58,2,FALSE)=0,\"\",VLOOKUP(T28,'Footnotes list'!$D$9:$E$58,2,FALSE) ) )","v":""},{"$f":"IF(AND(TRIM(V26)=\"\",TRIM(V27)=\"\"),\"\",V26+V27)","v":""},null,null,null,{"$f":"IF(TRIM(Y28)=\"\", \"\", IF(VLOOKUP(Y28,'Footnotes list'!$D$9:$E$58,2,FALSE)=0,\"\",VLOOKUP(Y28,'Footnotes list'!$D$9:$E$58,2,FALSE) ) )","v":""},{"$f":"IF(AND(TRIM(AA26)=\"\",TRIM(AA27)=\"\"),\"\",AA26+AA27)","v":""},null,null,null,{"$f":"IF(TRIM(AD28)=\"\", \"\", IF(VLOOKUP(AD28,'Footnotes list'!$D$9:$E$58,2,FALSE)=0,\"\",VLOOKUP(AD28,'Footnotes list'!$D$9:$E$58,2,FALSE) ) )","v":""},{"$f":"IF(AND(TRIM(AF26)=\"\",TRIM(AF27)=\"\"),\"\",AF26+AF27)","v":""},null,null,null,{"$f":"IF(TRIM(AI28)=\"\", \"\", IF(VLOOKUP(AI28,'Footnotes list'!$D$9:$E$58,2,FALSE)=0,\"\",VLOOKUP(AI28,'Footnotes list'!$D$9:$E$58,2,FALSE) ) )","v":""},{"$f":"IF(AND(TRIM(AK26)=\"\",TRIM(AK27)=\"\"),\"\",AK26+AK27)","v":""},null,null,null,{"$f":"IF(TRIM(AN28)=\"\", \"\", IF(VLOOKUP(AN28,'Footnotes list'!$D$9:$E$58,2,FALSE)=0,\"\",VLOOKUP(AN28,'Footnotes list'!$D$9:$E$58,2,FALSE) ) )","v":""},{"$f":"IF(AND(TRIM(AP26)=\"\",TRIM(AP27)=\"\"),\"\",AP26+AP27)","v":""},null,null,null,{"$f":"IF(TRIM(AS28)=\"\", \"\", IF(VLOOKUP(AS28,'Footnotes list'!$D$9:$E$58,2,FALSE)=0,\"\",VLOOKUP(AS28,'Footnotes list'!$D$9:$E$58,2,FALSE) ) )","v":""},{"$f":"IF(AND(TRIM(AU26)=\"\",TRIM(AU27)=\"\"),\"\",AU26+AU27)","v":""},null,null,null,{"$f":"IF(TRIM(AX28)=\"\", \"\", IF(VLOOKUP(AX28,'Footnotes list'!$D$9:$E$58,2,FALSE)=0,\"\",VLOOKUP(AX28,'Footnotes list'!$D$9:$E$58,2,FALSE) ) )","v":""},{"$f":"IF(AND(TRIM(AZ26)=\"\",TRIM(AZ27)=\"\"),\"\",AZ26+AZ27)","v":""},null,null,null,{"$f":"IF(TRIM(BC28)=\"\", \"\", IF(VLOOKUP(BC28,'Footnotes list'!$D$9:$E$58,2,FALSE)=0,\"\",VLOOKUP(BC28,'Footnotes list'!$D$9:$E$58,2,FALSE) ) )","v":""},{"$f":"IF(AND(TRIM(BE26)=\"\",TRIM(BE27)=\"\"),\"\",BE26+BE27)","v":""},null,null,null,{"$f":"IF(TRIM(BH28)=\"\", \"\", IF(VLOOKUP(BH28,'Footnotes list'!$D$9:$E$58,2,FALSE)=0,\"\",VLOOKUP(BH28,'Footnotes list'!$D$9:$E$58,2,FALSE) ) )","v":""},{"$f":"IF(AND(TRIM(BJ26)=\"\",TRIM(BJ27)=\"\"),\"\",BJ26+BJ27)","v":""},null,null,null,{"$f":"IF(TRIM(BM28)=\"\", \"\", IF(VLOOKUP(BM28,'Footnotes list'!$D$9:$E$58,2,FALSE)=0,\"\",VLOOKUP(BM28,'Footnotes list'!$D$9:$E$58,2,FALSE) ) )","v":""},{"$f":"IF(AND(TRIM(BO26)=\"\", TRIM(BO27)=\"\"), \"\", (IF(ISNUMBER(BO26),BO26,0)+IF(ISNUMBER(BO27),BO27,0)))","v":""},null,null,null,{"$f":"IF(TRIM(BR28)=\"\", \"\", IF(VLOOKUP(BR28,'Footnotes list'!$D$9:$E$58,2,FALSE)=0,\"\",VLOOKUP(BR28,'Footnotes list'!$D$9:$E$58,2,FALSE) ) )","v":""},{"$f":"IF(AND(TRIM(BT26)=\"\",TRIM(BT27)=\"\"),\"\",BT26+BT27)","v":""},null,null,null,{"$f":"IF(TRIM(BW28)=\"\", \"\", IF(VLOOKUP(BW28,'Footnotes list'!$D$9:$E$58,2,FALSE)=0,\"\",VLOOKUP(BW28,'Footnotes list'!$D$9:$E$58,2,FALSE) ) )","v":""},{"$f":"IF(AND(TRIM(BY26)=\"\",TRIM(BY27)=\"\"),\"\",BY26+BY27)","v":""},null,null,null,{"$f":"IF(TRIM(CB28)=\"\", \"\", IF(VLOOKUP(CB28,'Footnotes list'!$D$9:$E$58,2,FALSE)=0,\"\",VLOOKUP(CB28,'Footnotes list'!$D$9:$E$58,2,FALSE) ) )","v":""},{"$f":"IF(AND(TRIM(CD26)=\"\",TRIM(CD27)=\"\"),\"\",CD26+CD27)","v":""},null,null,null,{"$f":"IF(TRIM(CG28)=\"\", \"\", IF(VLOOKUP(CG28,'Footnotes list'!$D$9:$E$58,2,FALSE)=0,\"\",VLOOKUP(CG28,'Footnotes list'!$D$9:$E$58,2,FALSE) ) )","v":""},{"$f":"IF(AND(TRIM(CI26)=\"\", TRIM(CI27)=\"\"), \"\", (IF(ISNUMBER(CI26),CI26,0)+IF(ISNUMBER(CI27),CI27,0)))","v":""},null,null,null,{"$f":"IF(TRIM(CL28)=\"\", \"\", IF(VLOOKUP(CL28,'Footnotes list'!$D$9:$E$58,2,FALSE)=0,\"\",VLOOKUP(CL28,'Footnotes list'!$D$9:$E$58,2,FALSE) ) )","v":""},{"$f":"IF(AND(TRIM(CN26)=\"\",TRIM(CN27)=\"\"),\"\",CN26+CN27)","v":""},null,null,null,{"$f":"IF(TRIM(CQ28)=\"\", \"\", IF(VLOOKUP(CQ28,'Footnotes list'!$D$9:$E$58,2,FALSE)=0,\"\",VLOOKUP(CQ28,'Footnotes list'!$D$9:$E$58,2,FALSE) ) )","v":""},{"$f":"IF(AND(TRIM(CS26)=\"\",TRIM(CS27)=\"\"),\"\",CS26+CS27)","v":""},null,null,null,{"$f":"IF(TRIM(CV28)=\"\", \"\", IF(VLOOKUP(CV28,'Footnotes list'!$D$9:$E$58,2,FALSE)=0,\"\",VLOOKUP(CV28,'Footnotes list'!$D$9:$E$58,2,FALSE) ) )","v":""},{"$f":"IF(AND(TRIM(CX26)=\"\",TRIM(CX27)=\"\"),\"\",CX26+CX27)","v":""},null,null,null,{"$f":"IF(TRIM(DA28)=\"\", \"\", IF(VLOOKUP(DA28,'Footnotes list'!$D$9:$E$58,2,FALSE)=0,\"\",VLOOKUP(DA28,'Footnotes list'!$D$9:$E$58,2,FALSE) ) )","v":""},{"$f":"IF(AND(TRIM(DC26)=\"\",TRIM(DC27)=\"\"),\"\",DC26+DC27)","v":""},null,null,null,{"$f":"IF(TRIM(DF28)=\"\", \"\", IF(VLOOKUP(DF28,'Footnotes list'!$D$9:$E$58,2,FALSE)=0,\"\",VLOOKUP(DF28,'Footnotes list'!$D$9:$E$58,2,FALSE) ) )","v":""},{"$f":"IF(AND(TRIM(DH26)=\"\", TRIM(DH27)=\"\"), \"\", SUM(DH26,DH27) )","v":""},null,null,null,{"$f":"IF(TRIM(DK28)=\"\", \"\", IF(VLOOKUP(DK28,'Footnotes list'!$D$9:$E$58,2,FALSE)=0,\"\",VLOOKUP(DK28,'Footnotes list'!$D$9:$E$58,2,FALSE) ) )","v":""}]
[null,"W061",null,"Metallic wastes, ferrous ",null,"Not applicable"]
[null,null,"W061",null,"NHAZ","Non-hazardous",null,null,null,null,{"$f":"IF(TRIM(J30)=\"\", \"\", IF(VLOOKUP(J30,'Footnotes list'!$D$9:$E$58,2,FALSE)=0,\"\",VLOOKUP(J30,'Footnotes list'!$D$9:$E$58,2,FALSE) ) )","v":""},null,null,null,null,{"$f":"IF(TRIM(O30)=\"\", \"\", IF(VLOOKUP(O30,'Footnotes list'!$D$9:$E$58,2,FALSE)=0,\"\",VLOOKUP(O30,'Footnotes list'!$D$9:$E$58,2,FALSE) ) )","v":""},null,null,null,null,{"$f":"IF(TRIM(T30)=\"\", \"\", IF(VLOOKUP(T30,'Footnotes list'!$D$9:$E$58,2,FALSE)=0,\"\",VLOOKUP(T30,'Footnotes list'!$D$9:$E$58,2,FALSE) ) )","v":""},null,null,null,null,{"$f":"IF(TRIM(Y30)=\"\", \"\", IF(VLOOKUP(Y30,'Footnotes list'!$D$9:$E$58,2,FALSE)=0,\"\",VLOOKUP(Y30,'Footnotes list'!$D$9:$E$58,2,FALSE) ) )","v":""},null,null,null,null,{"$f":"IF(TRIM(AD30)=\"\", \"\", IF(VLOOKUP(AD30,'Footnotes list'!$D$9:$E$58,2,FALSE)=0,\"\",VLOOKUP(AD30,'Footnotes list'!$D$9:$E$58,2,FALSE) ) )","v":""},null,null,null,null,{"$f":"IF(TRIM(AI30)=\"\", \"\", IF(VLOOKUP(AI30,'Footnotes list'!$D$9:$E$58,2,FALSE)=0,\"\",VLOOKUP(AI30,'Footnotes list'!$D$9:$E$58,2,FALSE) ) )","v":""},null,null,null,null,{"$f":"IF(TRIM(AN30)=\"\", \"\", IF(VLOOKUP(AN30,'Footnotes list'!$D$9:$E$58,2,FALSE)=0,\"\",VLOOKUP(AN30,'Footnotes list'!$D$9:$E$58,2,FALSE) ) )","v":""},null,null,null,null,{"$f":"IF(TRIM(AS30)=\"\", \"\", IF(VLOOKUP(AS30,'Footnotes list'!$D$9:$E$58,2,FALSE)=0,\"\",VLOOKUP(AS30,'Footnotes list'!$D$9:$E$58,2,FALSE) ) )","v":""},null,null,null,null,{"$f":"IF(TRIM(AX30)=\"\", \"\", IF(VLOOKUP(AX30,'Footnotes list'!$D$9:$E$58,2,FALSE)=0,\"\",VLOOKUP(AX30,'Footnotes list'!$D$9:$E$58,2,FALSE) ) )","v":""},null,null,null,null,{"$f":"IF(TRIM(BC30)=\"\", \"\", IF(VLOOKUP(BC30,'Footnotes list'!$D$9:$E$58,2,FALSE)=0,\"\",VLOOKUP(BC30,'Footnotes list'!$D$9:$E$58,2,FALSE) ) )","v":""},null,null,null,null,{"$f":"IF(TRIM(BH30)=\"\", \"\", IF(VLOOKUP(BH30,'Footnotes list'!$D$9:$E$58,2,FALSE)=0,\"\",VLOOKUP(BH30,'Footnotes list'!$D$9:$E$58,2,FALSE) ) )","v":""},null,null,null,null,{"$f":"IF(TRIM(BM30)=\"\", \"\", IF(VLOOKUP(BM30,'Footnotes list'!$D$9:$E$58,2,FALSE)=0,\"\",VLOOKUP(BM30,'Footnotes list'!$D$9:$E$58,2,FALSE) ) )","v":""},{"$f":"IF(AND(TRIM(Q30)=\"\",TRIM(V30)=\"\",TRIM(AA30)=\"\", TRIM(AF30)=\"\", TRIM(AK30)=\"\", TRIM(AP30)=\"\", TRIM(AU30)=\"\", TRIM(AZ30)=\"\", TRIM(BE30)=\"\", TRIM(BJ30)=\"\"),\"\",Q30+V30+AA30+AF30+AK30+AP30+AU30+AZ30+BE30+BJ30)","v":""},null,null,null,{"$f":"IF(TRIM(BR30)=\"\", \"\", IF(VLOOKUP(BR30,'Footnotes list'!$D$9:$E$58,2,FALSE)=0,\"\",VLOOKUP(BR30,'Footnotes list'!$D$9:$E$58,2,FALSE) ) )","v":""},null,null,null,null,{"$f":"IF(TRIM(BW30)=\"\", \"\", IF(VLOOKUP(BW30,'Footnotes list'!$D$9:$E$58,2,FALSE)=0,\"\",VLOOKUP(BW30,'Footnotes list'!$D$9:$E$58,2,FALSE) ) )","v":""},null,null,null,null,{"$f":"IF(TRIM(CB30)=\"\", \"\", IF(VLOOKUP(CB30,'Footnotes list'!$D$9:$E$58,2,FALSE)=0,\"\",VLOOKUP(CB30,'Footnotes list'!$D$9:$E$58,2,FALSE) ) )","v":""},null,null,null,null,{"$f":"IF(TRIM(CG30)=\"\", \"\", IF(VLOOKUP(CG30,'Footnotes list'!$D$9:$E$58,2,FALSE)=0,\"\",VLOOKUP(CG30,'Footnotes list'!$D$9:$E$58,2,FALSE) ) )","v":""},{"$f":"IF(AND(TRIM(BY30)=\"\",TRIM(CD30)=\"\"),\"\",BY30+CD30)","v":""},null,null,null,{"$f":"IF(TRIM(CL30)=\"\", \"\", IF(VLOOKUP(CL30,'Footnotes list'!$D$9:$E$58,2,FALSE)=0,\"\",VLOOKUP(CL30,'Footnotes list'!$D$9:$E$58,2,FALSE) ) )","v":""},null,null,null,null,{"$f":"IF(TRIM(CQ30)=\"\", \"\", IF(VLOOKUP(CQ30,'Footnotes list'!$D$9:$E$58,2,FALSE)=0,\"\",VLOOKUP(CQ30,'Footnotes list'!$D$9:$E$58,2,FALSE) ) )","v":""},null,null,null,null,{"$f":"IF(TRIM(CV30)=\"\", \"\", IF(VLOOKUP(CV30,'Footnotes list'!$D$9:$E$58,2,FALSE)=0,\"\",VLOOKUP(CV30,'Footnotes list'!$D$9:$E$58,2,FALSE) ) )","v":""},null,null,null,null,{"$f":"IF(TRIM(DA30)=\"\", \"\", IF(VLOOKUP(DA30,'Footnotes list'!$D$9:$E$58,2,FALSE)=0,\"\",VLOOKUP(DA30,'Footnotes list'!$D$9:$E$58,2,FALSE) ) )","v":""},null,null,null,null,{"$f":"IF(TRIM(DF30)=\"\", \"\", IF(VLOOKUP(DF30,'Footnotes list'!$D$9:$E$58,2,FALSE)=0,\"\",VLOOKUP(DF30,'Footnotes list'!$D$9:$E$58,2,FALSE) ) )","v":""},{"$f":"IF(AND(TRIM(G30)=\"\",TRIM(L30)=\"\",TRIM(BO30)=\"\",TRIM(BT30)=\"\",TRIM(CI30)=\"\",TRIM(CN30)=\"\",TRIM(CS30)=\"\",TRIM(CX30)=\"\",TRIM(DC30)=\"\"),\"\",SUM(G30,L30,BO30,BT30,CI30,CN30,CS30,CX30,DC30))","v":""},null,null,null,{"$f":"IF(TRIM(DK30)=\"\", \"\", IF(VLOOKUP(DK30,'Footnotes list'!$D$9:$E$58,2,FALSE)=0,\"\",VLOOKUP(DK30,'Footnotes list'!$D$9:$E$58,2,FALSE) ) )","v":""}]
[null,null,"W061",null,"HAZ_NHAZ","Total",{"$f":"IF(AND(TRIM(G29)=\"\",TRIM(G30)=\"\"),\"\",G29+G30)","v":""},null,null,null,{"$f":"IF(TRIM(J31)=\"\", \"\", IF(VLOOKUP(J31,'Footnotes list'!$D$9:$E$58,2,FALSE)=0,\"\",VLOOKUP(J31,'Footnotes list'!$D$9:$E$58,2,FALSE) ) )","v":""},{"$f":"IF(AND(TRIM(L29)=\"\",TRIM(L30)=\"\"),\"\",L29+L30)","v":""},null,null,null,{"$f":"IF(TRIM(O31)=\"\", \"\", IF(VLOOKUP(O31,'Footnotes list'!$D$9:$E$58,2,FALSE)=0,\"\",VLOOKUP(O31,'Footnotes list'!$D$9:$E$58,2,FALSE) ) )","v":""},{"$f":"IF(AND(TRIM(Q29)=\"\",TRIM(Q30)=\"\"),\"\",Q29+Q30)","v":""},null,null,null,{"$f":"IF(TRIM(T31)=\"\", \"\", IF(VLOOKUP(T31,'Footnotes list'!$D$9:$E$58,2,FALSE)=0,\"\",VLOOKUP(T31,'Footnotes list'!$D$9:$E$58,2,FALSE) ) )","v":""},{"$f":"IF(AND(TRIM(V29)=\"\",TRIM(V30)=\"\"),\"\",V29+V30)","v":""},null,null,null,{"$f":"IF(TRIM(Y31)=\"\", \"\", IF(VLOOKUP(Y31,'Footnotes list'!$D$9:$E$58,2,FALSE)=0,\"\",VLOOKUP(Y31,'Footnotes list'!$D$9:$E$58,2,FALSE) ) )","v":""},{"$f":"IF(AND(TRIM(AA29)=\"\",TRIM(AA30)=\"\"),\"\",AA29+AA30)","v":""},null,null,null,{"$f":"IF(TRIM(AD31)=\"\", \"\", IF(VLOOKUP(AD31,'Footnotes list'!$D$9:$E$58,2,FALSE)=0,\"\",VLOOKUP(AD31,'Footnotes list'!$D$9:$E$58,2,FALSE) ) )","v":""},{"$f":"IF(AND(TRIM(AF29)=\"\",TRIM(AF30)=\"\"),\"\",AF29+AF30)","v":""},null,null,null,{"$f":"IF(TRIM(AI31)=\"\", \"\", IF(VLOOKUP(AI31,'Footnotes list'!$D$9:$E$58,2,FALSE)=0,\"\",VLOOKUP(AI31,'Footnotes list'!$D$9:$E$58,2,FALSE) ) )","v":""},{"$f":"IF(AND(TRIM(AK29)=\"\",TRIM(AK30)=\"\"),\"\",AK29+AK30)","v":""},null,null,null,{"$f":"IF(TRIM(AN31)=\"\", \"\", IF(VLOOKUP(AN31,'Footnotes list'!$D$9:$E$58,2,FALSE)=0,\"\",VLOOKUP(AN31,'Footnotes list'!$D$9:$E$58,2,FALSE) ) )","v":""},{"$f":"IF(AND(TRIM(AP29)=\"\",TRIM(AP30)=\"\"),\"\",AP29+AP30)","v":""},null,null,null,{"$f":"IF(TRIM(AS31)=\"\", \"\", IF(VLOOKUP(AS31,'Footnotes list'!$D$9:$E$58,2,FALSE)=0,\"\",VLOOKUP(AS31,'Footnotes list'!$D$9:$E$58,2,FALSE) ) )","v":""},{"$f":"IF(AND(TRIM(AU29)=\"\",TRIM(AU30)=\"\"),\"\",AU29+AU30)","v":""},null,null,null,{"$f":"IF(TRIM(AX31)=\"\", \"\", IF(VLOOKUP(AX31,'Footnotes list'!$D$9:$E$58,2,FALSE)=0,\"\",VLOOKUP(AX31,'Footnotes list'!$D$9:$E$58,2,FALSE) ) )","v":""},{"$f":"IF(AND(TRIM(AZ29)=\"\",TRIM(AZ30)=\"\"),\"\",AZ29+AZ30)","v":""},null,null,null,{"$f":"IF(TRIM(BC31)=\"\", \"\", IF(VLOOKUP(BC31,'Footnotes list'!$D$9:$E$58,2,FALSE)=0,\"\",VLOOKUP(BC31,'Footnotes list'!$D$9:$E$58,2,FALSE) ) )","v":""},{"$f":"IF(AND(TRIM(BE29)=\"\",TRIM(BE30)=\"\"),\"\",BE29+BE30)","v":""},null,null,null,{"$f":"IF(TRIM(BH31)=\"\", \"\", IF(VLOOKUP(BH31,'Footnotes list'!$D$9:$E$58,2,FALSE)=0,\"\",VLOOKUP(BH31,'Footnotes list'!$D$9:$E$58,2,FALSE) ) )","v":""},{"$f":"IF(AND(TRIM(BJ29)=\"\",TRIM(BJ30)=\"\"),\"\",BJ29+BJ30)","v":""},null,null,null,{"$f":"IF(TRIM(BM31)=\"\", \"\", IF(VLOOKUP(BM31,'Footnotes list'!$D$9:$E$58,2,FALSE)=0,\"\",VLOOKUP(BM31,'Footnotes list'!$D$9:$E$58,2,FALSE) ) )","v":""},{"$f":"IF(AND(TRIM(BO29)=\"\", TRIM(BO30)=\"\"), \"\", (IF(ISNUMBER(BO29),BO29,0)+IF(ISNUMBER(BO30),BO30,0)))","v":""},null,null,null,{"$f":"IF(TRIM(BR31)=\"\", \"\", IF(VLOOKUP(BR31,'Footnotes list'!$D$9:$E$58,2,FALSE)=0,\"\",VLOOKUP(BR31,'Footnotes list'!$D$9:$E$58,2,FALSE) ) )","v":""},{"$f":"IF(AND(TRIM(BT29)=\"\",TRIM(BT30)=\"\"),\"\",BT29+BT30)","v":""},null,null,null,{"$f":"IF(TRIM(BW31)=\"\", \"\", IF(VLOOKUP(BW31,'Footnotes list'!$D$9:$E$58,2,FALSE)=0,\"\",VLOOKUP(BW31,'Footnotes list'!$D$9:$E$58,2,FALSE) ) )","v":""},{"$f":"IF(AND(TRIM(BY29)=\"\",TRIM(BY30)=\"\"),\"\",BY29+BY30)","v":""},null,null,null,{"$f":"IF(TRIM(CB31)=\"\", \"\", IF(VLOOKUP(CB31,'Footnotes list'!$D$9:$E$58,2,FALSE)=0,\"\",VLOOKUP(CB31,'Footnotes list'!$D$9:$E$58,2,FALSE) ) )","v":""},{"$f":"IF(AND(TRIM(CD29)=\"\",TRIM(CD30)=\"\"),\"\",CD29+CD30)","v":""},null,null,null,{"$f":"IF(TRIM(CG31)=\"\", \"\", IF(VLOOKUP(CG31,'Footnotes list'!$D$9:$E$58,2,FALSE)=0,\"\",VLOOKUP(CG31,'Footnotes list'!$D$9:$E$58,2,FALSE) ) )","v":""},{"$f":"IF(AND(TRIM(CI29)=\"\", TRIM(CI30)=\"\"), \"\", (IF(ISNUMBER(CI29),CI29,0)+IF(ISNUMBER(CI30),CI30,0)))","v":""},null,null,null,{"$f":"IF(TRIM(CL31)=\"\", \"\", IF(VLOOKUP(CL31,'Footnotes list'!$D$9:$E$58,2,FALSE)=0,\"\",VLOOKUP(CL31,'Footnotes list'!$D$9:$E$58,2,FALSE) ) )","v":""},{"$f":"IF(AND(TRIM(CN29)=\"\",TRIM(CN30)=\"\"),\"\",CN29+CN30)","v":""},null,null,null,{"$f":"IF(TRIM(CQ31)=\"\", \"\", IF(VLOOKUP(CQ31,'Footnotes list'!$D$9:$E$58,2,FALSE)=0,\"\",VLOOKUP(CQ31,'Footnotes list'!$D$9:$E$58,2,FALSE) ) )","v":""},{"$f":"IF(AND(TRIM(CS29)=\"\",TRIM(CS30)=\"\"),\"\",CS29+CS30)","v":""},null,null,null,{"$f":"IF(TRIM(CV31)=\"\", \"\", IF(VLOOKUP(CV31,'Footnotes list'!$D$9:$E$58,2,FALSE)=0,\"\",VLOOKUP(CV31,'Footnotes list'!$D$9:$E$58,2,FALSE) ) )","v":""},{"$f":"IF(AND(TRIM(CX29)=\"\",TRIM(CX30)=\"\"),\"\",CX29+CX30)","v":""},null,null,null,{"$f":"IF(TRIM(DA31)=\"\", \"\", IF(VLOOKUP(DA31,'Footnotes list'!$D$9:$E$58,2,FALSE)=0,\"\",VLOOKUP(DA31,'Footnotes list'!$D$9:$E$58,2,FALSE) ) )","v":""},{"$f":"IF(AND(TRIM(DC29)=\"\",TRIM(DC30)=\"\"),\"\",DC29+DC30)","v":""},null,null,null,{"$f":"IF(TRIM(DF31)=\"\", \"\", IF(VLOOKUP(DF31,'Footnotes list'!$D$9:$E$58,2,FALSE)=0,\"\",VLOOKUP(DF31,'Footnotes list'!$D$9:$E$58,2,FALSE) ) )","v":""},{"$f":"IF(AND(TRIM(DH29)=\"\", TRIM(DH30)=\"\"), \"\", SUM(DH29,DH30) )","v":""},null,null,null,{"$f":"IF(TRIM(DK31)=\"\", \"\", IF(VLOOKUP(DK31,'Footnotes list'!$D$9:$E$58,2,FALSE)=0,\"\",VLOOKUP(DK31,'Footnotes list'!$D$9:$E$58,2,FALSE) ) )","v":""}]
[null,"W062",null,"Metallic wastes, non-ferrous ",null,"Not applicable"]
[null,null,"W062",null,"NHAZ","Non-hazardous",null,null,null,null,{"$f":"IF(TRIM(J33)=\"\", \"\", IF(VLOOKUP(J33,'Footnotes list'!$D$9:$E$58,2,FALSE)=0,\"\",VLOOKUP(J33,'Footnotes list'!$D$9:$E$58,2,FALSE) ) )","v":""},null,null,null,null,{"$f":"IF(TRIM(O33)=\"\", \"\", IF(VLOOKUP(O33,'Footnotes list'!$D$9:$E$58,2,FALSE)=0,\"\",VLOOKUP(O33,'Footnotes list'!$D$9:$E$58,2,FALSE) ) )","v":""},null,null,null,null,{"$f":"IF(TRIM(T33)=\"\", \"\", IF(VLOOKUP(T33,'Footnotes list'!$D$9:$E$58,2,FALSE)=0,\"\",VLOOKUP(T33,'Footnotes list'!$D$9:$E$58,2,FALSE) ) )","v":""},null,null,null,null,{"$f":"IF(TRIM(Y33)=\"\", \"\", IF(VLOOKUP(Y33,'Footnotes list'!$D$9:$E$58,2,FALSE)=0,\"\",VLOOKUP(Y33,'Footnotes list'!$D$9:$E$58,2,FALSE) ) )","v":""},null,null,null,null,{"$f":"IF(TRIM(AD33)=\"\", \"\", IF(VLOOKUP(AD33,'Footnotes list'!$D$9:$E$58,2,FALSE)=0,\"\",VLOOKUP(AD33,'Footnotes list'!$D$9:$E$58,2,FALSE) ) )","v":""},null,null,null,null,{"$f":"IF(TRIM(AI33)=\"\", \"\", IF(VLOOKUP(AI33,'Footnotes list'!$D$9:$E$58,2,FALSE)=0,\"\",VLOOKUP(AI33,'Footnotes list'!$D$9:$E$58,2,FALSE) ) )","v":""},null,null,null,null,{"$f":"IF(TRIM(AN33)=\"\", \"\", IF(VLOOKUP(AN33,'Footnotes list'!$D$9:$E$58,2,FALSE)=0,\"\",VLOOKUP(AN33,'Footnotes list'!$D$9:$E$58,2,FALSE) ) )","v":""},null,null,null,null,{"$f":"IF(TRIM(AS33)=\"\", \"\", IF(VLOOKUP(AS33,'Footnotes list'!$D$9:$E$58,2,FALSE)=0,\"\",VLOOKUP(AS33,'Footnotes list'!$D$9:$E$58,2,FALSE) ) )","v":""},null,null,null,null,{"$f":"IF(TRIM(AX33)=\"\", \"\", IF(VLOOKUP(AX33,'Footnotes list'!$D$9:$E$58,2,FALSE)=0,\"\",VLOOKUP(AX33,'Footnotes list'!$D$9:$E$58,2,FALSE) ) )","v":""},null,null,null,null,{"$f":"IF(TRIM(BC33)=\"\", \"\", IF(VLOOKUP(BC33,'Footnotes list'!$D$9:$E$58,2,FALSE)=0,\"\",VLOOKUP(BC33,'Footnotes list'!$D$9:$E$58,2,FALSE) ) )","v":""},null,null,null,null,{"$f":"IF(TRIM(BH33)=\"\", \"\", IF(VLOOKUP(BH33,'Footnotes list'!$D$9:$E$58,2,FALSE)=0,\"\",VLOOKUP(BH33,'Footnotes list'!$D$9:$E$58,2,FALSE) ) )","v":""},null,null,null,null,{"$f":"IF(TRIM(BM33)=\"\", \"\", IF(VLOOKUP(BM33,'Footnotes list'!$D$9:$E$58,2,FALSE)=0,\"\",VLOOKUP(BM33,'Footnotes list'!$D$9:$E$58,2,FALSE) ) )","v":""},{"$f":"IF(AND(TRIM(Q33)=\"\",TRIM(V33)=\"\",TRIM(AA33)=\"\", TRIM(AF33)=\"\", TRIM(AK33)=\"\", TRIM(AP33)=\"\", TRIM(AU33)=\"\", TRIM(AZ33)=\"\", TRIM(BE33)=\"\", TRIM(BJ33)=\"\"),\"\",Q33+V33+AA33+AF33+AK33+AP33+AU33+AZ33+BE33+BJ33)","v":""},null,null,null,{"$f":"IF(TRIM(BR33)=\"\", \"\", IF(VLOOKUP(BR33,'Footnotes list'!$D$9:$E$58,2,FALSE)=0,\"\",VLOOKUP(BR33,'Footnotes list'!$D$9:$E$58,2,FALSE) ) )","v":""},null,null,null,null,{"$f":"IF(TRIM(BW33)=\"\", \"\", IF(VLOOKUP(BW33,'Footnotes list'!$D$9:$E$58,2,FALSE)=0,\"\",VLOOKUP(BW33,'Footnotes list'!$D$9:$E$58,2,FALSE) ) )","v":""},null,null,null,null,{"$f":"IF(TRIM(CB33)=\"\", \"\", IF(VLOOKUP(CB33,'Footnotes list'!$D$9:$E$58,2,FALSE)=0,\"\",VLOOKUP(CB33,'Footnotes list'!$D$9:$E$58,2,FALSE) ) )","v":""},null,null,null,null,{"$f":"IF(TRIM(CG33)=\"\", \"\", IF(VLOOKUP(CG33,'Footnotes list'!$D$9:$E$58,2,FALSE)=0,\"\",VLOOKUP(CG33,'Footnotes list'!$D$9:$E$58,2,FALSE) ) )","v":""},{"$f":"IF(AND(TRIM(BY33)=\"\",TRIM(CD33)=\"\"),\"\",BY33+CD33)","v":""},null,null,null,{"$f":"IF(TRIM(CL33)=\"\", \"\", IF(VLOOKUP(CL33,'Footnotes list'!$D$9:$E$58,2,FALSE)=0,\"\",VLOOKUP(CL33,'Footnotes list'!$D$9:$E$58,2,FALSE) ) )","v":""},null,null,null,null,{"$f":"IF(TRIM(CQ33)=\"\", \"\", IF(VLOOKUP(CQ33,'Footnotes list'!$D$9:$E$58,2,FALSE)=0,\"\",VLOOKUP(CQ33,'Footnotes list'!$D$9:$E$58,2,FALSE) ) )","v":""},null,null,null,null,{"$f":"IF(TRIM(CV33)=\"\", \"\", IF(VLOOKUP(CV33,'Footnotes list'!$D$9:$E$58,2,FALSE)=0,\"\",VLOOKUP(CV33,'Footnotes list'!$D$9:$E$58,2,FALSE) ) )","v":""},null,null,null,null,{"$f":"IF(TRIM(DA33)=\"\", \"\", IF(VLOOKUP(DA33,'Footnotes list'!$D$9:$E$58,2,FALSE)=0,\"\",VLOOKUP(DA33,'Footnotes list'!$D$9:$E$58,2,FALSE) ) )","v":""},null,null,null,null,{"$f":"IF(TRIM(DF33)=\"\", \"\", IF(VLOOKUP(DF33,'Footnotes list'!$D$9:$E$58,2,FALSE)=0,\"\",VLOOKUP(DF33,'Footnotes list'!$D$9:$E$58,2,FALSE) ) )","v":""},{"$f":"IF(AND(TRIM(G33)=\"\",TRIM(L33)=\"\",TRIM(BO33)=\"\",TRIM(BT33)=\"\",TRIM(CI33)=\"\",TRIM(CN33)=\"\",TRIM(CS33)=\"\",TRIM(CX33)=\"\",TRIM(DC33)=\"\"),\"\",SUM(G33,L33,BO33,BT33,CI33,CN33,CS33,CX33,DC33))","v":""},null,null,null,{"$f":"IF(TRIM(DK33)=\"\", \"\", IF(VLOOKUP(DK33,'Footnotes list'!$D$9:$E$58,2,FALSE)=0,\"\",VLOOKUP(DK33,'Footnotes list'!$D$9:$E$58,2,FALSE) ) )","v":""}]
[null,null,"W062",null,"HAZ_NHAZ","Total",{"$f":"IF(AND(TRIM(G32)=\"\",TRIM(G33)=\"\"),\"\",G32+G33)","v":""},null,null,null,{"$f":"IF(TRIM(J34)=\"\", \"\", IF(VLOOKUP(J34,'Footnotes list'!$D$9:$E$58,2,FALSE)=0,\"\",VLOOKUP(J34,'Footnotes list'!$D$9:$E$58,2,FALSE) ) )","v":""},{"$f":"IF(AND(TRIM(L32)=\"\",TRIM(L33)=\"\"),\"\",L32+L33)","v":""},null,null,null,{"$f":"IF(TRIM(O34)=\"\", \"\", IF(VLOOKUP(O34,'Footnotes list'!$D$9:$E$58,2,FALSE)=0,\"\",VLOOKUP(O34,'Footnotes list'!$D$9:$E$58,2,FALSE) ) )","v":""},{"$f":"IF(AND(TRIM(Q32)=\"\",TRIM(Q33)=\"\"),\"\",Q32+Q33)","v":""},null,null,null,{"$f":"IF(TRIM(T34)=\"\", \"\", IF(VLOOKUP(T34,'Footnotes list'!$D$9:$E$58,2,FALSE)=0,\"\",VLOOKUP(T34,'Footnotes list'!$D$9:$E$58,2,FALSE) ) )","v":""},{"$f":"IF(AND(TRIM(V32)=\"\",TRIM(V33)=\"\"),\"\",V32+V33)","v":""},null,null,null,{"$f":"IF(TRIM(Y34)=\"\", \"\", IF(VLOOKUP(Y34,'Footnotes list'!$D$9:$E$58,2,FALSE)=0,\"\",VLOOKUP(Y34,'Footnotes list'!$D$9:$E$58,2,FALSE) ) )","v":""},{"$f":"IF(AND(TRIM(AA32)=\"\",TRIM(AA33)=\"\"),\"\",AA32+AA33)","v":""},null,null,null,{"$f":"IF(TRIM(AD34)=\"\", \"\", IF(VLOOKUP(AD34,'Footnotes list'!$D$9:$E$58,2,FALSE)=0,\"\",VLOOKUP(AD34,'Footnotes list'!$D$9:$E$58,2,FALSE) ) )","v":""},{"$f":"IF(AND(TRIM(AF32)=\"\",TRIM(AF33)=\"\"),\"\",AF32+AF33)","v":""},null,null,null,{"$f":"IF(TRIM(AI34)=\"\", \"\", IF(VLOOKUP(AI34,'Footnotes list'!$D$9:$E$58,2,FALSE)=0,\"\",VLOOKUP(AI34,'Footnotes list'!$D$9:$E$58,2,FALSE) ) )","v":""},{"$f":"IF(AND(TRIM(AK32)=\"\",TRIM(AK33)=\"\"),\"\",AK32+AK33)","v":""},null,null,null,{"$f":"IF(TRIM(AN34)=\"\", \"\", IF(VLOOKUP(AN34,'Footnotes list'!$D$9:$E$58,2,FALSE)=0,\"\",VLOOKUP(AN34,'Footnotes list'!$D$9:$E$58,2,FALSE) ) )","v":""},{"$f":"IF(AND(TRIM(AP32)=\"\",TRIM(AP33)=\"\"),\"\",AP32+AP33)","v":""},null,null,null,{"$f":"IF(TRIM(AS34)=\"\", \"\", IF(VLOOKUP(AS34,'Footnotes list'!$D$9:$E$58,2,FALSE)=0,\"\",VLOOKUP(AS34,'Footnotes list'!$D$9:$E$58,2,FALSE) ) )","v":""},{"$f":"IF(AND(TRIM(AU32)=\"\",TRIM(AU33)=\"\"),\"\",AU32+AU33)","v":""},null,null,null,{"$f":"IF(TRIM(AX34)=\"\", \"\", IF(VLOOKUP(AX34,'Footnotes list'!$D$9:$E$58,2,FALSE)=0,\"\",VLOOKUP(AX34,'Footnotes list'!$D$9:$E$58,2,FALSE) ) )","v":""},{"$f":"IF(AND(TRIM(AZ32)=\"\",TRIM(AZ33)=\"\"),\"\",AZ32+AZ33)","v":""},null,null,null,{"$f":"IF(TRIM(BC34)=\"\", \"\", IF(VLOOKUP(BC34,'Footnotes list'!$D$9:$E$58,2,FALSE)=0,\"\",VLOOKUP(BC34,'Footnotes list'!$D$9:$E$58,2,FALSE) ) )","v":""},{"$f":"IF(AND(TRIM(BE32)=\"\",TRIM(BE33)=\"\"),\"\",BE32+BE33)","v":""},null,null,null,{"$f":"IF(TRIM(BH34)=\"\", \"\", IF(VLOOKUP(BH34,'Footnotes list'!$D$9:$E$58,2,FALSE)=0,\"\",VLOOKUP(BH34,'Footnotes list'!$D$9:$E$58,2,FALSE) ) )","v":""},{"$f":"IF(AND(TRIM(BJ32)=\"\",TRIM(BJ33)=\"\"),\"\",BJ32+BJ33)","v":""},null,null,null,{"$f":"IF(TRIM(BM34)=\"\", \"\", IF(VLOOKUP(BM34,'Footnotes list'!$D$9:$E$58,2,FALSE)=0,\"\",VLOOKUP(BM34,'Footnotes list'!$D$9:$E$58,2,FALSE) ) )","v":""},{"$f":"IF(AND(TRIM(BO32)=\"\", TRIM(BO33)=\"\"), \"\", (IF(ISNUMBER(BO32),BO32,0)+IF(ISNUMBER(BO33),BO33,0)))","v":""},null,null,null,{"$f":"IF(TRIM(BR34)=\"\", \"\", IF(VLOOKUP(BR34,'Footnotes list'!$D$9:$E$58,2,FALSE)=0,\"\",VLOOKUP(BR34,'Footnotes list'!$D$9:$E$58,2,FALSE) ) )","v":""},{"$f":"IF(AND(TRIM(BT32)=\"\",TRIM(BT33)=\"\"),\"\",BT32+BT33)","v":""},null,null,null,{"$f":"IF(TRIM(BW34)=\"\", \"\", IF(VLOOKUP(BW34,'Footnotes list'!$D$9:$E$58,2,FALSE)=0,\"\",VLOOKUP(BW34,'Footnotes list'!$D$9:$E$58,2,FALSE) ) )","v":""},{"$f":"IF(AND(TRIM(BY32)=\"\",TRIM(BY33)=\"\"),\"\",BY32+BY33)","v":""},null,null,null,{"$f":"IF(TRIM(CB34)=\"\", \"\", IF(VLOOKUP(CB34,'Footnotes list'!$D$9:$E$58,2,FALSE)=0,\"\",VLOOKUP(CB34,'Footnotes list'!$D$9:$E$58,2,FALSE) ) )","v":""},{"$f":"IF(AND(TRIM(CD32)=\"\",TRIM(CD33)=\"\"),\"\",CD32+CD33)","v":""},null,null,null,{"$f":"IF(TRIM(CG34)=\"\", \"\", IF(VLOOKUP(CG34,'Footnotes list'!$D$9:$E$58,2,FALSE)=0,\"\",VLOOKUP(CG34,'Footnotes list'!$D$9:$E$58,2,FALSE) ) )","v":""},{"$f":"IF(AND(TRIM(CI32)=\"\", TRIM(CI33)=\"\"), \"\", (IF(ISNUMBER(CI32),CI32,0)+IF(ISNUMBER(CI33),CI33,0)))","v":""},null,null,null,{"$f":"IF(TRIM(CL34)=\"\", \"\", IF(VLOOKUP(CL34,'Footnotes list'!$D$9:$E$58,2,FALSE)=0,\"\",VLOOKUP(CL34,'Footnotes list'!$D$9:$E$58,2,FALSE) ) )","v":""},{"$f":"IF(AND(TRIM(CN32)=\"\",TRIM(CN33)=\"\"),\"\",CN32+CN33)","v":""},null,null,null,{"$f":"IF(TRIM(CQ34)=\"\", \"\", IF(VLOOKUP(CQ34,'Footnotes list'!$D$9:$E$58,2,FALSE)=0,\"\",VLOOKUP(CQ34,'Footnotes list'!$D$9:$E$58,2,FALSE) ) )","v":""},{"$f":"IF(AND(TRIM(CS32)=\"\",TRIM(CS33)=\"\"),\"\",CS32+CS33)","v":""},null,null,null,{"$f":"IF(TRIM(CV34)=\"\", \"\", IF(VLOOKUP(CV34,'Footnotes list'!$D$9:$E$58,2,FALSE)=0,\"\",VLOOKUP(CV34,'Footnotes list'!$D$9:$E$58,2,FALSE) ) )","v":""},{"$f":"IF(AND(TRIM(CX32)=\"\",TRIM(CX33)=\"\"),\"\",CX32+CX33)","v":""},null,null,null,{"$f":"IF(TRIM(DA34)=\"\", \"\", IF(VLOOKUP(DA34,'Footnotes list'!$D$9:$E$58,2,FALSE)=0,\"\",VLOOKUP(DA34,'Footnotes list'!$D$9:$E$58,2,FALSE) ) )","v":""},{"$f":"IF(AND(TRIM(DC32)=\"\",TRIM(DC33)=\"\"),\"\",DC32+DC33)","v":""},null,null,null,{"$f":"IF(TRIM(DF34)=\"\", \"\", IF(VLOOKUP(DF34,'Footnotes list'!$D$9:$E$58,2,FALSE)=0,\"\",VLOOKUP(DF34,'Footnotes list'!$D$9:$E$58,2,FALSE) ) )","v":""},{"$f":"IF(AND(TRIM(DH32)=\"\", TRIM(DH33)=\"\"), \"\", SUM(DH32,DH33) )","v":""},null,null,null,{"$f":"IF(TRIM(DK34)=\"\", \"\", IF(VLOOKUP(DK34,'Footnotes list'!$D$9:$E$58,2,FALSE)=0,\"\",VLOOKUP(DK34,'Footnotes list'!$D$9:$E$58,2,FALSE) ) )","v":""}]
[null,"W063",null,"Metal wastes, mixed ferrous and non-ferrous",null,"Not applicable"]
[null,null,"W063",null,"NHAZ","Non-hazardous",null,null,null,null,{"$f":"IF(TRIM(J36)=\"\", \"\", IF(VLOOKUP(J36,'Footnotes list'!$D$9:$E$58,2,FALSE)=0,\"\",VLOOKUP(J36,'Footnotes list'!$D$9:$E$58,2,FALSE) ) )","v":""},null,null,null,null,{"$f":"IF(TRIM(O36)=\"\", \"\", IF(VLOOKUP(O36,'Footnotes list'!$D$9:$E$58,2,FALSE)=0,\"\",VLOOKUP(O36,'Footnotes list'!$D$9:$E$58,2,FALSE) ) )","v":""},null,null,null,null,{"$f":"IF(TRIM(T36)=\"\", \"\", IF(VLOOKUP(T36,'Footnotes list'!$D$9:$E$58,2,FALSE)=0,\"\",VLOOKUP(T36,'Footnotes list'!$D$9:$E$58,2,FALSE) ) )","v":""},null,null,null,null,{"$f":"IF(TRIM(Y36)=\"\", \"\", IF(VLOOKUP(Y36,'Footnotes list'!$D$9:$E$58,2,FALSE)=0,\"\",VLOOKUP(Y36,'Footnotes list'!$D$9:$E$58,2,FALSE) ) )","v":""},null,null,null,null,{"$f":"IF(TRIM(AD36)=\"\", \"\", IF(VLOOKUP(AD36,'Footnotes list'!$D$9:$E$58,2,FALSE)=0,\"\",VLOOKUP(AD36,'Footnotes list'!$D$9:$E$58,2,FALSE) ) )","v":""},null,null,null,null,{"$f":"IF(TRIM(AI36)=\"\", \"\", IF(VLOOKUP(AI36,'Footnotes list'!$D$9:$E$58,2,FALSE)=0,\"\",VLOOKUP(AI36,'Footnotes list'!$D$9:$E$58,2,FALSE) ) )","v":""},null,null,null,null,{"$f":"IF(TRIM(AN36)=\"\", \"\", IF(VLOOKUP(AN36,'Footnotes list'!$D$9:$E$58,2,FALSE)=0,\"\",VLOOKUP(AN36,'Footnotes list'!$D$9:$E$58,2,FALSE) ) )","v":""},null,null,null,null,{"$f":"IF(TRIM(AS36)=\"\", \"\", IF(VLOOKUP(AS36,'Footnotes list'!$D$9:$E$58,2,FALSE)=0,\"\",VLOOKUP(AS36,'Footnotes list'!$D$9:$E$58,2,FALSE) ) )","v":""},null,null,null,null,{"$f":"IF(TRIM(AX36)=\"\", \"\", IF(VLOOKUP(AX36,'Footnotes list'!$D$9:$E$58,2,FALSE)=0,\"\",VLOOKUP(AX36,'Footnotes list'!$D$9:$E$58,2,FALSE) ) )","v":""},null,null,null,null,{"$f":"IF(TRIM(BC36)=\"\", \"\", IF(VLOOKUP(BC36,'Footnotes list'!$D$9:$E$58,2,FALSE)=0,\"\",VLOOKUP(BC36,'Footnotes list'!$D$9:$E$58,2,FALSE) ) )","v":""},null,null,null,null,{"$f":"IF(TRIM(BH36)=\"\", \"\", IF(VLOOKUP(BH36,'Footnotes list'!$D$9:$E$58,2,FALSE)=0,\"\",VLOOKUP(BH36,'Footnotes list'!$D$9:$E$58,2,FALSE) ) )","v":""},null,null,null,null,{"$f":"IF(TRIM(BM36)=\"\", \"\", IF(VLOOKUP(BM36,'Footnotes list'!$D$9:$E$58,2,FALSE)=0,\"\",VLOOKUP(BM36,'Footnotes list'!$D$9:$E$58,2,FALSE) ) )","v":""},{"$f":"IF(AND(TRIM(Q36)=\"\",TRIM(V36)=\"\",TRIM(AA36)=\"\", TRIM(AF36)=\"\", TRIM(AK36)=\"\", TRIM(AP36)=\"\", TRIM(AU36)=\"\", TRIM(AZ36)=\"\", TRIM(BE36)=\"\", TRIM(BJ36)=\"\"),\"\",Q36+V36+AA36+AF36+AK36+AP36+AU36+AZ36+BE36+BJ36)","v":""},null,null,null,{"$f":"IF(TRIM(BR36)=\"\", \"\", IF(VLOOKUP(BR36,'Footnotes list'!$D$9:$E$58,2,FALSE)=0,\"\",VLOOKUP(BR36,'Footnotes list'!$D$9:$E$58,2,FALSE) ) )","v":""},null,null,null,null,{"$f":"IF(TRIM(BW36)=\"\", \"\", IF(VLOOKUP(BW36,'Footnotes list'!$D$9:$E$58,2,FALSE)=0,\"\",VLOOKUP(BW36,'Footnotes list'!$D$9:$E$58,2,FALSE) ) )","v":""},null,null,null,null,{"$f":"IF(TRIM(CB36)=\"\", \"\", IF(VLOOKUP(CB36,'Footnotes list'!$D$9:$E$58,2,FALSE)=0,\"\",VLOOKUP(CB36,'Footnotes list'!$D$9:$E$58,2,FALSE) ) )","v":""},null,null,null,null,{"$f":"IF(TRIM(CG36)=\"\", \"\", IF(VLOOKUP(CG36,'Footnotes list'!$D$9:$E$58,2,FALSE)=0,\"\",VLOOKUP(CG36,'Footnotes list'!$D$9:$E$58,2,FALSE) ) )","v":""},{"$f":"IF(AND(TRIM(BY36)=\"\",TRIM(CD36)=\"\"),\"\",BY36+CD36)","v":""},null,null,null,{"$f":"IF(TRIM(CL36)=\"\", \"\", IF(VLOOKUP(CL36,'Footnotes list'!$D$9:$E$58,2,FALSE)=0,\"\",VLOOKUP(CL36,'Footnotes list'!$D$9:$E$58,2,FALSE) ) )","v":""},null,null,null,null,{"$f":"IF(TRIM(CQ36)=\"\", \"\", IF(VLOOKUP(CQ36,'Footnotes list'!$D$9:$E$58,2,FALSE)=0,\"\",VLOOKUP(CQ36,'Footnotes list'!$D$9:$E$58,2,FALSE) ) )","v":""},null,null,null,null,{"$f":"IF(TRIM(CV36)=\"\", \"\", IF(VLOOKUP(CV36,'Footnotes list'!$D$9:$E$58,2,FALSE)=0,\"\",VLOOKUP(CV36,'Footnotes list'!$D$9:$E$58,2,FALSE) ) )","v":""},null,null,null,null,{"$f":"IF(TRIM(DA36)=\"\", \"\", IF(VLOOKUP(DA36,'Footnotes list'!$D$9:$E$58,2,FALSE)=0,\"\",VLOOKUP(DA36,'Footnotes list'!$D$9:$E$58,2,FALSE) ) )","v":""},null,null,null,null,{"$f":"IF(TRIM(DF36)=\"\", \"\", IF(VLOOKUP(DF36,'Footnotes list'!$D$9:$E$58,2,FALSE)=0,\"\",VLOOKUP(DF36,'Footnotes list'!$D$9:$E$58,2,FALSE) ) )","v":""},{"$f":"IF(AND(TRIM(G36)=\"\",TRIM(L36)=\"\",TRIM(BO36)=\"\",TRIM(BT36)=\"\",TRIM(CI36)=\"\",TRIM(CN36)=\"\",TRIM(CS36)=\"\",TRIM(CX36)=\"\",TRIM(DC36)=\"\"),\"\",SUM(G36,L36,BO36,BT36,CI36,CN36,CS36,CX36,DC36))","v":""},null,null,null,{"$f":"IF(TRIM(DK36)=\"\", \"\", IF(VLOOKUP(DK36,'Footnotes list'!$D$9:$E$58,2,FALSE)=0,\"\",VLOOKUP(DK36,'Footnotes list'!$D$9:$E$58,2,FALSE) ) )","v":""}]
[null,null,"W063",null,"HAZ_NHAZ","Total",{"$f":"IF(AND(TRIM(G35)=\"\",TRIM(G36)=\"\"),\"\",G35+G36)","v":""},null,null,null,{"$f":"IF(TRIM(J37)=\"\", \"\", IF(VLOOKUP(J37,'Footnotes list'!$D$9:$E$58,2,FALSE)=0,\"\",VLOOKUP(J37,'Footnotes list'!$D$9:$E$58,2,FALSE) ) )","v":""},{"$f":"IF(AND(TRIM(L35)=\"\",TRIM(L36)=\"\"),\"\",L35+L36)","v":""},null,null,null,{"$f":"IF(TRIM(O37)=\"\", \"\", IF(VLOOKUP(O37,'Footnotes list'!$D$9:$E$58,2,FALSE)=0,\"\",VLOOKUP(O37,'Footnotes list'!$D$9:$E$58,2,FALSE) ) )","v":""},{"$f":"IF(AND(TRIM(Q35)=\"\",TRIM(Q36)=\"\"),\"\",Q35+Q36)","v":""},null,null,null,{"$f":"IF(TRIM(T37)=\"\", \"\", IF(VLOOKUP(T37,'Footnotes list'!$D$9:$E$58,2,FALSE)=0,\"\",VLOOKUP(T37,'Footnotes list'!$D$9:$E$58,2,FALSE) ) )","v":""},{"$f":"IF(AND(TRIM(V35)=\"\",TRIM(V36)=\"\"),\"\",V35+V36)","v":""},null,null,null,{"$f":"IF(TRIM(Y37)=\"\", \"\", IF(VLOOKUP(Y37,'Footnotes list'!$D$9:$E$58,2,FALSE)=0,\"\",VLOOKUP(Y37,'Footnotes list'!$D$9:$E$58,2,FALSE) ) )","v":""},{"$f":"IF(AND(TRIM(AA35)=\"\",TRIM(AA36)=\"\"),\"\",AA35+AA36)","v":""},null,null,null,{"$f":"IF(TRIM(AD37)=\"\", \"\", IF(VLOOKUP(AD37,'Footnotes list'!$D$9:$E$58,2,FALSE)=0,\"\",VLOOKUP(AD37,'Footnotes list'!$D$9:$E$58,2,FALSE) ) )","v":""},{"$f":"IF(AND(TRIM(AF35)=\"\",TRIM(AF36)=\"\"),\"\",AF35+AF36)","v":""},null,null,null,{"$f":"IF(TRIM(AI37)=\"\", \"\", IF(VLOOKUP(AI37,'Footnotes list'!$D$9:$E$58,2,FALSE)=0,\"\",VLOOKUP(AI37,'Footnotes list'!$D$9:$E$58,2,FALSE) ) )","v":""},{"$f":"IF(AND(TRIM(AK35)=\"\",TRIM(AK36)=\"\"),\"\",AK35+AK36)","v":""},null,null,null,{"$f":"IF(TRIM(AN37)=\"\", \"\", IF(VLOOKUP(AN37,'Footnotes list'!$D$9:$E$58,2,FALSE)=0,\"\",VLOOKUP(AN37,'Footnotes list'!$D$9:$E$58,2,FALSE) ) )","v":""},{"$f":"IF(AND(TRIM(AP35)=\"\",TRIM(AP36)=\"\"),\"\",AP35+AP36)","v":""},null,null,null,{"$f":"IF(TRIM(AS37)=\"\", \"\", IF(VLOOKUP(AS37,'Footnotes list'!$D$9:$E$58,2,FALSE)=0,\"\",VLOOKUP(AS37,'Footnotes list'!$D$9:$E$58,2,FALSE) ) )","v":""},{"$f":"IF(AND(TRIM(AU35)=\"\",TRIM(AU36)=\"\"),\"\",AU35+AU36)","v":""},null,null,null,{"$f":"IF(TRIM(AX37)=\"\", \"\", IF(VLOOKUP(AX37,'Footnotes list'!$D$9:$E$58,2,FALSE)=0,\"\",VLOOKUP(AX37,'Footnotes list'!$D$9:$E$58,2,FALSE) ) )","v":""},{"$f":"IF(AND(TRIM(AZ35)=\"\",TRIM(AZ36)=\"\"),\"\",AZ35+AZ36)","v":""},null,null,null,{"$f":"IF(TRIM(BC37)=\"\", \"\", IF(VLOOKUP(BC37,'Footnotes list'!$D$9:$E$58,2,FALSE)=0,\"\",VLOOKUP(BC37,'Footnotes list'!$D$9:$E$58,2,FALSE) ) )","v":""},{"$f":"IF(AND(TRIM(BE35)=\"\",TRIM(BE36)=\"\"),\"\",BE35+BE36)","v":""},null,null,null,{"$f":"IF(TRIM(BH37)=\"\", \"\", IF(VLOOKUP(BH37,'Footnotes list'!$D$9:$E$58,2,FALSE)=0,\"\",VLOOKUP(BH37,'Footnotes list'!$D$9:$E$58,2,FALSE) ) )","v":""},{"$f":"IF(AND(TRIM(BJ35)=\"\",TRIM(BJ36)=\"\"),\"\",BJ35+BJ36)","v":""},null,null,null,{"$f":"IF(TRIM(BM37)=\"\", \"\", IF(VLOOKUP(BM37,'Footnotes list'!$D$9:$E$58,2,FALSE)=0,\"\",VLOOKUP(BM37,'Footnotes list'!$D$9:$E$58,2,FALSE) ) )","v":""},{"$f":"IF(AND(TRIM(BO35)=\"\", TRIM(BO36)=\"\"), \"\", (IF(ISNUMBER(BO35),BO35,0)+IF(ISNUMBER(BO36),BO36,0)))","v":""},null,null,null,{"$f":"IF(TRIM(BR37)=\"\", \"\", IF(VLOOKUP(BR37,'Footnotes list'!$D$9:$E$58,2,FALSE)=0,\"\",VLOOKUP(BR37,'Footnotes list'!$D$9:$E$58,2,FALSE) ) )","v":""},{"$f":"IF(AND(TRIM(BT35)=\"\",TRIM(BT36)=\"\"),\"\",BT35+BT36)","v":""},null,null,null,{"$f":"IF(TRIM(BW37)=\"\", \"\", IF(VLOOKUP(BW37,'Footnotes list'!$D$9:$E$58,2,FALSE)=0,\"\",VLOOKUP(BW37,'Footnotes list'!$D$9:$E$58,2,FALSE) ) )","v":""},{"$f":"IF(AND(TRIM(BY35)=\"\",TRIM(BY36)=\"\"),\"\",BY35+BY36)","v":""},null,null,null,{"$f":"IF(TRIM(CB37)=\"\", \"\", IF(VLOOKUP(CB37,'Footnotes list'!$D$9:$E$58,2,FALSE)=0,\"\",VLOOKUP(CB37,'Footnotes list'!$D$9:$E$58,2,FALSE) ) )","v":""},{"$f":"IF(AND(TRIM(CD35)=\"\",TRIM(CD36)=\"\"),\"\",CD35+CD36)","v":""},null,null,null,{"$f":"IF(TRIM(CG37)=\"\", \"\", IF(VLOOKUP(CG37,'Footnotes list'!$D$9:$E$58,2,FALSE)=0,\"\",VLOOKUP(CG37,'Footnotes list'!$D$9:$E$58,2,FALSE) ) )","v":""},{"$f":"IF(AND(TRIM(CI35)=\"\", TRIM(CI36)=\"\"), \"\", (IF(ISNUMBER(CI35),CI35,0)+IF(ISNUMBER(CI36),CI36,0)))","v":""},null,null,null,{"$f":"IF(TRIM(CL37)=\"\", \"\", IF(VLOOKUP(CL37,'Footnotes list'!$D$9:$E$58,2,FALSE)=0,\"\",VLOOKUP(CL37,'Footnotes list'!$D$9:$E$58,2,FALSE) ) )","v":""},{"$f":"IF(AND(TRIM(CN35)=\"\",TRIM(CN36)=\"\"),\"\",CN35+CN36)","v":""},null,null,null,{"$f":"IF(TRIM(CQ37)=\"\", \"\", IF(VLOOKUP(CQ37,'Footnotes list'!$D$9:$E$58,2,FALSE)=0,\"\",VLOOKUP(CQ37,'Footnotes list'!$D$9:$E$58,2,FALSE) ) )","v":""},{"$f":"IF(AND(TRIM(CS35)=\"\",TRIM(CS36)=\"\"),\"\",CS35+CS36)","v":""},null,null,null,{"$f":"IF(TRIM(CV37)=\"\", \"\", IF(VLOOKUP(CV37,'Footnotes list'!$D$9:$E$58,2,FALSE)=0,\"\",VLOOKUP(CV37,'Footnotes list'!$D$9:$E$58,2,FALSE) ) )","v":""},{"$f":"IF(AND(TRIM(CX35)=\"\",TRIM(CX36)=\"\"),\"\",CX35+CX36)","v":""},null,null,null,{"$f":"IF(TRIM(DA37)=\"\", \"\", IF(VLOOKUP(DA37,'Footnotes list'!$D$9:$E$58,2,FALSE)=0,\"\",VLOOKUP(DA37,'Footnotes list'!$D$9:$E$58,2,FALSE) ) )","v":""},{"$f":"IF(AND(TRIM(DC35)=\"\",TRIM(DC36)=\"\"),\"\",DC35+DC36)","v":""},null,null,null,{"$f":"IF(TRIM(DF37)=\"\", \"\", IF(VLOOKUP(DF37,'Footnotes list'!$D$9:$E$58,2,FALSE)=0,\"\",VLOOKUP(DF37,'Footnotes list'!$D$9:$E$58,2,FALSE) ) )","v":""},{"$f":"IF(AND(TRIM(DH35)=\"\", TRIM(DH36)=\"\"), \"\", SUM(DH35,DH36) )","v":""},null,null,null,{"$f":"IF(TRIM(DK37)=\"\", \"\", IF(VLOOKUP(DK37,'Footnotes list'!$D$9:$E$58,2,FALSE)=0,\"\",VLOOKUP(DK37,'Footnotes list'!$D$9:$E$58,2,FALSE) ) )","v":""}]
[null,"W071","W071","Glass wastes ","HAZ","Hazardous ",null,null,null,null,{"$f":"IF(TRIM(J38)=\"\", \"\", IF(VLOOKUP(J38,'Footnotes list'!$D$9:$E$58,2,FALSE)=0,\"\",VLOOKUP(J38,'Footnotes list'!$D$9:$E$58,2,FALSE) ) )","v":""},null,null,null,null,{"$f":"IF(TRIM(O38)=\"\", \"\", IF(VLOOKUP(O38,'Footnotes list'!$D$9:$E$58,2,FALSE)=0,\"\",VLOOKUP(O38,'Footnotes list'!$D$9:$E$58,2,FALSE) ) )","v":""},null,null,null,null,{"$f":"IF(TRIM(T38)=\"\", \"\", IF(VLOOKUP(T38,'Footnotes list'!$D$9:$E$58,2,FALSE)=0,\"\",VLOOKUP(T38,'Footnotes list'!$D$9:$E$58,2,FALSE) ) )","v":""},null,null,null,null,{"$f":"IF(TRIM(Y38)=\"\", \"\", IF(VLOOKUP(Y38,'Footnotes list'!$D$9:$E$58,2,FALSE)=0,\"\",VLOOKUP(Y38,'Footnotes list'!$D$9:$E$58,2,FALSE) ) )","v":""},null,null,null,null,{"$f":"IF(TRIM(AD38)=\"\", \"\", IF(VLOOKUP(AD38,'Footnotes list'!$D$9:$E$58,2,FALSE)=0,\"\",VLOOKUP(AD38,'Footnotes list'!$D$9:$E$58,2,FALSE) ) )","v":""},null,null,null,null,{"$f":"IF(TRIM(AI38)=\"\", \"\", IF(VLOOKUP(AI38,'Footnotes list'!$D$9:$E$58,2,FALSE)=0,\"\",VLOOKUP(AI38,'Footnotes list'!$D$9:$E$58,2,FALSE) ) )","v":""},null,null,null,null,{"$f":"IF(TRIM(AN38)=\"\", \"\", IF(VLOOKUP(AN38,'Footnotes list'!$D$9:$E$58,2,FALSE)=0,\"\",VLOOKUP(AN38,'Footnotes list'!$D$9:$E$58,2,FALSE) ) )","v":""},null,null,null,null,{"$f":"IF(TRIM(AS38)=\"\", \"\", IF(VLOOKUP(AS38,'Footnotes list'!$D$9:$E$58,2,FALSE)=0,\"\",VLOOKUP(AS38,'Footnotes list'!$D$9:$E$58,2,FALSE) ) )","v":""},null,null,null,null,{"$f":"IF(TRIM(AX38)=\"\", \"\", IF(VLOOKUP(AX38,'Footnotes list'!$D$9:$E$58,2,FALSE)=0,\"\",VLOOKUP(AX38,'Footnotes list'!$D$9:$E$58,2,FALSE) ) )","v":""},null,null,null,null,{"$f":"IF(TRIM(BC38)=\"\", \"\", IF(VLOOKUP(BC38,'Footnotes list'!$D$9:$E$58,2,FALSE)=0,\"\",VLOOKUP(BC38,'Footnotes list'!$D$9:$E$58,2,FALSE) ) )","v":""},null,null,null,null,{"$f":"IF(TRIM(BH38)=\"\", \"\", IF(VLOOKUP(BH38,'Footnotes list'!$D$9:$E$58,2,FALSE)=0,\"\",VLOOKUP(BH38,'Footnotes list'!$D$9:$E$58,2,FALSE) ) )","v":""},null,null,null,null,{"$f":"IF(TRIM(BM38)=\"\", \"\", IF(VLOOKUP(BM38,'Footnotes list'!$D$9:$E$58,2,FALSE)=0,\"\",VLOOKUP(BM38,'Footnotes list'!$D$9:$E$58,2,FALSE) ) )","v":""},{"$f":"IF(AND(TRIM(Q38)=\"\",TRIM(V38)=\"\",TRIM(AA38)=\"\", TRIM(AF38)=\"\", TRIM(AK38)=\"\", TRIM(AP38)=\"\", TRIM(AU38)=\"\", TRIM(AZ38)=\"\", TRIM(BE38)=\"\", TRIM(BJ38)=\"\"),\"\",Q38+V38+AA38+AF38+AK38+AP38+AU38+AZ38+BE38+BJ38)","v":""},null,null,null,{"$f":"IF(TRIM(BR38)=\"\", \"\", IF(VLOOKUP(BR38,'Footnotes list'!$D$9:$E$58,2,FALSE)=0,\"\",VLOOKUP(BR38,'Footnotes list'!$D$9:$E$58,2,FALSE) ) )","v":""},null,null,null,null,{"$f":"IF(TRIM(BW38)=\"\", \"\", IF(VLOOKUP(BW38,'Footnotes list'!$D$9:$E$58,2,FALSE)=0,\"\",VLOOKUP(BW38,'Footnotes list'!$D$9:$E$58,2,FALSE) ) )","v":""},null,null,null,null,{"$f":"IF(TRIM(CB38)=\"\", \"\", IF(VLOOKUP(CB38,'Footnotes list'!$D$9:$E$58,2,FALSE)=0,\"\",VLOOKUP(CB38,'Footnotes list'!$D$9:$E$58,2,FALSE) ) )","v":""},null,null,null,null,{"$f":"IF(TRIM(CG38)=\"\", \"\", IF(VLOOKUP(CG38,'Footnotes list'!$D$9:$E$58,2,FALSE)=0,\"\",VLOOKUP(CG38,'Footnotes list'!$D$9:$E$58,2,FALSE) ) )","v":""},{"$f":"IF(AND(TRIM(BY38)=\"\",TRIM(CD38)=\"\"),\"\",BY38+CD38)","v":""},null,null,null,{"$f":"IF(TRIM(CL38)=\"\", \"\", IF(VLOOKUP(CL38,'Footnotes list'!$D$9:$E$58,2,FALSE)=0,\"\",VLOOKUP(CL38,'Footnotes list'!$D$9:$E$58,2,FALSE) ) )","v":""},null,null,null,null,{"$f":"IF(TRIM(CQ38)=\"\", \"\", IF(VLOOKUP(CQ38,'Footnotes list'!$D$9:$E$58,2,FALSE)=0,\"\",VLOOKUP(CQ38,'Footnotes list'!$D$9:$E$58,2,FALSE) ) )","v":""},null,null,null,null,{"$f":"IF(TRIM(CV38)=\"\", \"\", IF(VLOOKUP(CV38,'Footnotes list'!$D$9:$E$58,2,FALSE)=0,\"\",VLOOKUP(CV38,'Footnotes list'!$D$9:$E$58,2,FALSE) ) )","v":""},null,null,null,null,{"$f":"IF(TRIM(DA38)=\"\", \"\", IF(VLOOKUP(DA38,'Footnotes list'!$D$9:$E$58,2,FALSE)=0,\"\",VLOOKUP(DA38,'Footnotes list'!$D$9:$E$58,2,FALSE) ) )","v":""},null,null,null,null,{"$f":"IF(TRIM(DF38)=\"\", \"\", IF(VLOOKUP(DF38,'Footnotes list'!$D$9:$E$58,2,FALSE)=0,\"\",VLOOKUP(DF38,'Footnotes list'!$D$9:$E$58,2,FALSE) ) )","v":""},{"$f":"IF(AND(TRIM(G38)=\"\",TRIM(L38)=\"\",TRIM(BO38)=\"\",TRIM(BT38)=\"\",TRIM(CI38)=\"\",TRIM(CN38)=\"\",TRIM(CS38)=\"\",TRIM(CX38)=\"\",TRIM(DC38)=\"\"),\"\",SUM(G38,L38,BO38,BT38,CI38,CN38,CS38,CX38,DC38))","v":""},null,null,null,{"$f":"IF(TRIM(DK38)=\"\", \"\", IF(VLOOKUP(DK38,'Footnotes list'!$D$9:$E$58,2,FALSE)=0,\"\",VLOOKUP(DK38,'Footnotes list'!$D$9:$E$58,2,FALSE) ) )","v":""}]
[null,null,"W071",null,"NHAZ","Non-hazardous",null,null,null,null,{"$f":"IF(TRIM(J39)=\"\", \"\", IF(VLOOKUP(J39,'Footnotes list'!$D$9:$E$58,2,FALSE)=0,\"\",VLOOKUP(J39,'Footnotes list'!$D$9:$E$58,2,FALSE) ) )","v":""},null,null,null,null,{"$f":"IF(TRIM(O39)=\"\", \"\", IF(VLOOKUP(O39,'Footnotes list'!$D$9:$E$58,2,FALSE)=0,\"\",VLOOKUP(O39,'Footnotes list'!$D$9:$E$58,2,FALSE) ) )","v":""},null,null,null,null,{"$f":"IF(TRIM(T39)=\"\", \"\", IF(VLOOKUP(T39,'Footnotes list'!$D$9:$E$58,2,FALSE)=0,\"\",VLOOKUP(T39,'Footnotes list'!$D$9:$E$58,2,FALSE) ) )","v":""},null,null,null,null,{"$f":"IF(TRIM(Y39)=\"\", \"\", IF(VLOOKUP(Y39,'Footnotes list'!$D$9:$E$58,2,FALSE)=0,\"\",VLOOKUP(Y39,'Footnotes list'!$D$9:$E$58,2,FALSE) ) )","v":""},null,null,null,null,{"$f":"IF(TRIM(AD39)=\"\", \"\", IF(VLOOKUP(AD39,'Footnotes list'!$D$9:$E$58,2,FALSE)=0,\"\",VLOOKUP(AD39,'Footnotes list'!$D$9:$E$58,2,FALSE) ) )","v":""},null,null,null,null,{"$f":"IF(TRIM(AI39)=\"\", \"\", IF(VLOOKUP(AI39,'Footnotes list'!$D$9:$E$58,2,FALSE)=0,\"\",VLOOKUP(AI39,'Footnotes list'!$D$9:$E$58,2,FALSE) ) )","v":""},null,null,null,null,{"$f":"IF(TRIM(AN39)=\"\", \"\", IF(VLOOKUP(AN39,'Footnotes list'!$D$9:$E$58,2,FALSE)=0,\"\",VLOOKUP(AN39,'Footnotes list'!$D$9:$E$58,2,FALSE) ) )","v":""},null,null,null,null,{"$f":"IF(TRIM(AS39)=\"\", \"\", IF(VLOOKUP(AS39,'Footnotes list'!$D$9:$E$58,2,FALSE)=0,\"\",VLOOKUP(AS39,'Footnotes list'!$D$9:$E$58,2,FALSE) ) )","v":""},null,null,null,null,{"$f":"IF(TRIM(AX39)=\"\", \"\", IF(VLOOKUP(AX39,'Footnotes list'!$D$9:$E$58,2,FALSE)=0,\"\",VLOOKUP(AX39,'Footnotes list'!$D$9:$E$58,2,FALSE) ) )","v":""},null,null,null,null,{"$f":"IF(TRIM(BC39)=\"\", \"\", IF(VLOOKUP(BC39,'Footnotes list'!$D$9:$E$58,2,FALSE)=0,\"\",VLOOKUP(BC39,'Footnotes list'!$D$9:$E$58,2,FALSE) ) )","v":""},null,null,null,null,{"$f":"IF(TRIM(BH39)=\"\", \"\", IF(VLOOKUP(BH39,'Footnotes list'!$D$9:$E$58,2,FALSE)=0,\"\",VLOOKUP(BH39,'Footnotes list'!$D$9:$E$58,2,FALSE) ) )","v":""},null,null,null,null,{"$f":"IF(TRIM(BM39)=\"\", \"\", IF(VLOOKUP(BM39,'Footnotes list'!$D$9:$E$58,2,FALSE)=0,\"\",VLOOKUP(BM39,'Footnotes list'!$D$9:$E$58,2,FALSE) ) )","v":""},{"$f":"IF(AND(TRIM(Q39)=\"\",TRIM(V39)=\"\",TRIM(AA39)=\"\", TRIM(AF39)=\"\", TRIM(AK39)=\"\", TRIM(AP39)=\"\", TRIM(AU39)=\"\", TRIM(AZ39)=\"\", TRIM(BE39)=\"\", TRIM(BJ39)=\"\"),\"\",Q39+V39+AA39+AF39+AK39+AP39+AU39+AZ39+BE39+BJ39)","v":""},null,null,null,{"$f":"IF(TRIM(BR39)=\"\", \"\", IF(VLOOKUP(BR39,'Footnotes list'!$D$9:$E$58,2,FALSE)=0,\"\",VLOOKUP(BR39,'Footnotes list'!$D$9:$E$58,2,FALSE) ) )","v":""},null,null,null,null,{"$f":"IF(TRIM(BW39)=\"\", \"\", IF(VLOOKUP(BW39,'Footnotes list'!$D$9:$E$58,2,FALSE)=0,\"\",VLOOKUP(BW39,'Footnotes list'!$D$9:$E$58,2,FALSE) ) )","v":""},null,null,null,null,{"$f":"IF(TRIM(CB39)=\"\", \"\", IF(VLOOKUP(CB39,'Footnotes list'!$D$9:$E$58,2,FALSE)=0,\"\",VLOOKUP(CB39,'Footnotes list'!$D$9:$E$58,2,FALSE) ) )","v":""},null,null,null,null,{"$f":"IF(TRIM(CG39)=\"\", \"\", IF(VLOOKUP(CG39,'Footnotes list'!$D$9:$E$58,2,FALSE)=0,\"\",VLOOKUP(CG39,'Footnotes list'!$D$9:$E$58,2,FALSE) ) )","v":""},{"$f":"IF(AND(TRIM(BY39)=\"\",TRIM(CD39)=\"\"),\"\",BY39+CD39)","v":""},null,null,null,{"$f":"IF(TRIM(CL39)=\"\", \"\", IF(VLOOKUP(CL39,'Footnotes list'!$D$9:$E$58,2,FALSE)=0,\"\",VLOOKUP(CL39,'Footnotes list'!$D$9:$E$58,2,FALSE) ) )","v":""},null,null,null,null,{"$f":"IF(TRIM(CQ39)=\"\", \"\", IF(VLOOKUP(CQ39,'Footnotes list'!$D$9:$E$58,2,FALSE)=0,\"\",VLOOKUP(CQ39,'Footnotes list'!$D$9:$E$58,2,FALSE) ) )","v":""},null,null,null,null,{"$f":"IF(TRIM(CV39)=\"\", \"\", IF(VLOOKUP(CV39,'Footnotes list'!$D$9:$E$58,2,FALSE)=0,\"\",VLOOKUP(CV39,'Footnotes list'!$D$9:$E$58,2,FALSE) ) )","v":""},null,null,null,null,{"$f":"IF(TRIM(DA39)=\"\", \"\", IF(VLOOKUP(DA39,'Footnotes list'!$D$9:$E$58,2,FALSE)=0,\"\",VLOOKUP(DA39,'Footnotes list'!$D$9:$E$58,2,FALSE) ) )","v":""},null,null,null,null,{"$f":"IF(TRIM(DF39)=\"\", \"\", IF(VLOOKUP(DF39,'Footnotes list'!$D$9:$E$58,2,FALSE)=0,\"\",VLOOKUP(DF39,'Footnotes list'!$D$9:$E$58,2,FALSE) ) )","v":""},{"$f":"IF(AND(TRIM(G39)=\"\",TRIM(L39)=\"\",TRIM(BO39)=\"\",TRIM(BT39)=\"\",TRIM(CI39)=\"\",TRIM(CN39)=\"\",TRIM(CS39)=\"\",TRIM(CX39)=\"\",TRIM(DC39)=\"\"),\"\",SUM(G39,L39,BO39,BT39,CI39,CN39,CS39,CX39,DC39))","v":""},null,null,null,{"$f":"IF(TRIM(DK39)=\"\", \"\", IF(VLOOKUP(DK39,'Footnotes list'!$D$9:$E$58,2,FALSE)=0,\"\",VLOOKUP(DK39,'Footnotes list'!$D$9:$E$58,2,FALSE) ) )","v":""}]
[null,null,"W071",null,"HAZ_NHAZ","Total",{"$f":"IF(AND(TRIM(G38)=\"\",TRIM(G39)=\"\"),\"\",G38+G39)","v":""},null,null,null,{"$f":"IF(TRIM(J40)=\"\", \"\", IF(VLOOKUP(J40,'Footnotes list'!$D$9:$E$58,2,FALSE)=0,\"\",VLOOKUP(J40,'Footnotes list'!$D$9:$E$58,2,FALSE) ) )","v":""},{"$f":"IF(AND(TRIM(L38)=\"\",TRIM(L39)=\"\"),\"\",L38+L39)","v":""},null,null,null,{"$f":"IF(TRIM(O40)=\"\", \"\", IF(VLOOKUP(O40,'Footnotes list'!$D$9:$E$58,2,FALSE)=0,\"\",VLOOKUP(O40,'Footnotes list'!$D$9:$E$58,2,FALSE) ) )","v":""},{"$f":"IF(AND(TRIM(Q38)=\"\",TRIM(Q39)=\"\"),\"\",Q38+Q39)","v":""},null,null,null,{"$f":"IF(TRIM(T40)=\"\", \"\", IF(VLOOKUP(T40,'Footnotes list'!$D$9:$E$58,2,FALSE)=0,\"\",VLOOKUP(T40,'Footnotes list'!$D$9:$E$58,2,FALSE) ) )","v":""},{"$f":"IF(AND(TRIM(V38)=\"\",TRIM(V39)=\"\"),\"\",V38+V39)","v":""},null,null,null,{"$f":"IF(TRIM(Y40)=\"\", \"\", IF(VLOOKUP(Y40,'Footnotes list'!$D$9:$E$58,2,FALSE)=0,\"\",VLOOKUP(Y40,'Footnotes list'!$D$9:$E$58,2,FALSE) ) )","v":""},{"$f":"IF(AND(TRIM(AA38)=\"\",TRIM(AA39)=\"\"),\"\",AA38+AA39)","v":""},null,null,null,{"$f":"IF(TRIM(AD40)=\"\", \"\", IF(VLOOKUP(AD40,'Footnotes list'!$D$9:$E$58,2,FALSE)=0,\"\",VLOOKUP(AD40,'Footnotes list'!$D$9:$E$58,2,FALSE) ) )","v":""},{"$f":"IF(AND(TRIM(AF38)=\"\",TRIM(AF39)=\"\"),\"\",AF38+AF39)","v":""},null,null,null,{"$f":"IF(TRIM(AI40)=\"\", \"\", IF(VLOOKUP(AI40,'Footnotes list'!$D$9:$E$58,2,FALSE)=0,\"\",VLOOKUP(AI40,'Footnotes list'!$D$9:$E$58,2,FALSE) ) )","v":""},{"$f":"IF(AND(TRIM(AK38)=\"\",TRIM(AK39)=\"\"),\"\",AK38+AK39)","v":""},null,null,null,{"$f":"IF(TRIM(AN40)=\"\", \"\", IF(VLOOKUP(AN40,'Footnotes list'!$D$9:$E$58,2,FALSE)=0,\"\",VLOOKUP(AN40,'Footnotes list'!$D$9:$E$58,2,FALSE) ) )","v":""},{"$f":"IF(AND(TRIM(AP38)=\"\",TRIM(AP39)=\"\"),\"\",AP38+AP39)","v":""},null,null,null,{"$f":"IF(TRIM(AS40)=\"\", \"\", IF(VLOOKUP(AS40,'Footnotes list'!$D$9:$E$58,2,FALSE)=0,\"\",VLOOKUP(AS40,'Footnotes list'!$D$9:$E$58,2,FALSE) ) )","v":""},{"$f":"IF(AND(TRIM(AU38)=\"\",TRIM(AU39)=\"\"),\"\",AU38+AU39)","v":""},null,null,null,{"$f":"IF(TRIM(AX40)=\"\", \"\", IF(VLOOKUP(AX40,'Footnotes list'!$D$9:$E$58,2,FALSE)=0,\"\",VLOOKUP(AX40,'Footnotes list'!$D$9:$E$58,2,FALSE) ) )","v":""},{"$f":"IF(AND(TRIM(AZ38)=\"\",TRIM(AZ39)=\"\"),\"\",AZ38+AZ39)","v":""},null,null,null,{"$f":"IF(TRIM(BC40)=\"\", \"\", IF(VLOOKUP(BC40,'Footnotes list'!$D$9:$E$58,2,FALSE)=0,\"\",VLOOKUP(BC40,'Footnotes list'!$D$9:$E$58,2,FALSE) ) )","v":""},{"$f":"IF(AND(TRIM(BE38)=\"\",TRIM(BE39)=\"\"),\"\",BE38+BE39)","v":""},null,null,null,{"$f":"IF(TRIM(BH40)=\"\", \"\", IF(VLOOKUP(BH40,'Footnotes list'!$D$9:$E$58,2,FALSE)=0,\"\",VLOOKUP(BH40,'Footnotes list'!$D$9:$E$58,2,FALSE) ) )","v":""},{"$f":"IF(AND(TRIM(BJ38)=\"\",TRIM(BJ39)=\"\"),\"\",BJ38+BJ39)","v":""},null,null,null,{"$f":"IF(TRIM(BM40)=\"\", \"\", IF(VLOOKUP(BM40,'Footnotes list'!$D$9:$E$58,2,FALSE)=0,\"\",VLOOKUP(BM40,'Footnotes list'!$D$9:$E$58,2,FALSE) ) )","v":""},{"$f":"IF(AND(TRIM(BO38)=\"\", TRIM(BO39)=\"\"), \"\", (IF(ISNUMBER(BO38),BO38,0)+IF(ISNUMBER(BO39),BO39,0)))","v":""},null,null,null,{"$f":"IF(TRIM(BR40)=\"\", \"\", IF(VLOOKUP(BR40,'Footnotes list'!$D$9:$E$58,2,FALSE)=0,\"\",VLOOKUP(BR40,'Footnotes list'!$D$9:$E$58,2,FALSE) ) )","v":""},{"$f":"IF(AND(TRIM(BT38)=\"\",TRIM(BT39)=\"\"),\"\",BT38+BT39)","v":""},null,null,null,{"$f":"IF(TRIM(BW40)=\"\", \"\", IF(VLOOKUP(BW40,'Footnotes list'!$D$9:$E$58,2,FALSE)=0,\"\",VLOOKUP(BW40,'Footnotes list'!$D$9:$E$58,2,FALSE) ) )","v":""},{"$f":"IF(AND(TRIM(BY38)=\"\",TRIM(BY39)=\"\"),\"\",BY38+BY39)","v":""},null,null,null,{"$f":"IF(TRIM(CB40)=\"\", \"\", IF(VLOOKUP(CB40,'Footnotes list'!$D$9:$E$58,2,FALSE)=0,\"\",VLOOKUP(CB40,'Footnotes list'!$D$9:$E$58,2,FALSE) ) )","v":""},{"$f":"IF(AND(TRIM(CD38)=\"\",TRIM(CD39)=\"\"),\"\",CD38+CD39)","v":""},null,null,null,{"$f":"IF(TRIM(CG40)=\"\", \"\", IF(VLOOKUP(CG40,'Footnotes list'!$D$9:$E$58,2,FALSE)=0,\"\",VLOOKUP(CG40,'Footnotes list'!$D$9:$E$58,2,FALSE) ) )","v":""},{"$f":"IF(AND(TRIM(CI38)=\"\", TRIM(CI39)=\"\"), \"\", (IF(ISNUMBER(CI38),CI38,0)+IF(ISNUMBER(CI39),CI39,0)))","v":""},null,null,null,{"$f":"IF(TRIM(CL40)=\"\", \"\", IF(VLOOKUP(CL40,'Footnotes list'!$D$9:$E$58,2,FALSE)=0,\"\",VLOOKUP(CL40,'Footnotes list'!$D$9:$E$58,2,FALSE) ) )","v":""},{"$f":"IF(AND(TRIM(CN38)=\"\",TRIM(CN39)=\"\"),\"\",CN38+CN39)","v":""},null,null,null,{"$f":"IF(TRIM(CQ40)=\"\", \"\", IF(VLOOKUP(CQ40,'Footnotes list'!$D$9:$E$58,2,FALSE)=0,\"\",VLOOKUP(CQ40,'Footnotes list'!$D$9:$E$58,2,FALSE) ) )","v":""},{"$f":"IF(AND(TRIM(CS38)=\"\",TRIM(CS39)=\"\"),\"\",CS38+CS39)","v":""},null,null,null,{"$f":"IF(TRIM(CV40)=\"\", \"\", IF(VLOOKUP(CV40,'Footnotes list'!$D$9:$E$58,2,FALSE)=0,\"\",VLOOKUP(CV40,'Footnotes list'!$D$9:$E$58,2,FALSE) ) )","v":""},{"$f":"IF(AND(TRIM(CX38)=\"\",TRIM(CX39)=\"\"),\"\",CX38+CX39)","v":""},null,null,null,{"$f":"IF(TRIM(DA40)=\"\", \"\", IF(VLOOKUP(DA40,'Footnotes list'!$D$9:$E$58,2,FALSE)=0,\"\",VLOOKUP(DA40,'Footnotes list'!$D$9:$E$58,2,FALSE) ) )","v":""},{"$f":"IF(AND(TRIM(DC38)=\"\",TRIM(DC39)=\"\"),\"\",DC38+DC39)","v":""},null,null,null,{"$f":"IF(TRIM(DF40)=\"\", \"\", IF(VLOOKUP(DF40,'Footnotes list'!$D$9:$E$58,2,FALSE)=0,\"\",VLOOKUP(DF40,'Footnotes list'!$D$9:$E$58,2,FALSE) ) )","v":""},{"$f":"IF(AND(TRIM(DH38)=\"\", TRIM(DH39)=\"\"), \"\", SUM(DH38,DH39) )","v":""},null,null,null,{"$f":"IF(TRIM(DK40)=\"\", \"\", IF(VLOOKUP(DK40,'Footnotes list'!$D$9:$E$58,2,FALSE)=0,\"\",VLOOKUP(DK40,'Footnotes list'!$D$9:$E$58,2,FALSE) ) )","v":""}]
[null,"W072",null,"Paper and cardboard wastes ",null,"Not applicable"]
[null,null,"W072",null,"NHAZ","Non-hazardous",null,null,null,null,{"$f":"IF(TRIM(J42)=\"\", \"\", IF(VLOOKUP(J42,'Footnotes list'!$D$9:$E$58,2,FALSE)=0,\"\",VLOOKUP(J42,'Footnotes list'!$D$9:$E$58,2,FALSE) ) )","v":""},null,null,null,null,{"$f":"IF(TRIM(O42)=\"\", \"\", IF(VLOOKUP(O42,'Footnotes list'!$D$9:$E$58,2,FALSE)=0,\"\",VLOOKUP(O42,'Footnotes list'!$D$9:$E$58,2,FALSE) ) )","v":""},null,null,null,null,{"$f":"IF(TRIM(T42)=\"\", \"\", IF(VLOOKUP(T42,'Footnotes list'!$D$9:$E$58,2,FALSE)=0,\"\",VLOOKUP(T42,'Footnotes list'!$D$9:$E$58,2,FALSE) ) )","v":""},null,null,null,null,{"$f":"IF(TRIM(Y42)=\"\", \"\", IF(VLOOKUP(Y42,'Footnotes list'!$D$9:$E$58,2,FALSE)=0,\"\",VLOOKUP(Y42,'Footnotes list'!$D$9:$E$58,2,FALSE) ) )","v":""},null,null,null,null,{"$f":"IF(TRIM(AD42)=\"\", \"\", IF(VLOOKUP(AD42,'Footnotes list'!$D$9:$E$58,2,FALSE)=0,\"\",VLOOKUP(AD42,'Footnotes list'!$D$9:$E$58,2,FALSE) ) )","v":""},null,null,null,null,{"$f":"IF(TRIM(AI42)=\"\", \"\", IF(VLOOKUP(AI42,'Footnotes list'!$D$9:$E$58,2,FALSE)=0,\"\",VLOOKUP(AI42,'Footnotes list'!$D$9:$E$58,2,FALSE) ) )","v":""},null,null,null,null,{"$f":"IF(TRIM(AN42)=\"\", \"\", IF(VLOOKUP(AN42,'Footnotes list'!$D$9:$E$58,2,FALSE)=0,\"\",VLOOKUP(AN42,'Footnotes list'!$D$9:$E$58,2,FALSE) ) )","v":""},null,null,null,null,{"$f":"IF(TRIM(AS42)=\"\", \"\", IF(VLOOKUP(AS42,'Footnotes list'!$D$9:$E$58,2,FALSE)=0,\"\",VLOOKUP(AS42,'Footnotes list'!$D$9:$E$58,2,FALSE) ) )","v":""},null,null,null,null,{"$f":"IF(TRIM(AX42)=\"\", \"\", IF(VLOOKUP(AX42,'Footnotes list'!$D$9:$E$58,2,FALSE)=0,\"\",VLOOKUP(AX42,'Footnotes list'!$D$9:$E$58,2,FALSE) ) )","v":""},null,null,null,null,{"$f":"IF(TRIM(BC42)=\"\", \"\", IF(VLOOKUP(BC42,'Footnotes list'!$D$9:$E$58,2,FALSE)=0,\"\",VLOOKUP(BC42,'Footnotes list'!$D$9:$E$58,2,FALSE) ) )","v":""},null,null,null,null,{"$f":"IF(TRIM(BH42)=\"\", \"\", IF(VLOOKUP(BH42,'Footnotes list'!$D$9:$E$58,2,FALSE)=0,\"\",VLOOKUP(BH42,'Footnotes list'!$D$9:$E$58,2,FALSE) ) )","v":""},null,null,null,null,{"$f":"IF(TRIM(BM42)=\"\", \"\", IF(VLOOKUP(BM42,'Footnotes list'!$D$9:$E$58,2,FALSE)=0,\"\",VLOOKUP(BM42,'Footnotes list'!$D$9:$E$58,2,FALSE) ) )","v":""},{"$f":"IF(AND(TRIM(Q42)=\"\",TRIM(V42)=\"\",TRIM(AA42)=\"\", TRIM(AF42)=\"\", TRIM(AK42)=\"\", TRIM(AP42)=\"\", TRIM(AU42)=\"\", TRIM(AZ42)=\"\", TRIM(BE42)=\"\", TRIM(BJ42)=\"\"),\"\",Q42+V42+AA42+AF42+AK42+AP42+AU42+AZ42+BE42+BJ42)","v":""},null,null,null,{"$f":"IF(TRIM(BR42)=\"\", \"\", IF(VLOOKUP(BR42,'Footnotes list'!$D$9:$E$58,2,FALSE)=0,\"\",VLOOKUP(BR42,'Footnotes list'!$D$9:$E$58,2,FALSE) ) )","v":""},null,null,null,null,{"$f":"IF(TRIM(BW42)=\"\", \"\", IF(VLOOKUP(BW42,'Footnotes list'!$D$9:$E$58,2,FALSE)=0,\"\",VLOOKUP(BW42,'Footnotes list'!$D$9:$E$58,2,FALSE) ) )","v":""},null,null,null,null,{"$f":"IF(TRIM(CB42)=\"\", \"\", IF(VLOOKUP(CB42,'Footnotes list'!$D$9:$E$58,2,FALSE)=0,\"\",VLOOKUP(CB42,'Footnotes list'!$D$9:$E$58,2,FALSE) ) )","v":""},null,null,null,null,{"$f":"IF(TRIM(CG42)=\"\", \"\", IF(VLOOKUP(CG42,'Footnotes list'!$D$9:$E$58,2,FALSE)=0,\"\",VLOOKUP(CG42,'Footnotes list'!$D$9:$E$58,2,FALSE) ) )","v":""},{"$f":"IF(AND(TRIM(BY42)=\"\",TRIM(CD42)=\"\"),\"\",BY42+CD42)","v":""},null,null,null,{"$f":"IF(TRIM(CL42)=\"\", \"\", IF(VLOOKUP(CL42,'Footnotes list'!$D$9:$E$58,2,FALSE)=0,\"\",VLOOKUP(CL42,'Footnotes list'!$D$9:$E$58,2,FALSE) ) )","v":""},null,null,null,null,{"$f":"IF(TRIM(CQ42)=\"\", \"\", IF(VLOOKUP(CQ42,'Footnotes list'!$D$9:$E$58,2,FALSE)=0,\"\",VLOOKUP(CQ42,'Footnotes list'!$D$9:$E$58,2,FALSE) ) )","v":""},null,null,null,null,{"$f":"IF(TRIM(CV42)=\"\", \"\", IF(VLOOKUP(CV42,'Footnotes list'!$D$9:$E$58,2,FALSE)=0,\"\",VLOOKUP(CV42,'Footnotes list'!$D$9:$E$58,2,FALSE) ) )","v":""},null,null,null,null,{"$f":"IF(TRIM(DA42)=\"\", \"\", IF(VLOOKUP(DA42,'Footnotes list'!$D$9:$E$58,2,FALSE)=0,\"\",VLOOKUP(DA42,'Footnotes list'!$D$9:$E$58,2,FALSE) ) )","v":""},null,null,null,null,{"$f":"IF(TRIM(DF42)=\"\", \"\", IF(VLOOKUP(DF42,'Footnotes list'!$D$9:$E$58,2,FALSE)=0,\"\",VLOOKUP(DF42,'Footnotes list'!$D$9:$E$58,2,FALSE) ) )","v":""},{"$f":"IF(AND(TRIM(G42)=\"\",TRIM(L42)=\"\",TRIM(BO42)=\"\",TRIM(BT42)=\"\",TRIM(CI42)=\"\",TRIM(CN42)=\"\",TRIM(CS42)=\"\",TRIM(CX42)=\"\",TRIM(DC42)=\"\"),\"\",SUM(G42,L42,BO42,BT42,CI42,CN42,CS42,CX42,DC42))","v":""},null,null,null,{"$f":"IF(TRIM(DK42)=\"\", \"\", IF(VLOOKUP(DK42,'Footnotes list'!$D$9:$E$58,2,FALSE)=0,\"\",VLOOKUP(DK42,'Footnotes list'!$D$9:$E$58,2,FALSE) ) )","v":""}]
[null,null,"W072",null,"HAZ_NHAZ","Total",{"$f":"IF(AND(TRIM(G41)=\"\",TRIM(G42)=\"\"),\"\",G41+G42)","v":""},null,null,null,{"$f":"IF(TRIM(J43)=\"\", \"\", IF(VLOOKUP(J43,'Footnotes list'!$D$9:$E$58,2,FALSE)=0,\"\",VLOOKUP(J43,'Footnotes list'!$D$9:$E$58,2,FALSE) ) )","v":""},{"$f":"IF(AND(TRIM(L41)=\"\",TRIM(L42)=\"\"),\"\",L41+L42)","v":""},null,null,null,{"$f":"IF(TRIM(O43)=\"\", \"\", IF(VLOOKUP(O43,'Footnotes list'!$D$9:$E$58,2,FALSE)=0,\"\",VLOOKUP(O43,'Footnotes list'!$D$9:$E$58,2,FALSE) ) )","v":""},{"$f":"IF(AND(TRIM(Q41)=\"\",TRIM(Q42)=\"\"),\"\",Q41+Q42)","v":""},null,null,null,{"$f":"IF(TRIM(T43)=\"\", \"\", IF(VLOOKUP(T43,'Footnotes list'!$D$9:$E$58,2,FALSE)=0,\"\",VLOOKUP(T43,'Footnotes list'!$D$9:$E$58,2,FALSE) ) )","v":""},{"$f":"IF(AND(TRIM(V41)=\"\",TRIM(V42)=\"\"),\"\",V41+V42)","v":""},null,null,null,{"$f":"IF(TRIM(Y43)=\"\", \"\", IF(VLOOKUP(Y43,'Footnotes list'!$D$9:$E$58,2,FALSE)=0,\"\",VLOOKUP(Y43,'Footnotes list'!$D$9:$E$58,2,FALSE) ) )","v":""},{"$f":"IF(AND(TRIM(AA41)=\"\",TRIM(AA42)=\"\"),\"\",AA41+AA42)","v":""},null,null,null,{"$f":"IF(TRIM(AD43)=\"\", \"\", IF(VLOOKUP(AD43,'Footnotes list'!$D$9:$E$58,2,FALSE)=0,\"\",VLOOKUP(AD43,'Footnotes list'!$D$9:$E$58,2,FALSE) ) )","v":""},{"$f":"IF(AND(TRIM(AF41)=\"\",TRIM(AF42)=\"\"),\"\",AF41+AF42)","v":""},null,null,null,{"$f":"IF(TRIM(AI43)=\"\", \"\", IF(VLOOKUP(AI43,'Footnotes list'!$D$9:$E$58,2,FALSE)=0,\"\",VLOOKUP(AI43,'Footnotes list'!$D$9:$E$58,2,FALSE) ) )","v":""},{"$f":"IF(AND(TRIM(AK41)=\"\",TRIM(AK42)=\"\"),\"\",AK41+AK42)","v":""},null,null,null,{"$f":"IF(TRIM(AN43)=\"\", \"\", IF(VLOOKUP(AN43,'Footnotes list'!$D$9:$E$58,2,FALSE)=0,\"\",VLOOKUP(AN43,'Footnotes list'!$D$9:$E$58,2,FALSE) ) )","v":""},{"$f":"IF(AND(TRIM(AP41)=\"\",TRIM(AP42)=\"\"),\"\",AP41+AP42)","v":""},null,null,null,{"$f":"IF(TRIM(AS43)=\"\", \"\", IF(VLOOKUP(AS43,'Footnotes list'!$D$9:$E$58,2,FALSE)=0,\"\",VLOOKUP(AS43,'Footnotes list'!$D$9:$E$58,2,FALSE) ) )","v":""},{"$f":"IF(AND(TRIM(AU41)=\"\",TRIM(AU42)=\"\"),\"\",AU41+AU42)","v":""},null,null,null,{"$f":"IF(TRIM(AX43)=\"\", \"\", IF(VLOOKUP(AX43,'Footnotes list'!$D$9:$E$58,2,FALSE)=0,\"\",VLOOKUP(AX43,'Footnotes list'!$D$9:$E$58,2,FALSE) ) )","v":""},{"$f":"IF(AND(TRIM(AZ41)=\"\",TRIM(AZ42)=\"\"),\"\",AZ41+AZ42)","v":""},null,null,null,{"$f":"IF(TRIM(BC43)=\"\", \"\", IF(VLOOKUP(BC43,'Footnotes list'!$D$9:$E$58,2,FALSE)=0,\"\",VLOOKUP(BC43,'Footnotes list'!$D$9:$E$58,2,FALSE) ) )","v":""},{"$f":"IF(AND(TRIM(BE41)=\"\",TRIM(BE42)=\"\"),\"\",BE41+BE42)","v":""},null,null,null,{"$f":"IF(TRIM(BH43)=\"\", \"\", IF(VLOOKUP(BH43,'Footnotes list'!$D$9:$E$58,2,FALSE)=0,\"\",VLOOKUP(BH43,'Footnotes list'!$D$9:$E$58,2,FALSE) ) )","v":""},{"$f":"IF(AND(TRIM(BJ41)=\"\",TRIM(BJ42)=\"\"),\"\",BJ41+BJ42)","v":""},null,null,null,{"$f":"IF(TRIM(BM43)=\"\", \"\", IF(VLOOKUP(BM43,'Footnotes list'!$D$9:$E$58,2,FALSE)=0,\"\",VLOOKUP(BM43,'Footnotes list'!$D$9:$E$58,2,FALSE) ) )","v":""},{"$f":"IF(AND(TRIM(BO41)=\"\", TRIM(BO42)=\"\"), \"\", (IF(ISNUMBER(BO41),BO41,0)+IF(ISNUMBER(BO42),BO42,0)))","v":""},null,null,null,{"$f":"IF(TRIM(BR43)=\"\", \"\", IF(VLOOKUP(BR43,'Footnotes list'!$D$9:$E$58,2,FALSE)=0,\"\",VLOOKUP(BR43,'Footnotes list'!$D$9:$E$58,2,FALSE) ) )","v":""},{"$f":"IF(AND(TRIM(BT41)=\"\",TRIM(BT42)=\"\"),\"\",BT41+BT42)","v":""},null,null,null,{"$f":"IF(TRIM(BW43)=\"\", \"\", IF(VLOOKUP(BW43,'Footnotes list'!$D$9:$E$58,2,FALSE)=0,\"\",VLOOKUP(BW43,'Footnotes list'!$D$9:$E$58,2,FALSE) ) )","v":""},{"$f":"IF(AND(TRIM(BY41)=\"\",TRIM(BY42)=\"\"),\"\",BY41+BY42)","v":""},null,null,null,{"$f":"IF(TRIM(CB43)=\"\", \"\", IF(VLOOKUP(CB43,'Footnotes list'!$D$9:$E$58,2,FALSE)=0,\"\",VLOOKUP(CB43,'Footnotes list'!$D$9:$E$58,2,FALSE) ) )","v":""},{"$f":"IF(AND(TRIM(CD41)=\"\",TRIM(CD42)=\"\"),\"\",CD41+CD42)","v":""},null,null,null,{"$f":"IF(TRIM(CG43)=\"\", \"\", IF(VLOOKUP(CG43,'Footnotes list'!$D$9:$E$58,2,FALSE)=0,\"\",VLOOKUP(CG43,'Footnotes list'!$D$9:$E$58,2,FALSE) ) )","v":""},{"$f":"IF(AND(TRIM(CI41)=\"\", TRIM(CI42)=\"\"), \"\", (IF(ISNUMBER(CI41),CI41,0)+IF(ISNUMBER(CI42),CI42,0)))","v":""},null,null,null,{"$f":"IF(TRIM(CL43)=\"\", \"\", IF(VLOOKUP(CL43,'Footnotes list'!$D$9:$E$58,2,FALSE)=0,\"\",VLOOKUP(CL43,'Footnotes list'!$D$9:$E$58,2,FALSE) ) )","v":""},{"$f":"IF(AND(TRIM(CN41)=\"\",TRIM(CN42)=\"\"),\"\",CN41+CN42)","v":""},null,null,null,{"$f":"IF(TRIM(CQ43)=\"\", \"\", IF(VLOOKUP(CQ43,'Footnotes list'!$D$9:$E$58,2,FALSE)=0,\"\",VLOOKUP(CQ43,'Footnotes list'!$D$9:$E$58,2,FALSE) ) )","v":""},{"$f":"IF(AND(TRIM(CS41)=\"\",TRIM(CS42)=\"\"),\"\",CS41+CS42)","v":""},null,null,null,{"$f":"IF(TRIM(CV43)=\"\", \"\", IF(VLOOKUP(CV43,'Footnotes list'!$D$9:$E$58,2,FALSE)=0,\"\",VLOOKUP(CV43,'Footnotes list'!$D$9:$E$58,2,FALSE) ) )","v":""},{"$f":"IF(AND(TRIM(CX41)=\"\",TRIM(CX42)=\"\"),\"\",CX41+CX42)","v":""},null,null,null,{"$f":"IF(TRIM(DA43)=\"\", \"\", IF(VLOOKUP(DA43,'Footnotes list'!$D$9:$E$58,2,FALSE)=0,\"\",VLOOKUP(DA43,'Footnotes list'!$D$9:$E$58,2,FALSE) ) )","v":""},{"$f":"IF(AND(TRIM(DC41)=\"\",TRIM(DC42)=\"\"),\"\",DC41+DC42)","v":""},null,null,null,{"$f":"IF(TRIM(DF43)=\"\", \"\", IF(VLOOKUP(DF43,'Footnotes list'!$D$9:$E$58,2,FALSE)=0,\"\",VLOOKUP(DF43,'Footnotes list'!$D$9:$E$58,2,FALSE) ) )","v":""},{"$f":"IF(AND(TRIM(DH41)=\"\", TRIM(DH42)=\"\"), \"\", SUM(DH41,DH42) )","v":""},null,null,null,{"$f":"IF(TRIM(DK43)=\"\", \"\", IF(VLOOKUP(DK43,'Footnotes list'!$D$9:$E$58,2,FALSE)=0,\"\",VLOOKUP(DK43,'Footnotes list'!$D$9:$E$58,2,FALSE) ) )","v":""}]
[null,"W073",null,"Rubber wastes ",null,"Not applicable"]
[null,null,"W073",null,"NHAZ","Non-hazardous",null,null,null,null,{"$f":"IF(TRIM(J45)=\"\", \"\", IF(VLOOKUP(J45,'Footnotes list'!$D$9:$E$58,2,FALSE)=0,\"\",VLOOKUP(J45,'Footnotes list'!$D$9:$E$58,2,FALSE) ) )","v":""},null,null,null,null,{"$f":"IF(TRIM(O45)=\"\", \"\", IF(VLOOKUP(O45,'Footnotes list'!$D$9:$E$58,2,FALSE)=0,\"\",VLOOKUP(O45,'Footnotes list'!$D$9:$E$58,2,FALSE) ) )","v":""},null,null,null,null,{"$f":"IF(TRIM(T45)=\"\", \"\", IF(VLOOKUP(T45,'Footnotes list'!$D$9:$E$58,2,FALSE)=0,\"\",VLOOKUP(T45,'Footnotes list'!$D$9:$E$58,2,FALSE) ) )","v":""},null,null,null,null,{"$f":"IF(TRIM(Y45)=\"\", \"\", IF(VLOOKUP(Y45,'Footnotes list'!$D$9:$E$58,2,FALSE)=0,\"\",VLOOKUP(Y45,'Footnotes list'!$D$9:$E$58,2,FALSE) ) )","v":""},null,null,null,null,{"$f":"IF(TRIM(AD45)=\"\", \"\", IF(VLOOKUP(AD45,'Footnotes list'!$D$9:$E$58,2,FALSE)=0,\"\",VLOOKUP(AD45,'Footnotes list'!$D$9:$E$58,2,FALSE) ) )","v":""},null,null,null,null,{"$f":"IF(TRIM(AI45)=\"\", \"\", IF(VLOOKUP(AI45,'Footnotes list'!$D$9:$E$58,2,FALSE)=0,\"\",VLOOKUP(AI45,'Footnotes list'!$D$9:$E$58,2,FALSE) ) )","v":""},null,null,null,null,{"$f":"IF(TRIM(AN45)=\"\", \"\", IF(VLOOKUP(AN45,'Footnotes list'!$D$9:$E$58,2,FALSE)=0,\"\",VLOOKUP(AN45,'Footnotes list'!$D$9:$E$58,2,FALSE) ) )","v":""},null,null,null,null,{"$f":"IF(TRIM(AS45)=\"\", \"\", IF(VLOOKUP(AS45,'Footnotes list'!$D$9:$E$58,2,FALSE)=0,\"\",VLOOKUP(AS45,'Footnotes list'!$D$9:$E$58,2,FALSE) ) )","v":""},null,null,null,null,{"$f":"IF(TRIM(AX45)=\"\", \"\", IF(VLOOKUP(AX45,'Footnotes list'!$D$9:$E$58,2,FALSE)=0,\"\",VLOOKUP(AX45,'Footnotes list'!$D$9:$E$58,2,FALSE) ) )","v":""},null,null,null,null,{"$f":"IF(TRIM(BC45)=\"\", \"\", IF(VLOOKUP(BC45,'Footnotes list'!$D$9:$E$58,2,FALSE)=0,\"\",VLOOKUP(BC45,'Footnotes list'!$D$9:$E$58,2,FALSE) ) )","v":""},null,null,null,null,{"$f":"IF(TRIM(BH45)=\"\", \"\", IF(VLOOKUP(BH45,'Footnotes list'!$D$9:$E$58,2,FALSE)=0,\"\",VLOOKUP(BH45,'Footnotes list'!$D$9:$E$58,2,FALSE) ) )","v":""},null,null,null,null,{"$f":"IF(TRIM(BM45)=\"\", \"\", IF(VLOOKUP(BM45,'Footnotes list'!$D$9:$E$58,2,FALSE)=0,\"\",VLOOKUP(BM45,'Footnotes list'!$D$9:$E$58,2,FALSE) ) )","v":""},{"$f":"IF(AND(TRIM(Q45)=\"\",TRIM(V45)=\"\",TRIM(AA45)=\"\", TRIM(AF45)=\"\", TRIM(AK45)=\"\", TRIM(AP45)=\"\", TRIM(AU45)=\"\", TRIM(AZ45)=\"\", TRIM(BE45)=\"\", TRIM(BJ45)=\"\"),\"\",Q45+V45+AA45+AF45+AK45+AP45+AU45+AZ45+BE45+BJ45)","v":""},null,null,null,{"$f":"IF(TRIM(BR45)=\"\", \"\", IF(VLOOKUP(BR45,'Footnotes list'!$D$9:$E$58,2,FALSE)=0,\"\",VLOOKUP(BR45,'Footnotes list'!$D$9:$E$58,2,FALSE) ) )","v":""},null,null,null,null,{"$f":"IF(TRIM(BW45)=\"\", \"\", IF(VLOOKUP(BW45,'Footnotes list'!$D$9:$E$58,2,FALSE)=0,\"\",VLOOKUP(BW45,'Footnotes list'!$D$9:$E$58,2,FALSE) ) )","v":""},null,null,null,null,{"$f":"IF(TRIM(CB45)=\"\", \"\", IF(VLOOKUP(CB45,'Footnotes list'!$D$9:$E$58,2,FALSE)=0,\"\",VLOOKUP(CB45,'Footnotes list'!$D$9:$E$58,2,FALSE) ) )","v":""},null,null,null,null,{"$f":"IF(TRIM(CG45)=\"\", \"\", IF(VLOOKUP(CG45,'Footnotes list'!$D$9:$E$58,2,FALSE)=0,\"\",VLOOKUP(CG45,'Footnotes list'!$D$9:$E$58,2,FALSE) ) )","v":""},{"$f":"IF(AND(TRIM(BY45)=\"\",TRIM(CD45)=\"\"),\"\",BY45+CD45)","v":""},null,null,null,{"$f":"IF(TRIM(CL45)=\"\", \"\", IF(VLOOKUP(CL45,'Footnotes list'!$D$9:$E$58,2,FALSE)=0,\"\",VLOOKUP(CL45,'Footnotes list'!$D$9:$E$58,2,FALSE) ) )","v":""},null,null,null,null,{"$f":"IF(TRIM(CQ45)=\"\", \"\", IF(VLOOKUP(CQ45,'Footnotes list'!$D$9:$E$58,2,FALSE)=0,\"\",VLOOKUP(CQ45,'Footnotes list'!$D$9:$E$58,2,FALSE) ) )","v":""},null,null,null,null,{"$f":"IF(TRIM(CV45)=\"\", \"\", IF(VLOOKUP(CV45,'Footnotes list'!$D$9:$E$58,2,FALSE)=0,\"\",VLOOKUP(CV45,'Footnotes list'!$D$9:$E$58,2,FALSE) ) )","v":""},null,null,null,null,{"$f":"IF(TRIM(DA45)=\"\", \"\", IF(VLOOKUP(DA45,'Footnotes list'!$D$9:$E$58,2,FALSE)=0,\"\",VLOOKUP(DA45,'Footnotes list'!$D$9:$E$58,2,FALSE) ) )","v":""},null,null,null,null,{"$f":"IF(TRIM(DF45)=\"\", \"\", IF(VLOOKUP(DF45,'Footnotes list'!$D$9:$E$58,2,FALSE)=0,\"\",VLOOKUP(DF45,'Footnotes list'!$D$9:$E$58,2,FALSE) ) )","v":""},{"$f":"IF(AND(TRIM(G45)=\"\",TRIM(L45)=\"\",TRIM(BO45)=\"\",TRIM(BT45)=\"\",TRIM(CI45)=\"\",TRIM(CN45)=\"\",TRIM(CS45)=\"\",TRIM(CX45)=\"\",TRIM(DC45)=\"\"),\"\",SUM(G45,L45,BO45,BT45,CI45,CN45,CS45,CX45,DC45))","v":""},null,null,null,{"$f":"IF(TRIM(DK45)=\"\", \"\", IF(VLOOKUP(DK45,'Footnotes list'!$D$9:$E$58,2,FALSE)=0,\"\",VLOOKUP(DK45,'Footnotes list'!$D$9:$E$58,2,FALSE) ) )","v":""}]
[null,null,"W073",null,"HAZ_NHAZ","Total",{"$f":"IF(AND(TRIM(G44)=\"\",TRIM(G45)=\"\"),\"\",G44+G45)","v":""},null,null,null,{"$f":"IF(TRIM(J46)=\"\", \"\", IF(VLOOKUP(J46,'Footnotes list'!$D$9:$E$58,2,FALSE)=0,\"\",VLOOKUP(J46,'Footnotes list'!$D$9:$E$58,2,FALSE) ) )","v":""},{"$f":"IF(AND(TRIM(L44)=\"\",TRIM(L45)=\"\"),\"\",L44+L45)","v":""},null,null,null,{"$f":"IF(TRIM(O46)=\"\", \"\", IF(VLOOKUP(O46,'Footnotes list'!$D$9:$E$58,2,FALSE)=0,\"\",VLOOKUP(O46,'Footnotes list'!$D$9:$E$58,2,FALSE) ) )","v":""},{"$f":"IF(AND(TRIM(Q44)=\"\",TRIM(Q45)=\"\"),\"\",Q44+Q45)","v":""},null,null,null,{"$f":"IF(TRIM(T46)=\"\", \"\", IF(VLOOKUP(T46,'Footnotes list'!$D$9:$E$58,2,FALSE)=0,\"\",VLOOKUP(T46,'Footnotes list'!$D$9:$E$58,2,FALSE) ) )","v":""},{"$f":"IF(AND(TRIM(V44)=\"\",TRIM(V45)=\"\"),\"\",V44+V45)","v":""},null,null,null,{"$f":"IF(TRIM(Y46)=\"\", \"\", IF(VLOOKUP(Y46,'Footnotes list'!$D$9:$E$58,2,FALSE)=0,\"\",VLOOKUP(Y46,'Footnotes list'!$D$9:$E$58,2,FALSE) ) )","v":""},{"$f":"IF(AND(TRIM(AA44)=\"\",TRIM(AA45)=\"\"),\"\",AA44+AA45)","v":""},null,null,null,{"$f":"IF(TRIM(AD46)=\"\", \"\", IF(VLOOKUP(AD46,'Footnotes list'!$D$9:$E$58,2,FALSE)=0,\"\",VLOOKUP(AD46,'Footnotes list'!$D$9:$E$58,2,FALSE) ) )","v":""},{"$f":"IF(AND(TRIM(AF44)=\"\",TRIM(AF45)=\"\"),\"\",AF44+AF45)","v":""},null,null,null,{"$f":"IF(TRIM(AI46)=\"\", \"\", IF(VLOOKUP(AI46,'Footnotes list'!$D$9:$E$58,2,FALSE)=0,\"\",VLOOKUP(AI46,'Footnotes list'!$D$9:$E$58,2,FALSE) ) )","v":""},{"$f":"IF(AND(TRIM(AK44)=\"\",TRIM(AK45)=\"\"),\"\",AK44+AK45)","v":""},null,null,null,{"$f":"IF(TRIM(AN46)=\"\", \"\", IF(VLOOKUP(AN46,'Footnotes list'!$D$9:$E$58,2,FALSE)=0,\"\",VLOOKUP(AN46,'Footnotes list'!$D$9:$E$58,2,FALSE) ) )","v":""},{"$f":"IF(AND(TRIM(AP44)=\"\",TRIM(AP45)=\"\"),\"\",AP44+AP45)","v":""},null,null,null,{"$f":"IF(TRIM(AS46)=\"\", \"\", IF(VLOOKUP(AS46,'Footnotes list'!$D$9:$E$58,2,FALSE)=0,\"\",VLOOKUP(AS46,'Footnotes list'!$D$9:$E$58,2,FALSE) ) )","v":""},{"$f":"IF(AND(TRIM(AU44)=\"\",TRIM(AU45)=\"\"),\"\",AU44+AU45)","v":""},null,null,null,{"$f":"IF(TRIM(AX46)=\"\", \"\", IF(VLOOKUP(AX46,'Footnotes list'!$D$9:$E$58,2,FALSE)=0,\"\",VLOOKUP(AX46,'Footnotes list'!$D$9:$E$58,2,FALSE) ) )","v":""},{"$f":"IF(AND(TRIM(AZ44)=\"\",TRIM(AZ45)=\"\"),\"\",AZ44+AZ45)","v":""},null,null,null,{"$f":"IF(TRIM(BC46)=\"\", \"\", IF(VLOOKUP(BC46,'Footnotes list'!$D$9:$E$58,2,FALSE)=0,\"\",VLOOKUP(BC46,'Footnotes list'!$D$9:$E$58,2,FALSE) ) )","v":""},{"$f":"IF(AND(TRIM(BE44)=\"\",TRIM(BE45)=\"\"),\"\",BE44+BE45)","v":""},null,null,null,{"$f":"IF(TRIM(BH46)=\"\", \"\", IF(VLOOKUP(BH46,'Footnotes list'!$D$9:$E$58,2,FALSE)=0,\"\",VLOOKUP(BH46,'Footnotes list'!$D$9:$E$58,2,FALSE) ) )","v":""},{"$f":"IF(AND(TRIM(BJ44)=\"\",TRIM(BJ45)=\"\"),\"\",BJ44+BJ45)","v":""},null,null,null,{"$f":"IF(TRIM(BM46)=\"\", \"\", IF(VLOOKUP(BM46,'Footnotes list'!$D$9:$E$58,2,FALSE)=0,\"\",VLOOKUP(BM46,'Footnotes list'!$D$9:$E$58,2,FALSE) ) )","v":""},{"$f":"IF(AND(TRIM(BO44)=\"\", TRIM(BO45)=\"\"), \"\", (IF(ISNUMBER(BO44),BO44,0)+IF(ISNUMBER(BO45),BO45,0)))","v":""},null,null,null,{"$f":"IF(TRIM(BR46)=\"\", \"\", IF(VLOOKUP(BR46,'Footnotes list'!$D$9:$E$58,2,FALSE)=0,\"\",VLOOKUP(BR46,'Footnotes list'!$D$9:$E$58,2,FALSE) ) )","v":""},{"$f":"IF(AND(TRIM(BT44)=\"\",TRIM(BT45)=\"\"),\"\",BT44+BT45)","v":""},null,null,null,{"$f":"IF(TRIM(BW46)=\"\", \"\", IF(VLOOKUP(BW46,'Footnotes list'!$D$9:$E$58,2,FALSE)=0,\"\",VLOOKUP(BW46,'Footnotes list'!$D$9:$E$58,2,FALSE) ) )","v":""},{"$f":"IF(AND(TRIM(BY44)=\"\",TRIM(BY45)=\"\"),\"\",BY44+BY45)","v":""},null,null,null,{"$f":"IF(TRIM(CB46)=\"\", \"\", IF(VLOOKUP(CB46,'Footnotes list'!$D$9:$E$58,2,FALSE)=0,\"\",VLOOKUP(CB46,'Footnotes list'!$D$9:$E$58,2,FALSE) ) )","v":""},{"$f":"IF(AND(TRIM(CD44)=\"\",TRIM(CD45)=\"\"),\"\",CD44+CD45)","v":""},null,null,null,{"$f":"IF(TRIM(CG46)=\"\", \"\", IF(VLOOKUP(CG46,'Footnotes list'!$D$9:$E$58,2,FALSE)=0,\"\",VLOOKUP(CG46,'Footnotes list'!$D$9:$E$58,2,FALSE) ) )","v":""},{"$f":"IF(AND(TRIM(CI44)=\"\", TRIM(CI45)=\"\"), \"\", (IF(ISNUMBER(CI44),CI44,0)+IF(ISNUMBER(CI45),CI45,0)))","v":""},null,null,null,{"$f":"IF(TRIM(CL46)=\"\", \"\", IF(VLOOKUP(CL46,'Footnotes list'!$D$9:$E$58,2,FALSE)=0,\"\",VLOOKUP(CL46,'Footnotes list'!$D$9:$E$58,2,FALSE) ) )","v":""},{"$f":"IF(AND(TRIM(CN44)=\"\",TRIM(CN45)=\"\"),\"\",CN44+CN45)","v":""},null,null,null,{"$f":"IF(TRIM(CQ46)=\"\", \"\", IF(VLOOKUP(CQ46,'Footnotes list'!$D$9:$E$58,2,FALSE)=0,\"\",VLOOKUP(CQ46,'Footnotes list'!$D$9:$E$58,2,FALSE) ) )","v":""},{"$f":"IF(AND(TRIM(CS44)=\"\",TRIM(CS45)=\"\"),\"\",CS44+CS45)","v":""},null,null,null,{"$f":"IF(TRIM(CV46)=\"\", \"\", IF(VLOOKUP(CV46,'Footnotes list'!$D$9:$E$58,2,FALSE)=0,\"\",VLOOKUP(CV46,'Footnotes list'!$D$9:$E$58,2,FALSE) ) )","v":""},{"$f":"IF(AND(TRIM(CX44)=\"\",TRIM(CX45)=\"\"),\"\",CX44+CX45)","v":""},null,null,null,{"$f":"IF(TRIM(DA46)=\"\", \"\", IF(VLOOKUP(DA46,'Footnotes list'!$D$9:$E$58,2,FALSE)=0,\"\",VLOOKUP(DA46,'Footnotes list'!$D$9:$E$58,2,FALSE) ) )","v":""},{"$f":"IF(AND(TRIM(DC44)=\"\",TRIM(DC45)=\"\"),\"\",DC44+DC45)","v":""},null,null,null,{"$f":"IF(TRIM(DF46)=\"\", \"\", IF(VLOOKUP(DF46,'Footnotes list'!$D$9:$E$58,2,FALSE)=0,\"\",VLOOKUP(DF46,'Footnotes list'!$D$9:$E$58,2,FALSE) ) )","v":""},{"$f":"IF(AND(TRIM(DH44)=\"\", TRIM(DH45)=\"\"), \"\", SUM(DH44,DH45) )","v":""},null,null,null,{"$f":"IF(TRIM(DK46)=\"\", \"\", IF(VLOOKUP(DK46,'Footnotes list'!$D$9:$E$58,2,FALSE)=0,\"\",VLOOKUP(DK46,'Footnotes list'!$D$9:$E$58,2,FALSE) ) )","v":""}]
[null,"W074",null,"Plastic wastes ",null,"Not applicable"]
[null,null,"W074",null,"NHAZ","Non-hazardous",null,null,null,null,{"$f":"IF(TRIM(J48)=\"\", \"\", IF(VLOOKUP(J48,'Footnotes list'!$D$9:$E$58,2,FALSE)=0,\"\",VLOOKUP(J48,'Footnotes list'!$D$9:$E$58,2,FALSE) ) )","v":""},null,null,null,null,{"$f":"IF(TRIM(O48)=\"\", \"\", IF(VLOOKUP(O48,'Footnotes list'!$D$9:$E$58,2,FALSE)=0,\"\",VLOOKUP(O48,'Footnotes list'!$D$9:$E$58,2,FALSE) ) )","v":""},null,null,null,null,{"$f":"IF(TRIM(T48)=\"\", \"\", IF(VLOOKUP(T48,'Footnotes list'!$D$9:$E$58,2,FALSE)=0,\"\",VLOOKUP(T48,'Footnotes list'!$D$9:$E$58,2,FALSE) ) )","v":""},null,null,null,null,{"$f":"IF(TRIM(Y48)=\"\", \"\", IF(VLOOKUP(Y48,'Footnotes list'!$D$9:$E$58,2,FALSE)=0,\"\",VLOOKUP(Y48,'Footnotes list'!$D$9:$E$58,2,FALSE) ) )","v":""},null,null,null,null,{"$f":"IF(TRIM(AD48)=\"\", \"\", IF(VLOOKUP(AD48,'Footnotes list'!$D$9:$E$58,2,FALSE)=0,\"\",VLOOKUP(AD48,'Footnotes list'!$D$9:$E$58,2,FALSE) ) )","v":""},null,null,null,null,{"$f":"IF(TRIM(AI48)=\"\", \"\", IF(VLOOKUP(AI48,'Footnotes list'!$D$9:$E$58,2,FALSE)=0,\"\",VLOOKUP(AI48,'Footnotes list'!$D$9:$E$58,2,FALSE) ) )","v":""},null,null,null,null,{"$f":"IF(TRIM(AN48)=\"\", \"\", IF(VLOOKUP(AN48,'Footnotes list'!$D$9:$E$58,2,FALSE)=0,\"\",VLOOKUP(AN48,'Footnotes list'!$D$9:$E$58,2,FALSE) ) )","v":""},null,null,null,null,{"$f":"IF(TRIM(AS48)=\"\", \"\", IF(VLOOKUP(AS48,'Footnotes list'!$D$9:$E$58,2,FALSE)=0,\"\",VLOOKUP(AS48,'Footnotes list'!$D$9:$E$58,2,FALSE) ) )","v":""},null,null,null,null,{"$f":"IF(TRIM(AX48)=\"\", \"\", IF(VLOOKUP(AX48,'Footnotes list'!$D$9:$E$58,2,FALSE)=0,\"\",VLOOKUP(AX48,'Footnotes list'!$D$9:$E$58,2,FALSE) ) )","v":""},null,null,null,null,{"$f":"IF(TRIM(BC48)=\"\", \"\", IF(VLOOKUP(BC48,'Footnotes list'!$D$9:$E$58,2,FALSE)=0,\"\",VLOOKUP(BC48,'Footnotes list'!$D$9:$E$58,2,FALSE) ) )","v":""},null,null,null,null,{"$f":"IF(TRIM(BH48)=\"\", \"\", IF(VLOOKUP(BH48,'Footnotes list'!$D$9:$E$58,2,FALSE)=0,\"\",VLOOKUP(BH48,'Footnotes list'!$D$9:$E$58,2,FALSE) ) )","v":""},null,null,null,null,{"$f":"IF(TRIM(BM48)=\"\", \"\", IF(VLOOKUP(BM48,'Footnotes list'!$D$9:$E$58,2,FALSE)=0,\"\",VLOOKUP(BM48,'Footnotes list'!$D$9:$E$58,2,FALSE) ) )","v":""},{"$f":"IF(AND(TRIM(Q48)=\"\",TRIM(V48)=\"\",TRIM(AA48)=\"\", TRIM(AF48)=\"\", TRIM(AK48)=\"\", TRIM(AP48)=\"\", TRIM(AU48)=\"\", TRIM(AZ48)=\"\", TRIM(BE48)=\"\", TRIM(BJ48)=\"\"),\"\",Q48+V48+AA48+AF48+AK48+AP48+AU48+AZ48+BE48+BJ48)","v":""},null,null,null,{"$f":"IF(TRIM(BR48)=\"\", \"\", IF(VLOOKUP(BR48,'Footnotes list'!$D$9:$E$58,2,FALSE)=0,\"\",VLOOKUP(BR48,'Footnotes list'!$D$9:$E$58,2,FALSE) ) )","v":""},null,null,null,null,{"$f":"IF(TRIM(BW48)=\"\", \"\", IF(VLOOKUP(BW48,'Footnotes list'!$D$9:$E$58,2,FALSE)=0,\"\",VLOOKUP(BW48,'Footnotes list'!$D$9:$E$58,2,FALSE) ) )","v":""},null,null,null,null,{"$f":"IF(TRIM(CB48)=\"\", \"\", IF(VLOOKUP(CB48,'Footnotes list'!$D$9:$E$58,2,FALSE)=0,\"\",VLOOKUP(CB48,'Footnotes list'!$D$9:$E$58,2,FALSE) ) )","v":""},null,null,null,null,{"$f":"IF(TRIM(CG48)=\"\", \"\", IF(VLOOKUP(CG48,'Footnotes list'!$D$9:$E$58,2,FALSE)=0,\"\",VLOOKUP(CG48,'Footnotes list'!$D$9:$E$58,2,FALSE) ) )","v":""},{"$f":"IF(AND(TRIM(BY48)=\"\",TRIM(CD48)=\"\"),\"\",BY48+CD48)","v":""},null,null,null,{"$f":"IF(TRIM(CL48)=\"\", \"\", IF(VLOOKUP(CL48,'Footnotes list'!$D$9:$E$58,2,FALSE)=0,\"\",VLOOKUP(CL48,'Footnotes list'!$D$9:$E$58,2,FALSE) ) )","v":""},null,null,null,null,{"$f":"IF(TRIM(CQ48)=\"\", \"\", IF(VLOOKUP(CQ48,'Footnotes list'!$D$9:$E$58,2,FALSE)=0,\"\",VLOOKUP(CQ48,'Footnotes list'!$D$9:$E$58,2,FALSE) ) )","v":""},null,null,null,null,{"$f":"IF(TRIM(CV48)=\"\", \"\", IF(VLOOKUP(CV48,'Footnotes list'!$D$9:$E$58,2,FALSE)=0,\"\",VLOOKUP(CV48,'Footnotes list'!$D$9:$E$58,2,FALSE) ) )","v":""},null,null,null,null,{"$f":"IF(TRIM(DA48)=\"\", \"\", IF(VLOOKUP(DA48,'Footnotes list'!$D$9:$E$58,2,FALSE)=0,\"\",VLOOKUP(DA48,'Footnotes list'!$D$9:$E$58,2,FALSE) ) )","v":""},null,null,null,null,{"$f":"IF(TRIM(DF48)=\"\", \"\", IF(VLOOKUP(DF48,'Footnotes list'!$D$9:$E$58,2,FALSE)=0,\"\",VLOOKUP(DF48,'Footnotes list'!$D$9:$E$58,2,FALSE) ) )","v":""},{"$f":"IF(AND(TRIM(G48)=\"\",TRIM(L48)=\"\",TRIM(BO48)=\"\",TRIM(BT48)=\"\",TRIM(CI48)=\"\",TRIM(CN48)=\"\",TRIM(CS48)=\"\",TRIM(CX48)=\"\",TRIM(DC48)=\"\"),\"\",SUM(G48,L48,BO48,BT48,CI48,CN48,CS48,CX48,DC48))","v":""},null,null,null,{"$f":"IF(TRIM(DK48)=\"\", \"\", IF(VLOOKUP(DK48,'Footnotes list'!$D$9:$E$58,2,FALSE)=0,\"\",VLOOKUP(DK48,'Footnotes list'!$D$9:$E$58,2,FALSE) ) )","v":""}]
[null,null,"W074",null,"HAZ_NHAZ","Total",{"$f":"IF(AND(TRIM(G47)=\"\",TRIM(G48)=\"\"),\"\",G47+G48)","v":""},null,null,null,{"$f":"IF(TRIM(J49)=\"\", \"\", IF(VLOOKUP(J49,'Footnotes list'!$D$9:$E$58,2,FALSE)=0,\"\",VLOOKUP(J49,'Footnotes list'!$D$9:$E$58,2,FALSE) ) )","v":""},{"$f":"IF(AND(TRIM(L47)=\"\",TRIM(L48)=\"\"),\"\",L47+L48)","v":""},null,null,null,{"$f":"IF(TRIM(O49)=\"\", \"\", IF(VLOOKUP(O49,'Footnotes list'!$D$9:$E$58,2,FALSE)=0,\"\",VLOOKUP(O49,'Footnotes list'!$D$9:$E$58,2,FALSE) ) )","v":""},{"$f":"IF(AND(TRIM(Q47)=\"\",TRIM(Q48)=\"\"),\"\",Q47+Q48)","v":""},null,null,null,{"$f":"IF(TRIM(T49)=\"\", \"\", IF(VLOOKUP(T49,'Footnotes list'!$D$9:$E$58,2,FALSE)=0,\"\",VLOOKUP(T49,'Footnotes list'!$D$9:$E$58,2,FALSE) ) )","v":""},{"$f":"IF(AND(TRIM(V47)=\"\",TRIM(V48)=\"\"),\"\",V47+V48)","v":""},null,null,null,{"$f":"IF(TRIM(Y49)=\"\", \"\", IF(VLOOKUP(Y49,'Footnotes list'!$D$9:$E$58,2,FALSE)=0,\"\",VLOOKUP(Y49,'Footnotes list'!$D$9:$E$58,2,FALSE) ) )","v":""},{"$f":"IF(AND(TRIM(AA47)=\"\",TRIM(AA48)=\"\"),\"\",AA47+AA48)","v":""},null,null,null,{"$f":"IF(TRIM(AD49)=\"\", \"\", IF(VLOOKUP(AD49,'Footnotes list'!$D$9:$E$58,2,FALSE)=0,\"\",VLOOKUP(AD49,'Footnotes list'!$D$9:$E$58,2,FALSE) ) )","v":""},{"$f":"IF(AND(TRIM(AF47)=\"\",TRIM(AF48)=\"\"),\"\",AF47+AF48)","v":""},null,null,null,{"$f":"IF(TRIM(AI49)=\"\", \"\", IF(VLOOKUP(AI49,'Footnotes list'!$D$9:$E$58,2,FALSE)=0,\"\",VLOOKUP(AI49,'Footnotes list'!$D$9:$E$58,2,FALSE) ) )","v":""},{"$f":"IF(AND(TRIM(AK47)=\"\",TRIM(AK48)=\"\"),\"\",AK47+AK48)","v":""},null,null,null,{"$f":"IF(TRIM(AN49)=\"\", \"\", IF(VLOOKUP(AN49,'Footnotes list'!$D$9:$E$58,2,FALSE)=0,\"\",VLOOKUP(AN49,'Footnotes list'!$D$9:$E$58,2,FALSE) ) )","v":""},{"$f":"IF(AND(TRIM(AP47)=\"\",TRIM(AP48)=\"\"),\"\",AP47+AP48)","v":""},null,null,null,{"$f":"IF(TRIM(AS49)=\"\", \"\", IF(VLOOKUP(AS49,'Footnotes list'!$D$9:$E$58,2,FALSE)=0,\"\",VLOOKUP(AS49,'Footnotes list'!$D$9:$E$58,2,FALSE) ) )","v":""},{"$f":"IF(AND(TRIM(AU47)=\"\",TRIM(AU48)=\"\"),\"\",AU47+AU48)","v":""},null,null,null,{"$f":"IF(TRIM(AX49)=\"\", \"\", IF(VLOOKUP(AX49,'Footnotes list'!$D$9:$E$58,2,FALSE)=0,\"\",VLOOKUP(AX49,'Footnotes list'!$D$9:$E$58,2,FALSE) ) )","v":""},{"$f":"IF(AND(TRIM(AZ47)=\"\",TRIM(AZ48)=\"\"),\"\",AZ47+AZ48)","v":""},null,null,null,{"$f":"IF(TRIM(BC49)=\"\", \"\", IF(VLOOKUP(BC49,'Footnotes list'!$D$9:$E$58,2,FALSE)=0,\"\",VLOOKUP(BC49,'Footnotes list'!$D$9:$E$58,2,FALSE) ) )","v":""},{"$f":"IF(AND(TRIM(BE47)=\"\",TRIM(BE48)=\"\"),\"\",BE47+BE48)","v":""},null,null,null,{"$f":"IF(TRIM(BH49)=\"\", \"\", IF(VLOOKUP(BH49,'Footnotes list'!$D$9:$E$58,2,FALSE)=0,\"\",VLOOKUP(BH49,'Footnotes list'!$D$9:$E$58,2,FALSE) ) )","v":""},{"$f":"IF(AND(TRIM(BJ47)=\"\",TRIM(BJ48)=\"\"),\"\",BJ47+BJ48)","v":""},null,null,null,{"$f":"IF(TRIM(BM49)=\"\", \"\", IF(VLOOKUP(BM49,'Footnotes list'!$D$9:$E$58,2,FALSE)=0,\"\",VLOOKUP(BM49,'Footnotes list'!$D$9:$E$58,2,FALSE) ) )","v":""},{"$f":"IF(AND(TRIM(BO47)=\"\", TRIM(BO48)=\"\"), \"\", (IF(ISNUMBER(BO47),BO47,0)+IF(ISNUMBER(BO48),BO48,0)))","v":""},null,null,null,{"$f":"IF(TRIM(BR49)=\"\", \"\", IF(VLOOKUP(BR49,'Footnotes list'!$D$9:$E$58,2,FALSE)=0,\"\",VLOOKUP(BR49,'Footnotes list'!$D$9:$E$58,2,FALSE) ) )","v":""},{"$f":"IF(AND(TRIM(BT47)=\"\",TRIM(BT48)=\"\"),\"\",BT47+BT48)","v":""},null,null,null,{"$f":"IF(TRIM(BW49)=\"\", \"\", IF(VLOOKUP(BW49,'Footnotes list'!$D$9:$E$58,2,FALSE)=0,\"\",VLOOKUP(BW49,'Footnotes list'!$D$9:$E$58,2,FALSE) ) )","v":""},{"$f":"IF(AND(TRIM(BY47)=\"\",TRIM(BY48)=\"\"),\"\",BY47+BY48)","v":""},null,null,null,{"$f":"IF(TRIM(CB49)=\"\", \"\", IF(VLOOKUP(CB49,'Footnotes list'!$D$9:$E$58,2,FALSE)=0,\"\",VLOOKUP(CB49,'Footnotes list'!$D$9:$E$58,2,FALSE) ) )","v":""},{"$f":"IF(AND(TRIM(CD47)=\"\",TRIM(CD48)=\"\"),\"\",CD47+CD48)","v":""},null,null,null,{"$f":"IF(TRIM(CG49)=\"\", \"\", IF(VLOOKUP(CG49,'Footnotes list'!$D$9:$E$58,2,FALSE)=0,\"\",VLOOKUP(CG49,'Footnotes list'!$D$9:$E$58,2,FALSE) ) )","v":""},{"$f":"IF(AND(TRIM(CI47)=\"\", TRIM(CI48)=\"\"), \"\", (IF(ISNUMBER(CI47),CI47,0)+IF(ISNUMBER(CI48),CI48,0)))","v":""},null,null,null,{"$f":"IF(TRIM(CL49)=\"\", \"\", IF(VLOOKUP(CL49,'Footnotes list'!$D$9:$E$58,2,FALSE)=0,\"\",VLOOKUP(CL49,'Footnotes list'!$D$9:$E$58,2,FALSE) ) )","v":""},{"$f":"IF(AND(TRIM(CN47)=\"\",TRIM(CN48)=\"\"),\"\",CN47+CN48)","v":""},null,null,null,{"$f":"IF(TRIM(CQ49)=\"\", \"\", IF(VLOOKUP(CQ49,'Footnotes list'!$D$9:$E$58,2,FALSE)=0,\"\",VLOOKUP(CQ49,'Footnotes list'!$D$9:$E$58,2,FALSE) ) )","v":""},{"$f":"IF(AND(TRIM(CS47)=\"\",TRIM(CS48)=\"\"),\"\",CS47+CS48)","v":""},null,null,null,{"$f":"IF(TRIM(CV49)=\"\", \"\", IF(VLOOKUP(CV49,'Footnotes list'!$D$9:$E$58,2,FALSE)=0,\"\",VLOOKUP(CV49,'Footnotes list'!$D$9:$E$58,2,FALSE) ) )","v":""},{"$f":"IF(AND(TRIM(CX47)=\"\",TRIM(CX48)=\"\"),\"\",CX47+CX48)","v":""},null,null,null,{"$f":"IF(TRIM(DA49)=\"\", \"\", IF(VLOOKUP(DA49,'Footnotes list'!$D$9:$E$58,2,FALSE)=0,\"\",VLOOKUP(DA49,'Footnotes list'!$D$9:$E$58,2,FALSE) ) )","v":""},{"$f":"IF(AND(TRIM(DC47)=\"\",TRIM(DC48)=\"\"),\"\",DC47+DC48)","v":""},null,null,null,{"$f":"IF(TRIM(DF49)=\"\", \"\", IF(VLOOKUP(DF49,'Footnotes list'!$D$9:$E$58,2,FALSE)=0,\"\",VLOOKUP(DF49,'Footnotes list'!$D$9:$E$58,2,FALSE) ) )","v":""},{"$f":"IF(AND(TRIM(DH47)=\"\", TRIM(DH48)=\"\"), \"\", SUM(DH47,DH48) )","v":""},null,null,null,{"$f":"IF(TRIM(DK49)=\"\", \"\", IF(VLOOKUP(DK49,'Footnotes list'!$D$9:$E$58,2,FALSE)=0,\"\",VLOOKUP(DK49,'Footnotes list'!$D$9:$E$58,2,FALSE) ) )","v":""}]
[null,"W075","W075","Wood wastes ","HAZ","Hazardous ",null,null,null,null,{"$f":"IF(TRIM(J50)=\"\", \"\", IF(VLOOKUP(J50,'Footnotes list'!$D$9:$E$58,2,FALSE)=0,\"\",VLOOKUP(J50,'Footnotes list'!$D$9:$E$58,2,FALSE) ) )","v":""},null,null,null,null,{"$f":"IF(TRIM(O50)=\"\", \"\", IF(VLOOKUP(O50,'Footnotes list'!$D$9:$E$58,2,FALSE)=0,\"\",VLOOKUP(O50,'Footnotes list'!$D$9:$E$58,2,FALSE) ) )","v":""},null,null,null,null,{"$f":"IF(TRIM(T50)=\"\", \"\", IF(VLOOKUP(T50,'Footnotes list'!$D$9:$E$58,2,FALSE)=0,\"\",VLOOKUP(T50,'Footnotes list'!$D$9:$E$58,2,FALSE) ) )","v":""},null,null,null,null,{"$f":"IF(TRIM(Y50)=\"\", \"\", IF(VLOOKUP(Y50,'Footnotes list'!$D$9:$E$58,2,FALSE)=0,\"\",VLOOKUP(Y50,'Footnotes list'!$D$9:$E$58,2,FALSE) ) )","v":""},null,null,null,null,{"$f":"IF(TRIM(AD50)=\"\", \"\", IF(VLOOKUP(AD50,'Footnotes list'!$D$9:$E$58,2,FALSE)=0,\"\",VLOOKUP(AD50,'Footnotes list'!$D$9:$E$58,2,FALSE) ) )","v":""},null,null,null,null,{"$f":"IF(TRIM(AI50)=\"\", \"\", IF(VLOOKUP(AI50,'Footnotes list'!$D$9:$E$58,2,FALSE)=0,\"\",VLOOKUP(AI50,'Footnotes list'!$D$9:$E$58,2,FALSE) ) )","v":""},null,null,null,null,{"$f":"IF(TRIM(AN50)=\"\", \"\", IF(VLOOKUP(AN50,'Footnotes list'!$D$9:$E$58,2,FALSE)=0,\"\",VLOOKUP(AN50,'Footnotes list'!$D$9:$E$58,2,FALSE) ) )","v":""},null,null,null,null,{"$f":"IF(TRIM(AS50)=\"\", \"\", IF(VLOOKUP(AS50,'Footnotes list'!$D$9:$E$58,2,FALSE)=0,\"\",VLOOKUP(AS50,'Footnotes list'!$D$9:$E$58,2,FALSE) ) )","v":""},null,null,null,null,{"$f":"IF(TRIM(AX50)=\"\", \"\", IF(VLOOKUP(AX50,'Footnotes list'!$D$9:$E$58,2,FALSE)=0,\"\",VLOOKUP(AX50,'Footnotes list'!$D$9:$E$58,2,FALSE) ) )","v":""},null,null,null,null,{"$f":"IF(TRIM(BC50)=\"\", \"\", IF(VLOOKUP(BC50,'Footnotes list'!$D$9:$E$58,2,FALSE)=0,\"\",VLOOKUP(BC50,'Footnotes list'!$D$9:$E$58,2,FALSE) ) )","v":""},null,null,null,null,{"$f":"IF(TRIM(BH50)=\"\", \"\", IF(VLOOKUP(BH50,'Footnotes list'!$D$9:$E$58,2,FALSE)=0,\"\",VLOOKUP(BH50,'Footnotes list'!$D$9:$E$58,2,FALSE) ) )","v":""},null,null,null,null,{"$f":"IF(TRIM(BM50)=\"\", \"\", IF(VLOOKUP(BM50,'Footnotes list'!$D$9:$E$58,2,FALSE)=0,\"\",VLOOKUP(BM50,'Footnotes list'!$D$9:$E$58,2,FALSE) ) )","v":""},{"$f":"IF(AND(TRIM(Q50)=\"\",TRIM(V50)=\"\",TRIM(AA50)=\"\", TRIM(AF50)=\"\", TRIM(AK50)=\"\", TRIM(AP50)=\"\", TRIM(AU50)=\"\", TRIM(AZ50)=\"\", TRIM(BE50)=\"\", TRIM(BJ50)=\"\"),\"\",Q50+V50+AA50+AF50+AK50+AP50+AU50+AZ50+BE50+BJ50)","v":""},null,null,null,{"$f":"IF(TRIM(BR50)=\"\", \"\", IF(VLOOKUP(BR50,'Footnotes list'!$D$9:$E$58,2,FALSE)=0,\"\",VLOOKUP(BR50,'Footnotes list'!$D$9:$E$58,2,FALSE) ) )","v":""},null,null,null,null,{"$f":"IF(TRIM(BW50)=\"\", \"\", IF(VLOOKUP(BW50,'Footnotes list'!$D$9:$E$58,2,FALSE)=0,\"\",VLOOKUP(BW50,'Footnotes list'!$D$9:$E$58,2,FALSE) ) )","v":""},null,null,null,null,{"$f":"IF(TRIM(CB50)=\"\", \"\", IF(VLOOKUP(CB50,'Footnotes list'!$D$9:$E$58,2,FALSE)=0,\"\",VLOOKUP(CB50,'Footnotes list'!$D$9:$E$58,2,FALSE) ) )","v":""},null,null,null,null,{"$f":"IF(TRIM(CG50)=\"\", \"\", IF(VLOOKUP(CG50,'Footnotes list'!$D$9:$E$58,2,FALSE)=0,\"\",VLOOKUP(CG50,'Footnotes list'!$D$9:$E$58,2,FALSE) ) )","v":""},{"$f":"IF(AND(TRIM(BY50)=\"\",TRIM(CD50)=\"\"),\"\",BY50+CD50)","v":""},null,null,null,{"$f":"IF(TRIM(CL50)=\"\", \"\", IF(VLOOKUP(CL50,'Footnotes list'!$D$9:$E$58,2,FALSE)=0,\"\",VLOOKUP(CL50,'Footnotes list'!$D$9:$E$58,2,FALSE) ) )","v":""},null,null,null,null,{"$f":"IF(TRIM(CQ50)=\"\", \"\", IF(VLOOKUP(CQ50,'Footnotes list'!$D$9:$E$58,2,FALSE)=0,\"\",VLOOKUP(CQ50,'Footnotes list'!$D$9:$E$58,2,FALSE) ) )","v":""},null,null,null,null,{"$f":"IF(TRIM(CV50)=\"\", \"\", IF(VLOOKUP(CV50,'Footnotes list'!$D$9:$E$58,2,FALSE)=0,\"\",VLOOKUP(CV50,'Footnotes list'!$D$9:$E$58,2,FALSE) ) )","v":""},null,null,null,null,{"$f":"IF(TRIM(DA50)=\"\", \"\", IF(VLOOKUP(DA50,'Footnotes list'!$D$9:$E$58,2,FALSE)=0,\"\",VLOOKUP(DA50,'Footnotes list'!$D$9:$E$58,2,FALSE) ) )","v":""},null,null,null,null,{"$f":"IF(TRIM(DF50)=\"\", \"\", IF(VLOOKUP(DF50,'Footnotes list'!$D$9:$E$58,2,FALSE)=0,\"\",VLOOKUP(DF50,'Footnotes list'!$D$9:$E$58,2,FALSE) ) )","v":""},{"$f":"IF(AND(TRIM(G50)=\"\",TRIM(L50)=\"\",TRIM(BO50)=\"\",TRIM(BT50)=\"\",TRIM(CI50)=\"\",TRIM(CN50)=\"\",TRIM(CS50)=\"\",TRIM(CX50)=\"\",TRIM(DC50)=\"\"),\"\",SUM(G50,L50,BO50,BT50,CI50,CN50,CS50,CX50,DC50))","v":""},null,null,null,{"$f":"IF(TRIM(DK50)=\"\", \"\", IF(VLOOKUP(DK50,'Footnotes list'!$D$9:$E$58,2,FALSE)=0,\"\",VLOOKUP(DK50,'Footnotes list'!$D$9:$E$58,2,FALSE) ) )","v":""}]
[null,null,"W075",null,"NHAZ","Non-hazardous",null,null,null,null,{"$f":"IF(TRIM(J51)=\"\", \"\", IF(VLOOKUP(J51,'Footnotes list'!$D$9:$E$58,2,FALSE)=0,\"\",VLOOKUP(J51,'Footnotes list'!$D$9:$E$58,2,FALSE) ) )","v":""},null,null,null,null,{"$f":"IF(TRIM(O51)=\"\", \"\", IF(VLOOKUP(O51,'Footnotes list'!$D$9:$E$58,2,FALSE)=0,\"\",VLOOKUP(O51,'Footnotes list'!$D$9:$E$58,2,FALSE) ) )","v":""},null,null,null,null,{"$f":"IF(TRIM(T51)=\"\", \"\", IF(VLOOKUP(T51,'Footnotes list'!$D$9:$E$58,2,FALSE)=0,\"\",VLOOKUP(T51,'Footnotes list'!$D$9:$E$58,2,FALSE) ) )","v":""},null,null,null,null,{"$f":"IF(TRIM(Y51)=\"\", \"\", IF(VLOOKUP(Y51,'Footnotes list'!$D$9:$E$58,2,FALSE)=0,\"\",VLOOKUP(Y51,'Footnotes list'!$D$9:$E$58,2,FALSE) ) )","v":""},null,null,null,null,{"$f":"IF(TRIM(AD51)=\"\", \"\", IF(VLOOKUP(AD51,'Footnotes list'!$D$9:$E$58,2,FALSE)=0,\"\",VLOOKUP(AD51,'Footnotes list'!$D$9:$E$58,2,FALSE) ) )","v":""},null,null,null,null,{"$f":"IF(TRIM(AI51)=\"\", \"\", IF(VLOOKUP(AI51,'Footnotes list'!$D$9:$E$58,2,FALSE)=0,\"\",VLOOKUP(AI51,'Footnotes list'!$D$9:$E$58,2,FALSE) ) )","v":""},null,null,null,null,{"$f":"IF(TRIM(AN51)=\"\", \"\", IF(VLOOKUP(AN51,'Footnotes list'!$D$9:$E$58,2,FALSE)=0,\"\",VLOOKUP(AN51,'Footnotes list'!$D$9:$E$58,2,FALSE) ) )","v":""},null,null,null,null,{"$f":"IF(TRIM(AS51)=\"\", \"\", IF(VLOOKUP(AS51,'Footnotes list'!$D$9:$E$58,2,FALSE)=0,\"\",VLOOKUP(AS51,'Footnotes list'!$D$9:$E$58,2,FALSE) ) )","v":""},null,null,null,null,{"$f":"IF(TRIM(AX51)=\"\", \"\", IF(VLOOKUP(AX51,'Footnotes list'!$D$9:$E$58,2,FALSE)=0,\"\",VLOOKUP(AX51,'Footnotes list'!$D$9:$E$58,2,FALSE) ) )","v":""},null,null,null,null,{"$f":"IF(TRIM(BC51)=\"\", \"\", IF(VLOOKUP(BC51,'Footnotes list'!$D$9:$E$58,2,FALSE)=0,\"\",VLOOKUP(BC51,'Footnotes list'!$D$9:$E$58,2,FALSE) ) )","v":""},null,null,null,null,{"$f":"IF(TRIM(BH51)=\"\", \"\", IF(VLOOKUP(BH51,'Footnotes list'!$D$9:$E$58,2,FALSE)=0,\"\",VLOOKUP(BH51,'Footnotes list'!$D$9:$E$58,2,FALSE) ) )","v":""},null,null,null,null,{"$f":"IF(TRIM(BM51)=\"\", \"\", IF(VLOOKUP(BM51,'Footnotes list'!$D$9:$E$58,2,FALSE)=0,\"\",VLOOKUP(BM51,'Footnotes list'!$D$9:$E$58,2,FALSE) ) )","v":""},{"$f":"IF(AND(TRIM(Q51)=\"\",TRIM(V51)=\"\",TRIM(AA51)=\"\", TRIM(AF51)=\"\", TRIM(AK51)=\"\", TRIM(AP51)=\"\", TRIM(AU51)=\"\", TRIM(AZ51)=\"\", TRIM(BE51)=\"\", TRIM(BJ51)=\"\"),\"\",Q51+V51+AA51+AF51+AK51+AP51+AU51+AZ51+BE51+BJ51)","v":""},null,null,null,{"$f":"IF(TRIM(BR51)=\"\", \"\", IF(VLOOKUP(BR51,'Footnotes list'!$D$9:$E$58,2,FALSE)=0,\"\",VLOOKUP(BR51,'Footnotes list'!$D$9:$E$58,2,FALSE) ) )","v":""},null,null,null,null,{"$f":"IF(TRIM(BW51)=\"\", \"\", IF(VLOOKUP(BW51,'Footnotes list'!$D$9:$E$58,2,FALSE)=0,\"\",VLOOKUP(BW51,'Footnotes list'!$D$9:$E$58,2,FALSE) ) )","v":""},null,null,null,null,{"$f":"IF(TRIM(CB51)=\"\", \"\", IF(VLOOKUP(CB51,'Footnotes list'!$D$9:$E$58,2,FALSE)=0,\"\",VLOOKUP(CB51,'Footnotes list'!$D$9:$E$58,2,FALSE) ) )","v":""},null,null,null,null,{"$f":"IF(TRIM(CG51)=\"\", \"\", IF(VLOOKUP(CG51,'Footnotes list'!$D$9:$E$58,2,FALSE)=0,\"\",VLOOKUP(CG51,'Footnotes list'!$D$9:$E$58,2,FALSE) ) )","v":""},{"$f":"IF(AND(TRIM(BY51)=\"\",TRIM(CD51)=\"\"),\"\",BY51+CD51)","v":""},null,null,null,{"$f":"IF(TRIM(CL51)=\"\", \"\", IF(VLOOKUP(CL51,'Footnotes list'!$D$9:$E$58,2,FALSE)=0,\"\",VLOOKUP(CL51,'Footnotes list'!$D$9:$E$58,2,FALSE) ) )","v":""},null,null,null,null,{"$f":"IF(TRIM(CQ51)=\"\", \"\", IF(VLOOKUP(CQ51,'Footnotes list'!$D$9:$E$58,2,FALSE)=0,\"\",VLOOKUP(CQ51,'Footnotes list'!$D$9:$E$58,2,FALSE) ) )","v":""},null,null,null,null,{"$f":"IF(TRIM(CV51)=\"\", \"\", IF(VLOOKUP(CV51,'Footnotes list'!$D$9:$E$58,2,FALSE)=0,\"\",VLOOKUP(CV51,'Footnotes list'!$D$9:$E$58,2,FALSE) ) )","v":""},null,null,null,null,{"$f":"IF(TRIM(DA51)=\"\", \"\", IF(VLOOKUP(DA51,'Footnotes list'!$D$9:$E$58,2,FALSE)=0,\"\",VLOOKUP(DA51,'Footnotes list'!$D$9:$E$58,2,FALSE) ) )","v":""},null,null,null,null,{"$f":"IF(TRIM(DF51)=\"\", \"\", IF(VLOOKUP(DF51,'Footnotes list'!$D$9:$E$58,2,FALSE)=0,\"\",VLOOKUP(DF51,'Footnotes list'!$D$9:$E$58,2,FALSE) ) )","v":""},{"$f":"IF(AND(TRIM(G51)=\"\",TRIM(L51)=\"\",TRIM(BO51)=\"\",TRIM(BT51)=\"\",TRIM(CI51)=\"\",TRIM(CN51)=\"\",TRIM(CS51)=\"\",TRIM(CX51)=\"\",TRIM(DC51)=\"\"),\"\",SUM(G51,L51,BO51,BT51,CI51,CN51,CS51,CX51,DC51))","v":""},null,null,null,{"$f":"IF(TRIM(DK51)=\"\", \"\", IF(VLOOKUP(DK51,'Footnotes list'!$D$9:$E$58,2,FALSE)=0,\"\",VLOOKUP(DK51,'Footnotes list'!$D$9:$E$58,2,FALSE) ) )","v":""}]
[null,null,"W075",null,"HAZ_NHAZ","Total",{"$f":"IF(AND(TRIM(G50)=\"\",TRIM(G51)=\"\"),\"\",G50+G51)","v":""},null,null,null,{"$f":"IF(TRIM(J52)=\"\", \"\", IF(VLOOKUP(J52,'Footnotes list'!$D$9:$E$58,2,FALSE)=0,\"\",VLOOKUP(J52,'Footnotes list'!$D$9:$E$58,2,FALSE) ) )","v":""},{"$f":"IF(AND(TRIM(L50)=\"\",TRIM(L51)=\"\"),\"\",L50+L51)","v":""},null,null,null,{"$f":"IF(TRIM(O52)=\"\", \"\", IF(VLOOKUP(O52,'Footnotes list'!$D$9:$E$58,2,FALSE)=0,\"\",VLOOKUP(O52,'Footnotes list'!$D$9:$E$58,2,FALSE) ) )","v":""},{"$f":"IF(AND(TRIM(Q50)=\"\",TRIM(Q51)=\"\"),\"\",Q50+Q51)","v":""},null,null,null,{"$f":"IF(TRIM(T52)=\"\", \"\", IF(VLOOKUP(T52,'Footnotes list'!$D$9:$E$58,2,FALSE)=0,\"\",VLOOKUP(T52,'Footnotes list'!$D$9:$E$58,2,FALSE) ) )","v":""},{"$f":"IF(AND(TRIM(V50)=\"\",TRIM(V51)=\"\"),\"\",V50+V51)","v":""},null,null,null,{"$f":"IF(TRIM(Y52)=\"\", \"\", IF(VLOOKUP(Y52,'Footnotes list'!$D$9:$E$58,2,FALSE)=0,\"\",VLOOKUP(Y52,'Footnotes list'!$D$9:$E$58,2,FALSE) ) )","v":""},{"$f":"IF(AND(TRIM(AA50)=\"\",TRIM(AA51)=\"\"),\"\",AA50+AA51)","v":""},null,null,null,{"$f":"IF(TRIM(AD52)=\"\", \"\", IF(VLOOKUP(AD52,'Footnotes list'!$D$9:$E$58,2,FALSE)=0,\"\",VLOOKUP(AD52,'Footnotes list'!$D$9:$E$58,2,FALSE) ) )","v":""},{"$f":"IF(AND(TRIM(AF50)=\"\",TRIM(AF51)=\"\"),\"\",AF50+AF51)","v":""},null,null,null,{"$f":"IF(TRIM(AI52)=\"\", \"\", IF(VLOOKUP(AI52,'Footnotes list'!$D$9:$E$58,2,FALSE)=0,\"\",VLOOKUP(AI52,'Footnotes list'!$D$9:$E$58,2,FALSE) ) )","v":""},{"$f":"IF(AND(TRIM(AK50)=\"\",TRIM(AK51)=\"\"),\"\",AK50+AK51)","v":""},null,null,null,{"$f":"IF(TRIM(AN52)=\"\", \"\", IF(VLOOKUP(AN52,'Footnotes list'!$D$9:$E$58,2,FALSE)=0,\"\",VLOOKUP(AN52,'Footnotes list'!$D$9:$E$58,2,FALSE) ) )","v":""},{"$f":"IF(AND(TRIM(AP50)=\"\",TRIM(AP51)=\"\"),\"\",AP50+AP51)","v":""},null,null,null,{"$f":"IF(TRIM(AS52)=\"\", \"\", IF(VLOOKUP(AS52,'Footnotes list'!$D$9:$E$58,2,FALSE)=0,\"\",VLOOKUP(AS52,'Footnotes list'!$D$9:$E$58,2,FALSE) ) )","v":""},{"$f":"IF(AND(TRIM(AU50)=\"\",TRIM(AU51)=\"\"),\"\",AU50+AU51)","v":""},null,null,null,{"$f":"IF(TRIM(AX52)=\"\", \"\", IF(VLOOKUP(AX52,'Footnotes list'!$D$9:$E$58,2,FALSE)=0,\"\",VLOOKUP(AX52,'Footnotes list'!$D$9:$E$58,2,FALSE) ) )","v":""},{"$f":"IF(AND(TRIM(AZ50)=\"\",TRIM(AZ51)=\"\"),\"\",AZ50+AZ51)","v":""},null,null,null,{"$f":"IF(TRIM(BC52)=\"\", \"\", IF(VLOOKUP(BC52,'Footnotes list'!$D$9:$E$58,2,FALSE)=0,\"\",VLOOKUP(BC52,'Footnotes list'!$D$9:$E$58,2,FALSE) ) )","v":""},{"$f":"IF(AND(TRIM(BE50)=\"\",TRIM(BE51)=\"\"),\"\",BE50+BE51)","v":""},null,null,null,{"$f":"IF(TRIM(BH52)=\"\", \"\", IF(VLOOKUP(BH52,'Footnotes list'!$D$9:$E$58,2,FALSE)=0,\"\",VLOOKUP(BH52,'Footnotes list'!$D$9:$E$58,2,FALSE) ) )","v":""},{"$f":"IF(AND(TRIM(BJ50)=\"\",TRIM(BJ51)=\"\"),\"\",BJ50+BJ51)","v":""},null,null,null,{"$f":"IF(TRIM(BM52)=\"\", \"\", IF(VLOOKUP(BM52,'Footnotes list'!$D$9:$E$58,2,FALSE)=0,\"\",VLOOKUP(BM52,'Footnotes list'!$D$9:$E$58,2,FALSE) ) )","v":""},{"$f":"IF(AND(TRIM(BO50)=\"\", TRIM(BO51)=\"\"), \"\", (IF(ISNUMBER(BO50),BO50,0)+IF(ISNUMBER(BO51),BO51,0)))","v":""},null,null,null,{"$f":"IF(TRIM(BR52)=\"\", \"\", IF(VLOOKUP(BR52,'Footnotes list'!$D$9:$E$58,2,FALSE)=0,\"\",VLOOKUP(BR52,'Footnotes list'!$D$9:$E$58,2,FALSE) ) )","v":""},{"$f":"IF(AND(TRIM(BT50)=\"\",TRIM(BT51)=\"\"),\"\",BT50+BT51)","v":""},null,null,null,{"$f":"IF(TRIM(BW52)=\"\", \"\", IF(VLOOKUP(BW52,'Footnotes list'!$D$9:$E$58,2,FALSE)=0,\"\",VLOOKUP(BW52,'Footnotes list'!$D$9:$E$58,2,FALSE) ) )","v":""},{"$f":"IF(AND(TRIM(BY50)=\"\",TRIM(BY51)=\"\"),\"\",BY50+BY51)","v":""},null,null,null,{"$f":"IF(TRIM(CB52)=\"\", \"\", IF(VLOOKUP(CB52,'Footnotes list'!$D$9:$E$58,2,FALSE)=0,\"\",VLOOKUP(CB52,'Footnotes list'!$D$9:$E$58,2,FALSE) ) )","v":""},{"$f":"IF(AND(TRIM(CD50)=\"\",TRIM(CD51)=\"\"),\"\",CD50+CD51)","v":""},null,null,null,{"$f":"IF(TRIM(CG52)=\"\", \"\", IF(VLOOKUP(CG52,'Footnotes list'!$D$9:$E$58,2,FALSE)=0,\"\",VLOOKUP(CG52,'Footnotes list'!$D$9:$E$58,2,FALSE) ) )","v":""},{"$f":"IF(AND(TRIM(CI50)=\"\", TRIM(CI51)=\"\"), \"\", (IF(ISNUMBER(CI50),CI50,0)+IF(ISNUMBER(CI51),CI51,0)))","v":""},null,null,null,{"$f":"IF(TRIM(CL52)=\"\", \"\", IF(VLOOKUP(CL52,'Footnotes list'!$D$9:$E$58,2,FALSE)=0,\"\",VLOOKUP(CL52,'Footnotes list'!$D$9:$E$58,2,FALSE) ) )","v":""},{"$f":"IF(AND(TRIM(CN50)=\"\",TRIM(CN51)=\"\"),\"\",CN50+CN51)","v":""},null,null,null,{"$f":"IF(TRIM(CQ52)=\"\", \"\", IF(VLOOKUP(CQ52,'Footnotes list'!$D$9:$E$58,2,FALSE)=0,\"\",VLOOKUP(CQ52,'Footnotes list'!$D$9:$E$58,2,FALSE) ) )","v":""},{"$f":"IF(AND(TRIM(CS50)=\"\",TRIM(CS51)=\"\"),\"\",CS50+CS51)","v":""},null,null,null,{"$f":"IF(TRIM(CV52)=\"\", \"\", IF(VLOOKUP(CV52,'Footnotes list'!$D$9:$E$58,2,FALSE)=0,\"\",VLOOKUP(CV52,'Footnotes list'!$D$9:$E$58,2,FALSE) ) )","v":""},{"$f":"IF(AND(TRIM(CX50)=\"\",TRIM(CX51)=\"\"),\"\",CX50+CX51)","v":""},null,null,null,{"$f":"IF(TRIM(DA52)=\"\", \"\", IF(VLOOKUP(DA52,'Footnotes list'!$D$9:$E$58,2,FALSE)=0,\"\",VLOOKUP(DA52,'Footnotes list'!$D$9:$E$58,2,FALSE) ) )","v":""},{"$f":"IF(AND(TRIM(DC50)=\"\",TRIM(DC51)=\"\"),\"\",DC50+DC51)","v":""},null,null,null,{"$f":"IF(TRIM(DF52)=\"\", \"\", IF(VLOOKUP(DF52,'Footnotes list'!$D$9:$E$58,2,FALSE)=0,\"\",VLOOKUP(DF52,'Footnotes list'!$D$9:$E$58,2,FALSE) ) )","v":""},{"$f":"IF(AND(TRIM(DH50)=\"\", TRIM(DH51)=\"\"), \"\", SUM(DH50,DH51) )","v":""},null,null,null,{"$f":"IF(TRIM(DK52)=\"\", \"\", IF(VLOOKUP(DK52,'Footnotes list'!$D$9:$E$58,2,FALSE)=0,\"\",VLOOKUP(DK52,'Footnotes list'!$D$9:$E$58,2,FALSE) ) )","v":""}]
[null,"W076",null,"Textile wastes ",null,"Not applicable"]
[null,null,"W076",null,"NHAZ","Non-hazardous",null,null,null,null,{"$f":"IF(TRIM(J54)=\"\", \"\", IF(VLOOKUP(J54,'Footnotes list'!$D$9:$E$58,2,FALSE)=0,\"\",VLOOKUP(J54,'Footnotes list'!$D$9:$E$58,2,FALSE) ) )","v":""},null,null,null,null,{"$f":"IF(TRIM(O54)=\"\", \"\", IF(VLOOKUP(O54,'Footnotes list'!$D$9:$E$58,2,FALSE)=0,\"\",VLOOKUP(O54,'Footnotes list'!$D$9:$E$58,2,FALSE) ) )","v":""},null,null,null,null,{"$f":"IF(TRIM(T54)=\"\", \"\", IF(VLOOKUP(T54,'Footnotes list'!$D$9:$E$58,2,FALSE)=0,\"\",VLOOKUP(T54,'Footnotes list'!$D$9:$E$58,2,FALSE) ) )","v":""},null,null,null,null,{"$f":"IF(TRIM(Y54)=\"\", \"\", IF(VLOOKUP(Y54,'Footnotes list'!$D$9:$E$58,2,FALSE)=0,\"\",VLOOKUP(Y54,'Footnotes list'!$D$9:$E$58,2,FALSE) ) )","v":""},null,null,null,null,{"$f":"IF(TRIM(AD54)=\"\", \"\", IF(VLOOKUP(AD54,'Footnotes list'!$D$9:$E$58,2,FALSE)=0,\"\",VLOOKUP(AD54,'Footnotes list'!$D$9:$E$58,2,FALSE) ) )","v":""},null,null,null,null,{"$f":"IF(TRIM(AI54)=\"\", \"\", IF(VLOOKUP(AI54,'Footnotes list'!$D$9:$E$58,2,FALSE)=0,\"\",VLOOKUP(AI54,'Footnotes list'!$D$9:$E$58,2,FALSE) ) )","v":""},null,null,null,null,{"$f":"IF(TRIM(AN54)=\"\", \"\", IF(VLOOKUP(AN54,'Footnotes list'!$D$9:$E$58,2,FALSE)=0,\"\",VLOOKUP(AN54,'Footnotes list'!$D$9:$E$58,2,FALSE) ) )","v":""},null,null,null,null,{"$f":"IF(TRIM(AS54)=\"\", \"\", IF(VLOOKUP(AS54,'Footnotes list'!$D$9:$E$58,2,FALSE)=0,\"\",VLOOKUP(AS54,'Footnotes list'!$D$9:$E$58,2,FALSE) ) )","v":""},null,null,null,null,{"$f":"IF(TRIM(AX54)=\"\", \"\", IF(VLOOKUP(AX54,'Footnotes list'!$D$9:$E$58,2,FALSE)=0,\"\",VLOOKUP(AX54,'Footnotes list'!$D$9:$E$58,2,FALSE) ) )","v":""},null,null,null,null,{"$f":"IF(TRIM(BC54)=\"\", \"\", IF(VLOOKUP(BC54,'Footnotes list'!$D$9:$E$58,2,FALSE)=0,\"\",VLOOKUP(BC54,'Footnotes list'!$D$9:$E$58,2,FALSE) ) )","v":""},null,null,null,null,{"$f":"IF(TRIM(BH54)=\"\", \"\", IF(VLOOKUP(BH54,'Footnotes list'!$D$9:$E$58,2,FALSE)=0,\"\",VLOOKUP(BH54,'Footnotes list'!$D$9:$E$58,2,FALSE) ) )","v":""},null,null,null,null,{"$f":"IF(TRIM(BM54)=\"\", \"\", IF(VLOOKUP(BM54,'Footnotes list'!$D$9:$E$58,2,FALSE)=0,\"\",VLOOKUP(BM54,'Footnotes list'!$D$9:$E$58,2,FALSE) ) )","v":""},{"$f":"IF(AND(TRIM(Q54)=\"\",TRIM(V54)=\"\",TRIM(AA54)=\"\", TRIM(AF54)=\"\", TRIM(AK54)=\"\", TRIM(AP54)=\"\", TRIM(AU54)=\"\", TRIM(AZ54)=\"\", TRIM(BE54)=\"\", TRIM(BJ54)=\"\"),\"\",Q54+V54+AA54+AF54+AK54+AP54+AU54+AZ54+BE54+BJ54)","v":""},null,null,null,{"$f":"IF(TRIM(BR54)=\"\", \"\", IF(VLOOKUP(BR54,'Footnotes list'!$D$9:$E$58,2,FALSE)=0,\"\",VLOOKUP(BR54,'Footnotes list'!$D$9:$E$58,2,FALSE) ) )","v":""},null,null,null,null,{"$f":"IF(TRIM(BW54)=\"\", \"\", IF(VLOOKUP(BW54,'Footnotes list'!$D$9:$E$58,2,FALSE)=0,\"\",VLOOKUP(BW54,'Footnotes list'!$D$9:$E$58,2,FALSE) ) )","v":""},null,null,null,null,{"$f":"IF(TRIM(CB54)=\"\", \"\", IF(VLOOKUP(CB54,'Footnotes list'!$D$9:$E$58,2,FALSE)=0,\"\",VLOOKUP(CB54,'Footnotes list'!$D$9:$E$58,2,FALSE) ) )","v":""},null,null,null,null,{"$f":"IF(TRIM(CG54)=\"\", \"\", IF(VLOOKUP(CG54,'Footnotes list'!$D$9:$E$58,2,FALSE)=0,\"\",VLOOKUP(CG54,'Footnotes list'!$D$9:$E$58,2,FALSE) ) )","v":""},{"$f":"IF(AND(TRIM(BY54)=\"\",TRIM(CD54)=\"\"),\"\",BY54+CD54)","v":""},null,null,null,{"$f":"IF(TRIM(CL54)=\"\", \"\", IF(VLOOKUP(CL54,'Footnotes list'!$D$9:$E$58,2,FALSE)=0,\"\",VLOOKUP(CL54,'Footnotes list'!$D$9:$E$58,2,FALSE) ) )","v":""},null,null,null,null,{"$f":"IF(TRIM(CQ54)=\"\", \"\", IF(VLOOKUP(CQ54,'Footnotes list'!$D$9:$E$58,2,FALSE)=0,\"\",VLOOKUP(CQ54,'Footnotes list'!$D$9:$E$58,2,FALSE) ) )","v":""},null,null,null,null,{"$f":"IF(TRIM(CV54)=\"\", \"\", IF(VLOOKUP(CV54,'Footnotes list'!$D$9:$E$58,2,FALSE)=0,\"\",VLOOKUP(CV54,'Footnotes list'!$D$9:$E$58,2,FALSE) ) )","v":""},null,null,null,null,{"$f":"IF(TRIM(DA54)=\"\", \"\", IF(VLOOKUP(DA54,'Footnotes list'!$D$9:$E$58,2,FALSE)=0,\"\",VLOOKUP(DA54,'Footnotes list'!$D$9:$E$58,2,FALSE) ) )","v":""},null,null,null,null,{"$f":"IF(TRIM(DF54)=\"\", \"\", IF(VLOOKUP(DF54,'Footnotes list'!$D$9:$E$58,2,FALSE)=0,\"\",VLOOKUP(DF54,'Footnotes list'!$D$9:$E$58,2,FALSE) ) )","v":""},{"$f":"IF(AND(TRIM(G54)=\"\",TRIM(L54)=\"\",TRIM(BO54)=\"\",TRIM(BT54)=\"\",TRIM(CI54)=\"\",TRIM(CN54)=\"\",TRIM(CS54)=\"\",TRIM(CX54)=\"\",TRIM(DC54)=\"\"),\"\",SUM(G54,L54,BO54,BT54,CI54,CN54,CS54,CX54,DC54))","v":""},null,null,null,{"$f":"IF(TRIM(DK54)=\"\", \"\", IF(VLOOKUP(DK54,'Footnotes list'!$D$9:$E$58,2,FALSE)=0,\"\",VLOOKUP(DK54,'Footnotes list'!$D$9:$E$58,2,FALSE) ) )","v":""}]
[null,null,"W076",null,"HAZ_NHAZ","Total",{"$f":"IF(AND(TRIM(G53)=\"\",TRIM(G54)=\"\"),\"\",G53+G54)","v":""},null,null,null,{"$f":"IF(TRIM(J55)=\"\", \"\", IF(VLOOKUP(J55,'Footnotes list'!$D$9:$E$58,2,FALSE)=0,\"\",VLOOKUP(J55,'Footnotes list'!$D$9:$E$58,2,FALSE) ) )","v":""},{"$f":"IF(AND(TRIM(L53)=\"\",TRIM(L54)=\"\"),\"\",L53+L54)","v":""},null,null,null,{"$f":"IF(TRIM(O55)=\"\", \"\", IF(VLOOKUP(O55,'Footnotes list'!$D$9:$E$58,2,FALSE)=0,\"\",VLOOKUP(O55,'Footnotes list'!$D$9:$E$58,2,FALSE) ) )","v":""},{"$f":"IF(AND(TRIM(Q53)=\"\",TRIM(Q54)=\"\"),\"\",Q53+Q54)","v":""},null,null,null,{"$f":"IF(TRIM(T55)=\"\", \"\", IF(VLOOKUP(T55,'Footnotes list'!$D$9:$E$58,2,FALSE)=0,\"\",VLOOKUP(T55,'Footnotes list'!$D$9:$E$58,2,FALSE) ) )","v":""},{"$f":"IF(AND(TRIM(V53)=\"\",TRIM(V54)=\"\"),\"\",V53+V54)","v":""},null,null,null,{"$f":"IF(TRIM(Y55)=\"\", \"\", IF(VLOOKUP(Y55,'Footnotes list'!$D$9:$E$58,2,FALSE)=0,\"\",VLOOKUP(Y55,'Footnotes list'!$D$9:$E$58,2,FALSE) ) )","v":""},{"$f":"IF(AND(TRIM(AA53)=\"\",TRIM(AA54)=\"\"),\"\",AA53+AA54)","v":""},null,null,null,{"$f":"IF(TRIM(AD55)=\"\", \"\", IF(VLOOKUP(AD55,'Footnotes list'!$D$9:$E$58,2,FALSE)=0,\"\",VLOOKUP(AD55,'Footnotes list'!$D$9:$E$58,2,FALSE) ) )","v":""},{"$f":"IF(AND(TRIM(AF53)=\"\",TRIM(AF54)=\"\"),\"\",AF53+AF54)","v":""},null,null,null,{"$f":"IF(TRIM(AI55)=\"\", \"\", IF(VLOOKUP(AI55,'Footnotes list'!$D$9:$E$58,2,FALSE)=0,\"\",VLOOKUP(AI55,'Footnotes list'!$D$9:$E$58,2,FALSE) ) )","v":""},{"$f":"IF(AND(TRIM(AK53)=\"\",TRIM(AK54)=\"\"),\"\",AK53+AK54)","v":""},null,null,null,{"$f":"IF(TRIM(AN55)=\"\", \"\", IF(VLOOKUP(AN55,'Footnotes list'!$D$9:$E$58,2,FALSE)=0,\"\",VLOOKUP(AN55,'Footnotes list'!$D$9:$E$58,2,FALSE) ) )","v":""},{"$f":"IF(AND(TRIM(AP53)=\"\",TRIM(AP54)=\"\"),\"\",AP53+AP54)","v":""},null,null,null,{"$f":"IF(TRIM(AS55)=\"\", \"\", IF(VLOOKUP(AS55,'Footnotes list'!$D$9:$E$58,2,FALSE)=0,\"\",VLOOKUP(AS55,'Footnotes list'!$D$9:$E$58,2,FALSE) ) )","v":""},{"$f":"IF(AND(TRIM(AU53)=\"\",TRIM(AU54)=\"\"),\"\",AU53+AU54)","v":""},null,null,null,{"$f":"IF(TRIM(AX55)=\"\", \"\", IF(VLOOKUP(AX55,'Footnotes list'!$D$9:$E$58,2,FALSE)=0,\"\",VLOOKUP(AX55,'Footnotes list'!$D$9:$E$58,2,FALSE) ) )","v":""},{"$f":"IF(AND(TRIM(AZ53)=\"\",TRIM(AZ54)=\"\"),\"\",AZ53+AZ54)","v":""},null,null,null,{"$f":"IF(TRIM(BC55)=\"\", \"\", IF(VLOOKUP(BC55,'Footnotes list'!$D$9:$E$58,2,FALSE)=0,\"\",VLOOKUP(BC55,'Footnotes list'!$D$9:$E$58,2,FALSE) ) )","v":""},{"$f":"IF(AND(TRIM(BE53)=\"\",TRIM(BE54)=\"\"),\"\",BE53+BE54)","v":""},null,null,null,{"$f":"IF(TRIM(BH55)=\"\", \"\", IF(VLOOKUP(BH55,'Footnotes list'!$D$9:$E$58,2,FALSE)=0,\"\",VLOOKUP(BH55,'Footnotes list'!$D$9:$E$58,2,FALSE) ) )","v":""},{"$f":"IF(AND(TRIM(BJ53)=\"\",TRIM(BJ54)=\"\"),\"\",BJ53+BJ54)","v":""},null,null,null,{"$f":"IF(TRIM(BM55)=\"\", \"\", IF(VLOOKUP(BM55,'Footnotes list'!$D$9:$E$58,2,FALSE)=0,\"\",VLOOKUP(BM55,'Footnotes list'!$D$9:$E$58,2,FALSE) ) )","v":""},{"$f":"IF(AND(TRIM(BO53)=\"\", TRIM(BO54)=\"\"), \"\", (IF(ISNUMBER(BO53),BO53,0)+IF(ISNUMBER(BO54),BO54,0)))","v":""},null,null,null,{"$f":"IF(TRIM(BR55)=\"\", \"\", IF(VLOOKUP(BR55,'Footnotes list'!$D$9:$E$58,2,FALSE)=0,\"\",VLOOKUP(BR55,'Footnotes list'!$D$9:$E$58,2,FALSE) ) )","v":""},{"$f":"IF(AND(TRIM(BT53)=\"\",TRIM(BT54)=\"\"),\"\",BT53+BT54)","v":""},null,null,null,{"$f":"IF(TRIM(BW55)=\"\", \"\", IF(VLOOKUP(BW55,'Footnotes list'!$D$9:$E$58,2,FALSE)=0,\"\",VLOOKUP(BW55,'Footnotes list'!$D$9:$E$58,2,FALSE) ) )","v":""},{"$f":"IF(AND(TRIM(BY53)=\"\",TRIM(BY54)=\"\"),\"\",BY53+BY54)","v":""},null,null,null,{"$f":"IF(TRIM(CB55)=\"\", \"\", IF(VLOOKUP(CB55,'Footnotes list'!$D$9:$E$58,2,FALSE)=0,\"\",VLOOKUP(CB55,'Footnotes list'!$D$9:$E$58,2,FALSE) ) )","v":""},{"$f":"IF(AND(TRIM(CD53)=\"\",TRIM(CD54)=\"\"),\"\",CD53+CD54)","v":""},null,null,null,{"$f":"IF(TRIM(CG55)=\"\", \"\", IF(VLOOKUP(CG55,'Footnotes list'!$D$9:$E$58,2,FALSE)=0,\"\",VLOOKUP(CG55,'Footnotes list'!$D$9:$E$58,2,FALSE) ) )","v":""},{"$f":"IF(AND(TRIM(CI53)=\"\", TRIM(CI54)=\"\"), \"\", (IF(ISNUMBER(CI53),CI53,0)+IF(ISNUMBER(CI54),CI54,0)))","v":""},null,null,null,{"$f":"IF(TRIM(CL55)=\"\", \"\", IF(VLOOKUP(CL55,'Footnotes list'!$D$9:$E$58,2,FALSE)=0,\"\",VLOOKUP(CL55,'Footnotes list'!$D$9:$E$58,2,FALSE) ) )","v":""},{"$f":"IF(AND(TRIM(CN53)=\"\",TRIM(CN54)=\"\"),\"\",CN53+CN54)","v":""},null,null,null,{"$f":"IF(TRIM(CQ55)=\"\", \"\", IF(VLOOKUP(CQ55,'Footnotes list'!$D$9:$E$58,2,FALSE)=0,\"\",VLOOKUP(CQ55,'Footnotes list'!$D$9:$E$58,2,FALSE) ) )","v":""},{"$f":"IF(AND(TRIM(CS53)=\"\",TRIM(CS54)=\"\"),\"\",CS53+CS54)","v":""},null,null,null,{"$f":"IF(TRIM(CV55)=\"\", \"\", IF(VLOOKUP(CV55,'Footnotes list'!$D$9:$E$58,2,FALSE)=0,\"\",VLOOKUP(CV55,'Footnotes list'!$D$9:$E$58,2,FALSE) ) )","v":""},{"$f":"IF(AND(TRIM(CX53)=\"\",TRIM(CX54)=\"\"),\"\",CX53+CX54)","v":""},null,null,null,{"$f":"IF(TRIM(DA55)=\"\", \"\", IF(VLOOKUP(DA55,'Footnotes list'!$D$9:$E$58,2,FALSE)=0,\"\",VLOOKUP(DA55,'Footnotes list'!$D$9:$E$58,2,FALSE) ) )","v":""},{"$f":"IF(AND(TRIM(DC53)=\"\",TRIM(DC54)=\"\"),\"\",DC53+DC54)","v":""},null,null,null,{"$f":"IF(TRIM(DF55)=\"\", \"\", IF(VLOOKUP(DF55,'Footnotes list'!$D$9:$E$58,2,FALSE)=0,\"\",VLOOKUP(DF55,'Footnotes list'!$D$9:$E$58,2,FALSE) ) )","v":""},{"$f":"IF(AND(TRIM(DH53)=\"\", TRIM(DH54)=\"\"), \"\", SUM(DH53,DH54) )","v":""},null,null,null,{"$f":"IF(TRIM(DK55)=\"\", \"\", IF(VLOOKUP(DK55,'Footnotes list'!$D$9:$E$58,2,FALSE)=0,\"\",VLOOKUP(DK55,'Footnotes list'!$D$9:$E$58,2,FALSE) ) )","v":""}]
[null,"W077","W077","Waste containing PCB ","HAZ","Hazardous ",null,null,null,null,{"$f":"IF(TRIM(J56)=\"\", \"\", IF(VLOOKUP(J56,'Footnotes list'!$D$9:$E$58,2,FALSE)=0,\"\",VLOOKUP(J56,'Footnotes list'!$D$9:$E$58,2,FALSE) ) )","v":""},null,null,null,null,{"$f":"IF(TRIM(O56)=\"\", \"\", IF(VLOOKUP(O56,'Footnotes list'!$D$9:$E$58,2,FALSE)=0,\"\",VLOOKUP(O56,'Footnotes list'!$D$9:$E$58,2,FALSE) ) )","v":""},null,null,null,null,{"$f":"IF(TRIM(T56)=\"\", \"\", IF(VLOOKUP(T56,'Footnotes list'!$D$9:$E$58,2,FALSE)=0,\"\",VLOOKUP(T56,'Footnotes list'!$D$9:$E$58,2,FALSE) ) )","v":""},null,null,null,null,{"$f":"IF(TRIM(Y56)=\"\", \"\", IF(VLOOKUP(Y56,'Footnotes list'!$D$9:$E$58,2,FALSE)=0,\"\",VLOOKUP(Y56,'Footnotes list'!$D$9:$E$58,2,FALSE) ) )","v":""},null,null,null,null,{"$f":"IF(TRIM(AD56)=\"\", \"\", IF(VLOOKUP(AD56,'Footnotes list'!$D$9:$E$58,2,FALSE)=0,\"\",VLOOKUP(AD56,'Footnotes list'!$D$9:$E$58,2,FALSE) ) )","v":""},null,null,null,null,{"$f":"IF(TRIM(AI56)=\"\", \"\", IF(VLOOKUP(AI56,'Footnotes list'!$D$9:$E$58,2,FALSE)=0,\"\",VLOOKUP(AI56,'Footnotes list'!$D$9:$E$58,2,FALSE) ) )","v":""},null,null,null,null,{"$f":"IF(TRIM(AN56)=\"\", \"\", IF(VLOOKUP(AN56,'Footnotes list'!$D$9:$E$58,2,FALSE)=0,\"\",VLOOKUP(AN56,'Footnotes list'!$D$9:$E$58,2,FALSE) ) )","v":""},null,null,null,null,{"$f":"IF(TRIM(AS56)=\"\", \"\", IF(VLOOKUP(AS56,'Footnotes list'!$D$9:$E$58,2,FALSE)=0,\"\",VLOOKUP(AS56,'Footnotes list'!$D$9:$E$58,2,FALSE) ) )","v":""},null,null,null,null,{"$f":"IF(TRIM(AX56)=\"\", \"\", IF(VLOOKUP(AX56,'Footnotes list'!$D$9:$E$58,2,FALSE)=0,\"\",VLOOKUP(AX56,'Footnotes list'!$D$9:$E$58,2,FALSE) ) )","v":""},null,null,null,null,{"$f":"IF(TRIM(BC56)=\"\", \"\", IF(VLOOKUP(BC56,'Footnotes list'!$D$9:$E$58,2,FALSE)=0,\"\",VLOOKUP(BC56,'Footnotes list'!$D$9:$E$58,2,FALSE) ) )","v":""},null,null,null,null,{"$f":"IF(TRIM(BH56)=\"\", \"\", IF(VLOOKUP(BH56,'Footnotes list'!$D$9:$E$58,2,FALSE)=0,\"\",VLOOKUP(BH56,'Footnotes list'!$D$9:$E$58,2,FALSE) ) )","v":""},null,null,null,null,{"$f":"IF(TRIM(BM56)=\"\", \"\", IF(VLOOKUP(BM56,'Footnotes list'!$D$9:$E$58,2,FALSE)=0,\"\",VLOOKUP(BM56,'Footnotes list'!$D$9:$E$58,2,FALSE) ) )","v":""},{"$f":"IF(AND(TRIM(Q56)=\"\",TRIM(V56)=\"\",TRIM(AA56)=\"\", TRIM(AF56)=\"\", TRIM(AK56)=\"\", TRIM(AP56)=\"\", TRIM(AU56)=\"\", TRIM(AZ56)=\"\", TRIM(BE56)=\"\", TRIM(BJ56)=\"\"),\"\",Q56+V56+AA56+AF56+AK56+AP56+AU56+AZ56+BE56+BJ56)","v":""},null,null,null,{"$f":"IF(TRIM(BR56)=\"\", \"\", IF(VLOOKUP(BR56,'Footnotes list'!$D$9:$E$58,2,FALSE)=0,\"\",VLOOKUP(BR56,'Footnotes list'!$D$9:$E$58,2,FALSE) ) )","v":""},null,null,null,null,{"$f":"IF(TRIM(BW56)=\"\", \"\", IF(VLOOKUP(BW56,'Footnotes list'!$D$9:$E$58,2,FALSE)=0,\"\",VLOOKUP(BW56,'Footnotes list'!$D$9:$E$58,2,FALSE) ) )","v":""},null,null,null,null,{"$f":"IF(TRIM(CB56)=\"\", \"\", IF(VLOOKUP(CB56,'Footnotes list'!$D$9:$E$58,2,FALSE)=0,\"\",VLOOKUP(CB56,'Footnotes list'!$D$9:$E$58,2,FALSE) ) )","v":""},null,null,null,null,{"$f":"IF(TRIM(CG56)=\"\", \"\", IF(VLOOKUP(CG56,'Footnotes list'!$D$9:$E$58,2,FALSE)=0,\"\",VLOOKUP(CG56,'Footnotes list'!$D$9:$E$58,2,FALSE) ) )","v":""},{"$f":"IF(AND(TRIM(BY56)=\"\",TRIM(CD56)=\"\"),\"\",BY56+CD56)","v":""},null,null,null,{"$f":"IF(TRIM(CL56)=\"\", \"\", IF(VLOOKUP(CL56,'Footnotes list'!$D$9:$E$58,2,FALSE)=0,\"\",VLOOKUP(CL56,'Footnotes list'!$D$9:$E$58,2,FALSE) ) )","v":""},null,null,null,null,{"$f":"IF(TRIM(CQ56)=\"\", \"\", IF(VLOOKUP(CQ56,'Footnotes list'!$D$9:$E$58,2,FALSE)=0,\"\",VLOOKUP(CQ56,'Footnotes list'!$D$9:$E$58,2,FALSE) ) )","v":""},null,null,null,null,{"$f":"IF(TRIM(CV56)=\"\", \"\", IF(VLOOKUP(CV56,'Footnotes list'!$D$9:$E$58,2,FALSE)=0,\"\",VLOOKUP(CV56,'Footnotes list'!$D$9:$E$58,2,FALSE) ) )","v":""},null,null,null,null,{"$f":"IF(TRIM(DA56)=\"\", \"\", IF(VLOOKUP(DA56,'Footnotes list'!$D$9:$E$58,2,FALSE)=0,\"\",VLOOKUP(DA56,'Footnotes list'!$D$9:$E$58,2,FALSE) ) )","v":""},null,null,null,null,{"$f":"IF(TRIM(DF56)=\"\", \"\", IF(VLOOKUP(DF56,'Footnotes list'!$D$9:$E$58,2,FALSE)=0,\"\",VLOOKUP(DF56,'Footnotes list'!$D$9:$E$58,2,FALSE) ) )","v":""},{"$f":"IF(AND(TRIM(G56)=\"\",TRIM(L56)=\"\",TRIM(BO56)=\"\",TRIM(BT56)=\"\",TRIM(CI56)=\"\",TRIM(CN56)=\"\",TRIM(CS56)=\"\",TRIM(CX56)=\"\",TRIM(DC56)=\"\"),\"\",SUM(G56,L56,BO56,BT56,CI56,CN56,CS56,CX56,DC56))","v":""},null,null,null,{"$f":"IF(TRIM(DK56)=\"\", \"\", IF(VLOOKUP(DK56,'Footnotes list'!$D$9:$E$58,2,FALSE)=0,\"\",VLOOKUP(DK56,'Footnotes list'!$D$9:$E$58,2,FALSE) ) )","v":""}]
[null,null,null,null,null,"Not applicable"]
[null,null,"W077",null,"HAZ_NHAZ","Total",{"$f":"IF(AND(TRIM(G56)=\"\",TRIM(G57)=\"\"),\"\",G56+G57)","v":""},null,null,null,{"$f":"IF(TRIM(J58)=\"\", \"\", IF(VLOOKUP(J58,'Footnotes list'!$D$9:$E$58,2,FALSE)=0,\"\",VLOOKUP(J58,'Footnotes list'!$D$9:$E$58,2,FALSE) ) )","v":""},{"$f":"IF(AND(TRIM(L56)=\"\",TRIM(L57)=\"\"),\"\",L56+L57)","v":""},null,null,null,{"$f":"IF(TRIM(O58)=\"\", \"\", IF(VLOOKUP(O58,'Footnotes list'!$D$9:$E$58,2,FALSE)=0,\"\",VLOOKUP(O58,'Footnotes list'!$D$9:$E$58,2,FALSE) ) )","v":""},{"$f":"IF(AND(TRIM(Q56)=\"\",TRIM(Q57)=\"\"),\"\",Q56+Q57)","v":""},null,null,null,{"$f":"IF(TRIM(T58)=\"\", \"\", IF(VLOOKUP(T58,'Footnotes list'!$D$9:$E$58,2,FALSE)=0,\"\",VLOOKUP(T58,'Footnotes list'!$D$9:$E$58,2,FALSE) ) )","v":""},{"$f":"IF(AND(TRIM(V56)=\"\",TRIM(V57)=\"\"),\"\",V56+V57)","v":""},null,null,null,{"$f":"IF(TRIM(Y58)=\"\", \"\", IF(VLOOKUP(Y58,'Footnotes list'!$D$9:$E$58,2,FALSE)=0,\"\",VLOOKUP(Y58,'Footnotes list'!$D$9:$E$58,2,FALSE) ) )","v":""},{"$f":"IF(AND(TRIM(AA56)=\"\",TRIM(AA57)=\"\"),\"\",AA56+AA57)","v":""},null,null,null,{"$f":"IF(TRIM(AD58)=\"\", \"\", IF(VLOOKUP(AD58,'Footnotes list'!$D$9:$E$58,2,FALSE)=0,\"\",VLOOKUP(AD58,'Footnotes list'!$D$9:$E$58,2,FALSE) ) )","v":""},{"$f":"IF(AND(TRIM(AF56)=\"\",TRIM(AF57)=\"\"),\"\",AF56+AF57)","v":""},null,null,null,{"$f":"IF(TRIM(AI58)=\"\", \"\", IF(VLOOKUP(AI58,'Footnotes list'!$D$9:$E$58,2,FALSE)=0,\"\",VLOOKUP(AI58,'Footnotes list'!$D$9:$E$58,2,FALSE) ) )","v":""},{"$f":"IF(AND(TRIM(AK56)=\"\",TRIM(AK57)=\"\"),\"\",AK56+AK57)","v":""},null,null,null,{"$f":"IF(TRIM(AN58)=\"\", \"\", IF(VLOOKUP(AN58,'Footnotes list'!$D$9:$E$58,2,FALSE)=0,\"\",VLOOKUP(AN58,'Footnotes list'!$D$9:$E$58,2,FALSE) ) )","v":""},{"$f":"IF(AND(TRIM(AP56)=\"\",TRIM(AP57)=\"\"),\"\",AP56+AP57)","v":""},null,null,null,{"$f":"IF(TRIM(AS58)=\"\", \"\", IF(VLOOKUP(AS58,'Footnotes list'!$D$9:$E$58,2,FALSE)=0,\"\",VLOOKUP(AS58,'Footnotes list'!$D$9:$E$58,2,FALSE) ) )","v":""},{"$f":"IF(AND(TRIM(AU56)=\"\",TRIM(AU57)=\"\"),\"\",AU56+AU57)","v":""},null,null,null,{"$f":"IF(TRIM(AX58)=\"\", \"\", IF(VLOOKUP(AX58,'Footnotes list'!$D$9:$E$58,2,FALSE)=0,\"\",VLOOKUP(AX58,'Footnotes list'!$D$9:$E$58,2,FALSE) ) )","v":""},{"$f":"IF(AND(TRIM(AZ56)=\"\",TRIM(AZ57)=\"\"),\"\",AZ56+AZ57)","v":""},null,null,null,{"$f":"IF(TRIM(BC58)=\"\", \"\", IF(VLOOKUP(BC58,'Footnotes list'!$D$9:$E$58,2,FALSE)=0,\"\",VLOOKUP(BC58,'Footnotes list'!$D$9:$E$58,2,FALSE) ) )","v":""},{"$f":"IF(AND(TRIM(BE56)=\"\",TRIM(BE57)=\"\"),\"\",BE56+BE57)","v":""},null,null,null,{"$f":"IF(TRIM(BH58)=\"\", \"\", IF(VLOOKUP(BH58,'Footnotes list'!$D$9:$E$58,2,FALSE)=0,\"\",VLOOKUP(BH58,'Footnotes list'!$D$9:$E$58,2,FALSE) ) )","v":""},{"$f":"IF(AND(TRIM(BJ56)=\"\",TRIM(BJ57)=\"\"),\"\",BJ56+BJ57)","v":""},null,null,null,{"$f":"IF(TRIM(BM58)=\"\", \"\", IF(VLOOKUP(BM58,'Footnotes list'!$D$9:$E$58,2,FALSE)=0,\"\",VLOOKUP(BM58,'Footnotes list'!$D$9:$E$58,2,FALSE) ) )","v":""},{"$f":"IF(AND(TRIM(BO56)=\"\", TRIM(BO57)=\"\"), \"\", (IF(ISNUMBER(BO56),BO56,0)+IF(ISNUMBER(BO57),BO57,0)))","v":""},null,null,null,{"$f":"IF(TRIM(BR58)=\"\", \"\", IF(VLOOKUP(BR58,'Footnotes list'!$D$9:$E$58,2,FALSE)=0,\"\",VLOOKUP(BR58,'Footnotes list'!$D$9:$E$58,2,FALSE) ) )","v":""},{"$f":"IF(AND(TRIM(BT56)=\"\",TRIM(BT57)=\"\"),\"\",BT56+BT57)","v":""},null,null,null,{"$f":"IF(TRIM(BW58)=\"\", \"\", IF(VLOOKUP(BW58,'Footnotes list'!$D$9:$E$58,2,FALSE)=0,\"\",VLOOKUP(BW58,'Footnotes list'!$D$9:$E$58,2,FALSE) ) )","v":""},{"$f":"IF(AND(TRIM(BY56)=\"\",TRIM(BY57)=\"\"),\"\",BY56+BY57)","v":""},null,null,null,{"$f":"IF(TRIM(CB58)=\"\", \"\", IF(VLOOKUP(CB58,'Footnotes list'!$D$9:$E$58,2,FALSE)=0,\"\",VLOOKUP(CB58,'Footnotes list'!$D$9:$E$58,2,FALSE) ) )","v":""},{"$f":"IF(AND(TRIM(CD56)=\"\",TRIM(CD57)=\"\"),\"\",CD56+CD57)","v":""},null,null,null,{"$f":"IF(TRIM(CG58)=\"\", \"\", IF(VLOOKUP(CG58,'Footnotes list'!$D$9:$E$58,2,FALSE)=0,\"\",VLOOKUP(CG58,'Footnotes list'!$D$9:$E$58,2,FALSE) ) )","v":""},{"$f":"IF(AND(TRIM(CI56)=\"\", TRIM(CI57)=\"\"), \"\", (IF(ISNUMBER(CI56),CI56,0)+IF(ISNUMBER(CI57),CI57,0)))","v":""},null,null,null,{"$f":"IF(TRIM(CL58)=\"\", \"\", IF(VLOOKUP(CL58,'Footnotes list'!$D$9:$E$58,2,FALSE)=0,\"\",VLOOKUP(CL58,'Footnotes list'!$D$9:$E$58,2,FALSE) ) )","v":""},{"$f":"IF(AND(TRIM(CN56)=\"\",TRIM(CN57)=\"\"),\"\",CN56+CN57)","v":""},null,null,null,{"$f":"IF(TRIM(CQ58)=\"\", \"\", IF(VLOOKUP(CQ58,'Footnotes list'!$D$9:$E$58,2,FALSE)=0,\"\",VLOOKUP(CQ58,'Footnotes list'!$D$9:$E$58,2,FALSE) ) )","v":""},{"$f":"IF(AND(TRIM(CS56)=\"\",TRIM(CS57)=\"\"),\"\",CS56+CS57)","v":""},null,null,null,{"$f":"IF(TRIM(CV58)=\"\", \"\", IF(VLOOKUP(CV58,'Footnotes list'!$D$9:$E$58,2,FALSE)=0,\"\",VLOOKUP(CV58,'Footnotes list'!$D$9:$E$58,2,FALSE) ) )","v":""},{"$f":"IF(AND(TRIM(CX56)=\"\",TRIM(CX57)=\"\"),\"\",CX56+CX57)","v":""},null,null,null,{"$f":"IF(TRIM(DA58)=\"\", \"\", IF(VLOOKUP(DA58,'Footnotes list'!$D$9:$E$58,2,FALSE)=0,\"\",VLOOKUP(DA58,'Footnotes list'!$D$9:$E$58,2,FALSE) ) )","v":""},{"$f":"IF(AND(TRIM(DC56)=\"\",TRIM(DC57)=\"\"),\"\",DC56+DC57)","v":""},null,null,null,{"$f":"IF(TRIM(DF58)=\"\", \"\", IF(VLOOKUP(DF58,'Footnotes list'!$D$9:$E$58,2,FALSE)=0,\"\",VLOOKUP(DF58,'Footnotes list'!$D$9:$E$58,2,FALSE) ) )","v":""},{"$f":"IF(AND(TRIM(DH56)=\"\", TRIM(DH57)=\"\"), \"\", SUM(DH56,DH57) )","v":""},null,null,null,{"$f":"IF(TRIM(DK58)=\"\", \"\", IF(VLOOKUP(DK58,'Footnotes list'!$D$9:$E$58,2,FALSE)=0,\"\",VLOOKUP(DK58,'Footnotes list'!$D$9:$E$58,2,FALSE) ) )","v":""}]
[null,"W08A","W08A","Discarded equipment (except discarded vehicles and batteries and accumulators waste) (W08 except W081, W0841)","HAZ","Hazardous ",null,null,null,null,{"$f":"IF(TRIM(J59)=\"\", \"\", IF(VLOOKUP(J59,'Footnotes list'!$D$9:$E$58,2,FALSE)=0,\"\",VLOOKUP(J59,'Footnotes list'!$D$9:$E$58,2,FALSE) ) )","v":""},null,null,null,null,{"$f":"IF(TRIM(O59)=\"\", \"\", IF(VLOOKUP(O59,'Footnotes list'!$D$9:$E$58,2,FALSE)=0,\"\",VLOOKUP(O59,'Footnotes list'!$D$9:$E$58,2,FALSE) ) )","v":""},null,null,null,null,{"$f":"IF(TRIM(T59)=\"\", \"\", IF(VLOOKUP(T59,'Footnotes list'!$D$9:$E$58,2,FALSE)=0,\"\",VLOOKUP(T59,'Footnotes list'!$D$9:$E$58,2,FALSE) ) )","v":""},null,null,null,null,{"$f":"IF(TRIM(Y59)=\"\", \"\", IF(VLOOKUP(Y59,'Footnotes list'!$D$9:$E$58,2,FALSE)=0,\"\",VLOOKUP(Y59,'Footnotes list'!$D$9:$E$58,2,FALSE) ) )","v":""},null,null,null,null,{"$f":"IF(TRIM(AD59)=\"\", \"\", IF(VLOOKUP(AD59,'Footnotes list'!$D$9:$E$58,2,FALSE)=0,\"\",VLOOKUP(AD59,'Footnotes list'!$D$9:$E$58,2,FALSE) ) )","v":""},null,null,null,null,{"$f":"IF(TRIM(AI59)=\"\", \"\", IF(VLOOKUP(AI59,'Footnotes list'!$D$9:$E$58,2,FALSE)=0,\"\",VLOOKUP(AI59,'Footnotes list'!$D$9:$E$58,2,FALSE) ) )","v":""},null,null,null,null,{"$f":"IF(TRIM(AN59)=\"\", \"\", IF(VLOOKUP(AN59,'Footnotes list'!$D$9:$E$58,2,FALSE)=0,\"\",VLOOKUP(AN59,'Footnotes list'!$D$9:$E$58,2,FALSE) ) )","v":""},null,null,null,null,{"$f":"IF(TRIM(AS59)=\"\", \"\", IF(VLOOKUP(AS59,'Footnotes list'!$D$9:$E$58,2,FALSE)=0,\"\",VLOOKUP(AS59,'Footnotes list'!$D$9:$E$58,2,FALSE) ) )","v":""},null,null,null,null,{"$f":"IF(TRIM(AX59)=\"\", \"\", IF(VLOOKUP(AX59,'Footnotes list'!$D$9:$E$58,2,FALSE)=0,\"\",VLOOKUP(AX59,'Footnotes list'!$D$9:$E$58,2,FALSE) ) )","v":""},null,null,null,null,{"$f":"IF(TRIM(BC59)=\"\", \"\", IF(VLOOKUP(BC59,'Footnotes list'!$D$9:$E$58,2,FALSE)=0,\"\",VLOOKUP(BC59,'Footnotes list'!$D$9:$E$58,2,FALSE) ) )","v":""},null,null,null,null,{"$f":"IF(TRIM(BH59)=\"\", \"\", IF(VLOOKUP(BH59,'Footnotes list'!$D$9:$E$58,2,FALSE)=0,\"\",VLOOKUP(BH59,'Footnotes list'!$D$9:$E$58,2,FALSE) ) )","v":""},null,null,null,null,{"$f":"IF(TRIM(BM59)=\"\", \"\", IF(VLOOKUP(BM59,'Footnotes list'!$D$9:$E$58,2,FALSE)=0,\"\",VLOOKUP(BM59,'Footnotes list'!$D$9:$E$58,2,FALSE) ) )","v":""},{"$f":"IF(AND(TRIM(Q59)=\"\",TRIM(V59)=\"\",TRIM(AA59)=\"\", TRIM(AF59)=\"\", TRIM(AK59)=\"\", TRIM(AP59)=\"\", TRIM(AU59)=\"\", TRIM(AZ59)=\"\", TRIM(BE59)=\"\", TRIM(BJ59)=\"\"),\"\",Q59+V59+AA59+AF59+AK59+AP59+AU59+AZ59+BE59+BJ59)","v":""},null,null,null,{"$f":"IF(TRIM(BR59)=\"\", \"\", IF(VLOOKUP(BR59,'Footnotes list'!$D$9:$E$58,2,FALSE)=0,\"\",VLOOKUP(BR59,'Footnotes list'!$D$9:$E$58,2,FALSE) ) )","v":""},null,null,null,null,{"$f":"IF(TRIM(BW59)=\"\", \"\", IF(VLOOKUP(BW59,'Footnotes list'!$D$9:$E$58,2,FALSE)=0,\"\",VLOOKUP(BW59,'Footnotes list'!$D$9:$E$58,2,FALSE) ) )","v":""},null,null,null,null,{"$f":"IF(TRIM(CB59)=\"\", \"\", IF(VLOOKUP(CB59,'Footnotes list'!$D$9:$E$58,2,FALSE)=0,\"\",VLOOKUP(CB59,'Footnotes list'!$D$9:$E$58,2,FALSE) ) )","v":""},null,null,null,null,{"$f":"IF(TRIM(CG59)=\"\", \"\", IF(VLOOKUP(CG59,'Footnotes list'!$D$9:$E$58,2,FALSE)=0,\"\",VLOOKUP(CG59,'Footnotes list'!$D$9:$E$58,2,FALSE) ) )","v":""},{"$f":"IF(AND(TRIM(BY59)=\"\",TRIM(CD59)=\"\"),\"\",BY59+CD59)","v":""},null,null,null,{"$f":"IF(TRIM(CL59)=\"\", \"\", IF(VLOOKUP(CL59,'Footnotes list'!$D$9:$E$58,2,FALSE)=0,\"\",VLOOKUP(CL59,'Footnotes list'!$D$9:$E$58,2,FALSE) ) )","v":""},null,null,null,null,{"$f":"IF(TRIM(CQ59)=\"\", \"\", IF(VLOOKUP(CQ59,'Footnotes list'!$D$9:$E$58,2,FALSE)=0,\"\",VLOOKUP(CQ59,'Footnotes list'!$D$9:$E$58,2,FALSE) ) )","v":""},null,null,null,null,{"$f":"IF(TRIM(CV59)=\"\", \"\", IF(VLOOKUP(CV59,'Footnotes list'!$D$9:$E$58,2,FALSE)=0,\"\",VLOOKUP(CV59,'Footnotes list'!$D$9:$E$58,2,FALSE) ) )","v":""},null,null,null,null,{"$f":"IF(TRIM(DA59)=\"\", \"\", IF(VLOOKUP(DA59,'Footnotes list'!$D$9:$E$58,2,FALSE)=0,\"\",VLOOKUP(DA59,'Footnotes list'!$D$9:$E$58,2,FALSE) ) )","v":""},null,null,null,null,{"$f":"IF(TRIM(DF59)=\"\", \"\", IF(VLOOKUP(DF59,'Footnotes list'!$D$9:$E$58,2,FALSE)=0,\"\",VLOOKUP(DF59,'Footnotes list'!$D$9:$E$58,2,FALSE) ) )","v":""},{"$f":"IF(AND(TRIM(G59)=\"\",TRIM(L59)=\"\",TRIM(BO59)=\"\",TRIM(BT59)=\"\",TRIM(CI59)=\"\",TRIM(CN59)=\"\",TRIM(CS59)=\"\",TRIM(CX59)=\"\",TRIM(DC59)=\"\"),\"\",SUM(G59,L59,BO59,BT59,CI59,CN59,CS59,CX59,DC59))","v":""},null,null,null,{"$f":"IF(TRIM(DK59)=\"\", \"\", IF(VLOOKUP(DK59,'Footnotes list'!$D$9:$E$58,2,FALSE)=0,\"\",VLOOKUP(DK59,'Footnotes list'!$D$9:$E$58,2,FALSE) ) )","v":""}]
[null,null,"W08A",null,"NHAZ","Non-hazardous",null,null,null,null,{"$f":"IF(TRIM(J60)=\"\", \"\", IF(VLOOKUP(J60,'Footnotes list'!$D$9:$E$58,2,FALSE)=0,\"\",VLOOKUP(J60,'Footnotes list'!$D$9:$E$58,2,FALSE) ) )","v":""},null,null,null,null,{"$f":"IF(TRIM(O60)=\"\", \"\", IF(VLOOKUP(O60,'Footnotes list'!$D$9:$E$58,2,FALSE)=0,\"\",VLOOKUP(O60,'Footnotes list'!$D$9:$E$58,2,FALSE) ) )","v":""},null,null,null,null,{"$f":"IF(TRIM(T60)=\"\", \"\", IF(VLOOKUP(T60,'Footnotes list'!$D$9:$E$58,2,FALSE)=0,\"\",VLOOKUP(T60,'Footnotes list'!$D$9:$E$58,2,FALSE) ) )","v":""},null,null,null,null,{"$f":"IF(TRIM(Y60)=\"\", \"\", IF(VLOOKUP(Y60,'Footnotes list'!$D$9:$E$58,2,FALSE)=0,\"\",VLOOKUP(Y60,'Footnotes list'!$D$9:$E$58,2,FALSE) ) )","v":""},null,null,null,null,{"$f":"IF(TRIM(AD60)=\"\", \"\", IF(VLOOKUP(AD60,'Footnotes list'!$D$9:$E$58,2,FALSE)=0,\"\",VLOOKUP(AD60,'Footnotes list'!$D$9:$E$58,2,FALSE) ) )","v":""},null,null,null,null,{"$f":"IF(TRIM(AI60)=\"\", \"\", IF(VLOOKUP(AI60,'Footnotes list'!$D$9:$E$58,2,FALSE)=0,\"\",VLOOKUP(AI60,'Footnotes list'!$D$9:$E$58,2,FALSE) ) )","v":""},null,null,null,null,{"$f":"IF(TRIM(AN60)=\"\", \"\", IF(VLOOKUP(AN60,'Footnotes list'!$D$9:$E$58,2,FALSE)=0,\"\",VLOOKUP(AN60,'Footnotes list'!$D$9:$E$58,2,FALSE) ) )","v":""},null,null,null,null,{"$f":"IF(TRIM(AS60)=\"\", \"\", IF(VLOOKUP(AS60,'Footnotes list'!$D$9:$E$58,2,FALSE)=0,\"\",VLOOKUP(AS60,'Footnotes list'!$D$9:$E$58,2,FALSE) ) )","v":""},null,null,null,null,{"$f":"IF(TRIM(AX60)=\"\", \"\", IF(VLOOKUP(AX60,'Footnotes list'!$D$9:$E$58,2,FALSE)=0,\"\",VLOOKUP(AX60,'Footnotes list'!$D$9:$E$58,2,FALSE) ) )","v":""},null,null,null,null,{"$f":"IF(TRIM(BC60)=\"\", \"\", IF(VLOOKUP(BC60,'Footnotes list'!$D$9:$E$58,2,FALSE)=0,\"\",VLOOKUP(BC60,'Footnotes list'!$D$9:$E$58,2,FALSE) ) )","v":""},null,null,null,null,{"$f":"IF(TRIM(BH60)=\"\", \"\", IF(VLOOKUP(BH60,'Footnotes list'!$D$9:$E$58,2,FALSE)=0,\"\",VLOOKUP(BH60,'Footnotes list'!$D$9:$E$58,2,FALSE) ) )","v":""},null,null,null,null,{"$f":"IF(TRIM(BM60)=\"\", \"\", IF(VLOOKUP(BM60,'Footnotes list'!$D$9:$E$58,2,FALSE)=0,\"\",VLOOKUP(BM60,'Footnotes list'!$D$9:$E$58,2,FALSE) ) )","v":""},{"$f":"IF(AND(TRIM(Q60)=\"\",TRIM(V60)=\"\",TRIM(AA60)=\"\", TRIM(AF60)=\"\", TRIM(AK60)=\"\", TRIM(AP60)=\"\", TRIM(AU60)=\"\", TRIM(AZ60)=\"\", TRIM(BE60)=\"\", TRIM(BJ60)=\"\"),\"\",Q60+V60+AA60+AF60+AK60+AP60+AU60+AZ60+BE60+BJ60)","v":""},null,null,null,{"$f":"IF(TRIM(BR60)=\"\", \"\", IF(VLOOKUP(BR60,'Footnotes list'!$D$9:$E$58,2,FALSE)=0,\"\",VLOOKUP(BR60,'Footnotes list'!$D$9:$E$58,2,FALSE) ) )","v":""},null,null,null,null,{"$f":"IF(TRIM(BW60)=\"\", \"\", IF(VLOOKUP(BW60,'Footnotes list'!$D$9:$E$58,2,FALSE)=0,\"\",VLOOKUP(BW60,'Footnotes list'!$D$9:$E$58,2,FALSE) ) )","v":""},null,null,null,null,{"$f":"IF(TRIM(CB60)=\"\", \"\", IF(VLOOKUP(CB60,'Footnotes list'!$D$9:$E$58,2,FALSE)=0,\"\",VLOOKUP(CB60,'Footnotes list'!$D$9:$E$58,2,FALSE) ) )","v":""},null,null,null,null,{"$f":"IF(TRIM(CG60)=\"\", \"\", IF(VLOOKUP(CG60,'Footnotes list'!$D$9:$E$58,2,FALSE)=0,\"\",VLOOKUP(CG60,'Footnotes list'!$D$9:$E$58,2,FALSE) ) )","v":""},{"$f":"IF(AND(TRIM(BY60)=\"\",TRIM(CD60)=\"\"),\"\",BY60+CD60)","v":""},null,null,null,{"$f":"IF(TRIM(CL60)=\"\", \"\", IF(VLOOKUP(CL60,'Footnotes list'!$D$9:$E$58,2,FALSE)=0,\"\",VLOOKUP(CL60,'Footnotes list'!$D$9:$E$58,2,FALSE) ) )","v":""},null,null,null,null,{"$f":"IF(TRIM(CQ60)=\"\", \"\", IF(VLOOKUP(CQ60,'Footnotes list'!$D$9:$E$58,2,FALSE)=0,\"\",VLOOKUP(CQ60,'Footnotes list'!$D$9:$E$58,2,FALSE) ) )","v":""},null,null,null,null,{"$f":"IF(TRIM(CV60)=\"\", \"\", IF(VLOOKUP(CV60,'Footnotes list'!$D$9:$E$58,2,FALSE)=0,\"\",VLOOKUP(CV60,'Footnotes list'!$D$9:$E$58,2,FALSE) ) )","v":""},null,null,null,null,{"$f":"IF(TRIM(DA60)=\"\", \"\", IF(VLOOKUP(DA60,'Footnotes list'!$D$9:$E$58,2,FALSE)=0,\"\",VLOOKUP(DA60,'Footnotes list'!$D$9:$E$58,2,FALSE) ) )","v":""},null,null,null,null,{"$f":"IF(TRIM(DF60)=\"\", \"\", IF(VLOOKUP(DF60,'Footnotes list'!$D$9:$E$58,2,FALSE)=0,\"\",VLOOKUP(DF60,'Footnotes list'!$D$9:$E$58,2,FALSE) ) )","v":""},{"$f":"IF(AND(TRIM(G60)=\"\",TRIM(L60)=\"\",TRIM(BO60)=\"\",TRIM(BT60)=\"\",TRIM(CI60)=\"\",TRIM(CN60)=\"\",TRIM(CS60)=\"\",TRIM(CX60)=\"\",TRIM(DC60)=\"\"),\"\",SUM(G60,L60,BO60,BT60,CI60,CN60,CS60,CX60,DC60))","v":""},null,null,null,{"$f":"IF(TRIM(DK60)=\"\", \"\", IF(VLOOKUP(DK60,'Footnotes list'!$D$9:$E$58,2,FALSE)=0,\"\",VLOOKUP(DK60,'Footnotes list'!$D$9:$E$58,2,FALSE) ) )","v":""}]
[null,null,"W08A",null,"HAZ_NHAZ","Total",{"$f":"IF(AND(TRIM(G59)=\"\",TRIM(G60)=\"\"),\"\",G59+G60)","v":""},null,null,null,{"$f":"IF(TRIM(J61)=\"\", \"\", IF(VLOOKUP(J61,'Footnotes list'!$D$9:$E$58,2,FALSE)=0,\"\",VLOOKUP(J61,'Footnotes list'!$D$9:$E$58,2,FALSE) ) )","v":""},{"$f":"IF(AND(TRIM(L59)=\"\",TRIM(L60)=\"\"),\"\",L59+L60)","v":""},null,null,null,{"$f":"IF(TRIM(O61)=\"\", \"\", IF(VLOOKUP(O61,'Footnotes list'!$D$9:$E$58,2,FALSE)=0,\"\",VLOOKUP(O61,'Footnotes list'!$D$9:$E$58,2,FALSE) ) )","v":""},{"$f":"IF(AND(TRIM(Q59)=\"\",TRIM(Q60)=\"\"),\"\",Q59+Q60)","v":""},null,null,null,{"$f":"IF(TRIM(T61)=\"\", \"\", IF(VLOOKUP(T61,'Footnotes list'!$D$9:$E$58,2,FALSE)=0,\"\",VLOOKUP(T61,'Footnotes list'!$D$9:$E$58,2,FALSE) ) )","v":""},{"$f":"IF(AND(TRIM(V59)=\"\",TRIM(V60)=\"\"),\"\",V59+V60)","v":""},null,null,null,{"$f":"IF(TRIM(Y61)=\"\", \"\", IF(VLOOKUP(Y61,'Footnotes list'!$D$9:$E$58,2,FALSE)=0,\"\",VLOOKUP(Y61,'Footnotes list'!$D$9:$E$58,2,FALSE) ) )","v":""},{"$f":"IF(AND(TRIM(AA59)=\"\",TRIM(AA60)=\"\"),\"\",AA59+AA60)","v":""},null,null,null,{"$f":"IF(TRIM(AD61)=\"\", \"\", IF(VLOOKUP(AD61,'Footnotes list'!$D$9:$E$58,2,FALSE)=0,\"\",VLOOKUP(AD61,'Footnotes list'!$D$9:$E$58,2,FALSE) ) )","v":""},{"$f":"IF(AND(TRIM(AF59)=\"\",TRIM(AF60)=\"\"),\"\",AF59+AF60)","v":""},null,null,null,{"$f":"IF(TRIM(AI61)=\"\", \"\", IF(VLOOKUP(AI61,'Footnotes list'!$D$9:$E$58,2,FALSE)=0,\"\",VLOOKUP(AI61,'Footnotes list'!$D$9:$E$58,2,FALSE) ) )","v":""},{"$f":"IF(AND(TRIM(AK59)=\"\",TRIM(AK60)=\"\"),\"\",AK59+AK60)","v":""},null,null,null,{"$f":"IF(TRIM(AN61)=\"\", \"\", IF(VLOOKUP(AN61,'Footnotes list'!$D$9:$E$58,2,FALSE)=0,\"\",VLOOKUP(AN61,'Footnotes list'!$D$9:$E$58,2,FALSE) ) )","v":""},{"$f":"IF(AND(TRIM(AP59)=\"\",TRIM(AP60)=\"\"),\"\",AP59+AP60)","v":""},null,null,null,{"$f":"IF(TRIM(AS61)=\"\", \"\", IF(VLOOKUP(AS61,'Footnotes list'!$D$9:$E$58,2,FALSE)=0,\"\",VLOOKUP(AS61,'Footnotes list'!$D$9:$E$58,2,FALSE) ) )","v":""},{"$f":"IF(AND(TRIM(AU59)=\"\",TRIM(AU60)=\"\"),\"\",AU59+AU60)","v":""},null,null,null,{"$f":"IF(TRIM(AX61)=\"\", \"\", IF(VLOOKUP(AX61,'Footnotes list'!$D$9:$E$58,2,FALSE)=0,\"\",VLOOKUP(AX61,'Footnotes list'!$D$9:$E$58,2,FALSE) ) )","v":""},{"$f":"IF(AND(TRIM(AZ59)=\"\",TRIM(AZ60)=\"\"),\"\",AZ59+AZ60)","v":""},null,null,null,{"$f":"IF(TRIM(BC61)=\"\", \"\", IF(VLOOKUP(BC61,'Footnotes list'!$D$9:$E$58,2,FALSE)=0,\"\",VLOOKUP(BC61,'Footnotes list'!$D$9:$E$58,2,FALSE) ) )","v":""},{"$f":"IF(AND(TRIM(BE59)=\"\",TRIM(BE60)=\"\"),\"\",BE59+BE60)","v":""},null,null,null,{"$f":"IF(TRIM(BH61)=\"\", \"\", IF(VLOOKUP(BH61,'Footnotes list'!$D$9:$E$58,2,FALSE)=0,\"\",VLOOKUP(BH61,'Footnotes list'!$D$9:$E$58,2,FALSE) ) )","v":""},{"$f":"IF(AND(TRIM(BJ59)=\"\",TRIM(BJ60)=\"\"),\"\",BJ59+BJ60)","v":""},null,null,null,{"$f":"IF(TRIM(BM61)=\"\", \"\", IF(VLOOKUP(BM61,'Footnotes list'!$D$9:$E$58,2,FALSE)=0,\"\",VLOOKUP(BM61,'Footnotes list'!$D$9:$E$58,2,FALSE) ) )","v":""},{"$f":"IF(AND(TRIM(BO59)=\"\", TRIM(BO60)=\"\"), \"\", (IF(ISNUMBER(BO59),BO59,0)+IF(ISNUMBER(BO60),BO60,0)))","v":""},null,null,null,{"$f":"IF(TRIM(BR61)=\"\", \"\", IF(VLOOKUP(BR61,'Footnotes list'!$D$9:$E$58,2,FALSE)=0,\"\",VLOOKUP(BR61,'Footnotes list'!$D$9:$E$58,2,FALSE) ) )","v":""},{"$f":"IF(AND(TRIM(BT59)=\"\",TRIM(BT60)=\"\"),\"\",BT59+BT60)","v":""},null,null,null,{"$f":"IF(TRIM(BW61)=\"\", \"\", IF(VLOOKUP(BW61,'Footnotes list'!$D$9:$E$58,2,FALSE)=0,\"\",VLOOKUP(BW61,'Footnotes list'!$D$9:$E$58,2,FALSE) ) )","v":""},{"$f":"IF(AND(TRIM(BY59)=\"\",TRIM(BY60)=\"\"),\"\",BY59+BY60)","v":""},null,null,null,{"$f":"IF(TRIM(CB61)=\"\", \"\", IF(VLOOKUP(CB61,'Footnotes list'!$D$9:$E$58,2,FALSE)=0,\"\",VLOOKUP(CB61,'Footnotes list'!$D$9:$E$58,2,FALSE) ) )","v":""},{"$f":"IF(AND(TRIM(CD59)=\"\",TRIM(CD60)=\"\"),\"\",CD59+CD60)","v":""},null,null,null,{"$f":"IF(TRIM(CG61)=\"\", \"\", IF(VLOOKUP(CG61,'Footnotes list'!$D$9:$E$58,2,FALSE)=0,\"\",VLOOKUP(CG61,'Footnotes list'!$D$9:$E$58,2,FALSE) ) )","v":""},{"$f":"IF(AND(TRIM(CI59)=\"\", TRIM(CI60)=\"\"), \"\", (IF(ISNUMBER(CI59),CI59,0)+IF(ISNUMBER(CI60),CI60,0)))","v":""},null,null,null,{"$f":"IF(TRIM(CL61)=\"\", \"\", IF(VLOOKUP(CL61,'Footnotes list'!$D$9:$E$58,2,FALSE)=0,\"\",VLOOKUP(CL61,'Footnotes list'!$D$9:$E$58,2,FALSE) ) )","v":""},{"$f":"IF(AND(TRIM(CN59)=\"\",TRIM(CN60)=\"\"),\"\",CN59+CN60)","v":""},null,null,null,{"$f":"IF(TRIM(CQ61)=\"\", \"\", IF(VLOOKUP(CQ61,'Footnotes list'!$D$9:$E$58,2,FALSE)=0,\"\",VLOOKUP(CQ61,'Footnotes list'!$D$9:$E$58,2,FALSE) ) )","v":""},{"$f":"IF(AND(TRIM(CS59)=\"\",TRIM(CS60)=\"\"),\"\",CS59+CS60)","v":""},null,null,null,{"$f":"IF(TRIM(CV61)=\"\", \"\", IF(VLOOKUP(CV61,'Footnotes list'!$D$9:$E$58,2,FALSE)=0,\"\",VLOOKUP(CV61,'Footnotes list'!$D$9:$E$58,2,FALSE) ) )","v":""},{"$f":"IF(AND(TRIM(CX59)=\"\",TRIM(CX60)=\"\"),\"\",CX59+CX60)","v":""},null,null,null,{"$f":"IF(TRIM(DA61)=\"\", \"\", IF(VLOOKUP(DA61,'Footnotes list'!$D$9:$E$58,2,FALSE)=0,\"\",VLOOKUP(DA61,'Footnotes list'!$D$9:$E$58,2,FALSE) ) )","v":""},{"$f":"IF(AND(TRIM(DC59)=\"\",TRIM(DC60)=\"\"),\"\",DC59+DC60)","v":""},null,null,null,{"$f":"IF(TRIM(DF61)=\"\", \"\", IF(VLOOKUP(DF61,'Footnotes list'!$D$9:$E$58,2,FALSE)=0,\"\",VLOOKUP(DF61,'Footnotes list'!$D$9:$E$58,2,FALSE) ) )","v":""},{"$f":"IF(AND(TRIM(DH59)=\"\", TRIM(DH60)=\"\"), \"\", SUM(DH59,DH60) )","v":""},null,null,null,{"$f":"IF(TRIM(DK61)=\"\", \"\", IF(VLOOKUP(DK61,'Footnotes list'!$D$9:$E$58,2,FALSE)=0,\"\",VLOOKUP(DK61,'Footnotes list'!$D$9:$E$58,2,FALSE) ) )","v":""}]
[null,"W081","W081","Discarded vehicles ","HAZ","Hazardous ",null,null,null,null,{"$f":"IF(TRIM(J62)=\"\", \"\", IF(VLOOKUP(J62,'Footnotes list'!$D$9:$E$58,2,FALSE)=0,\"\",VLOOKUP(J62,'Footnotes list'!$D$9:$E$58,2,FALSE) ) )","v":""},null,null,null,null,{"$f":"IF(TRIM(O62)=\"\", \"\", IF(VLOOKUP(O62,'Footnotes list'!$D$9:$E$58,2,FALSE)=0,\"\",VLOOKUP(O62,'Footnotes list'!$D$9:$E$58,2,FALSE) ) )","v":""},null,null,null,null,{"$f":"IF(TRIM(T62)=\"\", \"\", IF(VLOOKUP(T62,'Footnotes list'!$D$9:$E$58,2,FALSE)=0,\"\",VLOOKUP(T62,'Footnotes list'!$D$9:$E$58,2,FALSE) ) )","v":""},null,null,null,null,{"$f":"IF(TRIM(Y62)=\"\", \"\", IF(VLOOKUP(Y62,'Footnotes list'!$D$9:$E$58,2,FALSE)=0,\"\",VLOOKUP(Y62,'Footnotes list'!$D$9:$E$58,2,FALSE) ) )","v":""},null,null,null,null,{"$f":"IF(TRIM(AD62)=\"\", \"\", IF(VLOOKUP(AD62,'Footnotes list'!$D$9:$E$58,2,FALSE)=0,\"\",VLOOKUP(AD62,'Footnotes list'!$D$9:$E$58,2,FALSE) ) )","v":""},null,null,null,null,{"$f":"IF(TRIM(AI62)=\"\", \"\", IF(VLOOKUP(AI62,'Footnotes list'!$D$9:$E$58,2,FALSE)=0,\"\",VLOOKUP(AI62,'Footnotes list'!$D$9:$E$58,2,FALSE) ) )","v":""},null,null,null,null,{"$f":"IF(TRIM(AN62)=\"\", \"\", IF(VLOOKUP(AN62,'Footnotes list'!$D$9:$E$58,2,FALSE)=0,\"\",VLOOKUP(AN62,'Footnotes list'!$D$9:$E$58,2,FALSE) ) )","v":""},null,null,null,null,{"$f":"IF(TRIM(AS62)=\"\", \"\", IF(VLOOKUP(AS62,'Footnotes list'!$D$9:$E$58,2,FALSE)=0,\"\",VLOOKUP(AS62,'Footnotes list'!$D$9:$E$58,2,FALSE) ) )","v":""},null,null,null,null,{"$f":"IF(TRIM(AX62)=\"\", \"\", IF(VLOOKUP(AX62,'Footnotes list'!$D$9:$E$58,2,FALSE)=0,\"\",VLOOKUP(AX62,'Footnotes list'!$D$9:$E$58,2,FALSE) ) )","v":""},null,null,null,null,{"$f":"IF(TRIM(BC62)=\"\", \"\", IF(VLOOKUP(BC62,'Footnotes list'!$D$9:$E$58,2,FALSE)=0,\"\",VLOOKUP(BC62,'Footnotes list'!$D$9:$E$58,2,FALSE) ) )","v":""},null,null,null,null,{"$f":"IF(TRIM(BH62)=\"\", \"\", IF(VLOOKUP(BH62,'Footnotes list'!$D$9:$E$58,2,FALSE)=0,\"\",VLOOKUP(BH62,'Footnotes list'!$D$9:$E$58,2,FALSE) ) )","v":""},null,null,null,null,{"$f":"IF(TRIM(BM62)=\"\", \"\", IF(VLOOKUP(BM62,'Footnotes list'!$D$9:$E$58,2,FALSE)=0,\"\",VLOOKUP(BM62,'Footnotes list'!$D$9:$E$58,2,FALSE) ) )","v":""},{"$f":"IF(AND(TRIM(Q62)=\"\",TRIM(V62)=\"\",TRIM(AA62)=\"\", TRIM(AF62)=\"\", TRIM(AK62)=\"\", TRIM(AP62)=\"\", TRIM(AU62)=\"\", TRIM(AZ62)=\"\", TRIM(BE62)=\"\", TRIM(BJ62)=\"\"),\"\",Q62+V62+AA62+AF62+AK62+AP62+AU62+AZ62+BE62+BJ62)","v":""},null,null,null,{"$f":"IF(TRIM(BR62)=\"\", \"\", IF(VLOOKUP(BR62,'Footnotes list'!$D$9:$E$58,2,FALSE)=0,\"\",VLOOKUP(BR62,'Footnotes list'!$D$9:$E$58,2,FALSE) ) )","v":""},null,null,null,null,{"$f":"IF(TRIM(BW62)=\"\", \"\", IF(VLOOKUP(BW62,'Footnotes list'!$D$9:$E$58,2,FALSE)=0,\"\",VLOOKUP(BW62,'Footnotes list'!$D$9:$E$58,2,FALSE) ) )","v":""},null,null,null,null,{"$f":"IF(TRIM(CB62)=\"\", \"\", IF(VLOOKUP(CB62,'Footnotes list'!$D$9:$E$58,2,FALSE)=0,\"\",VLOOKUP(CB62,'Footnotes list'!$D$9:$E$58,2,FALSE) ) )","v":""},null,null,null,null,{"$f":"IF(TRIM(CG62)=\"\", \"\", IF(VLOOKUP(CG62,'Footnotes list'!$D$9:$E$58,2,FALSE)=0,\"\",VLOOKUP(CG62,'Footnotes list'!$D$9:$E$58,2,FALSE) ) )","v":""},{"$f":"IF(AND(TRIM(BY62)=\"\",TRIM(CD62)=\"\"),\"\",BY62+CD62)","v":""},null,null,null,{"$f":"IF(TRIM(CL62)=\"\", \"\", IF(VLOOKUP(CL62,'Footnotes list'!$D$9:$E$58,2,FALSE)=0,\"\",VLOOKUP(CL62,'Footnotes list'!$D$9:$E$58,2,FALSE) ) )","v":""},null,null,null,null,{"$f":"IF(TRIM(CQ62)=\"\", \"\", IF(VLOOKUP(CQ62,'Footnotes list'!$D$9:$E$58,2,FALSE)=0,\"\",VLOOKUP(CQ62,'Footnotes list'!$D$9:$E$58,2,FALSE) ) )","v":""},null,null,null,null,{"$f":"IF(TRIM(CV62)=\"\", \"\", IF(VLOOKUP(CV62,'Footnotes list'!$D$9:$E$58,2,FALSE)=0,\"\",VLOOKUP(CV62,'Footnotes list'!$D$9:$E$58,2,FALSE) ) )","v":""},null,null,null,null,{"$f":"IF(TRIM(DA62)=\"\", \"\", IF(VLOOKUP(DA62,'Footnotes list'!$D$9:$E$58,2,FALSE)=0,\"\",VLOOKUP(DA62,'Footnotes list'!$D$9:$E$58,2,FALSE) ) )","v":""},null,null,null,null,{"$f":"IF(TRIM(DF62)=\"\", \"\", IF(VLOOKUP(DF62,'Footnotes list'!$D$9:$E$58,2,FALSE)=0,\"\",VLOOKUP(DF62,'Footnotes list'!$D$9:$E$58,2,FALSE) ) )","v":""},{"$f":"IF(AND(TRIM(G62)=\"\",TRIM(L62)=\"\",TRIM(BO62)=\"\",TRIM(BT62)=\"\",TRIM(CI62)=\"\",TRIM(CN62)=\"\",TRIM(CS62)=\"\",TRIM(CX62)=\"\",TRIM(DC62)=\"\"),\"\",SUM(G62,L62,BO62,BT62,CI62,CN62,CS62,CX62,DC62))","v":""},null,null,null,{"$f":"IF(TRIM(DK62)=\"\", \"\", IF(VLOOKUP(DK62,'Footnotes list'!$D$9:$E$58,2,FALSE)=0,\"\",VLOOKUP(DK62,'Footnotes list'!$D$9:$E$58,2,FALSE) ) )","v":""}]
[null,null,"W081",null,"NHAZ","Non-hazardous",null,null,null,null,{"$f":"IF(TRIM(J63)=\"\", \"\", IF(VLOOKUP(J63,'Footnotes list'!$D$9:$E$58,2,FALSE)=0,\"\",VLOOKUP(J63,'Footnotes list'!$D$9:$E$58,2,FALSE) ) )","v":""},null,null,null,null,{"$f":"IF(TRIM(O63)=\"\", \"\", IF(VLOOKUP(O63,'Footnotes list'!$D$9:$E$58,2,FALSE)=0,\"\",VLOOKUP(O63,'Footnotes list'!$D$9:$E$58,2,FALSE) ) )","v":""},null,null,null,null,{"$f":"IF(TRIM(T63)=\"\", \"\", IF(VLOOKUP(T63,'Footnotes list'!$D$9:$E$58,2,FALSE)=0,\"\",VLOOKUP(T63,'Footnotes list'!$D$9:$E$58,2,FALSE) ) )","v":""},null,null,null,null,{"$f":"IF(TRIM(Y63)=\"\", \"\", IF(VLOOKUP(Y63,'Footnotes list'!$D$9:$E$58,2,FALSE)=0,\"\",VLOOKUP(Y63,'Footnotes list'!$D$9:$E$58,2,FALSE) ) )","v":""},null,null,null,null,{"$f":"IF(TRIM(AD63)=\"\", \"\", IF(VLOOKUP(AD63,'Footnotes list'!$D$9:$E$58,2,FALSE)=0,\"\",VLOOKUP(AD63,'Footnotes list'!$D$9:$E$58,2,FALSE) ) )","v":""},null,null,null,null,{"$f":"IF(TRIM(AI63)=\"\", \"\", IF(VLOOKUP(AI63,'Footnotes list'!$D$9:$E$58,2,FALSE)=0,\"\",VLOOKUP(AI63,'Footnotes list'!$D$9:$E$58,2,FALSE) ) )","v":""},null,null,null,null,{"$f":"IF(TRIM(AN63)=\"\", \"\", IF(VLOOKUP(AN63,'Footnotes list'!$D$9:$E$58,2,FALSE)=0,\"\",VLOOKUP(AN63,'Footnotes list'!$D$9:$E$58,2,FALSE) ) )","v":""},null,null,null,null,{"$f":"IF(TRIM(AS63)=\"\", \"\", IF(VLOOKUP(AS63,'Footnotes list'!$D$9:$E$58,2,FALSE)=0,\"\",VLOOKUP(AS63,'Footnotes list'!$D$9:$E$58,2,FALSE) ) )","v":""},null,null,null,null,{"$f":"IF(TRIM(AX63)=\"\", \"\", IF(VLOOKUP(AX63,'Footnotes list'!$D$9:$E$58,2,FALSE)=0,\"\",VLOOKUP(AX63,'Footnotes list'!$D$9:$E$58,2,FALSE) ) )","v":""},null,null,null,null,{"$f":"IF(TRIM(BC63)=\"\", \"\", IF(VLOOKUP(BC63,'Footnotes list'!$D$9:$E$58,2,FALSE)=0,\"\",VLOOKUP(BC63,'Footnotes list'!$D$9:$E$58,2,FALSE) ) )","v":""},null,null,null,null,{"$f":"IF(TRIM(BH63)=\"\", \"\", IF(VLOOKUP(BH63,'Footnotes list'!$D$9:$E$58,2,FALSE)=0,\"\",VLOOKUP(BH63,'Footnotes list'!$D$9:$E$58,2,FALSE) ) )","v":""},null,null,null,null,{"$f":"IF(TRIM(BM63)=\"\", \"\", IF(VLOOKUP(BM63,'Footnotes list'!$D$9:$E$58,2,FALSE)=0,\"\",VLOOKUP(BM63,'Footnotes list'!$D$9:$E$58,2,FALSE) ) )","v":""},{"$f":"IF(AND(TRIM(Q63)=\"\",TRIM(V63)=\"\",TRIM(AA63)=\"\", TRIM(AF63)=\"\", TRIM(AK63)=\"\", TRIM(AP63)=\"\", TRIM(AU63)=\"\", TRIM(AZ63)=\"\", TRIM(BE63)=\"\", TRIM(BJ63)=\"\"),\"\",Q63+V63+AA63+AF63+AK63+AP63+AU63+AZ63+BE63+BJ63)","v":""},null,null,null,{"$f":"IF(TRIM(BR63)=\"\", \"\", IF(VLOOKUP(BR63,'Footnotes list'!$D$9:$E$58,2,FALSE)=0,\"\",VLOOKUP(BR63,'Footnotes list'!$D$9:$E$58,2,FALSE) ) )","v":""},null,null,null,null,{"$f":"IF(TRIM(BW63)=\"\", \"\", IF(VLOOKUP(BW63,'Footnotes list'!$D$9:$E$58,2,FALSE)=0,\"\",VLOOKUP(BW63,'Footnotes list'!$D$9:$E$58,2,FALSE) ) )","v":""},null,null,null,null,{"$f":"IF(TRIM(CB63)=\"\", \"\", IF(VLOOKUP(CB63,'Footnotes list'!$D$9:$E$58,2,FALSE)=0,\"\",VLOOKUP(CB63,'Footnotes list'!$D$9:$E$58,2,FALSE) ) )","v":""},null,null,null,null,{"$f":"IF(TRIM(CG63)=\"\", \"\", IF(VLOOKUP(CG63,'Footnotes list'!$D$9:$E$58,2,FALSE)=0,\"\",VLOOKUP(CG63,'Footnotes list'!$D$9:$E$58,2,FALSE) ) )","v":""},{"$f":"IF(AND(TRIM(BY63)=\"\",TRIM(CD63)=\"\"),\"\",BY63+CD63)","v":""},null,null,null,{"$f":"IF(TRIM(CL63)=\"\", \"\", IF(VLOOKUP(CL63,'Footnotes list'!$D$9:$E$58,2,FALSE)=0,\"\",VLOOKUP(CL63,'Footnotes list'!$D$9:$E$58,2,FALSE) ) )","v":""},null,null,null,null,{"$f":"IF(TRIM(CQ63)=\"\", \"\", IF(VLOOKUP(CQ63,'Footnotes list'!$D$9:$E$58,2,FALSE)=0,\"\",VLOOKUP(CQ63,'Footnotes list'!$D$9:$E$58,2,FALSE) ) )","v":""},null,null,null,null,{"$f":"IF(TRIM(CV63)=\"\", \"\", IF(VLOOKUP(CV63,'Footnotes list'!$D$9:$E$58,2,FALSE)=0,\"\",VLOOKUP(CV63,'Footnotes list'!$D$9:$E$58,2,FALSE) ) )","v":""},null,null,null,null,{"$f":"IF(TRIM(DA63)=\"\", \"\", IF(VLOOKUP(DA63,'Footnotes list'!$D$9:$E$58,2,FALSE)=0,\"\",VLOOKUP(DA63,'Footnotes list'!$D$9:$E$58,2,FALSE) ) )","v":""},null,null,null,null,{"$f":"IF(TRIM(DF63)=\"\", \"\", IF(VLOOKUP(DF63,'Footnotes list'!$D$9:$E$58,2,FALSE)=0,\"\",VLOOKUP(DF63,'Footnotes list'!$D$9:$E$58,2,FALSE) ) )","v":""},{"$f":"IF(AND(TRIM(G63)=\"\",TRIM(L63)=\"\",TRIM(BO63)=\"\",TRIM(BT63)=\"\",TRIM(CI63)=\"\",TRIM(CN63)=\"\",TRIM(CS63)=\"\",TRIM(CX63)=\"\",TRIM(DC63)=\"\"),\"\",SUM(G63,L63,BO63,BT63,CI63,CN63,CS63,CX63,DC63))","v":""},null,null,null,{"$f":"IF(TRIM(DK63)=\"\", \"\", IF(VLOOKUP(DK63,'Footnotes list'!$D$9:$E$58,2,FALSE)=0,\"\",VLOOKUP(DK63,'Footnotes list'!$D$9:$E$58,2,FALSE) ) )","v":""}]
[null,null,"W081",null,"HAZ_NHAZ","Total",{"$f":"IF(AND(TRIM(G62)=\"\",TRIM(G63)=\"\"),\"\",G62+G63)","v":""},null,null,null,{"$f":"IF(TRIM(J64)=\"\", \"\", IF(VLOOKUP(J64,'Footnotes list'!$D$9:$E$58,2,FALSE)=0,\"\",VLOOKUP(J64,'Footnotes list'!$D$9:$E$58,2,FALSE) ) )","v":""},{"$f":"IF(AND(TRIM(L62)=\"\",TRIM(L63)=\"\"),\"\",L62+L63)","v":""},null,null,null,{"$f":"IF(TRIM(O64)=\"\", \"\", IF(VLOOKUP(O64,'Footnotes list'!$D$9:$E$58,2,FALSE)=0,\"\",VLOOKUP(O64,'Footnotes list'!$D$9:$E$58,2,FALSE) ) )","v":""},{"$f":"IF(AND(TRIM(Q62)=\"\",TRIM(Q63)=\"\"),\"\",Q62+Q63)","v":""},null,null,null,{"$f":"IF(TRIM(T64)=\"\", \"\", IF(VLOOKUP(T64,'Footnotes list'!$D$9:$E$58,2,FALSE)=0,\"\",VLOOKUP(T64,'Footnotes list'!$D$9:$E$58,2,FALSE) ) )","v":""},{"$f":"IF(AND(TRIM(V62)=\"\",TRIM(V63)=\"\"),\"\",V62+V63)","v":""},null,null,null,{"$f":"IF(TRIM(Y64)=\"\", \"\", IF(VLOOKUP(Y64,'Footnotes list'!$D$9:$E$58,2,FALSE)=0,\"\",VLOOKUP(Y64,'Footnotes list'!$D$9:$E$58,2,FALSE) ) )","v":""},{"$f":"IF(AND(TRIM(AA62)=\"\",TRIM(AA63)=\"\"),\"\",AA62+AA63)","v":""},null,null,null,{"$f":"IF(TRIM(AD64)=\"\", \"\", IF(VLOOKUP(AD64,'Footnotes list'!$D$9:$E$58,2,FALSE)=0,\"\",VLOOKUP(AD64,'Footnotes list'!$D$9:$E$58,2,FALSE) ) )","v":""},{"$f":"IF(AND(TRIM(AF62)=\"\",TRIM(AF63)=\"\"),\"\",AF62+AF63)","v":""},null,null,null,{"$f":"IF(TRIM(AI64)=\"\", \"\", IF(VLOOKUP(AI64,'Footnotes list'!$D$9:$E$58,2,FALSE)=0,\"\",VLOOKUP(AI64,'Footnotes list'!$D$9:$E$58,2,FALSE) ) )","v":""},{"$f":"IF(AND(TRIM(AK62)=\"\",TRIM(AK63)=\"\"),\"\",AK62+AK63)","v":""},null,null,null,{"$f":"IF(TRIM(AN64)=\"\", \"\", IF(VLOOKUP(AN64,'Footnotes list'!$D$9:$E$58,2,FALSE)=0,\"\",VLOOKUP(AN64,'Footnotes list'!$D$9:$E$58,2,FALSE) ) )","v":""},{"$f":"IF(AND(TRIM(AP62)=\"\",TRIM(AP63)=\"\"),\"\",AP62+AP63)","v":""},null,null,null,{"$f":"IF(TRIM(AS64)=\"\", \"\", IF(VLOOKUP(AS64,'Footnotes list'!$D$9:$E$58,2,FALSE)=0,\"\",VLOOKUP(AS64,'Footnotes list'!$D$9:$E$58,2,FALSE) ) )","v":""},{"$f":"IF(AND(TRIM(AU62)=\"\",TRIM(AU63)=\"\"),\"\",AU62+AU63)","v":""},null,null,null,{"$f":"IF(TRIM(AX64)=\"\", \"\", IF(VLOOKUP(AX64,'Footnotes list'!$D$9:$E$58,2,FALSE)=0,\"\",VLOOKUP(AX64,'Footnotes list'!$D$9:$E$58,2,FALSE) ) )","v":""},{"$f":"IF(AND(TRIM(AZ62)=\"\",TRIM(AZ63)=\"\"),\"\",AZ62+AZ63)","v":""},null,null,null,{"$f":"IF(TRIM(BC64)=\"\", \"\", IF(VLOOKUP(BC64,'Footnotes list'!$D$9:$E$58,2,FALSE)=0,\"\",VLOOKUP(BC64,'Footnotes list'!$D$9:$E$58,2,FALSE) ) )","v":""},{"$f":"IF(AND(TRIM(BE62)=\"\",TRIM(BE63)=\"\"),\"\",BE62+BE63)","v":""},null,null,null,{"$f":"IF(TRIM(BH64)=\"\", \"\", IF(VLOOKUP(BH64,'Footnotes list'!$D$9:$E$58,2,FALSE)=0,\"\",VLOOKUP(BH64,'Footnotes list'!$D$9:$E$58,2,FALSE) ) )","v":""},{"$f":"IF(AND(TRIM(BJ62)=\"\",TRIM(BJ63)=\"\"),\"\",BJ62+BJ63)","v":""},null,null,null,{"$f":"IF(TRIM(BM64)=\"\", \"\", IF(VLOOKUP(BM64,'Footnotes list'!$D$9:$E$58,2,FALSE)=0,\"\",VLOOKUP(BM64,'Footnotes list'!$D$9:$E$58,2,FALSE) ) )","v":""},{"$f":"IF(AND(TRIM(BO62)=\"\", TRIM(BO63)=\"\"), \"\", (IF(ISNUMBER(BO62),BO62,0)+IF(ISNUMBER(BO63),BO63,0)))","v":""},null,null,null,{"$f":"IF(TRIM(BR64)=\"\", \"\", IF(VLOOKUP(BR64,'Footnotes list'!$D$9:$E$58,2,FALSE)=0,\"\",VLOOKUP(BR64,'Footnotes list'!$D$9:$E$58,2,FALSE) ) )","v":""},{"$f":"IF(AND(TRIM(BT62)=\"\",TRIM(BT63)=\"\"),\"\",BT62+BT63)","v":""},null,null,null,{"$f":"IF(TRIM(BW64)=\"\", \"\", IF(VLOOKUP(BW64,'Footnotes list'!$D$9:$E$58,2,FALSE)=0,\"\",VLOOKUP(BW64,'Footnotes list'!$D$9:$E$58,2,FALSE) ) )","v":""},{"$f":"IF(AND(TRIM(BY62)=\"\",TRIM(BY63)=\"\"),\"\",BY62+BY63)","v":""},null,null,null,{"$f":"IF(TRIM(CB64)=\"\", \"\", IF(VLOOKUP(CB64,'Footnotes list'!$D$9:$E$58,2,FALSE)=0,\"\",VLOOKUP(CB64,'Footnotes list'!$D$9:$E$58,2,FALSE) ) )","v":""},{"$f":"IF(AND(TRIM(CD62)=\"\",TRIM(CD63)=\"\"),\"\",CD62+CD63)","v":""},null,null,null,{"$f":"IF(TRIM(CG64)=\"\", \"\", IF(VLOOKUP(CG64,'Footnotes list'!$D$9:$E$58,2,FALSE)=0,\"\",VLOOKUP(CG64,'Footnotes list'!$D$9:$E$58,2,FALSE) ) )","v":""},{"$f":"IF(AND(TRIM(CI62)=\"\", TRIM(CI63)=\"\"), \"\", (IF(ISNUMBER(CI62),CI62,0)+IF(ISNUMBER(CI63),CI63,0)))","v":""},null,null,null,{"$f":"IF(TRIM(CL64)=\"\", \"\", IF(VLOOKUP(CL64,'Footnotes list'!$D$9:$E$58,2,FALSE)=0,\"\",VLOOKUP(CL64,'Footnotes list'!$D$9:$E$58,2,FALSE) ) )","v":""},{"$f":"IF(AND(TRIM(CN62)=\"\",TRIM(CN63)=\"\"),\"\",CN62+CN63)","v":""},null,null,null,{"$f":"IF(TRIM(CQ64)=\"\", \"\", IF(VLOOKUP(CQ64,'Footnotes list'!$D$9:$E$58,2,FALSE)=0,\"\",VLOOKUP(CQ64,'Footnotes list'!$D$9:$E$58,2,FALSE) ) )","v":""},{"$f":"IF(AND(TRIM(CS62)=\"\",TRIM(CS63)=\"\"),\"\",CS62+CS63)","v":""},null,null,null,{"$f":"IF(TRIM(CV64)=\"\", \"\", IF(VLOOKUP(CV64,'Footnotes list'!$D$9:$E$58,2,FALSE)=0,\"\",VLOOKUP(CV64,'Footnotes list'!$D$9:$E$58,2,FALSE) ) )","v":""},{"$f":"IF(AND(TRIM(CX62)=\"\",TRIM(CX63)=\"\"),\"\",CX62+CX63)","v":""},null,null,null,{"$f":"IF(TRIM(DA64)=\"\", \"\", IF(VLOOKUP(DA64,'Footnotes list'!$D$9:$E$58,2,FALSE)=0,\"\",VLOOKUP(DA64,'Footnotes list'!$D$9:$E$58,2,FALSE) ) )","v":""},{"$f":"IF(AND(TRIM(DC62)=\"\",TRIM(DC63)=\"\"),\"\",DC62+DC63)","v":""},null,null,null,{"$f":"IF(TRIM(DF64)=\"\", \"\", IF(VLOOKUP(DF64,'Footnotes list'!$D$9:$E$58,2,FALSE)=0,\"\",VLOOKUP(DF64,'Footnotes list'!$D$9:$E$58,2,FALSE) ) )","v":""},{"$f":"IF(AND(TRIM(DH62)=\"\", TRIM(DH63)=\"\"), \"\", SUM(DH62,DH63) )","v":""},null,null,null,{"$f":"IF(TRIM(DK64)=\"\", \"\", IF(VLOOKUP(DK64,'Footnotes list'!$D$9:$E$58,2,FALSE)=0,\"\",VLOOKUP(DK64,'Footnotes list'!$D$9:$E$58,2,FALSE) ) )","v":""}]
[null,"W0841","W0841","Batteries and accumulators wastes ","HAZ","Hazardous ",null,null,null,null,{"$f":"IF(TRIM(J65)=\"\", \"\", IF(VLOOKUP(J65,'Footnotes list'!$D$9:$E$58,2,FALSE)=0,\"\",VLOOKUP(J65,'Footnotes list'!$D$9:$E$58,2,FALSE) ) )","v":""},null,null,null,null,{"$f":"IF(TRIM(O65)=\"\", \"\", IF(VLOOKUP(O65,'Footnotes list'!$D$9:$E$58,2,FALSE)=0,\"\",VLOOKUP(O65,'Footnotes list'!$D$9:$E$58,2,FALSE) ) )","v":""},null,null,null,null,{"$f":"IF(TRIM(T65)=\"\", \"\", IF(VLOOKUP(T65,'Footnotes list'!$D$9:$E$58,2,FALSE)=0,\"\",VLOOKUP(T65,'Footnotes list'!$D$9:$E$58,2,FALSE) ) )","v":""},null,null,null,null,{"$f":"IF(TRIM(Y65)=\"\", \"\", IF(VLOOKUP(Y65,'Footnotes list'!$D$9:$E$58,2,FALSE)=0,\"\",VLOOKUP(Y65,'Footnotes list'!$D$9:$E$58,2,FALSE) ) )","v":""},null,null,null,null,{"$f":"IF(TRIM(AD65)=\"\", \"\", IF(VLOOKUP(AD65,'Footnotes list'!$D$9:$E$58,2,FALSE)=0,\"\",VLOOKUP(AD65,'Footnotes list'!$D$9:$E$58,2,FALSE) ) )","v":""},null,null,null,null,{"$f":"IF(TRIM(AI65)=\"\", \"\", IF(VLOOKUP(AI65,'Footnotes list'!$D$9:$E$58,2,FALSE)=0,\"\",VLOOKUP(AI65,'Footnotes list'!$D$9:$E$58,2,FALSE) ) )","v":""},null,null,null,null,{"$f":"IF(TRIM(AN65)=\"\", \"\", IF(VLOOKUP(AN65,'Footnotes list'!$D$9:$E$58,2,FALSE)=0,\"\",VLOOKUP(AN65,'Footnotes list'!$D$9:$E$58,2,FALSE) ) )","v":""},null,null,null,null,{"$f":"IF(TRIM(AS65)=\"\", \"\", IF(VLOOKUP(AS65,'Footnotes list'!$D$9:$E$58,2,FALSE)=0,\"\",VLOOKUP(AS65,'Footnotes list'!$D$9:$E$58,2,FALSE) ) )","v":""},null,null,null,null,{"$f":"IF(TRIM(AX65)=\"\", \"\", IF(VLOOKUP(AX65,'Footnotes list'!$D$9:$E$58,2,FALSE)=0,\"\",VLOOKUP(AX65,'Footnotes list'!$D$9:$E$58,2,FALSE) ) )","v":""},null,null,null,null,{"$f":"IF(TRIM(BC65)=\"\", \"\", IF(VLOOKUP(BC65,'Footnotes list'!$D$9:$E$58,2,FALSE)=0,\"\",VLOOKUP(BC65,'Footnotes list'!$D$9:$E$58,2,FALSE) ) )","v":""},null,null,null,null,{"$f":"IF(TRIM(BH65)=\"\", \"\", IF(VLOOKUP(BH65,'Footnotes list'!$D$9:$E$58,2,FALSE)=0,\"\",VLOOKUP(BH65,'Footnotes list'!$D$9:$E$58,2,FALSE) ) )","v":""},null,null,null,null,{"$f":"IF(TRIM(BM65)=\"\", \"\", IF(VLOOKUP(BM65,'Footnotes list'!$D$9:$E$58,2,FALSE)=0,\"\",VLOOKUP(BM65,'Footnotes list'!$D$9:$E$58,2,FALSE) ) )","v":""},{"$f":"IF(AND(TRIM(Q65)=\"\",TRIM(V65)=\"\",TRIM(AA65)=\"\", TRIM(AF65)=\"\", TRIM(AK65)=\"\", TRIM(AP65)=\"\", TRIM(AU65)=\"\", TRIM(AZ65)=\"\", TRIM(BE65)=\"\", TRIM(BJ65)=\"\"),\"\",Q65+V65+AA65+AF65+AK65+AP65+AU65+AZ65+BE65+BJ65)","v":""},null,null,null,{"$f":"IF(TRIM(BR65)=\"\", \"\", IF(VLOOKUP(BR65,'Footnotes list'!$D$9:$E$58,2,FALSE)=0,\"\",VLOOKUP(BR65,'Footnotes list'!$D$9:$E$58,2,FALSE) ) )","v":""},null,null,null,null,{"$f":"IF(TRIM(BW65)=\"\", \"\", IF(VLOOKUP(BW65,'Footnotes list'!$D$9:$E$58,2,FALSE)=0,\"\",VLOOKUP(BW65,'Footnotes list'!$D$9:$E$58,2,FALSE) ) )","v":""},null,null,null,null,{"$f":"IF(TRIM(CB65)=\"\", \"\", IF(VLOOKUP(CB65,'Footnotes list'!$D$9:$E$58,2,FALSE)=0,\"\",VLOOKUP(CB65,'Footnotes list'!$D$9:$E$58,2,FALSE) ) )","v":""},null,null,null,null,{"$f":"IF(TRIM(CG65)=\"\", \"\", IF(VLOOKUP(CG65,'Footnotes list'!$D$9:$E$58,2,FALSE)=0,\"\",VLOOKUP(CG65,'Footnotes list'!$D$9:$E$58,2,FALSE) ) )","v":""},{"$f":"IF(AND(TRIM(BY65)=\"\",TRIM(CD65)=\"\"),\"\",BY65+CD65)","v":""},null,null,null,{"$f":"IF(TRIM(CL65)=\"\", \"\", IF(VLOOKUP(CL65,'Footnotes list'!$D$9:$E$58,2,FALSE)=0,\"\",VLOOKUP(CL65,'Footnotes list'!$D$9:$E$58,2,FALSE) ) )","v":""},null,null,null,null,{"$f":"IF(TRIM(CQ65)=\"\", \"\", IF(VLOOKUP(CQ65,'Footnotes list'!$D$9:$E$58,2,FALSE)=0,\"\",VLOOKUP(CQ65,'Footnotes list'!$D$9:$E$58,2,FALSE) ) )","v":""},null,null,null,null,{"$f":"IF(TRIM(CV65)=\"\", \"\", IF(VLOOKUP(CV65,'Footnotes list'!$D$9:$E$58,2,FALSE)=0,\"\",VLOOKUP(CV65,'Footnotes list'!$D$9:$E$58,2,FALSE) ) )","v":""},null,null,null,null,{"$f":"IF(TRIM(DA65)=\"\", \"\", IF(VLOOKUP(DA65,'Footnotes list'!$D$9:$E$58,2,FALSE)=0,\"\",VLOOKUP(DA65,'Footnotes list'!$D$9:$E$58,2,FALSE) ) )","v":""},null,null,null,null,{"$f":"IF(TRIM(DF65)=\"\", \"\", IF(VLOOKUP(DF65,'Footnotes list'!$D$9:$E$58,2,FALSE)=0,\"\",VLOOKUP(DF65,'Footnotes list'!$D$9:$E$58,2,FALSE) ) )","v":""},{"$f":"IF(AND(TRIM(G65)=\"\",TRIM(L65)=\"\",TRIM(BO65)=\"\",TRIM(BT65)=\"\",TRIM(CI65)=\"\",TRIM(CN65)=\"\",TRIM(CS65)=\"\",TRIM(CX65)=\"\",TRIM(DC65)=\"\"),\"\",SUM(G65,L65,BO65,BT65,CI65,CN65,CS65,CX65,DC65))","v":""},null,null,null,{"$f":"IF(TRIM(DK65)=\"\", \"\", IF(VLOOKUP(DK65,'Footnotes list'!$D$9:$E$58,2,FALSE)=0,\"\",VLOOKUP(DK65,'Footnotes list'!$D$9:$E$58,2,FALSE) ) )","v":""}]
[null,null,"W0841",null,"NHAZ","Non-hazardous",null,null,null,null,{"$f":"IF(TRIM(J66)=\"\", \"\", IF(VLOOKUP(J66,'Footnotes list'!$D$9:$E$58,2,FALSE)=0,\"\",VLOOKUP(J66,'Footnotes list'!$D$9:$E$58,2,FALSE) ) )","v":""},null,null,null,null,{"$f":"IF(TRIM(O66)=\"\", \"\", IF(VLOOKUP(O66,'Footnotes list'!$D$9:$E$58,2,FALSE)=0,\"\",VLOOKUP(O66,'Footnotes list'!$D$9:$E$58,2,FALSE) ) )","v":""},null,null,null,null,{"$f":"IF(TRIM(T66)=\"\", \"\", IF(VLOOKUP(T66,'Footnotes list'!$D$9:$E$58,2,FALSE)=0,\"\",VLOOKUP(T66,'Footnotes list'!$D$9:$E$58,2,FALSE) ) )","v":""},null,null,null,null,{"$f":"IF(TRIM(Y66)=\"\", \"\", IF(VLOOKUP(Y66,'Footnotes list'!$D$9:$E$58,2,FALSE)=0,\"\",VLOOKUP(Y66,'Footnotes list'!$D$9:$E$58,2,FALSE) ) )","v":""},null,null,null,null,{"$f":"IF(TRIM(AD66)=\"\", \"\", IF(VLOOKUP(AD66,'Footnotes list'!$D$9:$E$58,2,FALSE)=0,\"\",VLOOKUP(AD66,'Footnotes list'!$D$9:$E$58,2,FALSE) ) )","v":""},null,null,null,null,{"$f":"IF(TRIM(AI66)=\"\", \"\", IF(VLOOKUP(AI66,'Footnotes list'!$D$9:$E$58,2,FALSE)=0,\"\",VLOOKUP(AI66,'Footnotes list'!$D$9:$E$58,2,FALSE) ) )","v":""},null,null,null,null,{"$f":"IF(TRIM(AN66)=\"\", \"\", IF(VLOOKUP(AN66,'Footnotes list'!$D$9:$E$58,2,FALSE)=0,\"\",VLOOKUP(AN66,'Footnotes list'!$D$9:$E$58,2,FALSE) ) )","v":""},null,null,null,null,{"$f":"IF(TRIM(AS66)=\"\", \"\", IF(VLOOKUP(AS66,'Footnotes list'!$D$9:$E$58,2,FALSE)=0,\"\",VLOOKUP(AS66,'Footnotes list'!$D$9:$E$58,2,FALSE) ) )","v":""},null,null,null,null,{"$f":"IF(TRIM(AX66)=\"\", \"\", IF(VLOOKUP(AX66,'Footnotes list'!$D$9:$E$58,2,FALSE)=0,\"\",VLOOKUP(AX66,'Footnotes list'!$D$9:$E$58,2,FALSE) ) )","v":""},null,null,null,null,{"$f":"IF(TRIM(BC66)=\"\", \"\", IF(VLOOKUP(BC66,'Footnotes list'!$D$9:$E$58,2,FALSE)=0,\"\",VLOOKUP(BC66,'Footnotes list'!$D$9:$E$58,2,FALSE) ) )","v":""},null,null,null,null,{"$f":"IF(TRIM(BH66)=\"\", \"\", IF(VLOOKUP(BH66,'Footnotes list'!$D$9:$E$58,2,FALSE)=0,\"\",VLOOKUP(BH66,'Footnotes list'!$D$9:$E$58,2,FALSE) ) )","v":""},null,null,null,null,{"$f":"IF(TRIM(BM66)=\"\", \"\", IF(VLOOKUP(BM66,'Footnotes list'!$D$9:$E$58,2,FALSE)=0,\"\",VLOOKUP(BM66,'Footnotes list'!$D$9:$E$58,2,FALSE) ) )","v":""},{"$f":"IF(AND(TRIM(Q66)=\"\",TRIM(V66)=\"\",TRIM(AA66)=\"\", TRIM(AF66)=\"\", TRIM(AK66)=\"\", TRIM(AP66)=\"\", TRIM(AU66)=\"\", TRIM(AZ66)=\"\", TRIM(BE66)=\"\", TRIM(BJ66)=\"\"),\"\",Q66+V66+AA66+AF66+AK66+AP66+AU66+AZ66+BE66+BJ66)","v":""},null,null,null,{"$f":"IF(TRIM(BR66)=\"\", \"\", IF(VLOOKUP(BR66,'Footnotes list'!$D$9:$E$58,2,FALSE)=0,\"\",VLOOKUP(BR66,'Footnotes list'!$D$9:$E$58,2,FALSE) ) )","v":""},null,null,null,null,{"$f":"IF(TRIM(BW66)=\"\", \"\", IF(VLOOKUP(BW66,'Footnotes list'!$D$9:$E$58,2,FALSE)=0,\"\",VLOOKUP(BW66,'Footnotes list'!$D$9:$E$58,2,FALSE) ) )","v":""},null,null,null,null,{"$f":"IF(TRIM(CB66)=\"\", \"\", IF(VLOOKUP(CB66,'Footnotes list'!$D$9:$E$58,2,FALSE)=0,\"\",VLOOKUP(CB66,'Footnotes list'!$D$9:$E$58,2,FALSE) ) )","v":""},null,null,null,null,{"$f":"IF(TRIM(CG66)=\"\", \"\", IF(VLOOKUP(CG66,'Footnotes list'!$D$9:$E$58,2,FALSE)=0,\"\",VLOOKUP(CG66,'Footnotes list'!$D$9:$E$58,2,FALSE) ) )","v":""},{"$f":"IF(AND(TRIM(BY66)=\"\",TRIM(CD66)=\"\"),\"\",BY66+CD66)","v":""},null,null,null,{"$f":"IF(TRIM(CL66)=\"\", \"\", IF(VLOOKUP(CL66,'Footnotes list'!$D$9:$E$58,2,FALSE)=0,\"\",VLOOKUP(CL66,'Footnotes list'!$D$9:$E$58,2,FALSE) ) )","v":""},null,null,null,null,{"$f":"IF(TRIM(CQ66)=\"\", \"\", IF(VLOOKUP(CQ66,'Footnotes list'!$D$9:$E$58,2,FALSE)=0,\"\",VLOOKUP(CQ66,'Footnotes list'!$D$9:$E$58,2,FALSE) ) )","v":""},null,null,null,null,{"$f":"IF(TRIM(CV66)=\"\", \"\", IF(VLOOKUP(CV66,'Footnotes list'!$D$9:$E$58,2,FALSE)=0,\"\",VLOOKUP(CV66,'Footnotes list'!$D$9:$E$58,2,FALSE) ) )","v":""},null,null,null,null,{"$f":"IF(TRIM(DA66)=\"\", \"\", IF(VLOOKUP(DA66,'Footnotes list'!$D$9:$E$58,2,FALSE)=0,\"\",VLOOKUP(DA66,'Footnotes list'!$D$9:$E$58,2,FALSE) ) )","v":""},null,null,null,null,{"$f":"IF(TRIM(DF66)=\"\", \"\", IF(VLOOKUP(DF66,'Footnotes list'!$D$9:$E$58,2,FALSE)=0,\"\",VLOOKUP(DF66,'Footnotes list'!$D$9:$E$58,2,FALSE) ) )","v":""},{"$f":"IF(AND(TRIM(G66)=\"\",TRIM(L66)=\"\",TRIM(BO66)=\"\",TRIM(BT66)=\"\",TRIM(CI66)=\"\",TRIM(CN66)=\"\",TRIM(CS66)=\"\",TRIM(CX66)=\"\",TRIM(DC66)=\"\"),\"\",SUM(G66,L66,BO66,BT66,CI66,CN66,CS66,CX66,DC66))","v":""},null,null,null,{"$f":"IF(TRIM(DK66)=\"\", \"\", IF(VLOOKUP(DK66,'Footnotes list'!$D$9:$E$58,2,FALSE)=0,\"\",VLOOKUP(DK66,'Footnotes list'!$D$9:$E$58,2,FALSE) ) )","v":""}]
[null,null,"W0841",null,"HAZ_NHAZ","Total",{"$f":"IF(AND(TRIM(G65)=\"\",TRIM(G66)=\"\"),\"\",G65+G66)","v":""},null,null,null,{"$f":"IF(TRIM(J67)=\"\", \"\", IF(VLOOKUP(J67,'Footnotes list'!$D$9:$E$58,2,FALSE)=0,\"\",VLOOKUP(J67,'Footnotes list'!$D$9:$E$58,2,FALSE) ) )","v":""},{"$f":"IF(AND(TRIM(L65)=\"\",TRIM(L66)=\"\"),\"\",L65+L66)","v":""},null,null,null,{"$f":"IF(TRIM(O67)=\"\", \"\", IF(VLOOKUP(O67,'Footnotes list'!$D$9:$E$58,2,FALSE)=0,\"\",VLOOKUP(O67,'Footnotes list'!$D$9:$E$58,2,FALSE) ) )","v":""},{"$f":"IF(AND(TRIM(Q65)=\"\",TRIM(Q66)=\"\"),\"\",Q65+Q66)","v":""},null,null,null,{"$f":"IF(TRIM(T67)=\"\", \"\", IF(VLOOKUP(T67,'Footnotes list'!$D$9:$E$58,2,FALSE)=0,\"\",VLOOKUP(T67,'Footnotes list'!$D$9:$E$58,2,FALSE) ) )","v":""},{"$f":"IF(AND(TRIM(V65)=\"\",TRIM(V66)=\"\"),\"\",V65+V66)","v":""},null,null,null,{"$f":"IF(TRIM(Y67)=\"\", \"\", IF(VLOOKUP(Y67,'Footnotes list'!$D$9:$E$58,2,FALSE)=0,\"\",VLOOKUP(Y67,'Footnotes list'!$D$9:$E$58,2,FALSE) ) )","v":""},{"$f":"IF(AND(TRIM(AA65)=\"\",TRIM(AA66)=\"\"),\"\",AA65+AA66)","v":""},null,null,null,{"$f":"IF(TRIM(AD67)=\"\", \"\", IF(VLOOKUP(AD67,'Footnotes list'!$D$9:$E$58,2,FALSE)=0,\"\",VLOOKUP(AD67,'Footnotes list'!$D$9:$E$58,2,FALSE) ) )","v":""},{"$f":"IF(AND(TRIM(AF65)=\"\",TRIM(AF66)=\"\"),\"\",AF65+AF66)","v":""},null,null,null,{"$f":"IF(TRIM(AI67)=\"\", \"\", IF(VLOOKUP(AI67,'Footnotes list'!$D$9:$E$58,2,FALSE)=0,\"\",VLOOKUP(AI67,'Footnotes list'!$D$9:$E$58,2,FALSE) ) )","v":""},{"$f":"IF(AND(TRIM(AK65)=\"\",TRIM(AK66)=\"\"),\"\",AK65+AK66)","v":""},null,null,null,{"$f":"IF(TRIM(AN67)=\"\", \"\", IF(VLOOKUP(AN67,'Footnotes list'!$D$9:$E$58,2,FALSE)=0,\"\",VLOOKUP(AN67,'Footnotes list'!$D$9:$E$58,2,FALSE) ) )","v":""},{"$f":"IF(AND(TRIM(AP65)=\"\",TRIM(AP66)=\"\"),\"\",AP65+AP66)","v":""},null,null,null,{"$f":"IF(TRIM(AS67)=\"\", \"\", IF(VLOOKUP(AS67,'Footnotes list'!$D$9:$E$58,2,FALSE)=0,\"\",VLOOKUP(AS67,'Footnotes list'!$D$9:$E$58,2,FALSE) ) )","v":""},{"$f":"IF(AND(TRIM(AU65)=\"\",TRIM(AU66)=\"\"),\"\",AU65+AU66)","v":""},null,null,null,{"$f":"IF(TRIM(AX67)=\"\", \"\", IF(VLOOKUP(AX67,'Footnotes list'!$D$9:$E$58,2,FALSE)=0,\"\",VLOOKUP(AX67,'Footnotes list'!$D$9:$E$58,2,FALSE) ) )","v":""},{"$f":"IF(AND(TRIM(AZ65)=\"\",TRIM(AZ66)=\"\"),\"\",AZ65+AZ66)","v":""},null,null,null,{"$f":"IF(TRIM(BC67)=\"\", \"\", IF(VLOOKUP(BC67,'Footnotes list'!$D$9:$E$58,2,FALSE)=0,\"\",VLOOKUP(BC67,'Footnotes list'!$D$9:$E$58,2,FALSE) ) )","v":""},{"$f":"IF(AND(TRIM(BE65)=\"\",TRIM(BE66)=\"\"),\"\",BE65+BE66)","v":""},null,null,null,{"$f":"IF(TRIM(BH67)=\"\", \"\", IF(VLOOKUP(BH67,'Footnotes list'!$D$9:$E$58,2,FALSE)=0,\"\",VLOOKUP(BH67,'Footnotes list'!$D$9:$E$58,2,FALSE) ) )","v":""},{"$f":"IF(AND(TRIM(BJ65)=\"\",TRIM(BJ66)=\"\"),\"\",BJ65+BJ66)","v":""},null,null,null,{"$f":"IF(TRIM(BM67)=\"\", \"\", IF(VLOOKUP(BM67,'Footnotes list'!$D$9:$E$58,2,FALSE)=0,\"\",VLOOKUP(BM67,'Footnotes list'!$D$9:$E$58,2,FALSE) ) )","v":""},{"$f":"IF(AND(TRIM(BO65)=\"\", TRIM(BO66)=\"\"), \"\", (IF(ISNUMBER(BO65),BO65,0)+IF(ISNUMBER(BO66),BO66,0)))","v":""},null,null,null,{"$f":"IF(TRIM(BR67)=\"\", \"\", IF(VLOOKUP(BR67,'Footnotes list'!$D$9:$E$58,2,FALSE)=0,\"\",VLOOKUP(BR67,'Footnotes list'!$D$9:$E$58,2,FALSE) ) )","v":""},{"$f":"IF(AND(TRIM(BT65)=\"\",TRIM(BT66)=\"\"),\"\",BT65+BT66)","v":""},null,null,null,{"$f":"IF(TRIM(BW67)=\"\", \"\", IF(VLOOKUP(BW67,'Footnotes list'!$D$9:$E$58,2,FALSE)=0,\"\",VLOOKUP(BW67,'Footnotes list'!$D$9:$E$58,2,FALSE) ) )","v":""},{"$f":"IF(AND(TRIM(BY65)=\"\",TRIM(BY66)=\"\"),\"\",BY65+BY66)","v":""},null,null,null,{"$f":"IF(TRIM(CB67)=\"\", \"\", IF(VLOOKUP(CB67,'Footnotes list'!$D$9:$E$58,2,FALSE)=0,\"\",VLOOKUP(CB67,'Footnotes list'!$D$9:$E$58,2,FALSE) ) )","v":""},{"$f":"IF(AND(TRIM(CD65)=\"\",TRIM(CD66)=\"\"),\"\",CD65+CD66)","v":""},null,null,null,{"$f":"IF(TRIM(CG67)=\"\", \"\", IF(VLOOKUP(CG67,'Footnotes list'!$D$9:$E$58,2,FALSE)=0,\"\",VLOOKUP(CG67,'Footnotes list'!$D$9:$E$58,2,FALSE) ) )","v":""},{"$f":"IF(AND(TRIM(CI65)=\"\", TRIM(CI66)=\"\"), \"\", (IF(ISNUMBER(CI65),CI65,0)+IF(ISNUMBER(CI66),CI66,0)))","v":""},null,null,null,{"$f":"IF(TRIM(CL67)=\"\", \"\", IF(VLOOKUP(CL67,'Footnotes list'!$D$9:$E$58,2,FALSE)=0,\"\",VLOOKUP(CL67,'Footnotes list'!$D$9:$E$58,2,FALSE) ) )","v":""},{"$f":"IF(AND(TRIM(CN65)=\"\",TRIM(CN66)=\"\"),\"\",CN65+CN66)","v":""},null,null,null,{"$f":"IF(TRIM(CQ67)=\"\", \"\", IF(VLOOKUP(CQ67,'Footnotes list'!$D$9:$E$58,2,FALSE)=0,\"\",VLOOKUP(CQ67,'Footnotes list'!$D$9:$E$58,2,FALSE) ) )","v":""},{"$f":"IF(AND(TRIM(CS65)=\"\",TRIM(CS66)=\"\"),\"\",CS65+CS66)","v":""},null,null,null,{"$f":"IF(TRIM(CV67)=\"\", \"\", IF(VLOOKUP(CV67,'Footnotes list'!$D$9:$E$58,2,FALSE)=0,\"\",VLOOKUP(CV67,'Footnotes list'!$D$9:$E$58,2,FALSE) ) )","v":""},{"$f":"IF(AND(TRIM(CX65)=\"\",TRIM(CX66)=\"\"),\"\",CX65+CX66)","v":""},null,null,null,{"$f":"IF(TRIM(DA67)=\"\", \"\", IF(VLOOKUP(DA67,'Footnotes list'!$D$9:$E$58,2,FALSE)=0,\"\",VLOOKUP(DA67,'Footnotes list'!$D$9:$E$58,2,FALSE) ) )","v":""},{"$f":"IF(AND(TRIM(DC65)=\"\",TRIM(DC66)=\"\"),\"\",DC65+DC66)","v":""},null,null,null,{"$f":"IF(TRIM(DF67)=\"\", \"\", IF(VLOOKUP(DF67,'Footnotes list'!$D$9:$E$58,2,FALSE)=0,\"\",VLOOKUP(DF67,'Footnotes list'!$D$9:$E$58,2,FALSE) ) )","v":""},{"$f":"IF(AND(TRIM(DH65)=\"\", TRIM(DH66)=\"\"), \"\", SUM(DH65,DH66) )","v":""},null,null,null,{"$f":"IF(TRIM(DK67)=\"\", \"\", IF(VLOOKUP(DK67,'Footnotes list'!$D$9:$E$58,2,FALSE)=0,\"\",VLOOKUP(DK67,'Footnotes list'!$D$9:$E$58,2,FALSE) ) )","v":""}]
[null,"W091",null,"Animal and mixed food waste ",null,"Not applicable"]
[null,null,"W091",null,"NHAZ","Non-hazardous",null,null,null,null,{"$f":"IF(TRIM(J69)=\"\", \"\", IF(VLOOKUP(J69,'Footnotes list'!$D$9:$E$58,2,FALSE)=0,\"\",VLOOKUP(J69,'Footnotes list'!$D$9:$E$58,2,FALSE) ) )","v":""},null,null,null,null,{"$f":"IF(TRIM(O69)=\"\", \"\", IF(VLOOKUP(O69,'Footnotes list'!$D$9:$E$58,2,FALSE)=0,\"\",VLOOKUP(O69,'Footnotes list'!$D$9:$E$58,2,FALSE) ) )","v":""},null,null,null,null,{"$f":"IF(TRIM(T69)=\"\", \"\", IF(VLOOKUP(T69,'Footnotes list'!$D$9:$E$58,2,FALSE)=0,\"\",VLOOKUP(T69,'Footnotes list'!$D$9:$E$58,2,FALSE) ) )","v":""},null,null,null,null,{"$f":"IF(TRIM(Y69)=\"\", \"\", IF(VLOOKUP(Y69,'Footnotes list'!$D$9:$E$58,2,FALSE)=0,\"\",VLOOKUP(Y69,'Footnotes list'!$D$9:$E$58,2,FALSE) ) )","v":""},null,null,null,null,{"$f":"IF(TRIM(AD69)=\"\", \"\", IF(VLOOKUP(AD69,'Footnotes list'!$D$9:$E$58,2,FALSE)=0,\"\",VLOOKUP(AD69,'Footnotes list'!$D$9:$E$58,2,FALSE) ) )","v":""},null,null,null,null,{"$f":"IF(TRIM(AI69)=\"\", \"\", IF(VLOOKUP(AI69,'Footnotes list'!$D$9:$E$58,2,FALSE)=0,\"\",VLOOKUP(AI69,'Footnotes list'!$D$9:$E$58,2,FALSE) ) )","v":""},null,null,null,null,{"$f":"IF(TRIM(AN69)=\"\", \"\", IF(VLOOKUP(AN69,'Footnotes list'!$D$9:$E$58,2,FALSE)=0,\"\",VLOOKUP(AN69,'Footnotes list'!$D$9:$E$58,2,FALSE) ) )","v":""},null,null,null,null,{"$f":"IF(TRIM(AS69)=\"\", \"\", IF(VLOOKUP(AS69,'Footnotes list'!$D$9:$E$58,2,FALSE)=0,\"\",VLOOKUP(AS69,'Footnotes list'!$D$9:$E$58,2,FALSE) ) )","v":""},null,null,null,null,{"$f":"IF(TRIM(AX69)=\"\", \"\", IF(VLOOKUP(AX69,'Footnotes list'!$D$9:$E$58,2,FALSE)=0,\"\",VLOOKUP(AX69,'Footnotes list'!$D$9:$E$58,2,FALSE) ) )","v":""},null,null,null,null,{"$f":"IF(TRIM(BC69)=\"\", \"\", IF(VLOOKUP(BC69,'Footnotes list'!$D$9:$E$58,2,FALSE)=0,\"\",VLOOKUP(BC69,'Footnotes list'!$D$9:$E$58,2,FALSE) ) )","v":""},null,null,null,null,{"$f":"IF(TRIM(BH69)=\"\", \"\", IF(VLOOKUP(BH69,'Footnotes list'!$D$9:$E$58,2,FALSE)=0,\"\",VLOOKUP(BH69,'Footnotes list'!$D$9:$E$58,2,FALSE) ) )","v":""},null,null,null,null,{"$f":"IF(TRIM(BM69)=\"\", \"\", IF(VLOOKUP(BM69,'Footnotes list'!$D$9:$E$58,2,FALSE)=0,\"\",VLOOKUP(BM69,'Footnotes list'!$D$9:$E$58,2,FALSE) ) )","v":""},{"$f":"IF(AND(TRIM(Q69)=\"\",TRIM(V69)=\"\",TRIM(AA69)=\"\", TRIM(AF69)=\"\", TRIM(AK69)=\"\", TRIM(AP69)=\"\", TRIM(AU69)=\"\", TRIM(AZ69)=\"\", TRIM(BE69)=\"\", TRIM(BJ69)=\"\"),\"\",Q69+V69+AA69+AF69+AK69+AP69+AU69+AZ69+BE69+BJ69)","v":""},null,null,null,{"$f":"IF(TRIM(BR69)=\"\", \"\", IF(VLOOKUP(BR69,'Footnotes list'!$D$9:$E$58,2,FALSE)=0,\"\",VLOOKUP(BR69,'Footnotes list'!$D$9:$E$58,2,FALSE) ) )","v":""},null,null,null,null,{"$f":"IF(TRIM(BW69)=\"\", \"\", IF(VLOOKUP(BW69,'Footnotes list'!$D$9:$E$58,2,FALSE)=0,\"\",VLOOKUP(BW69,'Footnotes list'!$D$9:$E$58,2,FALSE) ) )","v":""},null,null,null,null,{"$f":"IF(TRIM(CB69)=\"\", \"\", IF(VLOOKUP(CB69,'Footnotes list'!$D$9:$E$58,2,FALSE)=0,\"\",VLOOKUP(CB69,'Footnotes list'!$D$9:$E$58,2,FALSE) ) )","v":""},null,null,null,null,{"$f":"IF(TRIM(CG69)=\"\", \"\", IF(VLOOKUP(CG69,'Footnotes list'!$D$9:$E$58,2,FALSE)=0,\"\",VLOOKUP(CG69,'Footnotes list'!$D$9:$E$58,2,FALSE) ) )","v":""},{"$f":"IF(AND(TRIM(BY69)=\"\",TRIM(CD69)=\"\"),\"\",BY69+CD69)","v":""},null,null,null,{"$f":"IF(TRIM(CL69)=\"\", \"\", IF(VLOOKUP(CL69,'Footnotes list'!$D$9:$E$58,2,FALSE)=0,\"\",VLOOKUP(CL69,'Footnotes list'!$D$9:$E$58,2,FALSE) ) )","v":""},null,null,null,null,{"$f":"IF(TRIM(CQ69)=\"\", \"\", IF(VLOOKUP(CQ69,'Footnotes list'!$D$9:$E$58,2,FALSE)=0,\"\",VLOOKUP(CQ69,'Footnotes list'!$D$9:$E$58,2,FALSE) ) )","v":""},null,null,null,null,{"$f":"IF(TRIM(CV69)=\"\", \"\", IF(VLOOKUP(CV69,'Footnotes list'!$D$9:$E$58,2,FALSE)=0,\"\",VLOOKUP(CV69,'Footnotes list'!$D$9:$E$58,2,FALSE) ) )","v":""},null,null,null,null,{"$f":"IF(TRIM(DA69)=\"\", \"\", IF(VLOOKUP(DA69,'Footnotes list'!$D$9:$E$58,2,FALSE)=0,\"\",VLOOKUP(DA69,'Footnotes list'!$D$9:$E$58,2,FALSE) ) )","v":""},null,null,null,null,{"$f":"IF(TRIM(DF69)=\"\", \"\", IF(VLOOKUP(DF69,'Footnotes list'!$D$9:$E$58,2,FALSE)=0,\"\",VLOOKUP(DF69,'Footnotes list'!$D$9:$E$58,2,FALSE) ) )","v":""},{"$f":"IF(AND(TRIM(G69)=\"\",TRIM(L69)=\"\",TRIM(BO69)=\"\",TRIM(BT69)=\"\",TRIM(CI69)=\"\",TRIM(CN69)=\"\",TRIM(CS69)=\"\",TRIM(CX69)=\"\",TRIM(DC69)=\"\"),\"\",SUM(G69,L69,BO69,BT69,CI69,CN69,CS69,CX69,DC69))","v":""},null,null,null,{"$f":"IF(TRIM(DK69)=\"\", \"\", IF(VLOOKUP(DK69,'Footnotes list'!$D$9:$E$58,2,FALSE)=0,\"\",VLOOKUP(DK69,'Footnotes list'!$D$9:$E$58,2,FALSE) ) )","v":""}]
[null,null,"W091",null,"HAZ_NHAZ","Total",{"$f":"IF(AND(TRIM(G68)=\"\",TRIM(G69)=\"\"),\"\",G68+G69)","v":""},null,null,null,{"$f":"IF(TRIM(J70)=\"\", \"\", IF(VLOOKUP(J70,'Footnotes list'!$D$9:$E$58,2,FALSE)=0,\"\",VLOOKUP(J70,'Footnotes list'!$D$9:$E$58,2,FALSE) ) )","v":""},{"$f":"IF(AND(TRIM(L68)=\"\",TRIM(L69)=\"\"),\"\",L68+L69)","v":""},null,null,null,{"$f":"IF(TRIM(O70)=\"\", \"\", IF(VLOOKUP(O70,'Footnotes list'!$D$9:$E$58,2,FALSE)=0,\"\",VLOOKUP(O70,'Footnotes list'!$D$9:$E$58,2,FALSE) ) )","v":""},{"$f":"IF(AND(TRIM(Q68)=\"\",TRIM(Q69)=\"\"),\"\",Q68+Q69)","v":""},null,null,null,{"$f":"IF(TRIM(T70)=\"\", \"\", IF(VLOOKUP(T70,'Footnotes list'!$D$9:$E$58,2,FALSE)=0,\"\",VLOOKUP(T70,'Footnotes list'!$D$9:$E$58,2,FALSE) ) )","v":""},{"$f":"IF(AND(TRIM(V68)=\"\",TRIM(V69)=\"\"),\"\",V68+V69)","v":""},null,null,null,{"$f":"IF(TRIM(Y70)=\"\", \"\", IF(VLOOKUP(Y70,'Footnotes list'!$D$9:$E$58,2,FALSE)=0,\"\",VLOOKUP(Y70,'Footnotes list'!$D$9:$E$58,2,FALSE) ) )","v":""},{"$f":"IF(AND(TRIM(AA68)=\"\",TRIM(AA69)=\"\"),\"\",AA68+AA69)","v":""},null,null,null,{"$f":"IF(TRIM(AD70)=\"\", \"\", IF(VLOOKUP(AD70,'Footnotes list'!$D$9:$E$58,2,FALSE)=0,\"\",VLOOKUP(AD70,'Footnotes list'!$D$9:$E$58,2,FALSE) ) )","v":""},{"$f":"IF(AND(TRIM(AF68)=\"\",TRIM(AF69)=\"\"),\"\",AF68+AF69)","v":""},null,null,null,{"$f":"IF(TRIM(AI70)=\"\", \"\", IF(VLOOKUP(AI70,'Footnotes list'!$D$9:$E$58,2,FALSE)=0,\"\",VLOOKUP(AI70,'Footnotes list'!$D$9:$E$58,2,FALSE) ) )","v":""},{"$f":"IF(AND(TRIM(AK68)=\"\",TRIM(AK69)=\"\"),\"\",AK68+AK69)","v":""},null,null,null,{"$f":"IF(TRIM(AN70)=\"\", \"\", IF(VLOOKUP(AN70,'Footnotes list'!$D$9:$E$58,2,FALSE)=0,\"\",VLOOKUP(AN70,'Footnotes list'!$D$9:$E$58,2,FALSE) ) )","v":""},{"$f":"IF(AND(TRIM(AP68)=\"\",TRIM(AP69)=\"\"),\"\",AP68+AP69)","v":""},null,null,null,{"$f":"IF(TRIM(AS70)=\"\", \"\", IF(VLOOKUP(AS70,'Footnotes list'!$D$9:$E$58,2,FALSE)=0,\"\",VLOOKUP(AS70,'Footnotes list'!$D$9:$E$58,2,FALSE) ) )","v":""},{"$f":"IF(AND(TRIM(AU68)=\"\",TRIM(AU69)=\"\"),\"\",AU68+AU69)","v":""},null,null,null,{"$f":"IF(TRIM(AX70)=\"\", \"\", IF(VLOOKUP(AX70,'Footnotes list'!$D$9:$E$58,2,FALSE)=0,\"\",VLOOKUP(AX70,'Footnotes list'!$D$9:$E$58,2,FALSE) ) )","v":""},{"$f":"IF(AND(TRIM(AZ68)=\"\",TRIM(AZ69)=\"\"),\"\",AZ68+AZ69)","v":""},null,null,null,{"$f":"IF(TRIM(BC70)=\"\", \"\", IF(VLOOKUP(BC70,'Footnotes list'!$D$9:$E$58,2,FALSE)=0,\"\",VLOOKUP(BC70,'Footnotes list'!$D$9:$E$58,2,FALSE) ) )","v":""},{"$f":"IF(AND(TRIM(BE68)=\"\",TRIM(BE69)=\"\"),\"\",BE68+BE69)","v":""},null,null,null,{"$f":"IF(TRIM(BH70)=\"\", \"\", IF(VLOOKUP(BH70,'Footnotes list'!$D$9:$E$58,2,FALSE)=0,\"\",VLOOKUP(BH70,'Footnotes list'!$D$9:$E$58,2,FALSE) ) )","v":""},{"$f":"IF(AND(TRIM(BJ68)=\"\",TRIM(BJ69)=\"\"),\"\",BJ68+BJ69)","v":""},null,null,null,{"$f":"IF(TRIM(BM70)=\"\", \"\", IF(VLOOKUP(BM70,'Footnotes list'!$D$9:$E$58,2,FALSE)=0,\"\",VLOOKUP(BM70,'Footnotes list'!$D$9:$E$58,2,FALSE) ) )","v":""},{"$f":"IF(AND(TRIM(BO68)=\"\", TRIM(BO69)=\"\"), \"\", (IF(ISNUMBER(BO68),BO68,0)+IF(ISNUMBER(BO69),BO69,0)))","v":""},null,null,null,{"$f":"IF(TRIM(BR70)=\"\", \"\", IF(VLOOKUP(BR70,'Footnotes list'!$D$9:$E$58,2,FALSE)=0,\"\",VLOOKUP(BR70,'Footnotes list'!$D$9:$E$58,2,FALSE) ) )","v":""},{"$f":"IF(AND(TRIM(BT68)=\"\",TRIM(BT69)=\"\"),\"\",BT68+BT69)","v":""},null,null,null,{"$f":"IF(TRIM(BW70)=\"\", \"\", IF(VLOOKUP(BW70,'Footnotes list'!$D$9:$E$58,2,FALSE)=0,\"\",VLOOKUP(BW70,'Footnotes list'!$D$9:$E$58,2,FALSE) ) )","v":""},{"$f":"IF(AND(TRIM(BY68)=\"\",TRIM(BY69)=\"\"),\"\",BY68+BY69)","v":""},null,null,null,{"$f":"IF(TRIM(CB70)=\"\", \"\", IF(VLOOKUP(CB70,'Footnotes list'!$D$9:$E$58,2,FALSE)=0,\"\",VLOOKUP(CB70,'Footnotes list'!$D$9:$E$58,2,FALSE) ) )","v":""},{"$f":"IF(AND(TRIM(CD68)=\"\",TRIM(CD69)=\"\"),\"\",CD68+CD69)","v":""},null,null,null,{"$f":"IF(TRIM(CG70)=\"\", \"\", IF(VLOOKUP(CG70,'Footnotes list'!$D$9:$E$58,2,FALSE)=0,\"\",VLOOKUP(CG70,'Footnotes list'!$D$9:$E$58,2,FALSE) ) )","v":""},{"$f":"IF(AND(TRIM(CI68)=\"\", TRIM(CI69)=\"\"), \"\", (IF(ISNUMBER(CI68),CI68,0)+IF(ISNUMBER(CI69),CI69,0)))","v":""},null,null,null,{"$f":"IF(TRIM(CL70)=\"\", \"\", IF(VLOOKUP(CL70,'Footnotes list'!$D$9:$E$58,2,FALSE)=0,\"\",VLOOKUP(CL70,'Footnotes list'!$D$9:$E$58,2,FALSE) ) )","v":""},{"$f":"IF(AND(TRIM(CN68)=\"\",TRIM(CN69)=\"\"),\"\",CN68+CN69)","v":""},null,null,null,{"$f":"IF(TRIM(CQ70)=\"\", \"\", IF(VLOOKUP(CQ70,'Footnotes list'!$D$9:$E$58,2,FALSE)=0,\"\",VLOOKUP(CQ70,'Footnotes list'!$D$9:$E$58,2,FALSE) ) )","v":""},{"$f":"IF(AND(TRIM(CS68)=\"\",TRIM(CS69)=\"\"),\"\",CS68+CS69)","v":""},null,null,null,{"$f":"IF(TRIM(CV70)=\"\", \"\", IF(VLOOKUP(CV70,'Footnotes list'!$D$9:$E$58,2,FALSE)=0,\"\",VLOOKUP(CV70,'Footnotes list'!$D$9:$E$58,2,FALSE) ) )","v":""},{"$f":"IF(AND(TRIM(CX68)=\"\",TRIM(CX69)=\"\"),\"\",CX68+CX69)","v":""},null,null,null,{"$f":"IF(TRIM(DA70)=\"\", \"\", IF(VLOOKUP(DA70,'Footnotes list'!$D$9:$E$58,2,FALSE)=0,\"\",VLOOKUP(DA70,'Footnotes list'!$D$9:$E$58,2,FALSE) ) )","v":""},{"$f":"IF(AND(TRIM(DC68)=\"\",TRIM(DC69)=\"\"),\"\",DC68+DC69)","v":""},null,null,null,{"$f":"IF(TRIM(DF70)=\"\", \"\", IF(VLOOKUP(DF70,'Footnotes list'!$D$9:$E$58,2,FALSE)=0,\"\",VLOOKUP(DF70,'Footnotes list'!$D$9:$E$58,2,FALSE) ) )","v":""},{"$f":"IF(AND(TRIM(DH68)=\"\", TRIM(DH69)=\"\"), \"\", SUM(DH68,DH69) )","v":""},null,null,null,{"$f":"IF(TRIM(DK70)=\"\", \"\", IF(VLOOKUP(DK70,'Footnotes list'!$D$9:$E$58,2,FALSE)=0,\"\",VLOOKUP(DK70,'Footnotes list'!$D$9:$E$58,2,FALSE) ) )","v":""}]
[null,"W092",null,"Vegetal wastes ",null,"Not applicable"]
[null,null,"W092",null,"NHAZ","Non-hazardous",null,null,null,null,{"$f":"IF(TRIM(J72)=\"\", \"\", IF(VLOOKUP(J72,'Footnotes list'!$D$9:$E$58,2,FALSE)=0,\"\",VLOOKUP(J72,'Footnotes list'!$D$9:$E$58,2,FALSE) ) )","v":""},null,null,null,null,{"$f":"IF(TRIM(O72)=\"\", \"\", IF(VLOOKUP(O72,'Footnotes list'!$D$9:$E$58,2,FALSE)=0,\"\",VLOOKUP(O72,'Footnotes list'!$D$9:$E$58,2,FALSE) ) )","v":""},null,null,null,null,{"$f":"IF(TRIM(T72)=\"\", \"\", IF(VLOOKUP(T72,'Footnotes list'!$D$9:$E$58,2,FALSE)=0,\"\",VLOOKUP(T72,'Footnotes list'!$D$9:$E$58,2,FALSE) ) )","v":""},null,null,null,null,{"$f":"IF(TRIM(Y72)=\"\", \"\", IF(VLOOKUP(Y72,'Footnotes list'!$D$9:$E$58,2,FALSE)=0,\"\",VLOOKUP(Y72,'Footnotes list'!$D$9:$E$58,2,FALSE) ) )","v":""},null,null,null,null,{"$f":"IF(TRIM(AD72)=\"\", \"\", IF(VLOOKUP(AD72,'Footnotes list'!$D$9:$E$58,2,FALSE)=0,\"\",VLOOKUP(AD72,'Footnotes list'!$D$9:$E$58,2,FALSE) ) )","v":""},null,null,null,null,{"$f":"IF(TRIM(AI72)=\"\", \"\", IF(VLOOKUP(AI72,'Footnotes list'!$D$9:$E$58,2,FALSE)=0,\"\",VLOOKUP(AI72,'Footnotes list'!$D$9:$E$58,2,FALSE) ) )","v":""},null,null,null,null,{"$f":"IF(TRIM(AN72)=\"\", \"\", IF(VLOOKUP(AN72,'Footnotes list'!$D$9:$E$58,2,FALSE)=0,\"\",VLOOKUP(AN72,'Footnotes list'!$D$9:$E$58,2,FALSE) ) )","v":""},null,null,null,null,{"$f":"IF(TRIM(AS72)=\"\", \"\", IF(VLOOKUP(AS72,'Footnotes list'!$D$9:$E$58,2,FALSE)=0,\"\",VLOOKUP(AS72,'Footnotes list'!$D$9:$E$58,2,FALSE) ) )","v":""},null,null,null,null,{"$f":"IF(TRIM(AX72)=\"\", \"\", IF(VLOOKUP(AX72,'Footnotes list'!$D$9:$E$58,2,FALSE)=0,\"\",VLOOKUP(AX72,'Footnotes list'!$D$9:$E$58,2,FALSE) ) )","v":""},null,null,null,null,{"$f":"IF(TRIM(BC72)=\"\", \"\", IF(VLOOKUP(BC72,'Footnotes list'!$D$9:$E$58,2,FALSE)=0,\"\",VLOOKUP(BC72,'Footnotes list'!$D$9:$E$58,2,FALSE) ) )","v":""},null,null,null,null,{"$f":"IF(TRIM(BH72)=\"\", \"\", IF(VLOOKUP(BH72,'Footnotes list'!$D$9:$E$58,2,FALSE)=0,\"\",VLOOKUP(BH72,'Footnotes list'!$D$9:$E$58,2,FALSE) ) )","v":""},null,null,null,null,{"$f":"IF(TRIM(BM72)=\"\", \"\", IF(VLOOKUP(BM72,'Footnotes list'!$D$9:$E$58,2,FALSE)=0,\"\",VLOOKUP(BM72,'Footnotes list'!$D$9:$E$58,2,FALSE) ) )","v":""},{"$f":"IF(AND(TRIM(Q72)=\"\",TRIM(V72)=\"\",TRIM(AA72)=\"\", TRIM(AF72)=\"\", TRIM(AK72)=\"\", TRIM(AP72)=\"\", TRIM(AU72)=\"\", TRIM(AZ72)=\"\", TRIM(BE72)=\"\", TRIM(BJ72)=\"\"),\"\",Q72+V72+AA72+AF72+AK72+AP72+AU72+AZ72+BE72+BJ72)","v":""},null,null,null,{"$f":"IF(TRIM(BR72)=\"\", \"\", IF(VLOOKUP(BR72,'Footnotes list'!$D$9:$E$58,2,FALSE)=0,\"\",VLOOKUP(BR72,'Footnotes list'!$D$9:$E$58,2,FALSE) ) )","v":""},null,null,null,null,{"$f":"IF(TRIM(BW72)=\"\", \"\", IF(VLOOKUP(BW72,'Footnotes list'!$D$9:$E$58,2,FALSE)=0,\"\",VLOOKUP(BW72,'Footnotes list'!$D$9:$E$58,2,FALSE) ) )","v":""},null,null,null,null,{"$f":"IF(TRIM(CB72)=\"\", \"\", IF(VLOOKUP(CB72,'Footnotes list'!$D$9:$E$58,2,FALSE)=0,\"\",VLOOKUP(CB72,'Footnotes list'!$D$9:$E$58,2,FALSE) ) )","v":""},null,null,null,null,{"$f":"IF(TRIM(CG72)=\"\", \"\", IF(VLOOKUP(CG72,'Footnotes list'!$D$9:$E$58,2,FALSE)=0,\"\",VLOOKUP(CG72,'Footnotes list'!$D$9:$E$58,2,FALSE) ) )","v":""},{"$f":"IF(AND(TRIM(BY72)=\"\",TRIM(CD72)=\"\"),\"\",BY72+CD72)","v":""},null,null,null,{"$f":"IF(TRIM(CL72)=\"\", \"\", IF(VLOOKUP(CL72,'Footnotes list'!$D$9:$E$58,2,FALSE)=0,\"\",VLOOKUP(CL72,'Footnotes list'!$D$9:$E$58,2,FALSE) ) )","v":""},null,null,null,null,{"$f":"IF(TRIM(CQ72)=\"\", \"\", IF(VLOOKUP(CQ72,'Footnotes list'!$D$9:$E$58,2,FALSE)=0,\"\",VLOOKUP(CQ72,'Footnotes list'!$D$9:$E$58,2,FALSE) ) )","v":""},null,null,null,null,{"$f":"IF(TRIM(CV72)=\"\", \"\", IF(VLOOKUP(CV72,'Footnotes list'!$D$9:$E$58,2,FALSE)=0,\"\",VLOOKUP(CV72,'Footnotes list'!$D$9:$E$58,2,FALSE) ) )","v":""},null,null,null,null,{"$f":"IF(TRIM(DA72)=\"\", \"\", IF(VLOOKUP(DA72,'Footnotes list'!$D$9:$E$58,2,FALSE)=0,\"\",VLOOKUP(DA72,'Footnotes list'!$D$9:$E$58,2,FALSE) ) )","v":""},null,null,null,null,{"$f":"IF(TRIM(DF72)=\"\", \"\", IF(VLOOKUP(DF72,'Footnotes list'!$D$9:$E$58,2,FALSE)=0,\"\",VLOOKUP(DF72,'Footnotes list'!$D$9:$E$58,2,FALSE) ) )","v":""},{"$f":"IF(AND(TRIM(G72)=\"\",TRIM(L72)=\"\",TRIM(BO72)=\"\",TRIM(BT72)=\"\",TRIM(CI72)=\"\",TRIM(CN72)=\"\",TRIM(CS72)=\"\",TRIM(CX72)=\"\",TRIM(DC72)=\"\"),\"\",SUM(G72,L72,BO72,BT72,CI72,CN72,CS72,CX72,DC72))","v":""},null,null,null,{"$f":"IF(TRIM(DK72)=\"\", \"\", IF(VLOOKUP(DK72,'Footnotes list'!$D$9:$E$58,2,FALSE)=0,\"\",VLOOKUP(DK72,'Footnotes list'!$D$9:$E$58,2,FALSE) ) )","v":""}]
[null,null,"W092",null,"HAZ_NHAZ","Total",{"$f":"IF(AND(TRIM(G71)=\"\",TRIM(G72)=\"\"),\"\",G71+G72)","v":""},null,null,null,{"$f":"IF(TRIM(J73)=\"\", \"\", IF(VLOOKUP(J73,'Footnotes list'!$D$9:$E$58,2,FALSE)=0,\"\",VLOOKUP(J73,'Footnotes list'!$D$9:$E$58,2,FALSE) ) )","v":""},{"$f":"IF(AND(TRIM(L71)=\"\",TRIM(L72)=\"\"),\"\",L71+L72)","v":""},null,null,null,{"$f":"IF(TRIM(O73)=\"\", \"\", IF(VLOOKUP(O73,'Footnotes list'!$D$9:$E$58,2,FALSE)=0,\"\",VLOOKUP(O73,'Footnotes list'!$D$9:$E$58,2,FALSE) ) )","v":""},{"$f":"IF(AND(TRIM(Q71)=\"\",TRIM(Q72)=\"\"),\"\",Q71+Q72)","v":""},null,null,null,{"$f":"IF(TRIM(T73)=\"\", \"\", IF(VLOOKUP(T73,'Footnotes list'!$D$9:$E$58,2,FALSE)=0,\"\",VLOOKUP(T73,'Footnotes list'!$D$9:$E$58,2,FALSE) ) )","v":""},{"$f":"IF(AND(TRIM(V71)=\"\",TRIM(V72)=\"\"),\"\",V71+V72)","v":""},null,null,null,{"$f":"IF(TRIM(Y73)=\"\", \"\", IF(VLOOKUP(Y73,'Footnotes list'!$D$9:$E$58,2,FALSE)=0,\"\",VLOOKUP(Y73,'Footnotes list'!$D$9:$E$58,2,FALSE) ) )","v":""},{"$f":"IF(AND(TRIM(AA71)=\"\",TRIM(AA72)=\"\"),\"\",AA71+AA72)","v":""},null,null,null,{"$f":"IF(TRIM(AD73)=\"\", \"\", IF(VLOOKUP(AD73,'Footnotes list'!$D$9:$E$58,2,FALSE)=0,\"\",VLOOKUP(AD73,'Footnotes list'!$D$9:$E$58,2,FALSE) ) )","v":""},{"$f":"IF(AND(TRIM(AF71)=\"\",TRIM(AF72)=\"\"),\"\",AF71+AF72)","v":""},null,null,null,{"$f":"IF(TRIM(AI73)=\"\", \"\", IF(VLOOKUP(AI73,'Footnotes list'!$D$9:$E$58,2,FALSE)=0,\"\",VLOOKUP(AI73,'Footnotes list'!$D$9:$E$58,2,FALSE) ) )","v":""},{"$f":"IF(AND(TRIM(AK71)=\"\",TRIM(AK72)=\"\"),\"\",AK71+AK72)","v":""},null,null,null,{"$f":"IF(TRIM(AN73)=\"\", \"\", IF(VLOOKUP(AN73,'Footnotes list'!$D$9:$E$58,2,FALSE)=0,\"\",VLOOKUP(AN73,'Footnotes list'!$D$9:$E$58,2,FALSE) ) )","v":""},{"$f":"IF(AND(TRIM(AP71)=\"\",TRIM(AP72)=\"\"),\"\",AP71+AP72)","v":""},null,null,null,{"$f":"IF(TRIM(AS73)=\"\", \"\", IF(VLOOKUP(AS73,'Footnotes list'!$D$9:$E$58,2,FALSE)=0,\"\",VLOOKUP(AS73,'Footnotes list'!$D$9:$E$58,2,FALSE) ) )","v":""},{"$f":"IF(AND(TRIM(AU71)=\"\",TRIM(AU72)=\"\"),\"\",AU71+AU72)","v":""},null,null,null,{"$f":"IF(TRIM(AX73)=\"\", \"\", IF(VLOOKUP(AX73,'Footnotes list'!$D$9:$E$58,2,FALSE)=0,\"\",VLOOKUP(AX73,'Footnotes list'!$D$9:$E$58,2,FALSE) ) )","v":""},{"$f":"IF(AND(TRIM(AZ71)=\"\",TRIM(AZ72)=\"\"),\"\",AZ71+AZ72)","v":""},null,null,null,{"$f":"IF(TRIM(BC73)=\"\", \"\", IF(VLOOKUP(BC73,'Footnotes list'!$D$9:$E$58,2,FALSE)=0,\"\",VLOOKUP(BC73,'Footnotes list'!$D$9:$E$58,2,FALSE) ) )","v":""},{"$f":"IF(AND(TRIM(BE71)=\"\",TRIM(BE72)=\"\"),\"\",BE71+BE72)","v":""},null,null,null,{"$f":"IF(TRIM(BH73)=\"\", \"\", IF(VLOOKUP(BH73,'Footnotes list'!$D$9:$E$58,2,FALSE)=0,\"\",VLOOKUP(BH73,'Footnotes list'!$D$9:$E$58,2,FALSE) ) )","v":""},{"$f":"IF(AND(TRIM(BJ71)=\"\",TRIM(BJ72)=\"\"),\"\",BJ71+BJ72)","v":""},null,null,null,{"$f":"IF(TRIM(BM73)=\"\", \"\", IF(VLOOKUP(BM73,'Footnotes list'!$D$9:$E$58,2,FALSE)=0,\"\",VLOOKUP(BM73,'Footnotes list'!$D$9:$E$58,2,FALSE) ) )","v":""},{"$f":"IF(AND(TRIM(BO71)=\"\", TRIM(BO72)=\"\"), \"\", (IF(ISNUMBER(BO71),BO71,0)+IF(ISNUMBER(BO72),BO72,0)))","v":""},null,null,null,{"$f":"IF(TRIM(BR73)=\"\", \"\", IF(VLOOKUP(BR73,'Footnotes list'!$D$9:$E$58,2,FALSE)=0,\"\",VLOOKUP(BR73,'Footnotes list'!$D$9:$E$58,2,FALSE) ) )","v":""},{"$f":"IF(AND(TRIM(BT71)=\"\",TRIM(BT72)=\"\"),\"\",BT71+BT72)","v":""},null,null,null,{"$f":"IF(TRIM(BW73)=\"\", \"\", IF(VLOOKUP(BW73,'Footnotes list'!$D$9:$E$58,2,FALSE)=0,\"\",VLOOKUP(BW73,'Footnotes list'!$D$9:$E$58,2,FALSE) ) )","v":""},{"$f":"IF(AND(TRIM(BY71)=\"\",TRIM(BY72)=\"\"),\"\",BY71+BY72)","v":""},null,null,null,{"$f":"IF(TRIM(CB73)=\"\", \"\", IF(VLOOKUP(CB73,'Footnotes list'!$D$9:$E$58,2,FALSE)=0,\"\",VLOOKUP(CB73,'Footnotes list'!$D$9:$E$58,2,FALSE) ) )","v":""},{"$f":"IF(AND(TRIM(CD71)=\"\",TRIM(CD72)=\"\"),\"\",CD71+CD72)","v":""},null,null,null,{"$f":"IF(TRIM(CG73)=\"\", \"\", IF(VLOOKUP(CG73,'Footnotes list'!$D$9:$E$58,2,FALSE)=0,\"\",VLOOKUP(CG73,'Footnotes list'!$D$9:$E$58,2,FALSE) ) )","v":""},{"$f":"IF(AND(TRIM(CI71)=\"\", TRIM(CI72)=\"\"), \"\", (IF(ISNUMBER(CI71),CI71,0)+IF(ISNUMBER(CI72),CI72,0)))","v":""},null,null,null,{"$f":"IF(TRIM(CL73)=\"\", \"\", IF(VLOOKUP(CL73,'Footnotes list'!$D$9:$E$58,2,FALSE)=0,\"\",VLOOKUP(CL73,'Footnotes list'!$D$9:$E$58,2,FALSE) ) )","v":""},{"$f":"IF(AND(TRIM(CN71)=\"\",TRIM(CN72)=\"\"),\"\",CN71+CN72)","v":""},null,null,null,{"$f":"IF(TRIM(CQ73)=\"\", \"\", IF(VLOOKUP(CQ73,'Footnotes list'!$D$9:$E$58,2,FALSE)=0,\"\",VLOOKUP(CQ73,'Footnotes list'!$D$9:$E$58,2,FALSE) ) )","v":""},{"$f":"IF(AND(TRIM(CS71)=\"\",TRIM(CS72)=\"\"),\"\",CS71+CS72)","v":""},null,null,null,{"$f":"IF(TRIM(CV73)=\"\", \"\", IF(VLOOKUP(CV73,'Footnotes list'!$D$9:$E$58,2,FALSE)=0,\"\",VLOOKUP(CV73,'Footnotes list'!$D$9:$E$58,2,FALSE) ) )","v":""},{"$f":"IF(AND(TRIM(CX71)=\"\",TRIM(CX72)=\"\"),\"\",CX71+CX72)","v":""},null,null,null,{"$f":"IF(TRIM(DA73)=\"\", \"\", IF(VLOOKUP(DA73,'Footnotes list'!$D$9:$E$58,2,FALSE)=0,\"\",VLOOKUP(DA73,'Footnotes list'!$D$9:$E$58,2,FALSE) ) )","v":""},{"$f":"IF(AND(TRIM(DC71)=\"\",TRIM(DC72)=\"\"),\"\",DC71+DC72)","v":""},null,null,null,{"$f":"IF(TRIM(DF73)=\"\", \"\", IF(VLOOKUP(DF73,'Footnotes list'!$D$9:$E$58,2,FALSE)=0,\"\",VLOOKUP(DF73,'Footnotes list'!$D$9:$E$58,2,FALSE) ) )","v":""},{"$f":"IF(AND(TRIM(DH71)=\"\", TRIM(DH72)=\"\"), \"\", SUM(DH71,DH72) )","v":""},null,null,null,{"$f":"IF(TRIM(DK73)=\"\", \"\", IF(VLOOKUP(DK73,'Footnotes list'!$D$9:$E$58,2,FALSE)=0,\"\",VLOOKUP(DK73,'Footnotes list'!$D$9:$E$58,2,FALSE) ) )","v":""}]
[null,"W093",null,"Animal faeces, urine and manure ",null,"Not applicable"]
[null,null,"W093",null,"NHAZ","Non-hazardous",null,null,null,null,{"$f":"IF(TRIM(J75)=\"\", \"\", IF(VLOOKUP(J75,'Footnotes list'!$D$9:$E$58,2,FALSE)=0,\"\",VLOOKUP(J75,'Footnotes list'!$D$9:$E$58,2,FALSE) ) )","v":""},null,null,null,null,{"$f":"IF(TRIM(O75)=\"\", \"\", IF(VLOOKUP(O75,'Footnotes list'!$D$9:$E$58,2,FALSE)=0,\"\",VLOOKUP(O75,'Footnotes list'!$D$9:$E$58,2,FALSE) ) )","v":""},null,null,null,null,{"$f":"IF(TRIM(T75)=\"\", \"\", IF(VLOOKUP(T75,'Footnotes list'!$D$9:$E$58,2,FALSE)=0,\"\",VLOOKUP(T75,'Footnotes list'!$D$9:$E$58,2,FALSE) ) )","v":""},null,null,null,null,{"$f":"IF(TRIM(Y75)=\"\", \"\", IF(VLOOKUP(Y75,'Footnotes list'!$D$9:$E$58,2,FALSE)=0,\"\",VLOOKUP(Y75,'Footnotes list'!$D$9:$E$58,2,FALSE) ) )","v":""},null,null,null,null,{"$f":"IF(TRIM(AD75)=\"\", \"\", IF(VLOOKUP(AD75,'Footnotes list'!$D$9:$E$58,2,FALSE)=0,\"\",VLOOKUP(AD75,'Footnotes list'!$D$9:$E$58,2,FALSE) ) )","v":""},null,null,null,null,{"$f":"IF(TRIM(AI75)=\"\", \"\", IF(VLOOKUP(AI75,'Footnotes list'!$D$9:$E$58,2,FALSE)=0,\"\",VLOOKUP(AI75,'Footnotes list'!$D$9:$E$58,2,FALSE) ) )","v":""},null,null,null,null,{"$f":"IF(TRIM(AN75)=\"\", \"\", IF(VLOOKUP(AN75,'Footnotes list'!$D$9:$E$58,2,FALSE)=0,\"\",VLOOKUP(AN75,'Footnotes list'!$D$9:$E$58,2,FALSE) ) )","v":""},null,null,null,null,{"$f":"IF(TRIM(AS75)=\"\", \"\", IF(VLOOKUP(AS75,'Footnotes list'!$D$9:$E$58,2,FALSE)=0,\"\",VLOOKUP(AS75,'Footnotes list'!$D$9:$E$58,2,FALSE) ) )","v":""},null,null,null,null,{"$f":"IF(TRIM(AX75)=\"\", \"\", IF(VLOOKUP(AX75,'Footnotes list'!$D$9:$E$58,2,FALSE)=0,\"\",VLOOKUP(AX75,'Footnotes list'!$D$9:$E$58,2,FALSE) ) )","v":""},null,null,null,null,{"$f":"IF(TRIM(BC75)=\"\", \"\", IF(VLOOKUP(BC75,'Footnotes list'!$D$9:$E$58,2,FALSE)=0,\"\",VLOOKUP(BC75,'Footnotes list'!$D$9:$E$58,2,FALSE) ) )","v":""},null,null,null,null,{"$f":"IF(TRIM(BH75)=\"\", \"\", IF(VLOOKUP(BH75,'Footnotes list'!$D$9:$E$58,2,FALSE)=0,\"\",VLOOKUP(BH75,'Footnotes list'!$D$9:$E$58,2,FALSE) ) )","v":""},null,null,null,null,{"$f":"IF(TRIM(BM75)=\"\", \"\", IF(VLOOKUP(BM75,'Footnotes list'!$D$9:$E$58,2,FALSE)=0,\"\",VLOOKUP(BM75,'Footnotes list'!$D$9:$E$58,2,FALSE) ) )","v":""},{"$f":"IF(AND(TRIM(Q75)=\"\",TRIM(V75)=\"\",TRIM(AA75)=\"\", TRIM(AF75)=\"\", TRIM(AK75)=\"\", TRIM(AP75)=\"\", TRIM(AU75)=\"\", TRIM(AZ75)=\"\", TRIM(BE75)=\"\", TRIM(BJ75)=\"\"),\"\",Q75+V75+AA75+AF75+AK75+AP75+AU75+AZ75+BE75+BJ75)","v":""},null,null,null,{"$f":"IF(TRIM(BR75)=\"\", \"\", IF(VLOOKUP(BR75,'Footnotes list'!$D$9:$E$58,2,FALSE)=0,\"\",VLOOKUP(BR75,'Footnotes list'!$D$9:$E$58,2,FALSE) ) )","v":""},null,null,null,null,{"$f":"IF(TRIM(BW75)=\"\", \"\", IF(VLOOKUP(BW75,'Footnotes list'!$D$9:$E$58,2,FALSE)=0,\"\",VLOOKUP(BW75,'Footnotes list'!$D$9:$E$58,2,FALSE) ) )","v":""},null,null,null,null,{"$f":"IF(TRIM(CB75)=\"\", \"\", IF(VLOOKUP(CB75,'Footnotes list'!$D$9:$E$58,2,FALSE)=0,\"\",VLOOKUP(CB75,'Footnotes list'!$D$9:$E$58,2,FALSE) ) )","v":""},null,null,null,null,{"$f":"IF(TRIM(CG75)=\"\", \"\", IF(VLOOKUP(CG75,'Footnotes list'!$D$9:$E$58,2,FALSE)=0,\"\",VLOOKUP(CG75,'Footnotes list'!$D$9:$E$58,2,FALSE) ) )","v":""},{"$f":"IF(AND(TRIM(BY75)=\"\",TRIM(CD75)=\"\"),\"\",BY75+CD75)","v":""},null,null,null,{"$f":"IF(TRIM(CL75)=\"\", \"\", IF(VLOOKUP(CL75,'Footnotes list'!$D$9:$E$58,2,FALSE)=0,\"\",VLOOKUP(CL75,'Footnotes list'!$D$9:$E$58,2,FALSE) ) )","v":""},null,null,null,null,{"$f":"IF(TRIM(CQ75)=\"\", \"\", IF(VLOOKUP(CQ75,'Footnotes list'!$D$9:$E$58,2,FALSE)=0,\"\",VLOOKUP(CQ75,'Footnotes list'!$D$9:$E$58,2,FALSE) ) )","v":""},null,null,null,null,{"$f":"IF(TRIM(CV75)=\"\", \"\", IF(VLOOKUP(CV75,'Footnotes list'!$D$9:$E$58,2,FALSE)=0,\"\",VLOOKUP(CV75,'Footnotes list'!$D$9:$E$58,2,FALSE) ) )","v":""},null,null,null,null,{"$f":"IF(TRIM(DA75)=\"\", \"\", IF(VLOOKUP(DA75,'Footnotes list'!$D$9:$E$58,2,FALSE)=0,\"\",VLOOKUP(DA75,'Footnotes list'!$D$9:$E$58,2,FALSE) ) )","v":""},null,null,null,null,{"$f":"IF(TRIM(DF75)=\"\", \"\", IF(VLOOKUP(DF75,'Footnotes list'!$D$9:$E$58,2,FALSE)=0,\"\",VLOOKUP(DF75,'Footnotes list'!$D$9:$E$58,2,FALSE) ) )","v":""},{"$f":"IF(AND(TRIM(G75)=\"\",TRIM(L75)=\"\",TRIM(BO75)=\"\",TRIM(BT75)=\"\",TRIM(CI75)=\"\",TRIM(CN75)=\"\",TRIM(CS75)=\"\",TRIM(CX75)=\"\",TRIM(DC75)=\"\"),\"\",SUM(G75,L75,BO75,BT75,CI75,CN75,CS75,CX75,DC75))","v":""},null,null,null,{"$f":"IF(TRIM(DK75)=\"\", \"\", IF(VLOOKUP(DK75,'Footnotes list'!$D$9:$E$58,2,FALSE)=0,\"\",VLOOKUP(DK75,'Footnotes list'!$D$9:$E$58,2,FALSE) ) )","v":""}]
[null,null,"W093",null,"HAZ_NHAZ","Total",{"$f":"IF(AND(TRIM(G74)=\"\",TRIM(G75)=\"\"),\"\",G74+G75)","v":""},null,null,null,{"$f":"IF(TRIM(J76)=\"\", \"\", IF(VLOOKUP(J76,'Footnotes list'!$D$9:$E$58,2,FALSE)=0,\"\",VLOOKUP(J76,'Footnotes list'!$D$9:$E$58,2,FALSE) ) )","v":""},{"$f":"IF(AND(TRIM(L74)=\"\",TRIM(L75)=\"\"),\"\",L74+L75)","v":""},null,null,null,{"$f":"IF(TRIM(O76)=\"\", \"\", IF(VLOOKUP(O76,'Footnotes list'!$D$9:$E$58,2,FALSE)=0,\"\",VLOOKUP(O76,'Footnotes list'!$D$9:$E$58,2,FALSE) ) )","v":""},{"$f":"IF(AND(TRIM(Q74)=\"\",TRIM(Q75)=\"\"),\"\",Q74+Q75)","v":""},null,null,null,{"$f":"IF(TRIM(T76)=\"\", \"\", IF(VLOOKUP(T76,'Footnotes list'!$D$9:$E$58,2,FALSE)=0,\"\",VLOOKUP(T76,'Footnotes list'!$D$9:$E$58,2,FALSE) ) )","v":""},{"$f":"IF(AND(TRIM(V74)=\"\",TRIM(V75)=\"\"),\"\",V74+V75)","v":""},null,null,null,{"$f":"IF(TRIM(Y76)=\"\", \"\", IF(VLOOKUP(Y76,'Footnotes list'!$D$9:$E$58,2,FALSE)=0,\"\",VLOOKUP(Y76,'Footnotes list'!$D$9:$E$58,2,FALSE) ) )","v":""},{"$f":"IF(AND(TRIM(AA74)=\"\",TRIM(AA75)=\"\"),\"\",AA74+AA75)","v":""},null,null,null,{"$f":"IF(TRIM(AD76)=\"\", \"\", IF(VLOOKUP(AD76,'Footnotes list'!$D$9:$E$58,2,FALSE)=0,\"\",VLOOKUP(AD76,'Footnotes list'!$D$9:$E$58,2,FALSE) ) )","v":""},{"$f":"IF(AND(TRIM(AF74)=\"\",TRIM(AF75)=\"\"),\"\",AF74+AF75)","v":""},null,null,null,{"$f":"IF(TRIM(AI76)=\"\", \"\", IF(VLOOKUP(AI76,'Footnotes list'!$D$9:$E$58,2,FALSE)=0,\"\",VLOOKUP(AI76,'Footnotes list'!$D$9:$E$58,2,FALSE) ) )","v":""},{"$f":"IF(AND(TRIM(AK74)=\"\",TRIM(AK75)=\"\"),\"\",AK74+AK75)","v":""},null,null,null,{"$f":"IF(TRIM(AN76)=\"\", \"\", IF(VLOOKUP(AN76,'Footnotes list'!$D$9:$E$58,2,FALSE)=0,\"\",VLOOKUP(AN76,'Footnotes list'!$D$9:$E$58,2,FALSE) ) )","v":""},{"$f":"IF(AND(TRIM(AP74)=\"\",TRIM(AP75)=\"\"),\"\",AP74+AP75)","v":""},null,null,null,{"$f":"IF(TRIM(AS76)=\"\", \"\", IF(VLOOKUP(AS76,'Footnotes list'!$D$9:$E$58,2,FALSE)=0,\"\",VLOOKUP(AS76,'Footnotes list'!$D$9:$E$58,2,FALSE) ) )","v":""},{"$f":"IF(AND(TRIM(AU74)=\"\",TRIM(AU75)=\"\"),\"\",AU74+AU75)","v":""},null,null,null,{"$f":"IF(TRIM(AX76)=\"\", \"\", IF(VLOOKUP(AX76,'Footnotes list'!$D$9:$E$58,2,FALSE)=0,\"\",VLOOKUP(AX76,'Footnotes list'!$D$9:$E$58,2,FALSE) ) )","v":""},{"$f":"IF(AND(TRIM(AZ74)=\"\",TRIM(AZ75)=\"\"),\"\",AZ74+AZ75)","v":""},null,null,null,{"$f":"IF(TRIM(BC76)=\"\", \"\", IF(VLOOKUP(BC76,'Footnotes list'!$D$9:$E$58,2,FALSE)=0,\"\",VLOOKUP(BC76,'Footnotes list'!$D$9:$E$58,2,FALSE) ) )","v":""},{"$f":"IF(AND(TRIM(BE74)=\"\",TRIM(BE75)=\"\"),\"\",BE74+BE75)","v":""},null,null,null,{"$f":"IF(TRIM(BH76)=\"\", \"\", IF(VLOOKUP(BH76,'Footnotes list'!$D$9:$E$58,2,FALSE)=0,\"\",VLOOKUP(BH76,'Footnotes list'!$D$9:$E$58,2,FALSE) ) )","v":""},{"$f":"IF(AND(TRIM(BJ74)=\"\",TRIM(BJ75)=\"\"),\"\",BJ74+BJ75)","v":""},null,null,null,{"$f":"IF(TRIM(BM76)=\"\", \"\", IF(VLOOKUP(BM76,'Footnotes list'!$D$9:$E$58,2,FALSE)=0,\"\",VLOOKUP(BM76,'Footnotes list'!$D$9:$E$58,2,FALSE) ) )","v":""},{"$f":"IF(AND(TRIM(BO74)=\"\", TRIM(BO75)=\"\"), \"\", (IF(ISNUMBER(BO74),BO74,0)+IF(ISNUMBER(BO75),BO75,0)))","v":""},null,null,null,{"$f":"IF(TRIM(BR76)=\"\", \"\", IF(VLOOKUP(BR76,'Footnotes list'!$D$9:$E$58,2,FALSE)=0,\"\",VLOOKUP(BR76,'Footnotes list'!$D$9:$E$58,2,FALSE) ) )","v":""},{"$f":"IF(AND(TRIM(BT74)=\"\",TRIM(BT75)=\"\"),\"\",BT74+BT75)","v":""},null,null,null,{"$f":"IF(TRIM(BW76)=\"\", \"\", IF(VLOOKUP(BW76,'Footnotes list'!$D$9:$E$58,2,FALSE)=0,\"\",VLOOKUP(BW76,'Footnotes list'!$D$9:$E$58,2,FALSE) ) )","v":""},{"$f":"IF(AND(TRIM(BY74)=\"\",TRIM(BY75)=\"\"),\"\",BY74+BY75)","v":""},null,null,null,{"$f":"IF(TRIM(CB76)=\"\", \"\", IF(VLOOKUP(CB76,'Footnotes list'!$D$9:$E$58,2,FALSE)=0,\"\",VLOOKUP(CB76,'Footnotes list'!$D$9:$E$58,2,FALSE) ) )","v":""},{"$f":"IF(AND(TRIM(CD74)=\"\",TRIM(CD75)=\"\"),\"\",CD74+CD75)","v":""},null,null,null,{"$f":"IF(TRIM(CG76)=\"\", \"\", IF(VLOOKUP(CG76,'Footnotes list'!$D$9:$E$58,2,FALSE)=0,\"\",VLOOKUP(CG76,'Footnotes list'!$D$9:$E$58,2,FALSE) ) )","v":""},{"$f":"IF(AND(TRIM(CI74)=\"\", TRIM(CI75)=\"\"), \"\", (IF(ISNUMBER(CI74),CI74,0)+IF(ISNUMBER(CI75),CI75,0)))","v":""},null,null,null,{"$f":"IF(TRIM(CL76)=\"\", \"\", IF(VLOOKUP(CL76,'Footnotes list'!$D$9:$E$58,2,FALSE)=0,\"\",VLOOKUP(CL76,'Footnotes list'!$D$9:$E$58,2,FALSE) ) )","v":""},{"$f":"IF(AND(TRIM(CN74)=\"\",TRIM(CN75)=\"\"),\"\",CN74+CN75)","v":""},null,null,null,{"$f":"IF(TRIM(CQ76)=\"\", \"\", IF(VLOOKUP(CQ76,'Footnotes list'!$D$9:$E$58,2,FALSE)=0,\"\",VLOOKUP(CQ76,'Footnotes list'!$D$9:$E$58,2,FALSE) ) )","v":""},{"$f":"IF(AND(TRIM(CS74)=\"\",TRIM(CS75)=\"\"),\"\",CS74+CS75)","v":""},null,null,null,{"$f":"IF(TRIM(CV76)=\"\", \"\", IF(VLOOKUP(CV76,'Footnotes list'!$D$9:$E$58,2,FALSE)=0,\"\",VLOOKUP(CV76,'Footnotes list'!$D$9:$E$58,2,FALSE) ) )","v":""},{"$f":"IF(AND(TRIM(CX74)=\"\",TRIM(CX75)=\"\"),\"\",CX74+CX75)","v":""},null,null,null,{"$f":"IF(TRIM(DA76)=\"\", \"\", IF(VLOOKUP(DA76,'Footnotes list'!$D$9:$E$58,2,FALSE)=0,\"\",VLOOKUP(DA76,'Footnotes list'!$D$9:$E$58,2,FALSE) ) )","v":""},{"$f":"IF(AND(TRIM(DC74)=\"\",TRIM(DC75)=\"\"),\"\",DC74+DC75)","v":""},null,null,null,{"$f":"IF(TRIM(DF76)=\"\", \"\", IF(VLOOKUP(DF76,'Footnotes list'!$D$9:$E$58,2,FALSE)=0,\"\",VLOOKUP(DF76,'Footnotes list'!$D$9:$E$58,2,FALSE) ) )","v":""},{"$f":"IF(AND(TRIM(DH74)=\"\", TRIM(DH75)=\"\"), \"\", SUM(DH74,DH75) )","v":""},null,null,null,{"$f":"IF(TRIM(DK76)=\"\", \"\", IF(VLOOKUP(DK76,'Footnotes list'!$D$9:$E$58,2,FALSE)=0,\"\",VLOOKUP(DK76,'Footnotes list'!$D$9:$E$58,2,FALSE) ) )","v":""}]
[null,"W101",null,"Household and similar wastes ",null,"Not applicable"]
[null,null,"W101",null,"NHAZ","Non-hazardous",null,null,null,null,{"$f":"IF(TRIM(J78)=\"\", \"\", IF(VLOOKUP(J78,'Footnotes list'!$D$9:$E$58,2,FALSE)=0,\"\",VLOOKUP(J78,'Footnotes list'!$D$9:$E$58,2,FALSE) ) )","v":""},null,null,null,null,{"$f":"IF(TRIM(O78)=\"\", \"\", IF(VLOOKUP(O78,'Footnotes list'!$D$9:$E$58,2,FALSE)=0,\"\",VLOOKUP(O78,'Footnotes list'!$D$9:$E$58,2,FALSE) ) )","v":""},null,null,null,null,{"$f":"IF(TRIM(T78)=\"\", \"\", IF(VLOOKUP(T78,'Footnotes list'!$D$9:$E$58,2,FALSE)=0,\"\",VLOOKUP(T78,'Footnotes list'!$D$9:$E$58,2,FALSE) ) )","v":""},null,null,null,null,{"$f":"IF(TRIM(Y78)=\"\", \"\", IF(VLOOKUP(Y78,'Footnotes list'!$D$9:$E$58,2,FALSE)=0,\"\",VLOOKUP(Y78,'Footnotes list'!$D$9:$E$58,2,FALSE) ) )","v":""},null,null,null,null,{"$f":"IF(TRIM(AD78)=\"\", \"\", IF(VLOOKUP(AD78,'Footnotes list'!$D$9:$E$58,2,FALSE)=0,\"\",VLOOKUP(AD78,'Footnotes list'!$D$9:$E$58,2,FALSE) ) )","v":""},null,null,null,null,{"$f":"IF(TRIM(AI78)=\"\", \"\", IF(VLOOKUP(AI78,'Footnotes list'!$D$9:$E$58,2,FALSE)=0,\"\",VLOOKUP(AI78,'Footnotes list'!$D$9:$E$58,2,FALSE) ) )","v":""},null,null,null,null,{"$f":"IF(TRIM(AN78)=\"\", \"\", IF(VLOOKUP(AN78,'Footnotes list'!$D$9:$E$58,2,FALSE)=0,\"\",VLOOKUP(AN78,'Footnotes list'!$D$9:$E$58,2,FALSE) ) )","v":""},null,null,null,null,{"$f":"IF(TRIM(AS78)=\"\", \"\", IF(VLOOKUP(AS78,'Footnotes list'!$D$9:$E$58,2,FALSE)=0,\"\",VLOOKUP(AS78,'Footnotes list'!$D$9:$E$58,2,FALSE) ) )","v":""},null,null,null,null,{"$f":"IF(TRIM(AX78)=\"\", \"\", IF(VLOOKUP(AX78,'Footnotes list'!$D$9:$E$58,2,FALSE)=0,\"\",VLOOKUP(AX78,'Footnotes list'!$D$9:$E$58,2,FALSE) ) )","v":""},null,null,null,null,{"$f":"IF(TRIM(BC78)=\"\", \"\", IF(VLOOKUP(BC78,'Footnotes list'!$D$9:$E$58,2,FALSE)=0,\"\",VLOOKUP(BC78,'Footnotes list'!$D$9:$E$58,2,FALSE) ) )","v":""},null,null,null,null,{"$f":"IF(TRIM(BH78)=\"\", \"\", IF(VLOOKUP(BH78,'Footnotes list'!$D$9:$E$58,2,FALSE)=0,\"\",VLOOKUP(BH78,'Footnotes list'!$D$9:$E$58,2,FALSE) ) )","v":""},null,null,null,null,{"$f":"IF(TRIM(BM78)=\"\", \"\", IF(VLOOKUP(BM78,'Footnotes list'!$D$9:$E$58,2,FALSE)=0,\"\",VLOOKUP(BM78,'Footnotes list'!$D$9:$E$58,2,FALSE) ) )","v":""},{"$f":"IF(AND(TRIM(Q78)=\"\",TRIM(V78)=\"\",TRIM(AA78)=\"\", TRIM(AF78)=\"\", TRIM(AK78)=\"\", TRIM(AP78)=\"\", TRIM(AU78)=\"\", TRIM(AZ78)=\"\", TRIM(BE78)=\"\", TRIM(BJ78)=\"\"),\"\",Q78+V78+AA78+AF78+AK78+AP78+AU78+AZ78+BE78+BJ78)","v":""},null,null,null,{"$f":"IF(TRIM(BR78)=\"\", \"\", IF(VLOOKUP(BR78,'Footnotes list'!$D$9:$E$58,2,FALSE)=0,\"\",VLOOKUP(BR78,'Footnotes list'!$D$9:$E$58,2,FALSE) ) )","v":""},null,null,null,null,{"$f":"IF(TRIM(BW78)=\"\", \"\", IF(VLOOKUP(BW78,'Footnotes list'!$D$9:$E$58,2,FALSE)=0,\"\",VLOOKUP(BW78,'Footnotes list'!$D$9:$E$58,2,FALSE) ) )","v":""},null,null,null,null,{"$f":"IF(TRIM(CB78)=\"\", \"\", IF(VLOOKUP(CB78,'Footnotes list'!$D$9:$E$58,2,FALSE)=0,\"\",VLOOKUP(CB78,'Footnotes list'!$D$9:$E$58,2,FALSE) ) )","v":""},null,null,null,null,{"$f":"IF(TRIM(CG78)=\"\", \"\", IF(VLOOKUP(CG78,'Footnotes list'!$D$9:$E$58,2,FALSE)=0,\"\",VLOOKUP(CG78,'Footnotes list'!$D$9:$E$58,2,FALSE) ) )","v":""},{"$f":"IF(AND(TRIM(BY78)=\"\",TRIM(CD78)=\"\"),\"\",BY78+CD78)","v":""},null,null,null,{"$f":"IF(TRIM(CL78)=\"\", \"\", IF(VLOOKUP(CL78,'Footnotes list'!$D$9:$E$58,2,FALSE)=0,\"\",VLOOKUP(CL78,'Footnotes list'!$D$9:$E$58,2,FALSE) ) )","v":""},null,null,null,null,{"$f":"IF(TRIM(CQ78)=\"\", \"\", IF(VLOOKUP(CQ78,'Footnotes list'!$D$9:$E$58,2,FALSE)=0,\"\",VLOOKUP(CQ78,'Footnotes list'!$D$9:$E$58,2,FALSE) ) )","v":""},null,null,null,null,{"$f":"IF(TRIM(CV78)=\"\", \"\", IF(VLOOKUP(CV78,'Footnotes list'!$D$9:$E$58,2,FALSE)=0,\"\",VLOOKUP(CV78,'Footnotes list'!$D$9:$E$58,2,FALSE) ) )","v":""},null,null,null,null,{"$f":"IF(TRIM(DA78)=\"\", \"\", IF(VLOOKUP(DA78,'Footnotes list'!$D$9:$E$58,2,FALSE)=0,\"\",VLOOKUP(DA78,'Footnotes list'!$D$9:$E$58,2,FALSE) ) )","v":""},null,null,null,null,{"$f":"IF(TRIM(DF78)=\"\", \"\", IF(VLOOKUP(DF78,'Footnotes list'!$D$9:$E$58,2,FALSE)=0,\"\",VLOOKUP(DF78,'Footnotes list'!$D$9:$E$58,2,FALSE) ) )","v":""},{"$f":"IF(AND(TRIM(G78)=\"\",TRIM(L78)=\"\",TRIM(BO78)=\"\",TRIM(BT78)=\"\",TRIM(CI78)=\"\",TRIM(CN78)=\"\",TRIM(CS78)=\"\",TRIM(CX78)=\"\",TRIM(DC78)=\"\"),\"\",SUM(G78,L78,BO78,BT78,CI78,CN78,CS78,CX78,DC78))","v":""},null,null,null,{"$f":"IF(TRIM(DK78)=\"\", \"\", IF(VLOOKUP(DK78,'Footnotes list'!$D$9:$E$58,2,FALSE)=0,\"\",VLOOKUP(DK78,'Footnotes list'!$D$9:$E$58,2,FALSE) ) )","v":""}]
[null,null,"W101",null,"HAZ_NHAZ","Total",{"$f":"IF(AND(TRIM(G77)=\"\",TRIM(G78)=\"\"),\"\",G77+G78)","v":""},null,null,null,{"$f":"IF(TRIM(J79)=\"\", \"\", IF(VLOOKUP(J79,'Footnotes list'!$D$9:$E$58,2,FALSE)=0,\"\",VLOOKUP(J79,'Footnotes list'!$D$9:$E$58,2,FALSE) ) )","v":""},{"$f":"IF(AND(TRIM(L77)=\"\",TRIM(L78)=\"\"),\"\",L77+L78)","v":""},null,null,null,{"$f":"IF(TRIM(O79)=\"\", \"\", IF(VLOOKUP(O79,'Footnotes list'!$D$9:$E$58,2,FALSE)=0,\"\",VLOOKUP(O79,'Footnotes list'!$D$9:$E$58,2,FALSE) ) )","v":""},{"$f":"IF(AND(TRIM(Q77)=\"\",TRIM(Q78)=\"\"),\"\",Q77+Q78)","v":""},null,null,null,{"$f":"IF(TRIM(T79)=\"\", \"\", IF(VLOOKUP(T79,'Footnotes list'!$D$9:$E$58,2,FALSE)=0,\"\",VLOOKUP(T79,'Footnotes list'!$D$9:$E$58,2,FALSE) ) )","v":""},{"$f":"IF(AND(TRIM(V77)=\"\",TRIM(V78)=\"\"),\"\",V77+V78)","v":""},null,null,null,{"$f":"IF(TRIM(Y79)=\"\", \"\", IF(VLOOKUP(Y79,'Footnotes list'!$D$9:$E$58,2,FALSE)=0,\"\",VLOOKUP(Y79,'Footnotes list'!$D$9:$E$58,2,FALSE) ) )","v":""},{"$f":"IF(AND(TRIM(AA77)=\"\",TRIM(AA78)=\"\"),\"\",AA77+AA78)","v":""},null,null,null,{"$f":"IF(TRIM(AD79)=\"\", \"\", IF(VLOOKUP(AD79,'Footnotes list'!$D$9:$E$58,2,FALSE)=0,\"\",VLOOKUP(AD79,'Footnotes list'!$D$9:$E$58,2,FALSE) ) )","v":""},{"$f":"IF(AND(TRIM(AF77)=\"\",TRIM(AF78)=\"\"),\"\",AF77+AF78)","v":""},null,null,null,{"$f":"IF(TRIM(AI79)=\"\", \"\", IF(VLOOKUP(AI79,'Footnotes list'!$D$9:$E$58,2,FALSE)=0,\"\",VLOOKUP(AI79,'Footnotes list'!$D$9:$E$58,2,FALSE) ) )","v":""},{"$f":"IF(AND(TRIM(AK77)=\"\",TRIM(AK78)=\"\"),\"\",AK77+AK78)","v":""},null,null,null,{"$f":"IF(TRIM(AN79)=\"\", \"\", IF(VLOOKUP(AN79,'Footnotes list'!$D$9:$E$58,2,FALSE)=0,\"\",VLOOKUP(AN79,'Footnotes list'!$D$9:$E$58,2,FALSE) ) )","v":""},{"$f":"IF(AND(TRIM(AP77)=\"\",TRIM(AP78)=\"\"),\"\",AP77+AP78)","v":""},null,null,null,{"$f":"IF(TRIM(AS79)=\"\", \"\", IF(VLOOKUP(AS79,'Footnotes list'!$D$9:$E$58,2,FALSE)=0,\"\",VLOOKUP(AS79,'Footnotes list'!$D$9:$E$58,2,FALSE) ) )","v":""},{"$f":"IF(AND(TRIM(AU77)=\"\",TRIM(AU78)=\"\"),\"\",AU77+AU78)","v":""},null,null,null,{"$f":"IF(TRIM(AX79)=\"\", \"\", IF(VLOOKUP(AX79,'Footnotes list'!$D$9:$E$58,2,FALSE)=0,\"\",VLOOKUP(AX79,'Footnotes list'!$D$9:$E$58,2,FALSE) ) )","v":""},{"$f":"IF(AND(TRIM(AZ77)=\"\",TRIM(AZ78)=\"\"),\"\",AZ77+AZ78)","v":""},null,null,null,{"$f":"IF(TRIM(BC79)=\"\", \"\", IF(VLOOKUP(BC79,'Footnotes list'!$D$9:$E$58,2,FALSE)=0,\"\",VLOOKUP(BC79,'Footnotes list'!$D$9:$E$58,2,FALSE) ) )","v":""},{"$f":"IF(AND(TRIM(BE77)=\"\",TRIM(BE78)=\"\"),\"\",BE77+BE78)","v":""},null,null,null,{"$f":"IF(TRIM(BH79)=\"\", \"\", IF(VLOOKUP(BH79,'Footnotes list'!$D$9:$E$58,2,FALSE)=0,\"\",VLOOKUP(BH79,'Footnotes list'!$D$9:$E$58,2,FALSE) ) )","v":""},{"$f":"IF(AND(TRIM(BJ77)=\"\",TRIM(BJ78)=\"\"),\"\",BJ77+BJ78)","v":""},null,null,null,{"$f":"IF(TRIM(BM79)=\"\", \"\", IF(VLOOKUP(BM79,'Footnotes list'!$D$9:$E$58,2,FALSE)=0,\"\",VLOOKUP(BM79,'Footnotes list'!$D$9:$E$58,2,FALSE) ) )","v":""},{"$f":"IF(AND(TRIM(BO77)=\"\", TRIM(BO78)=\"\"), \"\", (IF(ISNUMBER(BO77),BO77,0)+IF(ISNUMBER(BO78),BO78,0)))","v":""},null,null,null,{"$f":"IF(TRIM(BR79)=\"\", \"\", IF(VLOOKUP(BR79,'Footnotes list'!$D$9:$E$58,2,FALSE)=0,\"\",VLOOKUP(BR79,'Footnotes list'!$D$9:$E$58,2,FALSE) ) )","v":""},{"$f":"IF(AND(TRIM(BT77)=\"\",TRIM(BT78)=\"\"),\"\",BT77+BT78)","v":""},null,null,null,{"$f":"IF(TRIM(BW79)=\"\", \"\", IF(VLOOKUP(BW79,'Footnotes list'!$D$9:$E$58,2,FALSE)=0,\"\",VLOOKUP(BW79,'Footnotes list'!$D$9:$E$58,2,FALSE) ) )","v":""},{"$f":"IF(AND(TRIM(BY77)=\"\",TRIM(BY78)=\"\"),\"\",BY77+BY78)","v":""},null,null,null,{"$f":"IF(TRIM(CB79)=\"\", \"\", IF(VLOOKUP(CB79,'Footnotes list'!$D$9:$E$58,2,FALSE)=0,\"\",VLOOKUP(CB79,'Footnotes list'!$D$9:$E$58,2,FALSE) ) )","v":""},{"$f":"IF(AND(TRIM(CD77)=\"\",TRIM(CD78)=\"\"),\"\",CD77+CD78)","v":""},null,null,null,{"$f":"IF(TRIM(CG79)=\"\", \"\", IF(VLOOKUP(CG79,'Footnotes list'!$D$9:$E$58,2,FALSE)=0,\"\",VLOOKUP(CG79,'Footnotes list'!$D$9:$E$58,2,FALSE) ) )","v":""},{"$f":"IF(AND(TRIM(CI77)=\"\", TRIM(CI78)=\"\"), \"\", (IF(ISNUMBER(CI77),CI77,0)+IF(ISNUMBER(CI78),CI78,0)))","v":""},null,null,null,{"$f":"IF(TRIM(CL79)=\"\", \"\", IF(VLOOKUP(CL79,'Footnotes list'!$D$9:$E$58,2,FALSE)=0,\"\",VLOOKUP(CL79,'Footnotes list'!$D$9:$E$58,2,FALSE) ) )","v":""},{"$f":"IF(AND(TRIM(CN77)=\"\",TRIM(CN78)=\"\"),\"\",CN77+CN78)","v":""},null,null,null,{"$f":"IF(TRIM(CQ79)=\"\", \"\", IF(VLOOKUP(CQ79,'Footnotes list'!$D$9:$E$58,2,FALSE)=0,\"\",VLOOKUP(CQ79,'Footnotes list'!$D$9:$E$58,2,FALSE) ) )","v":""},{"$f":"IF(AND(TRIM(CS77)=\"\",TRIM(CS78)=\"\"),\"\",CS77+CS78)","v":""},null,null,null,{"$f":"IF(TRIM(CV79)=\"\", \"\", IF(VLOOKUP(CV79,'Footnotes list'!$D$9:$E$58,2,FALSE)=0,\"\",VLOOKUP(CV79,'Footnotes list'!$D$9:$E$58,2,FALSE) ) )","v":""},{"$f":"IF(AND(TRIM(CX77)=\"\",TRIM(CX78)=\"\"),\"\",CX77+CX78)","v":""},null,null,null,{"$f":"IF(TRIM(DA79)=\"\", \"\", IF(VLOOKUP(DA79,'Footnotes list'!$D$9:$E$58,2,FALSE)=0,\"\",VLOOKUP(DA79,'Footnotes list'!$D$9:$E$58,2,FALSE) ) )","v":""},{"$f":"IF(AND(TRIM(DC77)=\"\",TRIM(DC78)=\"\"),\"\",DC77+DC78)","v":""},null,null,null,{"$f":"IF(TRIM(DF79)=\"\", \"\", IF(VLOOKUP(DF79,'Footnotes list'!$D$9:$E$58,2,FALSE)=0,\"\",VLOOKUP(DF79,'Footnotes list'!$D$9:$E$58,2,FALSE) ) )","v":""},{"$f":"IF(AND(TRIM(DH77)=\"\", TRIM(DH78)=\"\"), \"\", SUM(DH77,DH78) )","v":""},null,null,null,{"$f":"IF(TRIM(DK79)=\"\", \"\", IF(VLOOKUP(DK79,'Footnotes list'!$D$9:$E$58,2,FALSE)=0,\"\",VLOOKUP(DK79,'Footnotes list'!$D$9:$E$58,2,FALSE) ) )","v":""}]
[null,"W102","W102","Mixed and undifferentiated materials ","HAZ","Hazardous ",null,null,null,null,{"$f":"IF(TRIM(J80)=\"\", \"\", IF(VLOOKUP(J80,'Footnotes list'!$D$9:$E$58,2,FALSE)=0,\"\",VLOOKUP(J80,'Footnotes list'!$D$9:$E$58,2,FALSE) ) )","v":""},null,null,null,null,{"$f":"IF(TRIM(O80)=\"\", \"\", IF(VLOOKUP(O80,'Footnotes list'!$D$9:$E$58,2,FALSE)=0,\"\",VLOOKUP(O80,'Footnotes list'!$D$9:$E$58,2,FALSE) ) )","v":""},null,null,null,null,{"$f":"IF(TRIM(T80)=\"\", \"\", IF(VLOOKUP(T80,'Footnotes list'!$D$9:$E$58,2,FALSE)=0,\"\",VLOOKUP(T80,'Footnotes list'!$D$9:$E$58,2,FALSE) ) )","v":""},null,null,null,null,{"$f":"IF(TRIM(Y80)=\"\", \"\", IF(VLOOKUP(Y80,'Footnotes list'!$D$9:$E$58,2,FALSE)=0,\"\",VLOOKUP(Y80,'Footnotes list'!$D$9:$E$58,2,FALSE) ) )","v":""},null,null,null,null,{"$f":"IF(TRIM(AD80)=\"\", \"\", IF(VLOOKUP(AD80,'Footnotes list'!$D$9:$E$58,2,FALSE)=0,\"\",VLOOKUP(AD80,'Footnotes list'!$D$9:$E$58,2,FALSE) ) )","v":""},null,null,null,null,{"$f":"IF(TRIM(AI80)=\"\", \"\", IF(VLOOKUP(AI80,'Footnotes list'!$D$9:$E$58,2,FALSE)=0,\"\",VLOOKUP(AI80,'Footnotes list'!$D$9:$E$58,2,FALSE) ) )","v":""},null,null,null,null,{"$f":"IF(TRIM(AN80)=\"\", \"\", IF(VLOOKUP(AN80,'Footnotes list'!$D$9:$E$58,2,FALSE)=0,\"\",VLOOKUP(AN80,'Footnotes list'!$D$9:$E$58,2,FALSE) ) )","v":""},null,null,null,null,{"$f":"IF(TRIM(AS80)=\"\", \"\", IF(VLOOKUP(AS80,'Footnotes list'!$D$9:$E$58,2,FALSE)=0,\"\",VLOOKUP(AS80,'Footnotes list'!$D$9:$E$58,2,FALSE) ) )","v":""},null,null,null,null,{"$f":"IF(TRIM(AX80)=\"\", \"\", IF(VLOOKUP(AX80,'Footnotes list'!$D$9:$E$58,2,FALSE)=0,\"\",VLOOKUP(AX80,'Footnotes list'!$D$9:$E$58,2,FALSE) ) )","v":""},null,null,null,null,{"$f":"IF(TRIM(BC80)=\"\", \"\", IF(VLOOKUP(BC80,'Footnotes list'!$D$9:$E$58,2,FALSE)=0,\"\",VLOOKUP(BC80,'Footnotes list'!$D$9:$E$58,2,FALSE) ) )","v":""},null,null,null,null,{"$f":"IF(TRIM(BH80)=\"\", \"\", IF(VLOOKUP(BH80,'Footnotes list'!$D$9:$E$58,2,FALSE)=0,\"\",VLOOKUP(BH80,'Footnotes list'!$D$9:$E$58,2,FALSE) ) )","v":""},null,null,null,null,{"$f":"IF(TRIM(BM80)=\"\", \"\", IF(VLOOKUP(BM80,'Footnotes list'!$D$9:$E$58,2,FALSE)=0,\"\",VLOOKUP(BM80,'Footnotes list'!$D$9:$E$58,2,FALSE) ) )","v":""},{"$f":"IF(AND(TRIM(Q80)=\"\",TRIM(V80)=\"\",TRIM(AA80)=\"\", TRIM(AF80)=\"\", TRIM(AK80)=\"\", TRIM(AP80)=\"\", TRIM(AU80)=\"\", TRIM(AZ80)=\"\", TRIM(BE80)=\"\", TRIM(BJ80)=\"\"),\"\",Q80+V80+AA80+AF80+AK80+AP80+AU80+AZ80+BE80+BJ80)","v":""},null,null,null,{"$f":"IF(TRIM(BR80)=\"\", \"\", IF(VLOOKUP(BR80,'Footnotes list'!$D$9:$E$58,2,FALSE)=0,\"\",VLOOKUP(BR80,'Footnotes list'!$D$9:$E$58,2,FALSE) ) )","v":""},null,null,null,null,{"$f":"IF(TRIM(BW80)=\"\", \"\", IF(VLOOKUP(BW80,'Footnotes list'!$D$9:$E$58,2,FALSE)=0,\"\",VLOOKUP(BW80,'Footnotes list'!$D$9:$E$58,2,FALSE) ) )","v":""},null,null,null,null,{"$f":"IF(TRIM(CB80)=\"\", \"\", IF(VLOOKUP(CB80,'Footnotes list'!$D$9:$E$58,2,FALSE)=0,\"\",VLOOKUP(CB80,'Footnotes list'!$D$9:$E$58,2,FALSE) ) )","v":""},null,null,null,null,{"$f":"IF(TRIM(CG80)=\"\", \"\", IF(VLOOKUP(CG80,'Footnotes list'!$D$9:$E$58,2,FALSE)=0,\"\",VLOOKUP(CG80,'Footnotes list'!$D$9:$E$58,2,FALSE) ) )","v":""},{"$f":"IF(AND(TRIM(BY80)=\"\",TRIM(CD80)=\"\"),\"\",BY80+CD80)","v":""},null,null,null,{"$f":"IF(TRIM(CL80)=\"\", \"\", IF(VLOOKUP(CL80,'Footnotes list'!$D$9:$E$58,2,FALSE)=0,\"\",VLOOKUP(CL80,'Footnotes list'!$D$9:$E$58,2,FALSE) ) )","v":""},null,null,null,null,{"$f":"IF(TRIM(CQ80)=\"\", \"\", IF(VLOOKUP(CQ80,'Footnotes list'!$D$9:$E$58,2,FALSE)=0,\"\",VLOOKUP(CQ80,'Footnotes list'!$D$9:$E$58,2,FALSE) ) )","v":""},null,null,null,null,{"$f":"IF(TRIM(CV80)=\"\", \"\", IF(VLOOKUP(CV80,'Footnotes list'!$D$9:$E$58,2,FALSE)=0,\"\",VLOOKUP(CV80,'Footnotes list'!$D$9:$E$58,2,FALSE) ) )","v":""},null,null,null,null,{"$f":"IF(TRIM(DA80)=\"\", \"\", IF(VLOOKUP(DA80,'Footnotes list'!$D$9:$E$58,2,FALSE)=0,\"\",VLOOKUP(DA80,'Footnotes list'!$D$9:$E$58,2,FALSE) ) )","v":""},null,null,null,null,{"$f":"IF(TRIM(DF80)=\"\", \"\", IF(VLOOKUP(DF80,'Footnotes list'!$D$9:$E$58,2,FALSE)=0,\"\",VLOOKUP(DF80,'Footnotes list'!$D$9:$E$58,2,FALSE) ) )","v":""},{"$f":"IF(AND(TRIM(G80)=\"\",TRIM(L80)=\"\",TRIM(BO80)=\"\",TRIM(BT80)=\"\",TRIM(CI80)=\"\",TRIM(CN80)=\"\",TRIM(CS80)=\"\",TRIM(CX80)=\"\",TRIM(DC80)=\"\"),\"\",SUM(G80,L80,BO80,BT80,CI80,CN80,CS80,CX80,DC80))","v":""},null,null,null,{"$f":"IF(TRIM(DK80)=\"\", \"\", IF(VLOOKUP(DK80,'Footnotes list'!$D$9:$E$58,2,FALSE)=0,\"\",VLOOKUP(DK80,'Footnotes list'!$D$9:$E$58,2,FALSE) ) )","v":""}]
[null,null,"W102",null,"NHAZ","Non-hazardous",null,null,null,null,{"$f":"IF(TRIM(J81)=\"\", \"\", IF(VLOOKUP(J81,'Footnotes list'!$D$9:$E$58,2,FALSE)=0,\"\",VLOOKUP(J81,'Footnotes list'!$D$9:$E$58,2,FALSE) ) )","v":""},null,null,null,null,{"$f":"IF(TRIM(O81)=\"\", \"\", IF(VLOOKUP(O81,'Footnotes list'!$D$9:$E$58,2,FALSE)=0,\"\",VLOOKUP(O81,'Footnotes list'!$D$9:$E$58,2,FALSE) ) )","v":""},null,null,null,null,{"$f":"IF(TRIM(T81)=\"\", \"\", IF(VLOOKUP(T81,'Footnotes list'!$D$9:$E$58,2,FALSE)=0,\"\",VLOOKUP(T81,'Footnotes list'!$D$9:$E$58,2,FALSE) ) )","v":""},null,null,null,null,{"$f":"IF(TRIM(Y81)=\"\", \"\", IF(VLOOKUP(Y81,'Footnotes list'!$D$9:$E$58,2,FALSE)=0,\"\",VLOOKUP(Y81,'Footnotes list'!$D$9:$E$58,2,FALSE) ) )","v":""},null,null,null,null,{"$f":"IF(TRIM(AD81)=\"\", \"\", IF(VLOOKUP(AD81,'Footnotes list'!$D$9:$E$58,2,FALSE)=0,\"\",VLOOKUP(AD81,'Footnotes list'!$D$9:$E$58,2,FALSE) ) )","v":""},null,null,null,null,{"$f":"IF(TRIM(AI81)=\"\", \"\", IF(VLOOKUP(AI81,'Footnotes list'!$D$9:$E$58,2,FALSE)=0,\"\",VLOOKUP(AI81,'Footnotes list'!$D$9:$E$58,2,FALSE) ) )","v":""},null,null,null,null,{"$f":"IF(TRIM(AN81)=\"\", \"\", IF(VLOOKUP(AN81,'Footnotes list'!$D$9:$E$58,2,FALSE)=0,\"\",VLOOKUP(AN81,'Footnotes list'!$D$9:$E$58,2,FALSE) ) )","v":""},null,null,null,null,{"$f":"IF(TRIM(AS81)=\"\", \"\", IF(VLOOKUP(AS81,'Footnotes list'!$D$9:$E$58,2,FALSE)=0,\"\",VLOOKUP(AS81,'Footnotes list'!$D$9:$E$58,2,FALSE) ) )","v":""},null,null,null,null,{"$f":"IF(TRIM(AX81)=\"\", \"\", IF(VLOOKUP(AX81,'Footnotes list'!$D$9:$E$58,2,FALSE)=0,\"\",VLOOKUP(AX81,'Footnotes list'!$D$9:$E$58,2,FALSE) ) )","v":""},null,null,null,null,{"$f":"IF(TRIM(BC81)=\"\", \"\", IF(VLOOKUP(BC81,'Footnotes list'!$D$9:$E$58,2,FALSE)=0,\"\",VLOOKUP(BC81,'Footnotes list'!$D$9:$E$58,2,FALSE) ) )","v":""},null,null,null,null,{"$f":"IF(TRIM(BH81)=\"\", \"\", IF(VLOOKUP(BH81,'Footnotes list'!$D$9:$E$58,2,FALSE)=0,\"\",VLOOKUP(BH81,'Footnotes list'!$D$9:$E$58,2,FALSE) ) )","v":""},null,null,null,null,{"$f":"IF(TRIM(BM81)=\"\", \"\", IF(VLOOKUP(BM81,'Footnotes list'!$D$9:$E$58,2,FALSE)=0,\"\",VLOOKUP(BM81,'Footnotes list'!$D$9:$E$58,2,FALSE) ) )","v":""},{"$f":"IF(AND(TRIM(Q81)=\"\",TRIM(V81)=\"\",TRIM(AA81)=\"\", TRIM(AF81)=\"\", TRIM(AK81)=\"\", TRIM(AP81)=\"\", TRIM(AU81)=\"\", TRIM(AZ81)=\"\", TRIM(BE81)=\"\", TRIM(BJ81)=\"\"),\"\",Q81+V81+AA81+AF81+AK81+AP81+AU81+AZ81+BE81+BJ81)","v":""},null,null,null,{"$f":"IF(TRIM(BR81)=\"\", \"\", IF(VLOOKUP(BR81,'Footnotes list'!$D$9:$E$58,2,FALSE)=0,\"\",VLOOKUP(BR81,'Footnotes list'!$D$9:$E$58,2,FALSE) ) )","v":""},null,null,null,null,{"$f":"IF(TRIM(BW81)=\"\", \"\", IF(VLOOKUP(BW81,'Footnotes list'!$D$9:$E$58,2,FALSE)=0,\"\",VLOOKUP(BW81,'Footnotes list'!$D$9:$E$58,2,FALSE) ) )","v":""},null,null,null,null,{"$f":"IF(TRIM(CB81)=\"\", \"\", IF(VLOOKUP(CB81,'Footnotes list'!$D$9:$E$58,2,FALSE)=0,\"\",VLOOKUP(CB81,'Footnotes list'!$D$9:$E$58,2,FALSE) ) )","v":""},null,null,null,null,{"$f":"IF(TRIM(CG81)=\"\", \"\", IF(VLOOKUP(CG81,'Footnotes list'!$D$9:$E$58,2,FALSE)=0,\"\",VLOOKUP(CG81,'Footnotes list'!$D$9:$E$58,2,FALSE) ) )","v":""},{"$f":"IF(AND(TRIM(BY81)=\"\",TRIM(CD81)=\"\"),\"\",BY81+CD81)","v":""},null,null,null,{"$f":"IF(TRIM(CL81)=\"\", \"\", IF(VLOOKUP(CL81,'Footnotes list'!$D$9:$E$58,2,FALSE)=0,\"\",VLOOKUP(CL81,'Footnotes list'!$D$9:$E$58,2,FALSE) ) )","v":""},null,null,null,null,{"$f":"IF(TRIM(CQ81)=\"\", \"\", IF(VLOOKUP(CQ81,'Footnotes list'!$D$9:$E$58,2,FALSE)=0,\"\",VLOOKUP(CQ81,'Footnotes list'!$D$9:$E$58,2,FALSE) ) )","v":""},null,null,null,null,{"$f":"IF(TRIM(CV81)=\"\", \"\", IF(VLOOKUP(CV81,'Footnotes list'!$D$9:$E$58,2,FALSE)=0,\"\",VLOOKUP(CV81,'Footnotes list'!$D$9:$E$58,2,FALSE) ) )","v":""},null,null,null,null,{"$f":"IF(TRIM(DA81)=\"\", \"\", IF(VLOOKUP(DA81,'Footnotes list'!$D$9:$E$58,2,FALSE)=0,\"\",VLOOKUP(DA81,'Footnotes list'!$D$9:$E$58,2,FALSE) ) )","v":""},null,null,null,null,{"$f":"IF(TRIM(DF81)=\"\", \"\", IF(VLOOKUP(DF81,'Footnotes list'!$D$9:$E$58,2,FALSE)=0,\"\",VLOOKUP(DF81,'Footnotes list'!$D$9:$E$58,2,FALSE) ) )","v":""},{"$f":"IF(AND(TRIM(G81)=\"\",TRIM(L81)=\"\",TRIM(BO81)=\"\",TRIM(BT81)=\"\",TRIM(CI81)=\"\",TRIM(CN81)=\"\",TRIM(CS81)=\"\",TRIM(CX81)=\"\",TRIM(DC81)=\"\"),\"\",SUM(G81,L81,BO81,BT81,CI81,CN81,CS81,CX81,DC81))","v":""},null,null,null,{"$f":"IF(TRIM(DK81)=\"\", \"\", IF(VLOOKUP(DK81,'Footnotes list'!$D$9:$E$58,2,FALSE)=0,\"\",VLOOKUP(DK81,'Footnotes list'!$D$9:$E$58,2,FALSE) ) )","v":""}]
[null,null,"W102",null,"HAZ_NHAZ","Total",{"$f":"IF(AND(TRIM(G80)=\"\",TRIM(G81)=\"\"),\"\",G80+G81)","v":""},null,null,null,{"$f":"IF(TRIM(J82)=\"\", \"\", IF(VLOOKUP(J82,'Footnotes list'!$D$9:$E$58,2,FALSE)=0,\"\",VLOOKUP(J82,'Footnotes list'!$D$9:$E$58,2,FALSE) ) )","v":""},{"$f":"IF(AND(TRIM(L80)=\"\",TRIM(L81)=\"\"),\"\",L80+L81)","v":""},null,null,null,{"$f":"IF(TRIM(O82)=\"\", \"\", IF(VLOOKUP(O82,'Footnotes list'!$D$9:$E$58,2,FALSE)=0,\"\",VLOOKUP(O82,'Footnotes list'!$D$9:$E$58,2,FALSE) ) )","v":""},{"$f":"IF(AND(TRIM(Q80)=\"\",TRIM(Q81)=\"\"),\"\",Q80+Q81)","v":""},null,null,null,{"$f":"IF(TRIM(T82)=\"\", \"\", IF(VLOOKUP(T82,'Footnotes list'!$D$9:$E$58,2,FALSE)=0,\"\",VLOOKUP(T82,'Footnotes list'!$D$9:$E$58,2,FALSE) ) )","v":""},{"$f":"IF(AND(TRIM(V80)=\"\",TRIM(V81)=\"\"),\"\",V80+V81)","v":""},null,null,null,{"$f":"IF(TRIM(Y82)=\"\", \"\", IF(VLOOKUP(Y82,'Footnotes list'!$D$9:$E$58,2,FALSE)=0,\"\",VLOOKUP(Y82,'Footnotes list'!$D$9:$E$58,2,FALSE) ) )","v":""},{"$f":"IF(AND(TRIM(AA80)=\"\",TRIM(AA81)=\"\"),\"\",AA80+AA81)","v":""},null,null,null,{"$f":"IF(TRIM(AD82)=\"\", \"\", IF(VLOOKUP(AD82,'Footnotes list'!$D$9:$E$58,2,FALSE)=0,\"\",VLOOKUP(AD82,'Footnotes list'!$D$9:$E$58,2,FALSE) ) )","v":""},{"$f":"IF(AND(TRIM(AF80)=\"\",TRIM(AF81)=\"\"),\"\",AF80+AF81)","v":""},null,null,null,{"$f":"IF(TRIM(AI82)=\"\", \"\", IF(VLOOKUP(AI82,'Footnotes list'!$D$9:$E$58,2,FALSE)=0,\"\",VLOOKUP(AI82,'Footnotes list'!$D$9:$E$58,2,FALSE) ) )","v":""},{"$f":"IF(AND(TRIM(AK80)=\"\",TRIM(AK81)=\"\"),\"\",AK80+AK81)","v":""},null,null,null,{"$f":"IF(TRIM(AN82)=\"\", \"\", IF(VLOOKUP(AN82,'Footnotes list'!$D$9:$E$58,2,FALSE)=0,\"\",VLOOKUP(AN82,'Footnotes list'!$D$9:$E$58,2,FALSE) ) )","v":""},{"$f":"IF(AND(TRIM(AP80)=\"\",TRIM(AP81)=\"\"),\"\",AP80+AP81)","v":""},null,null,null,{"$f":"IF(TRIM(AS82)=\"\", \"\", IF(VLOOKUP(AS82,'Footnotes list'!$D$9:$E$58,2,FALSE)=0,\"\",VLOOKUP(AS82,'Footnotes list'!$D$9:$E$58,2,FALSE) ) )","v":""},{"$f":"IF(AND(TRIM(AU80)=\"\",TRIM(AU81)=\"\"),\"\",AU80+AU81)","v":""},null,null,null,{"$f":"IF(TRIM(AX82)=\"\", \"\", IF(VLOOKUP(AX82,'Footnotes list'!$D$9:$E$58,2,FALSE)=0,\"\",VLOOKUP(AX82,'Footnotes list'!$D$9:$E$58,2,FALSE) ) )","v":""},{"$f":"IF(AND(TRIM(AZ80)=\"\",TRIM(AZ81)=\"\"),\"\",AZ80+AZ81)","v":""},null,null,null,{"$f":"IF(TRIM(BC82)=\"\", \"\", IF(VLOOKUP(BC82,'Footnotes list'!$D$9:$E$58,2,FALSE)=0,\"\",VLOOKUP(BC82,'Footnotes list'!$D$9:$E$58,2,FALSE) ) )","v":""},{"$f":"IF(AND(TRIM(BE80)=\"\",TRIM(BE81)=\"\"),\"\",BE80+BE81)","v":""},null,null,null,{"$f":"IF(TRIM(BH82)=\"\", \"\", IF(VLOOKUP(BH82,'Footnotes list'!$D$9:$E$58,2,FALSE)=0,\"\",VLOOKUP(BH82,'Footnotes list'!$D$9:$E$58,2,FALSE) ) )","v":""},{"$f":"IF(AND(TRIM(BJ80)=\"\",TRIM(BJ81)=\"\"),\"\",BJ80+BJ81)","v":""},null,null,null,{"$f":"IF(TRIM(BM82)=\"\", \"\", IF(VLOOKUP(BM82,'Footnotes list'!$D$9:$E$58,2,FALSE)=0,\"\",VLOOKUP(BM82,'Footnotes list'!$D$9:$E$58,2,FALSE) ) )","v":""},{"$f":"IF(AND(TRIM(BO80)=\"\", TRIM(BO81)=\"\"), \"\", (IF(ISNUMBER(BO80),BO80,0)+IF(ISNUMBER(BO81),BO81,0)))","v":""},null,null,null,{"$f":"IF(TRIM(BR82)=\"\", \"\", IF(VLOOKUP(BR82,'Footnotes list'!$D$9:$E$58,2,FALSE)=0,\"\",VLOOKUP(BR82,'Footnotes list'!$D$9:$E$58,2,FALSE) ) )","v":""},{"$f":"IF(AND(TRIM(BT80)=\"\",TRIM(BT81)=\"\"),\"\",BT80+BT81)","v":""},null,null,null,{"$f":"IF(TRIM(BW82)=\"\", \"\", IF(VLOOKUP(BW82,'Footnotes list'!$D$9:$E$58,2,FALSE)=0,\"\",VLOOKUP(BW82,'Footnotes list'!$D$9:$E$58,2,FALSE) ) )","v":""},{"$f":"IF(AND(TRIM(BY80)=\"\",TRIM(BY81)=\"\"),\"\",BY80+BY81)","v":""},null,null,null,{"$f":"IF(TRIM(CB82)=\"\", \"\", IF(VLOOKUP(CB82,'Footnotes list'!$D$9:$E$58,2,FALSE)=0,\"\",VLOOKUP(CB82,'Footnotes list'!$D$9:$E$58,2,FALSE) ) )","v":""},{"$f":"IF(AND(TRIM(CD80)=\"\",TRIM(CD81)=\"\"),\"\",CD80+CD81)","v":""},null,null,null,{"$f":"IF(TRIM(CG82)=\"\", \"\", IF(VLOOKUP(CG82,'Footnotes list'!$D$9:$E$58,2,FALSE)=0,\"\",VLOOKUP(CG82,'Footnotes list'!$D$9:$E$58,2,FALSE) ) )","v":""},{"$f":"IF(AND(TRIM(CI80)=\"\", TRIM(CI81)=\"\"), \"\", (IF(ISNUMBER(CI80),CI80,0)+IF(ISNUMBER(CI81),CI81,0)))","v":""},null,null,null,{"$f":"IF(TRIM(CL82)=\"\", \"\", IF(VLOOKUP(CL82,'Footnotes list'!$D$9:$E$58,2,FALSE)=0,\"\",VLOOKUP(CL82,'Footnotes list'!$D$9:$E$58,2,FALSE) ) )","v":""},{"$f":"IF(AND(TRIM(CN80)=\"\",TRIM(CN81)=\"\"),\"\",CN80+CN81)","v":""},null,null,null,{"$f":"IF(TRIM(CQ82)=\"\", \"\", IF(VLOOKUP(CQ82,'Footnotes list'!$D$9:$E$58,2,FALSE)=0,\"\",VLOOKUP(CQ82,'Footnotes list'!$D$9:$E$58,2,FALSE) ) )","v":""},{"$f":"IF(AND(TRIM(CS80)=\"\",TRIM(CS81)=\"\"),\"\",CS80+CS81)","v":""},null,null,null,{"$f":"IF(TRIM(CV82)=\"\", \"\", IF(VLOOKUP(CV82,'Footnotes list'!$D$9:$E$58,2,FALSE)=0,\"\",VLOOKUP(CV82,'Footnotes list'!$D$9:$E$58,2,FALSE) ) )","v":""},{"$f":"IF(AND(TRIM(CX80)=\"\",TRIM(CX81)=\"\"),\"\",CX80+CX81)","v":""},null,null,null,{"$f":"IF(TRIM(DA82)=\"\", \"\", IF(VLOOKUP(DA82,'Footnotes list'!$D$9:$E$58,2,FALSE)=0,\"\",VLOOKUP(DA82,'Footnotes list'!$D$9:$E$58,2,FALSE) ) )","v":""},{"$f":"IF(AND(TRIM(DC80)=\"\",TRIM(DC81)=\"\"),\"\",DC80+DC81)","v":""},null,null,null,{"$f":"IF(TRIM(DF82)=\"\", \"\", IF(VLOOKUP(DF82,'Footnotes list'!$D$9:$E$58,2,FALSE)=0,\"\",VLOOKUP(DF82,'Footnotes list'!$D$9:$E$58,2,FALSE) ) )","v":""},{"$f":"IF(AND(TRIM(DH80)=\"\", TRIM(DH81)=\"\"), \"\", SUM(DH80,DH81) )","v":""},null,null,null,{"$f":"IF(TRIM(DK82)=\"\", \"\", IF(VLOOKUP(DK82,'Footnotes list'!$D$9:$E$58,2,FALSE)=0,\"\",VLOOKUP(DK82,'Footnotes list'!$D$9:$E$58,2,FALSE) ) )","v":""}]
[null,"W103","W103","Sorting residues ","HAZ","Hazardous ",null,null,null,null,{"$f":"IF(TRIM(J83)=\"\", \"\", IF(VLOOKUP(J83,'Footnotes list'!$D$9:$E$58,2,FALSE)=0,\"\",VLOOKUP(J83,'Footnotes list'!$D$9:$E$58,2,FALSE) ) )","v":""},null,null,null,null,{"$f":"IF(TRIM(O83)=\"\", \"\", IF(VLOOKUP(O83,'Footnotes list'!$D$9:$E$58,2,FALSE)=0,\"\",VLOOKUP(O83,'Footnotes list'!$D$9:$E$58,2,FALSE) ) )","v":""},null,null,null,null,{"$f":"IF(TRIM(T83)=\"\", \"\", IF(VLOOKUP(T83,'Footnotes list'!$D$9:$E$58,2,FALSE)=0,\"\",VLOOKUP(T83,'Footnotes list'!$D$9:$E$58,2,FALSE) ) )","v":""},null,null,null,null,{"$f":"IF(TRIM(Y83)=\"\", \"\", IF(VLOOKUP(Y83,'Footnotes list'!$D$9:$E$58,2,FALSE)=0,\"\",VLOOKUP(Y83,'Footnotes list'!$D$9:$E$58,2,FALSE) ) )","v":""},null,null,null,null,{"$f":"IF(TRIM(AD83)=\"\", \"\", IF(VLOOKUP(AD83,'Footnotes list'!$D$9:$E$58,2,FALSE)=0,\"\",VLOOKUP(AD83,'Footnotes list'!$D$9:$E$58,2,FALSE) ) )","v":""},null,null,null,null,{"$f":"IF(TRIM(AI83)=\"\", \"\", IF(VLOOKUP(AI83,'Footnotes list'!$D$9:$E$58,2,FALSE)=0,\"\",VLOOKUP(AI83,'Footnotes list'!$D$9:$E$58,2,FALSE) ) )","v":""},null,null,null,null,{"$f":"IF(TRIM(AN83)=\"\", \"\", IF(VLOOKUP(AN83,'Footnotes list'!$D$9:$E$58,2,FALSE)=0,\"\",VLOOKUP(AN83,'Footnotes list'!$D$9:$E$58,2,FALSE) ) )","v":""},null,null,null,null,{"$f":"IF(TRIM(AS83)=\"\", \"\", IF(VLOOKUP(AS83,'Footnotes list'!$D$9:$E$58,2,FALSE)=0,\"\",VLOOKUP(AS83,'Footnotes list'!$D$9:$E$58,2,FALSE) ) )","v":""},null,null,null,null,{"$f":"IF(TRIM(AX83)=\"\", \"\", IF(VLOOKUP(AX83,'Footnotes list'!$D$9:$E$58,2,FALSE)=0,\"\",VLOOKUP(AX83,'Footnotes list'!$D$9:$E$58,2,FALSE) ) )","v":""},null,null,null,null,{"$f":"IF(TRIM(BC83)=\"\", \"\", IF(VLOOKUP(BC83,'Footnotes list'!$D$9:$E$58,2,FALSE)=0,\"\",VLOOKUP(BC83,'Footnotes list'!$D$9:$E$58,2,FALSE) ) )","v":""},null,null,null,null,{"$f":"IF(TRIM(BH83)=\"\", \"\", IF(VLOOKUP(BH83,'Footnotes list'!$D$9:$E$58,2,FALSE)=0,\"\",VLOOKUP(BH83,'Footnotes list'!$D$9:$E$58,2,FALSE) ) )","v":""},null,null,null,null,{"$f":"IF(TRIM(BM83)=\"\", \"\", IF(VLOOKUP(BM83,'Footnotes list'!$D$9:$E$58,2,FALSE)=0,\"\",VLOOKUP(BM83,'Footnotes list'!$D$9:$E$58,2,FALSE) ) )","v":""},{"$f":"IF(AND(TRIM(Q83)=\"\",TRIM(V83)=\"\",TRIM(AA83)=\"\", TRIM(AF83)=\"\", TRIM(AK83)=\"\", TRIM(AP83)=\"\", TRIM(AU83)=\"\", TRIM(AZ83)=\"\", TRIM(BE83)=\"\", TRIM(BJ83)=\"\"),\"\",Q83+V83+AA83+AF83+AK83+AP83+AU83+AZ83+BE83+BJ83)","v":""},null,null,null,{"$f":"IF(TRIM(BR83)=\"\", \"\", IF(VLOOKUP(BR83,'Footnotes list'!$D$9:$E$58,2,FALSE)=0,\"\",VLOOKUP(BR83,'Footnotes list'!$D$9:$E$58,2,FALSE) ) )","v":""},null,null,null,null,{"$f":"IF(TRIM(BW83)=\"\", \"\", IF(VLOOKUP(BW83,'Footnotes list'!$D$9:$E$58,2,FALSE)=0,\"\",VLOOKUP(BW83,'Footnotes list'!$D$9:$E$58,2,FALSE) ) )","v":""},null,null,null,null,{"$f":"IF(TRIM(CB83)=\"\", \"\", IF(VLOOKUP(CB83,'Footnotes list'!$D$9:$E$58,2,FALSE)=0,\"\",VLOOKUP(CB83,'Footnotes list'!$D$9:$E$58,2,FALSE) ) )","v":""},null,null,null,null,{"$f":"IF(TRIM(CG83)=\"\", \"\", IF(VLOOKUP(CG83,'Footnotes list'!$D$9:$E$58,2,FALSE)=0,\"\",VLOOKUP(CG83,'Footnotes list'!$D$9:$E$58,2,FALSE) ) )","v":""},{"$f":"IF(AND(TRIM(BY83)=\"\",TRIM(CD83)=\"\"),\"\",BY83+CD83)","v":""},null,null,null,{"$f":"IF(TRIM(CL83)=\"\", \"\", IF(VLOOKUP(CL83,'Footnotes list'!$D$9:$E$58,2,FALSE)=0,\"\",VLOOKUP(CL83,'Footnotes list'!$D$9:$E$58,2,FALSE) ) )","v":""},null,null,null,null,{"$f":"IF(TRIM(CQ83)=\"\", \"\", IF(VLOOKUP(CQ83,'Footnotes list'!$D$9:$E$58,2,FALSE)=0,\"\",VLOOKUP(CQ83,'Footnotes list'!$D$9:$E$58,2,FALSE) ) )","v":""},null,null,null,null,{"$f":"IF(TRIM(CV83)=\"\", \"\", IF(VLOOKUP(CV83,'Footnotes list'!$D$9:$E$58,2,FALSE)=0,\"\",VLOOKUP(CV83,'Footnotes list'!$D$9:$E$58,2,FALSE) ) )","v":""},null,null,null,null,{"$f":"IF(TRIM(DA83)=\"\", \"\", IF(VLOOKUP(DA83,'Footnotes list'!$D$9:$E$58,2,FALSE)=0,\"\",VLOOKUP(DA83,'Footnotes list'!$D$9:$E$58,2,FALSE) ) )","v":""},null,null,null,null,{"$f":"IF(TRIM(DF83)=\"\", \"\", IF(VLOOKUP(DF83,'Footnotes list'!$D$9:$E$58,2,FALSE)=0,\"\",VLOOKUP(DF83,'Footnotes list'!$D$9:$E$58,2,FALSE) ) )","v":""},{"$f":"IF(AND(TRIM(G83)=\"\",TRIM(L83)=\"\",TRIM(BO83)=\"\",TRIM(BT83)=\"\",TRIM(CI83)=\"\",TRIM(CN83)=\"\",TRIM(CS83)=\"\",TRIM(CX83)=\"\",TRIM(DC83)=\"\"),\"\",SUM(G83,L83,BO83,BT83,CI83,CN83,CS83,CX83,DC83))","v":""},null,null,null,{"$f":"IF(TRIM(DK83)=\"\", \"\", IF(VLOOKUP(DK83,'Footnotes list'!$D$9:$E$58,2,FALSE)=0,\"\",VLOOKUP(DK83,'Footnotes list'!$D$9:$E$58,2,FALSE) ) )","v":""}]
[null,null,"W103",null,"NHAZ","Non-hazardous",null,null,null,null,{"$f":"IF(TRIM(J84)=\"\", \"\", IF(VLOOKUP(J84,'Footnotes list'!$D$9:$E$58,2,FALSE)=0,\"\",VLOOKUP(J84,'Footnotes list'!$D$9:$E$58,2,FALSE) ) )","v":""},null,null,null,null,{"$f":"IF(TRIM(O84)=\"\", \"\", IF(VLOOKUP(O84,'Footnotes list'!$D$9:$E$58,2,FALSE)=0,\"\",VLOOKUP(O84,'Footnotes list'!$D$9:$E$58,2,FALSE) ) )","v":""},null,null,null,null,{"$f":"IF(TRIM(T84)=\"\", \"\", IF(VLOOKUP(T84,'Footnotes list'!$D$9:$E$58,2,FALSE)=0,\"\",VLOOKUP(T84,'Footnotes list'!$D$9:$E$58,2,FALSE) ) )","v":""},null,null,null,null,{"$f":"IF(TRIM(Y84)=\"\", \"\", IF(VLOOKUP(Y84,'Footnotes list'!$D$9:$E$58,2,FALSE)=0,\"\",VLOOKUP(Y84,'Footnotes list'!$D$9:$E$58,2,FALSE) ) )","v":""},null,null,null,null,{"$f":"IF(TRIM(AD84)=\"\", \"\", IF(VLOOKUP(AD84,'Footnotes list'!$D$9:$E$58,2,FALSE)=0,\"\",VLOOKUP(AD84,'Footnotes list'!$D$9:$E$58,2,FALSE) ) )","v":""},null,null,null,null,{"$f":"IF(TRIM(AI84)=\"\", \"\", IF(VLOOKUP(AI84,'Footnotes list'!$D$9:$E$58,2,FALSE)=0,\"\",VLOOKUP(AI84,'Footnotes list'!$D$9:$E$58,2,FALSE) ) )","v":""},null,null,null,null,{"$f":"IF(TRIM(AN84)=\"\", \"\", IF(VLOOKUP(AN84,'Footnotes list'!$D$9:$E$58,2,FALSE)=0,\"\",VLOOKUP(AN84,'Footnotes list'!$D$9:$E$58,2,FALSE) ) )","v":""},null,null,null,null,{"$f":"IF(TRIM(AS84)=\"\", \"\", IF(VLOOKUP(AS84,'Footnotes list'!$D$9:$E$58,2,FALSE)=0,\"\",VLOOKUP(AS84,'Footnotes list'!$D$9:$E$58,2,FALSE) ) )","v":""},null,null,null,null,{"$f":"IF(TRIM(AX84)=\"\", \"\", IF(VLOOKUP(AX84,'Footnotes list'!$D$9:$E$58,2,FALSE)=0,\"\",VLOOKUP(AX84,'Footnotes list'!$D$9:$E$58,2,FALSE) ) )","v":""},null,null,null,null,{"$f":"IF(TRIM(BC84)=\"\", \"\", IF(VLOOKUP(BC84,'Footnotes list'!$D$9:$E$58,2,FALSE)=0,\"\",VLOOKUP(BC84,'Footnotes list'!$D$9:$E$58,2,FALSE) ) )","v":""},null,null,null,null,{"$f":"IF(TRIM(BH84)=\"\", \"\", IF(VLOOKUP(BH84,'Footnotes list'!$D$9:$E$58,2,FALSE)=0,\"\",VLOOKUP(BH84,'Footnotes list'!$D$9:$E$58,2,FALSE) ) )","v":""},null,null,null,null,{"$f":"IF(TRIM(BM84)=\"\", \"\", IF(VLOOKUP(BM84,'Footnotes list'!$D$9:$E$58,2,FALSE)=0,\"\",VLOOKUP(BM84,'Footnotes list'!$D$9:$E$58,2,FALSE) ) )","v":""},{"$f":"IF(AND(TRIM(Q84)=\"\",TRIM(V84)=\"\",TRIM(AA84)=\"\", TRIM(AF84)=\"\", TRIM(AK84)=\"\", TRIM(AP84)=\"\", TRIM(AU84)=\"\", TRIM(AZ84)=\"\", TRIM(BE84)=\"\", TRIM(BJ84)=\"\"),\"\",Q84+V84+AA84+AF84+AK84+AP84+AU84+AZ84+BE84+BJ84)","v":""},null,null,null,{"$f":"IF(TRIM(BR84)=\"\", \"\", IF(VLOOKUP(BR84,'Footnotes list'!$D$9:$E$58,2,FALSE)=0,\"\",VLOOKUP(BR84,'Footnotes list'!$D$9:$E$58,2,FALSE) ) )","v":""},null,null,null,null,{"$f":"IF(TRIM(BW84)=\"\", \"\", IF(VLOOKUP(BW84,'Footnotes list'!$D$9:$E$58,2,FALSE)=0,\"\",VLOOKUP(BW84,'Footnotes list'!$D$9:$E$58,2,FALSE) ) )","v":""},null,null,null,null,{"$f":"IF(TRIM(CB84)=\"\", \"\", IF(VLOOKUP(CB84,'Footnotes list'!$D$9:$E$58,2,FALSE)=0,\"\",VLOOKUP(CB84,'Footnotes list'!$D$9:$E$58,2,FALSE) ) )","v":""},null,null,null,null,{"$f":"IF(TRIM(CG84)=\"\", \"\", IF(VLOOKUP(CG84,'Footnotes list'!$D$9:$E$58,2,FALSE)=0,\"\",VLOOKUP(CG84,'Footnotes list'!$D$9:$E$58,2,FALSE) ) )","v":""},{"$f":"IF(AND(TRIM(BY84)=\"\",TRIM(CD84)=\"\"),\"\",BY84+CD84)","v":""},null,null,null,{"$f":"IF(TRIM(CL84)=\"\", \"\", IF(VLOOKUP(CL84,'Footnotes list'!$D$9:$E$58,2,FALSE)=0,\"\",VLOOKUP(CL84,'Footnotes list'!$D$9:$E$58,2,FALSE) ) )","v":""},null,null,null,null,{"$f":"IF(TRIM(CQ84)=\"\", \"\", IF(VLOOKUP(CQ84,'Footnotes list'!$D$9:$E$58,2,FALSE)=0,\"\",VLOOKUP(CQ84,'Footnotes list'!$D$9:$E$58,2,FALSE) ) )","v":""},null,null,null,null,{"$f":"IF(TRIM(CV84)=\"\", \"\", IF(VLOOKUP(CV84,'Footnotes list'!$D$9:$E$58,2,FALSE)=0,\"\",VLOOKUP(CV84,'Footnotes list'!$D$9:$E$58,2,FALSE) ) )","v":""},null,null,null,null,{"$f":"IF(TRIM(DA84)=\"\", \"\", IF(VLOOKUP(DA84,'Footnotes list'!$D$9:$E$58,2,FALSE)=0,\"\",VLOOKUP(DA84,'Footnotes list'!$D$9:$E$58,2,FALSE) ) )","v":""},null,null,null,null,{"$f":"IF(TRIM(DF84)=\"\", \"\", IF(VLOOKUP(DF84,'Footnotes list'!$D$9:$E$58,2,FALSE)=0,\"\",VLOOKUP(DF84,'Footnotes list'!$D$9:$E$58,2,FALSE) ) )","v":""},{"$f":"IF(AND(TRIM(G84)=\"\",TRIM(L84)=\"\",TRIM(BO84)=\"\",TRIM(BT84)=\"\",TRIM(CI84)=\"\",TRIM(CN84)=\"\",TRIM(CS84)=\"\",TRIM(CX84)=\"\",TRIM(DC84)=\"\"),\"\",SUM(G84,L84,BO84,BT84,CI84,CN84,CS84,CX84,DC84))","v":""},null,null,null,{"$f":"IF(TRIM(DK84)=\"\", \"\", IF(VLOOKUP(DK84,'Footnotes list'!$D$9:$E$58,2,FALSE)=0,\"\",VLOOKUP(DK84,'Footnotes list'!$D$9:$E$58,2,FALSE) ) )","v":""}]
[null,null,"W103",null,"HAZ_NHAZ","Total",{"$f":"IF(AND(TRIM(G83)=\"\",TRIM(G84)=\"\"),\"\",G83+G84)","v":""},null,null,null,{"$f":"IF(TRIM(J85)=\"\", \"\", IF(VLOOKUP(J85,'Footnotes list'!$D$9:$E$58,2,FALSE)=0,\"\",VLOOKUP(J85,'Footnotes list'!$D$9:$E$58,2,FALSE) ) )","v":""},{"$f":"IF(AND(TRIM(L83)=\"\",TRIM(L84)=\"\"),\"\",L83+L84)","v":""},null,null,null,{"$f":"IF(TRIM(O85)=\"\", \"\", IF(VLOOKUP(O85,'Footnotes list'!$D$9:$E$58,2,FALSE)=0,\"\",VLOOKUP(O85,'Footnotes list'!$D$9:$E$58,2,FALSE) ) )","v":""},{"$f":"IF(AND(TRIM(Q83)=\"\",TRIM(Q84)=\"\"),\"\",Q83+Q84)","v":""},null,null,null,{"$f":"IF(TRIM(T85)=\"\", \"\", IF(VLOOKUP(T85,'Footnotes list'!$D$9:$E$58,2,FALSE)=0,\"\",VLOOKUP(T85,'Footnotes list'!$D$9:$E$58,2,FALSE) ) )","v":""},{"$f":"IF(AND(TRIM(V83)=\"\",TRIM(V84)=\"\"),\"\",V83+V84)","v":""},null,null,null,{"$f":"IF(TRIM(Y85)=\"\", \"\", IF(VLOOKUP(Y85,'Footnotes list'!$D$9:$E$58,2,FALSE)=0,\"\",VLOOKUP(Y85,'Footnotes list'!$D$9:$E$58,2,FALSE) ) )","v":""},{"$f":"IF(AND(TRIM(AA83)=\"\",TRIM(AA84)=\"\"),\"\",AA83+AA84)","v":""},null,null,null,{"$f":"IF(TRIM(AD85)=\"\", \"\", IF(VLOOKUP(AD85,'Footnotes list'!$D$9:$E$58,2,FALSE)=0,\"\",VLOOKUP(AD85,'Footnotes list'!$D$9:$E$58,2,FALSE) ) )","v":""},{"$f":"IF(AND(TRIM(AF83)=\"\",TRIM(AF84)=\"\"),\"\",AF83+AF84)","v":""},null,null,null,{"$f":"IF(TRIM(AI85)=\"\", \"\", IF(VLOOKUP(AI85,'Footnotes list'!$D$9:$E$58,2,FALSE)=0,\"\",VLOOKUP(AI85,'Footnotes list'!$D$9:$E$58,2,FALSE) ) )","v":""},{"$f":"IF(AND(TRIM(AK83)=\"\",TRIM(AK84)=\"\"),\"\",AK83+AK84)","v":""},null,null,null,{"$f":"IF(TRIM(AN85)=\"\", \"\", IF(VLOOKUP(AN85,'Footnotes list'!$D$9:$E$58,2,FALSE)=0,\"\",VLOOKUP(AN85,'Footnotes list'!$D$9:$E$58,2,FALSE) ) )","v":""},{"$f":"IF(AND(TRIM(AP83)=\"\",TRIM(AP84)=\"\"),\"\",AP83+AP84)","v":""},null,null,null,{"$f":"IF(TRIM(AS85)=\"\", \"\", IF(VLOOKUP(AS85,'Footnotes list'!$D$9:$E$58,2,FALSE)=0,\"\",VLOOKUP(AS85,'Footnotes list'!$D$9:$E$58,2,FALSE) ) )","v":""},{"$f":"IF(AND(TRIM(AU83)=\"\",TRIM(AU84)=\"\"),\"\",AU83+AU84)","v":""},null,null,null,{"$f":"IF(TRIM(AX85)=\"\", \"\", IF(VLOOKUP(AX85,'Footnotes list'!$D$9:$E$58,2,FALSE)=0,\"\",VLOOKUP(AX85,'Footnotes list'!$D$9:$E$58,2,FALSE) ) )","v":""},{"$f":"IF(AND(TRIM(AZ83)=\"\",TRIM(AZ84)=\"\"),\"\",AZ83+AZ84)","v":""},null,null,null,{"$f":"IF(TRIM(BC85)=\"\", \"\", IF(VLOOKUP(BC85,'Footnotes list'!$D$9:$E$58,2,FALSE)=0,\"\",VLOOKUP(BC85,'Footnotes list'!$D$9:$E$58,2,FALSE) ) )","v":""},{"$f":"IF(AND(TRIM(BE83)=\"\",TRIM(BE84)=\"\"),\"\",BE83+BE84)","v":""},null,null,null,{"$f":"IF(TRIM(BH85)=\"\", \"\", IF(VLOOKUP(BH85,'Footnotes list'!$D$9:$E$58,2,FALSE)=0,\"\",VLOOKUP(BH85,'Footnotes list'!$D$9:$E$58,2,FALSE) ) )","v":""},{"$f":"IF(AND(TRIM(BJ83)=\"\",TRIM(BJ84)=\"\"),\"\",BJ83+BJ84)","v":""},null,null,null,{"$f":"IF(TRIM(BM85)=\"\", \"\", IF(VLOOKUP(BM85,'Footnotes list'!$D$9:$E$58,2,FALSE)=0,\"\",VLOOKUP(BM85,'Footnotes list'!$D$9:$E$58,2,FALSE) ) )","v":""},{"$f":"IF(AND(TRIM(BO83)=\"\", TRIM(BO84)=\"\"), \"\", (IF(ISNUMBER(BO83),BO83,0)+IF(ISNUMBER(BO84),BO84,0)))","v":""},null,null,null,{"$f":"IF(TRIM(BR85)=\"\", \"\", IF(VLOOKUP(BR85,'Footnotes list'!$D$9:$E$58,2,FALSE)=0,\"\",VLOOKUP(BR85,'Footnotes list'!$D$9:$E$58,2,FALSE) ) )","v":""},{"$f":"IF(AND(TRIM(BT83)=\"\",TRIM(BT84)=\"\"),\"\",BT83+BT84)","v":""},null,null,null,{"$f":"IF(TRIM(BW85)=\"\", \"\", IF(VLOOKUP(BW85,'Footnotes list'!$D$9:$E$58,2,FALSE)=0,\"\",VLOOKUP(BW85,'Footnotes list'!$D$9:$E$58,2,FALSE) ) )","v":""},{"$f":"IF(AND(TRIM(BY83)=\"\",TRIM(BY84)=\"\"),\"\",BY83+BY84)","v":""},null,null,null,{"$f":"IF(TRIM(CB85)=\"\", \"\", IF(VLOOKUP(CB85,'Footnotes list'!$D$9:$E$58,2,FALSE)=0,\"\",VLOOKUP(CB85,'Footnotes list'!$D$9:$E$58,2,FALSE) ) )","v":""},{"$f":"IF(AND(TRIM(CD83)=\"\",TRIM(CD84)=\"\"),\"\",CD83+CD84)","v":""},null,null,null,{"$f":"IF(TRIM(CG85)=\"\", \"\", IF(VLOOKUP(CG85,'Footnotes list'!$D$9:$E$58,2,FALSE)=0,\"\",VLOOKUP(CG85,'Footnotes list'!$D$9:$E$58,2,FALSE) ) )","v":""},{"$f":"IF(AND(TRIM(CI83)=\"\", TRIM(CI84)=\"\"), \"\", (IF(ISNUMBER(CI83),CI83,0)+IF(ISNUMBER(CI84),CI84,0)))","v":""},null,null,null,{"$f":"IF(TRIM(CL85)=\"\", \"\", IF(VLOOKUP(CL85,'Footnotes list'!$D$9:$E$58,2,FALSE)=0,\"\",VLOOKUP(CL85,'Footnotes list'!$D$9:$E$58,2,FALSE) ) )","v":""},{"$f":"IF(AND(TRIM(CN83)=\"\",TRIM(CN84)=\"\"),\"\",CN83+CN84)","v":""},null,null,null,{"$f":"IF(TRIM(CQ85)=\"\", \"\", IF(VLOOKUP(CQ85,'Footnotes list'!$D$9:$E$58,2,FALSE)=0,\"\",VLOOKUP(CQ85,'Footnotes list'!$D$9:$E$58,2,FALSE) ) )","v":""},{"$f":"IF(AND(TRIM(CS83)=\"\",TRIM(CS84)=\"\"),\"\",CS83+CS84)","v":""},null,null,null,{"$f":"IF(TRIM(CV85)=\"\", \"\", IF(VLOOKUP(CV85,'Footnotes list'!$D$9:$E$58,2,FALSE)=0,\"\",VLOOKUP(CV85,'Footnotes list'!$D$9:$E$58,2,FALSE) ) )","v":""},{"$f":"IF(AND(TRIM(CX83)=\"\",TRIM(CX84)=\"\"),\"\",CX83+CX84)","v":""},null,null,null,{"$f":"IF(TRIM(DA85)=\"\", \"\", IF(VLOOKUP(DA85,'Footnotes list'!$D$9:$E$58,2,FALSE)=0,\"\",VLOOKUP(DA85,'Footnotes list'!$D$9:$E$58,2,FALSE) ) )","v":""},{"$f":"IF(AND(TRIM(DC83)=\"\",TRIM(DC84)=\"\"),\"\",DC83+DC84)","v":""},null,null,null,{"$f":"IF(TRIM(DF85)=\"\", \"\", IF(VLOOKUP(DF85,'Footnotes list'!$D$9:$E$58,2,FALSE)=0,\"\",VLOOKUP(DF85,'Footnotes list'!$D$9:$E$58,2,FALSE) ) )","v":""},{"$f":"IF(AND(TRIM(DH83)=\"\", TRIM(DH84)=\"\"), \"\", SUM(DH83,DH84) )","v":""},null,null,null,{"$f":"IF(TRIM(DK85)=\"\", \"\", IF(VLOOKUP(DK85,'Footnotes list'!$D$9:$E$58,2,FALSE)=0,\"\",VLOOKUP(DK85,'Footnotes list'!$D$9:$E$58,2,FALSE) ) )","v":""}]
[null,"W11",null,"Common sludges ",null,"Not applicable"]
[null,null,"W11",null,"NHAZ","Non-hazardous",null,null,null,null,{"$f":"IF(TRIM(J87)=\"\", \"\", IF(VLOOKUP(J87,'Footnotes list'!$D$9:$E$58,2,FALSE)=0,\"\",VLOOKUP(J87,'Footnotes list'!$D$9:$E$58,2,FALSE) ) )","v":""},null,null,null,null,{"$f":"IF(TRIM(O87)=\"\", \"\", IF(VLOOKUP(O87,'Footnotes list'!$D$9:$E$58,2,FALSE)=0,\"\",VLOOKUP(O87,'Footnotes list'!$D$9:$E$58,2,FALSE) ) )","v":""},null,null,null,null,{"$f":"IF(TRIM(T87)=\"\", \"\", IF(VLOOKUP(T87,'Footnotes list'!$D$9:$E$58,2,FALSE)=0,\"\",VLOOKUP(T87,'Footnotes list'!$D$9:$E$58,2,FALSE) ) )","v":""},null,null,null,null,{"$f":"IF(TRIM(Y87)=\"\", \"\", IF(VLOOKUP(Y87,'Footnotes list'!$D$9:$E$58,2,FALSE)=0,\"\",VLOOKUP(Y87,'Footnotes list'!$D$9:$E$58,2,FALSE) ) )","v":""},null,null,null,null,{"$f":"IF(TRIM(AD87)=\"\", \"\", IF(VLOOKUP(AD87,'Footnotes list'!$D$9:$E$58,2,FALSE)=0,\"\",VLOOKUP(AD87,'Footnotes list'!$D$9:$E$58,2,FALSE) ) )","v":""},null,null,null,null,{"$f":"IF(TRIM(AI87)=\"\", \"\", IF(VLOOKUP(AI87,'Footnotes list'!$D$9:$E$58,2,FALSE)=0,\"\",VLOOKUP(AI87,'Footnotes list'!$D$9:$E$58,2,FALSE) ) )","v":""},null,null,null,null,{"$f":"IF(TRIM(AN87)=\"\", \"\", IF(VLOOKUP(AN87,'Footnotes list'!$D$9:$E$58,2,FALSE)=0,\"\",VLOOKUP(AN87,'Footnotes list'!$D$9:$E$58,2,FALSE) ) )","v":""},null,null,null,null,{"$f":"IF(TRIM(AS87)=\"\", \"\", IF(VLOOKUP(AS87,'Footnotes list'!$D$9:$E$58,2,FALSE)=0,\"\",VLOOKUP(AS87,'Footnotes list'!$D$9:$E$58,2,FALSE) ) )","v":""},null,null,null,null,{"$f":"IF(TRIM(AX87)=\"\", \"\", IF(VLOOKUP(AX87,'Footnotes list'!$D$9:$E$58,2,FALSE)=0,\"\",VLOOKUP(AX87,'Footnotes list'!$D$9:$E$58,2,FALSE) ) )","v":""},null,null,null,null,{"$f":"IF(TRIM(BC87)=\"\", \"\", IF(VLOOKUP(BC87,'Footnotes list'!$D$9:$E$58,2,FALSE)=0,\"\",VLOOKUP(BC87,'Footnotes list'!$D$9:$E$58,2,FALSE) ) )","v":""},null,null,null,null,{"$f":"IF(TRIM(BH87)=\"\", \"\", IF(VLOOKUP(BH87,'Footnotes list'!$D$9:$E$58,2,FALSE)=0,\"\",VLOOKUP(BH87,'Footnotes list'!$D$9:$E$58,2,FALSE) ) )","v":""},null,null,null,null,{"$f":"IF(TRIM(BM87)=\"\", \"\", IF(VLOOKUP(BM87,'Footnotes list'!$D$9:$E$58,2,FALSE)=0,\"\",VLOOKUP(BM87,'Footnotes list'!$D$9:$E$58,2,FALSE) ) )","v":""},{"$f":"IF(AND(TRIM(Q87)=\"\",TRIM(V87)=\"\",TRIM(AA87)=\"\", TRIM(AF87)=\"\", TRIM(AK87)=\"\", TRIM(AP87)=\"\", TRIM(AU87)=\"\", TRIM(AZ87)=\"\", TRIM(BE87)=\"\", TRIM(BJ87)=\"\"),\"\",Q87+V87+AA87+AF87+AK87+AP87+AU87+AZ87+BE87+BJ87)","v":""},null,null,null,{"$f":"IF(TRIM(BR87)=\"\", \"\", IF(VLOOKUP(BR87,'Footnotes list'!$D$9:$E$58,2,FALSE)=0,\"\",VLOOKUP(BR87,'Footnotes list'!$D$9:$E$58,2,FALSE) ) )","v":""},null,null,null,null,{"$f":"IF(TRIM(BW87)=\"\", \"\", IF(VLOOKUP(BW87,'Footnotes list'!$D$9:$E$58,2,FALSE)=0,\"\",VLOOKUP(BW87,'Footnotes list'!$D$9:$E$58,2,FALSE) ) )","v":""},null,null,null,null,{"$f":"IF(TRIM(CB87)=\"\", \"\", IF(VLOOKUP(CB87,'Footnotes list'!$D$9:$E$58,2,FALSE)=0,\"\",VLOOKUP(CB87,'Footnotes list'!$D$9:$E$58,2,FALSE) ) )","v":""},null,null,null,null,{"$f":"IF(TRIM(CG87)=\"\", \"\", IF(VLOOKUP(CG87,'Footnotes list'!$D$9:$E$58,2,FALSE)=0,\"\",VLOOKUP(CG87,'Footnotes list'!$D$9:$E$58,2,FALSE) ) )","v":""},{"$f":"IF(AND(TRIM(BY87)=\"\",TRIM(CD87)=\"\"),\"\",BY87+CD87)","v":""},null,null,null,{"$f":"IF(TRIM(CL87)=\"\", \"\", IF(VLOOKUP(CL87,'Footnotes list'!$D$9:$E$58,2,FALSE)=0,\"\",VLOOKUP(CL87,'Footnotes list'!$D$9:$E$58,2,FALSE) ) )","v":""},null,null,null,null,{"$f":"IF(TRIM(CQ87)=\"\", \"\", IF(VLOOKUP(CQ87,'Footnotes list'!$D$9:$E$58,2,FALSE)=0,\"\",VLOOKUP(CQ87,'Footnotes list'!$D$9:$E$58,2,FALSE) ) )","v":""},null,null,null,null,{"$f":"IF(TRIM(CV87)=\"\", \"\", IF(VLOOKUP(CV87,'Footnotes list'!$D$9:$E$58,2,FALSE)=0,\"\",VLOOKUP(CV87,'Footnotes list'!$D$9:$E$58,2,FALSE) ) )","v":""},null,null,null,null,{"$f":"IF(TRIM(DA87)=\"\", \"\", IF(VLOOKUP(DA87,'Footnotes list'!$D$9:$E$58,2,FALSE)=0,\"\",VLOOKUP(DA87,'Footnotes list'!$D$9:$E$58,2,FALSE) ) )","v":""},null,null,null,null,{"$f":"IF(TRIM(DF87)=\"\", \"\", IF(VLOOKUP(DF87,'Footnotes list'!$D$9:$E$58,2,FALSE)=0,\"\",VLOOKUP(DF87,'Footnotes list'!$D$9:$E$58,2,FALSE) ) )","v":""},{"$f":"IF(AND(TRIM(G87)=\"\",TRIM(L87)=\"\",TRIM(BO87)=\"\",TRIM(BT87)=\"\",TRIM(CI87)=\"\",TRIM(CN87)=\"\",TRIM(CS87)=\"\",TRIM(CX87)=\"\",TRIM(DC87)=\"\"),\"\",SUM(G87,L87,BO87,BT87,CI87,CN87,CS87,CX87,DC87))","v":""},null,null,null,{"$f":"IF(TRIM(DK87)=\"\", \"\", IF(VLOOKUP(DK87,'Footnotes list'!$D$9:$E$58,2,FALSE)=0,\"\",VLOOKUP(DK87,'Footnotes list'!$D$9:$E$58,2,FALSE) ) )","v":""}]
[null,null,"W11",null,"HAZ_NHAZ","Total",{"$f":"IF(AND(TRIM(G86)=\"\",TRIM(G87)=\"\"),\"\",G86+G87)","v":""},null,null,null,{"$f":"IF(TRIM(J88)=\"\", \"\", IF(VLOOKUP(J88,'Footnotes list'!$D$9:$E$58,2,FALSE)=0,\"\",VLOOKUP(J88,'Footnotes list'!$D$9:$E$58,2,FALSE) ) )","v":""},{"$f":"IF(AND(TRIM(L86)=\"\",TRIM(L87)=\"\"),\"\",L86+L87)","v":""},null,null,null,{"$f":"IF(TRIM(O88)=\"\", \"\", IF(VLOOKUP(O88,'Footnotes list'!$D$9:$E$58,2,FALSE)=0,\"\",VLOOKUP(O88,'Footnotes list'!$D$9:$E$58,2,FALSE) ) )","v":""},{"$f":"IF(AND(TRIM(Q86)=\"\",TRIM(Q87)=\"\"),\"\",Q86+Q87)","v":""},null,null,null,{"$f":"IF(TRIM(T88)=\"\", \"\", IF(VLOOKUP(T88,'Footnotes list'!$D$9:$E$58,2,FALSE)=0,\"\",VLOOKUP(T88,'Footnotes list'!$D$9:$E$58,2,FALSE) ) )","v":""},{"$f":"IF(AND(TRIM(V86)=\"\",TRIM(V87)=\"\"),\"\",V86+V87)","v":""},null,null,null,{"$f":"IF(TRIM(Y88)=\"\", \"\", IF(VLOOKUP(Y88,'Footnotes list'!$D$9:$E$58,2,FALSE)=0,\"\",VLOOKUP(Y88,'Footnotes list'!$D$9:$E$58,2,FALSE) ) )","v":""},{"$f":"IF(AND(TRIM(AA86)=\"\",TRIM(AA87)=\"\"),\"\",AA86+AA87)","v":""},null,null,null,{"$f":"IF(TRIM(AD88)=\"\", \"\", IF(VLOOKUP(AD88,'Footnotes list'!$D$9:$E$58,2,FALSE)=0,\"\",VLOOKUP(AD88,'Footnotes list'!$D$9:$E$58,2,FALSE) ) )","v":""},{"$f":"IF(AND(TRIM(AF86)=\"\",TRIM(AF87)=\"\"),\"\",AF86+AF87)","v":""},null,null,null,{"$f":"IF(TRIM(AI88)=\"\", \"\", IF(VLOOKUP(AI88,'Footnotes list'!$D$9:$E$58,2,FALSE)=0,\"\",VLOOKUP(AI88,'Footnotes list'!$D$9:$E$58,2,FALSE) ) )","v":""},{"$f":"IF(AND(TRIM(AK86)=\"\",TRIM(AK87)=\"\"),\"\",AK86+AK87)","v":""},null,null,null,{"$f":"IF(TRIM(AN88)=\"\", \"\", IF(VLOOKUP(AN88,'Footnotes list'!$D$9:$E$58,2,FALSE)=0,\"\",VLOOKUP(AN88,'Footnotes list'!$D$9:$E$58,2,FALSE) ) )","v":""},{"$f":"IF(AND(TRIM(AP86)=\"\",TRIM(AP87)=\"\"),\"\",AP86+AP87)","v":""},null,null,null,{"$f":"IF(TRIM(AS88)=\"\", \"\", IF(VLOOKUP(AS88,'Footnotes list'!$D$9:$E$58,2,FALSE)=0,\"\",VLOOKUP(AS88,'Footnotes list'!$D$9:$E$58,2,FALSE) ) )","v":""},{"$f":"IF(AND(TRIM(AU86)=\"\",TRIM(AU87)=\"\"),\"\",AU86+AU87)","v":""},null,null,null,{"$f":"IF(TRIM(AX88)=\"\", \"\", IF(VLOOKUP(AX88,'Footnotes list'!$D$9:$E$58,2,FALSE)=0,\"\",VLOOKUP(AX88,'Footnotes list'!$D$9:$E$58,2,FALSE) ) )","v":""},{"$f":"IF(AND(TRIM(AZ86)=\"\",TRIM(AZ87)=\"\"),\"\",AZ86+AZ87)","v":""},null,null,null,{"$f":"IF(TRIM(BC88)=\"\", \"\", IF(VLOOKUP(BC88,'Footnotes list'!$D$9:$E$58,2,FALSE)=0,\"\",VLOOKUP(BC88,'Footnotes list'!$D$9:$E$58,2,FALSE) ) )","v":""},{"$f":"IF(AND(TRIM(BE86)=\"\",TRIM(BE87)=\"\"),\"\",BE86+BE87)","v":""},null,null,null,{"$f":"IF(TRIM(BH88)=\"\", \"\", IF(VLOOKUP(BH88,'Footnotes list'!$D$9:$E$58,2,FALSE)=0,\"\",VLOOKUP(BH88,'Footnotes list'!$D$9:$E$58,2,FALSE) ) )","v":""},{"$f":"IF(AND(TRIM(BJ86)=\"\",TRIM(BJ87)=\"\"),\"\",BJ86+BJ87)","v":""},null,null,null,{"$f":"IF(TRIM(BM88)=\"\", \"\", IF(VLOOKUP(BM88,'Footnotes list'!$D$9:$E$58,2,FALSE)=0,\"\",VLOOKUP(BM88,'Footnotes list'!$D$9:$E$58,2,FALSE) ) )","v":""},{"$f":"IF(AND(TRIM(BO86)=\"\", TRIM(BO87)=\"\"), \"\", (IF(ISNUMBER(BO86),BO86,0)+IF(ISNUMBER(BO87),BO87,0)))","v":""},null,null,null,{"$f":"IF(TRIM(BR88)=\"\", \"\", IF(VLOOKUP(BR88,'Footnotes list'!$D$9:$E$58,2,FALSE)=0,\"\",VLOOKUP(BR88,'Footnotes list'!$D$9:$E$58,2,FALSE) ) )","v":""},{"$f":"IF(AND(TRIM(BT86)=\"\",TRIM(BT87)=\"\"),\"\",BT86+BT87)","v":""},null,null,null,{"$f":"IF(TRIM(BW88)=\"\", \"\", IF(VLOOKUP(BW88,'Footnotes list'!$D$9:$E$58,2,FALSE)=0,\"\",VLOOKUP(BW88,'Footnotes list'!$D$9:$E$58,2,FALSE) ) )","v":""},{"$f":"IF(AND(TRIM(BY86)=\"\",TRIM(BY87)=\"\"),\"\",BY86+BY87)","v":""},null,null,null,{"$f":"IF(TRIM(CB88)=\"\", \"\", IF(VLOOKUP(CB88,'Footnotes list'!$D$9:$E$58,2,FALSE)=0,\"\",VLOOKUP(CB88,'Footnotes list'!$D$9:$E$58,2,FALSE) ) )","v":""},{"$f":"IF(AND(TRIM(CD86)=\"\",TRIM(CD87)=\"\"),\"\",CD86+CD87)","v":""},null,null,null,{"$f":"IF(TRIM(CG88)=\"\", \"\", IF(VLOOKUP(CG88,'Footnotes list'!$D$9:$E$58,2,FALSE)=0,\"\",VLOOKUP(CG88,'Footnotes list'!$D$9:$E$58,2,FALSE) ) )","v":""},{"$f":"IF(AND(TRIM(CI86)=\"\", TRIM(CI87)=\"\"), \"\", (IF(ISNUMBER(CI86),CI86,0)+IF(ISNUMBER(CI87),CI87,0)))","v":""},null,null,null,{"$f":"IF(TRIM(CL88)=\"\", \"\", IF(VLOOKUP(CL88,'Footnotes list'!$D$9:$E$58,2,FALSE)=0,\"\",VLOOKUP(CL88,'Footnotes list'!$D$9:$E$58,2,FALSE) ) )","v":""},{"$f":"IF(AND(TRIM(CN86)=\"\",TRIM(CN87)=\"\"),\"\",CN86+CN87)","v":""},null,null,null,{"$f":"IF(TRIM(CQ88)=\"\", \"\", IF(VLOOKUP(CQ88,'Footnotes list'!$D$9:$E$58,2,FALSE)=0,\"\",VLOOKUP(CQ88,'Footnotes list'!$D$9:$E$58,2,FALSE) ) )","v":""},{"$f":"IF(AND(TRIM(CS86)=\"\",TRIM(CS87)=\"\"),\"\",CS86+CS87)","v":""},null,null,null,{"$f":"IF(TRIM(CV88)=\"\", \"\", IF(VLOOKUP(CV88,'Footnotes list'!$D$9:$E$58,2,FALSE)=0,\"\",VLOOKUP(CV88,'Footnotes list'!$D$9:$E$58,2,FALSE) ) )","v":""},{"$f":"IF(AND(TRIM(CX86)=\"\",TRIM(CX87)=\"\"),\"\",CX86+CX87)","v":""},null,null,null,{"$f":"IF(TRIM(DA88)=\"\", \"\", IF(VLOOKUP(DA88,'Footnotes list'!$D$9:$E$58,2,FALSE)=0,\"\",VLOOKUP(DA88,'Footnotes list'!$D$9:$E$58,2,FALSE) ) )","v":""},{"$f":"IF(AND(TRIM(DC86)=\"\",TRIM(DC87)=\"\"),\"\",DC86+DC87)","v":""},null,null,null,{"$f":"IF(TRIM(DF88)=\"\", \"\", IF(VLOOKUP(DF88,'Footnotes list'!$D$9:$E$58,2,FALSE)=0,\"\",VLOOKUP(DF88,'Footnotes list'!$D$9:$E$58,2,FALSE) ) )","v":""},{"$f":"IF(AND(TRIM(DH86)=\"\", TRIM(DH87)=\"\"), \"\", SUM(DH86,DH87) )","v":""},null,null,null,{"$f":"IF(TRIM(DK88)=\"\", \"\", IF(VLOOKUP(DK88,'Footnotes list'!$D$9:$E$58,2,FALSE)=0,\"\",VLOOKUP(DK88,'Footnotes list'!$D$9:$E$58,2,FALSE) ) )","v":""}]
[null,"W121","W121","Mineral waste from construction and demolition","HAZ","Hazardous ",null,null,null,null,{"$f":"IF(TRIM(J89)=\"\", \"\", IF(VLOOKUP(J89,'Footnotes list'!$D$9:$E$58,2,FALSE)=0,\"\",VLOOKUP(J89,'Footnotes list'!$D$9:$E$58,2,FALSE) ) )","v":""},null,null,null,null,{"$f":"IF(TRIM(O89)=\"\", \"\", IF(VLOOKUP(O89,'Footnotes list'!$D$9:$E$58,2,FALSE)=0,\"\",VLOOKUP(O89,'Footnotes list'!$D$9:$E$58,2,FALSE) ) )","v":""},null,null,null,null,{"$f":"IF(TRIM(T89)=\"\", \"\", IF(VLOOKUP(T89,'Footnotes list'!$D$9:$E$58,2,FALSE)=0,\"\",VLOOKUP(T89,'Footnotes list'!$D$9:$E$58,2,FALSE) ) )","v":""},null,null,null,null,{"$f":"IF(TRIM(Y89)=\"\", \"\", IF(VLOOKUP(Y89,'Footnotes list'!$D$9:$E$58,2,FALSE)=0,\"\",VLOOKUP(Y89,'Footnotes list'!$D$9:$E$58,2,FALSE) ) )","v":""},null,null,null,null,{"$f":"IF(TRIM(AD89)=\"\", \"\", IF(VLOOKUP(AD89,'Footnotes list'!$D$9:$E$58,2,FALSE)=0,\"\",VLOOKUP(AD89,'Footnotes list'!$D$9:$E$58,2,FALSE) ) )","v":""},null,null,null,null,{"$f":"IF(TRIM(AI89)=\"\", \"\", IF(VLOOKUP(AI89,'Footnotes list'!$D$9:$E$58,2,FALSE)=0,\"\",VLOOKUP(AI89,'Footnotes list'!$D$9:$E$58,2,FALSE) ) )","v":""},null,null,null,null,{"$f":"IF(TRIM(AN89)=\"\", \"\", IF(VLOOKUP(AN89,'Footnotes list'!$D$9:$E$58,2,FALSE)=0,\"\",VLOOKUP(AN89,'Footnotes list'!$D$9:$E$58,2,FALSE) ) )","v":""},null,null,null,null,{"$f":"IF(TRIM(AS89)=\"\", \"\", IF(VLOOKUP(AS89,'Footnotes list'!$D$9:$E$58,2,FALSE)=0,\"\",VLOOKUP(AS89,'Footnotes list'!$D$9:$E$58,2,FALSE) ) )","v":""},null,null,null,null,{"$f":"IF(TRIM(AX89)=\"\", \"\", IF(VLOOKUP(AX89,'Footnotes list'!$D$9:$E$58,2,FALSE)=0,\"\",VLOOKUP(AX89,'Footnotes list'!$D$9:$E$58,2,FALSE) ) )","v":""},null,null,null,null,{"$f":"IF(TRIM(BC89)=\"\", \"\", IF(VLOOKUP(BC89,'Footnotes list'!$D$9:$E$58,2,FALSE)=0,\"\",VLOOKUP(BC89,'Footnotes list'!$D$9:$E$58,2,FALSE) ) )","v":""},null,null,null,null,{"$f":"IF(TRIM(BH89)=\"\", \"\", IF(VLOOKUP(BH89,'Footnotes list'!$D$9:$E$58,2,FALSE)=0,\"\",VLOOKUP(BH89,'Footnotes list'!$D$9:$E$58,2,FALSE) ) )","v":""},null,null,null,null,{"$f":"IF(TRIM(BM89)=\"\", \"\", IF(VLOOKUP(BM89,'Footnotes list'!$D$9:$E$58,2,FALSE)=0,\"\",VLOOKUP(BM89,'Footnotes list'!$D$9:$E$58,2,FALSE) ) )","v":""},{"$f":"IF(AND(TRIM(Q89)=\"\",TRIM(V89)=\"\",TRIM(AA89)=\"\", TRIM(AF89)=\"\", TRIM(AK89)=\"\", TRIM(AP89)=\"\", TRIM(AU89)=\"\", TRIM(AZ89)=\"\", TRIM(BE89)=\"\", TRIM(BJ89)=\"\"),\"\",Q89+V89+AA89+AF89+AK89+AP89+AU89+AZ89+BE89+BJ89)","v":""},null,null,null,{"$f":"IF(TRIM(BR89)=\"\", \"\", IF(VLOOKUP(BR89,'Footnotes list'!$D$9:$E$58,2,FALSE)=0,\"\",VLOOKUP(BR89,'Footnotes list'!$D$9:$E$58,2,FALSE) ) )","v":""},null,null,null,null,{"$f":"IF(TRIM(BW89)=\"\", \"\", IF(VLOOKUP(BW89,'Footnotes list'!$D$9:$E$58,2,FALSE)=0,\"\",VLOOKUP(BW89,'Footnotes list'!$D$9:$E$58,2,FALSE) ) )","v":""},null,null,null,null,{"$f":"IF(TRIM(CB89)=\"\", \"\", IF(VLOOKUP(CB89,'Footnotes list'!$D$9:$E$58,2,FALSE)=0,\"\",VLOOKUP(CB89,'Footnotes list'!$D$9:$E$58,2,FALSE) ) )","v":""},null,null,null,null,{"$f":"IF(TRIM(CG89)=\"\", \"\", IF(VLOOKUP(CG89,'Footnotes list'!$D$9:$E$58,2,FALSE)=0,\"\",VLOOKUP(CG89,'Footnotes list'!$D$9:$E$58,2,FALSE) ) )","v":""},{"$f":"IF(AND(TRIM(BY89)=\"\",TRIM(CD89)=\"\"),\"\",BY89+CD89)","v":""},null,null,null,{"$f":"IF(TRIM(CL89)=\"\", \"\", IF(VLOOKUP(CL89,'Footnotes list'!$D$9:$E$58,2,FALSE)=0,\"\",VLOOKUP(CL89,'Footnotes list'!$D$9:$E$58,2,FALSE) ) )","v":""},null,null,null,null,{"$f":"IF(TRIM(CQ89)=\"\", \"\", IF(VLOOKUP(CQ89,'Footnotes list'!$D$9:$E$58,2,FALSE)=0,\"\",VLOOKUP(CQ89,'Footnotes list'!$D$9:$E$58,2,FALSE) ) )","v":""},null,null,null,null,{"$f":"IF(TRIM(CV89)=\"\", \"\", IF(VLOOKUP(CV89,'Footnotes list'!$D$9:$E$58,2,FALSE)=0,\"\",VLOOKUP(CV89,'Footnotes list'!$D$9:$E$58,2,FALSE) ) )","v":""},null,null,null,null,{"$f":"IF(TRIM(DA89)=\"\", \"\", IF(VLOOKUP(DA89,'Footnotes list'!$D$9:$E$58,2,FALSE)=0,\"\",VLOOKUP(DA89,'Footnotes list'!$D$9:$E$58,2,FALSE) ) )","v":""},null,null,null,null,{"$f":"IF(TRIM(DF89)=\"\", \"\", IF(VLOOKUP(DF89,'Footnotes list'!$D$9:$E$58,2,FALSE)=0,\"\",VLOOKUP(DF89,'Footnotes list'!$D$9:$E$58,2,FALSE) ) )","v":""},{"$f":"IF(AND(TRIM(G89)=\"\",TRIM(L89)=\"\",TRIM(BO89)=\"\",TRIM(BT89)=\"\",TRIM(CI89)=\"\",TRIM(CN89)=\"\",TRIM(CS89)=\"\",TRIM(CX89)=\"\",TRIM(DC89)=\"\"),\"\",SUM(G89,L89,BO89,BT89,CI89,CN89,CS89,CX89,DC89))","v":""},null,null,null,{"$f":"IF(TRIM(DK89)=\"\", \"\", IF(VLOOKUP(DK89,'Footnotes list'!$D$9:$E$58,2,FALSE)=0,\"\",VLOOKUP(DK89,'Footnotes list'!$D$9:$E$58,2,FALSE) ) )","v":""}]
[null,null,"W121",null,"NHAZ","Non-hazardous",null,null,null,null,{"$f":"IF(TRIM(J90)=\"\", \"\", IF(VLOOKUP(J90,'Footnotes list'!$D$9:$E$58,2,FALSE)=0,\"\",VLOOKUP(J90,'Footnotes list'!$D$9:$E$58,2,FALSE) ) )","v":""},null,null,null,null,{"$f":"IF(TRIM(O90)=\"\", \"\", IF(VLOOKUP(O90,'Footnotes list'!$D$9:$E$58,2,FALSE)=0,\"\",VLOOKUP(O90,'Footnotes list'!$D$9:$E$58,2,FALSE) ) )","v":""},null,null,null,null,{"$f":"IF(TRIM(T90)=\"\", \"\", IF(VLOOKUP(T90,'Footnotes list'!$D$9:$E$58,2,FALSE)=0,\"\",VLOOKUP(T90,'Footnotes list'!$D$9:$E$58,2,FALSE) ) )","v":""},null,null,null,null,{"$f":"IF(TRIM(Y90)=\"\", \"\", IF(VLOOKUP(Y90,'Footnotes list'!$D$9:$E$58,2,FALSE)=0,\"\",VLOOKUP(Y90,'Footnotes list'!$D$9:$E$58,2,FALSE) ) )","v":""},null,null,null,null,{"$f":"IF(TRIM(AD90)=\"\", \"\", IF(VLOOKUP(AD90,'Footnotes list'!$D$9:$E$58,2,FALSE)=0,\"\",VLOOKUP(AD90,'Footnotes list'!$D$9:$E$58,2,FALSE) ) )","v":""},null,null,null,null,{"$f":"IF(TRIM(AI90)=\"\", \"\", IF(VLOOKUP(AI90,'Footnotes list'!$D$9:$E$58,2,FALSE)=0,\"\",VLOOKUP(AI90,'Footnotes list'!$D$9:$E$58,2,FALSE) ) )","v":""},null,null,null,null,{"$f":"IF(TRIM(AN90)=\"\", \"\", IF(VLOOKUP(AN90,'Footnotes list'!$D$9:$E$58,2,FALSE)=0,\"\",VLOOKUP(AN90,'Footnotes list'!$D$9:$E$58,2,FALSE) ) )","v":""},null,null,null,null,{"$f":"IF(TRIM(AS90)=\"\", \"\", IF(VLOOKUP(AS90,'Footnotes list'!$D$9:$E$58,2,FALSE)=0,\"\",VLOOKUP(AS90,'Footnotes list'!$D$9:$E$58,2,FALSE) ) )","v":""},null,null,null,null,{"$f":"IF(TRIM(AX90)=\"\", \"\", IF(VLOOKUP(AX90,'Footnotes list'!$D$9:$E$58,2,FALSE)=0,\"\",VLOOKUP(AX90,'Footnotes list'!$D$9:$E$58,2,FALSE) ) )","v":""},null,null,null,null,{"$f":"IF(TRIM(BC90)=\"\", \"\", IF(VLOOKUP(BC90,'Footnotes list'!$D$9:$E$58,2,FALSE)=0,\"\",VLOOKUP(BC90,'Footnotes list'!$D$9:$E$58,2,FALSE) ) )","v":""},null,null,null,null,{"$f":"IF(TRIM(BH90)=\"\", \"\", IF(VLOOKUP(BH90,'Footnotes list'!$D$9:$E$58,2,FALSE)=0,\"\",VLOOKUP(BH90,'Footnotes list'!$D$9:$E$58,2,FALSE) ) )","v":""},null,null,null,null,{"$f":"IF(TRIM(BM90)=\"\", \"\", IF(VLOOKUP(BM90,'Footnotes list'!$D$9:$E$58,2,FALSE)=0,\"\",VLOOKUP(BM90,'Footnotes list'!$D$9:$E$58,2,FALSE) ) )","v":""},{"$f":"IF(AND(TRIM(Q90)=\"\",TRIM(V90)=\"\",TRIM(AA90)=\"\", TRIM(AF90)=\"\", TRIM(AK90)=\"\", TRIM(AP90)=\"\", TRIM(AU90)=\"\", TRIM(AZ90)=\"\", TRIM(BE90)=\"\", TRIM(BJ90)=\"\"),\"\",Q90+V90+AA90+AF90+AK90+AP90+AU90+AZ90+BE90+BJ90)","v":""},null,null,null,{"$f":"IF(TRIM(BR90)=\"\", \"\", IF(VLOOKUP(BR90,'Footnotes list'!$D$9:$E$58,2,FALSE)=0,\"\",VLOOKUP(BR90,'Footnotes list'!$D$9:$E$58,2,FALSE) ) )","v":""},null,null,null,null,{"$f":"IF(TRIM(BW90)=\"\", \"\", IF(VLOOKUP(BW90,'Footnotes list'!$D$9:$E$58,2,FALSE)=0,\"\",VLOOKUP(BW90,'Footnotes list'!$D$9:$E$58,2,FALSE) ) )","v":""},null,null,null,null,{"$f":"IF(TRIM(CB90)=\"\", \"\", IF(VLOOKUP(CB90,'Footnotes list'!$D$9:$E$58,2,FALSE)=0,\"\",VLOOKUP(CB90,'Footnotes list'!$D$9:$E$58,2,FALSE) ) )","v":""},null,null,null,null,{"$f":"IF(TRIM(CG90)=\"\", \"\", IF(VLOOKUP(CG90,'Footnotes list'!$D$9:$E$58,2,FALSE)=0,\"\",VLOOKUP(CG90,'Footnotes list'!$D$9:$E$58,2,FALSE) ) )","v":""},{"$f":"IF(AND(TRIM(BY90)=\"\",TRIM(CD90)=\"\"),\"\",BY90+CD90)","v":""},null,null,null,{"$f":"IF(TRIM(CL90)=\"\", \"\", IF(VLOOKUP(CL90,'Footnotes list'!$D$9:$E$58,2,FALSE)=0,\"\",VLOOKUP(CL90,'Footnotes list'!$D$9:$E$58,2,FALSE) ) )","v":""},null,null,null,null,{"$f":"IF(TRIM(CQ90)=\"\", \"\", IF(VLOOKUP(CQ90,'Footnotes list'!$D$9:$E$58,2,FALSE)=0,\"\",VLOOKUP(CQ90,'Footnotes list'!$D$9:$E$58,2,FALSE) ) )","v":""},null,null,null,null,{"$f":"IF(TRIM(CV90)=\"\", \"\", IF(VLOOKUP(CV90,'Footnotes list'!$D$9:$E$58,2,FALSE)=0,\"\",VLOOKUP(CV90,'Footnotes list'!$D$9:$E$58,2,FALSE) ) )","v":""},null,null,null,null,{"$f":"IF(TRIM(DA90)=\"\", \"\", IF(VLOOKUP(DA90,'Footnotes list'!$D$9:$E$58,2,FALSE)=0,\"\",VLOOKUP(DA90,'Footnotes list'!$D$9:$E$58,2,FALSE) ) )","v":""},null,null,null,null,{"$f":"IF(TRIM(DF90)=\"\", \"\", IF(VLOOKUP(DF90,'Footnotes list'!$D$9:$E$58,2,FALSE)=0,\"\",VLOOKUP(DF90,'Footnotes list'!$D$9:$E$58,2,FALSE) ) )","v":""},{"$f":"IF(AND(TRIM(G90)=\"\",TRIM(L90)=\"\",TRIM(BO90)=\"\",TRIM(BT90)=\"\",TRIM(CI90)=\"\",TRIM(CN90)=\"\",TRIM(CS90)=\"\",TRIM(CX90)=\"\",TRIM(DC90)=\"\"),\"\",SUM(G90,L90,BO90,BT90,CI90,CN90,CS90,CX90,DC90))","v":""},null,null,null,{"$f":"IF(TRIM(DK90)=\"\", \"\", IF(VLOOKUP(DK90,'Footnotes list'!$D$9:$E$58,2,FALSE)=0,\"\",VLOOKUP(DK90,'Footnotes list'!$D$9:$E$58,2,FALSE) ) )","v":""}]
[null,null,"W121",null,"HAZ_NHAZ","Total",{"$f":"IF(AND(TRIM(G89)=\"\",TRIM(G90)=\"\"),\"\",G89+G90)","v":""},null,null,null,{"$f":"IF(TRIM(J91)=\"\", \"\", IF(VLOOKUP(J91,'Footnotes list'!$D$9:$E$58,2,FALSE)=0,\"\",VLOOKUP(J91,'Footnotes list'!$D$9:$E$58,2,FALSE) ) )","v":""},{"$f":"IF(AND(TRIM(L89)=\"\",TRIM(L90)=\"\"),\"\",L89+L90)","v":""},null,null,null,{"$f":"IF(TRIM(O91)=\"\", \"\", IF(VLOOKUP(O91,'Footnotes list'!$D$9:$E$58,2,FALSE)=0,\"\",VLOOKUP(O91,'Footnotes list'!$D$9:$E$58,2,FALSE) ) )","v":""},{"$f":"IF(AND(TRIM(Q89)=\"\",TRIM(Q90)=\"\"),\"\",Q89+Q90)","v":""},null,null,null,{"$f":"IF(TRIM(T91)=\"\", \"\", IF(VLOOKUP(T91,'Footnotes list'!$D$9:$E$58,2,FALSE)=0,\"\",VLOOKUP(T91,'Footnotes list'!$D$9:$E$58,2,FALSE) ) )","v":""},{"$f":"IF(AND(TRIM(V89)=\"\",TRIM(V90)=\"\"),\"\",V89+V90)","v":""},null,null,null,{"$f":"IF(TRIM(Y91)=\"\", \"\", IF(VLOOKUP(Y91,'Footnotes list'!$D$9:$E$58,2,FALSE)=0,\"\",VLOOKUP(Y91,'Footnotes list'!$D$9:$E$58,2,FALSE) ) )","v":""},{"$f":"IF(AND(TRIM(AA89)=\"\",TRIM(AA90)=\"\"),\"\",AA89+AA90)","v":""},null,null,null,{"$f":"IF(TRIM(AD91)=\"\", \"\", IF(VLOOKUP(AD91,'Footnotes list'!$D$9:$E$58,2,FALSE)=0,\"\",VLOOKUP(AD91,'Footnotes list'!$D$9:$E$58,2,FALSE) ) )","v":""},{"$f":"IF(AND(TRIM(AF89)=\"\",TRIM(AF90)=\"\"),\"\",AF89+AF90)","v":""},null,null,null,{"$f":"IF(TRIM(AI91)=\"\", \"\", IF(VLOOKUP(AI91,'Footnotes list'!$D$9:$E$58,2,FALSE)=0,\"\",VLOOKUP(AI91,'Footnotes list'!$D$9:$E$58,2,FALSE) ) )","v":""},{"$f":"IF(AND(TRIM(AK89)=\"\",TRIM(AK90)=\"\"),\"\",AK89+AK90)","v":""},null,null,null,{"$f":"IF(TRIM(AN91)=\"\", \"\", IF(VLOOKUP(AN91,'Footnotes list'!$D$9:$E$58,2,FALSE)=0,\"\",VLOOKUP(AN91,'Footnotes list'!$D$9:$E$58,2,FALSE) ) )","v":""},{"$f":"IF(AND(TRIM(AP89)=\"\",TRIM(AP90)=\"\"),\"\",AP89+AP90)","v":""},null,null,null,{"$f":"IF(TRIM(AS91)=\"\", \"\", IF(VLOOKUP(AS91,'Footnotes list'!$D$9:$E$58,2,FALSE)=0,\"\",VLOOKUP(AS91,'Footnotes list'!$D$9:$E$58,2,FALSE) ) )","v":""},{"$f":"IF(AND(TRIM(AU89)=\"\",TRIM(AU90)=\"\"),\"\",AU89+AU90)","v":""},null,null,null,{"$f":"IF(TRIM(AX91)=\"\", \"\", IF(VLOOKUP(AX91,'Footnotes list'!$D$9:$E$58,2,FALSE)=0,\"\",VLOOKUP(AX91,'Footnotes list'!$D$9:$E$58,2,FALSE) ) )","v":""},{"$f":"IF(AND(TRIM(AZ89)=\"\",TRIM(AZ90)=\"\"),\"\",AZ89+AZ90)","v":""},null,null,null,{"$f":"IF(TRIM(BC91)=\"\", \"\", IF(VLOOKUP(BC91,'Footnotes list'!$D$9:$E$58,2,FALSE)=0,\"\",VLOOKUP(BC91,'Footnotes list'!$D$9:$E$58,2,FALSE) ) )","v":""},{"$f":"IF(AND(TRIM(BE89)=\"\",TRIM(BE90)=\"\"),\"\",BE89+BE90)","v":""},null,null,null,{"$f":"IF(TRIM(BH91)=\"\", \"\", IF(VLOOKUP(BH91,'Footnotes list'!$D$9:$E$58,2,FALSE)=0,\"\",VLOOKUP(BH91,'Footnotes list'!$D$9:$E$58,2,FALSE) ) )","v":""},{"$f":"IF(AND(TRIM(BJ89)=\"\",TRIM(BJ90)=\"\"),\"\",BJ89+BJ90)","v":""},null,null,null,{"$f":"IF(TRIM(BM91)=\"\", \"\", IF(VLOOKUP(BM91,'Footnotes list'!$D$9:$E$58,2,FALSE)=0,\"\",VLOOKUP(BM91,'Footnotes list'!$D$9:$E$58,2,FALSE) ) )","v":""},{"$f":"IF(AND(TRIM(BO89)=\"\", TRIM(BO90)=\"\"), \"\", (IF(ISNUMBER(BO89),BO89,0)+IF(ISNUMBER(BO90),BO90,0)))","v":""},null,null,null,{"$f":"IF(TRIM(BR91)=\"\", \"\", IF(VLOOKUP(BR91,'Footnotes list'!$D$9:$E$58,2,FALSE)=0,\"\",VLOOKUP(BR91,'Footnotes list'!$D$9:$E$58,2,FALSE) ) )","v":""},{"$f":"IF(AND(TRIM(BT89)=\"\",TRIM(BT90)=\"\"),\"\",BT89+BT90)","v":""},null,null,null,{"$f":"IF(TRIM(BW91)=\"\", \"\", IF(VLOOKUP(BW91,'Footnotes list'!$D$9:$E$58,2,FALSE)=0,\"\",VLOOKUP(BW91,'Footnotes list'!$D$9:$E$58,2,FALSE) ) )","v":""},{"$f":"IF(AND(TRIM(BY89)=\"\",TRIM(BY90)=\"\"),\"\",BY89+BY90)","v":""},null,null,null,{"$f":"IF(TRIM(CB91)=\"\", \"\", IF(VLOOKUP(CB91,'Footnotes list'!$D$9:$E$58,2,FALSE)=0,\"\",VLOOKUP(CB91,'Footnotes list'!$D$9:$E$58,2,FALSE) ) )","v":""},{"$f":"IF(AND(TRIM(CD89)=\"\",TRIM(CD90)=\"\"),\"\",CD89+CD90)","v":""},null,null,null,{"$f":"IF(TRIM(CG91)=\"\", \"\", IF(VLOOKUP(CG91,'Footnotes list'!$D$9:$E$58,2,FALSE)=0,\"\",VLOOKUP(CG91,'Footnotes list'!$D$9:$E$58,2,FALSE) ) )","v":""},{"$f":"IF(AND(TRIM(CI89)=\"\", TRIM(CI90)=\"\"), \"\", (IF(ISNUMBER(CI89),CI89,0)+IF(ISNUMBER(CI90),CI90,0)))","v":""},null,null,null,{"$f":"IF(TRIM(CL91)=\"\", \"\", IF(VLOOKUP(CL91,'Footnotes list'!$D$9:$E$58,2,FALSE)=0,\"\",VLOOKUP(CL91,'Footnotes list'!$D$9:$E$58,2,FALSE) ) )","v":""},{"$f":"IF(AND(TRIM(CN89)=\"\",TRIM(CN90)=\"\"),\"\",CN89+CN90)","v":""},null,null,null,{"$f":"IF(TRIM(CQ91)=\"\", \"\", IF(VLOOKUP(CQ91,'Footnotes list'!$D$9:$E$58,2,FALSE)=0,\"\",VLOOKUP(CQ91,'Footnotes list'!$D$9:$E$58,2,FALSE) ) )","v":""},{"$f":"IF(AND(TRIM(CS89)=\"\",TRIM(CS90)=\"\"),\"\",CS89+CS90)","v":""},null,null,null,{"$f":"IF(TRIM(CV91)=\"\", \"\", IF(VLOOKUP(CV91,'Footnotes list'!$D$9:$E$58,2,FALSE)=0,\"\",VLOOKUP(CV91,'Footnotes list'!$D$9:$E$58,2,FALSE) ) )","v":""},{"$f":"IF(AND(TRIM(CX89)=\"\",TRIM(CX90)=\"\"),\"\",CX89+CX90)","v":""},null,null,null,{"$f":"IF(TRIM(DA91)=\"\", \"\", IF(VLOOKUP(DA91,'Footnotes list'!$D$9:$E$58,2,FALSE)=0,\"\",VLOOKUP(DA91,'Footnotes list'!$D$9:$E$58,2,FALSE) ) )","v":""},{"$f":"IF(AND(TRIM(DC89)=\"\",TRIM(DC90)=\"\"),\"\",DC89+DC90)","v":""},null,null,null,{"$f":"IF(TRIM(DF91)=\"\", \"\", IF(VLOOKUP(DF91,'Footnotes list'!$D$9:$E$58,2,FALSE)=0,\"\",VLOOKUP(DF91,'Footnotes list'!$D$9:$E$58,2,FALSE) ) )","v":""},{"$f":"IF(AND(TRIM(DH89)=\"\", TRIM(DH90)=\"\"), \"\", SUM(DH89,DH90) )","v":""},null,null,null,{"$f":"IF(TRIM(DK91)=\"\", \"\", IF(VLOOKUP(DK91,'Footnotes list'!$D$9:$E$58,2,FALSE)=0,\"\",VLOOKUP(DK91,'Footnotes list'!$D$9:$E$58,2,FALSE) ) )","v":""}]
[null,"W12B","W12B","Other mineral wastes (W122+W123+W125)","HAZ","Hazardous ",null,null,null,null,{"$f":"IF(TRIM(J92)=\"\", \"\", IF(VLOOKUP(J92,'Footnotes list'!$D$9:$E$58,2,FALSE)=0,\"\",VLOOKUP(J92,'Footnotes list'!$D$9:$E$58,2,FALSE) ) )","v":""},null,null,null,null,{"$f":"IF(TRIM(O92)=\"\", \"\", IF(VLOOKUP(O92,'Footnotes list'!$D$9:$E$58,2,FALSE)=0,\"\",VLOOKUP(O92,'Footnotes list'!$D$9:$E$58,2,FALSE) ) )","v":""},null,null,null,null,{"$f":"IF(TRIM(T92)=\"\", \"\", IF(VLOOKUP(T92,'Footnotes list'!$D$9:$E$58,2,FALSE)=0,\"\",VLOOKUP(T92,'Footnotes list'!$D$9:$E$58,2,FALSE) ) )","v":""},null,null,null,null,{"$f":"IF(TRIM(Y92)=\"\", \"\", IF(VLOOKUP(Y92,'Footnotes list'!$D$9:$E$58,2,FALSE)=0,\"\",VLOOKUP(Y92,'Footnotes list'!$D$9:$E$58,2,FALSE) ) )","v":""},null,null,null,null,{"$f":"IF(TRIM(AD92)=\"\", \"\", IF(VLOOKUP(AD92,'Footnotes list'!$D$9:$E$58,2,FALSE)=0,\"\",VLOOKUP(AD92,'Footnotes list'!$D$9:$E$58,2,FALSE) ) )","v":""},null,null,null,null,{"$f":"IF(TRIM(AI92)=\"\", \"\", IF(VLOOKUP(AI92,'Footnotes list'!$D$9:$E$58,2,FALSE)=0,\"\",VLOOKUP(AI92,'Footnotes list'!$D$9:$E$58,2,FALSE) ) )","v":""},null,null,null,null,{"$f":"IF(TRIM(AN92)=\"\", \"\", IF(VLOOKUP(AN92,'Footnotes list'!$D$9:$E$58,2,FALSE)=0,\"\",VLOOKUP(AN92,'Footnotes list'!$D$9:$E$58,2,FALSE) ) )","v":""},null,null,null,null,{"$f":"IF(TRIM(AS92)=\"\", \"\", IF(VLOOKUP(AS92,'Footnotes list'!$D$9:$E$58,2,FALSE)=0,\"\",VLOOKUP(AS92,'Footnotes list'!$D$9:$E$58,2,FALSE) ) )","v":""},null,null,null,null,{"$f":"IF(TRIM(AX92)=\"\", \"\", IF(VLOOKUP(AX92,'Footnotes list'!$D$9:$E$58,2,FALSE)=0,\"\",VLOOKUP(AX92,'Footnotes list'!$D$9:$E$58,2,FALSE) ) )","v":""},null,null,null,null,{"$f":"IF(TRIM(BC92)=\"\", \"\", IF(VLOOKUP(BC92,'Footnotes list'!$D$9:$E$58,2,FALSE)=0,\"\",VLOOKUP(BC92,'Footnotes list'!$D$9:$E$58,2,FALSE) ) )","v":""},null,null,null,null,{"$f":"IF(TRIM(BH92)=\"\", \"\", IF(VLOOKUP(BH92,'Footnotes list'!$D$9:$E$58,2,FALSE)=0,\"\",VLOOKUP(BH92,'Footnotes list'!$D$9:$E$58,2,FALSE) ) )","v":""},null,null,null,null,{"$f":"IF(TRIM(BM92)=\"\", \"\", IF(VLOOKUP(BM92,'Footnotes list'!$D$9:$E$58,2,FALSE)=0,\"\",VLOOKUP(BM92,'Footnotes list'!$D$9:$E$58,2,FALSE) ) )","v":""},{"$f":"IF(AND(TRIM(Q92)=\"\",TRIM(V92)=\"\",TRIM(AA92)=\"\", TRIM(AF92)=\"\", TRIM(AK92)=\"\", TRIM(AP92)=\"\", TRIM(AU92)=\"\", TRIM(AZ92)=\"\", TRIM(BE92)=\"\", TRIM(BJ92)=\"\"),\"\",Q92+V92+AA92+AF92+AK92+AP92+AU92+AZ92+BE92+BJ92)","v":""},null,null,null,{"$f":"IF(TRIM(BR92)=\"\", \"\", IF(VLOOKUP(BR92,'Footnotes list'!$D$9:$E$58,2,FALSE)=0,\"\",VLOOKUP(BR92,'Footnotes list'!$D$9:$E$58,2,FALSE) ) )","v":""},null,null,null,null,{"$f":"IF(TRIM(BW92)=\"\", \"\", IF(VLOOKUP(BW92,'Footnotes list'!$D$9:$E$58,2,FALSE)=0,\"\",VLOOKUP(BW92,'Footnotes list'!$D$9:$E$58,2,FALSE) ) )","v":""},null,null,null,null,{"$f":"IF(TRIM(CB92)=\"\", \"\", IF(VLOOKUP(CB92,'Footnotes list'!$D$9:$E$58,2,FALSE)=0,\"\",VLOOKUP(CB92,'Footnotes list'!$D$9:$E$58,2,FALSE) ) )","v":""},null,null,null,null,{"$f":"IF(TRIM(CG92)=\"\", \"\", IF(VLOOKUP(CG92,'Footnotes list'!$D$9:$E$58,2,FALSE)=0,\"\",VLOOKUP(CG92,'Footnotes list'!$D$9:$E$58,2,FALSE) ) )","v":""},{"$f":"IF(AND(TRIM(BY92)=\"\",TRIM(CD92)=\"\"),\"\",BY92+CD92)","v":""},null,null,null,{"$f":"IF(TRIM(CL92)=\"\", \"\", IF(VLOOKUP(CL92,'Footnotes list'!$D$9:$E$58,2,FALSE)=0,\"\",VLOOKUP(CL92,'Footnotes list'!$D$9:$E$58,2,FALSE) ) )","v":""},null,null,null,null,{"$f":"IF(TRIM(CQ92)=\"\", \"\", IF(VLOOKUP(CQ92,'Footnotes list'!$D$9:$E$58,2,FALSE)=0,\"\",VLOOKUP(CQ92,'Footnotes list'!$D$9:$E$58,2,FALSE) ) )","v":""},null,null,null,null,{"$f":"IF(TRIM(CV92)=\"\", \"\", IF(VLOOKUP(CV92,'Footnotes list'!$D$9:$E$58,2,FALSE)=0,\"\",VLOOKUP(CV92,'Footnotes list'!$D$9:$E$58,2,FALSE) ) )","v":""},null,null,null,null,{"$f":"IF(TRIM(DA92)=\"\", \"\", IF(VLOOKUP(DA92,'Footnotes list'!$D$9:$E$58,2,FALSE)=0,\"\",VLOOKUP(DA92,'Footnotes list'!$D$9:$E$58,2,FALSE) ) )","v":""},null,null,null,null,{"$f":"IF(TRIM(DF92)=\"\", \"\", IF(VLOOKUP(DF92,'Footnotes list'!$D$9:$E$58,2,FALSE)=0,\"\",VLOOKUP(DF92,'Footnotes list'!$D$9:$E$58,2,FALSE) ) )","v":""},{"$f":"IF(AND(TRIM(G92)=\"\",TRIM(L92)=\"\",TRIM(BO92)=\"\",TRIM(BT92)=\"\",TRIM(CI92)=\"\",TRIM(CN92)=\"\",TRIM(CS92)=\"\",TRIM(CX92)=\"\",TRIM(DC92)=\"\"),\"\",SUM(G92,L92,BO92,BT92,CI92,CN92,CS92,CX92,DC92))","v":""},null,null,null,{"$f":"IF(TRIM(DK92)=\"\", \"\", IF(VLOOKUP(DK92,'Footnotes list'!$D$9:$E$58,2,FALSE)=0,\"\",VLOOKUP(DK92,'Footnotes list'!$D$9:$E$58,2,FALSE) ) )","v":""}]
[null,null,"W12B",null,"NHAZ","Non-hazardous",null,null,null,null,{"$f":"IF(TRIM(J93)=\"\", \"\", IF(VLOOKUP(J93,'Footnotes list'!$D$9:$E$58,2,FALSE)=0,\"\",VLOOKUP(J93,'Footnotes list'!$D$9:$E$58,2,FALSE) ) )","v":""},null,null,null,null,{"$f":"IF(TRIM(O93)=\"\", \"\", IF(VLOOKUP(O93,'Footnotes list'!$D$9:$E$58,2,FALSE)=0,\"\",VLOOKUP(O93,'Footnotes list'!$D$9:$E$58,2,FALSE) ) )","v":""},null,null,null,null,{"$f":"IF(TRIM(T93)=\"\", \"\", IF(VLOOKUP(T93,'Footnotes list'!$D$9:$E$58,2,FALSE)=0,\"\",VLOOKUP(T93,'Footnotes list'!$D$9:$E$58,2,FALSE) ) )","v":""},null,null,null,null,{"$f":"IF(TRIM(Y93)=\"\", \"\", IF(VLOOKUP(Y93,'Footnotes list'!$D$9:$E$58,2,FALSE)=0,\"\",VLOOKUP(Y93,'Footnotes list'!$D$9:$E$58,2,FALSE) ) )","v":""},null,null,null,null,{"$f":"IF(TRIM(AD93)=\"\", \"\", IF(VLOOKUP(AD93,'Footnotes list'!$D$9:$E$58,2,FALSE)=0,\"\",VLOOKUP(AD93,'Footnotes list'!$D$9:$E$58,2,FALSE) ) )","v":""},null,null,null,null,{"$f":"IF(TRIM(AI93)=\"\", \"\", IF(VLOOKUP(AI93,'Footnotes list'!$D$9:$E$58,2,FALSE)=0,\"\",VLOOKUP(AI93,'Footnotes list'!$D$9:$E$58,2,FALSE) ) )","v":""},null,null,null,null,{"$f":"IF(TRIM(AN93)=\"\", \"\", IF(VLOOKUP(AN93,'Footnotes list'!$D$9:$E$58,2,FALSE)=0,\"\",VLOOKUP(AN93,'Footnotes list'!$D$9:$E$58,2,FALSE) ) )","v":""},null,null,null,null,{"$f":"IF(TRIM(AS93)=\"\", \"\", IF(VLOOKUP(AS93,'Footnotes list'!$D$9:$E$58,2,FALSE)=0,\"\",VLOOKUP(AS93,'Footnotes list'!$D$9:$E$58,2,FALSE) ) )","v":""},null,null,null,null,{"$f":"IF(TRIM(AX93)=\"\", \"\", IF(VLOOKUP(AX93,'Footnotes list'!$D$9:$E$58,2,FALSE)=0,\"\",VLOOKUP(AX93,'Footnotes list'!$D$9:$E$58,2,FALSE) ) )","v":""},null,null,null,null,{"$f":"IF(TRIM(BC93)=\"\", \"\", IF(VLOOKUP(BC93,'Footnotes list'!$D$9:$E$58,2,FALSE)=0,\"\",VLOOKUP(BC93,'Footnotes list'!$D$9:$E$58,2,FALSE) ) )","v":""},null,null,null,null,{"$f":"IF(TRIM(BH93)=\"\", \"\", IF(VLOOKUP(BH93,'Footnotes list'!$D$9:$E$58,2,FALSE)=0,\"\",VLOOKUP(BH93,'Footnotes list'!$D$9:$E$58,2,FALSE) ) )","v":""},null,null,null,null,{"$f":"IF(TRIM(BM93)=\"\", \"\", IF(VLOOKUP(BM93,'Footnotes list'!$D$9:$E$58,2,FALSE)=0,\"\",VLOOKUP(BM93,'Footnotes list'!$D$9:$E$58,2,FALSE) ) )","v":""},{"$f":"IF(AND(TRIM(Q93)=\"\",TRIM(V93)=\"\",TRIM(AA93)=\"\", TRIM(AF93)=\"\", TRIM(AK93)=\"\", TRIM(AP93)=\"\", TRIM(AU93)=\"\", TRIM(AZ93)=\"\", TRIM(BE93)=\"\", TRIM(BJ93)=\"\"),\"\",Q93+V93+AA93+AF93+AK93+AP93+AU93+AZ93+BE93+BJ93)","v":""},null,null,null,{"$f":"IF(TRIM(BR93)=\"\", \"\", IF(VLOOKUP(BR93,'Footnotes list'!$D$9:$E$58,2,FALSE)=0,\"\",VLOOKUP(BR93,'Footnotes list'!$D$9:$E$58,2,FALSE) ) )","v":""},null,null,null,null,{"$f":"IF(TRIM(BW93)=\"\", \"\", IF(VLOOKUP(BW93,'Footnotes list'!$D$9:$E$58,2,FALSE)=0,\"\",VLOOKUP(BW93,'Footnotes list'!$D$9:$E$58,2,FALSE) ) )","v":""},null,null,null,null,{"$f":"IF(TRIM(CB93)=\"\", \"\", IF(VLOOKUP(CB93,'Footnotes list'!$D$9:$E$58,2,FALSE)=0,\"\",VLOOKUP(CB93,'Footnotes list'!$D$9:$E$58,2,FALSE) ) )","v":""},null,null,null,null,{"$f":"IF(TRIM(CG93)=\"\", \"\", IF(VLOOKUP(CG93,'Footnotes list'!$D$9:$E$58,2,FALSE)=0,\"\",VLOOKUP(CG93,'Footnotes list'!$D$9:$E$58,2,FALSE) ) )","v":""},{"$f":"IF(AND(TRIM(BY93)=\"\",TRIM(CD93)=\"\"),\"\",BY93+CD93)","v":""},null,null,null,{"$f":"IF(TRIM(CL93)=\"\", \"\", IF(VLOOKUP(CL93,'Footnotes list'!$D$9:$E$58,2,FALSE)=0,\"\",VLOOKUP(CL93,'Footnotes list'!$D$9:$E$58,2,FALSE) ) )","v":""},null,null,null,null,{"$f":"IF(TRIM(CQ93)=\"\", \"\", IF(VLOOKUP(CQ93,'Footnotes list'!$D$9:$E$58,2,FALSE)=0,\"\",VLOOKUP(CQ93,'Footnotes list'!$D$9:$E$58,2,FALSE) ) )","v":""},null,null,null,null,{"$f":"IF(TRIM(CV93)=\"\", \"\", IF(VLOOKUP(CV93,'Footnotes list'!$D$9:$E$58,2,FALSE)=0,\"\",VLOOKUP(CV93,'Footnotes list'!$D$9:$E$58,2,FALSE) ) )","v":""},null,null,null,null,{"$f":"IF(TRIM(DA93)=\"\", \"\", IF(VLOOKUP(DA93,'Footnotes list'!$D$9:$E$58,2,FALSE)=0,\"\",VLOOKUP(DA93,'Footnotes list'!$D$9:$E$58,2,FALSE) ) )","v":""},null,null,null,null,{"$f":"IF(TRIM(DF93)=\"\", \"\", IF(VLOOKUP(DF93,'Footnotes list'!$D$9:$E$58,2,FALSE)=0,\"\",VLOOKUP(DF93,'Footnotes list'!$D$9:$E$58,2,FALSE) ) )","v":""},{"$f":"IF(AND(TRIM(G93)=\"\",TRIM(L93)=\"\",TRIM(BO93)=\"\",TRIM(BT93)=\"\",TRIM(CI93)=\"\",TRIM(CN93)=\"\",TRIM(CS93)=\"\",TRIM(CX93)=\"\",TRIM(DC93)=\"\"),\"\",SUM(G93,L93,BO93,BT93,CI93,CN93,CS93,CX93,DC93))","v":""},null,null,null,{"$f":"IF(TRIM(DK93)=\"\", \"\", IF(VLOOKUP(DK93,'Footnotes list'!$D$9:$E$58,2,FALSE)=0,\"\",VLOOKUP(DK93,'Footnotes list'!$D$9:$E$58,2,FALSE) ) )","v":""}]
[null,null,"W12B",null,"HAZ_NHAZ","Total",{"$f":"IF(AND(TRIM(G92)=\"\",TRIM(G93)=\"\"),\"\",G92+G93)","v":""},null,null,null,{"$f":"IF(TRIM(J94)=\"\", \"\", IF(VLOOKUP(J94,'Footnotes list'!$D$9:$E$58,2,FALSE)=0,\"\",VLOOKUP(J94,'Footnotes list'!$D$9:$E$58,2,FALSE) ) )","v":""},{"$f":"IF(AND(TRIM(L92)=\"\",TRIM(L93)=\"\"),\"\",L92+L93)","v":""},null,null,null,{"$f":"IF(TRIM(O94)=\"\", \"\", IF(VLOOKUP(O94,'Footnotes list'!$D$9:$E$58,2,FALSE)=0,\"\",VLOOKUP(O94,'Footnotes list'!$D$9:$E$58,2,FALSE) ) )","v":""},{"$f":"IF(AND(TRIM(Q92)=\"\",TRIM(Q93)=\"\"),\"\",Q92+Q93)","v":""},null,null,null,{"$f":"IF(TRIM(T94)=\"\", \"\", IF(VLOOKUP(T94,'Footnotes list'!$D$9:$E$58,2,FALSE)=0,\"\",VLOOKUP(T94,'Footnotes list'!$D$9:$E$58,2,FALSE) ) )","v":""},{"$f":"IF(AND(TRIM(V92)=\"\",TRIM(V93)=\"\"),\"\",V92+V93)","v":""},null,null,null,{"$f":"IF(TRIM(Y94)=\"\", \"\", IF(VLOOKUP(Y94,'Footnotes list'!$D$9:$E$58,2,FALSE)=0,\"\",VLOOKUP(Y94,'Footnotes list'!$D$9:$E$58,2,FALSE) ) )","v":""},{"$f":"IF(AND(TRIM(AA92)=\"\",TRIM(AA93)=\"\"),\"\",AA92+AA93)","v":""},null,null,null,{"$f":"IF(TRIM(AD94)=\"\", \"\", IF(VLOOKUP(AD94,'Footnotes list'!$D$9:$E$58,2,FALSE)=0,\"\",VLOOKUP(AD94,'Footnotes list'!$D$9:$E$58,2,FALSE) ) )","v":""},{"$f":"IF(AND(TRIM(AF92)=\"\",TRIM(AF93)=\"\"),\"\",AF92+AF93)","v":""},null,null,null,{"$f":"IF(TRIM(AI94)=\"\", \"\", IF(VLOOKUP(AI94,'Footnotes list'!$D$9:$E$58,2,FALSE)=0,\"\",VLOOKUP(AI94,'Footnotes list'!$D$9:$E$58,2,FALSE) ) )","v":""},{"$f":"IF(AND(TRIM(AK92)=\"\",TRIM(AK93)=\"\"),\"\",AK92+AK93)","v":""},null,null,null,{"$f":"IF(TRIM(AN94)=\"\", \"\", IF(VLOOKUP(AN94,'Footnotes list'!$D$9:$E$58,2,FALSE)=0,\"\",VLOOKUP(AN94,'Footnotes list'!$D$9:$E$58,2,FALSE) ) )","v":""},{"$f":"IF(AND(TRIM(AP92)=\"\",TRIM(AP93)=\"\"),\"\",AP92+AP93)","v":""},null,null,null,{"$f":"IF(TRIM(AS94)=\"\", \"\", IF(VLOOKUP(AS94,'Footnotes list'!$D$9:$E$58,2,FALSE)=0,\"\",VLOOKUP(AS94,'Footnotes list'!$D$9:$E$58,2,FALSE) ) )","v":""},{"$f":"IF(AND(TRIM(AU92)=\"\",TRIM(AU93)=\"\"),\"\",AU92+AU93)","v":""},null,null,null,{"$f":"IF(TRIM(AX94)=\"\", \"\", IF(VLOOKUP(AX94,'Footnotes list'!$D$9:$E$58,2,FALSE)=0,\"\",VLOOKUP(AX94,'Footnotes list'!$D$9:$E$58,2,FALSE) ) )","v":""},{"$f":"IF(AND(TRIM(AZ92)=\"\",TRIM(AZ93)=\"\"),\"\",AZ92+AZ93)","v":""},null,null,null,{"$f":"IF(TRIM(BC94)=\"\", \"\", IF(VLOOKUP(BC94,'Footnotes list'!$D$9:$E$58,2,FALSE)=0,\"\",VLOOKUP(BC94,'Footnotes list'!$D$9:$E$58,2,FALSE) ) )","v":""},{"$f":"IF(AND(TRIM(BE92)=\"\",TRIM(BE93)=\"\"),\"\",BE92+BE93)","v":""},null,null,null,{"$f":"IF(TRIM(BH94)=\"\", \"\", IF(VLOOKUP(BH94,'Footnotes list'!$D$9:$E$58,2,FALSE)=0,\"\",VLOOKUP(BH94,'Footnotes list'!$D$9:$E$58,2,FALSE) ) )","v":""},{"$f":"IF(AND(TRIM(BJ92)=\"\",TRIM(BJ93)=\"\"),\"\",BJ92+BJ93)","v":""},null,null,null,{"$f":"IF(TRIM(BM94)=\"\", \"\", IF(VLOOKUP(BM94,'Footnotes list'!$D$9:$E$58,2,FALSE)=0,\"\",VLOOKUP(BM94,'Footnotes list'!$D$9:$E$58,2,FALSE) ) )","v":""},{"$f":"IF(AND(TRIM(BO92)=\"\", TRIM(BO93)=\"\"), \"\", (IF(ISNUMBER(BO92),BO92,0)+IF(ISNUMBER(BO93),BO93,0)))","v":""},null,null,null,{"$f":"IF(TRIM(BR94)=\"\", \"\", IF(VLOOKUP(BR94,'Footnotes list'!$D$9:$E$58,2,FALSE)=0,\"\",VLOOKUP(BR94,'Footnotes list'!$D$9:$E$58,2,FALSE) ) )","v":""},{"$f":"IF(AND(TRIM(BT92)=\"\",TRIM(BT93)=\"\"),\"\",BT92+BT93)","v":""},null,null,null,{"$f":"IF(TRIM(BW94)=\"\", \"\", IF(VLOOKUP(BW94,'Footnotes list'!$D$9:$E$58,2,FALSE)=0,\"\",VLOOKUP(BW94,'Footnotes list'!$D$9:$E$58,2,FALSE) ) )","v":""},{"$f":"IF(AND(TRIM(BY92)=\"\",TRIM(BY93)=\"\"),\"\",BY92+BY93)","v":""},null,null,null,{"$f":"IF(TRIM(CB94)=\"\", \"\", IF(VLOOKUP(CB94,'Footnotes list'!$D$9:$E$58,2,FALSE)=0,\"\",VLOOKUP(CB94,'Footnotes list'!$D$9:$E$58,2,FALSE) ) )","v":""},{"$f":"IF(AND(TRIM(CD92)=\"\",TRIM(CD93)=\"\"),\"\",CD92+CD93)","v":""},null,null,null,{"$f":"IF(TRIM(CG94)=\"\", \"\", IF(VLOOKUP(CG94,'Footnotes list'!$D$9:$E$58,2,FALSE)=0,\"\",VLOOKUP(CG94,'Footnotes list'!$D$9:$E$58,2,FALSE) ) )","v":""},{"$f":"IF(AND(TRIM(CI92)=\"\", TRIM(CI93)=\"\"), \"\", (IF(ISNUMBER(CI92),CI92,0)+IF(ISNUMBER(CI93),CI93,0)))","v":""},null,null,null,{"$f":"IF(TRIM(CL94)=\"\", \"\", IF(VLOOKUP(CL94,'Footnotes list'!$D$9:$E$58,2,FALSE)=0,\"\",VLOOKUP(CL94,'Footnotes list'!$D$9:$E$58,2,FALSE) ) )","v":""},{"$f":"IF(AND(TRIM(CN92)=\"\",TRIM(CN93)=\"\"),\"\",CN92+CN93)","v":""},null,null,null,{"$f":"IF(TRIM(CQ94)=\"\", \"\", IF(VLOOKUP(CQ94,'Footnotes list'!$D$9:$E$58,2,FALSE)=0,\"\",VLOOKUP(CQ94,'Footnotes list'!$D$9:$E$58,2,FALSE) ) )","v":""},{"$f":"IF(AND(TRIM(CS92)=\"\",TRIM(CS93)=\"\"),\"\",CS92+CS93)","v":""},null,null,null,{"$f":"IF(TRIM(CV94)=\"\", \"\", IF(VLOOKUP(CV94,'Footnotes list'!$D$9:$E$58,2,FALSE)=0,\"\",VLOOKUP(CV94,'Footnotes list'!$D$9:$E$58,2,FALSE) ) )","v":""},{"$f":"IF(AND(TRIM(CX92)=\"\",TRIM(CX93)=\"\"),\"\",CX92+CX93)","v":""},null,null,null,{"$f":"IF(TRIM(DA94)=\"\", \"\", IF(VLOOKUP(DA94,'Footnotes list'!$D$9:$E$58,2,FALSE)=0,\"\",VLOOKUP(DA94,'Footnotes list'!$D$9:$E$58,2,FALSE) ) )","v":""},{"$f":"IF(AND(TRIM(DC92)=\"\",TRIM(DC93)=\"\"),\"\",DC92+DC93)","v":""},null,null,null,{"$f":"IF(TRIM(DF94)=\"\", \"\", IF(VLOOKUP(DF94,'Footnotes list'!$D$9:$E$58,2,FALSE)=0,\"\",VLOOKUP(DF94,'Footnotes list'!$D$9:$E$58,2,FALSE) ) )","v":""},{"$f":"IF(AND(TRIM(DH92)=\"\", TRIM(DH93)=\"\"), \"\", SUM(DH92,DH93) )","v":""},null,null,null,{"$f":"IF(TRIM(DK94)=\"\", \"\", IF(VLOOKUP(DK94,'Footnotes list'!$D$9:$E$58,2,FALSE)=0,\"\",VLOOKUP(DK94,'Footnotes list'!$D$9:$E$58,2,FALSE) ) )","v":""}]
[null,"W124","W124","Combustion wastes ","HAZ","Hazardous ",null,null,null,null,{"$f":"IF(TRIM(J95)=\"\", \"\", IF(VLOOKUP(J95,'Footnotes list'!$D$9:$E$58,2,FALSE)=0,\"\",VLOOKUP(J95,'Footnotes list'!$D$9:$E$58,2,FALSE) ) )","v":""},null,null,null,null,{"$f":"IF(TRIM(O95)=\"\", \"\", IF(VLOOKUP(O95,'Footnotes list'!$D$9:$E$58,2,FALSE)=0,\"\",VLOOKUP(O95,'Footnotes list'!$D$9:$E$58,2,FALSE) ) )","v":""},null,null,null,null,{"$f":"IF(TRIM(T95)=\"\", \"\", IF(VLOOKUP(T95,'Footnotes list'!$D$9:$E$58,2,FALSE)=0,\"\",VLOOKUP(T95,'Footnotes list'!$D$9:$E$58,2,FALSE) ) )","v":""},null,null,null,null,{"$f":"IF(TRIM(Y95)=\"\", \"\", IF(VLOOKUP(Y95,'Footnotes list'!$D$9:$E$58,2,FALSE)=0,\"\",VLOOKUP(Y95,'Footnotes list'!$D$9:$E$58,2,FALSE) ) )","v":""},null,null,null,null,{"$f":"IF(TRIM(AD95)=\"\", \"\", IF(VLOOKUP(AD95,'Footnotes list'!$D$9:$E$58,2,FALSE)=0,\"\",VLOOKUP(AD95,'Footnotes list'!$D$9:$E$58,2,FALSE) ) )","v":""},null,null,null,null,{"$f":"IF(TRIM(AI95)=\"\", \"\", IF(VLOOKUP(AI95,'Footnotes list'!$D$9:$E$58,2,FALSE)=0,\"\",VLOOKUP(AI95,'Footnotes list'!$D$9:$E$58,2,FALSE) ) )","v":""},null,null,null,null,{"$f":"IF(TRIM(AN95)=\"\", \"\", IF(VLOOKUP(AN95,'Footnotes list'!$D$9:$E$58,2,FALSE)=0,\"\",VLOOKUP(AN95,'Footnotes list'!$D$9:$E$58,2,FALSE) ) )","v":""},null,null,null,null,{"$f":"IF(TRIM(AS95)=\"\", \"\", IF(VLOOKUP(AS95,'Footnotes list'!$D$9:$E$58,2,FALSE)=0,\"\",VLOOKUP(AS95,'Footnotes list'!$D$9:$E$58,2,FALSE) ) )","v":""},null,null,null,null,{"$f":"IF(TRIM(AX95)=\"\", \"\", IF(VLOOKUP(AX95,'Footnotes list'!$D$9:$E$58,2,FALSE)=0,\"\",VLOOKUP(AX95,'Footnotes list'!$D$9:$E$58,2,FALSE) ) )","v":""},null,null,null,null,{"$f":"IF(TRIM(BC95)=\"\", \"\", IF(VLOOKUP(BC95,'Footnotes list'!$D$9:$E$58,2,FALSE)=0,\"\",VLOOKUP(BC95,'Footnotes list'!$D$9:$E$58,2,FALSE) ) )","v":""},null,null,null,null,{"$f":"IF(TRIM(BH95)=\"\", \"\", IF(VLOOKUP(BH95,'Footnotes list'!$D$9:$E$58,2,FALSE)=0,\"\",VLOOKUP(BH95,'Footnotes list'!$D$9:$E$58,2,FALSE) ) )","v":""},null,null,null,null,{"$f":"IF(TRIM(BM95)=\"\", \"\", IF(VLOOKUP(BM95,'Footnotes list'!$D$9:$E$58,2,FALSE)=0,\"\",VLOOKUP(BM95,'Footnotes list'!$D$9:$E$58,2,FALSE) ) )","v":""},{"$f":"IF(AND(TRIM(Q95)=\"\",TRIM(V95)=\"\",TRIM(AA95)=\"\", TRIM(AF95)=\"\", TRIM(AK95)=\"\", TRIM(AP95)=\"\", TRIM(AU95)=\"\", TRIM(AZ95)=\"\", TRIM(BE95)=\"\", TRIM(BJ95)=\"\"),\"\",Q95+V95+AA95+AF95+AK95+AP95+AU95+AZ95+BE95+BJ95)","v":""},null,null,null,{"$f":"IF(TRIM(BR95)=\"\", \"\", IF(VLOOKUP(BR95,'Footnotes list'!$D$9:$E$58,2,FALSE)=0,\"\",VLOOKUP(BR95,'Footnotes list'!$D$9:$E$58,2,FALSE) ) )","v":""},null,null,null,null,{"$f":"IF(TRIM(BW95)=\"\", \"\", IF(VLOOKUP(BW95,'Footnotes list'!$D$9:$E$58,2,FALSE)=0,\"\",VLOOKUP(BW95,'Footnotes list'!$D$9:$E$58,2,FALSE) ) )","v":""},null,null,null,null,{"$f":"IF(TRIM(CB95)=\"\", \"\", IF(VLOOKUP(CB95,'Footnotes list'!$D$9:$E$58,2,FALSE)=0,\"\",VLOOKUP(CB95,'Footnotes list'!$D$9:$E$58,2,FALSE) ) )","v":""},null,null,null,null,{"$f":"IF(TRIM(CG95)=\"\", \"\", IF(VLOOKUP(CG95,'Footnotes list'!$D$9:$E$58,2,FALSE)=0,\"\",VLOOKUP(CG95,'Footnotes list'!$D$9:$E$58,2,FALSE) ) )","v":""},{"$f":"IF(AND(TRIM(BY95)=\"\",TRIM(CD95)=\"\"),\"\",BY95+CD95)","v":""},null,null,null,{"$f":"IF(TRIM(CL95)=\"\", \"\", IF(VLOOKUP(CL95,'Footnotes list'!$D$9:$E$58,2,FALSE)=0,\"\",VLOOKUP(CL95,'Footnotes list'!$D$9:$E$58,2,FALSE) ) )","v":""},null,null,null,null,{"$f":"IF(TRIM(CQ95)=\"\", \"\", IF(VLOOKUP(CQ95,'Footnotes list'!$D$9:$E$58,2,FALSE)=0,\"\",VLOOKUP(CQ95,'Footnotes list'!$D$9:$E$58,2,FALSE) ) )","v":""},null,null,null,null,{"$f":"IF(TRIM(CV95)=\"\", \"\", IF(VLOOKUP(CV95,'Footnotes list'!$D$9:$E$58,2,FALSE)=0,\"\",VLOOKUP(CV95,'Footnotes list'!$D$9:$E$58,2,FALSE) ) )","v":""},null,null,null,null,{"$f":"IF(TRIM(DA95)=\"\", \"\", IF(VLOOKUP(DA95,'Footnotes list'!$D$9:$E$58,2,FALSE)=0,\"\",VLOOKUP(DA95,'Footnotes list'!$D$9:$E$58,2,FALSE) ) )","v":""},null,null,null,null,{"$f":"IF(TRIM(DF95)=\"\", \"\", IF(VLOOKUP(DF95,'Footnotes list'!$D$9:$E$58,2,FALSE)=0,\"\",VLOOKUP(DF95,'Footnotes list'!$D$9:$E$58,2,FALSE) ) )","v":""},{"$f":"IF(AND(TRIM(G95)=\"\",TRIM(L95)=\"\",TRIM(BO95)=\"\",TRIM(BT95)=\"\",TRIM(CI95)=\"\",TRIM(CN95)=\"\",TRIM(CS95)=\"\",TRIM(CX95)=\"\",TRIM(DC95)=\"\"),\"\",SUM(G95,L95,BO95,BT95,CI95,CN95,CS95,CX95,DC95))","v":""},null,null,null,{"$f":"IF(TRIM(DK95)=\"\", \"\", IF(VLOOKUP(DK95,'Footnotes list'!$D$9:$E$58,2,FALSE)=0,\"\",VLOOKUP(DK95,'Footnotes list'!$D$9:$E$58,2,FALSE) ) )","v":""}]
[null,null,"W124",null,"NHAZ","Non-hazardous",null,null,null,null,{"$f":"IF(TRIM(J96)=\"\", \"\", IF(VLOOKUP(J96,'Footnotes list'!$D$9:$E$58,2,FALSE)=0,\"\",VLOOKUP(J96,'Footnotes list'!$D$9:$E$58,2,FALSE) ) )","v":""},null,null,null,null,{"$f":"IF(TRIM(O96)=\"\", \"\", IF(VLOOKUP(O96,'Footnotes list'!$D$9:$E$58,2,FALSE)=0,\"\",VLOOKUP(O96,'Footnotes list'!$D$9:$E$58,2,FALSE) ) )","v":""},null,null,null,null,{"$f":"IF(TRIM(T96)=\"\", \"\", IF(VLOOKUP(T96,'Footnotes list'!$D$9:$E$58,2,FALSE)=0,\"\",VLOOKUP(T96,'Footnotes list'!$D$9:$E$58,2,FALSE) ) )","v":""},null,null,null,null,{"$f":"IF(TRIM(Y96)=\"\", \"\", IF(VLOOKUP(Y96,'Footnotes list'!$D$9:$E$58,2,FALSE)=0,\"\",VLOOKUP(Y96,'Footnotes list'!$D$9:$E$58,2,FALSE) ) )","v":""},null,null,null,null,{"$f":"IF(TRIM(AD96)=\"\", \"\", IF(VLOOKUP(AD96,'Footnotes list'!$D$9:$E$58,2,FALSE)=0,\"\",VLOOKUP(AD96,'Footnotes list'!$D$9:$E$58,2,FALSE) ) )","v":""},null,null,null,null,{"$f":"IF(TRIM(AI96)=\"\", \"\", IF(VLOOKUP(AI96,'Footnotes list'!$D$9:$E$58,2,FALSE)=0,\"\",VLOOKUP(AI96,'Footnotes list'!$D$9:$E$58,2,FALSE) ) )","v":""},null,null,null,null,{"$f":"IF(TRIM(AN96)=\"\", \"\", IF(VLOOKUP(AN96,'Footnotes list'!$D$9:$E$58,2,FALSE)=0,\"\",VLOOKUP(AN96,'Footnotes list'!$D$9:$E$58,2,FALSE) ) )","v":""},null,null,null,null,{"$f":"IF(TRIM(AS96)=\"\", \"\", IF(VLOOKUP(AS96,'Footnotes list'!$D$9:$E$58,2,FALSE)=0,\"\",VLOOKUP(AS96,'Footnotes list'!$D$9:$E$58,2,FALSE) ) )","v":""},null,null,null,null,{"$f":"IF(TRIM(AX96)=\"\", \"\", IF(VLOOKUP(AX96,'Footnotes list'!$D$9:$E$58,2,FALSE)=0,\"\",VLOOKUP(AX96,'Footnotes list'!$D$9:$E$58,2,FALSE) ) )","v":""},null,null,null,null,{"$f":"IF(TRIM(BC96)=\"\", \"\", IF(VLOOKUP(BC96,'Footnotes list'!$D$9:$E$58,2,FALSE)=0,\"\",VLOOKUP(BC96,'Footnotes list'!$D$9:$E$58,2,FALSE) ) )","v":""},null,null,null,null,{"$f":"IF(TRIM(BH96)=\"\", \"\", IF(VLOOKUP(BH96,'Footnotes list'!$D$9:$E$58,2,FALSE)=0,\"\",VLOOKUP(BH96,'Footnotes list'!$D$9:$E$58,2,FALSE) ) )","v":""},null,null,null,null,{"$f":"IF(TRIM(BM96)=\"\", \"\", IF(VLOOKUP(BM96,'Footnotes list'!$D$9:$E$58,2,FALSE)=0,\"\",VLOOKUP(BM96,'Footnotes list'!$D$9:$E$58,2,FALSE) ) )","v":""},{"$f":"IF(AND(TRIM(Q96)=\"\",TRIM(V96)=\"\",TRIM(AA96)=\"\", TRIM(AF96)=\"\", TRIM(AK96)=\"\", TRIM(AP96)=\"\", TRIM(AU96)=\"\", TRIM(AZ96)=\"\", TRIM(BE96)=\"\", TRIM(BJ96)=\"\"),\"\",Q96+V96+AA96+AF96+AK96+AP96+AU96+AZ96+BE96+BJ96)","v":""},null,null,null,{"$f":"IF(TRIM(BR96)=\"\", \"\", IF(VLOOKUP(BR96,'Footnotes list'!$D$9:$E$58,2,FALSE)=0,\"\",VLOOKUP(BR96,'Footnotes list'!$D$9:$E$58,2,FALSE) ) )","v":""},null,null,null,null,{"$f":"IF(TRIM(BW96)=\"\", \"\", IF(VLOOKUP(BW96,'Footnotes list'!$D$9:$E$58,2,FALSE)=0,\"\",VLOOKUP(BW96,'Footnotes list'!$D$9:$E$58,2,FALSE) ) )","v":""},null,null,null,null,{"$f":"IF(TRIM(CB96)=\"\", \"\", IF(VLOOKUP(CB96,'Footnotes list'!$D$9:$E$58,2,FALSE)=0,\"\",VLOOKUP(CB96,'Footnotes list'!$D$9:$E$58,2,FALSE) ) )","v":""},null,null,null,null,{"$f":"IF(TRIM(CG96)=\"\", \"\", IF(VLOOKUP(CG96,'Footnotes list'!$D$9:$E$58,2,FALSE)=0,\"\",VLOOKUP(CG96,'Footnotes list'!$D$9:$E$58,2,FALSE) ) )","v":""},{"$f":"IF(AND(TRIM(BY96)=\"\",TRIM(CD96)=\"\"),\"\",BY96+CD96)","v":""},null,null,null,{"$f":"IF(TRIM(CL96)=\"\", \"\", IF(VLOOKUP(CL96,'Footnotes list'!$D$9:$E$58,2,FALSE)=0,\"\",VLOOKUP(CL96,'Footnotes list'!$D$9:$E$58,2,FALSE) ) )","v":""},null,null,null,null,{"$f":"IF(TRIM(CQ96)=\"\", \"\", IF(VLOOKUP(CQ96,'Footnotes list'!$D$9:$E$58,2,FALSE)=0,\"\",VLOOKUP(CQ96,'Footnotes list'!$D$9:$E$58,2,FALSE) ) )","v":""},null,null,null,null,{"$f":"IF(TRIM(CV96)=\"\", \"\", IF(VLOOKUP(CV96,'Footnotes list'!$D$9:$E$58,2,FALSE)=0,\"\",VLOOKUP(CV96,'Footnotes list'!$D$9:$E$58,2,FALSE) ) )","v":""},null,null,null,null,{"$f":"IF(TRIM(DA96)=\"\", \"\", IF(VLOOKUP(DA96,'Footnotes list'!$D$9:$E$58,2,FALSE)=0,\"\",VLOOKUP(DA96,'Footnotes list'!$D$9:$E$58,2,FALSE) ) )","v":""},null,null,null,null,{"$f":"IF(TRIM(DF96)=\"\", \"\", IF(VLOOKUP(DF96,'Footnotes list'!$D$9:$E$58,2,FALSE)=0,\"\",VLOOKUP(DF96,'Footnotes list'!$D$9:$E$58,2,FALSE) ) )","v":""},{"$f":"IF(AND(TRIM(G96)=\"\",TRIM(L96)=\"\",TRIM(BO96)=\"\",TRIM(BT96)=\"\",TRIM(CI96)=\"\",TRIM(CN96)=\"\",TRIM(CS96)=\"\",TRIM(CX96)=\"\",TRIM(DC96)=\"\"),\"\",SUM(G96,L96,BO96,BT96,CI96,CN96,CS96,CX96,DC96))","v":""},null,null,null,{"$f":"IF(TRIM(DK96)=\"\", \"\", IF(VLOOKUP(DK96,'Footnotes list'!$D$9:$E$58,2,FALSE)=0,\"\",VLOOKUP(DK96,'Footnotes list'!$D$9:$E$58,2,FALSE) ) )","v":""}]
[null,null,"W124",null,"HAZ_NHAZ","Total",{"$f":"IF(AND(TRIM(G95)=\"\",TRIM(G96)=\"\"),\"\",G95+G96)","v":""},null,null,null,{"$f":"IF(TRIM(J97)=\"\", \"\", IF(VLOOKUP(J97,'Footnotes list'!$D$9:$E$58,2,FALSE)=0,\"\",VLOOKUP(J97,'Footnotes list'!$D$9:$E$58,2,FALSE) ) )","v":""},{"$f":"IF(AND(TRIM(L95)=\"\",TRIM(L96)=\"\"),\"\",L95+L96)","v":""},null,null,null,{"$f":"IF(TRIM(O97)=\"\", \"\", IF(VLOOKUP(O97,'Footnotes list'!$D$9:$E$58,2,FALSE)=0,\"\",VLOOKUP(O97,'Footnotes list'!$D$9:$E$58,2,FALSE) ) )","v":""},{"$f":"IF(AND(TRIM(Q95)=\"\",TRIM(Q96)=\"\"),\"\",Q95+Q96)","v":""},null,null,null,{"$f":"IF(TRIM(T97)=\"\", \"\", IF(VLOOKUP(T97,'Footnotes list'!$D$9:$E$58,2,FALSE)=0,\"\",VLOOKUP(T97,'Footnotes list'!$D$9:$E$58,2,FALSE) ) )","v":""},{"$f":"IF(AND(TRIM(V95)=\"\",TRIM(V96)=\"\"),\"\",V95+V96)","v":""},null,null,null,{"$f":"IF(TRIM(Y97)=\"\", \"\", IF(VLOOKUP(Y97,'Footnotes list'!$D$9:$E$58,2,FALSE)=0,\"\",VLOOKUP(Y97,'Footnotes list'!$D$9:$E$58,2,FALSE) ) )","v":""},{"$f":"IF(AND(TRIM(AA95)=\"\",TRIM(AA96)=\"\"),\"\",AA95+AA96)","v":""},null,null,null,{"$f":"IF(TRIM(AD97)=\"\", \"\", IF(VLOOKUP(AD97,'Footnotes list'!$D$9:$E$58,2,FALSE)=0,\"\",VLOOKUP(AD97,'Footnotes list'!$D$9:$E$58,2,FALSE) ) )","v":""},{"$f":"IF(AND(TRIM(AF95)=\"\",TRIM(AF96)=\"\"),\"\",AF95+AF96)","v":""},null,null,null,{"$f":"IF(TRIM(AI97)=\"\", \"\", IF(VLOOKUP(AI97,'Footnotes list'!$D$9:$E$58,2,FALSE)=0,\"\",VLOOKUP(AI97,'Footnotes list'!$D$9:$E$58,2,FALSE) ) )","v":""},{"$f":"IF(AND(TRIM(AK95)=\"\",TRIM(AK96)=\"\"),\"\",AK95+AK96)","v":""},null,null,null,{"$f":"IF(TRIM(AN97)=\"\", \"\", IF(VLOOKUP(AN97,'Footnotes list'!$D$9:$E$58,2,FALSE)=0,\"\",VLOOKUP(AN97,'Footnotes list'!$D$9:$E$58,2,FALSE) ) )","v":""},{"$f":"IF(AND(TRIM(AP95)=\"\",TRIM(AP96)=\"\"),\"\",AP95+AP96)","v":""},null,null,null,{"$f":"IF(TRIM(AS97)=\"\", \"\", IF(VLOOKUP(AS97,'Footnotes list'!$D$9:$E$58,2,FALSE)=0,\"\",VLOOKUP(AS97,'Footnotes list'!$D$9:$E$58,2,FALSE) ) )","v":""},{"$f":"IF(AND(TRIM(AU95)=\"\",TRIM(AU96)=\"\"),\"\",AU95+AU96)","v":""},null,null,null,{"$f":"IF(TRIM(AX97)=\"\", \"\", IF(VLOOKUP(AX97,'Footnotes list'!$D$9:$E$58,2,FALSE)=0,\"\",VLOOKUP(AX97,'Footnotes list'!$D$9:$E$58,2,FALSE) ) )","v":""},{"$f":"IF(AND(TRIM(AZ95)=\"\",TRIM(AZ96)=\"\"),\"\",AZ95+AZ96)","v":""},null,null,null,{"$f":"IF(TRIM(BC97)=\"\", \"\", IF(VLOOKUP(BC97,'Footnotes list'!$D$9:$E$58,2,FALSE)=0,\"\",VLOOKUP(BC97,'Footnotes list'!$D$9:$E$58,2,FALSE) ) )","v":""},{"$f":"IF(AND(TRIM(BE95)=\"\",TRIM(BE96)=\"\"),\"\",BE95+BE96)","v":""},null,null,null,{"$f":"IF(TRIM(BH97)=\"\", \"\", IF(VLOOKUP(BH97,'Footnotes list'!$D$9:$E$58,2,FALSE)=0,\"\",VLOOKUP(BH97,'Footnotes list'!$D$9:$E$58,2,FALSE) ) )","v":""},{"$f":"IF(AND(TRIM(BJ95)=\"\",TRIM(BJ96)=\"\"),\"\",BJ95+BJ96)","v":""},null,null,null,{"$f":"IF(TRIM(BM97)=\"\", \"\", IF(VLOOKUP(BM97,'Footnotes list'!$D$9:$E$58,2,FALSE)=0,\"\",VLOOKUP(BM97,'Footnotes list'!$D$9:$E$58,2,FALSE) ) )","v":""},{"$f":"IF(AND(TRIM(BO95)=\"\", TRIM(BO96)=\"\"), \"\", (IF(ISNUMBER(BO95),BO95,0)+IF(ISNUMBER(BO96),BO96,0)))","v":""},null,null,null,{"$f":"IF(TRIM(BR97)=\"\", \"\", IF(VLOOKUP(BR97,'Footnotes list'!$D$9:$E$58,2,FALSE)=0,\"\",VLOOKUP(BR97,'Footnotes list'!$D$9:$E$58,2,FALSE) ) )","v":""},{"$f":"IF(AND(TRIM(BT95)=\"\",TRIM(BT96)=\"\"),\"\",BT95+BT96)","v":""},null,null,null,{"$f":"IF(TRIM(BW97)=\"\", \"\", IF(VLOOKUP(BW97,'Footnotes list'!$D$9:$E$58,2,FALSE)=0,\"\",VLOOKUP(BW97,'Footnotes list'!$D$9:$E$58,2,FALSE) ) )","v":""},{"$f":"IF(AND(TRIM(BY95)=\"\",TRIM(BY96)=\"\"),\"\",BY95+BY96)","v":""},null,null,null,{"$f":"IF(TRIM(CB97)=\"\", \"\", IF(VLOOKUP(CB97,'Footnotes list'!$D$9:$E$58,2,FALSE)=0,\"\",VLOOKUP(CB97,'Footnotes list'!$D$9:$E$58,2,FALSE) ) )","v":""},{"$f":"IF(AND(TRIM(CD95)=\"\",TRIM(CD96)=\"\"),\"\",CD95+CD96)","v":""},null,null,null,{"$f":"IF(TRIM(CG97)=\"\", \"\", IF(VLOOKUP(CG97,'Footnotes list'!$D$9:$E$58,2,FALSE)=0,\"\",VLOOKUP(CG97,'Footnotes list'!$D$9:$E$58,2,FALSE) ) )","v":""},{"$f":"IF(AND(TRIM(CI95)=\"\", TRIM(CI96)=\"\"), \"\", (IF(ISNUMBER(CI95),CI95,0)+IF(ISNUMBER(CI96),CI96,0)))","v":""},null,null,null,{"$f":"IF(TRIM(CL97)=\"\", \"\", IF(VLOOKUP(CL97,'Footnotes list'!$D$9:$E$58,2,FALSE)=0,\"\",VLOOKUP(CL97,'Footnotes list'!$D$9:$E$58,2,FALSE) ) )","v":""},{"$f":"IF(AND(TRIM(CN95)=\"\",TRIM(CN96)=\"\"),\"\",CN95+CN96)","v":""},null,null,null,{"$f":"IF(TRIM(CQ97)=\"\", \"\", IF(VLOOKUP(CQ97,'Footnotes list'!$D$9:$E$58,2,FALSE)=0,\"\",VLOOKUP(CQ97,'Footnotes list'!$D$9:$E$58,2,FALSE) ) )","v":""},{"$f":"IF(AND(TRIM(CS95)=\"\",TRIM(CS96)=\"\"),\"\",CS95+CS96)","v":""},null,null,null,{"$f":"IF(TRIM(CV97)=\"\", \"\", IF(VLOOKUP(CV97,'Footnotes list'!$D$9:$E$58,2,FALSE)=0,\"\",VLOOKUP(CV97,'Footnotes list'!$D$9:$E$58,2,FALSE) ) )","v":""},{"$f":"IF(AND(TRIM(CX95)=\"\",TRIM(CX96)=\"\"),\"\",CX95+CX96)","v":""},null,null,null,{"$f":"IF(TRIM(DA97)=\"\", \"\", IF(VLOOKUP(DA97,'Footnotes list'!$D$9:$E$58,2,FALSE)=0,\"\",VLOOKUP(DA97,'Footnotes list'!$D$9:$E$58,2,FALSE) ) )","v":""},{"$f":"IF(AND(TRIM(DC95)=\"\",TRIM(DC96)=\"\"),\"\",DC95+DC96)","v":""},null,null,null,{"$f":"IF(TRIM(DF97)=\"\", \"\", IF(VLOOKUP(DF97,'Footnotes list'!$D$9:$E$58,2,FALSE)=0,\"\",VLOOKUP(DF97,'Footnotes list'!$D$9:$E$58,2,FALSE) ) )","v":""},{"$f":"IF(AND(TRIM(DH95)=\"\", TRIM(DH96)=\"\"), \"\", SUM(DH95,DH96) )","v":""},null,null,null,{"$f":"IF(TRIM(DK97)=\"\", \"\", IF(VLOOKUP(DK97,'Footnotes list'!$D$9:$E$58,2,FALSE)=0,\"\",VLOOKUP(DK97,'Footnotes list'!$D$9:$E$58,2,FALSE) ) )","v":""}]
[null,"W126","W126","Soils ","HAZ","Hazardous ",null,null,null,null,{"$f":"IF(TRIM(J98)=\"\", \"\", IF(VLOOKUP(J98,'Footnotes list'!$D$9:$E$58,2,FALSE)=0,\"\",VLOOKUP(J98,'Footnotes list'!$D$9:$E$58,2,FALSE) ) )","v":""},null,null,null,null,{"$f":"IF(TRIM(O98)=\"\", \"\", IF(VLOOKUP(O98,'Footnotes list'!$D$9:$E$58,2,FALSE)=0,\"\",VLOOKUP(O98,'Footnotes list'!$D$9:$E$58,2,FALSE) ) )","v":""},null,null,null,null,{"$f":"IF(TRIM(T98)=\"\", \"\", IF(VLOOKUP(T98,'Footnotes list'!$D$9:$E$58,2,FALSE)=0,\"\",VLOOKUP(T98,'Footnotes list'!$D$9:$E$58,2,FALSE) ) )","v":""},null,null,null,null,{"$f":"IF(TRIM(Y98)=\"\", \"\", IF(VLOOKUP(Y98,'Footnotes list'!$D$9:$E$58,2,FALSE)=0,\"\",VLOOKUP(Y98,'Footnotes list'!$D$9:$E$58,2,FALSE) ) )","v":""},null,null,null,null,{"$f":"IF(TRIM(AD98)=\"\", \"\", IF(VLOOKUP(AD98,'Footnotes list'!$D$9:$E$58,2,FALSE)=0,\"\",VLOOKUP(AD98,'Footnotes list'!$D$9:$E$58,2,FALSE) ) )","v":""},null,null,null,null,{"$f":"IF(TRIM(AI98)=\"\", \"\", IF(VLOOKUP(AI98,'Footnotes list'!$D$9:$E$58,2,FALSE)=0,\"\",VLOOKUP(AI98,'Footnotes list'!$D$9:$E$58,2,FALSE) ) )","v":""},null,null,null,null,{"$f":"IF(TRIM(AN98)=\"\", \"\", IF(VLOOKUP(AN98,'Footnotes list'!$D$9:$E$58,2,FALSE)=0,\"\",VLOOKUP(AN98,'Footnotes list'!$D$9:$E$58,2,FALSE) ) )","v":""},null,null,null,null,{"$f":"IF(TRIM(AS98)=\"\", \"\", IF(VLOOKUP(AS98,'Footnotes list'!$D$9:$E$58,2,FALSE)=0,\"\",VLOOKUP(AS98,'Footnotes list'!$D$9:$E$58,2,FALSE) ) )","v":""},null,null,null,null,{"$f":"IF(TRIM(AX98)=\"\", \"\", IF(VLOOKUP(AX98,'Footnotes list'!$D$9:$E$58,2,FALSE)=0,\"\",VLOOKUP(AX98,'Footnotes list'!$D$9:$E$58,2,FALSE) ) )","v":""},null,null,null,null,{"$f":"IF(TRIM(BC98)=\"\", \"\", IF(VLOOKUP(BC98,'Footnotes list'!$D$9:$E$58,2,FALSE)=0,\"\",VLOOKUP(BC98,'Footnotes list'!$D$9:$E$58,2,FALSE) ) )","v":""},null,null,null,null,{"$f":"IF(TRIM(BH98)=\"\", \"\", IF(VLOOKUP(BH98,'Footnotes list'!$D$9:$E$58,2,FALSE)=0,\"\",VLOOKUP(BH98,'Footnotes list'!$D$9:$E$58,2,FALSE) ) )","v":""},null,null,null,null,{"$f":"IF(TRIM(BM98)=\"\", \"\", IF(VLOOKUP(BM98,'Footnotes list'!$D$9:$E$58,2,FALSE)=0,\"\",VLOOKUP(BM98,'Footnotes list'!$D$9:$E$58,2,FALSE) ) )","v":""},{"$f":"IF(AND(TRIM(Q98)=\"\",TRIM(V98)=\"\",TRIM(AA98)=\"\", TRIM(AF98)=\"\", TRIM(AK98)=\"\", TRIM(AP98)=\"\", TRIM(AU98)=\"\", TRIM(AZ98)=\"\", TRIM(BE98)=\"\", TRIM(BJ98)=\"\"),\"\",Q98+V98+AA98+AF98+AK98+AP98+AU98+AZ98+BE98+BJ98)","v":""},null,null,null,{"$f":"IF(TRIM(BR98)=\"\", \"\", IF(VLOOKUP(BR98,'Footnotes list'!$D$9:$E$58,2,FALSE)=0,\"\",VLOOKUP(BR98,'Footnotes list'!$D$9:$E$58,2,FALSE) ) )","v":""},null,null,null,null,{"$f":"IF(TRIM(BW98)=\"\", \"\", IF(VLOOKUP(BW98,'Footnotes list'!$D$9:$E$58,2,FALSE)=0,\"\",VLOOKUP(BW98,'Footnotes list'!$D$9:$E$58,2,FALSE) ) )","v":""},null,null,null,null,{"$f":"IF(TRIM(CB98)=\"\", \"\", IF(VLOOKUP(CB98,'Footnotes list'!$D$9:$E$58,2,FALSE)=0,\"\",VLOOKUP(CB98,'Footnotes list'!$D$9:$E$58,2,FALSE) ) )","v":""},null,null,null,null,{"$f":"IF(TRIM(CG98)=\"\", \"\", IF(VLOOKUP(CG98,'Footnotes list'!$D$9:$E$58,2,FALSE)=0,\"\",VLOOKUP(CG98,'Footnotes list'!$D$9:$E$58,2,FALSE) ) )","v":""},{"$f":"IF(AND(TRIM(BY98)=\"\",TRIM(CD98)=\"\"),\"\",BY98+CD98)","v":""},null,null,null,{"$f":"IF(TRIM(CL98)=\"\", \"\", IF(VLOOKUP(CL98,'Footnotes list'!$D$9:$E$58,2,FALSE)=0,\"\",VLOOKUP(CL98,'Footnotes list'!$D$9:$E$58,2,FALSE) ) )","v":""},null,null,null,null,{"$f":"IF(TRIM(CQ98)=\"\", \"\", IF(VLOOKUP(CQ98,'Footnotes list'!$D$9:$E$58,2,FALSE)=0,\"\",VLOOKUP(CQ98,'Footnotes list'!$D$9:$E$58,2,FALSE) ) )","v":""},null,null,null,null,{"$f":"IF(TRIM(CV98)=\"\", \"\", IF(VLOOKUP(CV98,'Footnotes list'!$D$9:$E$58,2,FALSE)=0,\"\",VLOOKUP(CV98,'Footnotes list'!$D$9:$E$58,2,FALSE) ) )","v":""},null,null,null,null,{"$f":"IF(TRIM(DA98)=\"\", \"\", IF(VLOOKUP(DA98,'Footnotes list'!$D$9:$E$58,2,FALSE)=0,\"\",VLOOKUP(DA98,'Footnotes list'!$D$9:$E$58,2,FALSE) ) )","v":""},null,null,null,null,{"$f":"IF(TRIM(DF98)=\"\", \"\", IF(VLOOKUP(DF98,'Footnotes list'!$D$9:$E$58,2,FALSE)=0,\"\",VLOOKUP(DF98,'Footnotes list'!$D$9:$E$58,2,FALSE) ) )","v":""},{"$f":"IF(AND(TRIM(G98)=\"\",TRIM(L98)=\"\",TRIM(BO98)=\"\",TRIM(BT98)=\"\",TRIM(CI98)=\"\",TRIM(CN98)=\"\",TRIM(CS98)=\"\",TRIM(CX98)=\"\",TRIM(DC98)=\"\"),\"\",SUM(G98,L98,BO98,BT98,CI98,CN98,CS98,CX98,DC98))","v":""},null,null,null,{"$f":"IF(TRIM(DK98)=\"\", \"\", IF(VLOOKUP(DK98,'Footnotes list'!$D$9:$E$58,2,FALSE)=0,\"\",VLOOKUP(DK98,'Footnotes list'!$D$9:$E$58,2,FALSE) ) )","v":""}]
[null,null,"W126",null,"NHAZ","Non-hazardous",null,null,null,null,{"$f":"IF(TRIM(J99)=\"\", \"\", IF(VLOOKUP(J99,'Footnotes list'!$D$9:$E$58,2,FALSE)=0,\"\",VLOOKUP(J99,'Footnotes list'!$D$9:$E$58,2,FALSE) ) )","v":""},null,null,null,null,{"$f":"IF(TRIM(O99)=\"\", \"\", IF(VLOOKUP(O99,'Footnotes list'!$D$9:$E$58,2,FALSE)=0,\"\",VLOOKUP(O99,'Footnotes list'!$D$9:$E$58,2,FALSE) ) )","v":""},null,null,null,null,{"$f":"IF(TRIM(T99)=\"\", \"\", IF(VLOOKUP(T99,'Footnotes list'!$D$9:$E$58,2,FALSE)=0,\"\",VLOOKUP(T99,'Footnotes list'!$D$9:$E$58,2,FALSE) ) )","v":""},null,null,null,null,{"$f":"IF(TRIM(Y99)=\"\", \"\", IF(VLOOKUP(Y99,'Footnotes list'!$D$9:$E$58,2,FALSE)=0,\"\",VLOOKUP(Y99,'Footnotes list'!$D$9:$E$58,2,FALSE) ) )","v":""},null,null,null,null,{"$f":"IF(TRIM(AD99)=\"\", \"\", IF(VLOOKUP(AD99,'Footnotes list'!$D$9:$E$58,2,FALSE)=0,\"\",VLOOKUP(AD99,'Footnotes list'!$D$9:$E$58,2,FALSE) ) )","v":""},null,null,null,null,{"$f":"IF(TRIM(AI99)=\"\", \"\", IF(VLOOKUP(AI99,'Footnotes list'!$D$9:$E$58,2,FALSE)=0,\"\",VLOOKUP(AI99,'Footnotes list'!$D$9:$E$58,2,FALSE) ) )","v":""},null,null,null,null,{"$f":"IF(TRIM(AN99)=\"\", \"\", IF(VLOOKUP(AN99,'Footnotes list'!$D$9:$E$58,2,FALSE)=0,\"\",VLOOKUP(AN99,'Footnotes list'!$D$9:$E$58,2,FALSE) ) )","v":""},null,null,null,null,{"$f":"IF(TRIM(AS99)=\"\", \"\", IF(VLOOKUP(AS99,'Footnotes list'!$D$9:$E$58,2,FALSE)=0,\"\",VLOOKUP(AS99,'Footnotes list'!$D$9:$E$58,2,FALSE) ) )","v":""},null,null,null,null,{"$f":"IF(TRIM(AX99)=\"\", \"\", IF(VLOOKUP(AX99,'Footnotes list'!$D$9:$E$58,2,FALSE)=0,\"\",VLOOKUP(AX99,'Footnotes list'!$D$9:$E$58,2,FALSE) ) )","v":""},null,null,null,null,{"$f":"IF(TRIM(BC99)=\"\", \"\", IF(VLOOKUP(BC99,'Footnotes list'!$D$9:$E$58,2,FALSE)=0,\"\",VLOOKUP(BC99,'Footnotes list'!$D$9:$E$58,2,FALSE) ) )","v":""},null,null,null,null,{"$f":"IF(TRIM(BH99)=\"\", \"\", IF(VLOOKUP(BH99,'Footnotes list'!$D$9:$E$58,2,FALSE)=0,\"\",VLOOKUP(BH99,'Footnotes list'!$D$9:$E$58,2,FALSE) ) )","v":""},null,null,null,null,{"$f":"IF(TRIM(BM99)=\"\", \"\", IF(VLOOKUP(BM99,'Footnotes list'!$D$9:$E$58,2,FALSE)=0,\"\",VLOOKUP(BM99,'Footnotes list'!$D$9:$E$58,2,FALSE) ) )","v":""},{"$f":"IF(AND(TRIM(Q99)=\"\",TRIM(V99)=\"\",TRIM(AA99)=\"\", TRIM(AF99)=\"\", TRIM(AK99)=\"\", TRIM(AP99)=\"\", TRIM(AU99)=\"\", TRIM(AZ99)=\"\", TRIM(BE99)=\"\", TRIM(BJ99)=\"\"),\"\",Q99+V99+AA99+AF99+AK99+AP99+AU99+AZ99+BE99+BJ99)","v":""},null,null,null,{"$f":"IF(TRIM(BR99)=\"\", \"\", IF(VLOOKUP(BR99,'Footnotes list'!$D$9:$E$58,2,FALSE)=0,\"\",VLOOKUP(BR99,'Footnotes list'!$D$9:$E$58,2,FALSE) ) )","v":""},null,null,null,null,{"$f":"IF(TRIM(BW99)=\"\", \"\", IF(VLOOKUP(BW99,'Footnotes list'!$D$9:$E$58,2,FALSE)=0,\"\",VLOOKUP(BW99,'Footnotes list'!$D$9:$E$58,2,FALSE) ) )","v":""},null,null,null,null,{"$f":"IF(TRIM(CB99)=\"\", \"\", IF(VLOOKUP(CB99,'Footnotes list'!$D$9:$E$58,2,FALSE)=0,\"\",VLOOKUP(CB99,'Footnotes list'!$D$9:$E$58,2,FALSE) ) )","v":""},null,null,null,null,{"$f":"IF(TRIM(CG99)=\"\", \"\", IF(VLOOKUP(CG99,'Footnotes list'!$D$9:$E$58,2,FALSE)=0,\"\",VLOOKUP(CG99,'Footnotes list'!$D$9:$E$58,2,FALSE) ) )","v":""},{"$f":"IF(AND(TRIM(BY99)=\"\",TRIM(CD99)=\"\"),\"\",BY99+CD99)","v":""},null,null,null,{"$f":"IF(TRIM(CL99)=\"\", \"\", IF(VLOOKUP(CL99,'Footnotes list'!$D$9:$E$58,2,FALSE)=0,\"\",VLOOKUP(CL99,'Footnotes list'!$D$9:$E$58,2,FALSE) ) )","v":""},null,null,null,null,{"$f":"IF(TRIM(CQ99)=\"\", \"\", IF(VLOOKUP(CQ99,'Footnotes list'!$D$9:$E$58,2,FALSE)=0,\"\",VLOOKUP(CQ99,'Footnotes list'!$D$9:$E$58,2,FALSE) ) )","v":""},null,null,null,null,{"$f":"IF(TRIM(CV99)=\"\", \"\", IF(VLOOKUP(CV99,'Footnotes list'!$D$9:$E$58,2,FALSE)=0,\"\",VLOOKUP(CV99,'Footnotes list'!$D$9:$E$58,2,FALSE) ) )","v":""},null,null,null,null,{"$f":"IF(TRIM(DA99)=\"\", \"\", IF(VLOOKUP(DA99,'Footnotes list'!$D$9:$E$58,2,FALSE)=0,\"\",VLOOKUP(DA99,'Footnotes list'!$D$9:$E$58,2,FALSE) ) )","v":""},null,null,null,null,{"$f":"IF(TRIM(DF99)=\"\", \"\", IF(VLOOKUP(DF99,'Footnotes list'!$D$9:$E$58,2,FALSE)=0,\"\",VLOOKUP(DF99,'Footnotes list'!$D$9:$E$58,2,FALSE) ) )","v":""},{"$f":"IF(AND(TRIM(G99)=\"\",TRIM(L99)=\"\",TRIM(BO99)=\"\",TRIM(BT99)=\"\",TRIM(CI99)=\"\",TRIM(CN99)=\"\",TRIM(CS99)=\"\",TRIM(CX99)=\"\",TRIM(DC99)=\"\"),\"\",SUM(G99,L99,BO99,BT99,CI99,CN99,CS99,CX99,DC99))","v":""},null,null,null,{"$f":"IF(TRIM(DK99)=\"\", \"\", IF(VLOOKUP(DK99,'Footnotes list'!$D$9:$E$58,2,FALSE)=0,\"\",VLOOKUP(DK99,'Footnotes list'!$D$9:$E$58,2,FALSE) ) )","v":""}]
[null,null,"W126",null,"HAZ_NHAZ","Total",{"$f":"IF(AND(TRIM(G98)=\"\",TRIM(G99)=\"\"),\"\",G98+G99)","v":""},null,null,null,{"$f":"IF(TRIM(J100)=\"\", \"\", IF(VLOOKUP(J100,'Footnotes list'!$D$9:$E$58,2,FALSE)=0,\"\",VLOOKUP(J100,'Footnotes list'!$D$9:$E$58,2,FALSE) ) )","v":""},{"$f":"IF(AND(TRIM(L98)=\"\",TRIM(L99)=\"\"),\"\",L98+L99)","v":""},null,null,null,{"$f":"IF(TRIM(O100)=\"\", \"\", IF(VLOOKUP(O100,'Footnotes list'!$D$9:$E$58,2,FALSE)=0,\"\",VLOOKUP(O100,'Footnotes list'!$D$9:$E$58,2,FALSE) ) )","v":""},{"$f":"IF(AND(TRIM(Q98)=\"\",TRIM(Q99)=\"\"),\"\",Q98+Q99)","v":""},null,null,null,{"$f":"IF(TRIM(T100)=\"\", \"\", IF(VLOOKUP(T100,'Footnotes list'!$D$9:$E$58,2,FALSE)=0,\"\",VLOOKUP(T100,'Footnotes list'!$D$9:$E$58,2,FALSE) ) )","v":""},{"$f":"IF(AND(TRIM(V98)=\"\",TRIM(V99)=\"\"),\"\",V98+V99)","v":""},null,null,null,{"$f":"IF(TRIM(Y100)=\"\", \"\", IF(VLOOKUP(Y100,'Footnotes list'!$D$9:$E$58,2,FALSE)=0,\"\",VLOOKUP(Y100,'Footnotes list'!$D$9:$E$58,2,FALSE) ) )","v":""},{"$f":"IF(AND(TRIM(AA98)=\"\",TRIM(AA99)=\"\"),\"\",AA98+AA99)","v":""},null,null,null,{"$f":"IF(TRIM(AD100)=\"\", \"\", IF(VLOOKUP(AD100,'Footnotes list'!$D$9:$E$58,2,FALSE)=0,\"\",VLOOKUP(AD100,'Footnotes list'!$D$9:$E$58,2,FALSE) ) )","v":""},{"$f":"IF(AND(TRIM(AF98)=\"\",TRIM(AF99)=\"\"),\"\",AF98+AF99)","v":""},null,null,null,{"$f":"IF(TRIM(AI100)=\"\", \"\", IF(VLOOKUP(AI100,'Footnotes list'!$D$9:$E$58,2,FALSE)=0,\"\",VLOOKUP(AI100,'Footnotes list'!$D$9:$E$58,2,FALSE) ) )","v":""},{"$f":"IF(AND(TRIM(AK98)=\"\",TRIM(AK99)=\"\"),\"\",AK98+AK99)","v":""},null,null,null,{"$f":"IF(TRIM(AN100)=\"\", \"\", IF(VLOOKUP(AN100,'Footnotes list'!$D$9:$E$58,2,FALSE)=0,\"\",VLOOKUP(AN100,'Footnotes list'!$D$9:$E$58,2,FALSE) ) )","v":""},{"$f":"IF(AND(TRIM(AP98)=\"\",TRIM(AP99)=\"\"),\"\",AP98+AP99)","v":""},null,null,null,{"$f":"IF(TRIM(AS100)=\"\", \"\", IF(VLOOKUP(AS100,'Footnotes list'!$D$9:$E$58,2,FALSE)=0,\"\",VLOOKUP(AS100,'Footnotes list'!$D$9:$E$58,2,FALSE) ) )","v":""},{"$f":"IF(AND(TRIM(AU98)=\"\",TRIM(AU99)=\"\"),\"\",AU98+AU99)","v":""},null,null,null,{"$f":"IF(TRIM(AX100)=\"\", \"\", IF(VLOOKUP(AX100,'Footnotes list'!$D$9:$E$58,2,FALSE)=0,\"\",VLOOKUP(AX100,'Footnotes list'!$D$9:$E$58,2,FALSE) ) )","v":""},{"$f":"IF(AND(TRIM(AZ98)=\"\",TRIM(AZ99)=\"\"),\"\",AZ98+AZ99)","v":""},null,null,null,{"$f":"IF(TRIM(BC100)=\"\", \"\", IF(VLOOKUP(BC100,'Footnotes list'!$D$9:$E$58,2,FALSE)=0,\"\",VLOOKUP(BC100,'Footnotes list'!$D$9:$E$58,2,FALSE) ) )","v":""},{"$f":"IF(AND(TRIM(BE98)=\"\",TRIM(BE99)=\"\"),\"\",BE98+BE99)","v":""},null,null,null,{"$f":"IF(TRIM(BH100)=\"\", \"\", IF(VLOOKUP(BH100,'Footnotes list'!$D$9:$E$58,2,FALSE)=0,\"\",VLOOKUP(BH100,'Footnotes list'!$D$9:$E$58,2,FALSE) ) )","v":""},{"$f":"IF(AND(TRIM(BJ98)=\"\",TRIM(BJ99)=\"\"),\"\",BJ98+BJ99)","v":""},null,null,null,{"$f":"IF(TRIM(BM100)=\"\", \"\", IF(VLOOKUP(BM100,'Footnotes list'!$D$9:$E$58,2,FALSE)=0,\"\",VLOOKUP(BM100,'Footnotes list'!$D$9:$E$58,2,FALSE) ) )","v":""},{"$f":"IF(AND(TRIM(BO98)=\"\", TRIM(BO99)=\"\"), \"\", (IF(ISNUMBER(BO98),BO98,0)+IF(ISNUMBER(BO99),BO99,0)))","v":""},null,null,null,{"$f":"IF(TRIM(BR100)=\"\", \"\", IF(VLOOKUP(BR100,'Footnotes list'!$D$9:$E$58,2,FALSE)=0,\"\",VLOOKUP(BR100,'Footnotes list'!$D$9:$E$58,2,FALSE) ) )","v":""},{"$f":"IF(AND(TRIM(BT98)=\"\",TRIM(BT99)=\"\"),\"\",BT98+BT99)","v":""},null,null,null,{"$f":"IF(TRIM(BW100)=\"\", \"\", IF(VLOOKUP(BW100,'Footnotes list'!$D$9:$E$58,2,FALSE)=0,\"\",VLOOKUP(BW100,'Footnotes list'!$D$9:$E$58,2,FALSE) ) )","v":""},{"$f":"IF(AND(TRIM(BY98)=\"\",TRIM(BY99)=\"\"),\"\",BY98+BY99)","v":""},null,null,null,{"$f":"IF(TRIM(CB100)=\"\", \"\", IF(VLOOKUP(CB100,'Footnotes list'!$D$9:$E$58,2,FALSE)=0,\"\",VLOOKUP(CB100,'Footnotes list'!$D$9:$E$58,2,FALSE) ) )","v":""},{"$f":"IF(AND(TRIM(CD98)=\"\",TRIM(CD99)=\"\"),\"\",CD98+CD99)","v":""},null,null,null,{"$f":"IF(TRIM(CG100)=\"\", \"\", IF(VLOOKUP(CG100,'Footnotes list'!$D$9:$E$58,2,FALSE)=0,\"\",VLOOKUP(CG100,'Footnotes list'!$D$9:$E$58,2,FALSE) ) )","v":""},{"$f":"IF(AND(TRIM(CI98)=\"\", TRIM(CI99)=\"\"), \"\", (IF(ISNUMBER(CI98),CI98,0)+IF(ISNUMBER(CI99),CI99,0)))","v":""},null,null,null,{"$f":"IF(TRIM(CL100)=\"\", \"\", IF(VLOOKUP(CL100,'Footnotes list'!$D$9:$E$58,2,FALSE)=0,\"\",VLOOKUP(CL100,'Footnotes list'!$D$9:$E$58,2,FALSE) ) )","v":""},{"$f":"IF(AND(TRIM(CN98)=\"\",TRIM(CN99)=\"\"),\"\",CN98+CN99)","v":""},null,null,null,{"$f":"IF(TRIM(CQ100)=\"\", \"\", IF(VLOOKUP(CQ100,'Footnotes list'!$D$9:$E$58,2,FALSE)=0,\"\",VLOOKUP(CQ100,'Footnotes list'!$D$9:$E$58,2,FALSE) ) )","v":""},{"$f":"IF(AND(TRIM(CS98)=\"\",TRIM(CS99)=\"\"),\"\",CS98+CS99)","v":""},null,null,null,{"$f":"IF(TRIM(CV100)=\"\", \"\", IF(VLOOKUP(CV100,'Footnotes list'!$D$9:$E$58,2,FALSE)=0,\"\",VLOOKUP(CV100,'Footnotes list'!$D$9:$E$58,2,FALSE) ) )","v":""},{"$f":"IF(AND(TRIM(CX98)=\"\",TRIM(CX99)=\"\"),\"\",CX98+CX99)","v":""},null,null,null,{"$f":"IF(TRIM(DA100)=\"\", \"\", IF(VLOOKUP(DA100,'Footnotes list'!$D$9:$E$58,2,FALSE)=0,\"\",VLOOKUP(DA100,'Footnotes list'!$D$9:$E$58,2,FALSE) ) )","v":""},{"$f":"IF(AND(TRIM(DC98)=\"\",TRIM(DC99)=\"\"),\"\",DC98+DC99)","v":""},null,null,null,{"$f":"IF(TRIM(DF100)=\"\", \"\", IF(VLOOKUP(DF100,'Footnotes list'!$D$9:$E$58,2,FALSE)=0,\"\",VLOOKUP(DF100,'Footnotes list'!$D$9:$E$58,2,FALSE) ) )","v":""},{"$f":"IF(AND(TRIM(DH98)=\"\", TRIM(DH99)=\"\"), \"\", SUM(DH98,DH99) )","v":""},null,null,null,{"$f":"IF(TRIM(DK100)=\"\", \"\", IF(VLOOKUP(DK100,'Footnotes list'!$D$9:$E$58,2,FALSE)=0,\"\",VLOOKUP(DK100,'Footnotes list'!$D$9:$E$58,2,FALSE) ) )","v":""}]
[null,"W127","W127","Dredging spoils ","HAZ","Hazardous ",null,null,null,null,{"$f":"IF(TRIM(J101)=\"\", \"\", IF(VLOOKUP(J101,'Footnotes list'!$D$9:$E$58,2,FALSE)=0,\"\",VLOOKUP(J101,'Footnotes list'!$D$9:$E$58,2,FALSE) ) )","v":""},null,null,null,null,{"$f":"IF(TRIM(O101)=\"\", \"\", IF(VLOOKUP(O101,'Footnotes list'!$D$9:$E$58,2,FALSE)=0,\"\",VLOOKUP(O101,'Footnotes list'!$D$9:$E$58,2,FALSE) ) )","v":""},null,null,null,null,{"$f":"IF(TRIM(T101)=\"\", \"\", IF(VLOOKUP(T101,'Footnotes list'!$D$9:$E$58,2,FALSE)=0,\"\",VLOOKUP(T101,'Footnotes list'!$D$9:$E$58,2,FALSE) ) )","v":""},null,null,null,null,{"$f":"IF(TRIM(Y101)=\"\", \"\", IF(VLOOKUP(Y101,'Footnotes list'!$D$9:$E$58,2,FALSE)=0,\"\",VLOOKUP(Y101,'Footnotes list'!$D$9:$E$58,2,FALSE) ) )","v":""},null,null,null,null,{"$f":"IF(TRIM(AD101)=\"\", \"\", IF(VLOOKUP(AD101,'Footnotes list'!$D$9:$E$58,2,FALSE)=0,\"\",VLOOKUP(AD101,'Footnotes list'!$D$9:$E$58,2,FALSE) ) )","v":""},null,null,null,null,{"$f":"IF(TRIM(AI101)=\"\", \"\", IF(VLOOKUP(AI101,'Footnotes list'!$D$9:$E$58,2,FALSE)=0,\"\",VLOOKUP(AI101,'Footnotes list'!$D$9:$E$58,2,FALSE) ) )","v":""},null,null,null,null,{"$f":"IF(TRIM(AN101)=\"\", \"\", IF(VLOOKUP(AN101,'Footnotes list'!$D$9:$E$58,2,FALSE)=0,\"\",VLOOKUP(AN101,'Footnotes list'!$D$9:$E$58,2,FALSE) ) )","v":""},null,null,null,null,{"$f":"IF(TRIM(AS101)=\"\", \"\", IF(VLOOKUP(AS101,'Footnotes list'!$D$9:$E$58,2,FALSE)=0,\"\",VLOOKUP(AS101,'Footnotes list'!$D$9:$E$58,2,FALSE) ) )","v":""},null,null,null,null,{"$f":"IF(TRIM(AX101)=\"\", \"\", IF(VLOOKUP(AX101,'Footnotes list'!$D$9:$E$58,2,FALSE)=0,\"\",VLOOKUP(AX101,'Footnotes list'!$D$9:$E$58,2,FALSE) ) )","v":""},null,null,null,null,{"$f":"IF(TRIM(BC101)=\"\", \"\", IF(VLOOKUP(BC101,'Footnotes list'!$D$9:$E$58,2,FALSE)=0,\"\",VLOOKUP(BC101,'Footnotes list'!$D$9:$E$58,2,FALSE) ) )","v":""},null,null,null,null,{"$f":"IF(TRIM(BH101)=\"\", \"\", IF(VLOOKUP(BH101,'Footnotes list'!$D$9:$E$58,2,FALSE)=0,\"\",VLOOKUP(BH101,'Footnotes list'!$D$9:$E$58,2,FALSE) ) )","v":""},null,null,null,null,{"$f":"IF(TRIM(BM101)=\"\", \"\", IF(VLOOKUP(BM101,'Footnotes list'!$D$9:$E$58,2,FALSE)=0,\"\",VLOOKUP(BM101,'Footnotes list'!$D$9:$E$58,2,FALSE) ) )","v":""},{"$f":"IF(AND(TRIM(Q101)=\"\",TRIM(V101)=\"\",TRIM(AA101)=\"\", TRIM(AF101)=\"\", TRIM(AK101)=\"\", TRIM(AP101)=\"\", TRIM(AU101)=\"\", TRIM(AZ101)=\"\", TRIM(BE101)=\"\", TRIM(BJ101)=\"\"),\"\",Q101+V101+AA101+AF101+AK101+AP101+AU101+AZ101+BE101+BJ101)","v":""},null,null,null,{"$f":"IF(TRIM(BR101)=\"\", \"\", IF(VLOOKUP(BR101,'Footnotes list'!$D$9:$E$58,2,FALSE)=0,\"\",VLOOKUP(BR101,'Footnotes list'!$D$9:$E$58,2,FALSE) ) )","v":""},null,null,null,null,{"$f":"IF(TRIM(BW101)=\"\", \"\", IF(VLOOKUP(BW101,'Footnotes list'!$D$9:$E$58,2,FALSE)=0,\"\",VLOOKUP(BW101,'Footnotes list'!$D$9:$E$58,2,FALSE) ) )","v":""},null,null,null,null,{"$f":"IF(TRIM(CB101)=\"\", \"\", IF(VLOOKUP(CB101,'Footnotes list'!$D$9:$E$58,2,FALSE)=0,\"\",VLOOKUP(CB101,'Footnotes list'!$D$9:$E$58,2,FALSE) ) )","v":""},null,null,null,null,{"$f":"IF(TRIM(CG101)=\"\", \"\", IF(VLOOKUP(CG101,'Footnotes list'!$D$9:$E$58,2,FALSE)=0,\"\",VLOOKUP(CG101,'Footnotes list'!$D$9:$E$58,2,FALSE) ) )","v":""},{"$f":"IF(AND(TRIM(BY101)=\"\",TRIM(CD101)=\"\"),\"\",BY101+CD101)","v":""},null,null,null,{"$f":"IF(TRIM(CL101)=\"\", \"\", IF(VLOOKUP(CL101,'Footnotes list'!$D$9:$E$58,2,FALSE)=0,\"\",VLOOKUP(CL101,'Footnotes list'!$D$9:$E$58,2,FALSE) ) )","v":""},null,null,null,null,{"$f":"IF(TRIM(CQ101)=\"\", \"\", IF(VLOOKUP(CQ101,'Footnotes list'!$D$9:$E$58,2,FALSE)=0,\"\",VLOOKUP(CQ101,'Footnotes list'!$D$9:$E$58,2,FALSE) ) )","v":""},null,null,null,null,{"$f":"IF(TRIM(CV101)=\"\", \"\", IF(VLOOKUP(CV101,'Footnotes list'!$D$9:$E$58,2,FALSE)=0,\"\",VLOOKUP(CV101,'Footnotes list'!$D$9:$E$58,2,FALSE) ) )","v":""},null,null,null,null,{"$f":"IF(TRIM(DA101)=\"\", \"\", IF(VLOOKUP(DA101,'Footnotes list'!$D$9:$E$58,2,FALSE)=0,\"\",VLOOKUP(DA101,'Footnotes list'!$D$9:$E$58,2,FALSE) ) )","v":""},null,null,null,null,{"$f":"IF(TRIM(DF101)=\"\", \"\", IF(VLOOKUP(DF101,'Footnotes list'!$D$9:$E$58,2,FALSE)=0,\"\",VLOOKUP(DF101,'Footnotes list'!$D$9:$E$58,2,FALSE) ) )","v":""},{"$f":"IF(AND(TRIM(G101)=\"\",TRIM(L101)=\"\",TRIM(BO101)=\"\",TRIM(BT101)=\"\",TRIM(CI101)=\"\",TRIM(CN101)=\"\",TRIM(CS101)=\"\",TRIM(CX101)=\"\",TRIM(DC101)=\"\"),\"\",SUM(G101,L101,BO101,BT101,CI101,CN101,CS101,CX101,DC101))","v":""},null,null,null,{"$f":"IF(TRIM(DK101)=\"\", \"\", IF(VLOOKUP(DK101,'Footnotes list'!$D$9:$E$58,2,FALSE)=0,\"\",VLOOKUP(DK101,'Footnotes list'!$D$9:$E$58,2,FALSE) ) )","v":""}]
[null,null,"W127",null,"NHAZ","Non-hazardous",null,null,null,null,{"$f":"IF(TRIM(J102)=\"\", \"\", IF(VLOOKUP(J102,'Footnotes list'!$D$9:$E$58,2,FALSE)=0,\"\",VLOOKUP(J102,'Footnotes list'!$D$9:$E$58,2,FALSE) ) )","v":""},null,null,null,null,{"$f":"IF(TRIM(O102)=\"\", \"\", IF(VLOOKUP(O102,'Footnotes list'!$D$9:$E$58,2,FALSE)=0,\"\",VLOOKUP(O102,'Footnotes list'!$D$9:$E$58,2,FALSE) ) )","v":""},null,null,null,null,{"$f":"IF(TRIM(T102)=\"\", \"\", IF(VLOOKUP(T102,'Footnotes list'!$D$9:$E$58,2,FALSE)=0,\"\",VLOOKUP(T102,'Footnotes list'!$D$9:$E$58,2,FALSE) ) )","v":""},null,null,null,null,{"$f":"IF(TRIM(Y102)=\"\", \"\", IF(VLOOKUP(Y102,'Footnotes list'!$D$9:$E$58,2,FALSE)=0,\"\",VLOOKUP(Y102,'Footnotes list'!$D$9:$E$58,2,FALSE) ) )","v":""},null,null,null,null,{"$f":"IF(TRIM(AD102)=\"\", \"\", IF(VLOOKUP(AD102,'Footnotes list'!$D$9:$E$58,2,FALSE)=0,\"\",VLOOKUP(AD102,'Footnotes list'!$D$9:$E$58,2,FALSE) ) )","v":""},null,null,null,null,{"$f":"IF(TRIM(AI102)=\"\", \"\", IF(VLOOKUP(AI102,'Footnotes list'!$D$9:$E$58,2,FALSE)=0,\"\",VLOOKUP(AI102,'Footnotes list'!$D$9:$E$58,2,FALSE) ) )","v":""},null,null,null,null,{"$f":"IF(TRIM(AN102)=\"\", \"\", IF(VLOOKUP(AN102,'Footnotes list'!$D$9:$E$58,2,FALSE)=0,\"\",VLOOKUP(AN102,'Footnotes list'!$D$9:$E$58,2,FALSE) ) )","v":""},null,null,null,null,{"$f":"IF(TRIM(AS102)=\"\", \"\", IF(VLOOKUP(AS102,'Footnotes list'!$D$9:$E$58,2,FALSE)=0,\"\",VLOOKUP(AS102,'Footnotes list'!$D$9:$E$58,2,FALSE) ) )","v":""},null,null,null,null,{"$f":"IF(TRIM(AX102)=\"\", \"\", IF(VLOOKUP(AX102,'Footnotes list'!$D$9:$E$58,2,FALSE)=0,\"\",VLOOKUP(AX102,'Footnotes list'!$D$9:$E$58,2,FALSE) ) )","v":""},null,null,null,null,{"$f":"IF(TRIM(BC102)=\"\", \"\", IF(VLOOKUP(BC102,'Footnotes list'!$D$9:$E$58,2,FALSE)=0,\"\",VLOOKUP(BC102,'Footnotes list'!$D$9:$E$58,2,FALSE) ) )","v":""},null,null,null,null,{"$f":"IF(TRIM(BH102)=\"\", \"\", IF(VLOOKUP(BH102,'Footnotes list'!$D$9:$E$58,2,FALSE)=0,\"\",VLOOKUP(BH102,'Footnotes list'!$D$9:$E$58,2,FALSE) ) )","v":""},null,null,null,null,{"$f":"IF(TRIM(BM102)=\"\", \"\", IF(VLOOKUP(BM102,'Footnotes list'!$D$9:$E$58,2,FALSE)=0,\"\",VLOOKUP(BM102,'Footnotes list'!$D$9:$E$58,2,FALSE) ) )","v":""},{"$f":"IF(AND(TRIM(Q102)=\"\",TRIM(V102)=\"\",TRIM(AA102)=\"\", TRIM(AF102)=\"\", TRIM(AK102)=\"\", TRIM(AP102)=\"\", TRIM(AU102)=\"\", TRIM(AZ102)=\"\", TRIM(BE102)=\"\", TRIM(BJ102)=\"\"),\"\",Q102+V102+AA102+AF102+AK102+AP102+AU102+AZ102+BE102+BJ102)","v":""},null,null,null,{"$f":"IF(TRIM(BR102)=\"\", \"\", IF(VLOOKUP(BR102,'Footnotes list'!$D$9:$E$58,2,FALSE)=0,\"\",VLOOKUP(BR102,'Footnotes list'!$D$9:$E$58,2,FALSE) ) )","v":""},null,null,null,null,{"$f":"IF(TRIM(BW102)=\"\", \"\", IF(VLOOKUP(BW102,'Footnotes list'!$D$9:$E$58,2,FALSE)=0,\"\",VLOOKUP(BW102,'Footnotes list'!$D$9:$E$58,2,FALSE) ) )","v":""},null,null,null,null,{"$f":"IF(TRIM(CB102)=\"\", \"\", IF(VLOOKUP(CB102,'Footnotes list'!$D$9:$E$58,2,FALSE)=0,\"\",VLOOKUP(CB102,'Footnotes list'!$D$9:$E$58,2,FALSE) ) )","v":""},null,null,null,null,{"$f":"IF(TRIM(CG102)=\"\", \"\", IF(VLOOKUP(CG102,'Footnotes list'!$D$9:$E$58,2,FALSE)=0,\"\",VLOOKUP(CG102,'Footnotes list'!$D$9:$E$58,2,FALSE) ) )","v":""},{"$f":"IF(AND(TRIM(BY102)=\"\",TRIM(CD102)=\"\"),\"\",BY102+CD102)","v":""},null,null,null,{"$f":"IF(TRIM(CL102)=\"\", \"\", IF(VLOOKUP(CL102,'Footnotes list'!$D$9:$E$58,2,FALSE)=0,\"\",VLOOKUP(CL102,'Footnotes list'!$D$9:$E$58,2,FALSE) ) )","v":""},null,null,null,null,{"$f":"IF(TRIM(CQ102)=\"\", \"\", IF(VLOOKUP(CQ102,'Footnotes list'!$D$9:$E$58,2,FALSE)=0,\"\",VLOOKUP(CQ102,'Footnotes list'!$D$9:$E$58,2,FALSE) ) )","v":""},null,null,null,null,{"$f":"IF(TRIM(CV102)=\"\", \"\", IF(VLOOKUP(CV102,'Footnotes list'!$D$9:$E$58,2,FALSE)=0,\"\",VLOOKUP(CV102,'Footnotes list'!$D$9:$E$58,2,FALSE) ) )","v":""},null,null,null,null,{"$f":"IF(TRIM(DA102)=\"\", \"\", IF(VLOOKUP(DA102,'Footnotes list'!$D$9:$E$58,2,FALSE)=0,\"\",VLOOKUP(DA102,'Footnotes list'!$D$9:$E$58,2,FALSE) ) )","v":""},null,null,null,null,{"$f":"IF(TRIM(DF102)=\"\", \"\", IF(VLOOKUP(DF102,'Footnotes list'!$D$9:$E$58,2,FALSE)=0,\"\",VLOOKUP(DF102,'Footnotes list'!$D$9:$E$58,2,FALSE) ) )","v":""},{"$f":"IF(AND(TRIM(G102)=\"\",TRIM(L102)=\"\",TRIM(BO102)=\"\",TRIM(BT102)=\"\",TRIM(CI102)=\"\",TRIM(CN102)=\"\",TRIM(CS102)=\"\",TRIM(CX102)=\"\",TRIM(DC102)=\"\"),\"\",SUM(G102,L102,BO102,BT102,CI102,CN102,CS102,CX102,DC102))","v":""},null,null,null,{"$f":"IF(TRIM(DK102)=\"\", \"\", IF(VLOOKUP(DK102,'Footnotes list'!$D$9:$E$58,2,FALSE)=0,\"\",VLOOKUP(DK102,'Footnotes list'!$D$9:$E$58,2,FALSE) ) )","v":""}]
[null,null,"W127",null,"HAZ_NHAZ","Total",{"$f":"IF(AND(TRIM(G101)=\"\",TRIM(G102)=\"\"),\"\",G101+G102)","v":""},null,null,null,{"$f":"IF(TRIM(J103)=\"\", \"\", IF(VLOOKUP(J103,'Footnotes list'!$D$9:$E$58,2,FALSE)=0,\"\",VLOOKUP(J103,'Footnotes list'!$D$9:$E$58,2,FALSE) ) )","v":""},{"$f":"IF(AND(TRIM(L101)=\"\",TRIM(L102)=\"\"),\"\",L101+L102)","v":""},null,null,null,{"$f":"IF(TRIM(O103)=\"\", \"\", IF(VLOOKUP(O103,'Footnotes list'!$D$9:$E$58,2,FALSE)=0,\"\",VLOOKUP(O103,'Footnotes list'!$D$9:$E$58,2,FALSE) ) )","v":""},{"$f":"IF(AND(TRIM(Q101)=\"\",TRIM(Q102)=\"\"),\"\",Q101+Q102)","v":""},null,null,null,{"$f":"IF(TRIM(T103)=\"\", \"\", IF(VLOOKUP(T103,'Footnotes list'!$D$9:$E$58,2,FALSE)=0,\"\",VLOOKUP(T103,'Footnotes list'!$D$9:$E$58,2,FALSE) ) )","v":""},{"$f":"IF(AND(TRIM(V101)=\"\",TRIM(V102)=\"\"),\"\",V101+V102)","v":""},null,null,null,{"$f":"IF(TRIM(Y103)=\"\", \"\", IF(VLOOKUP(Y103,'Footnotes list'!$D$9:$E$58,2,FALSE)=0,\"\",VLOOKUP(Y103,'Footnotes list'!$D$9:$E$58,2,FALSE) ) )","v":""},{"$f":"IF(AND(TRIM(AA101)=\"\",TRIM(AA102)=\"\"),\"\",AA101+AA102)","v":""},null,null,null,{"$f":"IF(TRIM(AD103)=\"\", \"\", IF(VLOOKUP(AD103,'Footnotes list'!$D$9:$E$58,2,FALSE)=0,\"\",VLOOKUP(AD103,'Footnotes list'!$D$9:$E$58,2,FALSE) ) )","v":""},{"$f":"IF(AND(TRIM(AF101)=\"\",TRIM(AF102)=\"\"),\"\",AF101+AF102)","v":""},null,null,null,{"$f":"IF(TRIM(AI103)=\"\", \"\", IF(VLOOKUP(AI103,'Footnotes list'!$D$9:$E$58,2,FALSE)=0,\"\",VLOOKUP(AI103,'Footnotes list'!$D$9:$E$58,2,FALSE) ) )","v":""},{"$f":"IF(AND(TRIM(AK101)=\"\",TRIM(AK102)=\"\"),\"\",AK101+AK102)","v":""},null,null,null,{"$f":"IF(TRIM(AN103)=\"\", \"\", IF(VLOOKUP(AN103,'Footnotes list'!$D$9:$E$58,2,FALSE)=0,\"\",VLOOKUP(AN103,'Footnotes list'!$D$9:$E$58,2,FALSE) ) )","v":""},{"$f":"IF(AND(TRIM(AP101)=\"\",TRIM(AP102)=\"\"),\"\",AP101+AP102)","v":""},null,null,null,{"$f":"IF(TRIM(AS103)=\"\", \"\", IF(VLOOKUP(AS103,'Footnotes list'!$D$9:$E$58,2,FALSE)=0,\"\",VLOOKUP(AS103,'Footnotes list'!$D$9:$E$58,2,FALSE) ) )","v":""},{"$f":"IF(AND(TRIM(AU101)=\"\",TRIM(AU102)=\"\"),\"\",AU101+AU102)","v":""},null,null,null,{"$f":"IF(TRIM(AX103)=\"\", \"\", IF(VLOOKUP(AX103,'Footnotes list'!$D$9:$E$58,2,FALSE)=0,\"\",VLOOKUP(AX103,'Footnotes list'!$D$9:$E$58,2,FALSE) ) )","v":""},{"$f":"IF(AND(TRIM(AZ101)=\"\",TRIM(AZ102)=\"\"),\"\",AZ101+AZ102)","v":""},null,null,null,{"$f":"IF(TRIM(BC103)=\"\", \"\", IF(VLOOKUP(BC103,'Footnotes list'!$D$9:$E$58,2,FALSE)=0,\"\",VLOOKUP(BC103,'Footnotes list'!$D$9:$E$58,2,FALSE) ) )","v":""},{"$f":"IF(AND(TRIM(BE101)=\"\",TRIM(BE102)=\"\"),\"\",BE101+BE102)","v":""},null,null,null,{"$f":"IF(TRIM(BH103)=\"\", \"\", IF(VLOOKUP(BH103,'Footnotes list'!$D$9:$E$58,2,FALSE)=0,\"\",VLOOKUP(BH103,'Footnotes list'!$D$9:$E$58,2,FALSE) ) )","v":""},{"$f":"IF(AND(TRIM(BJ101)=\"\",TRIM(BJ102)=\"\"),\"\",BJ101+BJ102)","v":""},null,null,null,{"$f":"IF(TRIM(BM103)=\"\", \"\", IF(VLOOKUP(BM103,'Footnotes list'!$D$9:$E$58,2,FALSE)=0,\"\",VLOOKUP(BM103,'Footnotes list'!$D$9:$E$58,2,FALSE) ) )","v":""},{"$f":"IF(AND(TRIM(BO101)=\"\", TRIM(BO102)=\"\"), \"\", (IF(ISNUMBER(BO101),BO101,0)+IF(ISNUMBER(BO102),BO102,0)))","v":""},null,null,null,{"$f":"IF(TRIM(BR103)=\"\", \"\", IF(VLOOKUP(BR103,'Footnotes list'!$D$9:$E$58,2,FALSE)=0,\"\",VLOOKUP(BR103,'Footnotes list'!$D$9:$E$58,2,FALSE) ) )","v":""},{"$f":"IF(AND(TRIM(BT101)=\"\",TRIM(BT102)=\"\"),\"\",BT101+BT102)","v":""},null,null,null,{"$f":"IF(TRIM(BW103)=\"\", \"\", IF(VLOOKUP(BW103,'Footnotes list'!$D$9:$E$58,2,FALSE)=0,\"\",VLOOKUP(BW103,'Footnotes list'!$D$9:$E$58,2,FALSE) ) )","v":""},{"$f":"IF(AND(TRIM(BY101)=\"\",TRIM(BY102)=\"\"),\"\",BY101+BY102)","v":""},null,null,null,{"$f":"IF(TRIM(CB103)=\"\", \"\", IF(VLOOKUP(CB103,'Footnotes list'!$D$9:$E$58,2,FALSE)=0,\"\",VLOOKUP(CB103,'Footnotes list'!$D$9:$E$58,2,FALSE) ) )","v":""},{"$f":"IF(AND(TRIM(CD101)=\"\",TRIM(CD102)=\"\"),\"\",CD101+CD102)","v":""},null,null,null,{"$f":"IF(TRIM(CG103)=\"\", \"\", IF(VLOOKUP(CG103,'Footnotes list'!$D$9:$E$58,2,FALSE)=0,\"\",VLOOKUP(CG103,'Footnotes list'!$D$9:$E$58,2,FALSE) ) )","v":""},{"$f":"IF(AND(TRIM(CI101)=\"\", TRIM(CI102)=\"\"), \"\", (IF(ISNUMBER(CI101),CI101,0)+IF(ISNUMBER(CI102),CI102,0)))","v":""},null,null,null,{"$f":"IF(TRIM(CL103)=\"\", \"\", IF(VLOOKUP(CL103,'Footnotes list'!$D$9:$E$58,2,FALSE)=0,\"\",VLOOKUP(CL103,'Footnotes list'!$D$9:$E$58,2,FALSE) ) )","v":""},{"$f":"IF(AND(TRIM(CN101)=\"\",TRIM(CN102)=\"\"),\"\",CN101+CN102)","v":""},null,null,null,{"$f":"IF(TRIM(CQ103)=\"\", \"\", IF(VLOOKUP(CQ103,'Footnotes list'!$D$9:$E$58,2,FALSE)=0,\"\",VLOOKUP(CQ103,'Footnotes list'!$D$9:$E$58,2,FALSE) ) )","v":""},{"$f":"IF(AND(TRIM(CS101)=\"\",TRIM(CS102)=\"\"),\"\",CS101+CS102)","v":""},null,null,null,{"$f":"IF(TRIM(CV103)=\"\", \"\", IF(VLOOKUP(CV103,'Footnotes list'!$D$9:$E$58,2,FALSE)=0,\"\",VLOOKUP(CV103,'Footnotes list'!$D$9:$E$58,2,FALSE) ) )","v":""},{"$f":"IF(AND(TRIM(CX101)=\"\",TRIM(CX102)=\"\"),\"\",CX101+CX102)","v":""},null,null,null,{"$f":"IF(TRIM(DA103)=\"\", \"\", IF(VLOOKUP(DA103,'Footnotes list'!$D$9:$E$58,2,FALSE)=0,\"\",VLOOKUP(DA103,'Footnotes list'!$D$9:$E$58,2,FALSE) ) )","v":""},{"$f":"IF(AND(TRIM(DC101)=\"\",TRIM(DC102)=\"\"),\"\",DC101+DC102)","v":""},null,null,null,{"$f":"IF(TRIM(DF103)=\"\", \"\", IF(VLOOKUP(DF103,'Footnotes list'!$D$9:$E$58,2,FALSE)=0,\"\",VLOOKUP(DF103,'Footnotes list'!$D$9:$E$58,2,FALSE) ) )","v":""},{"$f":"IF(AND(TRIM(DH101)=\"\", TRIM(DH102)=\"\"), \"\", SUM(DH101,DH102) )","v":""},null,null,null,{"$f":"IF(TRIM(DK103)=\"\", \"\", IF(VLOOKUP(DK103,'Footnotes list'!$D$9:$E$58,2,FALSE)=0,\"\",VLOOKUP(DK103,'Footnotes list'!$D$9:$E$58,2,FALSE) ) )","v":""}]
[null,"W128_13","W128_13","Mineral wastes from waste treatment and stabilised wastes","HAZ","Hazardous ",null,null,null,null,{"$f":"IF(TRIM(J104)=\"\", \"\", IF(VLOOKUP(J104,'Footnotes list'!$D$9:$E$58,2,FALSE)=0,\"\",VLOOKUP(J104,'Footnotes list'!$D$9:$E$58,2,FALSE) ) )","v":""},null,null,null,null,{"$f":"IF(TRIM(O104)=\"\", \"\", IF(VLOOKUP(O104,'Footnotes list'!$D$9:$E$58,2,FALSE)=0,\"\",VLOOKUP(O104,'Footnotes list'!$D$9:$E$58,2,FALSE) ) )","v":""},null,null,null,null,{"$f":"IF(TRIM(T104)=\"\", \"\", IF(VLOOKUP(T104,'Footnotes list'!$D$9:$E$58,2,FALSE)=0,\"\",VLOOKUP(T104,'Footnotes list'!$D$9:$E$58,2,FALSE) ) )","v":""},null,null,null,null,{"$f":"IF(TRIM(Y104)=\"\", \"\", IF(VLOOKUP(Y104,'Footnotes list'!$D$9:$E$58,2,FALSE)=0,\"\",VLOOKUP(Y104,'Footnotes list'!$D$9:$E$58,2,FALSE) ) )","v":""},null,null,null,null,{"$f":"IF(TRIM(AD104)=\"\", \"\", IF(VLOOKUP(AD104,'Footnotes list'!$D$9:$E$58,2,FALSE)=0,\"\",VLOOKUP(AD104,'Footnotes list'!$D$9:$E$58,2,FALSE) ) )","v":""},null,null,null,null,{"$f":"IF(TRIM(AI104)=\"\", \"\", IF(VLOOKUP(AI104,'Footnotes list'!$D$9:$E$58,2,FALSE)=0,\"\",VLOOKUP(AI104,'Footnotes list'!$D$9:$E$58,2,FALSE) ) )","v":""},null,null,null,null,{"$f":"IF(TRIM(AN104)=\"\", \"\", IF(VLOOKUP(AN104,'Footnotes list'!$D$9:$E$58,2,FALSE)=0,\"\",VLOOKUP(AN104,'Footnotes list'!$D$9:$E$58,2,FALSE) ) )","v":""},null,null,null,null,{"$f":"IF(TRIM(AS104)=\"\", \"\", IF(VLOOKUP(AS104,'Footnotes list'!$D$9:$E$58,2,FALSE)=0,\"\",VLOOKUP(AS104,'Footnotes list'!$D$9:$E$58,2,FALSE) ) )","v":""},null,null,null,null,{"$f":"IF(TRIM(AX104)=\"\", \"\", IF(VLOOKUP(AX104,'Footnotes list'!$D$9:$E$58,2,FALSE)=0,\"\",VLOOKUP(AX104,'Footnotes list'!$D$9:$E$58,2,FALSE) ) )","v":""},null,null,null,null,{"$f":"IF(TRIM(BC104)=\"\", \"\", IF(VLOOKUP(BC104,'Footnotes list'!$D$9:$E$58,2,FALSE)=0,\"\",VLOOKUP(BC104,'Footnotes list'!$D$9:$E$58,2,FALSE) ) )","v":""},null,null,null,null,{"$f":"IF(TRIM(BH104)=\"\", \"\", IF(VLOOKUP(BH104,'Footnotes list'!$D$9:$E$58,2,FALSE)=0,\"\",VLOOKUP(BH104,'Footnotes list'!$D$9:$E$58,2,FALSE) ) )","v":""},null,null,null,null,{"$f":"IF(TRIM(BM104)=\"\", \"\", IF(VLOOKUP(BM104,'Footnotes list'!$D$9:$E$58,2,FALSE)=0,\"\",VLOOKUP(BM104,'Footnotes list'!$D$9:$E$58,2,FALSE) ) )","v":""},{"$f":"IF(AND(TRIM(Q104)=\"\",TRIM(V104)=\"\",TRIM(AA104)=\"\", TRIM(AF104)=\"\", TRIM(AK104)=\"\", TRIM(AP104)=\"\", TRIM(AU104)=\"\", TRIM(AZ104)=\"\", TRIM(BE104)=\"\", TRIM(BJ104)=\"\"),\"\",Q104+V104+AA104+AF104+AK104+AP104+AU104+AZ104+BE104+BJ104)","v":""},null,null,null,{"$f":"IF(TRIM(BR104)=\"\", \"\", IF(VLOOKUP(BR104,'Footnotes list'!$D$9:$E$58,2,FALSE)=0,\"\",VLOOKUP(BR104,'Footnotes list'!$D$9:$E$58,2,FALSE) ) )","v":""},null,null,null,null,{"$f":"IF(TRIM(BW104)=\"\", \"\", IF(VLOOKUP(BW104,'Footnotes list'!$D$9:$E$58,2,FALSE)=0,\"\",VLOOKUP(BW104,'Footnotes list'!$D$9:$E$58,2,FALSE) ) )","v":""},null,null,null,null,{"$f":"IF(TRIM(CB104)=\"\", \"\", IF(VLOOKUP(CB104,'Footnotes list'!$D$9:$E$58,2,FALSE)=0,\"\",VLOOKUP(CB104,'Footnotes list'!$D$9:$E$58,2,FALSE) ) )","v":""},null,null,null,null,{"$f":"IF(TRIM(CG104)=\"\", \"\", IF(VLOOKUP(CG104,'Footnotes list'!$D$9:$E$58,2,FALSE)=0,\"\",VLOOKUP(CG104,'Footnotes list'!$D$9:$E$58,2,FALSE) ) )","v":""},{"$f":"IF(AND(TRIM(BY104)=\"\",TRIM(CD104)=\"\"),\"\",BY104+CD104)","v":""},null,null,null,{"$f":"IF(TRIM(CL104)=\"\", \"\", IF(VLOOKUP(CL104,'Footnotes list'!$D$9:$E$58,2,FALSE)=0,\"\",VLOOKUP(CL104,'Footnotes list'!$D$9:$E$58,2,FALSE) ) )","v":""},null,null,null,null,{"$f":"IF(TRIM(CQ104)=\"\", \"\", IF(VLOOKUP(CQ104,'Footnotes list'!$D$9:$E$58,2,FALSE)=0,\"\",VLOOKUP(CQ104,'Footnotes list'!$D$9:$E$58,2,FALSE) ) )","v":""},null,null,null,null,{"$f":"IF(TRIM(CV104)=\"\", \"\", IF(VLOOKUP(CV104,'Footnotes list'!$D$9:$E$58,2,FALSE)=0,\"\",VLOOKUP(CV104,'Footnotes list'!$D$9:$E$58,2,FALSE) ) )","v":""},null,null,null,null,{"$f":"IF(TRIM(DA104)=\"\", \"\", IF(VLOOKUP(DA104,'Footnotes list'!$D$9:$E$58,2,FALSE)=0,\"\",VLOOKUP(DA104,'Footnotes list'!$D$9:$E$58,2,FALSE) ) )","v":""},null,null,null,null,{"$f":"IF(TRIM(DF104)=\"\", \"\", IF(VLOOKUP(DF104,'Footnotes list'!$D$9:$E$58,2,FALSE)=0,\"\",VLOOKUP(DF104,'Footnotes list'!$D$9:$E$58,2,FALSE) ) )","v":""},{"$f":"IF(AND(TRIM(G104)=\"\",TRIM(L104)=\"\",TRIM(BO104)=\"\",TRIM(BT104)=\"\",TRIM(CI104)=\"\",TRIM(CN104)=\"\",TRIM(CS104)=\"\",TRIM(CX104)=\"\",TRIM(DC104)=\"\"),\"\",SUM(G104,L104,BO104,BT104,CI104,CN104,CS104,CX104,DC104))","v":""},null,null,null,{"$f":"IF(TRIM(DK104)=\"\", \"\", IF(VLOOKUP(DK104,'Footnotes list'!$D$9:$E$58,2,FALSE)=0,\"\",VLOOKUP(DK104,'Footnotes list'!$D$9:$E$58,2,FALSE) ) )","v":""}]
[null,null,"W128_13",null,"NHAZ","Non-hazardous",null,null,null,null,{"$f":"IF(TRIM(J105)=\"\", \"\", IF(VLOOKUP(J105,'Footnotes list'!$D$9:$E$58,2,FALSE)=0,\"\",VLOOKUP(J105,'Footnotes list'!$D$9:$E$58,2,FALSE) ) )","v":""},null,null,null,null,{"$f":"IF(TRIM(O105)=\"\", \"\", IF(VLOOKUP(O105,'Footnotes list'!$D$9:$E$58,2,FALSE)=0,\"\",VLOOKUP(O105,'Footnotes list'!$D$9:$E$58,2,FALSE) ) )","v":""},null,null,null,null,{"$f":"IF(TRIM(T105)=\"\", \"\", IF(VLOOKUP(T105,'Footnotes list'!$D$9:$E$58,2,FALSE)=0,\"\",VLOOKUP(T105,'Footnotes list'!$D$9:$E$58,2,FALSE) ) )","v":""},null,null,null,null,{"$f":"IF(TRIM(Y105)=\"\", \"\", IF(VLOOKUP(Y105,'Footnotes list'!$D$9:$E$58,2,FALSE)=0,\"\",VLOOKUP(Y105,'Footnotes list'!$D$9:$E$58,2,FALSE) ) )","v":""},null,null,null,null,{"$f":"IF(TRIM(AD105)=\"\", \"\", IF(VLOOKUP(AD105,'Footnotes list'!$D$9:$E$58,2,FALSE)=0,\"\",VLOOKUP(AD105,'Footnotes list'!$D$9:$E$58,2,FALSE) ) )","v":""},null,null,null,null,{"$f":"IF(TRIM(AI105)=\"\", \"\", IF(VLOOKUP(AI105,'Footnotes list'!$D$9:$E$58,2,FALSE)=0,\"\",VLOOKUP(AI105,'Footnotes list'!$D$9:$E$58,2,FALSE) ) )","v":""},null,null,null,null,{"$f":"IF(TRIM(AN105)=\"\", \"\", IF(VLOOKUP(AN105,'Footnotes list'!$D$9:$E$58,2,FALSE)=0,\"\",VLOOKUP(AN105,'Footnotes list'!$D$9:$E$58,2,FALSE) ) )","v":""},null,null,null,null,{"$f":"IF(TRIM(AS105)=\"\", \"\", IF(VLOOKUP(AS105,'Footnotes list'!$D$9:$E$58,2,FALSE)=0,\"\",VLOOKUP(AS105,'Footnotes list'!$D$9:$E$58,2,FALSE) ) )","v":""},null,null,null,null,{"$f":"IF(TRIM(AX105)=\"\", \"\", IF(VLOOKUP(AX105,'Footnotes list'!$D$9:$E$58,2,FALSE)=0,\"\",VLOOKUP(AX105,'Footnotes list'!$D$9:$E$58,2,FALSE) ) )","v":""},null,null,null,null,{"$f":"IF(TRIM(BC105)=\"\", \"\", IF(VLOOKUP(BC105,'Footnotes list'!$D$9:$E$58,2,FALSE)=0,\"\",VLOOKUP(BC105,'Footnotes list'!$D$9:$E$58,2,FALSE) ) )","v":""},null,null,null,null,{"$f":"IF(TRIM(BH105)=\"\", \"\", IF(VLOOKUP(BH105,'Footnotes list'!$D$9:$E$58,2,FALSE)=0,\"\",VLOOKUP(BH105,'Footnotes list'!$D$9:$E$58,2,FALSE) ) )","v":""},null,null,null,null,{"$f":"IF(TRIM(BM105)=\"\", \"\", IF(VLOOKUP(BM105,'Footnotes list'!$D$9:$E$58,2,FALSE)=0,\"\",VLOOKUP(BM105,'Footnotes list'!$D$9:$E$58,2,FALSE) ) )","v":""},{"$f":"IF(AND(TRIM(Q105)=\"\",TRIM(V105)=\"\",TRIM(AA105)=\"\", TRIM(AF105)=\"\", TRIM(AK105)=\"\", TRIM(AP105)=\"\", TRIM(AU105)=\"\", TRIM(AZ105)=\"\", TRIM(BE105)=\"\", TRIM(BJ105)=\"\"),\"\",Q105+V105+AA105+AF105+AK105+AP105+AU105+AZ105+BE105+BJ105)","v":""},null,null,null,{"$f":"IF(TRIM(BR105)=\"\", \"\", IF(VLOOKUP(BR105,'Footnotes list'!$D$9:$E$58,2,FALSE)=0,\"\",VLOOKUP(BR105,'Footnotes list'!$D$9:$E$58,2,FALSE) ) )","v":""},null,null,null,null,{"$f":"IF(TRIM(BW105)=\"\", \"\", IF(VLOOKUP(BW105,'Footnotes list'!$D$9:$E$58,2,FALSE)=0,\"\",VLOOKUP(BW105,'Footnotes list'!$D$9:$E$58,2,FALSE) ) )","v":""},null,null,null,null,{"$f":"IF(TRIM(CB105)=\"\", \"\", IF(VLOOKUP(CB105,'Footnotes list'!$D$9:$E$58,2,FALSE)=0,\"\",VLOOKUP(CB105,'Footnotes list'!$D$9:$E$58,2,FALSE) ) )","v":""},null,null,null,null,{"$f":"IF(TRIM(CG105)=\"\", \"\", IF(VLOOKUP(CG105,'Footnotes list'!$D$9:$E$58,2,FALSE)=0,\"\",VLOOKUP(CG105,'Footnotes list'!$D$9:$E$58,2,FALSE) ) )","v":""},{"$f":"IF(AND(TRIM(BY105)=\"\",TRIM(CD105)=\"\"),\"\",BY105+CD105)","v":""},null,null,null,{"$f":"IF(TRIM(CL105)=\"\", \"\", IF(VLOOKUP(CL105,'Footnotes list'!$D$9:$E$58,2,FALSE)=0,\"\",VLOOKUP(CL105,'Footnotes list'!$D$9:$E$58,2,FALSE) ) )","v":""},null,null,null,null,{"$f":"IF(TRIM(CQ105)=\"\", \"\", IF(VLOOKUP(CQ105,'Footnotes list'!$D$9:$E$58,2,FALSE)=0,\"\",VLOOKUP(CQ105,'Footnotes list'!$D$9:$E$58,2,FALSE) ) )","v":""},null,null,null,null,{"$f":"IF(TRIM(CV105)=\"\", \"\", IF(VLOOKUP(CV105,'Footnotes list'!$D$9:$E$58,2,FALSE)=0,\"\",VLOOKUP(CV105,'Footnotes list'!$D$9:$E$58,2,FALSE) ) )","v":""},null,null,null,null,{"$f":"IF(TRIM(DA105)=\"\", \"\", IF(VLOOKUP(DA105,'Footnotes list'!$D$9:$E$58,2,FALSE)=0,\"\",VLOOKUP(DA105,'Footnotes list'!$D$9:$E$58,2,FALSE) ) )","v":""},null,null,null,null,{"$f":"IF(TRIM(DF105)=\"\", \"\", IF(VLOOKUP(DF105,'Footnotes list'!$D$9:$E$58,2,FALSE)=0,\"\",VLOOKUP(DF105,'Footnotes list'!$D$9:$E$58,2,FALSE) ) )","v":""},{"$f":"IF(AND(TRIM(G105)=\"\",TRIM(L105)=\"\",TRIM(BO105)=\"\",TRIM(BT105)=\"\",TRIM(CI105)=\"\",TRIM(CN105)=\"\",TRIM(CS105)=\"\",TRIM(CX105)=\"\",TRIM(DC105)=\"\"),\"\",SUM(G105,L105,BO105,BT105,CI105,CN105,CS105,CX105,DC105))","v":""},null,null,null,{"$f":"IF(TRIM(DK105)=\"\", \"\", IF(VLOOKUP(DK105,'Footnotes list'!$D$9:$E$58,2,FALSE)=0,\"\",VLOOKUP(DK105,'Footnotes list'!$D$9:$E$58,2,FALSE) ) )","v":""}]
[null,null,"W128_13",null,"HAZ_NHAZ","Total",{"$f":"IF(AND(TRIM(G104)=\"\",TRIM(G105)=\"\"),\"\",G104+G105)","v":""},null,null,null,{"$f":"IF(TRIM(J106)=\"\", \"\", IF(VLOOKUP(J106,'Footnotes list'!$D$9:$E$58,2,FALSE)=0,\"\",VLOOKUP(J106,'Footnotes list'!$D$9:$E$58,2,FALSE) ) )","v":""},{"$f":"IF(AND(TRIM(L104)=\"\",TRIM(L105)=\"\"),\"\",L104+L105)","v":""},null,null,null,{"$f":"IF(TRIM(O106)=\"\", \"\", IF(VLOOKUP(O106,'Footnotes list'!$D$9:$E$58,2,FALSE)=0,\"\",VLOOKUP(O106,'Footnotes list'!$D$9:$E$58,2,FALSE) ) )","v":""},{"$f":"IF(AND(TRIM(Q104)=\"\",TRIM(Q105)=\"\"),\"\",Q104+Q105)","v":""},null,null,null,{"$f":"IF(TRIM(T106)=\"\", \"\", IF(VLOOKUP(T106,'Footnotes list'!$D$9:$E$58,2,FALSE)=0,\"\",VLOOKUP(T106,'Footnotes list'!$D$9:$E$58,2,FALSE) ) )","v":""},{"$f":"IF(AND(TRIM(V104)=\"\",TRIM(V105)=\"\"),\"\",V104+V105)","v":""},null,null,null,{"$f":"IF(TRIM(Y106)=\"\", \"\", IF(VLOOKUP(Y106,'Footnotes list'!$D$9:$E$58,2,FALSE)=0,\"\",VLOOKUP(Y106,'Footnotes list'!$D$9:$E$58,2,FALSE) ) )","v":""},{"$f":"IF(AND(TRIM(AA104)=\"\",TRIM(AA105)=\"\"),\"\",AA104+AA105)","v":""},null,null,null,{"$f":"IF(TRIM(AD106)=\"\", \"\", IF(VLOOKUP(AD106,'Footnotes list'!$D$9:$E$58,2,FALSE)=0,\"\",VLOOKUP(AD106,'Footnotes list'!$D$9:$E$58,2,FALSE) ) )","v":""},{"$f":"IF(AND(TRIM(AF104)=\"\",TRIM(AF105)=\"\"),\"\",AF104+AF105)","v":""},null,null,null,{"$f":"IF(TRIM(AI106)=\"\", \"\", IF(VLOOKUP(AI106,'Footnotes list'!$D$9:$E$58,2,FALSE)=0,\"\",VLOOKUP(AI106,'Footnotes list'!$D$9:$E$58,2,FALSE) ) )","v":""},{"$f":"IF(AND(TRIM(AK104)=\"\",TRIM(AK105)=\"\"),\"\",AK104+AK105)","v":""},null,null,null,{"$f":"IF(TRIM(AN106)=\"\", \"\", IF(VLOOKUP(AN106,'Footnotes list'!$D$9:$E$58,2,FALSE)=0,\"\",VLOOKUP(AN106,'Footnotes list'!$D$9:$E$58,2,FALSE) ) )","v":""},{"$f":"IF(AND(TRIM(AP104)=\"\",TRIM(AP105)=\"\"),\"\",AP104+AP105)","v":""},null,null,null,{"$f":"IF(TRIM(AS106)=\"\", \"\", IF(VLOOKUP(AS106,'Footnotes list'!$D$9:$E$58,2,FALSE)=0,\"\",VLOOKUP(AS106,'Footnotes list'!$D$9:$E$58,2,FALSE) ) )","v":""},{"$f":"IF(AND(TRIM(AU104)=\"\",TRIM(AU105)=\"\"),\"\",AU104+AU105)","v":""},null,null,null,{"$f":"IF(TRIM(AX106)=\"\", \"\", IF(VLOOKUP(AX106,'Footnotes list'!$D$9:$E$58,2,FALSE)=0,\"\",VLOOKUP(AX106,'Footnotes list'!$D$9:$E$58,2,FALSE) ) )","v":""},{"$f":"IF(AND(TRIM(AZ104)=\"\",TRIM(AZ105)=\"\"),\"\",AZ104+AZ105)","v":""},null,null,null,{"$f":"IF(TRIM(BC106)=\"\", \"\", IF(VLOOKUP(BC106,'Footnotes list'!$D$9:$E$58,2,FALSE)=0,\"\",VLOOKUP(BC106,'Footnotes list'!$D$9:$E$58,2,FALSE) ) )","v":""},{"$f":"IF(AND(TRIM(BE104)=\"\",TRIM(BE105)=\"\"),\"\",BE104+BE105)","v":""},null,null,null,{"$f":"IF(TRIM(BH106)=\"\", \"\", IF(VLOOKUP(BH106,'Footnotes list'!$D$9:$E$58,2,FALSE)=0,\"\",VLOOKUP(BH106,'Footnotes list'!$D$9:$E$58,2,FALSE) ) )","v":""},{"$f":"IF(AND(TRIM(BJ104)=\"\",TRIM(BJ105)=\"\"),\"\",BJ104+BJ105)","v":""},null,null,null,{"$f":"IF(TRIM(BM106)=\"\", \"\", IF(VLOOKUP(BM106,'Footnotes list'!$D$9:$E$58,2,FALSE)=0,\"\",VLOOKUP(BM106,'Footnotes list'!$D$9:$E$58,2,FALSE) ) )","v":""},{"$f":"IF(AND(TRIM(BO104)=\"\", TRIM(BO105)=\"\"), \"\", (IF(ISNUMBER(BO104),BO104,0)+IF(ISNUMBER(BO105),BO105,0)))","v":""},null,null,null,{"$f":"IF(TRIM(BR106)=\"\", \"\", IF(VLOOKUP(BR106,'Footnotes list'!$D$9:$E$58,2,FALSE)=0,\"\",VLOOKUP(BR106,'Footnotes list'!$D$9:$E$58,2,FALSE) ) )","v":""},{"$f":"IF(AND(TRIM(BT104)=\"\",TRIM(BT105)=\"\"),\"\",BT104+BT105)","v":""},null,null,null,{"$f":"IF(TRIM(BW106)=\"\", \"\", IF(VLOOKUP(BW106,'Footnotes list'!$D$9:$E$58,2,FALSE)=0,\"\",VLOOKUP(BW106,'Footnotes list'!$D$9:$E$58,2,FALSE) ) )","v":""},{"$f":"IF(AND(TRIM(BY104)=\"\",TRIM(BY105)=\"\"),\"\",BY104+BY105)","v":""},null,null,null,{"$f":"IF(TRIM(CB106)=\"\", \"\", IF(VLOOKUP(CB106,'Footnotes list'!$D$9:$E$58,2,FALSE)=0,\"\",VLOOKUP(CB106,'Footnotes list'!$D$9:$E$58,2,FALSE) ) )","v":""},{"$f":"IF(AND(TRIM(CD104)=\"\",TRIM(CD105)=\"\"),\"\",CD104+CD105)","v":""},null,null,null,{"$f":"IF(TRIM(CG106)=\"\", \"\", IF(VLOOKUP(CG106,'Footnotes list'!$D$9:$E$58,2,FALSE)=0,\"\",VLOOKUP(CG106,'Footnotes list'!$D$9:$E$58,2,FALSE) ) )","v":""},{"$f":"IF(AND(TRIM(CI104)=\"\", TRIM(CI105)=\"\"), \"\", (IF(ISNUMBER(CI104),CI104,0)+IF(ISNUMBER(CI105),CI105,0)))","v":""},null,null,null,{"$f":"IF(TRIM(CL106)=\"\", \"\", IF(VLOOKUP(CL106,'Footnotes list'!$D$9:$E$58,2,FALSE)=0,\"\",VLOOKUP(CL106,'Footnotes list'!$D$9:$E$58,2,FALSE) ) )","v":""},{"$f":"IF(AND(TRIM(CN104)=\"\",TRIM(CN105)=\"\"),\"\",CN104+CN105)","v":""},null,null,null,{"$f":"IF(TRIM(CQ106)=\"\", \"\", IF(VLOOKUP(CQ106,'Footnotes list'!$D$9:$E$58,2,FALSE)=0,\"\",VLOOKUP(CQ106,'Footnotes list'!$D$9:$E$58,2,FALSE) ) )","v":""},{"$f":"IF(AND(TRIM(CS104)=\"\",TRIM(CS105)=\"\"),\"\",CS104+CS105)","v":""},null,null,null,{"$f":"IF(TRIM(CV106)=\"\", \"\", IF(VLOOKUP(CV106,'Footnotes list'!$D$9:$E$58,2,FALSE)=0,\"\",VLOOKUP(CV106,'Footnotes list'!$D$9:$E$58,2,FALSE) ) )","v":""},{"$f":"IF(AND(TRIM(CX104)=\"\",TRIM(CX105)=\"\"),\"\",CX104+CX105)","v":""},null,null,null,{"$f":"IF(TRIM(DA106)=\"\", \"\", IF(VLOOKUP(DA106,'Footnotes list'!$D$9:$E$58,2,FALSE)=0,\"\",VLOOKUP(DA106,'Footnotes list'!$D$9:$E$58,2,FALSE) ) )","v":""},{"$f":"IF(AND(TRIM(DC104)=\"\",TRIM(DC105)=\"\"),\"\",DC104+DC105)","v":""},null,null,null,{"$f":"IF(TRIM(DF106)=\"\", \"\", IF(VLOOKUP(DF106,'Footnotes list'!$D$9:$E$58,2,FALSE)=0,\"\",VLOOKUP(DF106,'Footnotes list'!$D$9:$E$58,2,FALSE) ) )","v":""},{"$f":"IF(AND(TRIM(DH104)=\"\", TRIM(DH105)=\"\"), \"\", SUM(DH104,DH105) )","v":""},null,null,null,{"$f":"IF(TRIM(DK106)=\"\", \"\", IF(VLOOKUP(DK106,'Footnotes list'!$D$9:$E$58,2,FALSE)=0,\"\",VLOOKUP(DK106,'Footnotes list'!$D$9:$E$58,2,FALSE) ) )","v":""}]
[null,"PRIM","PRIM","Primary waste","HAZ","Hazardous ",{"$f":"SUM(G8,G11,G14,G17,G20,G26,G29,G32,G35,G38,G41,G44,G47,G50,G53,G56,G59,G62,G65,G68,G71,G74,G77,G80,G86,G89,G92,G95,G98,G101)","v":0},null,null,null,{"$f":"IF(TRIM(J107)=\"\", \"\", IF(VLOOKUP(J107,'Footnotes list'!$D$9:$E$58,2,FALSE)=0,\"\",VLOOKUP(J107,'Footnotes list'!$D$9:$E$58,2,FALSE) ) )","v":""},{"$f":"SUM(L8,L11,L14,L17,L20,L26,L29,L32,L35,L38,L41,L44,L47,L50,L53,L56,L59,L62,L65,L68,L71,L74,L77,L80,L86,L89,L92,L95,L98,L101)","v":0},null,null,null,{"$f":"IF(TRIM(O107)=\"\", \"\", IF(VLOOKUP(O107,'Footnotes list'!$D$9:$E$58,2,FALSE)=0,\"\",VLOOKUP(O107,'Footnotes list'!$D$9:$E$58,2,FALSE) ) )","v":""},{"$f":"SUM(Q8,Q11,Q14,Q17,Q20,Q26,Q29,Q32,Q35,Q38,Q41,Q44,Q47,Q50,Q53,Q56,Q59,Q62,Q65,Q68,Q71,Q74,Q77,Q80,Q86,Q89,Q92,Q95,Q98,Q101)","v":0},null,null,null,{"$f":"IF(TRIM(T107)=\"\", \"\", IF(VLOOKUP(T107,'Footnotes list'!$D$9:$E$58,2,FALSE)=0,\"\",VLOOKUP(T107,'Footnotes list'!$D$9:$E$58,2,FALSE) ) )","v":""},{"$f":"SUM(V8,V11,V14,V17,V20,V26,V29,V32,V35,V38,V41,V44,V47,V50,V53,V56,V59,V62,V65,V68,V71,V74,V77,V80,V86,V89,V92,V95,V98,V101)","v":0},null,null,null,{"$f":"IF(TRIM(Y107)=\"\", \"\", IF(VLOOKUP(Y107,'Footnotes list'!$D$9:$E$58,2,FALSE)=0,\"\",VLOOKUP(Y107,'Footnotes list'!$D$9:$E$58,2,FALSE) ) )","v":""},{"$f":"SUM(AA8,AA11,AA14,AA17,AA20,AA26,AA29,AA32,AA35,AA38,AA41,AA44,AA47,AA50,AA53,AA56,AA59,AA62,AA65,AA68,AA71,AA74,AA77,AA80,AA86,AA89,AA92,AA95,AA98,AA101)","v":0},null,null,null,{"$f":"IF(TRIM(AD107)=\"\", \"\", IF(VLOOKUP(AD107,'Footnotes list'!$D$9:$E$58,2,FALSE)=0,\"\",VLOOKUP(AD107,'Footnotes list'!$D$9:$E$58,2,FALSE) ) )","v":""},{"$f":"SUM(AF8,AF11,AF14,AF17,AF20,AF26,AF29,AF32,AF35,AF38,AF41,AF44,AF47,AF50,AF53,AF56,AF59,AF62,AF65,AF68,AF71,AF74,AF77,AF80,AF86,AF89,AF92,AF95,AF98,AF101)","v":0},null,null,null,{"$f":"IF(TRIM(AI107)=\"\", \"\", IF(VLOOKUP(AI107,'Footnotes list'!$D$9:$E$58,2,FALSE)=0,\"\",VLOOKUP(AI107,'Footnotes list'!$D$9:$E$58,2,FALSE) ) )","v":""},{"$f":"SUM(AK8,AK11,AK14,AK17,AK20,AK26,AK29,AK32,AK35,AK38,AK41,AK44,AK47,AK50,AK53,AK56,AK59,AK62,AK65,AK68,AK71,AK74,AK77,AK80,AK86,AK89,AK92,AK95,AK98,AK101)","v":0},null,null,null,{"$f":"IF(TRIM(AN107)=\"\", \"\", IF(VLOOKUP(AN107,'Footnotes list'!$D$9:$E$58,2,FALSE)=0,\"\",VLOOKUP(AN107,'Footnotes list'!$D$9:$E$58,2,FALSE) ) )","v":""},{"$f":"SUM(AP8,AP11,AP14,AP17,AP20,AP26,AP29,AP32,AP35,AP38,AP41,AP44,AP47,AP50,AP53,AP56,AP59,AP62,AP65,AP68,AP71,AP74,AP77,AP80,AP86,AP89,AP92,AP95,AP98,AP101)","v":0},null,null,null,{"$f":"IF(TRIM(AS107)=\"\", \"\", IF(VLOOKUP(AS107,'Footnotes list'!$D$9:$E$58,2,FALSE)=0,\"\",VLOOKUP(AS107,'Footnotes list'!$D$9:$E$58,2,FALSE) ) )","v":""},{"$f":"SUM(AU8,AU11,AU14,AU17,AU20,AU26,AU29,AU32,AU35,AU38,AU41,AU44,AU47,AU50,AU53,AU56,AU59,AU62,AU65,AU68,AU71,AU74,AU77,AU80,AU86,AU89,AU92,AU95,AU98,AU101)","v":0},null,null,null,{"$f":"IF(TRIM(AX107)=\"\", \"\", IF(VLOOKUP(AX107,'Footnotes list'!$D$9:$E$58,2,FALSE)=0,\"\",VLOOKUP(AX107,'Footnotes list'!$D$9:$E$58,2,FALSE) ) )","v":""},{"$f":"SUM(AZ8,AZ11,AZ14,AZ17,AZ20,AZ26,AZ29,AZ32,AZ35,AZ38,AZ41,AZ44,AZ47,AZ50,AZ53,AZ56,AZ59,AZ62,AZ65,AZ68,AZ71,AZ74,AZ77,AZ80,AZ86,AZ89,AZ92,AZ95,AZ98,AZ101)","v":0},null,null,null,{"$f":"IF(TRIM(BC107)=\"\", \"\", IF(VLOOKUP(BC107,'Footnotes list'!$D$9:$E$58,2,FALSE)=0,\"\",VLOOKUP(BC107,'Footnotes list'!$D$9:$E$58,2,FALSE) ) )","v":""},{"$f":"SUM(BE8,BE11,BE14,BE17,BE20,BE26,BE29,BE32,BE35,BE38,BE41,BE44,BE47,BE50,BE53,BE56,BE59,BE62,BE65,BE68,BE71,BE74,BE77,BE80,BE86,BE89,BE92,BE95,BE98,BE101)","v":0},null,null,null,{"$f":"IF(TRIM(BH107)=\"\", \"\", IF(VLOOKUP(BH107,'Footnotes list'!$D$9:$E$58,2,FALSE)=0,\"\",VLOOKUP(BH107,'Footnotes list'!$D$9:$E$58,2,FALSE) ) )","v":""},{"$f":"SUM(BJ8,BJ11,BJ14,BJ17,BJ20,BJ26,BJ29,BJ32,BJ35,BJ38,BJ41,BJ44,BJ47,BJ50,BJ53,BJ56,BJ59,BJ62,BJ65,BJ68,BJ71,BJ74,BJ77,BJ80,BJ86,BJ89,BJ92,BJ95,BJ98,BJ101)","v":0},null,null,null,{"$f":"IF(TRIM(BM107)=\"\", \"\", IF(VLOOKUP(BM107,'Footnotes list'!$D$9:$E$58,2,FALSE)=0,\"\",VLOOKUP(BM107,'Footnotes list'!$D$9:$E$58,2,FALSE) ) )","v":""},{"$f":"SUM(BO8,BO11,BO14,BO17,BO20,BO26,BO29,BO32,BO35,BO38,BO41,BO44,BO47,BO50,BO53,BO56,BO59,BO62,BO65,BO68,BO71,BO74,BO77,BO80,BO86,BO89,BO92,BO95,BO98,BO101)","v":0},null,null,null,{"$f":"IF(TRIM(BR107)=\"\", \"\", IF(VLOOKUP(BR107,'Footnotes list'!$D$9:$E$58,2,FALSE)=0,\"\",VLOOKUP(BR107,'Footnotes list'!$D$9:$E$58,2,FALSE) ) )","v":""},{"$f":"SUM(BT8,BT11,BT14,BT17,BT20,BT26,BT29,BT32,BT35,BT38,BT41,BT44,BT47,BT50,BT53,BT56,BT59,BT62,BT65,BT68,BT71,BT74,BT77,BT80,BT86,BT89,BT92,BT95,BT98,BT101)","v":0},null,null,null,{"$f":"IF(TRIM(BW107)=\"\", \"\", IF(VLOOKUP(BW107,'Footnotes list'!$D$9:$E$58,2,FALSE)=0,\"\",VLOOKUP(BW107,'Footnotes list'!$D$9:$E$58,2,FALSE) ) )","v":""},{"$f":"SUM(BY8,BY11,BY14,BY17,BY20,BY26,BY29,BY32,BY35,BY38,BY41,BY44,BY47,BY50,BY53,BY56,BY59,BY62,BY65,BY68,BY71,BY74,BY77,BY80,BY86,BY89,BY92,BY95,BY98,BY101)","v":0},null,null,null,{"$f":"IF(TRIM(CB107)=\"\", \"\", IF(VLOOKUP(CB107,'Footnotes list'!$D$9:$E$58,2,FALSE)=0,\"\",VLOOKUP(CB107,'Footnotes list'!$D$9:$E$58,2,FALSE) ) )","v":""},{"$f":"SUM(CD8,CD11,CD14,CD17,CD20,CD26,CD29,CD32,CD35,CD38,CD41,CD44,CD47,CD50,CD53,CD56,CD59,CD62,CD65,CD68,CD71,CD74,CD77,CD80,CD86,CD89,CD92,CD95,CD98,CD101)","v":0},null,null,null,{"$f":"IF(TRIM(CG107)=\"\", \"\", IF(VLOOKUP(CG107,'Footnotes list'!$D$9:$E$58,2,FALSE)=0,\"\",VLOOKUP(CG107,'Footnotes list'!$D$9:$E$58,2,FALSE) ) )","v":""},{"$f":"SUM(CI8,CI11,CI14,CI17,CI20,CI26,CI29,CI32,CI35,CI38,CI41,CI44,CI47,CI50,CI53,CI56,CI59,CI62,CI65,CI68,CI71,CI74,CI77,CI80,CI86,CI89,CI92,CI95,CI98,CI101)","v":0},null,null,null,{"$f":"IF(TRIM(CL107)=\"\", \"\", IF(VLOOKUP(CL107,'Footnotes list'!$D$9:$E$58,2,FALSE)=0,\"\",VLOOKUP(CL107,'Footnotes list'!$D$9:$E$58,2,FALSE) ) )","v":""},{"$f":"SUM(CN8,CN11,CN14,CN17,CN20,CN26,CN29,CN32,CN35,CN38,CN41,CN44,CN47,CN50,CN53,CN56,CN59,CN62,CN65,CN68,CN71,CN74,CN77,CN80,CN86,CN89,CN92,CN95,CN98,CN101)","v":0},null,null,null,{"$f":"IF(TRIM(CQ107)=\"\", \"\", IF(VLOOKUP(CQ107,'Footnotes list'!$D$9:$E$58,2,FALSE)=0,\"\",VLOOKUP(CQ107,'Footnotes list'!$D$9:$E$58,2,FALSE) ) )","v":""},{"$f":"SUM(CS8,CS11,CS14,CS17,CS20,CS26,CS29,CS32,CS35,CS38,CS41,CS44,CS47,CS50,CS53,CS56,CS59,CS62,CS65,CS68,CS71,CS74,CS77,CS80,CS86,CS89,CS92,CS95,CS98,CS101)","v":0},null,null,null,{"$f":"IF(TRIM(CV107)=\"\", \"\", IF(VLOOKUP(CV107,'Footnotes list'!$D$9:$E$58,2,FALSE)=0,\"\",VLOOKUP(CV107,'Footnotes list'!$D$9:$E$58,2,FALSE) ) )","v":""},{"$f":"SUM(CX8,CX11,CX14,CX17,CX20,CX26,CX29,CX32,CX35,CX38,CX41,CX44,CX47,CX50,CX53,CX56,CX59,CX62,CX65,CX68,CX71,CX74,CX77,CX80,CX86,CX89,CX92,CX95,CX98,CX101)","v":0},null,null,null,{"$f":"IF(TRIM(DA107)=\"\", \"\", IF(VLOOKUP(DA107,'Footnotes list'!$D$9:$E$58,2,FALSE)=0,\"\",VLOOKUP(DA107,'Footnotes list'!$D$9:$E$58,2,FALSE) ) )","v":""},{"$f":"SUM(DC8,DC11,DC14,DC17,DC20,DC26,DC29,DC32,DC35,DC38,DC41,DC44,DC47,DC50,DC53,DC56,DC59,DC62,DC65,DC68,DC71,DC74,DC77,DC80,DC86,DC89,DC92,DC95,DC98,DC101)","v":0},null,null,null,{"$f":"IF(TRIM(DF107)=\"\", \"\", IF(VLOOKUP(DF107,'Footnotes list'!$D$9:$E$58,2,FALSE)=0,\"\",VLOOKUP(DF107,'Footnotes list'!$D$9:$E$58,2,FALSE) ) )","v":""},{"$f":"SUM(DH8,DH11,DH14,DH17,DH20,DH26,DH29,DH32,DH35,DH38,DH41,DH44,DH47,DH50,DH53,DH56,DH59,DH62,DH65,DH68,DH71,DH74,DH77,DH80,DH86,DH89,DH92,DH95,DH98,DH101)","v":0},null,null,null,{"$f":"IF(TRIM(DK107)=\"\", \"\", IF(VLOOKUP(DK107,'Footnotes list'!$D$9:$E$58,2,FALSE)=0,\"\",VLOOKUP(DK107,'Footnotes list'!$D$9:$E$58,2,FALSE) ) )","v":""}]
[null,null,"PRIM",null,"NHAZ","Non-hazardous",{"$f":"SUM(G9,G12,G15,G18,G21,G27,G30,G33,G36,G39,G42,G45,G48,G51,G54,G57,G60,G63,G66,G69,G72,G75,G78,G81,G87,G90,G93,G96,G99,G102)","v":0},null,null,null,{"$f":"IF(TRIM(J108)=\"\", \"\", IF(VLOOKUP(J108,'Footnotes list'!$D$9:$E$58,2,FALSE)=0,\"\",VLOOKUP(J108,'Footnotes list'!$D$9:$E$58,2,FALSE) ) )","v":""},{"$f":"SUM(L9,L12,L15,L18,L21,L27,L30,L33,L36,L39,L42,L45,L48,L51,L54,L57,L60,L63,L66,L69,L72,L75,L78,L81,L87,L90,L93,L96,L99,L102)","v":0},null,null,null,{"$f":"IF(TRIM(O108)=\"\", \"\", IF(VLOOKUP(O108,'Footnotes list'!$D$9:$E$58,2,FALSE)=0,\"\",VLOOKUP(O108,'Footnotes list'!$D$9:$E$58,2,FALSE) ) )","v":""},{"$f":"SUM(Q9,Q12,Q15,Q18,Q21,Q27,Q30,Q33,Q36,Q39,Q42,Q45,Q48,Q51,Q54,Q57,Q60,Q63,Q66,Q69,Q72,Q75,Q78,Q81,Q87,Q90,Q93,Q96,Q99,Q102)","v":0},null,null,null,{"$f":"IF(TRIM(T108)=\"\", \"\", IF(VLOOKUP(T108,'Footnotes list'!$D$9:$E$58,2,FALSE)=0,\"\",VLOOKUP(T108,'Footnotes list'!$D$9:$E$58,2,FALSE) ) )","v":""},{"$f":"SUM(V9,V12,V15,V18,V21,V27,V30,V33,V36,V39,V42,V45,V48,V51,V54,V57,V60,V63,V66,V69,V72,V75,V78,V81,V87,V90,V93,V96,V99,V102)","v":0},null,null,null,{"$f":"IF(TRIM(Y108)=\"\", \"\", IF(VLOOKUP(Y108,'Footnotes list'!$D$9:$E$58,2,FALSE)=0,\"\",VLOOKUP(Y108,'Footnotes list'!$D$9:$E$58,2,FALSE) ) )","v":""},{"$f":"SUM(AA9,AA12,AA15,AA18,AA21,AA27,AA30,AA33,AA36,AA39,AA42,AA45,AA48,AA51,AA54,AA57,AA60,AA63,AA66,AA69,AA72,AA75,AA78,AA81,AA87,AA90,AA93,AA96,AA99,AA102)","v":0},null,null,null,{"$f":"IF(TRIM(AD108)=\"\", \"\", IF(VLOOKUP(AD108,'Footnotes list'!$D$9:$E$58,2,FALSE)=0,\"\",VLOOKUP(AD108,'Footnotes list'!$D$9:$E$58,2,FALSE) ) )","v":""},{"$f":"SUM(AF9,AF12,AF15,AF18,AF21,AF27,AF30,AF33,AF36,AF39,AF42,AF45,AF48,AF51,AF54,AF57,AF60,AF63,AF66,AF69,AF72,AF75,AF78,AF81,AF87,AF90,AF93,AF96,AF99,AF102)","v":0},null,null,null,{"$f":"IF(TRIM(AI108)=\"\", \"\", IF(VLOOKUP(AI108,'Footnotes list'!$D$9:$E$58,2,FALSE)=0,\"\",VLOOKUP(AI108,'Footnotes list'!$D$9:$E$58,2,FALSE) ) )","v":""},{"$f":"SUM(AK9,AK12,AK15,AK18,AK21,AK27,AK30,AK33,AK36,AK39,AK42,AK45,AK48,AK51,AK54,AK57,AK60,AK63,AK66,AK69,AK72,AK75,AK78,AK81,AK87,AK90,AK93,AK96,AK99,AK102)","v":0},null,null,null,{"$f":"IF(TRIM(AN108)=\"\", \"\", IF(VLOOKUP(AN108,'Footnotes list'!$D$9:$E$58,2,FALSE)=0,\"\",VLOOKUP(AN108,'Footnotes list'!$D$9:$E$58,2,FALSE) ) )","v":""},{"$f":"SUM(AP9,AP12,AP15,AP18,AP21,AP27,AP30,AP33,AP36,AP39,AP42,AP45,AP48,AP51,AP54,AP57,AP60,AP63,AP66,AP69,AP72,AP75,AP78,AP81,AP87,AP90,AP93,AP96,AP99,AP102)","v":0},null,null,null,{"$f":"IF(TRIM(AS108)=\"\", \"\", IF(VLOOKUP(AS108,'Footnotes list'!$D$9:$E$58,2,FALSE)=0,\"\",VLOOKUP(AS108,'Footnotes list'!$D$9:$E$58,2,FALSE) ) )","v":""},{"$f":"SUM(AU9,AU12,AU15,AU18,AU21,AU27,AU30,AU33,AU36,AU39,AU42,AU45,AU48,AU51,AU54,AU57,AU60,AU63,AU66,AU69,AU72,AU75,AU78,AU81,AU87,AU90,AU93,AU96,AU99,AU102)","v":0},null,null,null,{"$f":"IF(TRIM(AX108)=\"\", \"\", IF(VLOOKUP(AX108,'Footnotes list'!$D$9:$E$58,2,FALSE)=0,\"\",VLOOKUP(AX108,'Footnotes list'!$D$9:$E$58,2,FALSE) ) )","v":""},{"$f":"SUM(AZ9,AZ12,AZ15,AZ18,AZ21,AZ27,AZ30,AZ33,AZ36,AZ39,AZ42,AZ45,AZ48,AZ51,AZ54,AZ57,AZ60,AZ63,AZ66,AZ69,AZ72,AZ75,AZ78,AZ81,AZ87,AZ90,AZ93,AZ96,AZ99,AZ102)","v":0},null,null,null,{"$f":"IF(TRIM(BC108)=\"\", \"\", IF(VLOOKUP(BC108,'Footnotes list'!$D$9:$E$58,2,FALSE)=0,\"\",VLOOKUP(BC108,'Footnotes list'!$D$9:$E$58,2,FALSE) ) )","v":""},{"$f":"SUM(BE9,BE12,BE15,BE18,BE21,BE27,BE30,BE33,BE36,BE39,BE42,BE45,BE48,BE51,BE54,BE57,BE60,BE63,BE66,BE69,BE72,BE75,BE78,BE81,BE87,BE90,BE93,BE96,BE99,BE102)","v":0},null,null,null,{"$f":"IF(TRIM(BH108)=\"\", \"\", IF(VLOOKUP(BH108,'Footnotes list'!$D$9:$E$58,2,FALSE)=0,\"\",VLOOKUP(BH108,'Footnotes list'!$D$9:$E$58,2,FALSE) ) )","v":""},{"$f":"SUM(BJ9,BJ12,BJ15,BJ18,BJ21,BJ27,BJ30,BJ33,BJ36,BJ39,BJ42,BJ45,BJ48,BJ51,BJ54,BJ57,BJ60,BJ63,BJ66,BJ69,BJ72,BJ75,BJ78,BJ81,BJ87,BJ90,BJ93,BJ96,BJ99,BJ102)","v":0},null,null,null,{"$f":"IF(TRIM(BM108)=\"\", \"\", IF(VLOOKUP(BM108,'Footnotes list'!$D$9:$E$58,2,FALSE)=0,\"\",VLOOKUP(BM108,'Footnotes list'!$D$9:$E$58,2,FALSE) ) )","v":""},{"$f":"SUM(BO9,BO12,BO15,BO18,BO21,BO27,BO30,BO33,BO36,BO39,BO42,BO45,BO48,BO51,BO54,BO57,BO60,BO63,BO66,BO69,BO72,BO75,BO78,BO81,BO87,BO90,BO93,BO96,BO99,BO102)","v":0},null,null,null,{"$f":"IF(TRIM(BR108)=\"\", \"\", IF(VLOOKUP(BR108,'Footnotes list'!$D$9:$E$58,2,FALSE)=0,\"\",VLOOKUP(BR108,'Footnotes list'!$D$9:$E$58,2,FALSE) ) )","v":""},{"$f":"SUM(BT9,BT12,BT15,BT18,BT21,BT27,BT30,BT33,BT36,BT39,BT42,BT45,BT48,BT51,BT54,BT57,BT60,BT63,BT66,BT69,BT72,BT75,BT78,BT81,BT87,BT90,BT93,BT96,BT99,BT102)","v":0},null,null,null,{"$f":"IF(TRIM(BW108)=\"\", \"\", IF(VLOOKUP(BW108,'Footnotes list'!$D$9:$E$58,2,FALSE)=0,\"\",VLOOKUP(BW108,'Footnotes list'!$D$9:$E$58,2,FALSE) ) )","v":""},{"$f":"SUM(BY9,BY12,BY15,BY18,BY21,BY27,BY30,BY33,BY36,BY39,BY42,BY45,BY48,BY51,BY54,BY57,BY60,BY63,BY66,BY69,BY72,BY75,BY78,BY81,BY87,BY90,BY93,BY96,BY99,BY102)","v":0},null,null,null,{"$f":"IF(TRIM(CB108)=\"\", \"\", IF(VLOOKUP(CB108,'Footnotes list'!$D$9:$E$58,2,FALSE)=0,\"\",VLOOKUP(CB108,'Footnotes list'!$D$9:$E$58,2,FALSE) ) )","v":""},{"$f":"SUM(CD9,CD12,CD15,CD18,CD21,CD27,CD30,CD33,CD36,CD39,CD42,CD45,CD48,CD51,CD54,CD57,CD60,CD63,CD66,CD69,CD72,CD75,CD78,CD81,CD87,CD90,CD93,CD96,CD99,CD102)","v":0},null,null,null,{"$f":"IF(TRIM(CG108)=\"\", \"\", IF(VLOOKUP(CG108,'Footnotes list'!$D$9:$E$58,2,FALSE)=0,\"\",VLOOKUP(CG108,'Footnotes list'!$D$9:$E$58,2,FALSE) ) )","v":""},{"$f":"SUM(CI9,CI12,CI15,CI18,CI21,CI27,CI30,CI33,CI36,CI39,CI42,CI45,CI48,CI51,CI54,CI57,CI60,CI63,CI66,CI69,CI72,CI75,CI78,CI81,CI87,CI90,CI93,CI96,CI99,CI102)","v":0},null,null,null,{"$f":"IF(TRIM(CL108)=\"\", \"\", IF(VLOOKUP(CL108,'Footnotes list'!$D$9:$E$58,2,FALSE)=0,\"\",VLOOKUP(CL108,'Footnotes list'!$D$9:$E$58,2,FALSE) ) )","v":""},{"$f":"SUM(CN9,CN12,CN15,CN18,CN21,CN27,CN30,CN33,CN36,CN39,CN42,CN45,CN48,CN51,CN54,CN57,CN60,CN63,CN66,CN69,CN72,CN75,CN78,CN81,CN87,CN90,CN93,CN96,CN99,CN102)","v":0},null,null,null,{"$f":"IF(TRIM(CQ108)=\"\", \"\", IF(VLOOKUP(CQ108,'Footnotes list'!$D$9:$E$58,2,FALSE)=0,\"\",VLOOKUP(CQ108,'Footnotes list'!$D$9:$E$58,2,FALSE) ) )","v":""},{"$f":"SUM(CS9,CS12,CS15,CS18,CS21,CS27,CS30,CS33,CS36,CS39,CS42,CS45,CS48,CS51,CS54,CS57,CS60,CS63,CS66,CS69,CS72,CS75,CS78,CS81,CS87,CS90,CS93,CS96,CS99,CS102)","v":0},null,null,null,{"$f":"IF(TRIM(CV108)=\"\", \"\", IF(VLOOKUP(CV108,'Footnotes list'!$D$9:$E$58,2,FALSE)=0,\"\",VLOOKUP(CV108,'Footnotes list'!$D$9:$E$58,2,FALSE) ) )","v":""},{"$f":"SUM(CX9,CX12,CX15,CX18,CX21,CX27,CX30,CX33,CX36,CX39,CX42,CX45,CX48,CX51,CX54,CX57,CX60,CX63,CX66,CX69,CX72,CX75,CX78,CX81,CX87,CX90,CX93,CX96,CX99,CX102)","v":0},null,null,null,{"$f":"IF(TRIM(DA108)=\"\", \"\", IF(VLOOKUP(DA108,'Footnotes list'!$D$9:$E$58,2,FALSE)=0,\"\",VLOOKUP(DA108,'Footnotes list'!$D$9:$E$58,2,FALSE) ) )","v":""},{"$f":"SUM(DC9,DC12,DC15,DC18,DC21,DC27,DC30,DC33,DC36,DC39,DC42,DC45,DC48,DC51,DC54,DC57,DC60,DC63,DC66,DC69,DC72,DC75,DC78,DC81,DC87,DC90,DC93,DC96,DC99,DC102)","v":0},null,null,null,{"$f":"IF(TRIM(DF108)=\"\", \"\", IF(VLOOKUP(DF108,'Footnotes list'!$D$9:$E$58,2,FALSE)=0,\"\",VLOOKUP(DF108,'Footnotes list'!$D$9:$E$58,2,FALSE) ) )","v":""},{"$f":"SUM(DH9,DH12,DH15,DH18,DH21,DH27,DH30,DH33,DH36,DH39,DH42,DH45,DH48,DH51,DH54,DH57,DH60,DH63,DH66,DH69,DH72,DH75,DH78,DH81,DH87,DH90,DH93,DH96,DH99,DH102)","v":0},null,null,null,{"$f":"IF(TRIM(DK108)=\"\", \"\", IF(VLOOKUP(DK108,'Footnotes list'!$D$9:$E$58,2,FALSE)=0,\"\",VLOOKUP(DK108,'Footnotes list'!$D$9:$E$58,2,FALSE) ) )","v":""}]
[null,null,"PRIM",null,"HAZ_NHAZ","Total",0,null,null,null,{"$f":"IF(TRIM(J109)=\"\", \"\", IF(VLOOKUP(J109,'Footnotes list'!$D$9:$E$58,2,FALSE)=0,\"\",VLOOKUP(J109,'Footnotes list'!$D$9:$E$58,2,FALSE) ) )","v":""},0,null,null,null,{"$f":"IF(TRIM(O109)=\"\", \"\", IF(VLOOKUP(O109,'Footnotes list'!$D$9:$E$58,2,FALSE)=0,\"\",VLOOKUP(O109,'Footnotes list'!$D$9:$E$58,2,FALSE) ) )","v":""},0,null,null,null,{"$f":"IF(TRIM(T109)=\"\", \"\", IF(VLOOKUP(T109,'Footnotes list'!$D$9:$E$58,2,FALSE)=0,\"\",VLOOKUP(T109,'Footnotes list'!$D$9:$E$58,2,FALSE) ) )","v":""},0,null,null,null,{"$f":"IF(TRIM(Y109)=\"\", \"\", IF(VLOOKUP(Y109,'Footnotes list'!$D$9:$E$58,2,FALSE)=0,\"\",VLOOKUP(Y109,'Footnotes list'!$D$9:$E$58,2,FALSE) ) )","v":""},0,null,null,null,{"$f":"IF(TRIM(AD109)=\"\", \"\", IF(VLOOKUP(AD109,'Footnotes list'!$D$9:$E$58,2,FALSE)=0,\"\",VLOOKUP(AD109,'Footnotes list'!$D$9:$E$58,2,FALSE) ) )","v":""},0,null,null,null,{"$f":"IF(TRIM(AI109)=\"\", \"\", IF(VLOOKUP(AI109,'Footnotes list'!$D$9:$E$58,2,FALSE)=0,\"\",VLOOKUP(AI109,'Footnotes list'!$D$9:$E$58,2,FALSE) ) )","v":""},0,null,null,null,{"$f":"IF(TRIM(AN109)=\"\", \"\", IF(VLOOKUP(AN109,'Footnotes list'!$D$9:$E$58,2,FALSE)=0,\"\",VLOOKUP(AN109,'Footnotes list'!$D$9:$E$58,2,FALSE) ) )","v":""},0,null,null,null,{"$f":"IF(TRIM(AS109)=\"\", \"\", IF(VLOOKUP(AS109,'Footnotes list'!$D$9:$E$58,2,FALSE)=0,\"\",VLOOKUP(AS109,'Footnotes list'!$D$9:$E$58,2,FALSE) ) )","v":""},0,null,null,null,{"$f":"IF(TRIM(AX109)=\"\", \"\", IF(VLOOKUP(AX109,'Footnotes list'!$D$9:$E$58,2,FALSE)=0,\"\",VLOOKUP(AX109,'Footnotes list'!$D$9:$E$58,2,FALSE) ) )","v":""},0,null,null,null,{"$f":"IF(TRIM(BC109)=\"\", \"\", IF(VLOOKUP(BC109,'Footnotes list'!$D$9:$E$58,2,FALSE)=0,\"\",VLOOKUP(BC109,'Footnotes list'!$D$9:$E$58,2,FALSE) ) )","v":""},0,null,null,null,{"$f":"IF(TRIM(BH109)=\"\", \"\", IF(VLOOKUP(BH109,'Footnotes list'!$D$9:$E$58,2,FALSE)=0,\"\",VLOOKUP(BH109,'Footnotes list'!$D$9:$E$58,2,FALSE) ) )","v":""},0,null,null,null,{"$f":"IF(TRIM(BM109)=\"\", \"\", IF(VLOOKUP(BM109,'Footnotes list'!$D$9:$E$58,2,FALSE)=0,\"\",VLOOKUP(BM109,'Footnotes list'!$D$9:$E$58,2,FALSE) ) )","v":""},0,null,null,null,{"$f":"IF(TRIM(BR109)=\"\", \"\", IF(VLOOKUP(BR109,'Footnotes list'!$D$9:$E$58,2,FALSE)=0,\"\",VLOOKUP(BR109,'Footnotes list'!$D$9:$E$58,2,FALSE) ) )","v":""},0,null,null,null,{"$f":"IF(TRIM(BW109)=\"\", \"\", IF(VLOOKUP(BW109,'Footnotes list'!$D$9:$E$58,2,FALSE)=0,\"\",VLOOKUP(BW109,'Footnotes list'!$D$9:$E$58,2,FALSE) ) )","v":""},0,null,null,null,{"$f":"IF(TRIM(CB109)=\"\", \"\", IF(VLOOKUP(CB109,'Footnotes list'!$D$9:$E$58,2,FALSE)=0,\"\",VLOOKUP(CB109,'Footnotes list'!$D$9:$E$58,2,FALSE) ) )","v":""},0,null,null,null,{"$f":"IF(TRIM(CG109)=\"\", \"\", IF(VLOOKUP(CG109,'Footnotes list'!$D$9:$E$58,2,FALSE)=0,\"\",VLOOKUP(CG109,'Footnotes list'!$D$9:$E$58,2,FALSE) ) )","v":""},0,null,null,null,{"$f":"IF(TRIM(CL109)=\"\", \"\", IF(VLOOKUP(CL109,'Footnotes list'!$D$9:$E$58,2,FALSE)=0,\"\",VLOOKUP(CL109,'Footnotes list'!$D$9:$E$58,2,FALSE) ) )","v":""},0,null,null,null,{"$f":"IF(TRIM(CQ109)=\"\", \"\", IF(VLOOKUP(CQ109,'Footnotes list'!$D$9:$E$58,2,FALSE)=0,\"\",VLOOKUP(CQ109,'Footnotes list'!$D$9:$E$58,2,FALSE) ) )","v":""},0,null,null,null,{"$f":"IF(TRIM(CV109)=\"\", \"\", IF(VLOOKUP(CV109,'Footnotes list'!$D$9:$E$58,2,FALSE)=0,\"\",VLOOKUP(CV109,'Footnotes list'!$D$9:$E$58,2,FALSE) ) )","v":""},0,null,null,null,{"$f":"IF(TRIM(DA109)=\"\", \"\", IF(VLOOKUP(DA109,'Footnotes list'!$D$9:$E$58,2,FALSE)=0,\"\",VLOOKUP(DA109,'Footnotes list'!$D$9:$E$58,2,FALSE) ) )","v":""},0,null,null,null,{"$f":"IF(TRIM(DF109)=\"\", \"\", IF(VLOOKUP(DF109,'Footnotes list'!$D$9:$E$58,2,FALSE)=0,\"\",VLOOKUP(DF109,'Footnotes list'!$D$9:$E$58,2,FALSE) ) )","v":""},0,null,null,null,{"$f":"IF(TRIM(DK109)=\"\", \"\", IF(VLOOKUP(DK109,'Footnotes list'!$D$9:$E$58,2,FALSE)=0,\"\",VLOOKUP(DK109,'Footnotes list'!$D$9:$E$58,2,FALSE) ) )","v":""}]
[null,"SEC","SEC","Secondary Waste ","HAZ","Hazardous ",{"$f":"SUM(G23,G83,G104)","v":0},null,null,null,{"$f":"IF(TRIM(J110)=\"\", \"\", IF(VLOOKUP(J110,'Footnotes list'!$D$9:$E$58,2,FALSE)=0,\"\",VLOOKUP(J110,'Footnotes list'!$D$9:$E$58,2,FALSE) ) )","v":""},{"$f":"SUM(L23,L83,L104)","v":0},null,null,null,{"$f":"IF(TRIM(O110)=\"\", \"\", IF(VLOOKUP(O110,'Footnotes list'!$D$9:$E$58,2,FALSE)=0,\"\",VLOOKUP(O110,'Footnotes list'!$D$9:$E$58,2,FALSE) ) )","v":""},{"$f":"SUM(Q23,Q83,Q104)","v":0},null,null,null,{"$f":"IF(TRIM(T110)=\"\", \"\", IF(VLOOKUP(T110,'Footnotes list'!$D$9:$E$58,2,FALSE)=0,\"\",VLOOKUP(T110,'Footnotes list'!$D$9:$E$58,2,FALSE) ) )","v":""},{"$f":"SUM(V23,V83,V104)","v":0},null,null,null,{"$f":"IF(TRIM(Y110)=\"\", \"\", IF(VLOOKUP(Y110,'Footnotes list'!$D$9:$E$58,2,FALSE)=0,\"\",VLOOKUP(Y110,'Footnotes list'!$D$9:$E$58,2,FALSE) ) )","v":""},{"$f":"SUM(AA23,AA83,AA104)","v":0},null,null,null,{"$f":"IF(TRIM(AD110)=\"\", \"\", IF(VLOOKUP(AD110,'Footnotes list'!$D$9:$E$58,2,FALSE)=0,\"\",VLOOKUP(AD110,'Footnotes list'!$D$9:$E$58,2,FALSE) ) )","v":""},{"$f":"SUM(AF23,AF83,AF104)","v":0},null,null,null,{"$f":"IF(TRIM(AI110)=\"\", \"\", IF(VLOOKUP(AI110,'Footnotes list'!$D$9:$E$58,2,FALSE)=0,\"\",VLOOKUP(AI110,'Footnotes list'!$D$9:$E$58,2,FALSE) ) )","v":""},{"$f":"SUM(AK23,AK83,AK104)","v":0},null,null,null,{"$f":"IF(TRIM(AN110)=\"\", \"\", IF(VLOOKUP(AN110,'Footnotes list'!$D$9:$E$58,2,FALSE)=0,\"\",VLOOKUP(AN110,'Footnotes list'!$D$9:$E$58,2,FALSE) ) )","v":""},{"$f":"SUM(AP23,AP83,AP104)","v":0},null,null,null,{"$f":"IF(TRIM(AS110)=\"\", \"\", IF(VLOOKUP(AS110,'Footnotes list'!$D$9:$E$58,2,FALSE)=0,\"\",VLOOKUP(AS110,'Footnotes list'!$D$9:$E$58,2,FALSE) ) )","v":""},{"$f":"SUM(AU23,AU83,AU104)","v":0},null,null,null,{"$f":"IF(TRIM(AX110)=\"\", \"\", IF(VLOOKUP(AX110,'Footnotes list'!$D$9:$E$58,2,FALSE)=0,\"\",VLOOKUP(AX110,'Footnotes list'!$D$9:$E$58,2,FALSE) ) )","v":""},{"$f":"SUM(AZ23,AZ83,AZ104)","v":0},null,null,null,{"$f":"IF(TRIM(BC110)=\"\", \"\", IF(VLOOKUP(BC110,'Footnotes list'!$D$9:$E$58,2,FALSE)=0,\"\",VLOOKUP(BC110,'Footnotes list'!$D$9:$E$58,2,FALSE) ) )","v":""},{"$f":"SUM(BE23,BE83,BE104)","v":0},null,null,null,{"$f":"IF(TRIM(BH110)=\"\", \"\", IF(VLOOKUP(BH110,'Footnotes list'!$D$9:$E$58,2,FALSE)=0,\"\",VLOOKUP(BH110,'Footnotes list'!$D$9:$E$58,2,FALSE) ) )","v":""},{"$f":"SUM(BJ23,BJ83,BJ104)","v":0},null,null,null,{"$f":"IF(TRIM(BM110)=\"\", \"\", IF(VLOOKUP(BM110,'Footnotes list'!$D$9:$E$58,2,FALSE)=0,\"\",VLOOKUP(BM110,'Footnotes list'!$D$9:$E$58,2,FALSE) ) )","v":""},{"$f":"SUM(BO23,BO83,BO104)","v":0},null,null,null,{"$f":"IF(TRIM(BR110)=\"\", \"\", IF(VLOOKUP(BR110,'Footnotes list'!$D$9:$E$58,2,FALSE)=0,\"\",VLOOKUP(BR110,'Footnotes list'!$D$9:$E$58,2,FALSE) ) )","v":""},{"$f":"SUM(BT23,BT83,BT104)","v":0},null,null,null,{"$f":"IF(TRIM(BW110)=\"\", \"\", IF(VLOOKUP(BW110,'Footnotes list'!$D$9:$E$58,2,FALSE)=0,\"\",VLOOKUP(BW110,'Footnotes list'!$D$9:$E$58,2,FALSE) ) )","v":""},{"$f":"SUM(BY23,BY83,BY104)","v":0},null,null,null,{"$f":"IF(TRIM(CB110)=\"\", \"\", IF(VLOOKUP(CB110,'Footnotes list'!$D$9:$E$58,2,FALSE)=0,\"\",VLOOKUP(CB110,'Footnotes list'!$D$9:$E$58,2,FALSE) ) )","v":""},{"$f":"SUM(CD23,CD83,CD104)","v":0},null,null,null,{"$f":"IF(TRIM(CG110)=\"\", \"\", IF(VLOOKUP(CG110,'Footnotes list'!$D$9:$E$58,2,FALSE)=0,\"\",VLOOKUP(CG110,'Footnotes list'!$D$9:$E$58,2,FALSE) ) )","v":""},{"$f":"SUM(CI23,CI83,CI104)","v":0},null,null,null,{"$f":"IF(TRIM(CL110)=\"\", \"\", IF(VLOOKUP(CL110,'Footnotes list'!$D$9:$E$58,2,FALSE)=0,\"\",VLOOKUP(CL110,'Footnotes list'!$D$9:$E$58,2,FALSE) ) )","v":""},{"$f":"SUM(CN23,CN83,CN104)","v":0},null,null,null,{"$f":"IF(TRIM(CQ110)=\"\", \"\", IF(VLOOKUP(CQ110,'Footnotes list'!$D$9:$E$58,2,FALSE)=0,\"\",VLOOKUP(CQ110,'Footnotes list'!$D$9:$E$58,2,FALSE) ) )","v":""},{"$f":"SUM(CS23,CS83,CS104)","v":0},null,null,null,{"$f":"IF(TRIM(CV110)=\"\", \"\", IF(VLOOKUP(CV110,'Footnotes list'!$D$9:$E$58,2,FALSE)=0,\"\",VLOOKUP(CV110,'Footnotes list'!$D$9:$E$58,2,FALSE) ) )","v":""},{"$f":"SUM(CX23,CX83,CX104)","v":0},null,null,null,{"$f":"IF(TRIM(DA110)=\"\", \"\", IF(VLOOKUP(DA110,'Footnotes list'!$D$9:$E$58,2,FALSE)=0,\"\",VLOOKUP(DA110,'Footnotes list'!$D$9:$E$58,2,FALSE) ) )","v":""},{"$f":"SUM(DC23,DC83,DC104)","v":0},null,null,null,{"$f":"IF(TRIM(DF110)=\"\", \"\", IF(VLOOKUP(DF110,'Footnotes list'!$D$9:$E$58,2,FALSE)=0,\"\",VLOOKUP(DF110,'Footnotes list'!$D$9:$E$58,2,FALSE) ) )","v":""},{"$f":"SUM(DH23,DH83,DH104)","v":0},null,null,null,{"$f":"IF(TRIM(DK110)=\"\", \"\", IF(VLOOKUP(DK110,'Footnotes list'!$D$9:$E$58,2,FALSE)=0,\"\",VLOOKUP(DK110,'Footnotes list'!$D$9:$E$58,2,FALSE) ) )","v":""}]
[null,null,"SEC",null,"NHAZ","Non-hazardous",{"$f":"SUM(G24,G84,G105)","v":0},null,null,null,{"$f":"IF(TRIM(J111)=\"\", \"\", IF(VLOOKUP(J111,'Footnotes list'!$D$9:$E$58,2,FALSE)=0,\"\",VLOOKUP(J111,'Footnotes list'!$D$9:$E$58,2,FALSE) ) )","v":""},{"$f":"SUM(L24,L84,L105)","v":0},null,null,null,{"$f":"IF(TRIM(O111)=\"\", \"\", IF(VLOOKUP(O111,'Footnotes list'!$D$9:$E$58,2,FALSE)=0,\"\",VLOOKUP(O111,'Footnotes list'!$D$9:$E$58,2,FALSE) ) )","v":""},{"$f":"SUM(Q24,Q84,Q105)","v":0},null,null,null,{"$f":"IF(TRIM(T111)=\"\", \"\", IF(VLOOKUP(T111,'Footnotes list'!$D$9:$E$58,2,FALSE)=0,\"\",VLOOKUP(T111,'Footnotes list'!$D$9:$E$58,2,FALSE) ) )","v":""},{"$f":"SUM(V24,V84,V105)","v":0},null,null,null,{"$f":"IF(TRIM(Y111)=\"\", \"\", IF(VLOOKUP(Y111,'Footnotes list'!$D$9:$E$58,2,FALSE)=0,\"\",VLOOKUP(Y111,'Footnotes list'!$D$9:$E$58,2,FALSE) ) )","v":""},{"$f":"SUM(AA24,AA84,AA105)","v":0},null,null,null,{"$f":"IF(TRIM(AD111)=\"\", \"\", IF(VLOOKUP(AD111,'Footnotes list'!$D$9:$E$58,2,FALSE)=0,\"\",VLOOKUP(AD111,'Footnotes list'!$D$9:$E$58,2,FALSE) ) )","v":""},{"$f":"SUM(AF24,AF84,AF105)","v":0},null,null,null,{"$f":"IF(TRIM(AI111)=\"\", \"\", IF(VLOOKUP(AI111,'Footnotes list'!$D$9:$E$58,2,FALSE)=0,\"\",VLOOKUP(AI111,'Footnotes list'!$D$9:$E$58,2,FALSE) ) )","v":""},{"$f":"SUM(AK24,AK84,AK105)","v":0},null,null,null,{"$f":"IF(TRIM(AN111)=\"\", \"\", IF(VLOOKUP(AN111,'Footnotes list'!$D$9:$E$58,2,FALSE)=0,\"\",VLOOKUP(AN111,'Footnotes list'!$D$9:$E$58,2,FALSE) ) )","v":""},{"$f":"SUM(AP24,AP84,AP105)","v":0},null,null,null,{"$f":"IF(TRIM(AS111)=\"\", \"\", IF(VLOOKUP(AS111,'Footnotes list'!$D$9:$E$58,2,FALSE)=0,\"\",VLOOKUP(AS111,'Footnotes list'!$D$9:$E$58,2,FALSE) ) )","v":""},{"$f":"SUM(AU24,AU84,AU105)","v":0},null,null,null,{"$f":"IF(TRIM(AX111)=\"\", \"\", IF(VLOOKUP(AX111,'Footnotes list'!$D$9:$E$58,2,FALSE)=0,\"\",VLOOKUP(AX111,'Footnotes list'!$D$9:$E$58,2,FALSE) ) )","v":""},{"$f":"SUM(AZ24,AZ84,AZ105)","v":0},null,null,null,{"$f":"IF(TRIM(BC111)=\"\", \"\", IF(VLOOKUP(BC111,'Footnotes list'!$D$9:$E$58,2,FALSE)=0,\"\",VLOOKUP(BC111,'Footnotes list'!$D$9:$E$58,2,FALSE) ) )","v":""},{"$f":"SUM(BE24,BE84,BE105)","v":0},null,null,null,{"$f":"IF(TRIM(BH111)=\"\", \"\", IF(VLOOKUP(BH111,'Footnotes list'!$D$9:$E$58,2,FALSE)=0,\"\",VLOOKUP(BH111,'Footnotes list'!$D$9:$E$58,2,FALSE) ) )","v":""},{"$f":"SUM(BJ24,BJ84,BJ105)","v":0},null,null,null,{"$f":"IF(TRIM(BM111)=\"\", \"\", IF(VLOOKUP(BM111,'Footnotes list'!$D$9:$E$58,2,FALSE)=0,\"\",VLOOKUP(BM111,'Footnotes list'!$D$9:$E$58,2,FALSE) ) )","v":""},{"$f":"SUM(BO24,BO84,BO105)","v":0},null,null,null,{"$f":"IF(TRIM(BR111)=\"\", \"\", IF(VLOOKUP(BR111,'Footnotes list'!$D$9:$E$58,2,FALSE)=0,\"\",VLOOKUP(BR111,'Footnotes list'!$D$9:$E$58,2,FALSE) ) )","v":""},{"$f":"SUM(BT24,BT84,BT105)","v":0},null,null,null,{"$f":"IF(TRIM(BW111)=\"\", \"\", IF(VLOOKUP(BW111,'Footnotes list'!$D$9:$E$58,2,FALSE)=0,\"\",VLOOKUP(BW111,'Footnotes list'!$D$9:$E$58,2,FALSE) ) )","v":""},{"$f":"SUM(BY24,BY84,BY105)","v":0},null,null,null,{"$f":"IF(TRIM(CB111)=\"\", \"\", IF(VLOOKUP(CB111,'Footnotes list'!$D$9:$E$58,2,FALSE)=0,\"\",VLOOKUP(CB111,'Footnotes list'!$D$9:$E$58,2,FALSE) ) )","v":""},{"$f":"SUM(CD24,CD84,CD105)","v":0},null,null,null,{"$f":"IF(TRIM(CG111)=\"\", \"\", IF(VLOOKUP(CG111,'Footnotes list'!$D$9:$E$58,2,FALSE)=0,\"\",VLOOKUP(CG111,'Footnotes list'!$D$9:$E$58,2,FALSE) ) )","v":""},{"$f":"SUM(CI24,CI84,CI105)","v":0},null,null,null,{"$f":"IF(TRIM(CL111)=\"\", \"\", IF(VLOOKUP(CL111,'Footnotes list'!$D$9:$E$58,2,FALSE)=0,\"\",VLOOKUP(CL111,'Footnotes list'!$D$9:$E$58,2,FALSE) ) )","v":""},{"$f":"SUM(CN24,CN84,CN105)","v":0},null,null,null,{"$f":"IF(TRIM(CQ111)=\"\", \"\", IF(VLOOKUP(CQ111,'Footnotes list'!$D$9:$E$58,2,FALSE)=0,\"\",VLOOKUP(CQ111,'Footnotes list'!$D$9:$E$58,2,FALSE) ) )","v":""},{"$f":"SUM(CS24,CS84,CS105)","v":0},null,null,null,{"$f":"IF(TRIM(CV111)=\"\", \"\", IF(VLOOKUP(CV111,'Footnotes list'!$D$9:$E$58,2,FALSE)=0,\"\",VLOOKUP(CV111,'Footnotes list'!$D$9:$E$58,2,FALSE) ) )","v":""},{"$f":"SUM(CX24,CX84,CX105)","v":0},null,null,null,{"$f":"IF(TRIM(DA111)=\"\", \"\", IF(VLOOKUP(DA111,'Footnotes list'!$D$9:$E$58,2,FALSE)=0,\"\",VLOOKUP(DA111,'Footnotes list'!$D$9:$E$58,2,FALSE) ) )","v":""},{"$f":"SUM(DC24,DC84,DC105)","v":0},null,null,null,{"$f":"IF(TRIM(DF111)=\"\", \"\", IF(VLOOKUP(DF111,'Footnotes list'!$D$9:$E$58,2,FALSE)=0,\"\",VLOOKUP(DF111,'Footnotes list'!$D$9:$E$58,2,FALSE) ) )","v":""},{"$f":"SUM(DH24,DH84,DH105)","v":0},null,null,null,{"$f":"IF(TRIM(DK111)=\"\", \"\", IF(VLOOKUP(DK111,'Footnotes list'!$D$9:$E$58,2,FALSE)=0,\"\",VLOOKUP(DK111,'Footnotes list'!$D$9:$E$58,2,FALSE) ) )","v":""}]
[null,null,"SEC",null,"HAZ_NHAZ","Total",0,null,null,null,{"$f":"IF(TRIM(J112)=\"\", \"\", IF(VLOOKUP(J112,'Footnotes list'!$D$9:$E$58,2,FALSE)=0,\"\",VLOOKUP(J112,'Footnotes list'!$D$9:$E$58,2,FALSE) ) )","v":""},0,null,null,null,{"$f":"IF(TRIM(O112)=\"\", \"\", IF(VLOOKUP(O112,'Footnotes list'!$D$9:$E$58,2,FALSE)=0,\"\",VLOOKUP(O112,'Footnotes list'!$D$9:$E$58,2,FALSE) ) )","v":""},0,null,null,null,{"$f":"IF(TRIM(T112)=\"\", \"\", IF(VLOOKUP(T112,'Footnotes list'!$D$9:$E$58,2,FALSE)=0,\"\",VLOOKUP(T112,'Footnotes list'!$D$9:$E$58,2,FALSE) ) )","v":""},0,null,null,null,{"$f":"IF(TRIM(Y112)=\"\", \"\", IF(VLOOKUP(Y112,'Footnotes list'!$D$9:$E$58,2,FALSE)=0,\"\",VLOOKUP(Y112,'Footnotes list'!$D$9:$E$58,2,FALSE) ) )","v":""},0,null,null,null,{"$f":"IF(TRIM(AD112)=\"\", \"\", IF(VLOOKUP(AD112,'Footnotes list'!$D$9:$E$58,2,FALSE)=0,\"\",VLOOKUP(AD112,'Footnotes list'!$D$9:$E$58,2,FALSE) ) )","v":""},0,null,null,null,{"$f":"IF(TRIM(AI112)=\"\", \"\", IF(VLOOKUP(AI112,'Footnotes list'!$D$9:$E$58,2,FALSE)=0,\"\",VLOOKUP(AI112,'Footnotes list'!$D$9:$E$58,2,FALSE) ) )","v":""},0,null,null,null,{"$f":"IF(TRIM(AN112)=\"\", \"\", IF(VLOOKUP(AN112,'Footnotes list'!$D$9:$E$58,2,FALSE)=0,\"\",VLOOKUP(AN112,'Footnotes list'!$D$9:$E$58,2,FALSE) ) )","v":""},0,null,null,null,{"$f":"IF(TRIM(AS112)=\"\", \"\", IF(VLOOKUP(AS112,'Footnotes list'!$D$9:$E$58,2,FALSE)=0,\"\",VLOOKUP(AS112,'Footnotes list'!$D$9:$E$58,2,FALSE) ) )","v":""},0,null,null,null,{"$f":"IF(TRIM(AX112)=\"\", \"\", IF(VLOOKUP(AX112,'Footnotes list'!$D$9:$E$58,2,FALSE)=0,\"\",VLOOKUP(AX112,'Footnotes list'!$D$9:$E$58,2,FALSE) ) )","v":""},0,null,null,null,{"$f":"IF(TRIM(BC112)=\"\", \"\", IF(VLOOKUP(BC112,'Footnotes list'!$D$9:$E$58,2,FALSE)=0,\"\",VLOOKUP(BC112,'Footnotes list'!$D$9:$E$58,2,FALSE) ) )","v":""},0,null,null,null,{"$f":"IF(TRIM(BH112)=\"\", \"\", IF(VLOOKUP(BH112,'Footnotes list'!$D$9:$E$58,2,FALSE)=0,\"\",VLOOKUP(BH112,'Footnotes list'!$D$9:$E$58,2,FALSE) ) )","v":""},0,null,null,null,{"$f":"IF(TRIM(BM112)=\"\", \"\", IF(VLOOKUP(BM112,'Footnotes list'!$D$9:$E$58,2,FALSE)=0,\"\",VLOOKUP(BM112,'Footnotes list'!$D$9:$E$58,2,FALSE) ) )","v":""},0,null,null,null,{"$f":"IF(TRIM(BR112)=\"\", \"\", IF(VLOOKUP(BR112,'Footnotes list'!$D$9:$E$58,2,FALSE)=0,\"\",VLOOKUP(BR112,'Footnotes list'!$D$9:$E$58,2,FALSE) ) )","v":""},0,null,null,null,{"$f":"IF(TRIM(BW112)=\"\", \"\", IF(VLOOKUP(BW112,'Footnotes list'!$D$9:$E$58,2,FALSE)=0,\"\",VLOOKUP(BW112,'Footnotes list'!$D$9:$E$58,2,FALSE) ) )","v":""},0,null,null,null,{"$f":"IF(TRIM(CB112)=\"\", \"\", IF(VLOOKUP(CB112,'Footnotes list'!$D$9:$E$58,2,FALSE)=0,\"\",VLOOKUP(CB112,'Footnotes list'!$D$9:$E$58,2,FALSE) ) )","v":""},0,null,null,null,{"$f":"IF(TRIM(CG112)=\"\", \"\", IF(VLOOKUP(CG112,'Footnotes list'!$D$9:$E$58,2,FALSE)=0,\"\",VLOOKUP(CG112,'Footnotes list'!$D$9:$E$58,2,FALSE) ) )","v":""},0,null,null,null,{"$f":"IF(TRIM(CL112)=\"\", \"\", IF(VLOOKUP(CL112,'Footnotes list'!$D$9:$E$58,2,FALSE)=0,\"\",VLOOKUP(CL112,'Footnotes list'!$D$9:$E$58,2,FALSE) ) )","v":""},0,null,null,null,{"$f":"IF(TRIM(CQ112)=\"\", \"\", IF(VLOOKUP(CQ112,'Footnotes list'!$D$9:$E$58,2,FALSE)=0,\"\",VLOOKUP(CQ112,'Footnotes list'!$D$9:$E$58,2,FALSE) ) )","v":""},0,null,null,null,{"$f":"IF(TRIM(CV112)=\"\", \"\", IF(VLOOKUP(CV112,'Footnotes list'!$D$9:$E$58,2,FALSE)=0,\"\",VLOOKUP(CV112,'Footnotes list'!$D$9:$E$58,2,FALSE) ) )","v":""},0,null,null,null,{"$f":"IF(TRIM(DA112)=\"\", \"\", IF(VLOOKUP(DA112,'Footnotes list'!$D$9:$E$58,2,FALSE)=0,\"\",VLOOKUP(DA112,'Footnotes list'!$D$9:$E$58,2,FALSE) ) )","v":""},0,null,null,null,{"$f":"IF(TRIM(DF112)=\"\", \"\", IF(VLOOKUP(DF112,'Footnotes list'!$D$9:$E$58,2,FALSE)=0,\"\",VLOOKUP(DF112,'Footnotes list'!$D$9:$E$58,2,FALSE) ) )","v":""},0,null,null,null,{"$f":"IF(TRIM(DK112)=\"\", \"\", IF(VLOOKUP(DK112,'Footnotes list'!$D$9:$E$58,2,FALSE)=0,\"\",VLOOKUP(DK112,'Footnotes list'!$D$9:$E$58,2,FALSE) ) )","v":""}]
[null,"TOT_X_MIN","TOT_X_MIN","Total Waste (excluding mineral waste)","HAZ","Hazardous ",{"$f":"SUM(G8,G11,G14,G17,G20,G23,G26,G29,G32,G35,G38,G41,G44,G47,G50,G53,G56,G59,G62,G65,G68,G71,G74,G77,G80,G83,G86,G95,G104)","v":0},null,null,null,{"$f":"IF(TRIM(J113)=\"\", \"\", IF(VLOOKUP(J113,'Footnotes list'!$D$9:$E$58,2,FALSE)=0,\"\",VLOOKUP(J113,'Footnotes list'!$D$9:$E$58,2,FALSE) ) )","v":""},{"$f":"SUM(L8,L11,L14,L17,L20,L23,L26,L29,L32,L35,L38,L41,L44,L47,L50,L53,L56,L59,L62,L65,L68,L71,L74,L77,L80,L83,L86,L95,L104)","v":0},null,null,null,{"$f":"IF(TRIM(O113)=\"\", \"\", IF(VLOOKUP(O113,'Footnotes list'!$D$9:$E$58,2,FALSE)=0,\"\",VLOOKUP(O113,'Footnotes list'!$D$9:$E$58,2,FALSE) ) )","v":""},{"$f":"SUM(Q8,Q11,Q14,Q17,Q20,Q23,Q26,Q29,Q32,Q35,Q38,Q41,Q44,Q47,Q50,Q53,Q56,Q59,Q62,Q65,Q68,Q71,Q74,Q77,Q80,Q83,Q86,Q95,Q104)","v":0},null,null,null,{"$f":"IF(TRIM(T113)=\"\", \"\", IF(VLOOKUP(T113,'Footnotes list'!$D$9:$E$58,2,FALSE)=0,\"\",VLOOKUP(T113,'Footnotes list'!$D$9:$E$58,2,FALSE) ) )","v":""},{"$f":"SUM(V8,V11,V14,V17,V20,V23,V26,V29,V32,V35,V38,V41,V44,V47,V50,V53,V56,V59,V62,V65,V68,V71,V74,V77,V80,V83,V86,V95,V104)","v":0},null,null,null,{"$f":"IF(TRIM(Y113)=\"\", \"\", IF(VLOOKUP(Y113,'Footnotes list'!$D$9:$E$58,2,FALSE)=0,\"\",VLOOKUP(Y113,'Footnotes list'!$D$9:$E$58,2,FALSE) ) )","v":""},{"$f":"SUM(AA8,AA11,AA14,AA17,AA20,AA23,AA26,AA29,AA32,AA35,AA38,AA41,AA44,AA47,AA50,AA53,AA56,AA59,AA62,AA65,AA68,AA71,AA74,AA77,AA80,AA83,AA86,AA95,AA104)","v":0},null,null,null,{"$f":"IF(TRIM(AD113)=\"\", \"\", IF(VLOOKUP(AD113,'Footnotes list'!$D$9:$E$58,2,FALSE)=0,\"\",VLOOKUP(AD113,'Footnotes list'!$D$9:$E$58,2,FALSE) ) )","v":""},{"$f":"SUM(AF8,AF11,AF14,AF17,AF20,AF23,AF26,AF29,AF32,AF35,AF38,AF41,AF44,AF47,AF50,AF53,AF56,AF59,AF62,AF65,AF68,AF71,AF74,AF77,AF80,AF83,AF86,AF95,AF104)","v":0},null,null,null,{"$f":"IF(TRIM(AI113)=\"\", \"\", IF(VLOOKUP(AI113,'Footnotes list'!$D$9:$E$58,2,FALSE)=0,\"\",VLOOKUP(AI113,'Footnotes list'!$D$9:$E$58,2,FALSE) ) )","v":""},{"$f":"SUM(AK8,AK11,AK14,AK17,AK20,AK23,AK26,AK29,AK32,AK35,AK38,AK41,AK44,AK47,AK50,AK53,AK56,AK59,AK62,AK65,AK68,AK71,AK74,AK77,AK80,AK83,AK86,AK95,AK104)","v":0},null,null,null,{"$f":"IF(TRIM(AN113)=\"\", \"\", IF(VLOOKUP(AN113,'Footnotes list'!$D$9:$E$58,2,FALSE)=0,\"\",VLOOKUP(AN113,'Footnotes list'!$D$9:$E$58,2,FALSE) ) )","v":""},{"$f":"SUM(AP8,AP11,AP14,AP17,AP20,AP23,AP26,AP29,AP32,AP35,AP38,AP41,AP44,AP47,AP50,AP53,AP56,AP59,AP62,AP65,AP68,AP71,AP74,AP77,AP80,AP83,AP86,AP95,AP104)","v":0},null,null,null,{"$f":"IF(TRIM(AS113)=\"\", \"\", IF(VLOOKUP(AS113,'Footnotes list'!$D$9:$E$58,2,FALSE)=0,\"\",VLOOKUP(AS113,'Footnotes list'!$D$9:$E$58,2,FALSE) ) )","v":""},{"$f":"SUM(AU8,AU11,AU14,AU17,AU20,AU23,AU26,AU29,AU32,AU35,AU38,AU41,AU44,AU47,AU50,AU53,AU56,AU59,AU62,AU65,AU68,AU71,AU74,AU77,AU80,AU83,AU86,AU95,AU104)","v":0},null,null,null,{"$f":"IF(TRIM(AX113)=\"\", \"\", IF(VLOOKUP(AX113,'Footnotes list'!$D$9:$E$58,2,FALSE)=0,\"\",VLOOKUP(AX113,'Footnotes list'!$D$9:$E$58,2,FALSE) ) )","v":""},{"$f":"SUM(AZ8,AZ11,AZ14,AZ17,AZ20,AZ23,AZ26,AZ29,AZ32,AZ35,AZ38,AZ41,AZ44,AZ47,AZ50,AZ53,AZ56,AZ59,AZ62,AZ65,AZ68,AZ71,AZ74,AZ77,AZ80,AZ83,AZ86,AZ95,AZ104)","v":0},null,null,null,{"$f":"IF(TRIM(BC113)=\"\", \"\", IF(VLOOKUP(BC113,'Footnotes list'!$D$9:$E$58,2,FALSE)=0,\"\",VLOOKUP(BC113,'Footnotes list'!$D$9:$E$58,2,FALSE) ) )","v":""},{"$f":"SUM(BE8,BE11,BE14,BE17,BE20,BE23,BE26,BE29,BE32,BE35,BE38,BE41,BE44,BE47,BE50,BE53,BE56,BE59,BE62,BE65,BE68,BE71,BE74,BE77,BE80,BE83,BE86,BE95,BE104)","v":0},null,null,null,{"$f":"IF(TRIM(BH113)=\"\", \"\", IF(VLOOKUP(BH113,'Footnotes list'!$D$9:$E$58,2,FALSE)=0,\"\",VLOOKUP(BH113,'Footnotes list'!$D$9:$E$58,2,FALSE) ) )","v":""},{"$f":"SUM(BJ8,BJ11,BJ14,BJ17,BJ20,BJ23,BJ26,BJ29,BJ32,BJ35,BJ38,BJ41,BJ44,BJ47,BJ50,BJ53,BJ56,BJ59,BJ62,BJ65,BJ68,BJ71,BJ74,BJ77,BJ80,BJ83,BJ86,BJ95,BJ104)","v":0},null,null,null,{"$f":"IF(TRIM(BM113)=\"\", \"\", IF(VLOOKUP(BM113,'Footnotes list'!$D$9:$E$58,2,FALSE)=0,\"\",VLOOKUP(BM113,'Footnotes list'!$D$9:$E$58,2,FALSE) ) )","v":""},{"$f":"SUM(BO8,BO11,BO14,BO17,BO20,BO23,BO26,BO29,BO32,BO35,BO38,BO41,BO44,BO47,BO50,BO53,BO56,BO59,BO62,BO65,BO68,BO71,BO74,BO77,BO80,BO83,BO86,BO95,BO104)","v":0},null,null,null,{"$f":"IF(TRIM(BR113)=\"\", \"\", IF(VLOOKUP(BR113,'Footnotes list'!$D$9:$E$58,2,FALSE)=0,\"\",VLOOKUP(BR113,'Footnotes list'!$D$9:$E$58,2,FALSE) ) )","v":""},{"$f":"SUM(BT8,BT11,BT14,BT17,BT20,BT23,BT26,BT29,BT32,BT35,BT38,BT41,BT44,BT47,BT50,BT53,BT56,BT59,BT62,BT65,BT68,BT71,BT74,BT77,BT80,BT83,BT86,BT95,BT104)","v":0},null,null,null,{"$f":"IF(TRIM(BW113)=\"\", \"\", IF(VLOOKUP(BW113,'Footnotes list'!$D$9:$E$58,2,FALSE)=0,\"\",VLOOKUP(BW113,'Footnotes list'!$D$9:$E$58,2,FALSE) ) )","v":""},{"$f":"SUM(BY8,BY11,BY14,BY17,BY20,BY23,BY26,BY29,BY32,BY35,BY38,BY41,BY44,BY47,BY50,BY53,BY56,BY59,BY62,BY65,BY68,BY71,BY74,BY77,BY80,BY83,BY86,BY95,BY104)","v":0},null,null,null,{"$f":"IF(TRIM(CB113)=\"\", \"\", IF(VLOOKUP(CB113,'Footnotes list'!$D$9:$E$58,2,FALSE)=0,\"\",VLOOKUP(CB113,'Footnotes list'!$D$9:$E$58,2,FALSE) ) )","v":""},{"$f":"SUM(CD8,CD11,CD14,CD17,CD20,CD23,CD26,CD29,CD32,CD35,CD38,CD41,CD44,CD47,CD50,CD53,CD56,CD59,CD62,CD65,CD68,CD71,CD74,CD77,CD80,CD83,CD86,CD95,CD104)","v":0},null,null,null,{"$f":"IF(TRIM(CG113)=\"\", \"\", IF(VLOOKUP(CG113,'Footnotes list'!$D$9:$E$58,2,FALSE)=0,\"\",VLOOKUP(CG113,'Footnotes list'!$D$9:$E$58,2,FALSE) ) )","v":""},{"$f":"SUM(CI8,CI11,CI14,CI17,CI20,CI23,CI26,CI29,CI32,CI35,CI38,CI41,CI44,CI47,CI50,CI53,CI56,CI59,CI62,CI65,CI68,CI71,CI74,CI77,CI80,CI83,CI86,CI95,CI104)","v":0},null,null,null,{"$f":"IF(TRIM(CL113)=\"\", \"\", IF(VLOOKUP(CL113,'Footnotes list'!$D$9:$E$58,2,FALSE)=0,\"\",VLOOKUP(CL113,'Footnotes list'!$D$9:$E$58,2,FALSE) ) )","v":""},{"$f":"SUM(CN8,CN11,CN14,CN17,CN20,CN23,CN26,CN29,CN32,CN35,CN38,CN41,CN44,CN47,CN50,CN53,CN56,CN59,CN62,CN65,CN68,CN71,CN74,CN77,CN80,CN83,CN86,CN95,CN104)","v":0},null,null,null,{"$f":"IF(TRIM(CQ113)=\"\", \"\", IF(VLOOKUP(CQ113,'Footnotes list'!$D$9:$E$58,2,FALSE)=0,\"\",VLOOKUP(CQ113,'Footnotes list'!$D$9:$E$58,2,FALSE) ) )","v":""},{"$f":"SUM(CS8,CS11,CS14,CS17,CS20,CS23,CS26,CS29,CS32,CS35,CS38,CS41,CS44,CS47,CS50,CS53,CS56,CS59,CS62,CS65,CS68,CS71,CS74,CS77,CS80,CS83,CS86,CS95,CS104)","v":0},null,null,null,{"$f":"IF(TRIM(CV113)=\"\", \"\", IF(VLOOKUP(CV113,'Footnotes list'!$D$9:$E$58,2,FALSE)=0,\"\",VLOOKUP(CV113,'Footnotes list'!$D$9:$E$58,2,FALSE) ) )","v":""},{"$f":"SUM(CX8,CX11,CX14,CX17,CX20,CX23,CX26,CX29,CX32,CX35,CX38,CX41,CX44,CX47,CX50,CX53,CX56,CX59,CX62,CX65,CX68,CX71,CX74,CX77,CX80,CX83,CX86,CX95,CX104)","v":0},null,null,null,{"$f":"IF(TRIM(DA113)=\"\", \"\", IF(VLOOKUP(DA113,'Footnotes list'!$D$9:$E$58,2,FALSE)=0,\"\",VLOOKUP(DA113,'Footnotes list'!$D$9:$E$58,2,FALSE) ) )","v":""},{"$f":"SUM(DC8,DC11,DC14,DC17,DC20,DC23,DC26,DC29,DC32,DC35,DC38,DC41,DC44,DC47,DC50,DC53,DC56,DC59,DC62,DC65,DC68,DC71,DC74,DC77,DC80,DC83,DC86,DC95,DC104)","v":0},null,null,null,{"$f":"IF(TRIM(DF113)=\"\", \"\", IF(VLOOKUP(DF113,'Footnotes list'!$D$9:$E$58,2,FALSE)=0,\"\",VLOOKUP(DF113,'Footnotes list'!$D$9:$E$58,2,FALSE) ) )","v":""},{"$f":"SUM(DH8,DH11,DH14,DH17,DH20,DH23,DH26,DH29,DH32,DH35,DH38,DH41,DH44,DH47,DH50,DH53,DH56,DH59,DH62,DH65,DH68,DH71,DH74,DH77,DH80,DH83,DH86,DH95,DH104)","v":0},null,null,null,{"$f":"IF(TRIM(DK113)=\"\", \"\", IF(VLOOKUP(DK113,'Footnotes list'!$D$9:$E$58,2,FALSE)=0,\"\",VLOOKUP(DK113,'Footnotes list'!$D$9:$E$58,2,FALSE) ) )","v":""}]
[null,null,"TOT_X_MIN",null,"NHAZ","Non-hazardous",{"$f":"SUM(G9,G12,G15,G18,G21,G24,G27,G30,G33,G36,G39,G42,G45,G48,G51,G54,G57,G60,G63,G66,G69,G72,G75,G78,G81,G84,G87,G96,G105)","v":0},null,null,null,{"$f":"IF(TRIM(J114)=\"\", \"\", IF(VLOOKUP(J114,'Footnotes list'!$D$9:$E$58,2,FALSE)=0,\"\",VLOOKUP(J114,'Footnotes list'!$D$9:$E$58,2,FALSE) ) )","v":""},{"$f":"SUM(L9,L12,L15,L18,L21,L24,L27,L30,L33,L36,L39,L42,L45,L48,L51,L54,L57,L60,L63,L66,L69,L72,L75,L78,L81,L84,L87,L96,L105)","v":0},null,null,null,{"$f":"IF(TRIM(O114)=\"\", \"\", IF(VLOOKUP(O114,'Footnotes list'!$D$9:$E$58,2,FALSE)=0,\"\",VLOOKUP(O114,'Footnotes list'!$D$9:$E$58,2,FALSE) ) )","v":""},{"$f":"SUM(Q9,Q12,Q15,Q18,Q21,Q24,Q27,Q30,Q33,Q36,Q39,Q42,Q45,Q48,Q51,Q54,Q57,Q60,Q63,Q66,Q69,Q72,Q75,Q78,Q81,Q84,Q87,Q96,Q105)","v":0},null,null,null,{"$f":"IF(TRIM(T114)=\"\", \"\", IF(VLOOKUP(T114,'Footnotes list'!$D$9:$E$58,2,FALSE)=0,\"\",VLOOKUP(T114,'Footnotes list'!$D$9:$E$58,2,FALSE) ) )","v":""},{"$f":"SUM(V9,V12,V15,V18,V21,V24,V27,V30,V33,V36,V39,V42,V45,V48,V51,V54,V57,V60,V63,V66,V69,V72,V75,V78,V81,V84,V87,V96,V105)","v":0},null,null,null,{"$f":"IF(TRIM(Y114)=\"\", \"\", IF(VLOOKUP(Y114,'Footnotes list'!$D$9:$E$58,2,FALSE)=0,\"\",VLOOKUP(Y114,'Footnotes list'!$D$9:$E$58,2,FALSE) ) )","v":""},{"$f":"SUM(AA9,AA12,AA15,AA18,AA21,AA24,AA27,AA30,AA33,AA36,AA39,AA42,AA45,AA48,AA51,AA54,AA57,AA60,AA63,AA66,AA69,AA72,AA75,AA78,AA81,AA84,AA87,AA96,AA105)","v":0},null,null,null,{"$f":"IF(TRIM(AD114)=\"\", \"\", IF(VLOOKUP(AD114,'Footnotes list'!$D$9:$E$58,2,FALSE)=0,\"\",VLOOKUP(AD114,'Footnotes list'!$D$9:$E$58,2,FALSE) ) )","v":""},{"$f":"SUM(AF9,AF12,AF15,AF18,AF21,AF24,AF27,AF30,AF33,AF36,AF39,AF42,AF45,AF48,AF51,AF54,AF57,AF60,AF63,AF66,AF69,AF72,AF75,AF78,AF81,AF84,AF87,AF96,AF105)","v":0},null,null,null,{"$f":"IF(TRIM(AI114)=\"\", \"\", IF(VLOOKUP(AI114,'Footnotes list'!$D$9:$E$58,2,FALSE)=0,\"\",VLOOKUP(AI114,'Footnotes list'!$D$9:$E$58,2,FALSE) ) )","v":""},{"$f":"SUM(AK9,AK12,AK15,AK18,AK21,AK24,AK27,AK30,AK33,AK36,AK39,AK42,AK45,AK48,AK51,AK54,AK57,AK60,AK63,AK66,AK69,AK72,AK75,AK78,AK81,AK84,AK87,AK96,AK105)","v":0},null,null,null,{"$f":"IF(TRIM(AN114)=\"\", \"\", IF(VLOOKUP(AN114,'Footnotes list'!$D$9:$E$58,2,FALSE)=0,\"\",VLOOKUP(AN114,'Footnotes list'!$D$9:$E$58,2,FALSE) ) )","v":""},{"$f":"SUM(AP9,AP12,AP15,AP18,AP21,AP24,AP27,AP30,AP33,AP36,AP39,AP42,AP45,AP48,AP51,AP54,AP57,AP60,AP63,AP66,AP69,AP72,AP75,AP78,AP81,AP84,AP87,AP96,AP105)","v":0},null,null,null,{"$f":"IF(TRIM(AS114)=\"\", \"\", IF(VLOOKUP(AS114,'Footnotes list'!$D$9:$E$58,2,FALSE)=0,\"\",VLOOKUP(AS114,'Footnotes list'!$D$9:$E$58,2,FALSE) ) )","v":""},{"$f":"SUM(AU9,AU12,AU15,AU18,AU21,AU24,AU27,AU30,AU33,AU36,AU39,AU42,AU45,AU48,AU51,AU54,AU57,AU60,AU63,AU66,AU69,AU72,AU75,AU78,AU81,AU84,AU87,AU96,AU105)","v":0},null,null,null,{"$f":"IF(TRIM(AX114)=\"\", \"\", IF(VLOOKUP(AX114,'Footnotes list'!$D$9:$E$58,2,FALSE)=0,\"\",VLOOKUP(AX114,'Footnotes list'!$D$9:$E$58,2,FALSE) ) )","v":""},{"$f":"SUM(AZ9,AZ12,AZ15,AZ18,AZ21,AZ24,AZ27,AZ30,AZ33,AZ36,AZ39,AZ42,AZ45,AZ48,AZ51,AZ54,AZ57,AZ60,AZ63,AZ66,AZ69,AZ72,AZ75,AZ78,AZ81,AZ84,AZ87,AZ96,AZ105)","v":0},null,null,null,{"$f":"IF(TRIM(BC114)=\"\", \"\", IF(VLOOKUP(BC114,'Footnotes list'!$D$9:$E$58,2,FALSE)=0,\"\",VLOOKUP(BC114,'Footnotes list'!$D$9:$E$58,2,FALSE) ) )","v":""},{"$f":"SUM(BE9,BE12,BE15,BE18,BE21,BE24,BE27,BE30,BE33,BE36,BE39,BE42,BE45,BE48,BE51,BE54,BE57,BE60,BE63,BE66,BE69,BE72,BE75,BE78,BE81,BE84,BE87,BE96,BE105)","v":0},null,null,null,{"$f":"IF(TRIM(BH114)=\"\", \"\", IF(VLOOKUP(BH114,'Footnotes list'!$D$9:$E$58,2,FALSE)=0,\"\",VLOOKUP(BH114,'Footnotes list'!$D$9:$E$58,2,FALSE) ) )","v":""},{"$f":"SUM(BJ9,BJ12,BJ15,BJ18,BJ21,BJ24,BJ27,BJ30,BJ33,BJ36,BJ39,BJ42,BJ45,BJ48,BJ51,BJ54,BJ57,BJ60,BJ63,BJ66,BJ69,BJ72,BJ75,BJ78,BJ81,BJ84,BJ87,BJ96,BJ105)","v":0},null,null,null,{"$f":"IF(TRIM(BM114)=\"\", \"\", IF(VLOOKUP(BM114,'Footnotes list'!$D$9:$E$58,2,FALSE)=0,\"\",VLOOKUP(BM114,'Footnotes list'!$D$9:$E$58,2,FALSE) ) )","v":""},{"$f":"SUM(BO9,BO12,BO15,BO18,BO21,BO24,BO27,BO30,BO33,BO36,BO39,BO42,BO45,BO48,BO51,BO54,BO57,BO60,BO63,BO66,BO69,BO72,BO75,BO78,BO81,BO84,BO87,BO96,BO105)","v":0},null,null,null,{"$f":"IF(TRIM(BR114)=\"\", \"\", IF(VLOOKUP(BR114,'Footnotes list'!$D$9:$E$58,2,FALSE)=0,\"\",VLOOKUP(BR114,'Footnotes list'!$D$9:$E$58,2,FALSE) ) )","v":""},{"$f":"SUM(BT9,BT12,BT15,BT18,BT21,BT24,BT27,BT30,BT33,BT36,BT39,BT42,BT45,BT48,BT51,BT54,BT57,BT60,BT63,BT66,BT69,BT72,BT75,BT78,BT81,BT84,BT87,BT96,BT105)","v":0},null,null,null,{"$f":"IF(TRIM(BW114)=\"\", \"\", IF(VLOOKUP(BW114,'Footnotes list'!$D$9:$E$58,2,FALSE)=0,\"\",VLOOKUP(BW114,'Footnotes list'!$D$9:$E$58,2,FALSE) ) )","v":""},{"$f":"SUM(BY9,BY12,BY15,BY18,BY21,BY24,BY27,BY30,BY33,BY36,BY39,BY42,BY45,BY48,BY51,BY54,BY57,BY60,BY63,BY66,BY69,BY72,BY75,BY78,BY81,BY84,BY87,BY96,BY105)","v":0},null,null,null,{"$f":"IF(TRIM(CB114)=\"\", \"\", IF(VLOOKUP(CB114,'Footnotes list'!$D$9:$E$58,2,FALSE)=0,\"\",VLOOKUP(CB114,'Footnotes list'!$D$9:$E$58,2,FALSE) ) )","v":""},{"$f":"SUM(CD9,CD12,CD15,CD18,CD21,CD24,CD27,CD30,CD33,CD36,CD39,CD42,CD45,CD48,CD51,CD54,CD57,CD60,CD63,CD66,CD69,CD72,CD75,CD78,CD81,CD84,CD87,CD96,CD105)","v":0},null,null,null,{"$f":"IF(TRIM(CG114)=\"\", \"\", IF(VLOOKUP(CG114,'Footnotes list'!$D$9:$E$58,2,FALSE)=0,\"\",VLOOKUP(CG114,'Footnotes list'!$D$9:$E$58,2,FALSE) ) )","v":""},{"$f":"SUM(CI9,CI12,CI15,CI18,CI21,CI24,CI27,CI30,CI33,CI36,CI39,CI42,CI45,CI48,CI51,CI54,CI57,CI60,CI63,CI66,CI69,CI72,CI75,CI78,CI81,CI84,CI87,CI96,CI105)","v":0},null,null,null,{"$f":"IF(TRIM(CL114)=\"\", \"\", IF(VLOOKUP(CL114,'Footnotes list'!$D$9:$E$58,2,FALSE)=0,\"\",VLOOKUP(CL114,'Footnotes list'!$D$9:$E$58,2,FALSE) ) )","v":""},{"$f":"SUM(CN9,CN12,CN15,CN18,CN21,CN24,CN27,CN30,CN33,CN36,CN39,CN42,CN45,CN48,CN51,CN54,CN57,CN60,CN63,CN66,CN69,CN72,CN75,CN78,CN81,CN84,CN87,CN96,CN105)","v":0},null,null,null,{"$f":"IF(TRIM(CQ114)=\"\", \"\", IF(VLOOKUP(CQ114,'Footnotes list'!$D$9:$E$58,2,FALSE)=0,\"\",VLOOKUP(CQ114,'Footnotes list'!$D$9:$E$58,2,FALSE) ) )","v":""},{"$f":"SUM(CS9,CS12,CS15,CS18,CS21,CS24,CS27,CS30,CS33,CS36,CS39,CS42,CS45,CS48,CS51,CS54,CS57,CS60,CS63,CS66,CS69,CS72,CS75,CS78,CS81,CS84,CS87,CS96,CS105)","v":0},null,null,null,{"$f":"IF(TRIM(CV114)=\"\", \"\", IF(VLOOKUP(CV114,'Footnotes list'!$D$9:$E$58,2,FALSE)=0,\"\",VLOOKUP(CV114,'Footnotes list'!$D$9:$E$58,2,FALSE) ) )","v":""},{"$f":"SUM(CX9,CX12,CX15,CX18,CX21,CX24,CX27,CX30,CX33,CX36,CX39,CX42,CX45,CX48,CX51,CX54,CX57,CX60,CX63,CX66,CX69,CX72,CX75,CX78,CX81,CX84,CX87,CX96,CX105)","v":0},null,null,null,{"$f":"IF(TRIM(DA114)=\"\", \"\", IF(VLOOKUP(DA114,'Footnotes list'!$D$9:$E$58,2,FALSE)=0,\"\",VLOOKUP(DA114,'Footnotes list'!$D$9:$E$58,2,FALSE) ) )","v":""},{"$f":"SUM(DC9,DC12,DC15,DC18,DC21,DC24,DC27,DC30,DC33,DC36,DC39,DC42,DC45,DC48,DC51,DC54,DC57,DC60,DC63,DC66,DC69,DC72,DC75,DC78,DC81,DC84,DC87,DC96,DC105)","v":0},null,null,null,{"$f":"IF(TRIM(DF114)=\"\", \"\", IF(VLOOKUP(DF114,'Footnotes list'!$D$9:$E$58,2,FALSE)=0,\"\",VLOOKUP(DF114,'Footnotes list'!$D$9:$E$58,2,FALSE) ) )","v":""},{"$f":"SUM(DH9,DH12,DH15,DH18,DH21,DH24,DH27,DH30,DH33,DH36,DH39,DH42,DH45,DH48,DH51,DH54,DH57,DH60,DH63,DH66,DH69,DH72,DH75,DH78,DH81,DH84,DH87,DH96,DH105)","v":0},null,null,null,{"$f":"IF(TRIM(DK114)=\"\", \"\", IF(VLOOKUP(DK114,'Footnotes list'!$D$9:$E$58,2,FALSE)=0,\"\",VLOOKUP(DK114,'Footnotes list'!$D$9:$E$58,2,FALSE) ) )","v":""}]
[null,null,"TOT_X_MIN",null,"HAZ_NHAZ","Total",0,null,null,null,{"$f":"IF(TRIM(J115)=\"\", \"\", IF(VLOOKUP(J115,'Footnotes list'!$D$9:$E$58,2,FALSE)=0,\"\",VLOOKUP(J115,'Footnotes list'!$D$9:$E$58,2,FALSE) ) )","v":""},0,null,null,null,{"$f":"IF(TRIM(O115)=\"\", \"\", IF(VLOOKUP(O115,'Footnotes list'!$D$9:$E$58,2,FALSE)=0,\"\",VLOOKUP(O115,'Footnotes list'!$D$9:$E$58,2,FALSE) ) )","v":""},0,null,null,null,{"$f":"IF(TRIM(T115)=\"\", \"\", IF(VLOOKUP(T115,'Footnotes list'!$D$9:$E$58,2,FALSE)=0,\"\",VLOOKUP(T115,'Footnotes list'!$D$9:$E$58,2,FALSE) ) )","v":""},0,null,null,null,{"$f":"IF(TRIM(Y115)=\"\", \"\", IF(VLOOKUP(Y115,'Footnotes list'!$D$9:$E$58,2,FALSE)=0,\"\",VLOOKUP(Y115,'Footnotes list'!$D$9:$E$58,2,FALSE) ) )","v":""},0,null,null,null,{"$f":"IF(TRIM(AD115)=\"\", \"\", IF(VLOOKUP(AD115,'Footnotes list'!$D$9:$E$58,2,FALSE)=0,\"\",VLOOKUP(AD115,'Footnotes list'!$D$9:$E$58,2,FALSE) ) )","v":""},0,null,null,null,{"$f":"IF(TRIM(AI115)=\"\", \"\", IF(VLOOKUP(AI115,'Footnotes list'!$D$9:$E$58,2,FALSE)=0,\"\",VLOOKUP(AI115,'Footnotes list'!$D$9:$E$58,2,FALSE) ) )","v":""},0,null,null,null,{"$f":"IF(TRIM(AN115)=\"\", \"\", IF(VLOOKUP(AN115,'Footnotes list'!$D$9:$E$58,2,FALSE)=0,\"\",VLOOKUP(AN115,'Footnotes list'!$D$9:$E$58,2,FALSE) ) )","v":""},0,null,null,null,{"$f":"IF(TRIM(AS115)=\"\", \"\", IF(VLOOKUP(AS115,'Footnotes list'!$D$9:$E$58,2,FALSE)=0,\"\",VLOOKUP(AS115,'Footnotes list'!$D$9:$E$58,2,FALSE) ) )","v":""},0,null,null,null,{"$f":"IF(TRIM(AX115)=\"\", \"\", IF(VLOOKUP(AX115,'Footnotes list'!$D$9:$E$58,2,FALSE)=0,\"\",VLOOKUP(AX115,'Footnotes list'!$D$9:$E$58,2,FALSE) ) )","v":""},0,null,null,null,{"$f":"IF(TRIM(BC115)=\"\", \"\", IF(VLOOKUP(BC115,'Footnotes list'!$D$9:$E$58,2,FALSE)=0,\"\",VLOOKUP(BC115,'Footnotes list'!$D$9:$E$58,2,FALSE) ) )","v":""},0,null,null,null,{"$f":"IF(TRIM(BH115)=\"\", \"\", IF(VLOOKUP(BH115,'Footnotes list'!$D$9:$E$58,2,FALSE)=0,\"\",VLOOKUP(BH115,'Footnotes list'!$D$9:$E$58,2,FALSE) ) )","v":""},0,null,null,null,{"$f":"IF(TRIM(BM115)=\"\", \"\", IF(VLOOKUP(BM115,'Footnotes list'!$D$9:$E$58,2,FALSE)=0,\"\",VLOOKUP(BM115,'Footnotes list'!$D$9:$E$58,2,FALSE) ) )","v":""},0,null,null,null,{"$f":"IF(TRIM(BR115)=\"\", \"\", IF(VLOOKUP(BR115,'Footnotes list'!$D$9:$E$58,2,FALSE)=0,\"\",VLOOKUP(BR115,'Footnotes list'!$D$9:$E$58,2,FALSE) ) )","v":""},0,null,null,null,{"$f":"IF(TRIM(BW115)=\"\", \"\", IF(VLOOKUP(BW115,'Footnotes list'!$D$9:$E$58,2,FALSE)=0,\"\",VLOOKUP(BW115,'Footnotes list'!$D$9:$E$58,2,FALSE) ) )","v":""},0,null,null,null,{"$f":"IF(TRIM(CB115)=\"\", \"\", IF(VLOOKUP(CB115,'Footnotes list'!$D$9:$E$58,2,FALSE)=0,\"\",VLOOKUP(CB115,'Footnotes list'!$D$9:$E$58,2,FALSE) ) )","v":""},0,null,null,null,{"$f":"IF(TRIM(CG115)=\"\", \"\", IF(VLOOKUP(CG115,'Footnotes list'!$D$9:$E$58,2,FALSE)=0,\"\",VLOOKUP(CG115,'Footnotes list'!$D$9:$E$58,2,FALSE) ) )","v":""},0,null,null,null,{"$f":"IF(TRIM(CL115)=\"\", \"\", IF(VLOOKUP(CL115,'Footnotes list'!$D$9:$E$58,2,FALSE)=0,\"\",VLOOKUP(CL115,'Footnotes list'!$D$9:$E$58,2,FALSE) ) )","v":""},0,null,null,null,{"$f":"IF(TRIM(CQ115)=\"\", \"\", IF(VLOOKUP(CQ115,'Footnotes list'!$D$9:$E$58,2,FALSE)=0,\"\",VLOOKUP(CQ115,'Footnotes list'!$D$9:$E$58,2,FALSE) ) )","v":""},0,null,null,null,{"$f":"IF(TRIM(CV115)=\"\", \"\", IF(VLOOKUP(CV115,'Footnotes list'!$D$9:$E$58,2,FALSE)=0,\"\",VLOOKUP(CV115,'Footnotes list'!$D$9:$E$58,2,FALSE) ) )","v":""},0,null,null,null,{"$f":"IF(TRIM(DA115)=\"\", \"\", IF(VLOOKUP(DA115,'Footnotes list'!$D$9:$E$58,2,FALSE)=0,\"\",VLOOKUP(DA115,'Footnotes list'!$D$9:$E$58,2,FALSE) ) )","v":""},0,null,null,null,{"$f":"IF(TRIM(DF115)=\"\", \"\", IF(VLOOKUP(DF115,'Footnotes list'!$D$9:$E$58,2,FALSE)=0,\"\",VLOOKUP(DF115,'Footnotes list'!$D$9:$E$58,2,FALSE) ) )","v":""},0,null,null,null,{"$f":"IF(TRIM(DK115)=\"\", \"\", IF(VLOOKUP(DK115,'Footnotes list'!$D$9:$E$58,2,FALSE)=0,\"\",VLOOKUP(DK115,'Footnotes list'!$D$9:$E$58,2,FALSE) ) )","v":""}]
[null,"TOTAL","TOTAL","Total Waste ","HAZ","Hazardous ",{"$f":"SUM(G8,G11,G14,G17,G20,G23,G26,G29,G32,G35,G38,G41,G44,G47,G50,G53,G56,G59,G62,G65,G68,G71,G74,G77,G80,G83,G86,G89,G92,G95,G98,G101,G104)","v":0},null,null,null,{"$f":"IF(TRIM(J116)=\"\", \"\", IF(VLOOKUP(J116,'Footnotes list'!$D$9:$E$58,2,FALSE)=0,\"\",VLOOKUP(J116,'Footnotes list'!$D$9:$E$58,2,FALSE) ) )","v":""},{"$f":"SUM(L8,L11,L14,L17,L20,L23,L26,L29,L32,L35,L38,L41,L44,L47,L50,L53,L56,L59,L62,L65,L68,L71,L74,L77,L80,L83,L86,L89,L92,L95,L98,L101,L104)","v":0},null,null,null,{"$f":"IF(TRIM(O116)=\"\", \"\", IF(VLOOKUP(O116,'Footnotes list'!$D$9:$E$58,2,FALSE)=0,\"\",VLOOKUP(O116,'Footnotes list'!$D$9:$E$58,2,FALSE) ) )","v":""},{"$f":"SUM(Q8,Q11,Q14,Q17,Q20,Q23,Q26,Q29,Q32,Q35,Q38,Q41,Q44,Q47,Q50,Q53,Q56,Q59,Q62,Q65,Q68,Q71,Q74,Q77,Q80,Q83,Q86,Q89,Q92,Q95,Q98,Q101,Q104)","v":0},null,null,null,{"$f":"IF(TRIM(T116)=\"\", \"\", IF(VLOOKUP(T116,'Footnotes list'!$D$9:$E$58,2,FALSE)=0,\"\",VLOOKUP(T116,'Footnotes list'!$D$9:$E$58,2,FALSE) ) )","v":""},{"$f":"SUM(V8,V11,V14,V17,V20,V23,V26,V29,V32,V35,V38,V41,V44,V47,V50,V53,V56,V59,V62,V65,V68,V71,V74,V77,V80,V83,V86,V89,V92,V95,V98,V101,V104)","v":0},null,null,null,{"$f":"IF(TRIM(Y116)=\"\", \"\", IF(VLOOKUP(Y116,'Footnotes list'!$D$9:$E$58,2,FALSE)=0,\"\",VLOOKUP(Y116,'Footnotes list'!$D$9:$E$58,2,FALSE) ) )","v":""},{"$f":"SUM(AA8,AA11,AA14,AA17,AA20,AA23,AA26,AA29,AA32,AA35,AA38,AA41,AA44,AA47,AA50,AA53,AA56,AA59,AA62,AA65,AA68,AA71,AA74,AA77,AA80,AA83,AA86,AA89,AA92,AA95,AA98,AA101,AA104)","v":0},null,null,null,{"$f":"IF(TRIM(AD116)=\"\", \"\", IF(VLOOKUP(AD116,'Footnotes list'!$D$9:$E$58,2,FALSE)=0,\"\",VLOOKUP(AD116,'Footnotes list'!$D$9:$E$58,2,FALSE) ) )","v":""},{"$f":"SUM(AF8,AF11,AF14,AF17,AF20,AF23,AF26,AF29,AF32,AF35,AF38,AF41,AF44,AF47,AF50,AF53,AF56,AF59,AF62,AF65,AF68,AF71,AF74,AF77,AF80,AF83,AF86,AF89,AF92,AF95,AF98,AF101,AF104)","v":0},null,null,null,{"$f":"IF(TRIM(AI116)=\"\", \"\", IF(VLOOKUP(AI116,'Footnotes list'!$D$9:$E$58,2,FALSE)=0,\"\",VLOOKUP(AI116,'Footnotes list'!$D$9:$E$58,2,FALSE) ) )","v":""},{"$f":"SUM(AK8,AK11,AK14,AK17,AK20,AK23,AK26,AK29,AK32,AK35,AK38,AK41,AK44,AK47,AK50,AK53,AK56,AK59,AK62,AK65,AK68,AK71,AK74,AK77,AK80,AK83,AK86,AK89,AK92,AK95,AK98,AK101,AK104)","v":0},null,null,null,{"$f":"IF(TRIM(AN116)=\"\", \"\", IF(VLOOKUP(AN116,'Footnotes list'!$D$9:$E$58,2,FALSE)=0,\"\",VLOOKUP(AN116,'Footnotes list'!$D$9:$E$58,2,FALSE) ) )","v":""},{"$f":"SUM(AP8,AP11,AP14,AP17,AP20,AP23,AP26,AP29,AP32,AP35,AP38,AP41,AP44,AP47,AP50,AP53,AP56,AP59,AP62,AP65,AP68,AP71,AP74,AP77,AP80,AP83,AP86,AP89,AP92,AP95,AP98,AP101,AP104)","v":0},null,null,null,{"$f":"IF(TRIM(AS116)=\"\", \"\", IF(VLOOKUP(AS116,'Footnotes list'!$D$9:$E$58,2,FALSE)=0,\"\",VLOOKUP(AS116,'Footnotes list'!$D$9:$E$58,2,FALSE) ) )","v":""},{"$f":"SUM(AU8,AU11,AU14,AU17,AU20,AU23,AU26,AU29,AU32,AU35,AU38,AU41,AU44,AU47,AU50,AU53,AU56,AU59,AU62,AU65,AU68,AU71,AU74,AU77,AU80,AU83,AU86,AU89,AU92,AU95,AU98,AU101,AU104)","v":0},null,null,null,{"$f":"IF(TRIM(AX116)=\"\", \"\", IF(VLOOKUP(AX116,'Footnotes list'!$D$9:$E$58,2,FALSE)=0,\"\",VLOOKUP(AX116,'Footnotes list'!$D$9:$E$58,2,FALSE) ) )","v":""},{"$f":"SUM(AZ8,AZ11,AZ14,AZ17,AZ20,AZ23,AZ26,AZ29,AZ32,AZ35,AZ38,AZ41,AZ44,AZ47,AZ50,AZ53,AZ56,AZ59,AZ62,AZ65,AZ68,AZ71,AZ74,AZ77,AZ80,AZ83,AZ86,AZ89,AZ92,AZ95,AZ98,AZ101,AZ104)","v":0},null,null,null,{"$f":"IF(TRIM(BC116)=\"\", \"\", IF(VLOOKUP(BC116,'Footnotes list'!$D$9:$E$58,2,FALSE)=0,\"\",VLOOKUP(BC116,'Footnotes list'!$D$9:$E$58,2,FALSE) ) )","v":""},{"$f":"SUM(BE8,BE11,BE14,BE17,BE20,BE23,BE26,BE29,BE32,BE35,BE38,BE41,BE44,BE47,BE50,BE53,BE56,BE59,BE62,BE65,BE68,BE71,BE74,BE77,BE80,BE83,BE86,BE89,BE92,BE95,BE98,BE101,BE104)","v":0},null,null,null,{"$f":"IF(TRIM(BH116)=\"\", \"\", IF(VLOOKUP(BH116,'Footnotes list'!$D$9:$E$58,2,FALSE)=0,\"\",VLOOKUP(BH116,'Footnotes list'!$D$9:$E$58,2,FALSE) ) )","v":""},{"$f":"SUM(BJ8,BJ11,BJ14,BJ17,BJ20,BJ23,BJ26,BJ29,BJ32,BJ35,BJ38,BJ41,BJ44,BJ47,BJ50,BJ53,BJ56,BJ59,BJ62,BJ65,BJ68,BJ71,BJ74,BJ77,BJ80,BJ83,BJ86,BJ89,BJ92,BJ95,BJ98,BJ101,BJ104)","v":0},null,null,null,{"$f":"IF(TRIM(BM116)=\"\", \"\", IF(VLOOKUP(BM116,'Footnotes list'!$D$9:$E$58,2,FALSE)=0,\"\",VLOOKUP(BM116,'Footnotes list'!$D$9:$E$58,2,FALSE) ) )","v":""},{"$f":"SUM(BO8,BO11,BO14,BO17,BO20,BO23,BO26,BO29,BO32,BO35,BO38,BO41,BO44,BO47,BO50,BO53,BO56,BO59,BO62,BO65,BO68,BO71,BO74,BO77,BO80,BO83,BO86,BO89,BO92,BO95,BO98,BO101,BO104)","v":0},null,null,null,{"$f":"IF(TRIM(BR116)=\"\", \"\", IF(VLOOKUP(BR116,'Footnotes list'!$D$9:$E$58,2,FALSE)=0,\"\",VLOOKUP(BR116,'Footnotes list'!$D$9:$E$58,2,FALSE) ) )","v":""},{"$f":"SUM(BT8,BT11,BT14,BT17,BT20,BT23,BT26,BT29,BT32,BT35,BT38,BT41,BT44,BT47,BT50,BT53,BT56,BT59,BT62,BT65,BT68,BT71,BT74,BT77,BT80,BT83,BT86,BT89,BT92,BT95,BT98,BT101,BT104)","v":0},null,null,null,{"$f":"IF(TRIM(BW116)=\"\", \"\", IF(VLOOKUP(BW116,'Footnotes list'!$D$9:$E$58,2,FALSE)=0,\"\",VLOOKUP(BW116,'Footnotes list'!$D$9:$E$58,2,FALSE) ) )","v":""},{"$f":"SUM(BY8,BY11,BY14,BY17,BY20,BY23,BY26,BY29,BY32,BY35,BY38,BY41,BY44,BY47,BY50,BY53,BY56,BY59,BY62,BY65,BY68,BY71,BY74,BY77,BY80,BY83,BY86,BY89,BY92,BY95,BY98,BY101,BY104)","v":0},null,null,null,{"$f":"IF(TRIM(CB116)=\"\", \"\", IF(VLOOKUP(CB116,'Footnotes list'!$D$9:$E$58,2,FALSE)=0,\"\",VLOOKUP(CB116,'Footnotes list'!$D$9:$E$58,2,FALSE) ) )","v":""},{"$f":"SUM(CD8,CD11,CD14,CD17,CD20,CD23,CD26,CD29,CD32,CD35,CD38,CD41,CD44,CD47,CD50,CD53,CD56,CD59,CD62,CD65,CD68,CD71,CD74,CD77,CD80,CD83,CD86,CD89,CD92,CD95,CD98,CD101,CD104)","v":0},null,null,null,{"$f":"IF(TRIM(CG116)=\"\", \"\", IF(VLOOKUP(CG116,'Footnotes list'!$D$9:$E$58,2,FALSE)=0,\"\",VLOOKUP(CG116,'Footnotes list'!$D$9:$E$58,2,FALSE) ) )","v":""},{"$f":"SUM(CI8,CI11,CI14,CI17,CI20,CI23,CI26,CI29,CI32,CI35,CI38,CI41,CI44,CI47,CI50,CI53,CI56,CI59,CI62,CI65,CI68,CI71,CI74,CI77,CI80,CI83,CI86,CI89,CI92,CI95,CI98,CI101,CI104)","v":0},null,null,null,{"$f":"IF(TRIM(CL116)=\"\", \"\", IF(VLOOKUP(CL116,'Footnotes list'!$D$9:$E$58,2,FALSE)=0,\"\",VLOOKUP(CL116,'Footnotes list'!$D$9:$E$58,2,FALSE) ) )","v":""},{"$f":"SUM(CN8,CN11,CN14,CN17,CN20,CN23,CN26,CN29,CN32,CN35,CN38,CN41,CN44,CN47,CN50,CN53,CN56,CN59,CN62,CN65,CN68,CN71,CN74,CN77,CN80,CN83,CN86,CN89,CN92,CN95,CN98,CN101,CN104)","v":0},null,null,null,{"$f":"IF(TRIM(CQ116)=\"\", \"\", IF(VLOOKUP(CQ116,'Footnotes list'!$D$9:$E$58,2,FALSE)=0,\"\",VLOOKUP(CQ116,'Footnotes list'!$D$9:$E$58,2,FALSE) ) )","v":""},{"$f":"SUM(CS8,CS11,CS14,CS17,CS20,CS23,CS26,CS29,CS32,CS35,CS38,CS41,CS44,CS47,CS50,CS53,CS56,CS59,CS62,CS65,CS68,CS71,CS74,CS77,CS80,CS83,CS86,CS89,CS92,CS95,CS98,CS101,CS104)","v":0},null,null,null,{"$f":"IF(TRIM(CV116)=\"\", \"\", IF(VLOOKUP(CV116,'Footnotes list'!$D$9:$E$58,2,FALSE)=0,\"\",VLOOKUP(CV116,'Footnotes list'!$D$9:$E$58,2,FALSE) ) )","v":""},{"$f":"SUM(CX8,CX11,CX14,CX17,CX20,CX23,CX26,CX29,CX32,CX35,CX38,CX41,CX44,CX47,CX50,CX53,CX56,CX59,CX62,CX65,CX68,CX71,CX74,CX77,CX80,CX83,CX86,CX89,CX92,CX95,CX98,CX101,CX104)","v":0},null,null,null,{"$f":"IF(TRIM(DA116)=\"\", \"\", IF(VLOOKUP(DA116,'Footnotes list'!$D$9:$E$58,2,FALSE)=0,\"\",VLOOKUP(DA116,'Footnotes list'!$D$9:$E$58,2,FALSE) ) )","v":""},{"$f":"SUM(DC8,DC11,DC14,DC17,DC20,DC23,DC26,DC29,DC32,DC35,DC38,DC41,DC44,DC47,DC50,DC53,DC56,DC59,DC62,DC65,DC68,DC71,DC74,DC77,DC80,DC83,DC86,DC89,DC92,DC95,DC98,DC101,DC104)","v":0},null,null,null,{"$f":"IF(TRIM(DF116)=\"\", \"\", IF(VLOOKUP(DF116,'Footnotes list'!$D$9:$E$58,2,FALSE)=0,\"\",VLOOKUP(DF116,'Footnotes list'!$D$9:$E$58,2,FALSE) ) )","v":""},{"$f":"SUM(DH8,DH11,DH14,DH17,DH20,DH23,DH26,DH29,DH32,DH35,DH38,DH41,DH44,DH47,DH50,DH53,DH56,DH59,DH62,DH65,DH68,DH71,DH74,DH77,DH80,DH83,DH86,DH89,DH92,DH95,DH98,DH101,DH104)","v":0},null,null,null,{"$f":"IF(TRIM(DK116)=\"\", \"\", IF(VLOOKUP(DK116,'Footnotes list'!$D$9:$E$58,2,FALSE)=0,\"\",VLOOKUP(DK116,'Footnotes list'!$D$9:$E$58,2,FALSE) ) )","v":""}]
[null,null,"TOTAL",null,"NHAZ","Non-hazardous",{"$f":"SUM(G9,G12,G15,G18,G21,G24,G27,G30,G33,G36,G39,G42,G45,G48,G51,G54,G57,G60,G63,G66,G69,G72,G75,G78,G81,G84,G87,G90,G93,G96,G99,G102,G105)","v":0},null,null,null,{"$f":"IF(TRIM(J117)=\"\", \"\", IF(VLOOKUP(J117,'Footnotes list'!$D$9:$E$58,2,FALSE)=0,\"\",VLOOKUP(J117,'Footnotes list'!$D$9:$E$58,2,FALSE) ) )","v":""},{"$f":"SUM(L9,L12,L15,L18,L21,L24,L27,L30,L33,L36,L39,L42,L45,L48,L51,L54,L57,L60,L63,L66,L69,L72,L75,L78,L81,L84,L87,L90,L93,L96,L99,L102,L105)","v":0},null,null,null,{"$f":"IF(TRIM(O117)=\"\", \"\", IF(VLOOKUP(O117,'Footnotes list'!$D$9:$E$58,2,FALSE)=0,\"\",VLOOKUP(O117,'Footnotes list'!$D$9:$E$58,2,FALSE) ) )","v":""},{"$f":"SUM(Q9,Q12,Q15,Q18,Q21,Q24,Q27,Q30,Q33,Q36,Q39,Q42,Q45,Q48,Q51,Q54,Q57,Q60,Q63,Q66,Q69,Q72,Q75,Q78,Q81,Q84,Q87,Q90,Q93,Q96,Q99,Q102,Q105)","v":0},null,null,null,{"$f":"IF(TRIM(T117)=\"\", \"\", IF(VLOOKUP(T117,'Footnotes list'!$D$9:$E$58,2,FALSE)=0,\"\",VLOOKUP(T117,'Footnotes list'!$D$9:$E$58,2,FALSE) ) )","v":""},{"$f":"SUM(V9,V12,V15,V18,V21,V24,V27,V30,V33,V36,V39,V42,V45,V48,V51,V54,V57,V60,V63,V66,V69,V72,V75,V78,V81,V84,V87,V90,V93,V96,V99,V102,V105)","v":0},null,null,null,{"$f":"IF(TRIM(Y117)=\"\", \"\", IF(VLOOKUP(Y117,'Footnotes list'!$D$9:$E$58,2,FALSE)=0,\"\",VLOOKUP(Y117,'Footnotes list'!$D$9:$E$58,2,FALSE) ) )","v":""},{"$f":"SUM(AA9,AA12,AA15,AA18,AA21,AA24,AA27,AA30,AA33,AA36,AA39,AA42,AA45,AA48,AA51,AA54,AA57,AA60,AA63,AA66,AA69,AA72,AA75,AA78,AA81,AA84,AA87,AA90,AA93,AA96,AA99,AA102,AA105)","v":0},null,null,null,{"$f":"IF(TRIM(AD117)=\"\", \"\", IF(VLOOKUP(AD117,'Footnotes list'!$D$9:$E$58,2,FALSE)=0,\"\",VLOOKUP(AD117,'Footnotes list'!$D$9:$E$58,2,FALSE) ) )","v":""},{"$f":"SUM(AF9,AF12,AF15,AF18,AF21,AF24,AF27,AF30,AF33,AF36,AF39,AF42,AF45,AF48,AF51,AF54,AF57,AF60,AF63,AF66,AF69,AF72,AF75,AF78,AF81,AF84,AF87,AF90,AF93,AF96,AF99,AF102,AF105)","v":0},null,null,null,{"$f":"IF(TRIM(AI117)=\"\", \"\", IF(VLOOKUP(AI117,'Footnotes list'!$D$9:$E$58,2,FALSE)=0,\"\",VLOOKUP(AI117,'Footnotes list'!$D$9:$E$58,2,FALSE) ) )","v":""},{"$f":"SUM(AK9,AK12,AK15,AK18,AK21,AK24,AK27,AK30,AK33,AK36,AK39,AK42,AK45,AK48,AK51,AK54,AK57,AK60,AK63,AK66,AK69,AK72,AK75,AK78,AK81,AK84,AK87,AK90,AK93,AK96,AK99,AK102,AK105)","v":0},null,null,null,{"$f":"IF(TRIM(AN117)=\"\", \"\", IF(VLOOKUP(AN117,'Footnotes list'!$D$9:$E$58,2,FALSE)=0,\"\",VLOOKUP(AN117,'Footnotes list'!$D$9:$E$58,2,FALSE) ) )","v":""},{"$f":"SUM(AP9,AP12,AP15,AP18,AP21,AP24,AP27,AP30,AP33,AP36,AP39,AP42,AP45,AP48,AP51,AP54,AP57,AP60,AP63,AP66,AP69,AP72,AP75,AP78,AP81,AP84,AP87,AP90,AP93,AP96,AP99,AP102,AP105)","v":0},null,null,null,{"$f":"IF(TRIM(AS117)=\"\", \"\", IF(VLOOKUP(AS117,'Footnotes list'!$D$9:$E$58,2,FALSE)=0,\"\",VLOOKUP(AS117,'Footnotes list'!$D$9:$E$58,2,FALSE) ) )","v":""},{"$f":"SUM(AU9,AU12,AU15,AU18,AU21,AU24,AU27,AU30,AU33,AU36,AU39,AU42,AU45,AU48,AU51,AU54,AU57,AU60,AU63,AU66,AU69,AU72,AU75,AU78,AU81,AU84,AU87,AU90,AU93,AU96,AU99,AU102,AU105)","v":0},null,null,null,{"$f":"IF(TRIM(AX117)=\"\", \"\", IF(VLOOKUP(AX117,'Footnotes list'!$D$9:$E$58,2,FALSE)=0,\"\",VLOOKUP(AX117,'Footnotes list'!$D$9:$E$58,2,FALSE) ) )","v":""},{"$f":"SUM(AZ9,AZ12,AZ15,AZ18,AZ21,AZ24,AZ27,AZ30,AZ33,AZ36,AZ39,AZ42,AZ45,AZ48,AZ51,AZ54,AZ57,AZ60,AZ63,AZ66,AZ69,AZ72,AZ75,AZ78,AZ81,AZ84,AZ87,AZ90,AZ93,AZ96,AZ99,AZ102,AZ105)","v":0},null,null,null,{"$f":"IF(TRIM(BC117)=\"\", \"\", IF(VLOOKUP(BC117,'Footnotes list'!$D$9:$E$58,2,FALSE)=0,\"\",VLOOKUP(BC117,'Footnotes list'!$D$9:$E$58,2,FALSE) ) )","v":""},{"$f":"SUM(BE9,BE12,BE15,BE18,BE21,BE24,BE27,BE30,BE33,BE36,BE39,BE42,BE45,BE48,BE51,BE54,BE57,BE60,BE63,BE66,BE69,BE72,BE75,BE78,BE81,BE84,BE87,BE90,BE93,BE96,BE99,BE102,BE105)","v":0},null,null,null,{"$f":"IF(TRIM(BH117)=\"\", \"\", IF(VLOOKUP(BH117,'Footnotes list'!$D$9:$E$58,2,FALSE)=0,\"\",VLOOKUP(BH117,'Footnotes list'!$D$9:$E$58,2,FALSE) ) )","v":""},{"$f":"SUM(BJ9,BJ12,BJ15,BJ18,BJ21,BJ24,BJ27,BJ30,BJ33,BJ36,BJ39,BJ42,BJ45,BJ48,BJ51,BJ54,BJ57,BJ60,BJ63,BJ66,BJ69,BJ72,BJ75,BJ78,BJ81,BJ84,BJ87,BJ90,BJ93,BJ96,BJ99,BJ102,BJ105)","v":0},null,null,null,{"$f":"IF(TRIM(BM117)=\"\", \"\", IF(VLOOKUP(BM117,'Footnotes list'!$D$9:$E$58,2,FALSE)=0,\"\",VLOOKUP(BM117,'Footnotes list'!$D$9:$E$58,2,FALSE) ) )","v":""},{"$f":"SUM(BO9,BO12,BO15,BO18,BO21,BO24,BO27,BO30,BO33,BO36,BO39,BO42,BO45,BO48,BO51,BO54,BO57,BO60,BO63,BO66,BO69,BO72,BO75,BO78,BO81,BO84,BO87,BO90,BO93,BO96,BO99,BO102,BO105)","v":0},null,null,null,{"$f":"IF(TRIM(BR117)=\"\", \"\", IF(VLOOKUP(BR117,'Footnotes list'!$D$9:$E$58,2,FALSE)=0,\"\",VLOOKUP(BR117,'Footnotes list'!$D$9:$E$58,2,FALSE) ) )","v":""},{"$f":"SUM(BT9,BT12,BT15,BT18,BT21,BT24,BT27,BT30,BT33,BT36,BT39,BT42,BT45,BT48,BT51,BT54,BT57,BT60,BT63,BT66,BT69,BT72,BT75,BT78,BT81,BT84,BT87,BT90,BT93,BT96,BT99,BT102,BT105)","v":0},null,null,null,{"$f":"IF(TRIM(BW117)=\"\", \"\", IF(VLOOKUP(BW117,'Footnotes list'!$D$9:$E$58,2,FALSE)=0,\"\",VLOOKUP(BW117,'Footnotes list'!$D$9:$E$58,2,FALSE) ) )","v":""},{"$f":"SUM(BY9,BY12,BY15,BY18,BY21,BY24,BY27,BY30,BY33,BY36,BY39,BY42,BY45,BY48,BY51,BY54,BY57,BY60,BY63,BY66,BY69,BY72,BY75,BY78,BY81,BY84,BY87,BY90,BY93,BY96,BY99,BY102,BY105)","v":0},null,null,null,{"$f":"IF(TRIM(CB117)=\"\", \"\", IF(VLOOKUP(CB117,'Footnotes list'!$D$9:$E$58,2,FALSE)=0,\"\",VLOOKUP(CB117,'Footnotes list'!$D$9:$E$58,2,FALSE) ) )","v":""},{"$f":"SUM(CD9,CD12,CD15,CD18,CD21,CD24,CD27,CD30,CD33,CD36,CD39,CD42,CD45,CD48,CD51,CD54,CD57,CD60,CD63,CD66,CD69,CD72,CD75,CD78,CD81,CD84,CD87,CD90,CD93,CD96,CD99,CD102,CD105)","v":0},null,null,null,{"$f":"IF(TRIM(CG117)=\"\", \"\", IF(VLOOKUP(CG117,'Footnotes list'!$D$9:$E$58,2,FALSE)=0,\"\",VLOOKUP(CG117,'Footnotes list'!$D$9:$E$58,2,FALSE) ) )","v":""},{"$f":"SUM(CI9,CI12,CI15,CI18,CI21,CI24,CI27,CI30,CI33,CI36,CI39,CI42,CI45,CI48,CI51,CI54,CI57,CI60,CI63,CI66,CI69,CI72,CI75,CI78,CI81,CI84,CI87,CI90,CI93,CI96,CI99,CI102,CI105)","v":0},null,null,null,{"$f":"IF(TRIM(CL117)=\"\", \"\", IF(VLOOKUP(CL117,'Footnotes list'!$D$9:$E$58,2,FALSE)=0,\"\",VLOOKUP(CL117,'Footnotes list'!$D$9:$E$58,2,FALSE) ) )","v":""},{"$f":"SUM(CN9,CN12,CN15,CN18,CN21,CN24,CN27,CN30,CN33,CN36,CN39,CN42,CN45,CN48,CN51,CN54,CN57,CN60,CN63,CN66,CN69,CN72,CN75,CN78,CN81,CN84,CN87,CN90,CN93,CN96,CN99,CN102,CN105)","v":0},null,null,null,{"$f":"IF(TRIM(CQ117)=\"\", \"\", IF(VLOOKUP(CQ117,'Footnotes list'!$D$9:$E$58,2,FALSE)=0,\"\",VLOOKUP(CQ117,'Footnotes list'!$D$9:$E$58,2,FALSE) ) )","v":""},{"$f":"SUM(CS9,CS12,CS15,CS18,CS21,CS24,CS27,CS30,CS33,CS36,CS39,CS42,CS45,CS48,CS51,CS54,CS57,CS60,CS63,CS66,CS69,CS72,CS75,CS78,CS81,CS84,CS87,CS90,CS93,CS96,CS99,CS102,CS105)","v":0},null,null,null,{"$f":"IF(TRIM(CV117)=\"\", \"\", IF(VLOOKUP(CV117,'Footnotes list'!$D$9:$E$58,2,FALSE)=0,\"\",VLOOKUP(CV117,'Footnotes list'!$D$9:$E$58,2,FALSE) ) )","v":""},{"$f":"SUM(CX9,CX12,CX15,CX18,CX21,CX24,CX27,CX30,CX33,CX36,CX39,CX42,CX45,CX48,CX51,CX54,CX57,CX60,CX63,CX66,CX69,CX72,CX75,CX78,CX81,CX84,CX87,CX90,CX93,CX96,CX99,CX102,CX105)","v":0},null,null,null,{"$f":"IF(TRIM(DA117)=\"\", \"\", IF(VLOOKUP(DA117,'Footnotes list'!$D$9:$E$58,2,FALSE)=0,\"\",VLOOKUP(DA117,'Footnotes list'!$D$9:$E$58,2,FALSE) ) )","v":""},{"$f":"SUM(DC9,DC12,DC15,DC18,DC21,DC24,DC27,DC30,DC33,DC36,DC39,DC42,DC45,DC48,DC51,DC54,DC57,DC60,DC63,DC66,DC69,DC72,DC75,DC78,DC81,DC84,DC87,DC90,DC93,DC96,DC99,DC102,DC105)","v":0},null,null,null,{"$f":"IF(TRIM(DF117)=\"\", \"\", IF(VLOOKUP(DF117,'Footnotes list'!$D$9:$E$58,2,FALSE)=0,\"\",VLOOKUP(DF117,'Footnotes list'!$D$9:$E$58,2,FALSE) ) )","v":""},{"$f":"SUM(DH9,DH12,DH15,DH18,DH21,DH24,DH27,DH30,DH33,DH36,DH39,DH42,DH45,DH48,DH51,DH54,DH57,DH60,DH63,DH66,DH69,DH72,DH75,DH78,DH81,DH84,DH87,DH90,DH93,DH96,DH99,DH102,DH105)","v":0},null,null,null,{"$f":"IF(TRIM(DK117)=\"\", \"\", IF(VLOOKUP(DK117,'Footnotes list'!$D$9:$E$58,2,FALSE)=0,\"\",VLOOKUP(DK117,'Footnotes list'!$D$9:$E$58,2,FALSE) ) )","v":""}]
[null,null,"TOTAL",null,"HAZ_NHAZ","Total",0,null,null,null,{"$f":"IF(TRIM(J118)=\"\", \"\", IF(VLOOKUP(J118,'Footnotes list'!$D$9:$E$58,2,FALSE)=0,\"\",VLOOKUP(J118,'Footnotes list'!$D$9:$E$58,2,FALSE) ) )","v":""},0,null,null,null,{"$f":"IF(TRIM(O118)=\"\", \"\", IF(VLOOKUP(O118,'Footnotes list'!$D$9:$E$58,2,FALSE)=0,\"\",VLOOKUP(O118,'Footnotes list'!$D$9:$E$58,2,FALSE) ) )","v":""},0,null,null,null,{"$f":"IF(TRIM(T118)=\"\", \"\", IF(VLOOKUP(T118,'Footnotes list'!$D$9:$E$58,2,FALSE)=0,\"\",VLOOKUP(T118,'Footnotes list'!$D$9:$E$58,2,FALSE) ) )","v":""},0,null,null,null,{"$f":"IF(TRIM(Y118)=\"\", \"\", IF(VLOOKUP(Y118,'Footnotes list'!$D$9:$E$58,2,FALSE)=0,\"\",VLOOKUP(Y118,'Footnotes list'!$D$9:$E$58,2,FALSE) ) )","v":""},0,null,null,null,{"$f":"IF(TRIM(AD118)=\"\", \"\", IF(VLOOKUP(AD118,'Footnotes list'!$D$9:$E$58,2,FALSE)=0,\"\",VLOOKUP(AD118,'Footnotes list'!$D$9:$E$58,2,FALSE) ) )","v":""},0,null,null,null,{"$f":"IF(TRIM(AI118)=\"\", \"\", IF(VLOOKUP(AI118,'Footnotes list'!$D$9:$E$58,2,FALSE)=0,\"\",VLOOKUP(AI118,'Footnotes list'!$D$9:$E$58,2,FALSE) ) )","v":""},0,null,null,null,{"$f":"IF(TRIM(AN118)=\"\", \"\", IF(VLOOKUP(AN118,'Footnotes list'!$D$9:$E$58,2,FALSE)=0,\"\",VLOOKUP(AN118,'Footnotes list'!$D$9:$E$58,2,FALSE) ) )","v":""},0,null,null,null,{"$f":"IF(TRIM(AS118)=\"\", \"\", IF(VLOOKUP(AS118,'Footnotes list'!$D$9:$E$58,2,FALSE)=0,\"\",VLOOKUP(AS118,'Footnotes list'!$D$9:$E$58,2,FALSE) ) )","v":""},0,null,null,null,{"$f":"IF(TRIM(AX118)=\"\", \"\", IF(VLOOKUP(AX118,'Footnotes list'!$D$9:$E$58,2,FALSE)=0,\"\",VLOOKUP(AX118,'Footnotes list'!$D$9:$E$58,2,FALSE) ) )","v":""},0,null,null,null,{"$f":"IF(TRIM(BC118)=\"\", \"\", IF(VLOOKUP(BC118,'Footnotes list'!$D$9:$E$58,2,FALSE)=0,\"\",VLOOKUP(BC118,'Footnotes list'!$D$9:$E$58,2,FALSE) ) )","v":""},0,null,null,null,{"$f":"IF(TRIM(BH118)=\"\", \"\", IF(VLOOKUP(BH118,'Footnotes list'!$D$9:$E$58,2,FALSE)=0,\"\",VLOOKUP(BH118,'Footnotes list'!$D$9:$E$58,2,FALSE) ) )","v":""},0,null,null,null,{"$f":"IF(TRIM(BM118)=\"\", \"\", IF(VLOOKUP(BM118,'Footnotes list'!$D$9:$E$58,2,FALSE)=0,\"\",VLOOKUP(BM118,'Footnotes list'!$D$9:$E$58,2,FALSE) ) )","v":""},0,null,null,null,{"$f":"IF(TRIM(BR118)=\"\", \"\", IF(VLOOKUP(BR118,'Footnotes list'!$D$9:$E$58,2,FALSE)=0,\"\",VLOOKUP(BR118,'Footnotes list'!$D$9:$E$58,2,FALSE) ) )","v":""},0,null,null,null,{"$f":"IF(TRIM(BW118)=\"\", \"\", IF(VLOOKUP(BW118,'Footnotes list'!$D$9:$E$58,2,FALSE)=0,\"\",VLOOKUP(BW118,'Footnotes list'!$D$9:$E$58,2,FALSE) ) )","v":""},0,null,null,null,{"$f":"IF(TRIM(CB118)=\"\", \"\", IF(VLOOKUP(CB118,'Footnotes list'!$D$9:$E$58,2,FALSE)=0,\"\",VLOOKUP(CB118,'Footnotes list'!$D$9:$E$58,2,FALSE) ) )","v":""},0,null,null,null,{"$f":"IF(TRIM(CG118)=\"\", \"\", IF(VLOOKUP(CG118,'Footnotes list'!$D$9:$E$58,2,FALSE)=0,\"\",VLOOKUP(CG118,'Footnotes list'!$D$9:$E$58,2,FALSE) ) )","v":""},0,null,null,null,{"$f":"IF(TRIM(CL118)=\"\", \"\", IF(VLOOKUP(CL118,'Footnotes list'!$D$9:$E$58,2,FALSE)=0,\"\",VLOOKUP(CL118,'Footnotes list'!$D$9:$E$58,2,FALSE) ) )","v":""},0,null,null,null,{"$f":"IF(TRIM(CQ118)=\"\", \"\", IF(VLOOKUP(CQ118,'Footnotes list'!$D$9:$E$58,2,FALSE)=0,\"\",VLOOKUP(CQ118,'Footnotes list'!$D$9:$E$58,2,FALSE) ) )","v":""},0,null,null,null,{"$f":"IF(TRIM(CV118)=\"\", \"\", IF(VLOOKUP(CV118,'Footnotes list'!$D$9:$E$58,2,FALSE)=0,\"\",VLOOKUP(CV118,'Footnotes list'!$D$9:$E$58,2,FALSE) ) )","v":""},0,null,null,null,{"$f":"IF(TRIM(DA118)=\"\", \"\", IF(VLOOKUP(DA118,'Footnotes list'!$D$9:$E$58,2,FALSE)=0,\"\",VLOOKUP(DA118,'Footnotes list'!$D$9:$E$58,2,FALSE) ) )","v":""},0,null,null,null,{"$f":"IF(TRIM(DF118)=\"\", \"\", IF(VLOOKUP(DF118,'Footnotes list'!$D$9:$E$58,2,FALSE)=0,\"\",VLOOKUP(DF118,'Footnotes list'!$D$9:$E$58,2,FALSE) ) )","v":""},0,null,null,null,{"$f":"IF(TRIM(DK118)=\"\", \"\", IF(VLOOKUP(DK118,'Footnotes list'!$D$9:$E$58,2,FALSE)=0,\"\",VLOOKUP(DK118,'Footnotes list'!$D$9:$E$58,2,FALSE) ) )","v":""}]
[]
[null,"Notes:"]
[]
[null,"Cell shading:"]
[null,"White: Data provision is mandatory."]
[null,"Light grey: Automatic calculation. Formula can exceptionally be changed by a value"]
[null,"Light orange: Footnotes (only to be filled-in when relevant)"]
[null,"Black: Not applicable"]
[]
[]
[null,"Valid standard footnotes:"]
[null,"     B -  Break in time series"]
[null,"     E -  Estimate"]
[null,"     P -  Provisional"]
[]
[null,"Valid confidentiality footnotes:"]
[null,"     C -  Confidential"]
[null,"     D -  Secondary confidentiality set by the sender, not for publication"]