{"text_format":"1","workbook":"xlsx","n_sheets":24,"sheets":["COVER","INDEX","Basic Instructions","Methodology","Validation rules","GETTING STARTED","Footnotes list","Table_1","ErrorLog","Table_1 (COPY-PASTING)","StandardFootnotes","Lists","Changelog","Pre-filling parameters","MacroBehaviour","Locks","Summations","Mandatory","x IsFormula","MustNotBeNegative","ForbiddenStrings","FootnoteContent","IsNumeric","Table_1 (COPY)"],"not_rendered":{"charts":0,"images":3,"macros":1,"external_links":0,"defined_names":10,"comments":0,"pivot_tables":0},"unopened":[],"bounds":{"document_bytes":16777216,"sheet_cells":100000,"rows_first":2000,"rows_last":500,"rows_between":2000,"halvings":0,"cell_chars":16384,"cell_head_chars":4096},"cells_cut":0,"cells_raw":0,"read":"whole","date_system":"1900"}

{"sheet":"COVER","index":0,"n_rows":9,"n_cols":3,"rows_kept":9,"cut":false,"hidden":false,"merged":[]}
[]
[]
[null,null,{"$f":"UPPER(Lists!K3)","v":"STATISTICAL OFFICE OF THE EUROPEAN UNION"}]
[]
[null,null,{"$f":"Lists!K4","v":"Directorate E: Sectoral and regional statistics"}]
[null,null,{"$f":"Lists!K5","v":"Unit E-2: Environmental statistics and accounts; sustainable development"}]
[null,null,{"$f":"UPPER(Lists!K7)","v":"BIENNIAL WASTE STATISTICS REGULATION - WASTE TREATMENT"}]
[null,null,{"$f":"CONCATENATE(Lists!K8,\" DATA COLLECTION\")","v":"2024 DATA COLLECTION"}]
[null,null,{"$f":"CONCATENATE(\"Launching date: \",Lists!K9)","v":"Launching date: 20 May 2024"}]

{"sheet":"INDEX","index":1,"n_rows":19,"n_cols":5,"rows_kept":19,"cut":false,"hidden":false,"merged":[[14,2,14,4],[1,2,1,4],[3,2,3,4],[4,2,4,4],[6,2,6,4],[8,2,8,4]]}
[]
[]
[null,null,null,null,{"$f":"UPPER(Lists!K3)","v":"STATISTICAL OFFICE OF THE EUROPEAN UNION"}]
[null,null,{"$f":"UPPER(Lists!K7)","v":"BIENNIAL WASTE STATISTICS REGULATION - WASTE TREATMENT"}]
[null,null,{"$f":"CONCATENATE(Lists!K8,\" DATA COLLECTION\")","v":"2024 DATA COLLECTION"}]
[]
[null,null," INDEX - STRUCTURE OF THE QUESTIONNAIRE"]
[]
[null,null,"I. Basic information"]
[null,null,"TITLE","DESCRIPTION","TYPE"]
[null,null,"Index","Structure of the questionnaire","for information"]
[null,null,"Basic instructions ","Basic instructions","for reading before filling in the questionnaire"]
[null,null,"Methodology","Explanatory notes and methodology","for reading before filling in the questionnaire"]
[null,null,"Validation rules","Validation performed by the 'Validate questionnaire' button","for reading before filling in the questionnaire"]
[null,null,"II. Reporting data (To be filled in by the country)"]
[null,null,"TITLE","DESCRIPTION","TYPE"]
[null,null,"GETTING STARTED","Country and data collection definition. Administrative data.","for filling in"]
[null,null,"Footnotes list","List of country-specific explanatory footnotes","for filling in"]
[null,null,"Table 1","WASTE TREATMENT by waste category (EWC-STAT) and treatment category","for filling in."]

{"sheet":"Basic Instructions","index":2,"n_rows":88,"n_cols":6,"rows_kept":88,"cut":false,"hidden":false,"merged":[[84,2,84,5],[85,2,85,5],[86,2,86,5],[87,2,87,5],[76,2,76,5],[77,2,77,5],[79,2,79,5],[81,2,81,5],[82,2,82,5],[83,2,83,5],[75,2,75,5],[55,2,55,5],[58,2,58,5],[59,3,59,5],[62,2,62,5],[65,2,65,5],[66,2,66,5],[67,2,67,5],[69,2,69,5],[71,2,71,5],[72,2,72,5],[74,2,74,5],[54,2,54,5],[33,2,33,5],[35,2,35,5],[40,2,40,5],[41,2,41,5],[42,2,42,5],[44,2,44,5],[46,2,46,5],[47,2,47,5],[49,2,49,5],[51,2,51,5],[53,2,53,5],[27,3,27,5],[10,2,10,5],[11,2,11,5],[12,2,12,5],[13,2,13,5],[14,2,14,5],[15,2,15,5],[16,2,16,5],[18,2,18,5],[20,2,20,5],[22,2,22,5],[26,2,26,5],[9,2,9,5],[3,2,3,5],[4,2,4,5],[6,2,6,5],[7,2,7,5],[8,2,8,5]]}
[]
[]
[null,null,null,null,null,{"$f":"UPPER(Lists!K3)","v":"STATISTICAL OFFICE OF THE EUROPEAN UNION"}]
[null,null,{"$f":"UPPER(Lists!K7)","v":"BIENNIAL WASTE STATISTICS REGULATION - WASTE TREATMENT"}]
[null,null,{"$f":"CONCATENATE(Lists!K8,\" DATA COLLECTION\")","v":"2024 DATA COLLECTION"}]
[]
[null,null,"BASIC INSTRUCTIONS"]
[null,null,"Before filling in the questionnaire please read carefully the instructions below. This EXCEL workbook is the questionnaire. Please do not  delete or add rows in the questionnaire."]
[null,null,"This EXCEL workbook contains macros. In order to make them work you need to save the file in your computer and then reopen it and enable macros resp. make it a trusted document."]
[null,null,"Once you filled in all the required fields, you have to validate the data before submitting the questionnaire (clicking on the button 'Validate questionnaire' on the top left-hand corner of the worksheets). It is of the utmost importance to confirm that there are no pending errors (see 'Errorlog' worksheet), since a questionnaire with errors (red shadowed cells) will be rejected. You can restore the color of the table clicking on 'Restore table color'."]
[null,null,"Table of contents"]
[null,null,"   1. Data transmission"]
[null,null,"   2. Reporting conventions"]
[null,null,"   3. Metadata"]
[" ","  ","   4. Footnotes"]
[null,null,"   5. Methodology and questions"]
[null,null,"   Annex: How to fill in the data sheets of the questionnaire"]
[]
[null,null,"1. Data transmission:"]
[]
[null,null,"The standard tool for the transmission of statistical data is the eDAMIS system. The system creates a secure environment for the transmission of data, it records all data submissions and acknowledges the data delivery. The eDAMIS system has been installed in the National Statistical Institutes."]
[]
[null,null,"Please submit this questionnaire to Eurostat using the eDAMIS reporting system. Use the following details: "]
[null,null,"Domain name:",{"$f":"Lists!K12","v":"WASTE"}]
[null,null,"Dataset name:",{"$f":"Lists!K13","v":"WASTE_TRT"}]
[]
[null,null,"Should you have any questions regarding data transmission do not hesitate to contact your local eDAMIS coordinator or the Eurostat eDAMIS helpdesk at: "]
[null,null,"   web page:",{"$f":"Lists!K14","v":"https://webgate.ec.europa.eu/edamis/helpcenter/website/index.htm"}]
[null,null,"   e-mail address:",{"$f":"Lists!K15","v":"estat-support-edamis@ec.europa.eu"}]
[null,null,"   telephone:",{"$f":"Lists!K17","v":"(+352) 4301 33213"}]
[null,null,"For methodological questions please contact:"]
[null,null,"   e-mail address:",{"$f":"Lists!K18","v":"ESTAT-WASTE-STATISTICS@EC.EUROPA.EU"}]
[]
[null,null,"2.  Reporting conventions:"]
[]
[null,null,"Reporting of zeroes and not availble data must follow this convention:"]
[null,null,"Description","Symbol"]
[null,null,"Real zero",0]
[null,null,"Not available",null," (empty cell)"]
[]
[null,null,"1. White shaded (uncoloured) boxes: Provision of data is mandatory"]
[null,null,"2. Black shaded boxes: reporting is not applicable"]
[null,null,"3. Grey shaded boxes: calculation is automatic; do not input any data into these cells. IF exceptionally you need to input data in a grey cell, first press the \"unlock formulas\" button situated in the top left-hand corner of each sheet."]
[]
[null,null,"3. Metadata:"]
[]
[null,null,"Please provide data by means of the Metadatahandler, available in the following link: "]
[null,null,"https://webgate.ec.europa.eu/estat/spe/metaconv/home.htm"]
[]
[null,null,"4. Footnotes:"]
[]
[null,null,"You are asked to report data that follow as closely as possible the Waste Statistics Regulation waste definitions and reporting rules (see paragraphs below). Please report problems with the coverage or data quality in the Metadatahandler."]
[]
[null,null,"Flags (footnote symbols) should be entered in the reporting tables in the footnote columns, next to the value cell. There are two types of footnotes: "]
[null,null,"- Letters for standard footnotes (as defined by Eurostat) and…"]
[null,null,"- Numbers for country-specific footnotes (to be defined by the data compilers). "]
[]
[null,null,"4.1 Standard footnotes"]
[null,null,"The following footnotes will be used for the automatic data processing and data dissemination. Hence, they cannot be changed:"]
[null,null,"B) break in series","Please use this flag when the reported figure cannot be compared to the data reported for the previous year, e.g. because of new methods or sources being used or when you move from the old calculation rules to the new calculation rules. Please use this flag only when the change in methods, sources or calculation rules has a substantial impact."]
[null,null,"E) estimated data"]
[null,null,"P) provisional"]
[null,null,"The drop-down menu includes as well combinations of footnotes. If you need to put more than one footnote in a field, please, use these combinations in the drop-down menu."]
[]
[null,null,"4.2 Country-specific explanatory footnotes"]
[null,null,"The explanatory footnotes can be used for any meaning beyond the pre-defined footnotes."]
[null,null,"To include an explanatory footnote, please first insert the text in the “Footnote list” sheet starting from number 1. Then in the data table please select the corresponding footnote reference number from the drop-down menu in the footnote column next to the value cell. The text you entered in the “Footnote list” sheet will then appear automatically next to the footnote reference number. The same explanatory footnote can be chosen for all the values for which the same explanation applies. If by mistake a number is chosen from the drop-down menu, it is sufficient to press the key delete to clean the cell."]
[null,null,"Please do not report footnotes that elaborate on e.g. source data and compilation methods; these are to be described in the quality report and the metadata sheets. "]
[]
[null,null,"5. Methodology and questions:"]
[]
[null,null,"Guidance and the Manual on waste statistics are available on Eurostat website:"]
[null,null,{"$f":"Lists!K19","v":"https://ec.europa.eu/eurostat/web/waste/methodology"}]
[]
[null,null,"The guidelines contain definitions, examples and recommendations to ensure that data are compiled and maintained on a consistent basis. They explain the scope and the reasoning behind the terms of the tables, and provide extra information necessary to allow a consistent collection and interpretation of the data to be reported by countries."]
[null,null,"A summary methodology is presented in this questionnaire, in the sheet named 'Methodology'. It is essential to read this sheet before filling in the questionnaire as it contains, beside the summary methodology, important information on priorities for filling in the tables, data sources and hints for establishing a methodology at national level."]
[null,null,"If you have questions, please send them to the following email addresses:"]
[null,null,{"$f":"Lists!K18","v":"ESTAT-WASTE-STATISTICS@EC.EUROPA.EU"}]
[]
[null,null,"Annex: How to fill in the data sheets of the questionnaire"]
[]
[null,null,"You are kindly requested to:"]
[null,null,"1)    All mandatory data cells (whilte cells) must be filled in with a positive value or a zero."]
[null,null,"2)    Cells, which contain sums, are filled in automatically, unless there are empty fields in one of the summands. In this case, the field containing the sum has to be filled as well. In case, you  assume that a formula should be added in a cell, please, send us an email with this formula. Please, do not add the formula yourself. The formula may be helpful all countries."]
[null,null,"3)    Flags (footnote symbols) can be entered in the reporting tables in the footnote columns."]
[null,null,"4)    To include standard footnotes use the drop-down menu."]
[null,null,"5)    The text of specific footnotes can be entered in the worksheet 'Footnotes list'."]
[null,null,"6)    Empty fields are a breach of the Regulation 2150/2002. An explanation, why the value is not available, has to be entered."]

{"sheet":"Methodology","index":3,"n_rows":34,"n_cols":6,"rows_kept":34,"cut":false,"hidden":false,"merged":[[25,2,25,5],[26,2,26,5],[31,2,31,5],[32,2,32,5],[33,2,33,5],[24,2,24,5],[3,2,3,5],[4,2,4,5],[6,2,6,5],[7,2,7,5],[8,2,8,5],[9,2,9,5],[10,2,10,5],[14,2,14,5],[16,2,16,5],[19,2,19,5],[23,2,23,5]]}
[]
[]
[null,null,null,null,null,{"$f":"UPPER(Lists!K3)","v":"STATISTICAL OFFICE OF THE EUROPEAN UNION"}]
[null,null,{"$f":"UPPER(Lists!K7)","v":"BIENNIAL WASTE STATISTICS REGULATION - WASTE TREATMENT"}]
[null,null,{"$f":"CONCATENATE(Lists!K8,\" DATA COLLECTION\")","v":"2024 DATA COLLECTION"}]
[]
[null,null,"METHODOLOGY AND LEGAL ACTS"]
[null,null,"Table of contents"]
[null,null,"   1. Background"]
[null,null,"   2. Legal acts"]
[null,null,"   3. Data reporting - questionnaire"]
[]
[null,null,"1. Background"]
[]
[null,null,"Regular Community statistics on the production and management of waste from businesses and private households are required by the Community for monitoring the implementation of waste policy. Regulation (EC) No 2150/2002 of the European Parliament and of the Council of 25 November 2002 on waste statistics creates the basis for monitoring compliance with the principles of maximisation of recovery and safe disposal."]
[]
[null,null,"This reporting template allows Member States to report waste generation pursuant to the requirements of this Regulation and the amending Commission Regulation (EU) No 849/2010."]
[]
[null,null,"The guidelines are available here:"]
[null,null,{"$f":"Lists!K19","v":"https://ec.europa.eu/eurostat/web/waste/methodology"}]
[]
[null,null,"2.  Legal acts"]
[]
[null,null,"European Parliament and Council Regulation 2150/2002 was last amended by amending Commission Regulation (EU) No 849/2010."]
[null,null,"Definitions and classifications in these Regulations are based on the Waste Framework Directive - Directive 2008/98/EC of the European Parliament and the Council  (https://eur-lex.europa.eu/legal-content/EN/TXT/?uri=CELEX:02008L0098-20180705)"]
[null,null,"The legislation is available here:"]
[null,null,{"$f":"Lists!K20","v":"https://ec.europa.eu/eurostat/web/waste/legislation"}]
[null,null,null,null,"https://eur-lex.europa.eu/legal-content/EN/TXT/?uri=CELEX:02008L0098-20180705"]
[]
[null,null,"3. Data reporting - questionnaire"]
[]
[null,null,"This document assists Member States to report high quality, harmonised and efficient statistics. Detailed instructions can be found in the guidance document referred to above."]
[null,null,"The reporting shall cover a full calendar year."]
[null,null,"The basic instructions sheet consists of some information necessary for filling in this questionnaire correctly, like unit of measure, allowed symbols, metadata, footnotes, and transmission to Eurostat."]

{"sheet":"Validation rules","index":4,"n_rows":32,"n_cols":6,"rows_kept":32,"cut":false,"hidden":false,"merged":[[31,2,31,5],[10,2,10,5],[14,2,14,5],[15,2,15,5],[16,2,16,5],[20,2,20,5],[21,2,21,5],[22,2,22,5],[23,2,23,5],[24,2,24,5],[25,2,25,5],[26,2,26,5],[27,2,27,5],[9,2,9,5],[3,2,3,5],[4,2,4,5],[6,2,6,5],[7,2,7,5],[8,2,8,5]]}
[]
[]
[null,null,null,null,null,{"$f":"UPPER(Lists!K3)","v":"STATISTICAL OFFICE OF THE EUROPEAN UNION"}]
[null,null,{"$f":"UPPER(Lists!K7)","v":"BIENNIAL WASTE STATISTICS REGULATION - WASTE TREATMENT"}]
[null,null,{"$f":"CONCATENATE(Lists!K8,\" DATA COLLECTION\")","v":"2024 DATA COLLECTION"}]
[]
[null,null,"VALIDATION RULES"]
[null,null,"Table of contents"]
[null,null,"  1. Mandatory data"]
[null,null,"  2. Arithmetic rules"]
[null,null,"  3. Explanatory footnotes"]
[]
[null,null,"1. Mandatory Data:"]
[]
[null,null,"All the information requested in the sheet \"GETTING STARTED\" must be filled in."]
[null,null,"All the mandatory cells (white cells) in table 1 must be filled-in."]
[null,null,"If mandatory cells are left empty, an explanation why the data is missing has to be provided by means of the \"Explanatory footnote\" next to the missing value. "]
[]
[null,null,"2. Arithmetic rules"]
[]
[null,null,"All reported values must be equal or bigger than 0 (positive values)."]
[null,null,"Hazardous plus non-hazardous waste must be equal to the total for each waste category."]
[null,null,"Total waste (coded as TOTAL) must equal to the sum of all EWCstat. categories"]
[null,null,"Total Waste (excluding mineral waste) coded as TOT_X_MIN must be equal to the sum of all EWCstat. minus the following categories:\n  - 12.1 Mineral waste from construction and demolition (coded W121)\n  - 12.2,12.3 and 12.5 Other mineral wastes (Coded W12B)\n  - 12.6 Soils (coded W126)\n  - 12.7 Dredging spoils (coded W127)"]
[null,null,"Primary waste, coded as PRIM, must be equal to the sum of all EWCstat. categories minus\n  - 03.3 Sludges and liquid waste from waste treatment (Coded W033)\n  - 10.3 Sorting residues (Coded W103)\n  - 128_13 Mineral waste from waste treatment and stabilised waste (Coded W128_13)"]
[null,null,"Secondary waste, coded as SEC, must be equal to the sum of the following EWCstat. categories                                                \n- 03.3 Sludges and liquid waste from waste treatment (Coded W033)\n  - 10.3 Sorting residues (Coded W103)\n  - 128_13 Mineral waste from waste treatment and stabilised waste (Coded W128_13)"]
[null,null,"\"Recovery - recycling and backfilling\" (coded RCV_R_B) must be equal to \"Recovery -  recycling\" (coded RCV_R) plus \"Recovery -  backfilling\" (coded RCV_B)"]
[null,null,"\"Disposal - landfill and other (D1-D7, D12)\" (coded DSP_L_OTH) must be equal to \"Disposal - landfill (D1, D5, D12)\" (coded DSP_L) plus \"Disposal - other (D2-D4, D6-D7)\" (coded DSP_OTH)"]
[]
[null,null,"3. Explanatory footnotes"]
[]
[null,null,"When an explanatory footnote is referenced (by means of a number selected from the drop-down list), the referenced footnote in the sheet \"Footnotes list\" must not be empty."]

{"sheet":"GETTING STARTED","index":5,"n_rows":23,"n_cols":7,"rows_kept":23,"cut":false,"hidden":false,"merged":[[17,3,17,6],[19,3,19,6],[21,3,21,6],[22,2,22,6],[3,2,3,6],[4,2,4,6],[6,2,6,6],[11,2,11,6],[13,3,13,6],[15,3,15,6]]}
[]
[]
[null,null,null,null,null,null,{"$f":"UPPER(Lists!K3)","v":"STATISTICAL OFFICE OF THE EUROPEAN UNION"}]
[null,null,{"$f":"UPPER(Lists!K7)","v":"BIENNIAL WASTE STATISTICS REGULATION - WASTE TREATMENT"}]
[null,null,{"$f":"CONCATENATE(Lists!K8,\" DATA COLLECTION\")","v":"2024 DATA COLLECTION"}]
[]
[null,null," GETTING STARTED"]
[]
[null,null,"Please select your country (click on the white cell):",null,"Croatia",null,{"$f":"IF(E9=\"\",\"\",VLOOKUP(E9,Lists!A2:B44,2,FALSE))","v":"HR"}]
[null,null,"Reference year:    ",null,2022]
[null,null,{"$f":"CONCATENATE(\"The due date for reporting is \",Lists!K10)","v":"The due date for reporting is 30 June 2024"}]
[null,null,{"$f":"\"Who is the primary contact point for the data collection '\" &  Lists!K7&\"' in your country?\"","v":"Who is the primary contact point for the data collection 'Biennial Waste Statistics Regulation - Waste Treatment' in your country?"}]
[]
[null,null,"Name:","Jasna Kufrin"]
[]
[null,null,"Institution:","Ministry of Environmental Protection and Green Transition"]
[]
[null,null,"Unit:","Institute for Environment and Nature"]
[]
[null,null,"Telephone:","+38514886851"]
[]
[null,null,"Email adress:","jasna.kufrin@mzozt.hr"]
[null,null,"Eurostat would be grateful if you could send us the completed questionnaire ahead of the deadline. "]

{"sheet":"Footnotes list","index":6,"n_rows":58,"n_cols":5,"rows_kept":58,"cut":false,"hidden":false,"merged":[[1,3,1,4],[3,3,3,4],[4,3,4,4],[6,3,6,4],[7,3,7,4]]}
[]
[]
[null,null,null,null,{"$f":"UPPER(Lists!K3)","v":"STATISTICAL OFFICE OF THE EUROPEAN UNION"}]
[null,null,null,{"$f":"UPPER(Lists!K7)","v":"BIENNIAL WASTE STATISTICS REGULATION - WASTE TREATMENT"}]
[null,null,null,{"$f":"CONCATENATE(Lists!K8,\" DATA COLLECTION\")","v":"2024 DATA COLLECTION"}]
[]
[null,null,null,"EXPLANATORY FOOTNOTES"]
[null,null,null,{"$f":"IF('GETTING STARTED'!E9=\"\",\"\",'GETTING STARTED'!E9)","v":"Croatia"}]
[null,null,null,1,"Type your text here."]
[null,null,null,2]
[null,null,null,3]
[null,null,null,4]
[null,null,null,5]
[null,null,null,6]
[null,null,null,7]
[null,null,null,8]
[null,null,null,9]
[null,null,null,10]
[null,null,null,11]
[null,null,null,12]
[null,null,null,13]
[null,null,null,14]
[null,null,null,15]
[null,null,null,16]
[null,null,null,17]
[null,null,null,18]
[null,null,null,19]
[null,null,null,20]
[null,null,null,21]
[null,null,null,22]
[null,null,null,23]
[null,null,null,24]
[null,null,null,25]
[null,null,null,26]
[null,null,null,27]
[null,null,null,28]
[null,null,null,29]
[null,null,null,30]
[null,null,null,31]
[null,null,null,32]
[null,null,null,33]
[null,null,null,34]
[null,null,null,35]
[null,null,null,36]
[null,null,null,37]
[null,null,null,38]
[null,null,null,39]
[null,null,null,40]
[null,null,null,41]
[null,null,null,42]
[null,null,null,43]
[null,null,null,44]
[null,null,null,45]
[null,null,null,46]
[null,null,null,47]
[null,null,null,48]
[null,null,null,49]
[null,null,null,50]

{"sheet":"Table_1","index":7,"n_rows":136,"n_cols":51,"rows_kept":136,"cut":false,"hidden":false,"merged":[[4,41,4,45],[4,46,4,50],[6,9,6,10],[6,14,6,15],[6,19,6,20],[6,24,6,25],[6,29,6,30],[6,34,6,35],[6,39,6,40],[6,44,6,45],[6,49,6,50],[4,6,4,10],[4,11,4,15],[4,16,4,20],[4,21,4,25],[4,31,4,35],[4,36,4,40],[49,3,51,3],[55,3,57,3],[4,26,4,30],[46,3,48,3],[58,3,60,3],[6,1,6,5],[52,3,54,3],[7,3,9,3],[10,3,12,3],[13,3,15,3],[16,3,18,3],[19,3,21,3],[34,3,36,3],[37,3,39,3],[40,3,42,3],[43,3,45,3],[49,1,51,1],[52,1,54,1],[55,1,57,1],[58,1,60,1],[61,3,63,3],[64,3,66,3],[67,3,69,3],[70,3,72,3],[73,3,75,3],[76,3,78,3],[79,3,81,3],[82,3,84,3],[115,3,117,3],[103,1,105,1],[115,1,117,1],[85,3,87,3],[88,3,90,3],[91,3,93,3],[94,3,96,3],[97,3,99,3],[94,1,96,1],[97,1,99,1],[100,1,102,1],[100,3,102,3],[103,3,105,3],[112,1,114,1],[112,3,114,3],[79,1,81,1],[82,1,84,1],[85,1,87,1],[88,1,90,1],[91,1,93,1],[106,1,108,1],[106,3,108,3],[109,1,111,1],[109,3,111,3],[64,1,66,1],[67,1,69,1],[70,1,72,1],[73,1,75,1],[76,1,78,1],[61,1,63,1],[34,1,36,1],[37,1,39,1],[40,1,42,1],[43,1,45,1],[46,1,48,1],[7,1,9,1],[10,1,12,1],[13,1,15,1],[16,1,18,1],[19,1,21,1],[22,1,24,1],[25,1,27,1],[28,1,30,1],[31,1,33,1],[22,3,24,3],[25,3,27,3],[28,3,30,3],[31,3,33,3]]}
[]
[]
[null,"Country:",null,{"$f":"IF('GETTING STARTED'!E9=\"\",\"\",'GETTING STARTED'!E9)","v":"Croatia"},null,{"$f":"IF('GETTING STARTED'!G9=\"\",\"\",'GETTING STARTED'!G9)","v":"HR"}]
[null,"Reference year:",null,{"$f":"IF('GETTING STARTED'!E10=\"\",\"\",'GETTING STARTED'!E10)","v":2022}]
[null,"Unit: Tonnes",null,"T",null,null,"RCV_E",null,null,null,null,"DSP_I",null,null,null,null,"RCV_R",null,null,null,null,"RCV_B",null,null,null,null,"RCV_R_B",null,null,null,null,"DSP_L",null,null,null,null,"DSP_OTH",null,null,null,null,"DSP_L_OTH",null,null,null,null,"TRT"]
[null,null,null,null,null,null,"RCV_E",null,null,null,null,"DSP_I",null,null,null,null,"RCV_R",null,null,null,null,"RCV_B",null,null,null,null,"RCV_R_B",null,null,null,null,"DSP_L",null,null,null,null,"DSP_OTH",null,null,null,null,"DSP_L_OTH",null,null,null,null,"TRT"]
[null,"WASTE TREATMENT by waste category\n (EWC-STAT)\nand treatment category",null,null,null,null,"Recovery -\nenergy recovery\n(R1)","Standard footnote","Confidentiality footnote","Explanatory footnote",null,"Disposal - incineration\n(D10)","Standard footnote","Confidentiality footnote","Explanatory footnote",null,"Recovery\n -\n recycling","Standard footnote","Confidentiality footnote","Explanatory footnote",null,"Recovery\n -\n backfilling","Standard footnote","Confidentiality footnote","Explanatory footnote",null,"Recovery\n -\n recycling and backfilling","Standard footnote","Confidentiality footnote","Explanatory footnote",null,"Disposal - landfill\n(D1, D5, D12)","Standard footnote","Confidentiality footnote","Explanatory footnote",null,"Disposal - other\n(D2-D4, D6-D7)","Standard footnote","Confidentiality footnote","Explanatory footnote",null,"Disposal - landfill and other\n(D1-D7, D12)","Standard footnote","Confidentiality footnote","Explanatory footnote",null,"Waste treatment","Standard footnote","Confidentiality footnote","Explanatory footnote"]
[null,"W011","W011","Spent solvents ","HAZ","Hazardous ",3.5150000000000001,null,null,null,{"$f":"IF(TRIM(J8)=\"\", \"\", IF(VLOOKUP(J8,'Footnotes list'!$D$9:$E$58,2,FALSE)=0,\"\",VLOOKUP(J8,'Footnotes list'!$D$9:$E$58,2,FALSE) ) )","v":""},0,null,null,null,{"$f":"IF(TRIM(O8)=\"\", \"\", IF(VLOOKUP(O8,'Footnotes list'!$D$9:$E$58,2,FALSE)=0,\"\",VLOOKUP(O8,'Footnotes list'!$D$9:$E$58,2,FALSE) ) )","v":""},671.76900000000001,null,null,null,{"$f":"IF(TRIM(T8)=\"\", \"\", IF(VLOOKUP(T8,'Footnotes list'!$D$9:$E$58,2,FALSE)=0,\"\",VLOOKUP(T8,'Footnotes list'!$D$9:$E$58,2,FALSE) ) )","v":""},0,null,null,null,{"$f":"IF(TRIM(Y8)=\"\", \"\", IF(VLOOKUP(Y8,'Footnotes list'!$D$9:$E$58,2,FALSE)=0,\"\",VLOOKUP(Y8,'Footnotes list'!$D$9:$E$58,2,FALSE) ) )","v":""},{"$f":"IF(AND(TRIM(Q8)=\"\",TRIM(V8)=\"\"),\"\",Q8+V8)","v":671.76900000000001},null,null,null,{"$f":"IF(TRIM(AD8)=\"\", \"\", IF(VLOOKUP(AD8,'Footnotes list'!$D$9:$E$58,2,FALSE)=0,\"\",VLOOKUP(AD8,'Footnotes list'!$D$9:$E$58,2,FALSE) ) )","v":""},0,null,null,null,{"$f":"IF(TRIM(AI8)=\"\", \"\", IF(VLOOKUP(AI8,'Footnotes list'!$D$9:$E$58,2,FALSE)=0,\"\",VLOOKUP(AI8,'Footnotes list'!$D$9:$E$58,2,FALSE) ) )","v":""},0,null,null,null,{"$f":"IF(TRIM(AN8)=\"\", \"\", IF(VLOOKUP(AN8,'Footnotes list'!$D$9:$E$58,2,FALSE)=0,\"\",VLOOKUP(AN8,'Footnotes list'!$D$9:$E$58,2,FALSE) ) )","v":""},{"$f":"IF(AND(TRIM(AF8)=\"\",TRIM(AK8)=\"\"),\"\",AF8+AK8)","v":0},null,null,null,{"$f":"IF(TRIM(AS8)=\"\", \"\", IF(VLOOKUP(AS8,'Footnotes list'!$D$9:$E$58,2,FALSE)=0,\"\",VLOOKUP(AS8,'Footnotes list'!$D$9:$E$58,2,FALSE) ) )","v":""},{"$f":"IF(AND(TRIM(G8)=\"\",TRIM(L8)=\"\",TRIM(AA8)=\"\",TRIM(AP8)=\"\"),\"\",SUM(G8,L8,AA8,AP8))","v":675.28399999999999},null,null,null,{"$f":"IF(TRIM(AX8)=\"\", \"\", IF(VLOOKUP(AX8,'Footnotes list'!$D$9:$E$58,2,FALSE)=0,\"\",VLOOKUP(AX8,'Footnotes list'!$D$9:$E$58,2,FALSE) ) )","v":""}]
[null,null,null,null,null,"Not applicable"]
[null,null,"W011",null,"HAZ_NHAZ","Total",{"$f":"IF(AND(TRIM(G8)=\"\",TRIM(G9)=\"\"),\"\",G8+G9)","v":3.5150000000000001},null,null,null,{"$f":"IF(TRIM(J10)=\"\", \"\", IF(VLOOKUP(J10,'Footnotes list'!$D$9:$E$58,2,FALSE)=0,\"\",VLOOKUP(J10,'Footnotes list'!$D$9:$E$58,2,FALSE) ) )","v":""},{"$f":"IF(AND(TRIM(L8)=\"\",TRIM(L9)=\"\"),\"\",L8+L9)","v":0},null,null,null,{"$f":"IF(TRIM(O10)=\"\", \"\", IF(VLOOKUP(O10,'Footnotes list'!$D$9:$E$58,2,FALSE)=0,\"\",VLOOKUP(O10,'Footnotes list'!$D$9:$E$58,2,FALSE) ) )","v":""},{"$f":"IF(AND(TRIM(Q8)=\"\",TRIM(Q9)=\"\"),\"\",Q8+Q9)","v":671.76900000000001},null,null,null,{"$f":"IF(TRIM(T10)=\"\", \"\", IF(VLOOKUP(T10,'Footnotes list'!$D$9:$E$58,2,FALSE)=0,\"\",VLOOKUP(T10,'Footnotes list'!$D$9:$E$58,2,FALSE) ) )","v":""},{"$f":"IF(AND(TRIM(V8)=\"\",TRIM(V9)=\"\"),\"\",V8+V9)","v":0},null,null,null,{"$f":"IF(TRIM(Y10)=\"\", \"\", IF(VLOOKUP(Y10,'Footnotes list'!$D$9:$E$58,2,FALSE)=0,\"\",VLOOKUP(Y10,'Footnotes list'!$D$9:$E$58,2,FALSE) ) )","v":""},{"$f":"IF(AND(TRIM(AA8)=\"\", TRIM(AA9)=\"\"), \"\", SUM(AA8,AA9))","v":671.76900000000001},null,null,null,{"$f":"IF(TRIM(AD10)=\"\", \"\", IF(VLOOKUP(AD10,'Footnotes list'!$D$9:$E$58,2,FALSE)=0,\"\",VLOOKUP(AD10,'Footnotes list'!$D$9:$E$58,2,FALSE) ) )","v":""},{"$f":"IF(AND(TRIM(AF8)=\"\",TRIM(AF9)=\"\"),\"\",AF8+AF9)","v":0},null,null,null,{"$f":"IF(TRIM(AI10)=\"\", \"\", IF(VLOOKUP(AI10,'Footnotes list'!$D$9:$E$58,2,FALSE)=0,\"\",VLOOKUP(AI10,'Footnotes list'!$D$9:$E$58,2,FALSE) ) )","v":""},{"$f":"IF(AND(TRIM(AK8)=\"\",TRIM(AK9)=\"\"),\"\",AK8+AK9)","v":0},null,null,null,{"$f":"IF(TRIM(AN10)=\"\", \"\", IF(VLOOKUP(AN10,'Footnotes list'!$D$9:$E$58,2,FALSE)=0,\"\",VLOOKUP(AN10,'Footnotes list'!$D$9:$E$58,2,FALSE) ) )","v":""},{"$f":"IF(AND(TRIM(AP8)=\"\", TRIM(AP9)=\"\"), \"\", SUM(AP8,AP9))","v":0},null,null,null,{"$f":"IF(TRIM(AS10)=\"\", \"\", IF(VLOOKUP(AS10,'Footnotes list'!$D$9:$E$58,2,FALSE)=0,\"\",VLOOKUP(AS10,'Footnotes list'!$D$9:$E$58,2,FALSE) ) )","v":""},{"$f":"IF(AND(TRIM(AU8)=\"\", TRIM(AU9)=\"\"), \"\", SUM(AU8,AU9) )","v":675.28399999999999},null,null,null,{"$f":"IF(TRIM(AX10)=\"\", \"\", IF(VLOOKUP(AX10,'Footnotes list'!$D$9:$E$58,2,FALSE)=0,\"\",VLOOKUP(AX10,'Footnotes list'!$D$9:$E$58,2,FALSE) ) )","v":""}]
[null,"W012","W012","Acid, alkaline or saline wastes ","HAZ","Hazardous ",0,null,null,null,{"$f":"IF(TRIM(J11)=\"\", \"\", IF(VLOOKUP(J11,'Footnotes list'!$D$9:$E$58,2,FALSE)=0,\"\",VLOOKUP(J11,'Footnotes list'!$D$9:$E$58,2,FALSE) ) )","v":""},0,null,null,null,{"$f":"IF(TRIM(O11)=\"\", \"\", IF(VLOOKUP(O11,'Footnotes list'!$D$9:$E$58,2,FALSE)=0,\"\",VLOOKUP(O11,'Footnotes list'!$D$9:$E$58,2,FALSE) ) )","v":""},22.38,null,null,null,{"$f":"IF(TRIM(T11)=\"\", \"\", IF(VLOOKUP(T11,'Footnotes list'!$D$9:$E$58,2,FALSE)=0,\"\",VLOOKUP(T11,'Footnotes list'!$D$9:$E$58,2,FALSE) ) )","v":""},0,null,null,null,{"$f":"IF(TRIM(Y11)=\"\", \"\", IF(VLOOKUP(Y11,'Footnotes list'!$D$9:$E$58,2,FALSE)=0,\"\",VLOOKUP(Y11,'Footnotes list'!$D$9:$E$58,2,FALSE) ) )","v":""},{"$f":"IF(AND(TRIM(Q11)=\"\",TRIM(V11)=\"\"),\"\",Q11+V11)","v":22.38},null,null,null,{"$f":"IF(TRIM(AD11)=\"\", \"\", IF(VLOOKUP(AD11,'Footnotes list'!$D$9:$E$58,2,FALSE)=0,\"\",VLOOKUP(AD11,'Footnotes list'!$D$9:$E$58,2,FALSE) ) )","v":""},0,null,null,null,{"$f":"IF(TRIM(AI11)=\"\", \"\", IF(VLOOKUP(AI11,'Footnotes list'!$D$9:$E$58,2,FALSE)=0,\"\",VLOOKUP(AI11,'Footnotes list'!$D$9:$E$58,2,FALSE) ) )","v":""},0,null,null,null,{"$f":"IF(TRIM(AN11)=\"\", \"\", IF(VLOOKUP(AN11,'Footnotes list'!$D$9:$E$58,2,FALSE)=0,\"\",VLOOKUP(AN11,'Footnotes list'!$D$9:$E$58,2,FALSE) ) )","v":""},{"$f":"IF(AND(TRIM(AF11)=\"\",TRIM(AK11)=\"\"),\"\",AF11+AK11)","v":0},null,null,null,{"$f":"IF(TRIM(AS11)=\"\", \"\", IF(VLOOKUP(AS11,'Footnotes list'!$D$9:$E$58,2,FALSE)=0,\"\",VLOOKUP(AS11,'Footnotes list'!$D$9:$E$58,2,FALSE) ) )","v":""},{"$f":"IF(AND(TRIM(G11)=\"\",TRIM(L11)=\"\",TRIM(AA11)=\"\",TRIM(AP11)=\"\"),\"\",SUM(G11,L11,AA11,AP11))","v":22.38},null,null,null,{"$f":"IF(TRIM(AX11)=\"\", \"\", IF(VLOOKUP(AX11,'Footnotes list'!$D$9:$E$58,2,FALSE)=0,\"\",VLOOKUP(AX11,'Footnotes list'!$D$9:$E$58,2,FALSE) ) )","v":""}]
[null,null,"W012",null,"NHAZ","Non-hazardous",0,null,null,null,{"$f":"IF(TRIM(J12)=\"\", \"\", IF(VLOOKUP(J12,'Footnotes list'!$D$9:$E$58,2,FALSE)=0,\"\",VLOOKUP(J12,'Footnotes list'!$D$9:$E$58,2,FALSE) ) )","v":""},0,null,null,null,{"$f":"IF(TRIM(O12)=\"\", \"\", IF(VLOOKUP(O12,'Footnotes list'!$D$9:$E$58,2,FALSE)=0,\"\",VLOOKUP(O12,'Footnotes list'!$D$9:$E$58,2,FALSE) ) )","v":""},0,null,null,null,{"$f":"IF(TRIM(T12)=\"\", \"\", IF(VLOOKUP(T12,'Footnotes list'!$D$9:$E$58,2,FALSE)=0,\"\",VLOOKUP(T12,'Footnotes list'!$D$9:$E$58,2,FALSE) ) )","v":""},0,null,null,null,{"$f":"IF(TRIM(Y12)=\"\", \"\", IF(VLOOKUP(Y12,'Footnotes list'!$D$9:$E$58,2,FALSE)=0,\"\",VLOOKUP(Y12,'Footnotes list'!$D$9:$E$58,2,FALSE) ) )","v":""},{"$f":"IF(AND(TRIM(Q12)=\"\",TRIM(V12)=\"\"),\"\",Q12+V12)","v":0},null,null,null,{"$f":"IF(TRIM(AD12)=\"\", \"\", IF(VLOOKUP(AD12,'Footnotes list'!$D$9:$E$58,2,FALSE)=0,\"\",VLOOKUP(AD12,'Footnotes list'!$D$9:$E$58,2,FALSE) ) )","v":""},4.6399999999999997,null,null,null,{"$f":"IF(TRIM(AI12)=\"\", \"\", IF(VLOOKUP(AI12,'Footnotes list'!$D$9:$E$58,2,FALSE)=0,\"\",VLOOKUP(AI12,'Footnotes list'!$D$9:$E$58,2,FALSE) ) )","v":""},0,null,null,null,{"$f":"IF(TRIM(AN12)=\"\", \"\", IF(VLOOKUP(AN12,'Footnotes list'!$D$9:$E$58,2,FALSE)=0,\"\",VLOOKUP(AN12,'Footnotes list'!$D$9:$E$58,2,FALSE) ) )","v":""},{"$f":"IF(AND(TRIM(AF12)=\"\",TRIM(AK12)=\"\"),\"\",AF12+AK12)","v":4.6399999999999997},null,null,null,{"$f":"IF(TRIM(AS12)=\"\", \"\", IF(VLOOKUP(AS12,'Footnotes list'!$D$9:$E$58,2,FALSE)=0,\"\",VLOOKUP(AS12,'Footnotes list'!$D$9:$E$58,2,FALSE) ) )","v":""},{"$f":"IF(AND(TRIM(G12)=\"\",TRIM(L12)=\"\",TRIM(AA12)=\"\",TRIM(AP12)=\"\"),\"\",SUM(G12,L12,AA12,AP12))","v":4.6399999999999997},null,null,null,{"$f":"IF(TRIM(AX12)=\"\", \"\", IF(VLOOKUP(AX12,'Footnotes list'!$D$9:$E$58,2,FALSE)=0,\"\",VLOOKUP(AX12,'Footnotes list'!$D$9:$E$58,2,FALSE) ) )","v":""}]
[null,null,"W012",null,"HAZ_NHAZ","Total",{"$f":"IF(AND(TRIM(G11)=\"\",TRIM(G12)=\"\"),\"\",G11+G12)","v":0},null,null,null,{"$f":"IF(TRIM(J13)=\"\", \"\", IF(VLOOKUP(J13,'Footnotes list'!$D$9:$E$58,2,FALSE)=0,\"\",VLOOKUP(J13,'Footnotes list'!$D$9:$E$58,2,FALSE) ) )","v":""},{"$f":"IF(AND(TRIM(L11)=\"\",TRIM(L12)=\"\"),\"\",L11+L12)","v":0},null,null,null,{"$f":"IF(TRIM(O13)=\"\", \"\", IF(VLOOKUP(O13,'Footnotes list'!$D$9:$E$58,2,FALSE)=0,\"\",VLOOKUP(O13,'Footnotes list'!$D$9:$E$58,2,FALSE) ) )","v":""},{"$f":"IF(AND(TRIM(Q11)=\"\",TRIM(Q12)=\"\"),\"\",Q11+Q12)","v":22.38},null,null,null,{"$f":"IF(TRIM(T13)=\"\", \"\", IF(VLOOKUP(T13,'Footnotes list'!$D$9:$E$58,2,FALSE)=0,\"\",VLOOKUP(T13,'Footnotes list'!$D$9:$E$58,2,FALSE) ) )","v":""},{"$f":"IF(AND(TRIM(V11)=\"\",TRIM(V12)=\"\"),\"\",V11+V12)","v":0},null,null,null,{"$f":"IF(TRIM(Y13)=\"\", \"\", IF(VLOOKUP(Y13,'Footnotes list'!$D$9:$E$58,2,FALSE)=0,\"\",VLOOKUP(Y13,'Footnotes list'!$D$9:$E$58,2,FALSE) ) )","v":""},{"$f":"IF(AND(TRIM(AA11)=\"\", TRIM(AA12)=\"\"), \"\", SUM(AA11,AA12))","v":22.38},null,null,null,{"$f":"IF(TRIM(AD13)=\"\", \"\", IF(VLOOKUP(AD13,'Footnotes list'!$D$9:$E$58,2,FALSE)=0,\"\",VLOOKUP(AD13,'Footnotes list'!$D$9:$E$58,2,FALSE) ) )","v":""},{"$f":"IF(AND(TRIM(AF11)=\"\",TRIM(AF12)=\"\"),\"\",AF11+AF12)","v":4.6399999999999997},null,null,null,{"$f":"IF(TRIM(AI13)=\"\", \"\", IF(VLOOKUP(AI13,'Footnotes list'!$D$9:$E$58,2,FALSE)=0,\"\",VLOOKUP(AI13,'Footnotes list'!$D$9:$E$58,2,FALSE) ) )","v":""},{"$f":"IF(AND(TRIM(AK11)=\"\",TRIM(AK12)=\"\"),\"\",AK11+AK12)","v":0},null,null,null,{"$f":"IF(TRIM(AN13)=\"\", \"\", IF(VLOOKUP(AN13,'Footnotes list'!$D$9:$E$58,2,FALSE)=0,\"\",VLOOKUP(AN13,'Footnotes list'!$D$9:$E$58,2,FALSE) ) )","v":""},{"$f":"IF(AND(TRIM(AP11)=\"\", TRIM(AP12)=\"\"), \"\", SUM(AP11,AP12))","v":4.6399999999999997},null,null,null,{"$f":"IF(TRIM(AS13)=\"\", \"\", IF(VLOOKUP(AS13,'Footnotes list'!$D$9:$E$58,2,FALSE)=0,\"\",VLOOKUP(AS13,'Footnotes list'!$D$9:$E$58,2,FALSE) ) )","v":""},{"$f":"IF(AND(TRIM(AU11)=\"\", TRIM(AU12)=\"\"), \"\", SUM(AU11,AU12) )","v":27.02},null,null,null,{"$f":"IF(TRIM(AX13)=\"\", \"\", IF(VLOOKUP(AX13,'Footnotes list'!$D$9:$E$58,2,FALSE)=0,\"\",VLOOKUP(AX13,'Footnotes list'!$D$9:$E$58,2,FALSE) ) )","v":""}]
[null,"W013","W013","Used oils ","HAZ","Hazardous ",9159.3729999999996,null,null,null,{"$f":"IF(TRIM(J14)=\"\", \"\", IF(VLOOKUP(J14,'Footnotes list'!$D$9:$E$58,2,FALSE)=0,\"\",VLOOKUP(J14,'Footnotes list'!$D$9:$E$58,2,FALSE) ) )","v":""},0,null,null,null,{"$f":"IF(TRIM(O14)=\"\", \"\", IF(VLOOKUP(O14,'Footnotes list'!$D$9:$E$58,2,FALSE)=0,\"\",VLOOKUP(O14,'Footnotes list'!$D$9:$E$58,2,FALSE) ) )","v":""},178.32,null,null,null,{"$f":"IF(TRIM(T14)=\"\", \"\", IF(VLOOKUP(T14,'Footnotes list'!$D$9:$E$58,2,FALSE)=0,\"\",VLOOKUP(T14,'Footnotes list'!$D$9:$E$58,2,FALSE) ) )","v":""},0,null,null,null,{"$f":"IF(TRIM(Y14)=\"\", \"\", IF(VLOOKUP(Y14,'Footnotes list'!$D$9:$E$58,2,FALSE)=0,\"\",VLOOKUP(Y14,'Footnotes list'!$D$9:$E$58,2,FALSE) ) )","v":""},{"$f":"IF(AND(TRIM(Q14)=\"\",TRIM(V14)=\"\"),\"\",Q14+V14)","v":178.32},null,null,null,{"$f":"IF(TRIM(AD14)=\"\", \"\", IF(VLOOKUP(AD14,'Footnotes list'!$D$9:$E$58,2,FALSE)=0,\"\",VLOOKUP(AD14,'Footnotes list'!$D$9:$E$58,2,FALSE) ) )","v":""},0,null,null,null,{"$f":"IF(TRIM(AI14)=\"\", \"\", IF(VLOOKUP(AI14,'Footnotes list'!$D$9:$E$58,2,FALSE)=0,\"\",VLOOKUP(AI14,'Footnotes list'!$D$9:$E$58,2,FALSE) ) )","v":""},0,null,null,null,{"$f":"IF(TRIM(AN14)=\"\", \"\", IF(VLOOKUP(AN14,'Footnotes list'!$D$9:$E$58,2,FALSE)=0,\"\",VLOOKUP(AN14,'Footnotes list'!$D$9:$E$58,2,FALSE) ) )","v":""},{"$f":"IF(AND(TRIM(AF14)=\"\",TRIM(AK14)=\"\"),\"\",AF14+AK14)","v":0},null,null,null,{"$f":"IF(TRIM(AS14)=\"\", \"\", IF(VLOOKUP(AS14,'Footnotes list'!$D$9:$E$58,2,FALSE)=0,\"\",VLOOKUP(AS14,'Footnotes list'!$D$9:$E$58,2,FALSE) ) )","v":""},{"$f":"IF(AND(TRIM(G14)=\"\",TRIM(L14)=\"\",TRIM(AA14)=\"\",TRIM(AP14)=\"\"),\"\",SUM(G14,L14,AA14,AP14))","v":9337.6929999999993},null,null,null,{"$f":"IF(TRIM(AX14)=\"\", \"\", IF(VLOOKUP(AX14,'Footnotes list'!$D$9:$E$58,2,FALSE)=0,\"\",VLOOKUP(AX14,'Footnotes list'!$D$9:$E$58,2,FALSE) ) )","v":""}]
[null,null,null,null,null,"Not applicable"]
[null,null,"W013",null,"HAZ_NHAZ","Total",{"$f":"IF(AND(TRIM(G14)=\"\",TRIM(G15)=\"\"),\"\",G14+G15)","v":9159.3729999999996},null,null,null,{"$f":"IF(TRIM(J16)=\"\", \"\", IF(VLOOKUP(J16,'Footnotes list'!$D$9:$E$58,2,FALSE)=0,\"\",VLOOKUP(J16,'Footnotes list'!$D$9:$E$58,2,FALSE) ) )","v":""},{"$f":"IF(AND(TRIM(L14)=\"\",TRIM(L15)=\"\"),\"\",L14+L15)","v":0},null,null,null,{"$f":"IF(TRIM(O16)=\"\", \"\", IF(VLOOKUP(O16,'Footnotes list'!$D$9:$E$58,2,FALSE)=0,\"\",VLOOKUP(O16,'Footnotes list'!$D$9:$E$58,2,FALSE) ) )","v":""},{"$f":"IF(AND(TRIM(Q14)=\"\",TRIM(Q15)=\"\"),\"\",Q14+Q15)","v":178.32},null,null,null,{"$f":"IF(TRIM(T16)=\"\", \"\", IF(VLOOKUP(T16,'Footnotes list'!$D$9:$E$58,2,FALSE)=0,\"\",VLOOKUP(T16,'Footnotes list'!$D$9:$E$58,2,FALSE) ) )","v":""},{"$f":"IF(AND(TRIM(V14)=\"\",TRIM(V15)=\"\"),\"\",V14+V15)","v":0},null,null,null,{"$f":"IF(TRIM(Y16)=\"\", \"\", IF(VLOOKUP(Y16,'Footnotes list'!$D$9:$E$58,2,FALSE)=0,\"\",VLOOKUP(Y16,'Footnotes list'!$D$9:$E$58,2,FALSE) ) )","v":""},{"$f":"IF(AND(TRIM(AA14)=\"\", TRIM(AA15)=\"\"), \"\", SUM(AA14,AA15))","v":178.32},null,null,null,{"$f":"IF(TRIM(AD16)=\"\", \"\", IF(VLOOKUP(AD16,'Footnotes list'!$D$9:$E$58,2,FALSE)=0,\"\",VLOOKUP(AD16,'Footnotes list'!$D$9:$E$58,2,FALSE) ) )","v":""},{"$f":"IF(AND(TRIM(AF14)=\"\",TRIM(AF15)=\"\"),\"\",AF14+AF15)","v":0},null,null,null,{"$f":"IF(TRIM(AI16)=\"\", \"\", IF(VLOOKUP(AI16,'Footnotes list'!$D$9:$E$58,2,FALSE)=0,\"\",VLOOKUP(AI16,'Footnotes list'!$D$9:$E$58,2,FALSE) ) )","v":""},{"$f":"IF(AND(TRIM(AK14)=\"\",TRIM(AK15)=\"\"),\"\",AK14+AK15)","v":0},null,null,null,{"$f":"IF(TRIM(AN16)=\"\", \"\", IF(VLOOKUP(AN16,'Footnotes list'!$D$9:$E$58,2,FALSE)=0,\"\",VLOOKUP(AN16,'Footnotes list'!$D$9:$E$58,2,FALSE) ) )","v":""},{"$f":"IF(AND(TRIM(AP14)=\"\", TRIM(AP15)=\"\"), \"\", SUM(AP14,AP15))","v":0},null,null,null,{"$f":"IF(TRIM(AS16)=\"\", \"\", IF(VLOOKUP(AS16,'Footnotes list'!$D$9:$E$58,2,FALSE)=0,\"\",VLOOKUP(AS16,'Footnotes list'!$D$9:$E$58,2,FALSE) ) )","v":""},{"$f":"IF(AND(TRIM(AU14)=\"\", TRIM(AU15)=\"\"), \"\", SUM(AU14,AU15) )","v":9337.6929999999993},null,null,null,{"$f":"IF(TRIM(AX16)=\"\", \"\", IF(VLOOKUP(AX16,'Footnotes list'!$D$9:$E$58,2,FALSE)=0,\"\",VLOOKUP(AX16,'Footnotes list'!$D$9:$E$58,2,FALSE) ) )","v":""}]
[null,"W02A","W02A","Chemical wastes ","HAZ","Hazardous ",2885.0360000000001,null,null,null,{"$f":"IF(TRIM(J17)=\"\", \"\", IF(VLOOKUP(J17,'Footnotes list'!$D$9:$E$58,2,FALSE)=0,\"\",VLOOKUP(J17,'Footnotes list'!$D$9:$E$58,2,FALSE) ) )","v":""},0,null,null,null,{"$f":"IF(TRIM(O17)=\"\", \"\", IF(VLOOKUP(O17,'Footnotes list'!$D$9:$E$58,2,FALSE)=0,\"\",VLOOKUP(O17,'Footnotes list'!$D$9:$E$58,2,FALSE) ) )","v":""},1714.556,null,null,null,{"$f":"IF(TRIM(T17)=\"\", \"\", IF(VLOOKUP(T17,'Footnotes list'!$D$9:$E$58,2,FALSE)=0,\"\",VLOOKUP(T17,'Footnotes list'!$D$9:$E$58,2,FALSE) ) )","v":""},0,null,null,null,{"$f":"IF(TRIM(Y17)=\"\", \"\", IF(VLOOKUP(Y17,'Footnotes list'!$D$9:$E$58,2,FALSE)=0,\"\",VLOOKUP(Y17,'Footnotes list'!$D$9:$E$58,2,FALSE) ) )","v":""},{"$f":"IF(AND(TRIM(Q17)=\"\",TRIM(V17)=\"\"),\"\",Q17+V17)","v":1714.556},null,null,null,{"$f":"IF(TRIM(AD17)=\"\", \"\", IF(VLOOKUP(AD17,'Footnotes list'!$D$9:$E$58,2,FALSE)=0,\"\",VLOOKUP(AD17,'Footnotes list'!$D$9:$E$58,2,FALSE) ) )","v":""},0,null,null,null,{"$f":"IF(TRIM(AI17)=\"\", \"\", IF(VLOOKUP(AI17,'Footnotes list'!$D$9:$E$58,2,FALSE)=0,\"\",VLOOKUP(AI17,'Footnotes list'!$D$9:$E$58,2,FALSE) ) )","v":""},0,null,null,null,{"$f":"IF(TRIM(AN17)=\"\", \"\", IF(VLOOKUP(AN17,'Footnotes list'!$D$9:$E$58,2,FALSE)=0,\"\",VLOOKUP(AN17,'Footnotes list'!$D$9:$E$58,2,FALSE) ) )","v":""},{"$f":"IF(AND(TRIM(AF17)=\"\",TRIM(AK17)=\"\"),\"\",AF17+AK17)","v":0},null,null,null,{"$f":"IF(TRIM(AS17)=\"\", \"\", IF(VLOOKUP(AS17,'Footnotes list'!$D$9:$E$58,2,FALSE)=0,\"\",VLOOKUP(AS17,'Footnotes list'!$D$9:$E$58,2,FALSE) ) )","v":""},{"$f":"IF(AND(TRIM(G17)=\"\",TRIM(L17)=\"\",TRIM(AA17)=\"\",TRIM(AP17)=\"\"),\"\",SUM(G17,L17,AA17,AP17))","v":4599.5920000000006},null,null,null,{"$f":"IF(TRIM(AX17)=\"\", \"\", IF(VLOOKUP(AX17,'Footnotes list'!$D$9:$E$58,2,FALSE)=0,\"\",VLOOKUP(AX17,'Footnotes list'!$D$9:$E$58,2,FALSE) ) )","v":""}]
[null,null,"W02A",null,"NHAZ","Non-hazardous",27.04,null,null,null,{"$f":"IF(TRIM(J18)=\"\", \"\", IF(VLOOKUP(J18,'Footnotes list'!$D$9:$E$58,2,FALSE)=0,\"\",VLOOKUP(J18,'Footnotes list'!$D$9:$E$58,2,FALSE) ) )","v":""},0,null,null,null,{"$f":"IF(TRIM(O18)=\"\", \"\", IF(VLOOKUP(O18,'Footnotes list'!$D$9:$E$58,2,FALSE)=0,\"\",VLOOKUP(O18,'Footnotes list'!$D$9:$E$58,2,FALSE) ) )","v":""},4.8049999999999997,null,null,null,{"$f":"IF(TRIM(T18)=\"\", \"\", IF(VLOOKUP(T18,'Footnotes list'!$D$9:$E$58,2,FALSE)=0,\"\",VLOOKUP(T18,'Footnotes list'!$D$9:$E$58,2,FALSE) ) )","v":""},0,null,null,null,{"$f":"IF(TRIM(Y18)=\"\", \"\", IF(VLOOKUP(Y18,'Footnotes list'!$D$9:$E$58,2,FALSE)=0,\"\",VLOOKUP(Y18,'Footnotes list'!$D$9:$E$58,2,FALSE) ) )","v":""},{"$f":"IF(AND(TRIM(Q18)=\"\",TRIM(V18)=\"\"),\"\",Q18+V18)","v":4.8049999999999997},null,null,null,{"$f":"IF(TRIM(AD18)=\"\", \"\", IF(VLOOKUP(AD18,'Footnotes list'!$D$9:$E$58,2,FALSE)=0,\"\",VLOOKUP(AD18,'Footnotes list'!$D$9:$E$58,2,FALSE) ) )","v":""},655.84500000000003,null,null,null,{"$f":"IF(TRIM(AI18)=\"\", \"\", IF(VLOOKUP(AI18,'Footnotes list'!$D$9:$E$58,2,FALSE)=0,\"\",VLOOKUP(AI18,'Footnotes list'!$D$9:$E$58,2,FALSE) ) )","v":""},0,null,null,null,{"$f":"IF(TRIM(AN18)=\"\", \"\", IF(VLOOKUP(AN18,'Footnotes list'!$D$9:$E$58,2,FALSE)=0,\"\",VLOOKUP(AN18,'Footnotes list'!$D$9:$E$58,2,FALSE) ) )","v":""},{"$f":"IF(AND(TRIM(AF18)=\"\",TRIM(AK18)=\"\"),\"\",AF18+AK18)","v":655.84500000000003},null,null,null,{"$f":"IF(TRIM(AS18)=\"\", \"\", IF(VLOOKUP(AS18,'Footnotes list'!$D$9:$E$58,2,FALSE)=0,\"\",VLOOKUP(AS18,'Footnotes list'!$D$9:$E$58,2,FALSE) ) )","v":""},{"$f":"IF(AND(TRIM(G18)=\"\",TRIM(L18)=\"\",TRIM(AA18)=\"\",TRIM(AP18)=\"\"),\"\",SUM(G18,L18,AA18,AP18))","v":687.69},null,null,null,{"$f":"IF(TRIM(AX18)=\"\", \"\", IF(VLOOKUP(AX18,'Footnotes list'!$D$9:$E$58,2,FALSE)=0,\"\",VLOOKUP(AX18,'Footnotes list'!$D$9:$E$58,2,FALSE) ) )","v":""}]
[null,null,"W02A",null,"HAZ_NHAZ","Total",{"$f":"IF(AND(TRIM(G17)=\"\",TRIM(G18)=\"\"),\"\",G17+G18)","v":2912.076},null,null,null,{"$f":"IF(TRIM(J19)=\"\", \"\", IF(VLOOKUP(J19,'Footnotes list'!$D$9:$E$58,2,FALSE)=0,\"\",VLOOKUP(J19,'Footnotes list'!$D$9:$E$58,2,FALSE) ) )","v":""},{"$f":"IF(AND(TRIM(L17)=\"\",TRIM(L18)=\"\"),\"\",L17+L18)","v":0},null,null,null,{"$f":"IF(TRIM(O19)=\"\", \"\", IF(VLOOKUP(O19,'Footnotes list'!$D$9:$E$58,2,FALSE)=0,\"\",VLOOKUP(O19,'Footnotes list'!$D$9:$E$58,2,FALSE) ) )","v":""},{"$f":"IF(AND(TRIM(Q17)=\"\",TRIM(Q18)=\"\"),\"\",Q17+Q18)","v":1719.3610000000001},null,null,null,{"$f":"IF(TRIM(T19)=\"\", \"\", IF(VLOOKUP(T19,'Footnotes list'!$D$9:$E$58,2,FALSE)=0,\"\",VLOOKUP(T19,'Footnotes list'!$D$9:$E$58,2,FALSE) ) )","v":""},{"$f":"IF(AND(TRIM(V17)=\"\",TRIM(V18)=\"\"),\"\",V17+V18)","v":0},null,null,null,{"$f":"IF(TRIM(Y19)=\"\", \"\", IF(VLOOKUP(Y19,'Footnotes list'!$D$9:$E$58,2,FALSE)=0,\"\",VLOOKUP(Y19,'Footnotes list'!$D$9:$E$58,2,FALSE) ) )","v":""},{"$f":"IF(AND(TRIM(AA17)=\"\", TRIM(AA18)=\"\"), \"\", SUM(AA17,AA18))","v":1719.3610000000001},null,null,null,{"$f":"IF(TRIM(AD19)=\"\", \"\", IF(VLOOKUP(AD19,'Footnotes list'!$D$9:$E$58,2,FALSE)=0,\"\",VLOOKUP(AD19,'Footnotes list'!$D$9:$E$58,2,FALSE) ) )","v":""},{"$f":"IF(AND(TRIM(AF17)=\"\",TRIM(AF18)=\"\"),\"\",AF17+AF18)","v":655.84500000000003},null,null,null,{"$f":"IF(TRIM(AI19)=\"\", \"\", IF(VLOOKUP(AI19,'Footnotes list'!$D$9:$E$58,2,FALSE)=0,\"\",VLOOKUP(AI19,'Footnotes list'!$D$9:$E$58,2,FALSE) ) )","v":""},{"$f":"IF(AND(TRIM(AK17)=\"\",TRIM(AK18)=\"\"),\"\",AK17+AK18)","v":0},null,null,null,{"$f":"IF(TRIM(AN19)=\"\", \"\", IF(VLOOKUP(AN19,'Footnotes list'!$D$9:$E$58,2,FALSE)=0,\"\",VLOOKUP(AN19,'Footnotes list'!$D$9:$E$58,2,FALSE) ) )","v":""},{"$f":"IF(AND(TRIM(AP17)=\"\", TRIM(AP18)=\"\"), \"\", SUM(AP17,AP18))","v":655.84500000000003},null,null,null,{"$f":"IF(TRIM(AS19)=\"\", \"\", IF(VLOOKUP(AS19,'Footnotes list'!$D$9:$E$58,2,FALSE)=0,\"\",VLOOKUP(AS19,'Footnotes list'!$D$9:$E$58,2,FALSE) ) )","v":""},{"$f":"IF(AND(TRIM(AU17)=\"\", TRIM(AU18)=\"\"), \"\", SUM(AU17,AU18) )","v":5287.2820000000011},null,null,null,{"$f":"IF(TRIM(AX19)=\"\", \"\", IF(VLOOKUP(AX19,'Footnotes list'!$D$9:$E$58,2,FALSE)=0,\"\",VLOOKUP(AX19,'Footnotes list'!$D$9:$E$58,2,FALSE) ) )","v":""}]
[null,"W032","W032","Industrial effluent sludges ","HAZ","Hazardous ",281.07100000000003,null,null,null,{"$f":"IF(TRIM(J20)=\"\", \"\", IF(VLOOKUP(J20,'Footnotes list'!$D$9:$E$58,2,FALSE)=0,\"\",VLOOKUP(J20,'Footnotes list'!$D$9:$E$58,2,FALSE) ) )","v":""},0,null,null,null,{"$f":"IF(TRIM(O20)=\"\", \"\", IF(VLOOKUP(O20,'Footnotes list'!$D$9:$E$58,2,FALSE)=0,\"\",VLOOKUP(O20,'Footnotes list'!$D$9:$E$58,2,FALSE) ) )","v":""},296.83300000000003,null,null,null,{"$f":"IF(TRIM(T20)=\"\", \"\", IF(VLOOKUP(T20,'Footnotes list'!$D$9:$E$58,2,FALSE)=0,\"\",VLOOKUP(T20,'Footnotes list'!$D$9:$E$58,2,FALSE) ) )","v":""},0,null,null,null,{"$f":"IF(TRIM(Y20)=\"\", \"\", IF(VLOOKUP(Y20,'Footnotes list'!$D$9:$E$58,2,FALSE)=0,\"\",VLOOKUP(Y20,'Footnotes list'!$D$9:$E$58,2,FALSE) ) )","v":""},{"$f":"IF(AND(TRIM(Q20)=\"\",TRIM(V20)=\"\"),\"\",Q20+V20)","v":296.83300000000003},null,null,null,{"$f":"IF(TRIM(AD20)=\"\", \"\", IF(VLOOKUP(AD20,'Footnotes list'!$D$9:$E$58,2,FALSE)=0,\"\",VLOOKUP(AD20,'Footnotes list'!$D$9:$E$58,2,FALSE) ) )","v":""},0,null,null,null,{"$f":"IF(TRIM(AI20)=\"\", \"\", IF(VLOOKUP(AI20,'Footnotes list'!$D$9:$E$58,2,FALSE)=0,\"\",VLOOKUP(AI20,'Footnotes list'!$D$9:$E$58,2,FALSE) ) )","v":""},0,null,null,null,{"$f":"IF(TRIM(AN20)=\"\", \"\", IF(VLOOKUP(AN20,'Footnotes list'!$D$9:$E$58,2,FALSE)=0,\"\",VLOOKUP(AN20,'Footnotes list'!$D$9:$E$58,2,FALSE) ) )","v":""},{"$f":"IF(AND(TRIM(AF20)=\"\",TRIM(AK20)=\"\"),\"\",AF20+AK20)","v":0},null,null,null,{"$f":"IF(TRIM(AS20)=\"\", \"\", IF(VLOOKUP(AS20,'Footnotes list'!$D$9:$E$58,2,FALSE)=0,\"\",VLOOKUP(AS20,'Footnotes list'!$D$9:$E$58,2,FALSE) ) )","v":""},{"$f":"IF(AND(TRIM(G20)=\"\",TRIM(L20)=\"\",TRIM(AA20)=\"\",TRIM(AP20)=\"\"),\"\",SUM(G20,L20,AA20,AP20))","v":577.904},null,null,null,{"$f":"IF(TRIM(AX20)=\"\", \"\", IF(VLOOKUP(AX20,'Footnotes list'!$D$9:$E$58,2,FALSE)=0,\"\",VLOOKUP(AX20,'Footnotes list'!$D$9:$E$58,2,FALSE) ) )","v":""}]
[null,null,"W032",null,"NHAZ","Non-hazardous",27.777999999999999,null,null,null,{"$f":"IF(TRIM(J21)=\"\", \"\", IF(VLOOKUP(J21,'Footnotes list'!$D$9:$E$58,2,FALSE)=0,\"\",VLOOKUP(J21,'Footnotes list'!$D$9:$E$58,2,FALSE) ) )","v":""},0,null,null,null,{"$f":"IF(TRIM(O21)=\"\", \"\", IF(VLOOKUP(O21,'Footnotes list'!$D$9:$E$58,2,FALSE)=0,\"\",VLOOKUP(O21,'Footnotes list'!$D$9:$E$58,2,FALSE) ) )","v":""},3603.998,null,null,null,{"$f":"IF(TRIM(T21)=\"\", \"\", IF(VLOOKUP(T21,'Footnotes list'!$D$9:$E$58,2,FALSE)=0,\"\",VLOOKUP(T21,'Footnotes list'!$D$9:$E$58,2,FALSE) ) )","v":""},0,null,null,null,{"$f":"IF(TRIM(Y21)=\"\", \"\", IF(VLOOKUP(Y21,'Footnotes list'!$D$9:$E$58,2,FALSE)=0,\"\",VLOOKUP(Y21,'Footnotes list'!$D$9:$E$58,2,FALSE) ) )","v":""},{"$f":"IF(AND(TRIM(Q21)=\"\",TRIM(V21)=\"\"),\"\",Q21+V21)","v":3603.998},null,null,null,{"$f":"IF(TRIM(AD21)=\"\", \"\", IF(VLOOKUP(AD21,'Footnotes list'!$D$9:$E$58,2,FALSE)=0,\"\",VLOOKUP(AD21,'Footnotes list'!$D$9:$E$58,2,FALSE) ) )","v":""},740.98299999999995,null,null,null,{"$f":"IF(TRIM(AI21)=\"\", \"\", IF(VLOOKUP(AI21,'Footnotes list'!$D$9:$E$58,2,FALSE)=0,\"\",VLOOKUP(AI21,'Footnotes list'!$D$9:$E$58,2,FALSE) ) )","v":""},22.634,null,null,null,{"$f":"IF(TRIM(AN21)=\"\", \"\", IF(VLOOKUP(AN21,'Footnotes list'!$D$9:$E$58,2,FALSE)=0,\"\",VLOOKUP(AN21,'Footnotes list'!$D$9:$E$58,2,FALSE) ) )","v":""},{"$f":"IF(AND(TRIM(AF21)=\"\",TRIM(AK21)=\"\"),\"\",AF21+AK21)","v":763.61699999999996},null,null,null,{"$f":"IF(TRIM(AS21)=\"\", \"\", IF(VLOOKUP(AS21,'Footnotes list'!$D$9:$E$58,2,FALSE)=0,\"\",VLOOKUP(AS21,'Footnotes list'!$D$9:$E$58,2,FALSE) ) )","v":""},{"$f":"IF(AND(TRIM(G21)=\"\",TRIM(L21)=\"\",TRIM(AA21)=\"\",TRIM(AP21)=\"\"),\"\",SUM(G21,L21,AA21,AP21))","v":4395.393},null,null,null,{"$f":"IF(TRIM(AX21)=\"\", \"\", IF(VLOOKUP(AX21,'Footnotes list'!$D$9:$E$58,2,FALSE)=0,\"\",VLOOKUP(AX21,'Footnotes list'!$D$9:$E$58,2,FALSE) ) )","v":""}]
[null,null,"W032",null,"HAZ_NHAZ","Total",{"$f":"IF(AND(TRIM(G20)=\"\",TRIM(G21)=\"\"),\"\",G20+G21)","v":308.84900000000005},null,null,null,{"$f":"IF(TRIM(J22)=\"\", \"\", IF(VLOOKUP(J22,'Footnotes list'!$D$9:$E$58,2,FALSE)=0,\"\",VLOOKUP(J22,'Footnotes list'!$D$9:$E$58,2,FALSE) ) )","v":""},{"$f":"IF(AND(TRIM(L20)=\"\",TRIM(L21)=\"\"),\"\",L20+L21)","v":0},null,null,null,{"$f":"IF(TRIM(O22)=\"\", \"\", IF(VLOOKUP(O22,'Footnotes list'!$D$9:$E$58,2,FALSE)=0,\"\",VLOOKUP(O22,'Footnotes list'!$D$9:$E$58,2,FALSE) ) )","v":""},{"$f":"IF(AND(TRIM(Q20)=\"\",TRIM(Q21)=\"\"),\"\",Q20+Q21)","v":3900.8310000000001},null,null,null,{"$f":"IF(TRIM(T22)=\"\", \"\", IF(VLOOKUP(T22,'Footnotes list'!$D$9:$E$58,2,FALSE)=0,\"\",VLOOKUP(T22,'Footnotes list'!$D$9:$E$58,2,FALSE) ) )","v":""},{"$f":"IF(AND(TRIM(V20)=\"\",TRIM(V21)=\"\"),\"\",V20+V21)","v":0},null,null,null,{"$f":"IF(TRIM(Y22)=\"\", \"\", IF(VLOOKUP(Y22,'Footnotes list'!$D$9:$E$58,2,FALSE)=0,\"\",VLOOKUP(Y22,'Footnotes list'!$D$9:$E$58,2,FALSE) ) )","v":""},{"$f":"IF(AND(TRIM(AA20)=\"\", TRIM(AA21)=\"\"), \"\", SUM(AA20,AA21))","v":3900.8310000000001},null,null,null,{"$f":"IF(TRIM(AD22)=\"\", \"\", IF(VLOOKUP(AD22,'Footnotes list'!$D$9:$E$58,2,FALSE)=0,\"\",VLOOKUP(AD22,'Footnotes list'!$D$9:$E$58,2,FALSE) ) )","v":""},{"$f":"IF(AND(TRIM(AF20)=\"\",TRIM(AF21)=\"\"),\"\",AF20+AF21)","v":740.98299999999995},null,null,null,{"$f":"IF(TRIM(AI22)=\"\", \"\", IF(VLOOKUP(AI22,'Footnotes list'!$D$9:$E$58,2,FALSE)=0,\"\",VLOOKUP(AI22,'Footnotes list'!$D$9:$E$58,2,FALSE) ) )","v":""},{"$f":"IF(AND(TRIM(AK20)=\"\",TRIM(AK21)=\"\"),\"\",AK20+AK21)","v":22.634},null,null,null,{"$f":"IF(TRIM(AN22)=\"\", \"\", IF(VLOOKUP(AN22,'Footnotes list'!$D$9:$E$58,2,FALSE)=0,\"\",VLOOKUP(AN22,'Footnotes list'!$D$9:$E$58,2,FALSE) ) )","v":""},{"$f":"IF(AND(TRIM(AP20)=\"\", TRIM(AP21)=\"\"), \"\", SUM(AP20,AP21))","v":763.61699999999996},null,null,null,{"$f":"IF(TRIM(AS22)=\"\", \"\", IF(VLOOKUP(AS22,'Footnotes list'!$D$9:$E$58,2,FALSE)=0,\"\",VLOOKUP(AS22,'Footnotes list'!$D$9:$E$58,2,FALSE) ) )","v":""},{"$f":"IF(AND(TRIM(AU20)=\"\", TRIM(AU21)=\"\"), \"\", SUM(AU20,AU21) )","v":4973.2970000000005},null,null,null,{"$f":"IF(TRIM(AX22)=\"\", \"\", IF(VLOOKUP(AX22,'Footnotes list'!$D$9:$E$58,2,FALSE)=0,\"\",VLOOKUP(AX22,'Footnotes list'!$D$9:$E$58,2,FALSE) ) )","v":""}]
[null,"W033","W033","Sludges and liquid wastes from waste treatment","HAZ","Hazardous ",95.77,null,null,null,{"$f":"IF(TRIM(J23)=\"\", \"\", IF(VLOOKUP(J23,'Footnotes list'!$D$9:$E$58,2,FALSE)=0,\"\",VLOOKUP(J23,'Footnotes list'!$D$9:$E$58,2,FALSE) ) )","v":""},0,null,null,null,{"$f":"IF(TRIM(O23)=\"\", \"\", IF(VLOOKUP(O23,'Footnotes list'!$D$9:$E$58,2,FALSE)=0,\"\",VLOOKUP(O23,'Footnotes list'!$D$9:$E$58,2,FALSE) ) )","v":""},0,null,null,null,{"$f":"IF(TRIM(T23)=\"\", \"\", IF(VLOOKUP(T23,'Footnotes list'!$D$9:$E$58,2,FALSE)=0,\"\",VLOOKUP(T23,'Footnotes list'!$D$9:$E$58,2,FALSE) ) )","v":""},0,null,null,null,{"$f":"IF(TRIM(Y23)=\"\", \"\", IF(VLOOKUP(Y23,'Footnotes list'!$D$9:$E$58,2,FALSE)=0,\"\",VLOOKUP(Y23,'Footnotes list'!$D$9:$E$58,2,FALSE) ) )","v":""},{"$f":"IF(AND(TRIM(Q23)=\"\",TRIM(V23)=\"\"),\"\",Q23+V23)","v":0},null,null,null,{"$f":"IF(TRIM(AD23)=\"\", \"\", IF(VLOOKUP(AD23,'Footnotes list'!$D$9:$E$58,2,FALSE)=0,\"\",VLOOKUP(AD23,'Footnotes list'!$D$9:$E$58,2,FALSE) ) )","v":""},0,null,null,null,{"$f":"IF(TRIM(AI23)=\"\", \"\", IF(VLOOKUP(AI23,'Footnotes list'!$D$9:$E$58,2,FALSE)=0,\"\",VLOOKUP(AI23,'Footnotes list'!$D$9:$E$58,2,FALSE) ) )","v":""},0,null,null,null,{"$f":"IF(TRIM(AN23)=\"\", \"\", IF(VLOOKUP(AN23,'Footnotes list'!$D$9:$E$58,2,FALSE)=0,\"\",VLOOKUP(AN23,'Footnotes list'!$D$9:$E$58,2,FALSE) ) )","v":""},{"$f":"IF(AND(TRIM(AF23)=\"\",TRIM(AK23)=\"\"),\"\",AF23+AK23)","v":0},null,null,null,{"$f":"IF(TRIM(AS23)=\"\", \"\", IF(VLOOKUP(AS23,'Footnotes list'!$D$9:$E$58,2,FALSE)=0,\"\",VLOOKUP(AS23,'Footnotes list'!$D$9:$E$58,2,FALSE) ) )","v":""},{"$f":"IF(AND(TRIM(G23)=\"\",TRIM(L23)=\"\",TRIM(AA23)=\"\",TRIM(AP23)=\"\"),\"\",SUM(G23,L23,AA23,AP23))","v":95.77},null,null,null,{"$f":"IF(TRIM(AX23)=\"\", \"\", IF(VLOOKUP(AX23,'Footnotes list'!$D$9:$E$58,2,FALSE)=0,\"\",VLOOKUP(AX23,'Footnotes list'!$D$9:$E$58,2,FALSE) ) )","v":""}]
[null,null,"W033",null,"NHAZ","Non-hazardous",0,null,null,null,{"$f":"IF(TRIM(J24)=\"\", \"\", IF(VLOOKUP(J24,'Footnotes list'!$D$9:$E$58,2,FALSE)=0,\"\",VLOOKUP(J24,'Footnotes list'!$D$9:$E$58,2,FALSE) ) )","v":""},0,null,null,null,{"$f":"IF(TRIM(O24)=\"\", \"\", IF(VLOOKUP(O24,'Footnotes list'!$D$9:$E$58,2,FALSE)=0,\"\",VLOOKUP(O24,'Footnotes list'!$D$9:$E$58,2,FALSE) ) )","v":""},4228.6000000000004,null,null,null,{"$f":"IF(TRIM(T24)=\"\", \"\", IF(VLOOKUP(T24,'Footnotes list'!$D$9:$E$58,2,FALSE)=0,\"\",VLOOKUP(T24,'Footnotes list'!$D$9:$E$58,2,FALSE) ) )","v":""},0,null,null,null,{"$f":"IF(TRIM(Y24)=\"\", \"\", IF(VLOOKUP(Y24,'Footnotes list'!$D$9:$E$58,2,FALSE)=0,\"\",VLOOKUP(Y24,'Footnotes list'!$D$9:$E$58,2,FALSE) ) )","v":""},{"$f":"IF(AND(TRIM(Q24)=\"\",TRIM(V24)=\"\"),\"\",Q24+V24)","v":4228.6000000000004},null,null,null,{"$f":"IF(TRIM(AD24)=\"\", \"\", IF(VLOOKUP(AD24,'Footnotes list'!$D$9:$E$58,2,FALSE)=0,\"\",VLOOKUP(AD24,'Footnotes list'!$D$9:$E$58,2,FALSE) ) )","v":""},0,null,null,null,{"$f":"IF(TRIM(AI24)=\"\", \"\", IF(VLOOKUP(AI24,'Footnotes list'!$D$9:$E$58,2,FALSE)=0,\"\",VLOOKUP(AI24,'Footnotes list'!$D$9:$E$58,2,FALSE) ) )","v":""},0,null,null,null,{"$f":"IF(TRIM(AN24)=\"\", \"\", IF(VLOOKUP(AN24,'Footnotes list'!$D$9:$E$58,2,FALSE)=0,\"\",VLOOKUP(AN24,'Footnotes list'!$D$9:$E$58,2,FALSE) ) )","v":""},{"$f":"IF(AND(TRIM(AF24)=\"\",TRIM(AK24)=\"\"),\"\",AF24+AK24)","v":0},null,null,null,{"$f":"IF(TRIM(AS24)=\"\", \"\", IF(VLOOKUP(AS24,'Footnotes list'!$D$9:$E$58,2,FALSE)=0,\"\",VLOOKUP(AS24,'Footnotes list'!$D$9:$E$58,2,FALSE) ) )","v":""},{"$f":"IF(AND(TRIM(G24)=\"\",TRIM(L24)=\"\",TRIM(AA24)=\"\",TRIM(AP24)=\"\"),\"\",SUM(G24,L24,AA24,AP24))","v":4228.6000000000004},null,null,null,{"$f":"IF(TRIM(AX24)=\"\", \"\", IF(VLOOKUP(AX24,'Footnotes list'!$D$9:$E$58,2,FALSE)=0,\"\",VLOOKUP(AX24,'Footnotes list'!$D$9:$E$58,2,FALSE) ) )","v":""}]
[null,null,"W033",null,"HAZ_NHAZ","Total",{"$f":"IF(AND(TRIM(G23)=\"\",TRIM(G24)=\"\"),\"\",G23+G24)","v":95.77},null,null,null,{"$f":"IF(TRIM(J25)=\"\", \"\", IF(VLOOKUP(J25,'Footnotes list'!$D$9:$E$58,2,FALSE)=0,\"\",VLOOKUP(J25,'Footnotes list'!$D$9:$E$58,2,FALSE) ) )","v":""},{"$f":"IF(AND(TRIM(L23)=\"\",TRIM(L24)=\"\"),\"\",L23+L24)","v":0},null,null,null,{"$f":"IF(TRIM(O25)=\"\", \"\", IF(VLOOKUP(O25,'Footnotes list'!$D$9:$E$58,2,FALSE)=0,\"\",VLOOKUP(O25,'Footnotes list'!$D$9:$E$58,2,FALSE) ) )","v":""},{"$f":"IF(AND(TRIM(Q23)=\"\",TRIM(Q24)=\"\"),\"\",Q23+Q24)","v":4228.6000000000004},null,null,null,{"$f":"IF(TRIM(T25)=\"\", \"\", IF(VLOOKUP(T25,'Footnotes list'!$D$9:$E$58,2,FALSE)=0,\"\",VLOOKUP(T25,'Footnotes list'!$D$9:$E$58,2,FALSE) ) )","v":""},{"$f":"IF(AND(TRIM(V23)=\"\",TRIM(V24)=\"\"),\"\",V23+V24)","v":0},null,null,null,{"$f":"IF(TRIM(Y25)=\"\", \"\", IF(VLOOKUP(Y25,'Footnotes list'!$D$9:$E$58,2,FALSE)=0,\"\",VLOOKUP(Y25,'Footnotes list'!$D$9:$E$58,2,FALSE) ) )","v":""},{"$f":"IF(AND(TRIM(AA23)=\"\", TRIM(AA24)=\"\"), \"\", SUM(AA23,AA24))","v":4228.6000000000004},null,null,null,{"$f":"IF(TRIM(AD25)=\"\", \"\", IF(VLOOKUP(AD25,'Footnotes list'!$D$9:$E$58,2,FALSE)=0,\"\",VLOOKUP(AD25,'Footnotes list'!$D$9:$E$58,2,FALSE) ) )","v":""},{"$f":"IF(AND(TRIM(AF23)=\"\",TRIM(AF24)=\"\"),\"\",AF23+AF24)","v":0},null,null,null,{"$f":"IF(TRIM(AI25)=\"\", \"\", IF(VLOOKUP(AI25,'Footnotes list'!$D$9:$E$58,2,FALSE)=0,\"\",VLOOKUP(AI25,'Footnotes list'!$D$9:$E$58,2,FALSE) ) )","v":""},{"$f":"IF(AND(TRIM(AK23)=\"\",TRIM(AK24)=\"\"),\"\",AK23+AK24)","v":0},null,null,null,{"$f":"IF(TRIM(AN25)=\"\", \"\", IF(VLOOKUP(AN25,'Footnotes list'!$D$9:$E$58,2,FALSE)=0,\"\",VLOOKUP(AN25,'Footnotes list'!$D$9:$E$58,2,FALSE) ) )","v":""},{"$f":"IF(AND(TRIM(AP23)=\"\", TRIM(AP24)=\"\"), \"\", SUM(AP23,AP24))","v":0},null,null,null,{"$f":"IF(TRIM(AS25)=\"\", \"\", IF(VLOOKUP(AS25,'Footnotes list'!$D$9:$E$58,2,FALSE)=0,\"\",VLOOKUP(AS25,'Footnotes list'!$D$9:$E$58,2,FALSE) ) )","v":""},{"$f":"IF(AND(TRIM(AU23)=\"\", TRIM(AU24)=\"\"), \"\", SUM(AU23,AU24) )","v":4324.3700000000008},null,null,null,{"$f":"IF(TRIM(AX25)=\"\", \"\", IF(VLOOKUP(AX25,'Footnotes list'!$D$9:$E$58,2,FALSE)=0,\"\",VLOOKUP(AX25,'Footnotes list'!$D$9:$E$58,2,FALSE) ) )","v":""}]
[null,"W05","W05","Health care and biological wastes ","HAZ","Hazardous ",0,null,null,null,{"$f":"IF(TRIM(J26)=\"\", \"\", IF(VLOOKUP(J26,'Footnotes list'!$D$9:$E$58,2,FALSE)=0,\"\",VLOOKUP(J26,'Footnotes list'!$D$9:$E$58,2,FALSE) ) )","v":""},0,null,null,null,{"$f":"IF(TRIM(O26)=\"\", \"\", IF(VLOOKUP(O26,'Footnotes list'!$D$9:$E$58,2,FALSE)=0,\"\",VLOOKUP(O26,'Footnotes list'!$D$9:$E$58,2,FALSE) ) )","v":""},0,null,null,null,{"$f":"IF(TRIM(T26)=\"\", \"\", IF(VLOOKUP(T26,'Footnotes list'!$D$9:$E$58,2,FALSE)=0,\"\",VLOOKUP(T26,'Footnotes list'!$D$9:$E$58,2,FALSE) ) )","v":""},0,null,null,null,{"$f":"IF(TRIM(Y26)=\"\", \"\", IF(VLOOKUP(Y26,'Footnotes list'!$D$9:$E$58,2,FALSE)=0,\"\",VLOOKUP(Y26,'Footnotes list'!$D$9:$E$58,2,FALSE) ) )","v":""},{"$f":"IF(AND(TRIM(Q26)=\"\",TRIM(V26)=\"\"),\"\",Q26+V26)","v":0},null,null,null,{"$f":"IF(TRIM(AD26)=\"\", \"\", IF(VLOOKUP(AD26,'Footnotes list'!$D$9:$E$58,2,FALSE)=0,\"\",VLOOKUP(AD26,'Footnotes list'!$D$9:$E$58,2,FALSE) ) )","v":""},0,null,null,null,{"$f":"IF(TRIM(AI26)=\"\", \"\", IF(VLOOKUP(AI26,'Footnotes list'!$D$9:$E$58,2,FALSE)=0,\"\",VLOOKUP(AI26,'Footnotes list'!$D$9:$E$58,2,FALSE) ) )","v":""},0,null,null,null,{"$f":"IF(TRIM(AN26)=\"\", \"\", IF(VLOOKUP(AN26,'Footnotes list'!$D$9:$E$58,2,FALSE)=0,\"\",VLOOKUP(AN26,'Footnotes list'!$D$9:$E$58,2,FALSE) ) )","v":""},{"$f":"IF(AND(TRIM(AF26)=\"\",TRIM(AK26)=\"\"),\"\",AF26+AK26)","v":0},null,null,null,{"$f":"IF(TRIM(AS26)=\"\", \"\", IF(VLOOKUP(AS26,'Footnotes list'!$D$9:$E$58,2,FALSE)=0,\"\",VLOOKUP(AS26,'Footnotes list'!$D$9:$E$58,2,FALSE) ) )","v":""},{"$f":"IF(AND(TRIM(G26)=\"\",TRIM(L26)=\"\",TRIM(AA26)=\"\",TRIM(AP26)=\"\"),\"\",SUM(G26,L26,AA26,AP26))","v":0},null,null,null,{"$f":"IF(TRIM(AX26)=\"\", \"\", IF(VLOOKUP(AX26,'Footnotes list'!$D$9:$E$58,2,FALSE)=0,\"\",VLOOKUP(AX26,'Footnotes list'!$D$9:$E$58,2,FALSE) ) )","v":""}]
[null,null,"W05",null,"NHAZ","Non-hazardous",0,null,null,null,{"$f":"IF(TRIM(J27)=\"\", \"\", IF(VLOOKUP(J27,'Footnotes list'!$D$9:$E$58,2,FALSE)=0,\"\",VLOOKUP(J27,'Footnotes list'!$D$9:$E$58,2,FALSE) ) )","v":""},0,null,null,null,{"$f":"IF(TRIM(O27)=\"\", \"\", IF(VLOOKUP(O27,'Footnotes list'!$D$9:$E$58,2,FALSE)=0,\"\",VLOOKUP(O27,'Footnotes list'!$D$9:$E$58,2,FALSE) ) )","v":""},1.331,null,null,null,{"$f":"IF(TRIM(T27)=\"\", \"\", IF(VLOOKUP(T27,'Footnotes list'!$D$9:$E$58,2,FALSE)=0,\"\",VLOOKUP(T27,'Footnotes list'!$D$9:$E$58,2,FALSE) ) )","v":""},0,null,null,null,{"$f":"IF(TRIM(Y27)=\"\", \"\", IF(VLOOKUP(Y27,'Footnotes list'!$D$9:$E$58,2,FALSE)=0,\"\",VLOOKUP(Y27,'Footnotes list'!$D$9:$E$58,2,FALSE) ) )","v":""},{"$f":"IF(AND(TRIM(Q27)=\"\",TRIM(V27)=\"\"),\"\",Q27+V27)","v":1.331},null,null,null,{"$f":"IF(TRIM(AD27)=\"\", \"\", IF(VLOOKUP(AD27,'Footnotes list'!$D$9:$E$58,2,FALSE)=0,\"\",VLOOKUP(AD27,'Footnotes list'!$D$9:$E$58,2,FALSE) ) )","v":""},87.981999999999999,null,null,null,{"$f":"IF(TRIM(AI27)=\"\", \"\", IF(VLOOKUP(AI27,'Footnotes list'!$D$9:$E$58,2,FALSE)=0,\"\",VLOOKUP(AI27,'Footnotes list'!$D$9:$E$58,2,FALSE) ) )","v":""},0,null,null,null,{"$f":"IF(TRIM(AN27)=\"\", \"\", IF(VLOOKUP(AN27,'Footnotes list'!$D$9:$E$58,2,FALSE)=0,\"\",VLOOKUP(AN27,'Footnotes list'!$D$9:$E$58,2,FALSE) ) )","v":""},{"$f":"IF(AND(TRIM(AF27)=\"\",TRIM(AK27)=\"\"),\"\",AF27+AK27)","v":87.981999999999999},null,null,null,{"$f":"IF(TRIM(AS27)=\"\", \"\", IF(VLOOKUP(AS27,'Footnotes list'!$D$9:$E$58,2,FALSE)=0,\"\",VLOOKUP(AS27,'Footnotes list'!$D$9:$E$58,2,FALSE) ) )","v":""},{"$f":"IF(AND(TRIM(G27)=\"\",TRIM(L27)=\"\",TRIM(AA27)=\"\",TRIM(AP27)=\"\"),\"\",SUM(G27,L27,AA27,AP27))","v":89.313000000000002},null,null,null,{"$f":"IF(TRIM(AX27)=\"\", \"\", IF(VLOOKUP(AX27,'Footnotes list'!$D$9:$E$58,2,FALSE)=0,\"\",VLOOKUP(AX27,'Footnotes list'!$D$9:$E$58,2,FALSE) ) )","v":""}]
[null,null,"W05",null,"HAZ_NHAZ","Total",{"$f":"IF(AND(TRIM(G26)=\"\",TRIM(G27)=\"\"),\"\",G26+G27)","v":0},null,null,null,{"$f":"IF(TRIM(J28)=\"\", \"\", IF(VLOOKUP(J28,'Footnotes list'!$D$9:$E$58,2,FALSE)=0,\"\",VLOOKUP(J28,'Footnotes list'!$D$9:$E$58,2,FALSE) ) )","v":""},{"$f":"IF(AND(TRIM(L26)=\"\",TRIM(L27)=\"\"),\"\",L26+L27)","v":0},null,null,null,{"$f":"IF(TRIM(O28)=\"\", \"\", IF(VLOOKUP(O28,'Footnotes list'!$D$9:$E$58,2,FALSE)=0,\"\",VLOOKUP(O28,'Footnotes list'!$D$9:$E$58,2,FALSE) ) )","v":""},{"$f":"IF(AND(TRIM(Q26)=\"\",TRIM(Q27)=\"\"),\"\",Q26+Q27)","v":1.331},null,null,null,{"$f":"IF(TRIM(T28)=\"\", \"\", IF(VLOOKUP(T28,'Footnotes list'!$D$9:$E$58,2,FALSE)=0,\"\",VLOOKUP(T28,'Footnotes list'!$D$9:$E$58,2,FALSE) ) )","v":""},{"$f":"IF(AND(TRIM(V26)=\"\",TRIM(V27)=\"\"),\"\",V26+V27)","v":0},null,null,null,{"$f":"IF(TRIM(Y28)=\"\", \"\", IF(VLOOKUP(Y28,'Footnotes list'!$D$9:$E$58,2,FALSE)=0,\"\",VLOOKUP(Y28,'Footnotes list'!$D$9:$E$58,2,FALSE) ) )","v":""},{"$f":"IF(AND(TRIM(AA26)=\"\", TRIM(AA27)=\"\"), \"\", SUM(AA26,AA27))","v":1.331},null,null,null,{"$f":"IF(TRIM(AD28)=\"\", \"\", IF(VLOOKUP(AD28,'Footnotes list'!$D$9:$E$58,2,FALSE)=0,\"\",VLOOKUP(AD28,'Footnotes list'!$D$9:$E$58,2,FALSE) ) )","v":""},{"$f":"IF(AND(TRIM(AF26)=\"\",TRIM(AF27)=\"\"),\"\",AF26+AF27)","v":87.981999999999999},null,null,null,{"$f":"IF(TRIM(AI28)=\"\", \"\", IF(VLOOKUP(AI28,'Footnotes list'!$D$9:$E$58,2,FALSE)=0,\"\",VLOOKUP(AI28,'Footnotes list'!$D$9:$E$58,2,FALSE) ) )","v":""},{"$f":"IF(AND(TRIM(AK26)=\"\",TRIM(AK27)=\"\"),\"\",AK26+AK27)","v":0},null,null,null,{"$f":"IF(TRIM(AN28)=\"\", \"\", IF(VLOOKUP(AN28,'Footnotes list'!$D$9:$E$58,2,FALSE)=0,\"\",VLOOKUP(AN28,'Footnotes list'!$D$9:$E$58,2,FALSE) ) )","v":""},{"$f":"IF(AND(TRIM(AP26)=\"\", TRIM(AP27)=\"\"), \"\", SUM(AP26,AP27))","v":87.981999999999999},null,null,null,{"$f":"IF(TRIM(AS28)=\"\", \"\", IF(VLOOKUP(AS28,'Footnotes list'!$D$9:$E$58,2,FALSE)=0,\"\",VLOOKUP(AS28,'Footnotes list'!$D$9:$E$58,2,FALSE) ) )","v":""},{"$f":"IF(AND(TRIM(AU26)=\"\", TRIM(AU27)=\"\"), \"\", SUM(AU26,AU27) )","v":89.313000000000002},null,null,null,{"$f":"IF(TRIM(AX28)=\"\", \"\", IF(VLOOKUP(AX28,'Footnotes list'!$D$9:$E$58,2,FALSE)=0,\"\",VLOOKUP(AX28,'Footnotes list'!$D$9:$E$58,2,FALSE) ) )","v":""}]
[null,"W061",null,"Metallic wastes, ferrous ",null,"Not applicable"]
[null,null,"W061",null,"NHAZ","Non-hazardous",0,null,null,null,{"$f":"IF(TRIM(J30)=\"\", \"\", IF(VLOOKUP(J30,'Footnotes list'!$D$9:$E$58,2,FALSE)=0,\"\",VLOOKUP(J30,'Footnotes list'!$D$9:$E$58,2,FALSE) ) )","v":""},0,null,null,null,{"$f":"IF(TRIM(O30)=\"\", \"\", IF(VLOOKUP(O30,'Footnotes list'!$D$9:$E$58,2,FALSE)=0,\"\",VLOOKUP(O30,'Footnotes list'!$D$9:$E$58,2,FALSE) ) )","v":""},650237.01800000004,null,null,null,{"$f":"IF(TRIM(T30)=\"\", \"\", IF(VLOOKUP(T30,'Footnotes list'!$D$9:$E$58,2,FALSE)=0,\"\",VLOOKUP(T30,'Footnotes list'!$D$9:$E$58,2,FALSE) ) )","v":""},0,null,null,null,{"$f":"IF(TRIM(Y30)=\"\", \"\", IF(VLOOKUP(Y30,'Footnotes list'!$D$9:$E$58,2,FALSE)=0,\"\",VLOOKUP(Y30,'Footnotes list'!$D$9:$E$58,2,FALSE) ) )","v":""},{"$f":"IF(AND(TRIM(Q30)=\"\",TRIM(V30)=\"\"),\"\",Q30+V30)","v":650237.01800000004},null,null,null,{"$f":"IF(TRIM(AD30)=\"\", \"\", IF(VLOOKUP(AD30,'Footnotes list'!$D$9:$E$58,2,FALSE)=0,\"\",VLOOKUP(AD30,'Footnotes list'!$D$9:$E$58,2,FALSE) ) )","v":""},12.04,null,null,null,{"$f":"IF(TRIM(AI30)=\"\", \"\", IF(VLOOKUP(AI30,'Footnotes list'!$D$9:$E$58,2,FALSE)=0,\"\",VLOOKUP(AI30,'Footnotes list'!$D$9:$E$58,2,FALSE) ) )","v":""},0,null,null,null,{"$f":"IF(TRIM(AN30)=\"\", \"\", IF(VLOOKUP(AN30,'Footnotes list'!$D$9:$E$58,2,FALSE)=0,\"\",VLOOKUP(AN30,'Footnotes list'!$D$9:$E$58,2,FALSE) ) )","v":""},{"$f":"IF(AND(TRIM(AF30)=\"\",TRIM(AK30)=\"\"),\"\",AF30+AK30)","v":12.04},null,null,null,{"$f":"IF(TRIM(AS30)=\"\", \"\", IF(VLOOKUP(AS30,'Footnotes list'!$D$9:$E$58,2,FALSE)=0,\"\",VLOOKUP(AS30,'Footnotes list'!$D$9:$E$58,2,FALSE) ) )","v":""},{"$f":"IF(AND(TRIM(G30)=\"\",TRIM(L30)=\"\",TRIM(AA30)=\"\",TRIM(AP30)=\"\"),\"\",SUM(G30,L30,AA30,AP30))","v":650249.05800000008},null,null,null,{"$f":"IF(TRIM(AX30)=\"\", \"\", IF(VLOOKUP(AX30,'Footnotes list'!$D$9:$E$58,2,FALSE)=0,\"\",VLOOKUP(AX30,'Footnotes list'!$D$9:$E$58,2,FALSE) ) )","v":""}]
[null,null,"W061",null,"HAZ_NHAZ","Total",{"$f":"IF(AND(TRIM(G29)=\"\",TRIM(G30)=\"\"),\"\",G29+G30)","v":0},null,null,null,{"$f":"IF(TRIM(J31)=\"\", \"\", IF(VLOOKUP(J31,'Footnotes list'!$D$9:$E$58,2,FALSE)=0,\"\",VLOOKUP(J31,'Footnotes list'!$D$9:$E$58,2,FALSE) ) )","v":""},{"$f":"IF(AND(TRIM(L29)=\"\",TRIM(L30)=\"\"),\"\",L29+L30)","v":0},null,null,null,{"$f":"IF(TRIM(O31)=\"\", \"\", IF(VLOOKUP(O31,'Footnotes list'!$D$9:$E$58,2,FALSE)=0,\"\",VLOOKUP(O31,'Footnotes list'!$D$9:$E$58,2,FALSE) ) )","v":""},{"$f":"IF(AND(TRIM(Q29)=\"\",TRIM(Q30)=\"\"),\"\",Q29+Q30)","v":650237.01800000004},null,null,null,{"$f":"IF(TRIM(T31)=\"\", \"\", IF(VLOOKUP(T31,'Footnotes list'!$D$9:$E$58,2,FALSE)=0,\"\",VLOOKUP(T31,'Footnotes list'!$D$9:$E$58,2,FALSE) ) )","v":""},{"$f":"IF(AND(TRIM(V29)=\"\",TRIM(V30)=\"\"),\"\",V29+V30)","v":0},null,null,null,{"$f":"IF(TRIM(Y31)=\"\", \"\", IF(VLOOKUP(Y31,'Footnotes list'!$D$9:$E$58,2,FALSE)=0,\"\",VLOOKUP(Y31,'Footnotes list'!$D$9:$E$58,2,FALSE) ) )","v":""},{"$f":"IF(AND(TRIM(AA29)=\"\", TRIM(AA30)=\"\"), \"\", SUM(AA29,AA30))","v":650237.01800000004},null,null,null,{"$f":"IF(TRIM(AD31)=\"\", \"\", IF(VLOOKUP(AD31,'Footnotes list'!$D$9:$E$58,2,FALSE)=0,\"\",VLOOKUP(AD31,'Footnotes list'!$D$9:$E$58,2,FALSE) ) )","v":""},{"$f":"IF(AND(TRIM(AF29)=\"\",TRIM(AF30)=\"\"),\"\",AF29+AF30)","v":12.04},null,null,null,{"$f":"IF(TRIM(AI31)=\"\", \"\", IF(VLOOKUP(AI31,'Footnotes list'!$D$9:$E$58,2,FALSE)=0,\"\",VLOOKUP(AI31,'Footnotes list'!$D$9:$E$58,2,FALSE) ) )","v":""},{"$f":"IF(AND(TRIM(AK29)=\"\",TRIM(AK30)=\"\"),\"\",AK29+AK30)","v":0},null,null,null,{"$f":"IF(TRIM(AN31)=\"\", \"\", IF(VLOOKUP(AN31,'Footnotes list'!$D$9:$E$58,2,FALSE)=0,\"\",VLOOKUP(AN31,'Footnotes list'!$D$9:$E$58,2,FALSE) ) )","v":""},{"$f":"IF(AND(TRIM(AP29)=\"\", TRIM(AP30)=\"\"), \"\", SUM(AP29,AP30))","v":12.04},null,null,null,{"$f":"IF(TRIM(AS31)=\"\", \"\", IF(VLOOKUP(AS31,'Footnotes list'!$D$9:$E$58,2,FALSE)=0,\"\",VLOOKUP(AS31,'Footnotes list'!$D$9:$E$58,2,FALSE) ) )","v":""},{"$f":"IF(AND(TRIM(AU29)=\"\", TRIM(AU30)=\"\"), \"\", SUM(AU29,AU30) )","v":650249.05800000008},null,null,null,{"$f":"IF(TRIM(AX31)=\"\", \"\", IF(VLOOKUP(AX31,'Footnotes list'!$D$9:$E$58,2,FALSE)=0,\"\",VLOOKUP(AX31,'Footnotes list'!$D$9:$E$58,2,FALSE) ) )","v":""}]
[null,"W062",null,"Metallic wastes, non-ferrous ",null,"Not applicable"]
[null,null,"W062",null,"NHAZ","Non-hazardous",0,null,null,null,{"$f":"IF(TRIM(J33)=\"\", \"\", IF(VLOOKUP(J33,'Footnotes list'!$D$9:$E$58,2,FALSE)=0,\"\",VLOOKUP(J33,'Footnotes list'!$D$9:$E$58,2,FALSE) ) )","v":""},0,null,null,null,{"$f":"IF(TRIM(O33)=\"\", \"\", IF(VLOOKUP(O33,'Footnotes list'!$D$9:$E$58,2,FALSE)=0,\"\",VLOOKUP(O33,'Footnotes list'!$D$9:$E$58,2,FALSE) ) )","v":""},4526.442,null,null,null,{"$f":"IF(TRIM(T33)=\"\", \"\", IF(VLOOKUP(T33,'Footnotes list'!$D$9:$E$58,2,FALSE)=0,\"\",VLOOKUP(T33,'Footnotes list'!$D$9:$E$58,2,FALSE) ) )","v":""},0,null,null,null,{"$f":"IF(TRIM(Y33)=\"\", \"\", IF(VLOOKUP(Y33,'Footnotes list'!$D$9:$E$58,2,FALSE)=0,\"\",VLOOKUP(Y33,'Footnotes list'!$D$9:$E$58,2,FALSE) ) )","v":""},{"$f":"IF(AND(TRIM(Q33)=\"\",TRIM(V33)=\"\"),\"\",Q33+V33)","v":4526.442},null,null,null,{"$f":"IF(TRIM(AD33)=\"\", \"\", IF(VLOOKUP(AD33,'Footnotes list'!$D$9:$E$58,2,FALSE)=0,\"\",VLOOKUP(AD33,'Footnotes list'!$D$9:$E$58,2,FALSE) ) )","v":""},0,null,null,null,{"$f":"IF(TRIM(AI33)=\"\", \"\", IF(VLOOKUP(AI33,'Footnotes list'!$D$9:$E$58,2,FALSE)=0,\"\",VLOOKUP(AI33,'Footnotes list'!$D$9:$E$58,2,FALSE) ) )","v":""},0,null,null,null,{"$f":"IF(TRIM(AN33)=\"\", \"\", IF(VLOOKUP(AN33,'Footnotes list'!$D$9:$E$58,2,FALSE)=0,\"\",VLOOKUP(AN33,'Footnotes list'!$D$9:$E$58,2,FALSE) ) )","v":""},{"$f":"IF(AND(TRIM(AF33)=\"\",TRIM(AK33)=\"\"),\"\",AF33+AK33)","v":0},null,null,null,{"$f":"IF(TRIM(AS33)=\"\", \"\", IF(VLOOKUP(AS33,'Footnotes list'!$D$9:$E$58,2,FALSE)=0,\"\",VLOOKUP(AS33,'Footnotes list'!$D$9:$E$58,2,FALSE) ) )","v":""},{"$f":"IF(AND(TRIM(G33)=\"\",TRIM(L33)=\"\",TRIM(AA33)=\"\",TRIM(AP33)=\"\"),\"\",SUM(G33,L33,AA33,AP33))","v":4526.442},null,null,null,{"$f":"IF(TRIM(AX33)=\"\", \"\", IF(VLOOKUP(AX33,'Footnotes list'!$D$9:$E$58,2,FALSE)=0,\"\",VLOOKUP(AX33,'Footnotes list'!$D$9:$E$58,2,FALSE) ) )","v":""}]
[null,null,"W062",null,"HAZ_NHAZ","Total",{"$f":"IF(AND(TRIM(G32)=\"\",TRIM(G33)=\"\"),\"\",G32+G33)","v":0},null,null,null,{"$f":"IF(TRIM(J34)=\"\", \"\", IF(VLOOKUP(J34,'Footnotes list'!$D$9:$E$58,2,FALSE)=0,\"\",VLOOKUP(J34,'Footnotes list'!$D$9:$E$58,2,FALSE) ) )","v":""},{"$f":"IF(AND(TRIM(L32)=\"\",TRIM(L33)=\"\"),\"\",L32+L33)","v":0},null,null,null,{"$f":"IF(TRIM(O34)=\"\", \"\", IF(VLOOKUP(O34,'Footnotes list'!$D$9:$E$58,2,FALSE)=0,\"\",VLOOKUP(O34,'Footnotes list'!$D$9:$E$58,2,FALSE) ) )","v":""},{"$f":"IF(AND(TRIM(Q32)=\"\",TRIM(Q33)=\"\"),\"\",Q32+Q33)","v":4526.442},null,null,null,{"$f":"IF(TRIM(T34)=\"\", \"\", IF(VLOOKUP(T34,'Footnotes list'!$D$9:$E$58,2,FALSE)=0,\"\",VLOOKUP(T34,'Footnotes list'!$D$9:$E$58,2,FALSE) ) )","v":""},{"$f":"IF(AND(TRIM(V32)=\"\",TRIM(V33)=\"\"),\"\",V32+V33)","v":0},null,null,null,{"$f":"IF(TRIM(Y34)=\"\", \"\", IF(VLOOKUP(Y34,'Footnotes list'!$D$9:$E$58,2,FALSE)=0,\"\",VLOOKUP(Y34,'Footnotes list'!$D$9:$E$58,2,FALSE) ) )","v":""},{"$f":"IF(AND(TRIM(AA32)=\"\", TRIM(AA33)=\"\"), \"\", SUM(AA32,AA33))","v":4526.442},null,null,null,{"$f":"IF(TRIM(AD34)=\"\", \"\", IF(VLOOKUP(AD34,'Footnotes list'!$D$9:$E$58,2,FALSE)=0,\"\",VLOOKUP(AD34,'Footnotes list'!$D$9:$E$58,2,FALSE) ) )","v":""},{"$f":"IF(AND(TRIM(AF32)=\"\",TRIM(AF33)=\"\"),\"\",AF32+AF33)","v":0},null,null,null,{"$f":"IF(TRIM(AI34)=\"\", \"\", IF(VLOOKUP(AI34,'Footnotes list'!$D$9:$E$58,2,FALSE)=0,\"\",VLOOKUP(AI34,'Footnotes list'!$D$9:$E$58,2,FALSE) ) )","v":""},{"$f":"IF(AND(TRIM(AK32)=\"\",TRIM(AK33)=\"\"),\"\",AK32+AK33)","v":0},null,null,null,{"$f":"IF(TRIM(AN34)=\"\", \"\", IF(VLOOKUP(AN34,'Footnotes list'!$D$9:$E$58,2,FALSE)=0,\"\",VLOOKUP(AN34,'Footnotes list'!$D$9:$E$58,2,FALSE) ) )","v":""},{"$f":"IF(AND(TRIM(AP32)=\"\", TRIM(AP33)=\"\"), \"\", SUM(AP32,AP33))","v":0},null,null,null,{"$f":"IF(TRIM(AS34)=\"\", \"\", IF(VLOOKUP(AS34,'Footnotes list'!$D$9:$E$58,2,FALSE)=0,\"\",VLOOKUP(AS34,'Footnotes list'!$D$9:$E$58,2,FALSE) ) )","v":""},{"$f":"IF(AND(TRIM(AU32)=\"\", TRIM(AU33)=\"\"), \"\", SUM(AU32,AU33) )","v":4526.442},null,null,null,{"$f":"IF(TRIM(AX34)=\"\", \"\", IF(VLOOKUP(AX34,'Footnotes list'!$D$9:$E$58,2,FALSE)=0,\"\",VLOOKUP(AX34,'Footnotes list'!$D$9:$E$58,2,FALSE) ) )","v":""}]
[null,"W063",null,"Metal wastes, mixed ferrous and non-ferrous",null,"Not applicable"]
[null,null,"W063",null,"NHAZ","Non-hazardous",0,null,null,null,{"$f":"IF(TRIM(J36)=\"\", \"\", IF(VLOOKUP(J36,'Footnotes list'!$D$9:$E$58,2,FALSE)=0,\"\",VLOOKUP(J36,'Footnotes list'!$D$9:$E$58,2,FALSE) ) )","v":""},0,null,null,null,{"$f":"IF(TRIM(O36)=\"\", \"\", IF(VLOOKUP(O36,'Footnotes list'!$D$9:$E$58,2,FALSE)=0,\"\",VLOOKUP(O36,'Footnotes list'!$D$9:$E$58,2,FALSE) ) )","v":""},19332.326000000001,null,null,null,{"$f":"IF(TRIM(T36)=\"\", \"\", IF(VLOOKUP(T36,'Footnotes list'!$D$9:$E$58,2,FALSE)=0,\"\",VLOOKUP(T36,'Footnotes list'!$D$9:$E$58,2,FALSE) ) )","v":""},0,null,null,null,{"$f":"IF(TRIM(Y36)=\"\", \"\", IF(VLOOKUP(Y36,'Footnotes list'!$D$9:$E$58,2,FALSE)=0,\"\",VLOOKUP(Y36,'Footnotes list'!$D$9:$E$58,2,FALSE) ) )","v":""},{"$f":"IF(AND(TRIM(Q36)=\"\",TRIM(V36)=\"\"),\"\",Q36+V36)","v":19332.326000000001},null,null,null,{"$f":"IF(TRIM(AD36)=\"\", \"\", IF(VLOOKUP(AD36,'Footnotes list'!$D$9:$E$58,2,FALSE)=0,\"\",VLOOKUP(AD36,'Footnotes list'!$D$9:$E$58,2,FALSE) ) )","v":""},5.0999999999999996,null,null,null,{"$f":"IF(TRIM(AI36)=\"\", \"\", IF(VLOOKUP(AI36,'Footnotes list'!$D$9:$E$58,2,FALSE)=0,\"\",VLOOKUP(AI36,'Footnotes list'!$D$9:$E$58,2,FALSE) ) )","v":""},0,null,null,null,{"$f":"IF(TRIM(AN36)=\"\", \"\", IF(VLOOKUP(AN36,'Footnotes list'!$D$9:$E$58,2,FALSE)=0,\"\",VLOOKUP(AN36,'Footnotes list'!$D$9:$E$58,2,FALSE) ) )","v":""},{"$f":"IF(AND(TRIM(AF36)=\"\",TRIM(AK36)=\"\"),\"\",AF36+AK36)","v":5.0999999999999996},null,null,null,{"$f":"IF(TRIM(AS36)=\"\", \"\", IF(VLOOKUP(AS36,'Footnotes list'!$D$9:$E$58,2,FALSE)=0,\"\",VLOOKUP(AS36,'Footnotes list'!$D$9:$E$58,2,FALSE) ) )","v":""},{"$f":"IF(AND(TRIM(G36)=\"\",TRIM(L36)=\"\",TRIM(AA36)=\"\",TRIM(AP36)=\"\"),\"\",SUM(G36,L36,AA36,AP36))","v":19337.425999999999},null,null,null,{"$f":"IF(TRIM(AX36)=\"\", \"\", IF(VLOOKUP(AX36,'Footnotes list'!$D$9:$E$58,2,FALSE)=0,\"\",VLOOKUP(AX36,'Footnotes list'!$D$9:$E$58,2,FALSE) ) )","v":""}]
[null,null,"W063",null,"HAZ_NHAZ","Total",{"$f":"IF(AND(TRIM(G35)=\"\",TRIM(G36)=\"\"),\"\",G35+G36)","v":0},null,null,null,{"$f":"IF(TRIM(J37)=\"\", \"\", IF(VLOOKUP(J37,'Footnotes list'!$D$9:$E$58,2,FALSE)=0,\"\",VLOOKUP(J37,'Footnotes list'!$D$9:$E$58,2,FALSE) ) )","v":""},{"$f":"IF(AND(TRIM(L35)=\"\",TRIM(L36)=\"\"),\"\",L35+L36)","v":0},null,null,null,{"$f":"IF(TRIM(O37)=\"\", \"\", IF(VLOOKUP(O37,'Footnotes list'!$D$9:$E$58,2,FALSE)=0,\"\",VLOOKUP(O37,'Footnotes list'!$D$9:$E$58,2,FALSE) ) )","v":""},{"$f":"IF(AND(TRIM(Q35)=\"\",TRIM(Q36)=\"\"),\"\",Q35+Q36)","v":19332.326000000001},null,null,null,{"$f":"IF(TRIM(T37)=\"\", \"\", IF(VLOOKUP(T37,'Footnotes list'!$D$9:$E$58,2,FALSE)=0,\"\",VLOOKUP(T37,'Footnotes list'!$D$9:$E$58,2,FALSE) ) )","v":""},{"$f":"IF(AND(TRIM(V35)=\"\",TRIM(V36)=\"\"),\"\",V35+V36)","v":0},null,null,null,{"$f":"IF(TRIM(Y37)=\"\", \"\", IF(VLOOKUP(Y37,'Footnotes list'!$D$9:$E$58,2,FALSE)=0,\"\",VLOOKUP(Y37,'Footnotes list'!$D$9:$E$58,2,FALSE) ) )","v":""},{"$f":"IF(AND(TRIM(AA35)=\"\", TRIM(AA36)=\"\"), \"\", SUM(AA35,AA36))","v":19332.326000000001},null,null,null,{"$f":"IF(TRIM(AD37)=\"\", \"\", IF(VLOOKUP(AD37,'Footnotes list'!$D$9:$E$58,2,FALSE)=0,\"\",VLOOKUP(AD37,'Footnotes list'!$D$9:$E$58,2,FALSE) ) )","v":""},{"$f":"IF(AND(TRIM(AF35)=\"\",TRIM(AF36)=\"\"),\"\",AF35+AF36)","v":5.0999999999999996},null,null,null,{"$f":"IF(TRIM(AI37)=\"\", \"\", IF(VLOOKUP(AI37,'Footnotes list'!$D$9:$E$58,2,FALSE)=0,\"\",VLOOKUP(AI37,'Footnotes list'!$D$9:$E$58,2,FALSE) ) )","v":""},{"$f":"IF(AND(TRIM(AK35)=\"\",TRIM(AK36)=\"\"),\"\",AK35+AK36)","v":0},null,null,null,{"$f":"IF(TRIM(AN37)=\"\", \"\", IF(VLOOKUP(AN37,'Footnotes list'!$D$9:$E$58,2,FALSE)=0,\"\",VLOOKUP(AN37,'Footnotes list'!$D$9:$E$58,2,FALSE) ) )","v":""},{"$f":"IF(AND(TRIM(AP35)=\"\", TRIM(AP36)=\"\"), \"\", SUM(AP35,AP36))","v":5.0999999999999996},null,null,null,{"$f":"IF(TRIM(AS37)=\"\", \"\", IF(VLOOKUP(AS37,'Footnotes list'!$D$9:$E$58,2,FALSE)=0,\"\",VLOOKUP(AS37,'Footnotes list'!$D$9:$E$58,2,FALSE) ) )","v":""},{"$f":"IF(AND(TRIM(AU35)=\"\", TRIM(AU36)=\"\"), \"\", SUM(AU35,AU36) )","v":19337.425999999999},null,null,null,{"$f":"IF(TRIM(AX37)=\"\", \"\", IF(VLOOKUP(AX37,'Footnotes list'!$D$9:$E$58,2,FALSE)=0,\"\",VLOOKUP(AX37,'Footnotes list'!$D$9:$E$58,2,FALSE) ) )","v":""}]
[null,"W071","W071","Glass wastes ","HAZ","Hazardous ",0,null,null,null,{"$f":"IF(TRIM(J38)=\"\", \"\", IF(VLOOKUP(J38,'Footnotes list'!$D$9:$E$58,2,FALSE)=0,\"\",VLOOKUP(J38,'Footnotes list'!$D$9:$E$58,2,FALSE) ) )","v":""},0,null,null,null,{"$f":"IF(TRIM(O38)=\"\", \"\", IF(VLOOKUP(O38,'Footnotes list'!$D$9:$E$58,2,FALSE)=0,\"\",VLOOKUP(O38,'Footnotes list'!$D$9:$E$58,2,FALSE) ) )","v":""},0,null,null,null,{"$f":"IF(TRIM(T38)=\"\", \"\", IF(VLOOKUP(T38,'Footnotes list'!$D$9:$E$58,2,FALSE)=0,\"\",VLOOKUP(T38,'Footnotes list'!$D$9:$E$58,2,FALSE) ) )","v":""},0,null,null,null,{"$f":"IF(TRIM(Y38)=\"\", \"\", IF(VLOOKUP(Y38,'Footnotes list'!$D$9:$E$58,2,FALSE)=0,\"\",VLOOKUP(Y38,'Footnotes list'!$D$9:$E$58,2,FALSE) ) )","v":""},{"$f":"IF(AND(TRIM(Q38)=\"\",TRIM(V38)=\"\"),\"\",Q38+V38)","v":0},null,null,null,{"$f":"IF(TRIM(AD38)=\"\", \"\", IF(VLOOKUP(AD38,'Footnotes list'!$D$9:$E$58,2,FALSE)=0,\"\",VLOOKUP(AD38,'Footnotes list'!$D$9:$E$58,2,FALSE) ) )","v":""},0,null,null,null,{"$f":"IF(TRIM(AI38)=\"\", \"\", IF(VLOOKUP(AI38,'Footnotes list'!$D$9:$E$58,2,FALSE)=0,\"\",VLOOKUP(AI38,'Footnotes list'!$D$9:$E$58,2,FALSE) ) )","v":""},0,null,null,null,{"$f":"IF(TRIM(AN38)=\"\", \"\", IF(VLOOKUP(AN38,'Footnotes list'!$D$9:$E$58,2,FALSE)=0,\"\",VLOOKUP(AN38,'Footnotes list'!$D$9:$E$58,2,FALSE) ) )","v":""},{"$f":"IF(AND(TRIM(AF38)=\"\",TRIM(AK38)=\"\"),\"\",AF38+AK38)","v":0},null,null,null,{"$f":"IF(TRIM(AS38)=\"\", \"\", IF(VLOOKUP(AS38,'Footnotes list'!$D$9:$E$58,2,FALSE)=0,\"\",VLOOKUP(AS38,'Footnotes list'!$D$9:$E$58,2,FALSE) ) )","v":""},{"$f":"IF(AND(TRIM(G38)=\"\",TRIM(L38)=\"\",TRIM(AA38)=\"\",TRIM(AP38)=\"\"),\"\",SUM(G38,L38,AA38,AP38))","v":0},null,null,null,{"$f":"IF(TRIM(AX38)=\"\", \"\", IF(VLOOKUP(AX38,'Footnotes list'!$D$9:$E$58,2,FALSE)=0,\"\",VLOOKUP(AX38,'Footnotes list'!$D$9:$E$58,2,FALSE) ) )","v":""}]
[null,null,"W071",null,"NHAZ","Non-hazardous",0,null,null,null,{"$f":"IF(TRIM(J39)=\"\", \"\", IF(VLOOKUP(J39,'Footnotes list'!$D$9:$E$58,2,FALSE)=0,\"\",VLOOKUP(J39,'Footnotes list'!$D$9:$E$58,2,FALSE) ) )","v":""},0,null,null,null,{"$f":"IF(TRIM(O39)=\"\", \"\", IF(VLOOKUP(O39,'Footnotes list'!$D$9:$E$58,2,FALSE)=0,\"\",VLOOKUP(O39,'Footnotes list'!$D$9:$E$58,2,FALSE) ) )","v":""},128596.173,null,null,null,{"$f":"IF(TRIM(T39)=\"\", \"\", IF(VLOOKUP(T39,'Footnotes list'!$D$9:$E$58,2,FALSE)=0,\"\",VLOOKUP(T39,'Footnotes list'!$D$9:$E$58,2,FALSE) ) )","v":""},0,null,null,null,{"$f":"IF(TRIM(Y39)=\"\", \"\", IF(VLOOKUP(Y39,'Footnotes list'!$D$9:$E$58,2,FALSE)=0,\"\",VLOOKUP(Y39,'Footnotes list'!$D$9:$E$58,2,FALSE) ) )","v":""},{"$f":"IF(AND(TRIM(Q39)=\"\",TRIM(V39)=\"\"),\"\",Q39+V39)","v":128596.173},null,null,null,{"$f":"IF(TRIM(AD39)=\"\", \"\", IF(VLOOKUP(AD39,'Footnotes list'!$D$9:$E$58,2,FALSE)=0,\"\",VLOOKUP(AD39,'Footnotes list'!$D$9:$E$58,2,FALSE) ) )","v":""},393.17099999999999,null,null,null,{"$f":"IF(TRIM(AI39)=\"\", \"\", IF(VLOOKUP(AI39,'Footnotes list'!$D$9:$E$58,2,FALSE)=0,\"\",VLOOKUP(AI39,'Footnotes list'!$D$9:$E$58,2,FALSE) ) )","v":""},0,null,null,null,{"$f":"IF(TRIM(AN39)=\"\", \"\", IF(VLOOKUP(AN39,'Footnotes list'!$D$9:$E$58,2,FALSE)=0,\"\",VLOOKUP(AN39,'Footnotes list'!$D$9:$E$58,2,FALSE) ) )","v":""},{"$f":"IF(AND(TRIM(AF39)=\"\",TRIM(AK39)=\"\"),\"\",AF39+AK39)","v":393.17099999999999},null,null,null,{"$f":"IF(TRIM(AS39)=\"\", \"\", IF(VLOOKUP(AS39,'Footnotes list'!$D$9:$E$58,2,FALSE)=0,\"\",VLOOKUP(AS39,'Footnotes list'!$D$9:$E$58,2,FALSE) ) )","v":""},{"$f":"IF(AND(TRIM(G39)=\"\",TRIM(L39)=\"\",TRIM(AA39)=\"\",TRIM(AP39)=\"\"),\"\",SUM(G39,L39,AA39,AP39))","v":128989.344},null,null,null,{"$f":"IF(TRIM(AX39)=\"\", \"\", IF(VLOOKUP(AX39,'Footnotes list'!$D$9:$E$58,2,FALSE)=0,\"\",VLOOKUP(AX39,'Footnotes list'!$D$9:$E$58,2,FALSE) ) )","v":""}]
[null,null,"W071",null,"HAZ_NHAZ","Total",{"$f":"IF(AND(TRIM(G38)=\"\",TRIM(G39)=\"\"),\"\",G38+G39)","v":0},null,null,null,{"$f":"IF(TRIM(J40)=\"\", \"\", IF(VLOOKUP(J40,'Footnotes list'!$D$9:$E$58,2,FALSE)=0,\"\",VLOOKUP(J40,'Footnotes list'!$D$9:$E$58,2,FALSE) ) )","v":""},{"$f":"IF(AND(TRIM(L38)=\"\",TRIM(L39)=\"\"),\"\",L38+L39)","v":0},null,null,null,{"$f":"IF(TRIM(O40)=\"\", \"\", IF(VLOOKUP(O40,'Footnotes list'!$D$9:$E$58,2,FALSE)=0,\"\",VLOOKUP(O40,'Footnotes list'!$D$9:$E$58,2,FALSE) ) )","v":""},{"$f":"IF(AND(TRIM(Q38)=\"\",TRIM(Q39)=\"\"),\"\",Q38+Q39)","v":128596.173},null,null,null,{"$f":"IF(TRIM(T40)=\"\", \"\", IF(VLOOKUP(T40,'Footnotes list'!$D$9:$E$58,2,FALSE)=0,\"\",VLOOKUP(T40,'Footnotes list'!$D$9:$E$58,2,FALSE) ) )","v":""},{"$f":"IF(AND(TRIM(V38)=\"\",TRIM(V39)=\"\"),\"\",V38+V39)","v":0},null,null,null,{"$f":"IF(TRIM(Y40)=\"\", \"\", IF(VLOOKUP(Y40,'Footnotes list'!$D$9:$E$58,2,FALSE)=0,\"\",VLOOKUP(Y40,'Footnotes list'!$D$9:$E$58,2,FALSE) ) )","v":""},{"$f":"IF(AND(TRIM(AA38)=\"\", TRIM(AA39)=\"\"), \"\", SUM(AA38,AA39))","v":128596.173},null,null,null,{"$f":"IF(TRIM(AD40)=\"\", \"\", IF(VLOOKUP(AD40,'Footnotes list'!$D$9:$E$58,2,FALSE)=0,\"\",VLOOKUP(AD40,'Footnotes list'!$D$9:$E$58,2,FALSE) ) )","v":""},{"$f":"IF(AND(TRIM(AF38)=\"\",TRIM(AF39)=\"\"),\"\",AF38+AF39)","v":393.17099999999999},null,null,null,{"$f":"IF(TRIM(AI40)=\"\", \"\", IF(VLOOKUP(AI40,'Footnotes list'!$D$9:$E$58,2,FALSE)=0,\"\",VLOOKUP(AI40,'Footnotes list'!$D$9:$E$58,2,FALSE) ) )","v":""},{"$f":"IF(AND(TRIM(AK38)=\"\",TRIM(AK39)=\"\"),\"\",AK38+AK39)","v":0},null,null,null,{"$f":"IF(TRIM(AN40)=\"\", \"\", IF(VLOOKUP(AN40,'Footnotes list'!$D$9:$E$58,2,FALSE)=0,\"\",VLOOKUP(AN40,'Footnotes list'!$D$9:$E$58,2,FALSE) ) )","v":""},{"$f":"IF(AND(TRIM(AP38)=\"\", TRIM(AP39)=\"\"), \"\", SUM(AP38,AP39))","v":393.17099999999999},null,null,null,{"$f":"IF(TRIM(AS40)=\"\", \"\", IF(VLOOKUP(AS40,'Footnotes list'!$D$9:$E$58,2,FALSE)=0,\"\",VLOOKUP(AS40,'Footnotes list'!$D$9:$E$58,2,FALSE) ) )","v":""},{"$f":"IF(AND(TRIM(AU38)=\"\", TRIM(AU39)=\"\"), \"\", SUM(AU38,AU39) )","v":128989.344},null,null,null,{"$f":"IF(TRIM(AX40)=\"\", \"\", IF(VLOOKUP(AX40,'Footnotes list'!$D$9:$E$58,2,FALSE)=0,\"\",VLOOKUP(AX40,'Footnotes list'!$D$9:$E$58,2,FALSE) ) )","v":""}]
[null,"W072",null,"Paper and cardboard wastes ",null,"Not applicable"]
[null,null,"W072",null,"NHAZ","Non-hazardous",32.531999999999996,null,null,null,{"$f":"IF(TRIM(J42)=\"\", \"\", IF(VLOOKUP(J42,'Footnotes list'!$D$9:$E$58,2,FALSE)=0,\"\",VLOOKUP(J42,'Footnotes list'!$D$9:$E$58,2,FALSE) ) )","v":""},0,null,null,null,{"$f":"IF(TRIM(O42)=\"\", \"\", IF(VLOOKUP(O42,'Footnotes list'!$D$9:$E$58,2,FALSE)=0,\"\",VLOOKUP(O42,'Footnotes list'!$D$9:$E$58,2,FALSE) ) )","v":""},261752.50099999999,null,null,null,{"$f":"IF(TRIM(T42)=\"\", \"\", IF(VLOOKUP(T42,'Footnotes list'!$D$9:$E$58,2,FALSE)=0,\"\",VLOOKUP(T42,'Footnotes list'!$D$9:$E$58,2,FALSE) ) )","v":""},0,null,null,null,{"$f":"IF(TRIM(Y42)=\"\", \"\", IF(VLOOKUP(Y42,'Footnotes list'!$D$9:$E$58,2,FALSE)=0,\"\",VLOOKUP(Y42,'Footnotes list'!$D$9:$E$58,2,FALSE) ) )","v":""},{"$f":"IF(AND(TRIM(Q42)=\"\",TRIM(V42)=\"\"),\"\",Q42+V42)","v":261752.50099999999},null,null,null,{"$f":"IF(TRIM(AD42)=\"\", \"\", IF(VLOOKUP(AD42,'Footnotes list'!$D$9:$E$58,2,FALSE)=0,\"\",VLOOKUP(AD42,'Footnotes list'!$D$9:$E$58,2,FALSE) ) )","v":""},62.21,null,null,null,{"$f":"IF(TRIM(AI42)=\"\", \"\", IF(VLOOKUP(AI42,'Footnotes list'!$D$9:$E$58,2,FALSE)=0,\"\",VLOOKUP(AI42,'Footnotes list'!$D$9:$E$58,2,FALSE) ) )","v":""},0,null,null,null,{"$f":"IF(TRIM(AN42)=\"\", \"\", IF(VLOOKUP(AN42,'Footnotes list'!$D$9:$E$58,2,FALSE)=0,\"\",VLOOKUP(AN42,'Footnotes list'!$D$9:$E$58,2,FALSE) ) )","v":""},{"$f":"IF(AND(TRIM(AF42)=\"\",TRIM(AK42)=\"\"),\"\",AF42+AK42)","v":62.21},null,null,null,{"$f":"IF(TRIM(AS42)=\"\", \"\", IF(VLOOKUP(AS42,'Footnotes list'!$D$9:$E$58,2,FALSE)=0,\"\",VLOOKUP(AS42,'Footnotes list'!$D$9:$E$58,2,FALSE) ) )","v":""},{"$f":"IF(AND(TRIM(G42)=\"\",TRIM(L42)=\"\",TRIM(AA42)=\"\",TRIM(AP42)=\"\"),\"\",SUM(G42,L42,AA42,AP42))","v":261847.24299999999},null,null,null,{"$f":"IF(TRIM(AX42)=\"\", \"\", IF(VLOOKUP(AX42,'Footnotes list'!$D$9:$E$58,2,FALSE)=0,\"\",VLOOKUP(AX42,'Footnotes list'!$D$9:$E$58,2,FALSE) ) )","v":""}]
[null,null,"W072",null,"HAZ_NHAZ","Total",{"$f":"IF(AND(TRIM(G41)=\"\",TRIM(G42)=\"\"),\"\",G41+G42)","v":32.531999999999996},null,null,null,{"$f":"IF(TRIM(J43)=\"\", \"\", IF(VLOOKUP(J43,'Footnotes list'!$D$9:$E$58,2,FALSE)=0,\"\",VLOOKUP(J43,'Footnotes list'!$D$9:$E$58,2,FALSE) ) )","v":""},{"$f":"IF(AND(TRIM(L41)=\"\",TRIM(L42)=\"\"),\"\",L41+L42)","v":0},null,null,null,{"$f":"IF(TRIM(O43)=\"\", \"\", IF(VLOOKUP(O43,'Footnotes list'!$D$9:$E$58,2,FALSE)=0,\"\",VLOOKUP(O43,'Footnotes list'!$D$9:$E$58,2,FALSE) ) )","v":""},{"$f":"IF(AND(TRIM(Q41)=\"\",TRIM(Q42)=\"\"),\"\",Q41+Q42)","v":261752.50099999999},null,null,null,{"$f":"IF(TRIM(T43)=\"\", \"\", IF(VLOOKUP(T43,'Footnotes list'!$D$9:$E$58,2,FALSE)=0,\"\",VLOOKUP(T43,'Footnotes list'!$D$9:$E$58,2,FALSE) ) )","v":""},{"$f":"IF(AND(TRIM(V41)=\"\",TRIM(V42)=\"\"),\"\",V41+V42)","v":0},null,null,null,{"$f":"IF(TRIM(Y43)=\"\", \"\", IF(VLOOKUP(Y43,'Footnotes list'!$D$9:$E$58,2,FALSE)=0,\"\",VLOOKUP(Y43,'Footnotes list'!$D$9:$E$58,2,FALSE) ) )","v":""},{"$f":"IF(AND(TRIM(AA41)=\"\", TRIM(AA42)=\"\"), \"\", SUM(AA41,AA42))","v":261752.50099999999},null,null,null,{"$f":"IF(TRIM(AD43)=\"\", \"\", IF(VLOOKUP(AD43,'Footnotes list'!$D$9:$E$58,2,FALSE)=0,\"\",VLOOKUP(AD43,'Footnotes list'!$D$9:$E$58,2,FALSE) ) )","v":""},{"$f":"IF(AND(TRIM(AF41)=\"\",TRIM(AF42)=\"\"),\"\",AF41+AF42)","v":62.21},null,null,null,{"$f":"IF(TRIM(AI43)=\"\", \"\", IF(VLOOKUP(AI43,'Footnotes list'!$D$9:$E$58,2,FALSE)=0,\"\",VLOOKUP(AI43,'Footnotes list'!$D$9:$E$58,2,FALSE) ) )","v":""},{"$f":"IF(AND(TRIM(AK41)=\"\",TRIM(AK42)=\"\"),\"\",AK41+AK42)","v":0},null,null,null,{"$f":"IF(TRIM(AN43)=\"\", \"\", IF(VLOOKUP(AN43,'Footnotes list'!$D$9:$E$58,2,FALSE)=0,\"\",VLOOKUP(AN43,'Footnotes list'!$D$9:$E$58,2,FALSE) ) )","v":""},{"$f":"IF(AND(TRIM(AP41)=\"\", TRIM(AP42)=\"\"), \"\", SUM(AP41,AP42))","v":62.21},null,null,null,{"$f":"IF(TRIM(AS43)=\"\", \"\", IF(VLOOKUP(AS43,'Footnotes list'!$D$9:$E$58,2,FALSE)=0,\"\",VLOOKUP(AS43,'Footnotes list'!$D$9:$E$58,2,FALSE) ) )","v":""},{"$f":"IF(AND(TRIM(AU41)=\"\", TRIM(AU42)=\"\"), \"\", SUM(AU41,AU42) )","v":261847.24299999999},null,null,null,{"$f":"IF(TRIM(AX43)=\"\", \"\", IF(VLOOKUP(AX43,'Footnotes list'!$D$9:$E$58,2,FALSE)=0,\"\",VLOOKUP(AX43,'Footnotes list'!$D$9:$E$58,2,FALSE) ) )","v":""}]
[null,"W073",null,"Rubber wastes ",null,"Not applicable"]
[null,null,"W073",null,"NHAZ","Non-hazardous",4805.04,null,null,null,{"$f":"IF(TRIM(J45)=\"\", \"\", IF(VLOOKUP(J45,'Footnotes list'!$D$9:$E$58,2,FALSE)=0,\"\",VLOOKUP(J45,'Footnotes list'!$D$9:$E$58,2,FALSE) ) )","v":""},0,null,null,null,{"$f":"IF(TRIM(O45)=\"\", \"\", IF(VLOOKUP(O45,'Footnotes list'!$D$9:$E$58,2,FALSE)=0,\"\",VLOOKUP(O45,'Footnotes list'!$D$9:$E$58,2,FALSE) ) )","v":""},25128.014999999999,null,null,null,{"$f":"IF(TRIM(T45)=\"\", \"\", IF(VLOOKUP(T45,'Footnotes list'!$D$9:$E$58,2,FALSE)=0,\"\",VLOOKUP(T45,'Footnotes list'!$D$9:$E$58,2,FALSE) ) )","v":""},0,null,null,null,{"$f":"IF(TRIM(Y45)=\"\", \"\", IF(VLOOKUP(Y45,'Footnotes list'!$D$9:$E$58,2,FALSE)=0,\"\",VLOOKUP(Y45,'Footnotes list'!$D$9:$E$58,2,FALSE) ) )","v":""},{"$f":"IF(AND(TRIM(Q45)=\"\",TRIM(V45)=\"\"),\"\",Q45+V45)","v":25128.014999999999},null,null,null,{"$f":"IF(TRIM(AD45)=\"\", \"\", IF(VLOOKUP(AD45,'Footnotes list'!$D$9:$E$58,2,FALSE)=0,\"\",VLOOKUP(AD45,'Footnotes list'!$D$9:$E$58,2,FALSE) ) )","v":""},0,null,null,null,{"$f":"IF(TRIM(AI45)=\"\", \"\", IF(VLOOKUP(AI45,'Footnotes list'!$D$9:$E$58,2,FALSE)=0,\"\",VLOOKUP(AI45,'Footnotes list'!$D$9:$E$58,2,FALSE) ) )","v":""},0,null,null,null,{"$f":"IF(TRIM(AN45)=\"\", \"\", IF(VLOOKUP(AN45,'Footnotes list'!$D$9:$E$58,2,FALSE)=0,\"\",VLOOKUP(AN45,'Footnotes list'!$D$9:$E$58,2,FALSE) ) )","v":""},{"$f":"IF(AND(TRIM(AF45)=\"\",TRIM(AK45)=\"\"),\"\",AF45+AK45)","v":0},null,null,null,{"$f":"IF(TRIM(AS45)=\"\", \"\", IF(VLOOKUP(AS45,'Footnotes list'!$D$9:$E$58,2,FALSE)=0,\"\",VLOOKUP(AS45,'Footnotes list'!$D$9:$E$58,2,FALSE) ) )","v":""},{"$f":"IF(AND(TRIM(G45)=\"\",TRIM(L45)=\"\",TRIM(AA45)=\"\",TRIM(AP45)=\"\"),\"\",SUM(G45,L45,AA45,AP45))","v":29933.055},null,null,null,{"$f":"IF(TRIM(AX45)=\"\", \"\", IF(VLOOKUP(AX45,'Footnotes list'!$D$9:$E$58,2,FALSE)=0,\"\",VLOOKUP(AX45,'Footnotes list'!$D$9:$E$58,2,FALSE) ) )","v":""}]
[null,null,"W073",null,"HAZ_NHAZ","Total",{"$f":"IF(AND(TRIM(G44)=\"\",TRIM(G45)=\"\"),\"\",G44+G45)","v":4805.04},null,null,null,{"$f":"IF(TRIM(J46)=\"\", \"\", IF(VLOOKUP(J46,'Footnotes list'!$D$9:$E$58,2,FALSE)=0,\"\",VLOOKUP(J46,'Footnotes list'!$D$9:$E$58,2,FALSE) ) )","v":""},{"$f":"IF(AND(TRIM(L44)=\"\",TRIM(L45)=\"\"),\"\",L44+L45)","v":0},null,null,null,{"$f":"IF(TRIM(O46)=\"\", \"\", IF(VLOOKUP(O46,'Footnotes list'!$D$9:$E$58,2,FALSE)=0,\"\",VLOOKUP(O46,'Footnotes list'!$D$9:$E$58,2,FALSE) ) )","v":""},{"$f":"IF(AND(TRIM(Q44)=\"\",TRIM(Q45)=\"\"),\"\",Q44+Q45)","v":25128.014999999999},null,null,null,{"$f":"IF(TRIM(T46)=\"\", \"\", IF(VLOOKUP(T46,'Footnotes list'!$D$9:$E$58,2,FALSE)=0,\"\",VLOOKUP(T46,'Footnotes list'!$D$9:$E$58,2,FALSE) ) )","v":""},{"$f":"IF(AND(TRIM(V44)=\"\",TRIM(V45)=\"\"),\"\",V44+V45)","v":0},null,null,null,{"$f":"IF(TRIM(Y46)=\"\", \"\", IF(VLOOKUP(Y46,'Footnotes list'!$D$9:$E$58,2,FALSE)=0,\"\",VLOOKUP(Y46,'Footnotes list'!$D$9:$E$58,2,FALSE) ) )","v":""},{"$f":"IF(AND(TRIM(AA44)=\"\", TRIM(AA45)=\"\"), \"\", SUM(AA44,AA45))","v":25128.014999999999},null,null,null,{"$f":"IF(TRIM(AD46)=\"\", \"\", IF(VLOOKUP(AD46,'Footnotes list'!$D$9:$E$58,2,FALSE)=0,\"\",VLOOKUP(AD46,'Footnotes list'!$D$9:$E$58,2,FALSE) ) )","v":""},{"$f":"IF(AND(TRIM(AF44)=\"\",TRIM(AF45)=\"\"),\"\",AF44+AF45)","v":0},null,null,null,{"$f":"IF(TRIM(AI46)=\"\", \"\", IF(VLOOKUP(AI46,'Footnotes list'!$D$9:$E$58,2,FALSE)=0,\"\",VLOOKUP(AI46,'Footnotes list'!$D$9:$E$58,2,FALSE) ) )","v":""},{"$f":"IF(AND(TRIM(AK44)=\"\",TRIM(AK45)=\"\"),\"\",AK44+AK45)","v":0},null,null,null,{"$f":"IF(TRIM(AN46)=\"\", \"\", IF(VLOOKUP(AN46,'Footnotes list'!$D$9:$E$58,2,FALSE)=0,\"\",VLOOKUP(AN46,'Footnotes list'!$D$9:$E$58,2,FALSE) ) )","v":""},{"$f":"IF(AND(TRIM(AP44)=\"\", TRIM(AP45)=\"\"), \"\", SUM(AP44,AP45))","v":0},null,null,null,{"$f":"IF(TRIM(AS46)=\"\", \"\", IF(VLOOKUP(AS46,'Footnotes list'!$D$9:$E$58,2,FALSE)=0,\"\",VLOOKUP(AS46,'Footnotes list'!$D$9:$E$58,2,FALSE) ) )","v":""},{"$f":"IF(AND(TRIM(AU44)=\"\", TRIM(AU45)=\"\"), \"\", SUM(AU44,AU45) )","v":29933.055},null,null,null,{"$f":"IF(TRIM(AX46)=\"\", \"\", IF(VLOOKUP(AX46,'Footnotes list'!$D$9:$E$58,2,FALSE)=0,\"\",VLOOKUP(AX46,'Footnotes list'!$D$9:$E$58,2,FALSE) ) )","v":""}]
[null,"W074",null,"Plastic wastes ",null,"Not applicable"]
[null,null,"W074",null,"NHAZ","Non-hazardous",11545.55,null,null,null,{"$f":"IF(TRIM(J48)=\"\", \"\", IF(VLOOKUP(J48,'Footnotes list'!$D$9:$E$58,2,FALSE)=0,\"\",VLOOKUP(J48,'Footnotes list'!$D$9:$E$58,2,FALSE) ) )","v":""},0,null,null,null,{"$f":"IF(TRIM(O48)=\"\", \"\", IF(VLOOKUP(O48,'Footnotes list'!$D$9:$E$58,2,FALSE)=0,\"\",VLOOKUP(O48,'Footnotes list'!$D$9:$E$58,2,FALSE) ) )","v":""},54200.195,null,null,null,{"$f":"IF(TRIM(T48)=\"\", \"\", IF(VLOOKUP(T48,'Footnotes list'!$D$9:$E$58,2,FALSE)=0,\"\",VLOOKUP(T48,'Footnotes list'!$D$9:$E$58,2,FALSE) ) )","v":""},0,null,null,null,{"$f":"IF(TRIM(Y48)=\"\", \"\", IF(VLOOKUP(Y48,'Footnotes list'!$D$9:$E$58,2,FALSE)=0,\"\",VLOOKUP(Y48,'Footnotes list'!$D$9:$E$58,2,FALSE) ) )","v":""},{"$f":"IF(AND(TRIM(Q48)=\"\",TRIM(V48)=\"\"),\"\",Q48+V48)","v":54200.195},null,null,null,{"$f":"IF(TRIM(AD48)=\"\", \"\", IF(VLOOKUP(AD48,'Footnotes list'!$D$9:$E$58,2,FALSE)=0,\"\",VLOOKUP(AD48,'Footnotes list'!$D$9:$E$58,2,FALSE) ) )","v":""},4844.4930000000004,null,null,null,{"$f":"IF(TRIM(AI48)=\"\", \"\", IF(VLOOKUP(AI48,'Footnotes list'!$D$9:$E$58,2,FALSE)=0,\"\",VLOOKUP(AI48,'Footnotes list'!$D$9:$E$58,2,FALSE) ) )","v":""},0,null,null,null,{"$f":"IF(TRIM(AN48)=\"\", \"\", IF(VLOOKUP(AN48,'Footnotes list'!$D$9:$E$58,2,FALSE)=0,\"\",VLOOKUP(AN48,'Footnotes list'!$D$9:$E$58,2,FALSE) ) )","v":""},{"$f":"IF(AND(TRIM(AF48)=\"\",TRIM(AK48)=\"\"),\"\",AF48+AK48)","v":4844.4930000000004},null,null,null,{"$f":"IF(TRIM(AS48)=\"\", \"\", IF(VLOOKUP(AS48,'Footnotes list'!$D$9:$E$58,2,FALSE)=0,\"\",VLOOKUP(AS48,'Footnotes list'!$D$9:$E$58,2,FALSE) ) )","v":""},{"$f":"IF(AND(TRIM(G48)=\"\",TRIM(L48)=\"\",TRIM(AA48)=\"\",TRIM(AP48)=\"\"),\"\",SUM(G48,L48,AA48,AP48))","v":70590.237999999998},null,null,null,{"$f":"IF(TRIM(AX48)=\"\", \"\", IF(VLOOKUP(AX48,'Footnotes list'!$D$9:$E$58,2,FALSE)=0,\"\",VLOOKUP(AX48,'Footnotes list'!$D$9:$E$58,2,FALSE) ) )","v":""}]
[null,null,"W074",null,"HAZ_NHAZ","Total",{"$f":"IF(AND(TRIM(G47)=\"\",TRIM(G48)=\"\"),\"\",G47+G48)","v":11545.55},null,null,null,{"$f":"IF(TRIM(J49)=\"\", \"\", IF(VLOOKUP(J49,'Footnotes list'!$D$9:$E$58,2,FALSE)=0,\"\",VLOOKUP(J49,'Footnotes list'!$D$9:$E$58,2,FALSE) ) )","v":""},{"$f":"IF(AND(TRIM(L47)=\"\",TRIM(L48)=\"\"),\"\",L47+L48)","v":0},null,null,null,{"$f":"IF(TRIM(O49)=\"\", \"\", IF(VLOOKUP(O49,'Footnotes list'!$D$9:$E$58,2,FALSE)=0,\"\",VLOOKUP(O49,'Footnotes list'!$D$9:$E$58,2,FALSE) ) )","v":""},{"$f":"IF(AND(TRIM(Q47)=\"\",TRIM(Q48)=\"\"),\"\",Q47+Q48)","v":54200.195},null,null,null,{"$f":"IF(TRIM(T49)=\"\", \"\", IF(VLOOKUP(T49,'Footnotes list'!$D$9:$E$58,2,FALSE)=0,\"\",VLOOKUP(T49,'Footnotes list'!$D$9:$E$58,2,FALSE) ) )","v":""},{"$f":"IF(AND(TRIM(V47)=\"\",TRIM(V48)=\"\"),\"\",V47+V48)","v":0},null,null,null,{"$f":"IF(TRIM(Y49)=\"\", \"\", IF(VLOOKUP(Y49,'Footnotes list'!$D$9:$E$58,2,FALSE)=0,\"\",VLOOKUP(Y49,'Footnotes list'!$D$9:$E$58,2,FALSE) ) )","v":""},{"$f":"IF(AND(TRIM(AA47)=\"\", TRIM(AA48)=\"\"), \"\", SUM(AA47,AA48))","v":54200.195},null,null,null,{"$f":"IF(TRIM(AD49)=\"\", \"\", IF(VLOOKUP(AD49,'Footnotes list'!$D$9:$E$58,2,FALSE)=0,\"\",VLOOKUP(AD49,'Footnotes list'!$D$9:$E$58,2,FALSE) ) )","v":""},{"$f":"IF(AND(TRIM(AF47)=\"\",TRIM(AF48)=\"\"),\"\",AF47+AF48)","v":4844.4930000000004},null,null,null,{"$f":"IF(TRIM(AI49)=\"\", \"\", IF(VLOOKUP(AI49,'Footnotes list'!$D$9:$E$58,2,FALSE)=0,\"\",VLOOKUP(AI49,'Footnotes list'!$D$9:$E$58,2,FALSE) ) )","v":""},{"$f":"IF(AND(TRIM(AK47)=\"\",TRIM(AK48)=\"\"),\"\",AK47+AK48)","v":0},null,null,null,{"$f":"IF(TRIM(AN49)=\"\", \"\", IF(VLOOKUP(AN49,'Footnotes list'!$D$9:$E$58,2,FALSE)=0,\"\",VLOOKUP(AN49,'Footnotes list'!$D$9:$E$58,2,FALSE) ) )","v":""},{"$f":"IF(AND(TRIM(AP47)=\"\", TRIM(AP48)=\"\"), \"\", SUM(AP47,AP48))","v":4844.4930000000004},null,null,null,{"$f":"IF(TRIM(AS49)=\"\", \"\", IF(VLOOKUP(AS49,'Footnotes list'!$D$9:$E$58,2,FALSE)=0,\"\",VLOOKUP(AS49,'Footnotes list'!$D$9:$E$58,2,FALSE) ) )","v":""},{"$f":"IF(AND(TRIM(AU47)=\"\", TRIM(AU48)=\"\"), \"\", SUM(AU47,AU48) )","v":70590.237999999998},null,null,null,{"$f":"IF(TRIM(AX49)=\"\", \"\", IF(VLOOKUP(AX49,'Footnotes list'!$D$9:$E$58,2,FALSE)=0,\"\",VLOOKUP(AX49,'Footnotes list'!$D$9:$E$58,2,FALSE) ) )","v":""}]
[null,"W075","W075","Wood wastes ","HAZ","Hazardous ",0,null,null,null,{"$f":"IF(TRIM(J50)=\"\", \"\", IF(VLOOKUP(J50,'Footnotes list'!$D$9:$E$58,2,FALSE)=0,\"\",VLOOKUP(J50,'Footnotes list'!$D$9:$E$58,2,FALSE) ) )","v":""},0,null,null,null,{"$f":"IF(TRIM(O50)=\"\", \"\", IF(VLOOKUP(O50,'Footnotes list'!$D$9:$E$58,2,FALSE)=0,\"\",VLOOKUP(O50,'Footnotes list'!$D$9:$E$58,2,FALSE) ) )","v":""},0,null,null,null,{"$f":"IF(TRIM(T50)=\"\", \"\", IF(VLOOKUP(T50,'Footnotes list'!$D$9:$E$58,2,FALSE)=0,\"\",VLOOKUP(T50,'Footnotes list'!$D$9:$E$58,2,FALSE) ) )","v":""},0,null,null,null,{"$f":"IF(TRIM(Y50)=\"\", \"\", IF(VLOOKUP(Y50,'Footnotes list'!$D$9:$E$58,2,FALSE)=0,\"\",VLOOKUP(Y50,'Footnotes list'!$D$9:$E$58,2,FALSE) ) )","v":""},{"$f":"IF(AND(TRIM(Q50)=\"\",TRIM(V50)=\"\"),\"\",Q50+V50)","v":0},null,null,null,{"$f":"IF(TRIM(AD50)=\"\", \"\", IF(VLOOKUP(AD50,'Footnotes list'!$D$9:$E$58,2,FALSE)=0,\"\",VLOOKUP(AD50,'Footnotes list'!$D$9:$E$58,2,FALSE) ) )","v":""},0,null,null,null,{"$f":"IF(TRIM(AI50)=\"\", \"\", IF(VLOOKUP(AI50,'Footnotes list'!$D$9:$E$58,2,FALSE)=0,\"\",VLOOKUP(AI50,'Footnotes list'!$D$9:$E$58,2,FALSE) ) )","v":""},0,null,null,null,{"$f":"IF(TRIM(AN50)=\"\", \"\", IF(VLOOKUP(AN50,'Footnotes list'!$D$9:$E$58,2,FALSE)=0,\"\",VLOOKUP(AN50,'Footnotes list'!$D$9:$E$58,2,FALSE) ) )","v":""},{"$f":"IF(AND(TRIM(AF50)=\"\",TRIM(AK50)=\"\"),\"\",AF50+AK50)","v":0},null,null,null,{"$f":"IF(TRIM(AS50)=\"\", \"\", IF(VLOOKUP(AS50,'Footnotes list'!$D$9:$E$58,2,FALSE)=0,\"\",VLOOKUP(AS50,'Footnotes list'!$D$9:$E$58,2,FALSE) ) )","v":""},{"$f":"IF(AND(TRIM(G50)=\"\",TRIM(L50)=\"\",TRIM(AA50)=\"\",TRIM(AP50)=\"\"),\"\",SUM(G50,L50,AA50,AP50))","v":0},null,null,null,{"$f":"IF(TRIM(AX50)=\"\", \"\", IF(VLOOKUP(AX50,'Footnotes list'!$D$9:$E$58,2,FALSE)=0,\"\",VLOOKUP(AX50,'Footnotes list'!$D$9:$E$58,2,FALSE) ) )","v":""}]
[null,null,"W075",null,"NHAZ","Non-hazardous",38215.108999999997,null,null,null,{"$f":"IF(TRIM(J51)=\"\", \"\", IF(VLOOKUP(J51,'Footnotes list'!$D$9:$E$58,2,FALSE)=0,\"\",VLOOKUP(J51,'Footnotes list'!$D$9:$E$58,2,FALSE) ) )","v":""},0,null,null,null,{"$f":"IF(TRIM(O51)=\"\", \"\", IF(VLOOKUP(O51,'Footnotes list'!$D$9:$E$58,2,FALSE)=0,\"\",VLOOKUP(O51,'Footnotes list'!$D$9:$E$58,2,FALSE) ) )","v":""},120373.961,null,null,null,{"$f":"IF(TRIM(T51)=\"\", \"\", IF(VLOOKUP(T51,'Footnotes list'!$D$9:$E$58,2,FALSE)=0,\"\",VLOOKUP(T51,'Footnotes list'!$D$9:$E$58,2,FALSE) ) )","v":""},0,null,null,null,{"$f":"IF(TRIM(Y51)=\"\", \"\", IF(VLOOKUP(Y51,'Footnotes list'!$D$9:$E$58,2,FALSE)=0,\"\",VLOOKUP(Y51,'Footnotes list'!$D$9:$E$58,2,FALSE) ) )","v":""},{"$f":"IF(AND(TRIM(Q51)=\"\",TRIM(V51)=\"\"),\"\",Q51+V51)","v":120373.961},null,null,null,{"$f":"IF(TRIM(AD51)=\"\", \"\", IF(VLOOKUP(AD51,'Footnotes list'!$D$9:$E$58,2,FALSE)=0,\"\",VLOOKUP(AD51,'Footnotes list'!$D$9:$E$58,2,FALSE) ) )","v":""},423,null,null,null,{"$f":"IF(TRIM(AI51)=\"\", \"\", IF(VLOOKUP(AI51,'Footnotes list'!$D$9:$E$58,2,FALSE)=0,\"\",VLOOKUP(AI51,'Footnotes list'!$D$9:$E$58,2,FALSE) ) )","v":""},0,null,null,null,{"$f":"IF(TRIM(AN51)=\"\", \"\", IF(VLOOKUP(AN51,'Footnotes list'!$D$9:$E$58,2,FALSE)=0,\"\",VLOOKUP(AN51,'Footnotes list'!$D$9:$E$58,2,FALSE) ) )","v":""},{"$f":"IF(AND(TRIM(AF51)=\"\",TRIM(AK51)=\"\"),\"\",AF51+AK51)","v":423},null,null,null,{"$f":"IF(TRIM(AS51)=\"\", \"\", IF(VLOOKUP(AS51,'Footnotes list'!$D$9:$E$58,2,FALSE)=0,\"\",VLOOKUP(AS51,'Footnotes list'!$D$9:$E$58,2,FALSE) ) )","v":""},{"$f":"IF(AND(TRIM(G51)=\"\",TRIM(L51)=\"\",TRIM(AA51)=\"\",TRIM(AP51)=\"\"),\"\",SUM(G51,L51,AA51,AP51))","v":159012.07},null,null,null,{"$f":"IF(TRIM(AX51)=\"\", \"\", IF(VLOOKUP(AX51,'Footnotes list'!$D$9:$E$58,2,FALSE)=0,\"\",VLOOKUP(AX51,'Footnotes list'!$D$9:$E$58,2,FALSE) ) )","v":""}]
[null,null,"W075",null,"HAZ_NHAZ","Total",{"$f":"IF(AND(TRIM(G50)=\"\",TRIM(G51)=\"\"),\"\",G50+G51)","v":38215.108999999997},null,null,null,{"$f":"IF(TRIM(J52)=\"\", \"\", IF(VLOOKUP(J52,'Footnotes list'!$D$9:$E$58,2,FALSE)=0,\"\",VLOOKUP(J52,'Footnotes list'!$D$9:$E$58,2,FALSE) ) )","v":""},{"$f":"IF(AND(TRIM(L50)=\"\",TRIM(L51)=\"\"),\"\",L50+L51)","v":0},null,null,null,{"$f":"IF(TRIM(O52)=\"\", \"\", IF(VLOOKUP(O52,'Footnotes list'!$D$9:$E$58,2,FALSE)=0,\"\",VLOOKUP(O52,'Footnotes list'!$D$9:$E$58,2,FALSE) ) )","v":""},{"$f":"IF(AND(TRIM(Q50)=\"\",TRIM(Q51)=\"\"),\"\",Q50+Q51)","v":120373.961},null,null,null,{"$f":"IF(TRIM(T52)=\"\", \"\", IF(VLOOKUP(T52,'Footnotes list'!$D$9:$E$58,2,FALSE)=0,\"\",VLOOKUP(T52,'Footnotes list'!$D$9:$E$58,2,FALSE) ) )","v":""},{"$f":"IF(AND(TRIM(V50)=\"\",TRIM(V51)=\"\"),\"\",V50+V51)","v":0},null,null,null,{"$f":"IF(TRIM(Y52)=\"\", \"\", IF(VLOOKUP(Y52,'Footnotes list'!$D$9:$E$58,2,FALSE)=0,\"\",VLOOKUP(Y52,'Footnotes list'!$D$9:$E$58,2,FALSE) ) )","v":""},{"$f":"IF(AND(TRIM(AA50)=\"\", TRIM(AA51)=\"\"), \"\", SUM(AA50,AA51))","v":120373.961},null,null,null,{"$f":"IF(TRIM(AD52)=\"\", \"\", IF(VLOOKUP(AD52,'Footnotes list'!$D$9:$E$58,2,FALSE)=0,\"\",VLOOKUP(AD52,'Footnotes list'!$D$9:$E$58,2,FALSE) ) )","v":""},{"$f":"IF(AND(TRIM(AF50)=\"\",TRIM(AF51)=\"\"),\"\",AF50+AF51)","v":423},null,null,null,{"$f":"IF(TRIM(AI52)=\"\", \"\", IF(VLOOKUP(AI52,'Footnotes list'!$D$9:$E$58,2,FALSE)=0,\"\",VLOOKUP(AI52,'Footnotes list'!$D$9:$E$58,2,FALSE) ) )","v":""},{"$f":"IF(AND(TRIM(AK50)=\"\",TRIM(AK51)=\"\"),\"\",AK50+AK51)","v":0},null,null,null,{"$f":"IF(TRIM(AN52)=\"\", \"\", IF(VLOOKUP(AN52,'Footnotes list'!$D$9:$E$58,2,FALSE)=0,\"\",VLOOKUP(AN52,'Footnotes list'!$D$9:$E$58,2,FALSE) ) )","v":""},{"$f":"IF(AND(TRIM(AP50)=\"\", TRIM(AP51)=\"\"), \"\", SUM(AP50,AP51))","v":423},null,null,null,{"$f":"IF(TRIM(AS52)=\"\", \"\", IF(VLOOKUP(AS52,'Footnotes list'!$D$9:$E$58,2,FALSE)=0,\"\",VLOOKUP(AS52,'Footnotes list'!$D$9:$E$58,2,FALSE) ) )","v":""},{"$f":"IF(AND(TRIM(AU50)=\"\", TRIM(AU51)=\"\"), \"\", SUM(AU50,AU51) )","v":159012.07},null,null,null,{"$f":"IF(TRIM(AX52)=\"\", \"\", IF(VLOOKUP(AX52,'Footnotes list'!$D$9:$E$58,2,FALSE)=0,\"\",VLOOKUP(AX52,'Footnotes list'!$D$9:$E$58,2,FALSE) ) )","v":""}]
[null,"W076",null,"Textile wastes ",null,"Not applicable"]
[null,null,"W076",null,"NHAZ","Non-hazardous",769.04,null,null,null,{"$f":"IF(TRIM(J54)=\"\", \"\", IF(VLOOKUP(J54,'Footnotes list'!$D$9:$E$58,2,FALSE)=0,\"\",VLOOKUP(J54,'Footnotes list'!$D$9:$E$58,2,FALSE) ) )","v":""},0,null,null,null,{"$f":"IF(TRIM(O54)=\"\", \"\", IF(VLOOKUP(O54,'Footnotes list'!$D$9:$E$58,2,FALSE)=0,\"\",VLOOKUP(O54,'Footnotes list'!$D$9:$E$58,2,FALSE) ) )","v":""},4872.6409999999996,null,null,null,{"$f":"IF(TRIM(T54)=\"\", \"\", IF(VLOOKUP(T54,'Footnotes list'!$D$9:$E$58,2,FALSE)=0,\"\",VLOOKUP(T54,'Footnotes list'!$D$9:$E$58,2,FALSE) ) )","v":""},0,null,null,null,{"$f":"IF(TRIM(Y54)=\"\", \"\", IF(VLOOKUP(Y54,'Footnotes list'!$D$9:$E$58,2,FALSE)=0,\"\",VLOOKUP(Y54,'Footnotes list'!$D$9:$E$58,2,FALSE) ) )","v":""},{"$f":"IF(AND(TRIM(Q54)=\"\",TRIM(V54)=\"\"),\"\",Q54+V54)","v":4872.6409999999996},null,null,null,{"$f":"IF(TRIM(AD54)=\"\", \"\", IF(VLOOKUP(AD54,'Footnotes list'!$D$9:$E$58,2,FALSE)=0,\"\",VLOOKUP(AD54,'Footnotes list'!$D$9:$E$58,2,FALSE) ) )","v":""},831.94899999999996,null,null,null,{"$f":"IF(TRIM(AI54)=\"\", \"\", IF(VLOOKUP(AI54,'Footnotes list'!$D$9:$E$58,2,FALSE)=0,\"\",VLOOKUP(AI54,'Footnotes list'!$D$9:$E$58,2,FALSE) ) )","v":""},0,null,null,null,{"$f":"IF(TRIM(AN54)=\"\", \"\", IF(VLOOKUP(AN54,'Footnotes list'!$D$9:$E$58,2,FALSE)=0,\"\",VLOOKUP(AN54,'Footnotes list'!$D$9:$E$58,2,FALSE) ) )","v":""},{"$f":"IF(AND(TRIM(AF54)=\"\",TRIM(AK54)=\"\"),\"\",AF54+AK54)","v":831.94899999999996},null,null,null,{"$f":"IF(TRIM(AS54)=\"\", \"\", IF(VLOOKUP(AS54,'Footnotes list'!$D$9:$E$58,2,FALSE)=0,\"\",VLOOKUP(AS54,'Footnotes list'!$D$9:$E$58,2,FALSE) ) )","v":""},{"$f":"IF(AND(TRIM(G54)=\"\",TRIM(L54)=\"\",TRIM(AA54)=\"\",TRIM(AP54)=\"\"),\"\",SUM(G54,L54,AA54,AP54))","v":6473.6299999999992},null,null,null,{"$f":"IF(TRIM(AX54)=\"\", \"\", IF(VLOOKUP(AX54,'Footnotes list'!$D$9:$E$58,2,FALSE)=0,\"\",VLOOKUP(AX54,'Footnotes list'!$D$9:$E$58,2,FALSE) ) )","v":""}]
[null,null,"W076",null,"HAZ_NHAZ","Total",{"$f":"IF(AND(TRIM(G53)=\"\",TRIM(G54)=\"\"),\"\",G53+G54)","v":769.04},null,null,null,{"$f":"IF(TRIM(J55)=\"\", \"\", IF(VLOOKUP(J55,'Footnotes list'!$D$9:$E$58,2,FALSE)=0,\"\",VLOOKUP(J55,'Footnotes list'!$D$9:$E$58,2,FALSE) ) )","v":""},{"$f":"IF(AND(TRIM(L53)=\"\",TRIM(L54)=\"\"),\"\",L53+L54)","v":0},null,null,null,{"$f":"IF(TRIM(O55)=\"\", \"\", IF(VLOOKUP(O55,'Footnotes list'!$D$9:$E$58,2,FALSE)=0,\"\",VLOOKUP(O55,'Footnotes list'!$D$9:$E$58,2,FALSE) ) )","v":""},{"$f":"IF(AND(TRIM(Q53)=\"\",TRIM(Q54)=\"\"),\"\",Q53+Q54)","v":4872.6409999999996},null,null,null,{"$f":"IF(TRIM(T55)=\"\", \"\", IF(VLOOKUP(T55,'Footnotes list'!$D$9:$E$58,2,FALSE)=0,\"\",VLOOKUP(T55,'Footnotes list'!$D$9:$E$58,2,FALSE) ) )","v":""},{"$f":"IF(AND(TRIM(V53)=\"\",TRIM(V54)=\"\"),\"\",V53+V54)","v":0},null,null,null,{"$f":"IF(TRIM(Y55)=\"\", \"\", IF(VLOOKUP(Y55,'Footnotes list'!$D$9:$E$58,2,FALSE)=0,\"\",VLOOKUP(Y55,'Footnotes list'!$D$9:$E$58,2,FALSE) ) )","v":""},{"$f":"IF(AND(TRIM(AA53)=\"\", TRIM(AA54)=\"\"), \"\", SUM(AA53,AA54))","v":4872.6409999999996},null,null,null,{"$f":"IF(TRIM(AD55)=\"\", \"\", IF(VLOOKUP(AD55,'Footnotes list'!$D$9:$E$58,2,FALSE)=0,\"\",VLOOKUP(AD55,'Footnotes list'!$D$9:$E$58,2,FALSE) ) )","v":""},{"$f":"IF(AND(TRIM(AF53)=\"\",TRIM(AF54)=\"\"),\"\",AF53+AF54)","v":831.94899999999996},null,null,null,{"$f":"IF(TRIM(AI55)=\"\", \"\", IF(VLOOKUP(AI55,'Footnotes list'!$D$9:$E$58,2,FALSE)=0,\"\",VLOOKUP(AI55,'Footnotes list'!$D$9:$E$58,2,FALSE) ) )","v":""},{"$f":"IF(AND(TRIM(AK53)=\"\",TRIM(AK54)=\"\"),\"\",AK53+AK54)","v":0},null,null,null,{"$f":"IF(TRIM(AN55)=\"\", \"\", IF(VLOOKUP(AN55,'Footnotes list'!$D$9:$E$58,2,FALSE)=0,\"\",VLOOKUP(AN55,'Footnotes list'!$D$9:$E$58,2,FALSE) ) )","v":""},{"$f":"IF(AND(TRIM(AP53)=\"\", TRIM(AP54)=\"\"), \"\", SUM(AP53,AP54))","v":831.94899999999996},null,null,null,{"$f":"IF(TRIM(AS55)=\"\", \"\", IF(VLOOKUP(AS55,'Footnotes list'!$D$9:$E$58,2,FALSE)=0,\"\",VLOOKUP(AS55,'Footnotes list'!$D$9:$E$58,2,FALSE) ) )","v":""},{"$f":"IF(AND(TRIM(AU53)=\"\", TRIM(AU54)=\"\"), \"\", SUM(AU53,AU54) )","v":6473.6299999999992},null,null,null,{"$f":"IF(TRIM(AX55)=\"\", \"\", IF(VLOOKUP(AX55,'Footnotes list'!$D$9:$E$58,2,FALSE)=0,\"\",VLOOKUP(AX55,'Footnotes list'!$D$9:$E$58,2,FALSE) ) )","v":""}]
[null,"W077","W077","Waste containing PCB ","HAZ","Hazardous ",0,null,null,null,{"$f":"IF(TRIM(J56)=\"\", \"\", IF(VLOOKUP(J56,'Footnotes list'!$D$9:$E$58,2,FALSE)=0,\"\",VLOOKUP(J56,'Footnotes list'!$D$9:$E$58,2,FALSE) ) )","v":""},0,null,null,null,{"$f":"IF(TRIM(O56)=\"\", \"\", IF(VLOOKUP(O56,'Footnotes list'!$D$9:$E$58,2,FALSE)=0,\"\",VLOOKUP(O56,'Footnotes list'!$D$9:$E$58,2,FALSE) ) )","v":""},0,null,null,null,{"$f":"IF(TRIM(T56)=\"\", \"\", IF(VLOOKUP(T56,'Footnotes list'!$D$9:$E$58,2,FALSE)=0,\"\",VLOOKUP(T56,'Footnotes list'!$D$9:$E$58,2,FALSE) ) )","v":""},0,null,null,null,{"$f":"IF(TRIM(Y56)=\"\", \"\", IF(VLOOKUP(Y56,'Footnotes list'!$D$9:$E$58,2,FALSE)=0,\"\",VLOOKUP(Y56,'Footnotes list'!$D$9:$E$58,2,FALSE) ) )","v":""},{"$f":"IF(AND(TRIM(Q56)=\"\",TRIM(V56)=\"\"),\"\",Q56+V56)","v":0},null,null,null,{"$f":"IF(TRIM(AD56)=\"\", \"\", IF(VLOOKUP(AD56,'Footnotes list'!$D$9:$E$58,2,FALSE)=0,\"\",VLOOKUP(AD56,'Footnotes list'!$D$9:$E$58,2,FALSE) ) )","v":""},0,null,null,null,{"$f":"IF(TRIM(AI56)=\"\", \"\", IF(VLOOKUP(AI56,'Footnotes list'!$D$9:$E$58,2,FALSE)=0,\"\",VLOOKUP(AI56,'Footnotes list'!$D$9:$E$58,2,FALSE) ) )","v":""},0,null,null,null,{"$f":"IF(TRIM(AN56)=\"\", \"\", IF(VLOOKUP(AN56,'Footnotes list'!$D$9:$E$58,2,FALSE)=0,\"\",VLOOKUP(AN56,'Footnotes list'!$D$9:$E$58,2,FALSE) ) )","v":""},{"$f":"IF(AND(TRIM(AF56)=\"\",TRIM(AK56)=\"\"),\"\",AF56+AK56)","v":0},null,null,null,{"$f":"IF(TRIM(AS56)=\"\", \"\", IF(VLOOKUP(AS56,'Footnotes list'!$D$9:$E$58,2,FALSE)=0,\"\",VLOOKUP(AS56,'Footnotes list'!$D$9:$E$58,2,FALSE) ) )","v":""},{"$f":"IF(AND(TRIM(G56)=\"\",TRIM(L56)=\"\",TRIM(AA56)=\"\",TRIM(AP56)=\"\"),\"\",SUM(G56,L56,AA56,AP56))","v":0},null,null,null,{"$f":"IF(TRIM(AX56)=\"\", \"\", IF(VLOOKUP(AX56,'Footnotes list'!$D$9:$E$58,2,FALSE)=0,\"\",VLOOKUP(AX56,'Footnotes list'!$D$9:$E$58,2,FALSE) ) )","v":""}]
[null,null,null,null,null,"Not applicable"]
[null,null,"W077",null,"HAZ_NHAZ","Total",{"$f":"IF(AND(TRIM(G56)=\"\",TRIM(G57)=\"\"),\"\",G56+G57)","v":0},null,null,null,{"$f":"IF(TRIM(J58)=\"\", \"\", IF(VLOOKUP(J58,'Footnotes list'!$D$9:$E$58,2,FALSE)=0,\"\",VLOOKUP(J58,'Footnotes list'!$D$9:$E$58,2,FALSE) ) )","v":""},{"$f":"IF(AND(TRIM(L56)=\"\",TRIM(L57)=\"\"),\"\",L56+L57)","v":0},null,null,null,{"$f":"IF(TRIM(O58)=\"\", \"\", IF(VLOOKUP(O58,'Footnotes list'!$D$9:$E$58,2,FALSE)=0,\"\",VLOOKUP(O58,'Footnotes list'!$D$9:$E$58,2,FALSE) ) )","v":""},{"$f":"IF(AND(TRIM(Q56)=\"\",TRIM(Q57)=\"\"),\"\",Q56+Q57)","v":0},null,null,null,{"$f":"IF(TRIM(T58)=\"\", \"\", IF(VLOOKUP(T58,'Footnotes list'!$D$9:$E$58,2,FALSE)=0,\"\",VLOOKUP(T58,'Footnotes list'!$D$9:$E$58,2,FALSE) ) )","v":""},{"$f":"IF(AND(TRIM(V56)=\"\",TRIM(V57)=\"\"),\"\",V56+V57)","v":0},null,null,null,{"$f":"IF(TRIM(Y58)=\"\", \"\", IF(VLOOKUP(Y58,'Footnotes list'!$D$9:$E$58,2,FALSE)=0,\"\",VLOOKUP(Y58,'Footnotes list'!$D$9:$E$58,2,FALSE) ) )","v":""},{"$f":"IF(AND(TRIM(AA56)=\"\", TRIM(AA57)=\"\"), \"\", SUM(AA56,AA57))","v":0},null,null,null,{"$f":"IF(TRIM(AD58)=\"\", \"\", IF(VLOOKUP(AD58,'Footnotes list'!$D$9:$E$58,2,FALSE)=0,\"\",VLOOKUP(AD58,'Footnotes list'!$D$9:$E$58,2,FALSE) ) )","v":""},{"$f":"IF(AND(TRIM(AF56)=\"\",TRIM(AF57)=\"\"),\"\",AF56+AF57)","v":0},null,null,null,{"$f":"IF(TRIM(AI58)=\"\", \"\", IF(VLOOKUP(AI58,'Footnotes list'!$D$9:$E$58,2,FALSE)=0,\"\",VLOOKUP(AI58,'Footnotes list'!$D$9:$E$58,2,FALSE) ) )","v":""},{"$f":"IF(AND(TRIM(AK56)=\"\",TRIM(AK57)=\"\"),\"\",AK56+AK57)","v":0},null,null,null,{"$f":"IF(TRIM(AN58)=\"\", \"\", IF(VLOOKUP(AN58,'Footnotes list'!$D$9:$E$58,2,FALSE)=0,\"\",VLOOKUP(AN58,'Footnotes list'!$D$9:$E$58,2,FALSE) ) )","v":""},{"$f":"IF(AND(TRIM(AP56)=\"\", TRIM(AP57)=\"\"), \"\", SUM(AP56,AP57))","v":0},null,null,null,{"$f":"IF(TRIM(AS58)=\"\", \"\", IF(VLOOKUP(AS58,'Footnotes list'!$D$9:$E$58,2,FALSE)=0,\"\",VLOOKUP(AS58,'Footnotes list'!$D$9:$E$58,2,FALSE) ) )","v":""},{"$f":"IF(AND(TRIM(AU56)=\"\", TRIM(AU57)=\"\"), \"\", SUM(AU56,AU57) )","v":0},null,null,null,{"$f":"IF(TRIM(AX58)=\"\", \"\", IF(VLOOKUP(AX58,'Footnotes list'!$D$9:$E$58,2,FALSE)=0,\"\",VLOOKUP(AX58,'Footnotes list'!$D$9:$E$58,2,FALSE) ) )","v":""}]
[null,"W08A","W08A","Discarded equipment (except discarded vehicles and batteries and accumulators waste) (W08 except W081, W0841)","HAZ","Hazardous ",7.7720000000000002,null,null,null,{"$f":"IF(TRIM(J59)=\"\", \"\", IF(VLOOKUP(J59,'Footnotes list'!$D$9:$E$58,2,FALSE)=0,\"\",VLOOKUP(J59,'Footnotes list'!$D$9:$E$58,2,FALSE) ) )","v":""},0,null,null,null,{"$f":"IF(TRIM(O59)=\"\", \"\", IF(VLOOKUP(O59,'Footnotes list'!$D$9:$E$58,2,FALSE)=0,\"\",VLOOKUP(O59,'Footnotes list'!$D$9:$E$58,2,FALSE) ) )","v":""},23268.447,null,null,null,{"$f":"IF(TRIM(T59)=\"\", \"\", IF(VLOOKUP(T59,'Footnotes list'!$D$9:$E$58,2,FALSE)=0,\"\",VLOOKUP(T59,'Footnotes list'!$D$9:$E$58,2,FALSE) ) )","v":""},0,null,null,null,{"$f":"IF(TRIM(Y59)=\"\", \"\", IF(VLOOKUP(Y59,'Footnotes list'!$D$9:$E$58,2,FALSE)=0,\"\",VLOOKUP(Y59,'Footnotes list'!$D$9:$E$58,2,FALSE) ) )","v":""},{"$f":"IF(AND(TRIM(Q59)=\"\",TRIM(V59)=\"\"),\"\",Q59+V59)","v":23268.447},null,null,null,{"$f":"IF(TRIM(AD59)=\"\", \"\", IF(VLOOKUP(AD59,'Footnotes list'!$D$9:$E$58,2,FALSE)=0,\"\",VLOOKUP(AD59,'Footnotes list'!$D$9:$E$58,2,FALSE) ) )","v":""},0,null,null,null,{"$f":"IF(TRIM(AI59)=\"\", \"\", IF(VLOOKUP(AI59,'Footnotes list'!$D$9:$E$58,2,FALSE)=0,\"\",VLOOKUP(AI59,'Footnotes list'!$D$9:$E$58,2,FALSE) ) )","v":""},0,null,null,null,{"$f":"IF(TRIM(AN59)=\"\", \"\", IF(VLOOKUP(AN59,'Footnotes list'!$D$9:$E$58,2,FALSE)=0,\"\",VLOOKUP(AN59,'Footnotes list'!$D$9:$E$58,2,FALSE) ) )","v":""},{"$f":"IF(AND(TRIM(AF59)=\"\",TRIM(AK59)=\"\"),\"\",AF59+AK59)","v":0},null,null,null,{"$f":"IF(TRIM(AS59)=\"\", \"\", IF(VLOOKUP(AS59,'Footnotes list'!$D$9:$E$58,2,FALSE)=0,\"\",VLOOKUP(AS59,'Footnotes list'!$D$9:$E$58,2,FALSE) ) )","v":""},{"$f":"IF(AND(TRIM(G59)=\"\",TRIM(L59)=\"\",TRIM(AA59)=\"\",TRIM(AP59)=\"\"),\"\",SUM(G59,L59,AA59,AP59))","v":23276.219000000001},null,null,null,{"$f":"IF(TRIM(AX59)=\"\", \"\", IF(VLOOKUP(AX59,'Footnotes list'!$D$9:$E$58,2,FALSE)=0,\"\",VLOOKUP(AX59,'Footnotes list'!$D$9:$E$58,2,FALSE) ) )","v":""}]
[null,null,"W08A",null,"NHAZ","Non-hazardous",0,null,null,null,{"$f":"IF(TRIM(J60)=\"\", \"\", IF(VLOOKUP(J60,'Footnotes list'!$D$9:$E$58,2,FALSE)=0,\"\",VLOOKUP(J60,'Footnotes list'!$D$9:$E$58,2,FALSE) ) )","v":""},0,null,null,null,{"$f":"IF(TRIM(O60)=\"\", \"\", IF(VLOOKUP(O60,'Footnotes list'!$D$9:$E$58,2,FALSE)=0,\"\",VLOOKUP(O60,'Footnotes list'!$D$9:$E$58,2,FALSE) ) )","v":""},13315.489,null,null,null,{"$f":"IF(TRIM(T60)=\"\", \"\", IF(VLOOKUP(T60,'Footnotes list'!$D$9:$E$58,2,FALSE)=0,\"\",VLOOKUP(T60,'Footnotes list'!$D$9:$E$58,2,FALSE) ) )","v":""},0,null,null,null,{"$f":"IF(TRIM(Y60)=\"\", \"\", IF(VLOOKUP(Y60,'Footnotes list'!$D$9:$E$58,2,FALSE)=0,\"\",VLOOKUP(Y60,'Footnotes list'!$D$9:$E$58,2,FALSE) ) )","v":""},{"$f":"IF(AND(TRIM(Q60)=\"\",TRIM(V60)=\"\"),\"\",Q60+V60)","v":13315.489},null,null,null,{"$f":"IF(TRIM(AD60)=\"\", \"\", IF(VLOOKUP(AD60,'Footnotes list'!$D$9:$E$58,2,FALSE)=0,\"\",VLOOKUP(AD60,'Footnotes list'!$D$9:$E$58,2,FALSE) ) )","v":""},0,null,null,null,{"$f":"IF(TRIM(AI60)=\"\", \"\", IF(VLOOKUP(AI60,'Footnotes list'!$D$9:$E$58,2,FALSE)=0,\"\",VLOOKUP(AI60,'Footnotes list'!$D$9:$E$58,2,FALSE) ) )","v":""},0,null,null,null,{"$f":"IF(TRIM(AN60)=\"\", \"\", IF(VLOOKUP(AN60,'Footnotes list'!$D$9:$E$58,2,FALSE)=0,\"\",VLOOKUP(AN60,'Footnotes list'!$D$9:$E$58,2,FALSE) ) )","v":""},{"$f":"IF(AND(TRIM(AF60)=\"\",TRIM(AK60)=\"\"),\"\",AF60+AK60)","v":0},null,null,null,{"$f":"IF(TRIM(AS60)=\"\", \"\", IF(VLOOKUP(AS60,'Footnotes list'!$D$9:$E$58,2,FALSE)=0,\"\",VLOOKUP(AS60,'Footnotes list'!$D$9:$E$58,2,FALSE) ) )","v":""},{"$f":"IF(AND(TRIM(G60)=\"\",TRIM(L60)=\"\",TRIM(AA60)=\"\",TRIM(AP60)=\"\"),\"\",SUM(G60,L60,AA60,AP60))","v":13315.489},null,null,null,{"$f":"IF(TRIM(AX60)=\"\", \"\", IF(VLOOKUP(AX60,'Footnotes list'!$D$9:$E$58,2,FALSE)=0,\"\",VLOOKUP(AX60,'Footnotes list'!$D$9:$E$58,2,FALSE) ) )","v":""}]
[null,null,"W08A",null,"HAZ_NHAZ","Total",{"$f":"IF(AND(TRIM(G59)=\"\",TRIM(G60)=\"\"),\"\",G59+G60)","v":7.7720000000000002},null,null,null,{"$f":"IF(TRIM(J61)=\"\", \"\", IF(VLOOKUP(J61,'Footnotes list'!$D$9:$E$58,2,FALSE)=0,\"\",VLOOKUP(J61,'Footnotes list'!$D$9:$E$58,2,FALSE) ) )","v":""},{"$f":"IF(AND(TRIM(L59)=\"\",TRIM(L60)=\"\"),\"\",L59+L60)","v":0},null,null,null,{"$f":"IF(TRIM(O61)=\"\", \"\", IF(VLOOKUP(O61,'Footnotes list'!$D$9:$E$58,2,FALSE)=0,\"\",VLOOKUP(O61,'Footnotes list'!$D$9:$E$58,2,FALSE) ) )","v":""},{"$f":"IF(AND(TRIM(Q59)=\"\",TRIM(Q60)=\"\"),\"\",Q59+Q60)","v":36583.936000000002},null,null,null,{"$f":"IF(TRIM(T61)=\"\", \"\", IF(VLOOKUP(T61,'Footnotes list'!$D$9:$E$58,2,FALSE)=0,\"\",VLOOKUP(T61,'Footnotes list'!$D$9:$E$58,2,FALSE) ) )","v":""},{"$f":"IF(AND(TRIM(V59)=\"\",TRIM(V60)=\"\"),\"\",V59+V60)","v":0},null,null,null,{"$f":"IF(TRIM(Y61)=\"\", \"\", IF(VLOOKUP(Y61,'Footnotes list'!$D$9:$E$58,2,FALSE)=0,\"\",VLOOKUP(Y61,'Footnotes list'!$D$9:$E$58,2,FALSE) ) )","v":""},{"$f":"IF(AND(TRIM(AA59)=\"\", TRIM(AA60)=\"\"), \"\", SUM(AA59,AA60))","v":36583.936000000002},null,null,null,{"$f":"IF(TRIM(AD61)=\"\", \"\", IF(VLOOKUP(AD61,'Footnotes list'!$D$9:$E$58,2,FALSE)=0,\"\",VLOOKUP(AD61,'Footnotes list'!$D$9:$E$58,2,FALSE) ) )","v":""},{"$f":"IF(AND(TRIM(AF59)=\"\",TRIM(AF60)=\"\"),\"\",AF59+AF60)","v":0},null,null,null,{"$f":"IF(TRIM(AI61)=\"\", \"\", IF(VLOOKUP(AI61,'Footnotes list'!$D$9:$E$58,2,FALSE)=0,\"\",VLOOKUP(AI61,'Footnotes list'!$D$9:$E$58,2,FALSE) ) )","v":""},{"$f":"IF(AND(TRIM(AK59)=\"\",TRIM(AK60)=\"\"),\"\",AK59+AK60)","v":0},null,null,null,{"$f":"IF(TRIM(AN61)=\"\", \"\", IF(VLOOKUP(AN61,'Footnotes list'!$D$9:$E$58,2,FALSE)=0,\"\",VLOOKUP(AN61,'Footnotes list'!$D$9:$E$58,2,FALSE) ) )","v":""},{"$f":"IF(AND(TRIM(AP59)=\"\", TRIM(AP60)=\"\"), \"\", SUM(AP59,AP60))","v":0},null,null,null,{"$f":"IF(TRIM(AS61)=\"\", \"\", IF(VLOOKUP(AS61,'Footnotes list'!$D$9:$E$58,2,FALSE)=0,\"\",VLOOKUP(AS61,'Footnotes list'!$D$9:$E$58,2,FALSE) ) )","v":""},{"$f":"IF(AND(TRIM(AU59)=\"\", TRIM(AU60)=\"\"), \"\", SUM(AU59,AU60) )","v":36591.707999999999},null,null,null,{"$f":"IF(TRIM(AX61)=\"\", \"\", IF(VLOOKUP(AX61,'Footnotes list'!$D$9:$E$58,2,FALSE)=0,\"\",VLOOKUP(AX61,'Footnotes list'!$D$9:$E$58,2,FALSE) ) )","v":""}]
[null,"W081","W081","Discarded vehicles ","HAZ","Hazardous ",0,null,null,null,{"$f":"IF(TRIM(J62)=\"\", \"\", IF(VLOOKUP(J62,'Footnotes list'!$D$9:$E$58,2,FALSE)=0,\"\",VLOOKUP(J62,'Footnotes list'!$D$9:$E$58,2,FALSE) ) )","v":""},0,null,null,null,{"$f":"IF(TRIM(O62)=\"\", \"\", IF(VLOOKUP(O62,'Footnotes list'!$D$9:$E$58,2,FALSE)=0,\"\",VLOOKUP(O62,'Footnotes list'!$D$9:$E$58,2,FALSE) ) )","v":""},40966.845999999998,null,null,null,{"$f":"IF(TRIM(T62)=\"\", \"\", IF(VLOOKUP(T62,'Footnotes list'!$D$9:$E$58,2,FALSE)=0,\"\",VLOOKUP(T62,'Footnotes list'!$D$9:$E$58,2,FALSE) ) )","v":""},0,null,null,null,{"$f":"IF(TRIM(Y62)=\"\", \"\", IF(VLOOKUP(Y62,'Footnotes list'!$D$9:$E$58,2,FALSE)=0,\"\",VLOOKUP(Y62,'Footnotes list'!$D$9:$E$58,2,FALSE) ) )","v":""},{"$f":"IF(AND(TRIM(Q62)=\"\",TRIM(V62)=\"\"),\"\",Q62+V62)","v":40966.845999999998},null,null,null,{"$f":"IF(TRIM(AD62)=\"\", \"\", IF(VLOOKUP(AD62,'Footnotes list'!$D$9:$E$58,2,FALSE)=0,\"\",VLOOKUP(AD62,'Footnotes list'!$D$9:$E$58,2,FALSE) ) )","v":""},0,null,null,null,{"$f":"IF(TRIM(AI62)=\"\", \"\", IF(VLOOKUP(AI62,'Footnotes list'!$D$9:$E$58,2,FALSE)=0,\"\",VLOOKUP(AI62,'Footnotes list'!$D$9:$E$58,2,FALSE) ) )","v":""},0,null,null,null,{"$f":"IF(TRIM(AN62)=\"\", \"\", IF(VLOOKUP(AN62,'Footnotes list'!$D$9:$E$58,2,FALSE)=0,\"\",VLOOKUP(AN62,'Footnotes list'!$D$9:$E$58,2,FALSE) ) )","v":""},{"$f":"IF(AND(TRIM(AF62)=\"\",TRIM(AK62)=\"\"),\"\",AF62+AK62)","v":0},null,null,null,{"$f":"IF(TRIM(AS62)=\"\", \"\", IF(VLOOKUP(AS62,'Footnotes list'!$D$9:$E$58,2,FALSE)=0,\"\",VLOOKUP(AS62,'Footnotes list'!$D$9:$E$58,2,FALSE) ) )","v":""},{"$f":"IF(AND(TRIM(G62)=\"\",TRIM(L62)=\"\",TRIM(AA62)=\"\",TRIM(AP62)=\"\"),\"\",SUM(G62,L62,AA62,AP62))","v":40966.845999999998},null,null,null,{"$f":"IF(TRIM(AX62)=\"\", \"\", IF(VLOOKUP(AX62,'Footnotes list'!$D$9:$E$58,2,FALSE)=0,\"\",VLOOKUP(AX62,'Footnotes list'!$D$9:$E$58,2,FALSE) ) )","v":""}]
[null,null,"W081",null,"NHAZ","Non-hazardous",0,null,null,null,{"$f":"IF(TRIM(J63)=\"\", \"\", IF(VLOOKUP(J63,'Footnotes list'!$D$9:$E$58,2,FALSE)=0,\"\",VLOOKUP(J63,'Footnotes list'!$D$9:$E$58,2,FALSE) ) )","v":""},0,null,null,null,{"$f":"IF(TRIM(O63)=\"\", \"\", IF(VLOOKUP(O63,'Footnotes list'!$D$9:$E$58,2,FALSE)=0,\"\",VLOOKUP(O63,'Footnotes list'!$D$9:$E$58,2,FALSE) ) )","v":""},3494.7260000000001,null,null,null,{"$f":"IF(TRIM(T63)=\"\", \"\", IF(VLOOKUP(T63,'Footnotes list'!$D$9:$E$58,2,FALSE)=0,\"\",VLOOKUP(T63,'Footnotes list'!$D$9:$E$58,2,FALSE) ) )","v":""},0,null,null,null,{"$f":"IF(TRIM(Y63)=\"\", \"\", IF(VLOOKUP(Y63,'Footnotes list'!$D$9:$E$58,2,FALSE)=0,\"\",VLOOKUP(Y63,'Footnotes list'!$D$9:$E$58,2,FALSE) ) )","v":""},{"$f":"IF(AND(TRIM(Q63)=\"\",TRIM(V63)=\"\"),\"\",Q63+V63)","v":3494.7260000000001},null,null,null,{"$f":"IF(TRIM(AD63)=\"\", \"\", IF(VLOOKUP(AD63,'Footnotes list'!$D$9:$E$58,2,FALSE)=0,\"\",VLOOKUP(AD63,'Footnotes list'!$D$9:$E$58,2,FALSE) ) )","v":""},0,null,null,null,{"$f":"IF(TRIM(AI63)=\"\", \"\", IF(VLOOKUP(AI63,'Footnotes list'!$D$9:$E$58,2,FALSE)=0,\"\",VLOOKUP(AI63,'Footnotes list'!$D$9:$E$58,2,FALSE) ) )","v":""},0,null,null,null,{"$f":"IF(TRIM(AN63)=\"\", \"\", IF(VLOOKUP(AN63,'Footnotes list'!$D$9:$E$58,2,FALSE)=0,\"\",VLOOKUP(AN63,'Footnotes list'!$D$9:$E$58,2,FALSE) ) )","v":""},{"$f":"IF(AND(TRIM(AF63)=\"\",TRIM(AK63)=\"\"),\"\",AF63+AK63)","v":0},null,null,null,{"$f":"IF(TRIM(AS63)=\"\", \"\", IF(VLOOKUP(AS63,'Footnotes list'!$D$9:$E$58,2,FALSE)=0,\"\",VLOOKUP(AS63,'Footnotes list'!$D$9:$E$58,2,FALSE) ) )","v":""},{"$f":"IF(AND(TRIM(G63)=\"\",TRIM(L63)=\"\",TRIM(AA63)=\"\",TRIM(AP63)=\"\"),\"\",SUM(G63,L63,AA63,AP63))","v":3494.7260000000001},null,null,null,{"$f":"IF(TRIM(AX63)=\"\", \"\", IF(VLOOKUP(AX63,'Footnotes list'!$D$9:$E$58,2,FALSE)=0,\"\",VLOOKUP(AX63,'Footnotes list'!$D$9:$E$58,2,FALSE) ) )","v":""}]
[null,null,"W081",null,"HAZ_NHAZ","Total",{"$f":"IF(AND(TRIM(G62)=\"\",TRIM(G63)=\"\"),\"\",G62+G63)","v":0},null,null,null,{"$f":"IF(TRIM(J64)=\"\", \"\", IF(VLOOKUP(J64,'Footnotes list'!$D$9:$E$58,2,FALSE)=0,\"\",VLOOKUP(J64,'Footnotes list'!$D$9:$E$58,2,FALSE) ) )","v":""},{"$f":"IF(AND(TRIM(L62)=\"\",TRIM(L63)=\"\"),\"\",L62+L63)","v":0},null,null,null,{"$f":"IF(TRIM(O64)=\"\", \"\", IF(VLOOKUP(O64,'Footnotes list'!$D$9:$E$58,2,FALSE)=0,\"\",VLOOKUP(O64,'Footnotes list'!$D$9:$E$58,2,FALSE) ) )","v":""},{"$f":"IF(AND(TRIM(Q62)=\"\",TRIM(Q63)=\"\"),\"\",Q62+Q63)","v":44461.572},null,null,null,{"$f":"IF(TRIM(T64)=\"\", \"\", IF(VLOOKUP(T64,'Footnotes list'!$D$9:$E$58,2,FALSE)=0,\"\",VLOOKUP(T64,'Footnotes list'!$D$9:$E$58,2,FALSE) ) )","v":""},{"$f":"IF(AND(TRIM(V62)=\"\",TRIM(V63)=\"\"),\"\",V62+V63)","v":0},null,null,null,{"$f":"IF(TRIM(Y64)=\"\", \"\", IF(VLOOKUP(Y64,'Footnotes list'!$D$9:$E$58,2,FALSE)=0,\"\",VLOOKUP(Y64,'Footnotes list'!$D$9:$E$58,2,FALSE) ) )","v":""},{"$f":"IF(AND(TRIM(AA62)=\"\", TRIM(AA63)=\"\"), \"\", SUM(AA62,AA63))","v":44461.572},null,null,null,{"$f":"IF(TRIM(AD64)=\"\", \"\", IF(VLOOKUP(AD64,'Footnotes list'!$D$9:$E$58,2,FALSE)=0,\"\",VLOOKUP(AD64,'Footnotes list'!$D$9:$E$58,2,FALSE) ) )","v":""},{"$f":"IF(AND(TRIM(AF62)=\"\",TRIM(AF63)=\"\"),\"\",AF62+AF63)","v":0},null,null,null,{"$f":"IF(TRIM(AI64)=\"\", \"\", IF(VLOOKUP(AI64,'Footnotes list'!$D$9:$E$58,2,FALSE)=0,\"\",VLOOKUP(AI64,'Footnotes list'!$D$9:$E$58,2,FALSE) ) )","v":""},{"$f":"IF(AND(TRIM(AK62)=\"\",TRIM(AK63)=\"\"),\"\",AK62+AK63)","v":0},null,null,null,{"$f":"IF(TRIM(AN64)=\"\", \"\", IF(VLOOKUP(AN64,'Footnotes list'!$D$9:$E$58,2,FALSE)=0,\"\",VLOOKUP(AN64,'Footnotes list'!$D$9:$E$58,2,FALSE) ) )","v":""},{"$f":"IF(AND(TRIM(AP62)=\"\", TRIM(AP63)=\"\"), \"\", SUM(AP62,AP63))","v":0},null,null,null,{"$f":"IF(TRIM(AS64)=\"\", \"\", IF(VLOOKUP(AS64,'Footnotes list'!$D$9:$E$58,2,FALSE)=0,\"\",VLOOKUP(AS64,'Footnotes list'!$D$9:$E$58,2,FALSE) ) )","v":""},{"$f":"IF(AND(TRIM(AU62)=\"\", TRIM(AU63)=\"\"), \"\", SUM(AU62,AU63) )","v":44461.572},null,null,null,{"$f":"IF(TRIM(AX64)=\"\", \"\", IF(VLOOKUP(AX64,'Footnotes list'!$D$9:$E$58,2,FALSE)=0,\"\",VLOOKUP(AX64,'Footnotes list'!$D$9:$E$58,2,FALSE) ) )","v":""}]
[null,"W0841","W0841","Batteries and accumulators wastes ","HAZ","Hazardous ",0,null,null,null,{"$f":"IF(TRIM(J65)=\"\", \"\", IF(VLOOKUP(J65,'Footnotes list'!$D$9:$E$58,2,FALSE)=0,\"\",VLOOKUP(J65,'Footnotes list'!$D$9:$E$58,2,FALSE) ) )","v":""},0,null,null,null,{"$f":"IF(TRIM(O65)=\"\", \"\", IF(VLOOKUP(O65,'Footnotes list'!$D$9:$E$58,2,FALSE)=0,\"\",VLOOKUP(O65,'Footnotes list'!$D$9:$E$58,2,FALSE) ) )","v":""},0,null,null,null,{"$f":"IF(TRIM(T65)=\"\", \"\", IF(VLOOKUP(T65,'Footnotes list'!$D$9:$E$58,2,FALSE)=0,\"\",VLOOKUP(T65,'Footnotes list'!$D$9:$E$58,2,FALSE) ) )","v":""},0,null,null,null,{"$f":"IF(TRIM(Y65)=\"\", \"\", IF(VLOOKUP(Y65,'Footnotes list'!$D$9:$E$58,2,FALSE)=0,\"\",VLOOKUP(Y65,'Footnotes list'!$D$9:$E$58,2,FALSE) ) )","v":""},{"$f":"IF(AND(TRIM(Q65)=\"\",TRIM(V65)=\"\"),\"\",Q65+V65)","v":0},null,null,null,{"$f":"IF(TRIM(AD65)=\"\", \"\", IF(VLOOKUP(AD65,'Footnotes list'!$D$9:$E$58,2,FALSE)=0,\"\",VLOOKUP(AD65,'Footnotes list'!$D$9:$E$58,2,FALSE) ) )","v":""},0,null,null,null,{"$f":"IF(TRIM(AI65)=\"\", \"\", IF(VLOOKUP(AI65,'Footnotes list'!$D$9:$E$58,2,FALSE)=0,\"\",VLOOKUP(AI65,'Footnotes list'!$D$9:$E$58,2,FALSE) ) )","v":""},0,null,null,null,{"$f":"IF(TRIM(AN65)=\"\", \"\", IF(VLOOKUP(AN65,'Footnotes list'!$D$9:$E$58,2,FALSE)=0,\"\",VLOOKUP(AN65,'Footnotes list'!$D$9:$E$58,2,FALSE) ) )","v":""},{"$f":"IF(AND(TRIM(AF65)=\"\",TRIM(AK65)=\"\"),\"\",AF65+AK65)","v":0},null,null,null,{"$f":"IF(TRIM(AS65)=\"\", \"\", IF(VLOOKUP(AS65,'Footnotes list'!$D$9:$E$58,2,FALSE)=0,\"\",VLOOKUP(AS65,'Footnotes list'!$D$9:$E$58,2,FALSE) ) )","v":""},{"$f":"IF(AND(TRIM(G65)=\"\",TRIM(L65)=\"\",TRIM(AA65)=\"\",TRIM(AP65)=\"\"),\"\",SUM(G65,L65,AA65,AP65))","v":0},null,null,null,{"$f":"IF(TRIM(AX65)=\"\", \"\", IF(VLOOKUP(AX65,'Footnotes list'!$D$9:$E$58,2,FALSE)=0,\"\",VLOOKUP(AX65,'Footnotes list'!$D$9:$E$58,2,FALSE) ) )","v":""}]
[null,null,"W0841",null,"NHAZ","Non-hazardous",0,null,null,null,{"$f":"IF(TRIM(J66)=\"\", \"\", IF(VLOOKUP(J66,'Footnotes list'!$D$9:$E$58,2,FALSE)=0,\"\",VLOOKUP(J66,'Footnotes list'!$D$9:$E$58,2,FALSE) ) )","v":""},0,null,null,null,{"$f":"IF(TRIM(O66)=\"\", \"\", IF(VLOOKUP(O66,'Footnotes list'!$D$9:$E$58,2,FALSE)=0,\"\",VLOOKUP(O66,'Footnotes list'!$D$9:$E$58,2,FALSE) ) )","v":""},0,null,null,null,{"$f":"IF(TRIM(T66)=\"\", \"\", IF(VLOOKUP(T66,'Footnotes list'!$D$9:$E$58,2,FALSE)=0,\"\",VLOOKUP(T66,'Footnotes list'!$D$9:$E$58,2,FALSE) ) )","v":""},0,null,null,null,{"$f":"IF(TRIM(Y66)=\"\", \"\", IF(VLOOKUP(Y66,'Footnotes list'!$D$9:$E$58,2,FALSE)=0,\"\",VLOOKUP(Y66,'Footnotes list'!$D$9:$E$58,2,FALSE) ) )","v":""},{"$f":"IF(AND(TRIM(Q66)=\"\",TRIM(V66)=\"\"),\"\",Q66+V66)","v":0},null,null,null,{"$f":"IF(TRIM(AD66)=\"\", \"\", IF(VLOOKUP(AD66,'Footnotes list'!$D$9:$E$58,2,FALSE)=0,\"\",VLOOKUP(AD66,'Footnotes list'!$D$9:$E$58,2,FALSE) ) )","v":""},0,null,null,null,{"$f":"IF(TRIM(AI66)=\"\", \"\", IF(VLOOKUP(AI66,'Footnotes list'!$D$9:$E$58,2,FALSE)=0,\"\",VLOOKUP(AI66,'Footnotes list'!$D$9:$E$58,2,FALSE) ) )","v":""},0,null,null,null,{"$f":"IF(TRIM(AN66)=\"\", \"\", IF(VLOOKUP(AN66,'Footnotes list'!$D$9:$E$58,2,FALSE)=0,\"\",VLOOKUP(AN66,'Footnotes list'!$D$9:$E$58,2,FALSE) ) )","v":""},{"$f":"IF(AND(TRIM(AF66)=\"\",TRIM(AK66)=\"\"),\"\",AF66+AK66)","v":0},null,null,null,{"$f":"IF(TRIM(AS66)=\"\", \"\", IF(VLOOKUP(AS66,'Footnotes list'!$D$9:$E$58,2,FALSE)=0,\"\",VLOOKUP(AS66,'Footnotes list'!$D$9:$E$58,2,FALSE) ) )","v":""},{"$f":"IF(AND(TRIM(G66)=\"\",TRIM(L66)=\"\",TRIM(AA66)=\"\",TRIM(AP66)=\"\"),\"\",SUM(G66,L66,AA66,AP66))","v":0},null,null,null,{"$f":"IF(TRIM(AX66)=\"\", \"\", IF(VLOOKUP(AX66,'Footnotes list'!$D$9:$E$58,2,FALSE)=0,\"\",VLOOKUP(AX66,'Footnotes list'!$D$9:$E$58,2,FALSE) ) )","v":""}]
[null,null,"W0841",null,"HAZ_NHAZ","Total",{"$f":"IF(AND(TRIM(G65)=\"\",TRIM(G66)=\"\"),\"\",G65+G66)","v":0},null,null,null,{"$f":"IF(TRIM(J67)=\"\", \"\", IF(VLOOKUP(J67,'Footnotes list'!$D$9:$E$58,2,FALSE)=0,\"\",VLOOKUP(J67,'Footnotes list'!$D$9:$E$58,2,FALSE) ) )","v":""},{"$f":"IF(AND(TRIM(L65)=\"\",TRIM(L66)=\"\"),\"\",L65+L66)","v":0},null,null,null,{"$f":"IF(TRIM(O67)=\"\", \"\", IF(VLOOKUP(O67,'Footnotes list'!$D$9:$E$58,2,FALSE)=0,\"\",VLOOKUP(O67,'Footnotes list'!$D$9:$E$58,2,FALSE) ) )","v":""},{"$f":"IF(AND(TRIM(Q65)=\"\",TRIM(Q66)=\"\"),\"\",Q65+Q66)","v":0},null,null,null,{"$f":"IF(TRIM(T67)=\"\", \"\", IF(VLOOKUP(T67,'Footnotes list'!$D$9:$E$58,2,FALSE)=0,\"\",VLOOKUP(T67,'Footnotes list'!$D$9:$E$58,2,FALSE) ) )","v":""},{"$f":"IF(AND(TRIM(V65)=\"\",TRIM(V66)=\"\"),\"\",V65+V66)","v":0},null,null,null,{"$f":"IF(TRIM(Y67)=\"\", \"\", IF(VLOOKUP(Y67,'Footnotes list'!$D$9:$E$58,2,FALSE)=0,\"\",VLOOKUP(Y67,'Footnotes list'!$D$9:$E$58,2,FALSE) ) )","v":""},{"$f":"IF(AND(TRIM(AA65)=\"\", TRIM(AA66)=\"\"), \"\", SUM(AA65,AA66))","v":0},null,null,null,{"$f":"IF(TRIM(AD67)=\"\", \"\", IF(VLOOKUP(AD67,'Footnotes list'!$D$9:$E$58,2,FALSE)=0,\"\",VLOOKUP(AD67,'Footnotes list'!$D$9:$E$58,2,FALSE) ) )","v":""},{"$f":"IF(AND(TRIM(AF65)=\"\",TRIM(AF66)=\"\"),\"\",AF65+AF66)","v":0},null,null,null,{"$f":"IF(TRIM(AI67)=\"\", \"\", IF(VLOOKUP(AI67,'Footnotes list'!$D$9:$E$58,2,FALSE)=0,\"\",VLOOKUP(AI67,'Footnotes list'!$D$9:$E$58,2,FALSE) ) )","v":""},{"$f":"IF(AND(TRIM(AK65)=\"\",TRIM(AK66)=\"\"),\"\",AK65+AK66)","v":0},null,null,null,{"$f":"IF(TRIM(AN67)=\"\", \"\", IF(VLOOKUP(AN67,'Footnotes list'!$D$9:$E$58,2,FALSE)=0,\"\",VLOOKUP(AN67,'Footnotes list'!$D$9:$E$58,2,FALSE) ) )","v":""},{"$f":"IF(AND(TRIM(AP65)=\"\", TRIM(AP66)=\"\"), \"\", SUM(AP65,AP66))","v":0},null,null,null,{"$f":"IF(TRIM(AS67)=\"\", \"\", IF(VLOOKUP(AS67,'Footnotes list'!$D$9:$E$58,2,FALSE)=0,\"\",VLOOKUP(AS67,'Footnotes list'!$D$9:$E$58,2,FALSE) ) )","v":""},{"$f":"IF(AND(TRIM(AU65)=\"\", TRIM(AU66)=\"\"), \"\", SUM(AU65,AU66) )","v":0},null,null,null,{"$f":"IF(TRIM(AX67)=\"\", \"\", IF(VLOOKUP(AX67,'Footnotes list'!$D$9:$E$58,2,FALSE)=0,\"\",VLOOKUP(AX67,'Footnotes list'!$D$9:$E$58,2,FALSE) ) )","v":""}]
[null,"W091",null,"Animal and mixed food waste ",null,"Not applicable"]
[null,null,"W091",null,"NHAZ","Non-hazardous",1754.72,null,null,null,{"$f":"IF(TRIM(J69)=\"\", \"\", IF(VLOOKUP(J69,'Footnotes list'!$D$9:$E$58,2,FALSE)=0,\"\",VLOOKUP(J69,'Footnotes list'!$D$9:$E$58,2,FALSE) ) )","v":""},0,null,null,null,{"$f":"IF(TRIM(O69)=\"\", \"\", IF(VLOOKUP(O69,'Footnotes list'!$D$9:$E$58,2,FALSE)=0,\"\",VLOOKUP(O69,'Footnotes list'!$D$9:$E$58,2,FALSE) ) )","v":""},86413.066999999995,null,null,null,{"$f":"IF(TRIM(T69)=\"\", \"\", IF(VLOOKUP(T69,'Footnotes list'!$D$9:$E$58,2,FALSE)=0,\"\",VLOOKUP(T69,'Footnotes list'!$D$9:$E$58,2,FALSE) ) )","v":""},0,null,null,null,{"$f":"IF(TRIM(Y69)=\"\", \"\", IF(VLOOKUP(Y69,'Footnotes list'!$D$9:$E$58,2,FALSE)=0,\"\",VLOOKUP(Y69,'Footnotes list'!$D$9:$E$58,2,FALSE) ) )","v":""},{"$f":"IF(AND(TRIM(Q69)=\"\",TRIM(V69)=\"\"),\"\",Q69+V69)","v":86413.066999999995},null,null,null,{"$f":"IF(TRIM(AD69)=\"\", \"\", IF(VLOOKUP(AD69,'Footnotes list'!$D$9:$E$58,2,FALSE)=0,\"\",VLOOKUP(AD69,'Footnotes list'!$D$9:$E$58,2,FALSE) ) )","v":""},2104.855,null,null,null,{"$f":"IF(TRIM(AI69)=\"\", \"\", IF(VLOOKUP(AI69,'Footnotes list'!$D$9:$E$58,2,FALSE)=0,\"\",VLOOKUP(AI69,'Footnotes list'!$D$9:$E$58,2,FALSE) ) )","v":""},0,null,null,null,{"$f":"IF(TRIM(AN69)=\"\", \"\", IF(VLOOKUP(AN69,'Footnotes list'!$D$9:$E$58,2,FALSE)=0,\"\",VLOOKUP(AN69,'Footnotes list'!$D$9:$E$58,2,FALSE) ) )","v":""},{"$f":"IF(AND(TRIM(AF69)=\"\",TRIM(AK69)=\"\"),\"\",AF69+AK69)","v":2104.855},null,null,null,{"$f":"IF(TRIM(AS69)=\"\", \"\", IF(VLOOKUP(AS69,'Footnotes list'!$D$9:$E$58,2,FALSE)=0,\"\",VLOOKUP(AS69,'Footnotes list'!$D$9:$E$58,2,FALSE) ) )","v":""},{"$f":"IF(AND(TRIM(G69)=\"\",TRIM(L69)=\"\",TRIM(AA69)=\"\",TRIM(AP69)=\"\"),\"\",SUM(G69,L69,AA69,AP69))","v":90272.641999999993},null,null,null,{"$f":"IF(TRIM(AX69)=\"\", \"\", IF(VLOOKUP(AX69,'Footnotes list'!$D$9:$E$58,2,FALSE)=0,\"\",VLOOKUP(AX69,'Footnotes list'!$D$9:$E$58,2,FALSE) ) )","v":""}]
[null,null,"W091",null,"HAZ_NHAZ","Total",{"$f":"IF(AND(TRIM(G68)=\"\",TRIM(G69)=\"\"),\"\",G68+G69)","v":1754.72},null,null,null,{"$f":"IF(TRIM(J70)=\"\", \"\", IF(VLOOKUP(J70,'Footnotes list'!$D$9:$E$58,2,FALSE)=0,\"\",VLOOKUP(J70,'Footnotes list'!$D$9:$E$58,2,FALSE) ) )","v":""},{"$f":"IF(AND(TRIM(L68)=\"\",TRIM(L69)=\"\"),\"\",L68+L69)","v":0},null,null,null,{"$f":"IF(TRIM(O70)=\"\", \"\", IF(VLOOKUP(O70,'Footnotes list'!$D$9:$E$58,2,FALSE)=0,\"\",VLOOKUP(O70,'Footnotes list'!$D$9:$E$58,2,FALSE) ) )","v":""},{"$f":"IF(AND(TRIM(Q68)=\"\",TRIM(Q69)=\"\"),\"\",Q68+Q69)","v":86413.066999999995},null,null,null,{"$f":"IF(TRIM(T70)=\"\", \"\", IF(VLOOKUP(T70,'Footnotes list'!$D$9:$E$58,2,FALSE)=0,\"\",VLOOKUP(T70,'Footnotes list'!$D$9:$E$58,2,FALSE) ) )","v":""},{"$f":"IF(AND(TRIM(V68)=\"\",TRIM(V69)=\"\"),\"\",V68+V69)","v":0},null,null,null,{"$f":"IF(TRIM(Y70)=\"\", \"\", IF(VLOOKUP(Y70,'Footnotes list'!$D$9:$E$58,2,FALSE)=0,\"\",VLOOKUP(Y70,'Footnotes list'!$D$9:$E$58,2,FALSE) ) )","v":""},{"$f":"IF(AND(TRIM(AA68)=\"\", TRIM(AA69)=\"\"), \"\", SUM(AA68,AA69))","v":86413.066999999995},null,null,null,{"$f":"IF(TRIM(AD70)=\"\", \"\", IF(VLOOKUP(AD70,'Footnotes list'!$D$9:$E$58,2,FALSE)=0,\"\",VLOOKUP(AD70,'Footnotes list'!$D$9:$E$58,2,FALSE) ) )","v":""},{"$f":"IF(AND(TRIM(AF68)=\"\",TRIM(AF69)=\"\"),\"\",AF68+AF69)","v":2104.855},null,null,null,{"$f":"IF(TRIM(AI70)=\"\", \"\", IF(VLOOKUP(AI70,'Footnotes list'!$D$9:$E$58,2,FALSE)=0,\"\",VLOOKUP(AI70,'Footnotes list'!$D$9:$E$58,2,FALSE) ) )","v":""},{"$f":"IF(AND(TRIM(AK68)=\"\",TRIM(AK69)=\"\"),\"\",AK68+AK69)","v":0},null,null,null,{"$f":"IF(TRIM(AN70)=\"\", \"\", IF(VLOOKUP(AN70,'Footnotes list'!$D$9:$E$58,2,FALSE)=0,\"\",VLOOKUP(AN70,'Footnotes list'!$D$9:$E$58,2,FALSE) ) )","v":""},{"$f":"IF(AND(TRIM(AP68)=\"\", TRIM(AP69)=\"\"), \"\", SUM(AP68,AP69))","v":2104.855},null,null,null,{"$f":"IF(TRIM(AS70)=\"\", \"\", IF(VLOOKUP(AS70,'Footnotes list'!$D$9:$E$58,2,FALSE)=0,\"\",VLOOKUP(AS70,'Footnotes list'!$D$9:$E$58,2,FALSE) ) )","v":""},{"$f":"IF(AND(TRIM(AU68)=\"\", TRIM(AU69)=\"\"), \"\", SUM(AU68,AU69) )","v":90272.641999999993},null,null,null,{"$f":"IF(TRIM(AX70)=\"\", \"\", IF(VLOOKUP(AX70,'Footnotes list'!$D$9:$E$58,2,FALSE)=0,\"\",VLOOKUP(AX70,'Footnotes list'!$D$9:$E$58,2,FALSE) ) )","v":""}]
[null,"W092",null,"Vegetal wastes ",null,"Not applicable"]
[null,null,"W092",null,"NHAZ","Non-hazardous",5777.26,null,null,null,{"$f":"IF(TRIM(J72)=\"\", \"\", IF(VLOOKUP(J72,'Footnotes list'!$D$9:$E$58,2,FALSE)=0,\"\",VLOOKUP(J72,'Footnotes list'!$D$9:$E$58,2,FALSE) ) )","v":""},0,null,null,null,{"$f":"IF(TRIM(O72)=\"\", \"\", IF(VLOOKUP(O72,'Footnotes list'!$D$9:$E$58,2,FALSE)=0,\"\",VLOOKUP(O72,'Footnotes list'!$D$9:$E$58,2,FALSE) ) )","v":""},86080.346000000005,null,null,null,{"$f":"IF(TRIM(T72)=\"\", \"\", IF(VLOOKUP(T72,'Footnotes list'!$D$9:$E$58,2,FALSE)=0,\"\",VLOOKUP(T72,'Footnotes list'!$D$9:$E$58,2,FALSE) ) )","v":""},0,null,null,null,{"$f":"IF(TRIM(Y72)=\"\", \"\", IF(VLOOKUP(Y72,'Footnotes list'!$D$9:$E$58,2,FALSE)=0,\"\",VLOOKUP(Y72,'Footnotes list'!$D$9:$E$58,2,FALSE) ) )","v":""},{"$f":"IF(AND(TRIM(Q72)=\"\",TRIM(V72)=\"\"),\"\",Q72+V72)","v":86080.346000000005},null,null,null,{"$f":"IF(TRIM(AD72)=\"\", \"\", IF(VLOOKUP(AD72,'Footnotes list'!$D$9:$E$58,2,FALSE)=0,\"\",VLOOKUP(AD72,'Footnotes list'!$D$9:$E$58,2,FALSE) ) )","v":""},11923.584000000001,null,null,null,{"$f":"IF(TRIM(AI72)=\"\", \"\", IF(VLOOKUP(AI72,'Footnotes list'!$D$9:$E$58,2,FALSE)=0,\"\",VLOOKUP(AI72,'Footnotes list'!$D$9:$E$58,2,FALSE) ) )","v":""},0,null,null,null,{"$f":"IF(TRIM(AN72)=\"\", \"\", IF(VLOOKUP(AN72,'Footnotes list'!$D$9:$E$58,2,FALSE)=0,\"\",VLOOKUP(AN72,'Footnotes list'!$D$9:$E$58,2,FALSE) ) )","v":""},{"$f":"IF(AND(TRIM(AF72)=\"\",TRIM(AK72)=\"\"),\"\",AF72+AK72)","v":11923.584000000001},null,null,null,{"$f":"IF(TRIM(AS72)=\"\", \"\", IF(VLOOKUP(AS72,'Footnotes list'!$D$9:$E$58,2,FALSE)=0,\"\",VLOOKUP(AS72,'Footnotes list'!$D$9:$E$58,2,FALSE) ) )","v":""},{"$f":"IF(AND(TRIM(G72)=\"\",TRIM(L72)=\"\",TRIM(AA72)=\"\",TRIM(AP72)=\"\"),\"\",SUM(G72,L72,AA72,AP72))","v":103781.19},null,null,null,{"$f":"IF(TRIM(AX72)=\"\", \"\", IF(VLOOKUP(AX72,'Footnotes list'!$D$9:$E$58,2,FALSE)=0,\"\",VLOOKUP(AX72,'Footnotes list'!$D$9:$E$58,2,FALSE) ) )","v":""}]
[null,null,"W092",null,"HAZ_NHAZ","Total",{"$f":"IF(AND(TRIM(G71)=\"\",TRIM(G72)=\"\"),\"\",G71+G72)","v":5777.26},null,null,null,{"$f":"IF(TRIM(J73)=\"\", \"\", IF(VLOOKUP(J73,'Footnotes list'!$D$9:$E$58,2,FALSE)=0,\"\",VLOOKUP(J73,'Footnotes list'!$D$9:$E$58,2,FALSE) ) )","v":""},{"$f":"IF(AND(TRIM(L71)=\"\",TRIM(L72)=\"\"),\"\",L71+L72)","v":0},null,null,null,{"$f":"IF(TRIM(O73)=\"\", \"\", IF(VLOOKUP(O73,'Footnotes list'!$D$9:$E$58,2,FALSE)=0,\"\",VLOOKUP(O73,'Footnotes list'!$D$9:$E$58,2,FALSE) ) )","v":""},{"$f":"IF(AND(TRIM(Q71)=\"\",TRIM(Q72)=\"\"),\"\",Q71+Q72)","v":86080.346000000005},null,null,null,{"$f":"IF(TRIM(T73)=\"\", \"\", IF(VLOOKUP(T73,'Footnotes list'!$D$9:$E$58,2,FALSE)=0,\"\",VLOOKUP(T73,'Footnotes list'!$D$9:$E$58,2,FALSE) ) )","v":""},{"$f":"IF(AND(TRIM(V71)=\"\",TRIM(V72)=\"\"),\"\",V71+V72)","v":0},null,null,null,{"$f":"IF(TRIM(Y73)=\"\", \"\", IF(VLOOKUP(Y73,'Footnotes list'!$D$9:$E$58,2,FALSE)=0,\"\",VLOOKUP(Y73,'Footnotes list'!$D$9:$E$58,2,FALSE) ) )","v":""},{"$f":"IF(AND(TRIM(AA71)=\"\", TRIM(AA72)=\"\"), \"\", SUM(AA71,AA72))","v":86080.346000000005},null,null,null,{"$f":"IF(TRIM(AD73)=\"\", \"\", IF(VLOOKUP(AD73,'Footnotes list'!$D$9:$E$58,2,FALSE)=0,\"\",VLOOKUP(AD73,'Footnotes list'!$D$9:$E$58,2,FALSE) ) )","v":""},{"$f":"IF(AND(TRIM(AF71)=\"\",TRIM(AF72)=\"\"),\"\",AF71+AF72)","v":11923.584000000001},null,null,null,{"$f":"IF(TRIM(AI73)=\"\", \"\", IF(VLOOKUP(AI73,'Footnotes list'!$D$9:$E$58,2,FALSE)=0,\"\",VLOOKUP(AI73,'Footnotes list'!$D$9:$E$58,2,FALSE) ) )","v":""},{"$f":"IF(AND(TRIM(AK71)=\"\",TRIM(AK72)=\"\"),\"\",AK71+AK72)","v":0},null,null,null,{"$f":"IF(TRIM(AN73)=\"\", \"\", IF(VLOOKUP(AN73,'Footnotes list'!$D$9:$E$58,2,FALSE)=0,\"\",VLOOKUP(AN73,'Footnotes list'!$D$9:$E$58,2,FALSE) ) )","v":""},{"$f":"IF(AND(TRIM(AP71)=\"\", TRIM(AP72)=\"\"), \"\", SUM(AP71,AP72))","v":11923.584000000001},null,null,null,{"$f":"IF(TRIM(AS73)=\"\", \"\", IF(VLOOKUP(AS73,'Footnotes list'!$D$9:$E$58,2,FALSE)=0,\"\",VLOOKUP(AS73,'Footnotes list'!$D$9:$E$58,2,FALSE) ) )","v":""},{"$f":"IF(AND(TRIM(AU71)=\"\", TRIM(AU72)=\"\"), \"\", SUM(AU71,AU72) )","v":103781.19},null,null,null,{"$f":"IF(TRIM(AX73)=\"\", \"\", IF(VLOOKUP(AX73,'Footnotes list'!$D$9:$E$58,2,FALSE)=0,\"\",VLOOKUP(AX73,'Footnotes list'!$D$9:$E$58,2,FALSE) ) )","v":""}]
[null,"W093",null,"Animal faeces, urine and manure ",null,"Not applicable"]
[null,null,"W093",null,"NHAZ","Non-hazardous",0,null,null,null,{"$f":"IF(TRIM(J75)=\"\", \"\", IF(VLOOKUP(J75,'Footnotes list'!$D$9:$E$58,2,FALSE)=0,\"\",VLOOKUP(J75,'Footnotes list'!$D$9:$E$58,2,FALSE) ) )","v":""},0,null,null,null,{"$f":"IF(TRIM(O75)=\"\", \"\", IF(VLOOKUP(O75,'Footnotes list'!$D$9:$E$58,2,FALSE)=0,\"\",VLOOKUP(O75,'Footnotes list'!$D$9:$E$58,2,FALSE) ) )","v":""},611583.9,null,null,null,{"$f":"IF(TRIM(T75)=\"\", \"\", IF(VLOOKUP(T75,'Footnotes list'!$D$9:$E$58,2,FALSE)=0,\"\",VLOOKUP(T75,'Footnotes list'!$D$9:$E$58,2,FALSE) ) )","v":""},0,null,null,null,{"$f":"IF(TRIM(Y75)=\"\", \"\", IF(VLOOKUP(Y75,'Footnotes list'!$D$9:$E$58,2,FALSE)=0,\"\",VLOOKUP(Y75,'Footnotes list'!$D$9:$E$58,2,FALSE) ) )","v":""},{"$f":"IF(AND(TRIM(Q75)=\"\",TRIM(V75)=\"\"),\"\",Q75+V75)","v":611583.9},null,null,null,{"$f":"IF(TRIM(AD75)=\"\", \"\", IF(VLOOKUP(AD75,'Footnotes list'!$D$9:$E$58,2,FALSE)=0,\"\",VLOOKUP(AD75,'Footnotes list'!$D$9:$E$58,2,FALSE) ) )","v":""},0,null,null,null,{"$f":"IF(TRIM(AI75)=\"\", \"\", IF(VLOOKUP(AI75,'Footnotes list'!$D$9:$E$58,2,FALSE)=0,\"\",VLOOKUP(AI75,'Footnotes list'!$D$9:$E$58,2,FALSE) ) )","v":""},0,null,null,null,{"$f":"IF(TRIM(AN75)=\"\", \"\", IF(VLOOKUP(AN75,'Footnotes list'!$D$9:$E$58,2,FALSE)=0,\"\",VLOOKUP(AN75,'Footnotes list'!$D$9:$E$58,2,FALSE) ) )","v":""},{"$f":"IF(AND(TRIM(AF75)=\"\",TRIM(AK75)=\"\"),\"\",AF75+AK75)","v":0},null,null,null,{"$f":"IF(TRIM(AS75)=\"\", \"\", IF(VLOOKUP(AS75,'Footnotes list'!$D$9:$E$58,2,FALSE)=0,\"\",VLOOKUP(AS75,'Footnotes list'!$D$9:$E$58,2,FALSE) ) )","v":""},{"$f":"IF(AND(TRIM(G75)=\"\",TRIM(L75)=\"\",TRIM(AA75)=\"\",TRIM(AP75)=\"\"),\"\",SUM(G75,L75,AA75,AP75))","v":611583.9},null,null,null,{"$f":"IF(TRIM(AX75)=\"\", \"\", IF(VLOOKUP(AX75,'Footnotes list'!$D$9:$E$58,2,FALSE)=0,\"\",VLOOKUP(AX75,'Footnotes list'!$D$9:$E$58,2,FALSE) ) )","v":""}]
[null,null,"W093",null,"HAZ_NHAZ","Total",{"$f":"IF(AND(TRIM(G74)=\"\",TRIM(G75)=\"\"),\"\",G74+G75)","v":0},null,null,null,{"$f":"IF(TRIM(J76)=\"\", \"\", IF(VLOOKUP(J76,'Footnotes list'!$D$9:$E$58,2,FALSE)=0,\"\",VLOOKUP(J76,'Footnotes list'!$D$9:$E$58,2,FALSE) ) )","v":""},{"$f":"IF(AND(TRIM(L74)=\"\",TRIM(L75)=\"\"),\"\",L74+L75)","v":0},null,null,null,{"$f":"IF(TRIM(O76)=\"\", \"\", IF(VLOOKUP(O76,'Footnotes list'!$D$9:$E$58,2,FALSE)=0,\"\",VLOOKUP(O76,'Footnotes list'!$D$9:$E$58,2,FALSE) ) )","v":""},{"$f":"IF(AND(TRIM(Q74)=\"\",TRIM(Q75)=\"\"),\"\",Q74+Q75)","v":611583.9},null,null,null,{"$f":"IF(TRIM(T76)=\"\", \"\", IF(VLOOKUP(T76,'Footnotes list'!$D$9:$E$58,2,FALSE)=0,\"\",VLOOKUP(T76,'Footnotes list'!$D$9:$E$58,2,FALSE) ) )","v":""},{"$f":"IF(AND(TRIM(V74)=\"\",TRIM(V75)=\"\"),\"\",V74+V75)","v":0},null,null,null,{"$f":"IF(TRIM(Y76)=\"\", \"\", IF(VLOOKUP(Y76,'Footnotes list'!$D$9:$E$58,2,FALSE)=0,\"\",VLOOKUP(Y76,'Footnotes list'!$D$9:$E$58,2,FALSE) ) )","v":""},{"$f":"IF(AND(TRIM(AA74)=\"\", TRIM(AA75)=\"\"), \"\", SUM(AA74,AA75))","v":611583.9},null,null,null,{"$f":"IF(TRIM(AD76)=\"\", \"\", IF(VLOOKUP(AD76,'Footnotes list'!$D$9:$E$58,2,FALSE)=0,\"\",VLOOKUP(AD76,'Footnotes list'!$D$9:$E$58,2,FALSE) ) )","v":""},{"$f":"IF(AND(TRIM(AF74)=\"\",TRIM(AF75)=\"\"),\"\",AF74+AF75)","v":0},null,null,null,{"$f":"IF(TRIM(AI76)=\"\", \"\", IF(VLOOKUP(AI76,'Footnotes list'!$D$9:$E$58,2,FALSE)=0,\"\",VLOOKUP(AI76,'Footnotes list'!$D$9:$E$58,2,FALSE) ) )","v":""},{"$f":"IF(AND(TRIM(AK74)=\"\",TRIM(AK75)=\"\"),\"\",AK74+AK75)","v":0},null,null,null,{"$f":"IF(TRIM(AN76)=\"\", \"\", IF(VLOOKUP(AN76,'Footnotes list'!$D$9:$E$58,2,FALSE)=0,\"\",VLOOKUP(AN76,'Footnotes list'!$D$9:$E$58,2,FALSE) ) )","v":""},{"$f":"IF(AND(TRIM(AP74)=\"\", TRIM(AP75)=\"\"), \"\", SUM(AP74,AP75))","v":0},null,null,null,{"$f":"IF(TRIM(AS76)=\"\", \"\", IF(VLOOKUP(AS76,'Footnotes list'!$D$9:$E$58,2,FALSE)=0,\"\",VLOOKUP(AS76,'Footnotes list'!$D$9:$E$58,2,FALSE) ) )","v":""},{"$f":"IF(AND(TRIM(AU74)=\"\", TRIM(AU75)=\"\"), \"\", SUM(AU74,AU75) )","v":611583.9},null,null,null,{"$f":"IF(TRIM(AX76)=\"\", \"\", IF(VLOOKUP(AX76,'Footnotes list'!$D$9:$E$58,2,FALSE)=0,\"\",VLOOKUP(AX76,'Footnotes list'!$D$9:$E$58,2,FALSE) ) )","v":""}]
[null,"W101",null,"Household and similar wastes ",null,"Not applicable"]
[null,null,"W101",null,"NHAZ","Non-hazardous",0,null,null,null,{"$f":"IF(TRIM(J78)=\"\", \"\", IF(VLOOKUP(J78,'Footnotes list'!$D$9:$E$58,2,FALSE)=0,\"\",VLOOKUP(J78,'Footnotes list'!$D$9:$E$58,2,FALSE) ) )","v":""},0,null,null,null,{"$f":"IF(TRIM(O78)=\"\", \"\", IF(VLOOKUP(O78,'Footnotes list'!$D$9:$E$58,2,FALSE)=0,\"\",VLOOKUP(O78,'Footnotes list'!$D$9:$E$58,2,FALSE) ) )","v":""},3578.44,null,null,null,{"$f":"IF(TRIM(T78)=\"\", \"\", IF(VLOOKUP(T78,'Footnotes list'!$D$9:$E$58,2,FALSE)=0,\"\",VLOOKUP(T78,'Footnotes list'!$D$9:$E$58,2,FALSE) ) )","v":""},0,null,null,null,{"$f":"IF(TRIM(Y78)=\"\", \"\", IF(VLOOKUP(Y78,'Footnotes list'!$D$9:$E$58,2,FALSE)=0,\"\",VLOOKUP(Y78,'Footnotes list'!$D$9:$E$58,2,FALSE) ) )","v":""},{"$f":"IF(AND(TRIM(Q78)=\"\",TRIM(V78)=\"\"),\"\",Q78+V78)","v":3578.44},null,null,null,{"$f":"IF(TRIM(AD78)=\"\", \"\", IF(VLOOKUP(AD78,'Footnotes list'!$D$9:$E$58,2,FALSE)=0,\"\",VLOOKUP(AD78,'Footnotes list'!$D$9:$E$58,2,FALSE) ) )","v":""},895007.96400000004,null,null,null,{"$f":"IF(TRIM(AI78)=\"\", \"\", IF(VLOOKUP(AI78,'Footnotes list'!$D$9:$E$58,2,FALSE)=0,\"\",VLOOKUP(AI78,'Footnotes list'!$D$9:$E$58,2,FALSE) ) )","v":""},0,null,null,null,{"$f":"IF(TRIM(AN78)=\"\", \"\", IF(VLOOKUP(AN78,'Footnotes list'!$D$9:$E$58,2,FALSE)=0,\"\",VLOOKUP(AN78,'Footnotes list'!$D$9:$E$58,2,FALSE) ) )","v":""},{"$f":"IF(AND(TRIM(AF78)=\"\",TRIM(AK78)=\"\"),\"\",AF78+AK78)","v":895007.96400000004},null,null,null,{"$f":"IF(TRIM(AS78)=\"\", \"\", IF(VLOOKUP(AS78,'Footnotes list'!$D$9:$E$58,2,FALSE)=0,\"\",VLOOKUP(AS78,'Footnotes list'!$D$9:$E$58,2,FALSE) ) )","v":""},{"$f":"IF(AND(TRIM(G78)=\"\",TRIM(L78)=\"\",TRIM(AA78)=\"\",TRIM(AP78)=\"\"),\"\",SUM(G78,L78,AA78,AP78))","v":898586.40399999998},null,null,null,{"$f":"IF(TRIM(AX78)=\"\", \"\", IF(VLOOKUP(AX78,'Footnotes list'!$D$9:$E$58,2,FALSE)=0,\"\",VLOOKUP(AX78,'Footnotes list'!$D$9:$E$58,2,FALSE) ) )","v":""}]
[null,null,"W101",null,"HAZ_NHAZ","Total",{"$f":"IF(AND(TRIM(G77)=\"\",TRIM(G78)=\"\"),\"\",G77+G78)","v":0},null,null,null,{"$f":"IF(TRIM(J79)=\"\", \"\", IF(VLOOKUP(J79,'Footnotes list'!$D$9:$E$58,2,FALSE)=0,\"\",VLOOKUP(J79,'Footnotes list'!$D$9:$E$58,2,FALSE) ) )","v":""},{"$f":"IF(AND(TRIM(L77)=\"\",TRIM(L78)=\"\"),\"\",L77+L78)","v":0},null,null,null,{"$f":"IF(TRIM(O79)=\"\", \"\", IF(VLOOKUP(O79,'Footnotes list'!$D$9:$E$58,2,FALSE)=0,\"\",VLOOKUP(O79,'Footnotes list'!$D$9:$E$58,2,FALSE) ) )","v":""},{"$f":"IF(AND(TRIM(Q77)=\"\",TRIM(Q78)=\"\"),\"\",Q77+Q78)","v":3578.44},null,null,null,{"$f":"IF(TRIM(T79)=\"\", \"\", IF(VLOOKUP(T79,'Footnotes list'!$D$9:$E$58,2,FALSE)=0,\"\",VLOOKUP(T79,'Footnotes list'!$D$9:$E$58,2,FALSE) ) )","v":""},{"$f":"IF(AND(TRIM(V77)=\"\",TRIM(V78)=\"\"),\"\",V77+V78)","v":0},null,null,null,{"$f":"IF(TRIM(Y79)=\"\", \"\", IF(VLOOKUP(Y79,'Footnotes list'!$D$9:$E$58,2,FALSE)=0,\"\",VLOOKUP(Y79,'Footnotes list'!$D$9:$E$58,2,FALSE) ) )","v":""},{"$f":"IF(AND(TRIM(AA77)=\"\", TRIM(AA78)=\"\"), \"\", SUM(AA77,AA78))","v":3578.44},null,null,null,{"$f":"IF(TRIM(AD79)=\"\", \"\", IF(VLOOKUP(AD79,'Footnotes list'!$D$9:$E$58,2,FALSE)=0,\"\",VLOOKUP(AD79,'Footnotes list'!$D$9:$E$58,2,FALSE) ) )","v":""},{"$f":"IF(AND(TRIM(AF77)=\"\",TRIM(AF78)=\"\"),\"\",AF77+AF78)","v":895007.96400000004},null,null,null,{"$f":"IF(TRIM(AI79)=\"\", \"\", IF(VLOOKUP(AI79,'Footnotes list'!$D$9:$E$58,2,FALSE)=0,\"\",VLOOKUP(AI79,'Footnotes list'!$D$9:$E$58,2,FALSE) ) )","v":""},{"$f":"IF(AND(TRIM(AK77)=\"\",TRIM(AK78)=\"\"),\"\",AK77+AK78)","v":0},null,null,null,{"$f":"IF(TRIM(AN79)=\"\", \"\", IF(VLOOKUP(AN79,'Footnotes list'!$D$9:$E$58,2,FALSE)=0,\"\",VLOOKUP(AN79,'Footnotes list'!$D$9:$E$58,2,FALSE) ) )","v":""},{"$f":"IF(AND(TRIM(AP77)=\"\", TRIM(AP78)=\"\"), \"\", SUM(AP77,AP78))","v":895007.96400000004},null,null,null,{"$f":"IF(TRIM(AS79)=\"\", \"\", IF(VLOOKUP(AS79,'Footnotes list'!$D$9:$E$58,2,FALSE)=0,\"\",VLOOKUP(AS79,'Footnotes list'!$D$9:$E$58,2,FALSE) ) )","v":""},{"$f":"IF(AND(TRIM(AU77)=\"\", TRIM(AU78)=\"\"), \"\", SUM(AU77,AU78) )","v":898586.40399999998},null,null,null,{"$f":"IF(TRIM(AX79)=\"\", \"\", IF(VLOOKUP(AX79,'Footnotes list'!$D$9:$E$58,2,FALSE)=0,\"\",VLOOKUP(AX79,'Footnotes list'!$D$9:$E$58,2,FALSE) ) )","v":""}]
[null,"W102","W102","Mixed and undifferentiated materials ","HAZ","Hazardous ",2.609,null,null,null,{"$f":"IF(TRIM(J80)=\"\", \"\", IF(VLOOKUP(J80,'Footnotes list'!$D$9:$E$58,2,FALSE)=0,\"\",VLOOKUP(J80,'Footnotes list'!$D$9:$E$58,2,FALSE) ) )","v":""},0,null,null,null,{"$f":"IF(TRIM(O80)=\"\", \"\", IF(VLOOKUP(O80,'Footnotes list'!$D$9:$E$58,2,FALSE)=0,\"\",VLOOKUP(O80,'Footnotes list'!$D$9:$E$58,2,FALSE) ) )","v":""},340.93,null,null,null,{"$f":"IF(TRIM(T80)=\"\", \"\", IF(VLOOKUP(T80,'Footnotes list'!$D$9:$E$58,2,FALSE)=0,\"\",VLOOKUP(T80,'Footnotes list'!$D$9:$E$58,2,FALSE) ) )","v":""},0,null,null,null,{"$f":"IF(TRIM(Y80)=\"\", \"\", IF(VLOOKUP(Y80,'Footnotes list'!$D$9:$E$58,2,FALSE)=0,\"\",VLOOKUP(Y80,'Footnotes list'!$D$9:$E$58,2,FALSE) ) )","v":""},{"$f":"IF(AND(TRIM(Q80)=\"\",TRIM(V80)=\"\"),\"\",Q80+V80)","v":340.93},null,null,null,{"$f":"IF(TRIM(AD80)=\"\", \"\", IF(VLOOKUP(AD80,'Footnotes list'!$D$9:$E$58,2,FALSE)=0,\"\",VLOOKUP(AD80,'Footnotes list'!$D$9:$E$58,2,FALSE) ) )","v":""},0,null,null,null,{"$f":"IF(TRIM(AI80)=\"\", \"\", IF(VLOOKUP(AI80,'Footnotes list'!$D$9:$E$58,2,FALSE)=0,\"\",VLOOKUP(AI80,'Footnotes list'!$D$9:$E$58,2,FALSE) ) )","v":""},0,null,null,null,{"$f":"IF(TRIM(AN80)=\"\", \"\", IF(VLOOKUP(AN80,'Footnotes list'!$D$9:$E$58,2,FALSE)=0,\"\",VLOOKUP(AN80,'Footnotes list'!$D$9:$E$58,2,FALSE) ) )","v":""},{"$f":"IF(AND(TRIM(AF80)=\"\",TRIM(AK80)=\"\"),\"\",AF80+AK80)","v":0},null,null,null,{"$f":"IF(TRIM(AS80)=\"\", \"\", IF(VLOOKUP(AS80,'Footnotes list'!$D$9:$E$58,2,FALSE)=0,\"\",VLOOKUP(AS80,'Footnotes list'!$D$9:$E$58,2,FALSE) ) )","v":""},{"$f":"IF(AND(TRIM(G80)=\"\",TRIM(L80)=\"\",TRIM(AA80)=\"\",TRIM(AP80)=\"\"),\"\",SUM(G80,L80,AA80,AP80))","v":343.53899999999999},null,null,null,{"$f":"IF(TRIM(AX80)=\"\", \"\", IF(VLOOKUP(AX80,'Footnotes list'!$D$9:$E$58,2,FALSE)=0,\"\",VLOOKUP(AX80,'Footnotes list'!$D$9:$E$58,2,FALSE) ) )","v":""}]
[null,null,"W102",null,"NHAZ","Non-hazardous",3.44,null,null,null,{"$f":"IF(TRIM(J81)=\"\", \"\", IF(VLOOKUP(J81,'Footnotes list'!$D$9:$E$58,2,FALSE)=0,\"\",VLOOKUP(J81,'Footnotes list'!$D$9:$E$58,2,FALSE) ) )","v":""},0,null,null,null,{"$f":"IF(TRIM(O81)=\"\", \"\", IF(VLOOKUP(O81,'Footnotes list'!$D$9:$E$58,2,FALSE)=0,\"\",VLOOKUP(O81,'Footnotes list'!$D$9:$E$58,2,FALSE) ) )","v":""},16529.170999999998,null,null,null,{"$f":"IF(TRIM(T81)=\"\", \"\", IF(VLOOKUP(T81,'Footnotes list'!$D$9:$E$58,2,FALSE)=0,\"\",VLOOKUP(T81,'Footnotes list'!$D$9:$E$58,2,FALSE) ) )","v":""},1416,null,null,null,{"$f":"IF(TRIM(Y81)=\"\", \"\", IF(VLOOKUP(Y81,'Footnotes list'!$D$9:$E$58,2,FALSE)=0,\"\",VLOOKUP(Y81,'Footnotes list'!$D$9:$E$58,2,FALSE) ) )","v":""},{"$f":"IF(AND(TRIM(Q81)=\"\",TRIM(V81)=\"\"),\"\",Q81+V81)","v":17945.170999999998},null,null,null,{"$f":"IF(TRIM(AD81)=\"\", \"\", IF(VLOOKUP(AD81,'Footnotes list'!$D$9:$E$58,2,FALSE)=0,\"\",VLOOKUP(AD81,'Footnotes list'!$D$9:$E$58,2,FALSE) ) )","v":""},41330.680999999997,null,null,null,{"$f":"IF(TRIM(AI81)=\"\", \"\", IF(VLOOKUP(AI81,'Footnotes list'!$D$9:$E$58,2,FALSE)=0,\"\",VLOOKUP(AI81,'Footnotes list'!$D$9:$E$58,2,FALSE) ) )","v":""},3074.3220000000001,null,null,null,{"$f":"IF(TRIM(AN81)=\"\", \"\", IF(VLOOKUP(AN81,'Footnotes list'!$D$9:$E$58,2,FALSE)=0,\"\",VLOOKUP(AN81,'Footnotes list'!$D$9:$E$58,2,FALSE) ) )","v":""},{"$f":"IF(AND(TRIM(AF81)=\"\",TRIM(AK81)=\"\"),\"\",AF81+AK81)","v":44405.002999999997},null,null,null,{"$f":"IF(TRIM(AS81)=\"\", \"\", IF(VLOOKUP(AS81,'Footnotes list'!$D$9:$E$58,2,FALSE)=0,\"\",VLOOKUP(AS81,'Footnotes list'!$D$9:$E$58,2,FALSE) ) )","v":""},{"$f":"IF(AND(TRIM(G81)=\"\",TRIM(L81)=\"\",TRIM(AA81)=\"\",TRIM(AP81)=\"\"),\"\",SUM(G81,L81,AA81,AP81))","v":62353.613999999994},null,null,null,{"$f":"IF(TRIM(AX81)=\"\", \"\", IF(VLOOKUP(AX81,'Footnotes list'!$D$9:$E$58,2,FALSE)=0,\"\",VLOOKUP(AX81,'Footnotes list'!$D$9:$E$58,2,FALSE) ) )","v":""}]
[null,null,"W102",null,"HAZ_NHAZ","Total",{"$f":"IF(AND(TRIM(G80)=\"\",TRIM(G81)=\"\"),\"\",G80+G81)","v":6.0489999999999995},null,null,null,{"$f":"IF(TRIM(J82)=\"\", \"\", IF(VLOOKUP(J82,'Footnotes list'!$D$9:$E$58,2,FALSE)=0,\"\",VLOOKUP(J82,'Footnotes list'!$D$9:$E$58,2,FALSE) ) )","v":""},{"$f":"IF(AND(TRIM(L80)=\"\",TRIM(L81)=\"\"),\"\",L80+L81)","v":0},null,null,null,{"$f":"IF(TRIM(O82)=\"\", \"\", IF(VLOOKUP(O82,'Footnotes list'!$D$9:$E$58,2,FALSE)=0,\"\",VLOOKUP(O82,'Footnotes list'!$D$9:$E$58,2,FALSE) ) )","v":""},{"$f":"IF(AND(TRIM(Q80)=\"\",TRIM(Q81)=\"\"),\"\",Q80+Q81)","v":16870.100999999999},null,null,null,{"$f":"IF(TRIM(T82)=\"\", \"\", IF(VLOOKUP(T82,'Footnotes list'!$D$9:$E$58,2,FALSE)=0,\"\",VLOOKUP(T82,'Footnotes list'!$D$9:$E$58,2,FALSE) ) )","v":""},{"$f":"IF(AND(TRIM(V80)=\"\",TRIM(V81)=\"\"),\"\",V80+V81)","v":1416},null,null,null,{"$f":"IF(TRIM(Y82)=\"\", \"\", IF(VLOOKUP(Y82,'Footnotes list'!$D$9:$E$58,2,FALSE)=0,\"\",VLOOKUP(Y82,'Footnotes list'!$D$9:$E$58,2,FALSE) ) )","v":""},{"$f":"IF(AND(TRIM(AA80)=\"\", TRIM(AA81)=\"\"), \"\", SUM(AA80,AA81))","v":18286.100999999999},null,null,null,{"$f":"IF(TRIM(AD82)=\"\", \"\", IF(VLOOKUP(AD82,'Footnotes list'!$D$9:$E$58,2,FALSE)=0,\"\",VLOOKUP(AD82,'Footnotes list'!$D$9:$E$58,2,FALSE) ) )","v":""},{"$f":"IF(AND(TRIM(AF80)=\"\",TRIM(AF81)=\"\"),\"\",AF80+AF81)","v":41330.680999999997},null,null,null,{"$f":"IF(TRIM(AI82)=\"\", \"\", IF(VLOOKUP(AI82,'Footnotes list'!$D$9:$E$58,2,FALSE)=0,\"\",VLOOKUP(AI82,'Footnotes list'!$D$9:$E$58,2,FALSE) ) )","v":""},{"$f":"IF(AND(TRIM(AK80)=\"\",TRIM(AK81)=\"\"),\"\",AK80+AK81)","v":3074.3220000000001},null,null,null,{"$f":"IF(TRIM(AN82)=\"\", \"\", IF(VLOOKUP(AN82,'Footnotes list'!$D$9:$E$58,2,FALSE)=0,\"\",VLOOKUP(AN82,'Footnotes list'!$D$9:$E$58,2,FALSE) ) )","v":""},{"$f":"IF(AND(TRIM(AP80)=\"\", TRIM(AP81)=\"\"), \"\", SUM(AP80,AP81))","v":44405.002999999997},null,null,null,{"$f":"IF(TRIM(AS82)=\"\", \"\", IF(VLOOKUP(AS82,'Footnotes list'!$D$9:$E$58,2,FALSE)=0,\"\",VLOOKUP(AS82,'Footnotes list'!$D$9:$E$58,2,FALSE) ) )","v":""},{"$f":"IF(AND(TRIM(AU80)=\"\", TRIM(AU81)=\"\"), \"\", SUM(AU80,AU81) )","v":62697.152999999991},null,null,null,{"$f":"IF(TRIM(AX82)=\"\", \"\", IF(VLOOKUP(AX82,'Footnotes list'!$D$9:$E$58,2,FALSE)=0,\"\",VLOOKUP(AX82,'Footnotes list'!$D$9:$E$58,2,FALSE) ) )","v":""}]
[null,"W103","W103","Sorting residues ","HAZ","Hazardous ",2363.46,null,null,null,{"$f":"IF(TRIM(J83)=\"\", \"\", IF(VLOOKUP(J83,'Footnotes list'!$D$9:$E$58,2,FALSE)=0,\"\",VLOOKUP(J83,'Footnotes list'!$D$9:$E$58,2,FALSE) ) )","v":""},0,null,null,null,{"$f":"IF(TRIM(O83)=\"\", \"\", IF(VLOOKUP(O83,'Footnotes list'!$D$9:$E$58,2,FALSE)=0,\"\",VLOOKUP(O83,'Footnotes list'!$D$9:$E$58,2,FALSE) ) )","v":""},7138.3549999999996,null,null,null,{"$f":"IF(TRIM(T83)=\"\", \"\", IF(VLOOKUP(T83,'Footnotes list'!$D$9:$E$58,2,FALSE)=0,\"\",VLOOKUP(T83,'Footnotes list'!$D$9:$E$58,2,FALSE) ) )","v":""},0,null,null,null,{"$f":"IF(TRIM(Y83)=\"\", \"\", IF(VLOOKUP(Y83,'Footnotes list'!$D$9:$E$58,2,FALSE)=0,\"\",VLOOKUP(Y83,'Footnotes list'!$D$9:$E$58,2,FALSE) ) )","v":""},{"$f":"IF(AND(TRIM(Q83)=\"\",TRIM(V83)=\"\"),\"\",Q83+V83)","v":7138.3549999999996},null,null,null,{"$f":"IF(TRIM(AD83)=\"\", \"\", IF(VLOOKUP(AD83,'Footnotes list'!$D$9:$E$58,2,FALSE)=0,\"\",VLOOKUP(AD83,'Footnotes list'!$D$9:$E$58,2,FALSE) ) )","v":""},0,null,null,null,{"$f":"IF(TRIM(AI83)=\"\", \"\", IF(VLOOKUP(AI83,'Footnotes list'!$D$9:$E$58,2,FALSE)=0,\"\",VLOOKUP(AI83,'Footnotes list'!$D$9:$E$58,2,FALSE) ) )","v":""},0,null,null,null,{"$f":"IF(TRIM(AN83)=\"\", \"\", IF(VLOOKUP(AN83,'Footnotes list'!$D$9:$E$58,2,FALSE)=0,\"\",VLOOKUP(AN83,'Footnotes list'!$D$9:$E$58,2,FALSE) ) )","v":""},{"$f":"IF(AND(TRIM(AF83)=\"\",TRIM(AK83)=\"\"),\"\",AF83+AK83)","v":0},null,null,null,{"$f":"IF(TRIM(AS83)=\"\", \"\", IF(VLOOKUP(AS83,'Footnotes list'!$D$9:$E$58,2,FALSE)=0,\"\",VLOOKUP(AS83,'Footnotes list'!$D$9:$E$58,2,FALSE) ) )","v":""},{"$f":"IF(AND(TRIM(G83)=\"\",TRIM(L83)=\"\",TRIM(AA83)=\"\",TRIM(AP83)=\"\"),\"\",SUM(G83,L83,AA83,AP83))","v":9501.8149999999987},null,null,null,{"$f":"IF(TRIM(AX83)=\"\", \"\", IF(VLOOKUP(AX83,'Footnotes list'!$D$9:$E$58,2,FALSE)=0,\"\",VLOOKUP(AX83,'Footnotes list'!$D$9:$E$58,2,FALSE) ) )","v":""}]
[null,null,"W103",null,"NHAZ","Non-hazardous",45268.15,null,null,null,{"$f":"IF(TRIM(J84)=\"\", \"\", IF(VLOOKUP(J84,'Footnotes list'!$D$9:$E$58,2,FALSE)=0,\"\",VLOOKUP(J84,'Footnotes list'!$D$9:$E$58,2,FALSE) ) )","v":""},0,null,null,null,{"$f":"IF(TRIM(O84)=\"\", \"\", IF(VLOOKUP(O84,'Footnotes list'!$D$9:$E$58,2,FALSE)=0,\"\",VLOOKUP(O84,'Footnotes list'!$D$9:$E$58,2,FALSE) ) )","v":""},8470.3240000000005,null,null,null,{"$f":"IF(TRIM(T84)=\"\", \"\", IF(VLOOKUP(T84,'Footnotes list'!$D$9:$E$58,2,FALSE)=0,\"\",VLOOKUP(T84,'Footnotes list'!$D$9:$E$58,2,FALSE) ) )","v":""},0,null,null,null,{"$f":"IF(TRIM(Y84)=\"\", \"\", IF(VLOOKUP(Y84,'Footnotes list'!$D$9:$E$58,2,FALSE)=0,\"\",VLOOKUP(Y84,'Footnotes list'!$D$9:$E$58,2,FALSE) ) )","v":""},{"$f":"IF(AND(TRIM(Q84)=\"\",TRIM(V84)=\"\"),\"\",Q84+V84)","v":8470.3240000000005},null,null,null,{"$f":"IF(TRIM(AD84)=\"\", \"\", IF(VLOOKUP(AD84,'Footnotes list'!$D$9:$E$58,2,FALSE)=0,\"\",VLOOKUP(AD84,'Footnotes list'!$D$9:$E$58,2,FALSE) ) )","v":""},146786.492,null,null,null,{"$f":"IF(TRIM(AI84)=\"\", \"\", IF(VLOOKUP(AI84,'Footnotes list'!$D$9:$E$58,2,FALSE)=0,\"\",VLOOKUP(AI84,'Footnotes list'!$D$9:$E$58,2,FALSE) ) )","v":""},0,null,null,null,{"$f":"IF(TRIM(AN84)=\"\", \"\", IF(VLOOKUP(AN84,'Footnotes list'!$D$9:$E$58,2,FALSE)=0,\"\",VLOOKUP(AN84,'Footnotes list'!$D$9:$E$58,2,FALSE) ) )","v":""},{"$f":"IF(AND(TRIM(AF84)=\"\",TRIM(AK84)=\"\"),\"\",AF84+AK84)","v":146786.492},null,null,null,{"$f":"IF(TRIM(AS84)=\"\", \"\", IF(VLOOKUP(AS84,'Footnotes list'!$D$9:$E$58,2,FALSE)=0,\"\",VLOOKUP(AS84,'Footnotes list'!$D$9:$E$58,2,FALSE) ) )","v":""},{"$f":"IF(AND(TRIM(G84)=\"\",TRIM(L84)=\"\",TRIM(AA84)=\"\",TRIM(AP84)=\"\"),\"\",SUM(G84,L84,AA84,AP84))","v":200524.96600000001},null,null,null,{"$f":"IF(TRIM(AX84)=\"\", \"\", IF(VLOOKUP(AX84,'Footnotes list'!$D$9:$E$58,2,FALSE)=0,\"\",VLOOKUP(AX84,'Footnotes list'!$D$9:$E$58,2,FALSE) ) )","v":""}]
[null,null,"W103",null,"HAZ_NHAZ","Total",{"$f":"IF(AND(TRIM(G83)=\"\",TRIM(G84)=\"\"),\"\",G83+G84)","v":47631.61},null,null,null,{"$f":"IF(TRIM(J85)=\"\", \"\", IF(VLOOKUP(J85,'Footnotes list'!$D$9:$E$58,2,FALSE)=0,\"\",VLOOKUP(J85,'Footnotes list'!$D$9:$E$58,2,FALSE) ) )","v":""},{"$f":"IF(AND(TRIM(L83)=\"\",TRIM(L84)=\"\"),\"\",L83+L84)","v":0},null,null,null,{"$f":"IF(TRIM(O85)=\"\", \"\", IF(VLOOKUP(O85,'Footnotes list'!$D$9:$E$58,2,FALSE)=0,\"\",VLOOKUP(O85,'Footnotes list'!$D$9:$E$58,2,FALSE) ) )","v":""},{"$f":"IF(AND(TRIM(Q83)=\"\",TRIM(Q84)=\"\"),\"\",Q83+Q84)","v":15608.679},null,null,null,{"$f":"IF(TRIM(T85)=\"\", \"\", IF(VLOOKUP(T85,'Footnotes list'!$D$9:$E$58,2,FALSE)=0,\"\",VLOOKUP(T85,'Footnotes list'!$D$9:$E$58,2,FALSE) ) )","v":""},{"$f":"IF(AND(TRIM(V83)=\"\",TRIM(V84)=\"\"),\"\",V83+V84)","v":0},null,null,null,{"$f":"IF(TRIM(Y85)=\"\", \"\", IF(VLOOKUP(Y85,'Footnotes list'!$D$9:$E$58,2,FALSE)=0,\"\",VLOOKUP(Y85,'Footnotes list'!$D$9:$E$58,2,FALSE) ) )","v":""},{"$f":"IF(AND(TRIM(AA83)=\"\", TRIM(AA84)=\"\"), \"\", SUM(AA83,AA84))","v":15608.679},null,null,null,{"$f":"IF(TRIM(AD85)=\"\", \"\", IF(VLOOKUP(AD85,'Footnotes list'!$D$9:$E$58,2,FALSE)=0,\"\",VLOOKUP(AD85,'Footnotes list'!$D$9:$E$58,2,FALSE) ) )","v":""},{"$f":"IF(AND(TRIM(AF83)=\"\",TRIM(AF84)=\"\"),\"\",AF83+AF84)","v":146786.492},null,null,null,{"$f":"IF(TRIM(AI85)=\"\", \"\", IF(VLOOKUP(AI85,'Footnotes list'!$D$9:$E$58,2,FALSE)=0,\"\",VLOOKUP(AI85,'Footnotes list'!$D$9:$E$58,2,FALSE) ) )","v":""},{"$f":"IF(AND(TRIM(AK83)=\"\",TRIM(AK84)=\"\"),\"\",AK83+AK84)","v":0},null,null,null,{"$f":"IF(TRIM(AN85)=\"\", \"\", IF(VLOOKUP(AN85,'Footnotes list'!$D$9:$E$58,2,FALSE)=0,\"\",VLOOKUP(AN85,'Footnotes list'!$D$9:$E$58,2,FALSE) ) )","v":""},{"$f":"IF(AND(TRIM(AP83)=\"\", TRIM(AP84)=\"\"), \"\", SUM(AP83,AP84))","v":146786.492},null,null,null,{"$f":"IF(TRIM(AS85)=\"\", \"\", IF(VLOOKUP(AS85,'Footnotes list'!$D$9:$E$58,2,FALSE)=0,\"\",VLOOKUP(AS85,'Footnotes list'!$D$9:$E$58,2,FALSE) ) )","v":""},{"$f":"IF(AND(TRIM(AU83)=\"\", TRIM(AU84)=\"\"), \"\", SUM(AU83,AU84) )","v":210026.78100000002},null,null,null,{"$f":"IF(TRIM(AX85)=\"\", \"\", IF(VLOOKUP(AX85,'Footnotes list'!$D$9:$E$58,2,FALSE)=0,\"\",VLOOKUP(AX85,'Footnotes list'!$D$9:$E$58,2,FALSE) ) )","v":""}]
[null,"W11",null,"Common sludges ",null,"Not applicable"]
[null,null,"W11",null,"NHAZ","Non-hazardous",2890.9549999999999,null,null,null,{"$f":"IF(TRIM(J87)=\"\", \"\", IF(VLOOKUP(J87,'Footnotes list'!$D$9:$E$58,2,FALSE)=0,\"\",VLOOKUP(J87,'Footnotes list'!$D$9:$E$58,2,FALSE) ) )","v":""},0,null,null,null,{"$f":"IF(TRIM(O87)=\"\", \"\", IF(VLOOKUP(O87,'Footnotes list'!$D$9:$E$58,2,FALSE)=0,\"\",VLOOKUP(O87,'Footnotes list'!$D$9:$E$58,2,FALSE) ) )","v":""},47472.135999999999,null,null,null,{"$f":"IF(TRIM(T87)=\"\", \"\", IF(VLOOKUP(T87,'Footnotes list'!$D$9:$E$58,2,FALSE)=0,\"\",VLOOKUP(T87,'Footnotes list'!$D$9:$E$58,2,FALSE) ) )","v":""},0,null,null,null,{"$f":"IF(TRIM(Y87)=\"\", \"\", IF(VLOOKUP(Y87,'Footnotes list'!$D$9:$E$58,2,FALSE)=0,\"\",VLOOKUP(Y87,'Footnotes list'!$D$9:$E$58,2,FALSE) ) )","v":""},{"$f":"IF(AND(TRIM(Q87)=\"\",TRIM(V87)=\"\"),\"\",Q87+V87)","v":47472.135999999999},null,null,null,{"$f":"IF(TRIM(AD87)=\"\", \"\", IF(VLOOKUP(AD87,'Footnotes list'!$D$9:$E$58,2,FALSE)=0,\"\",VLOOKUP(AD87,'Footnotes list'!$D$9:$E$58,2,FALSE) ) )","v":""},849.42600000000004,null,null,null,{"$f":"IF(TRIM(AI87)=\"\", \"\", IF(VLOOKUP(AI87,'Footnotes list'!$D$9:$E$58,2,FALSE)=0,\"\",VLOOKUP(AI87,'Footnotes list'!$D$9:$E$58,2,FALSE) ) )","v":""},0,null,null,null,{"$f":"IF(TRIM(AN87)=\"\", \"\", IF(VLOOKUP(AN87,'Footnotes list'!$D$9:$E$58,2,FALSE)=0,\"\",VLOOKUP(AN87,'Footnotes list'!$D$9:$E$58,2,FALSE) ) )","v":""},{"$f":"IF(AND(TRIM(AF87)=\"\",TRIM(AK87)=\"\"),\"\",AF87+AK87)","v":849.42600000000004},null,null,null,{"$f":"IF(TRIM(AS87)=\"\", \"\", IF(VLOOKUP(AS87,'Footnotes list'!$D$9:$E$58,2,FALSE)=0,\"\",VLOOKUP(AS87,'Footnotes list'!$D$9:$E$58,2,FALSE) ) )","v":""},{"$f":"IF(AND(TRIM(G87)=\"\",TRIM(L87)=\"\",TRIM(AA87)=\"\",TRIM(AP87)=\"\"),\"\",SUM(G87,L87,AA87,AP87))","v":51212.517},null,null,null,{"$f":"IF(TRIM(AX87)=\"\", \"\", IF(VLOOKUP(AX87,'Footnotes list'!$D$9:$E$58,2,FALSE)=0,\"\",VLOOKUP(AX87,'Footnotes list'!$D$9:$E$58,2,FALSE) ) )","v":""}]
[null,null,"W11",null,"HAZ_NHAZ","Total",{"$f":"IF(AND(TRIM(G86)=\"\",TRIM(G87)=\"\"),\"\",G86+G87)","v":2890.9549999999999},null,null,null,{"$f":"IF(TRIM(J88)=\"\", \"\", IF(VLOOKUP(J88,'Footnotes list'!$D$9:$E$58,2,FALSE)=0,\"\",VLOOKUP(J88,'Footnotes list'!$D$9:$E$58,2,FALSE) ) )","v":""},{"$f":"IF(AND(TRIM(L86)=\"\",TRIM(L87)=\"\"),\"\",L86+L87)","v":0},null,null,null,{"$f":"IF(TRIM(O88)=\"\", \"\", IF(VLOOKUP(O88,'Footnotes list'!$D$9:$E$58,2,FALSE)=0,\"\",VLOOKUP(O88,'Footnotes list'!$D$9:$E$58,2,FALSE) ) )","v":""},{"$f":"IF(AND(TRIM(Q86)=\"\",TRIM(Q87)=\"\"),\"\",Q86+Q87)","v":47472.135999999999},null,null,null,{"$f":"IF(TRIM(T88)=\"\", \"\", IF(VLOOKUP(T88,'Footnotes list'!$D$9:$E$58,2,FALSE)=0,\"\",VLOOKUP(T88,'Footnotes list'!$D$9:$E$58,2,FALSE) ) )","v":""},{"$f":"IF(AND(TRIM(V86)=\"\",TRIM(V87)=\"\"),\"\",V86+V87)","v":0},null,null,null,{"$f":"IF(TRIM(Y88)=\"\", \"\", IF(VLOOKUP(Y88,'Footnotes list'!$D$9:$E$58,2,FALSE)=0,\"\",VLOOKUP(Y88,'Footnotes list'!$D$9:$E$58,2,FALSE) ) )","v":""},{"$f":"IF(AND(TRIM(AA86)=\"\", TRIM(AA87)=\"\"), \"\", SUM(AA86,AA87))","v":47472.135999999999},null,null,null,{"$f":"IF(TRIM(AD88)=\"\", \"\", IF(VLOOKUP(AD88,'Footnotes list'!$D$9:$E$58,2,FALSE)=0,\"\",VLOOKUP(AD88,'Footnotes list'!$D$9:$E$58,2,FALSE) ) )","v":""},{"$f":"IF(AND(TRIM(AF86)=\"\",TRIM(AF87)=\"\"),\"\",AF86+AF87)","v":849.42600000000004},null,null,null,{"$f":"IF(TRIM(AI88)=\"\", \"\", IF(VLOOKUP(AI88,'Footnotes list'!$D$9:$E$58,2,FALSE)=0,\"\",VLOOKUP(AI88,'Footnotes list'!$D$9:$E$58,2,FALSE) ) )","v":""},{"$f":"IF(AND(TRIM(AK86)=\"\",TRIM(AK87)=\"\"),\"\",AK86+AK87)","v":0},null,null,null,{"$f":"IF(TRIM(AN88)=\"\", \"\", IF(VLOOKUP(AN88,'Footnotes list'!$D$9:$E$58,2,FALSE)=0,\"\",VLOOKUP(AN88,'Footnotes list'!$D$9:$E$58,2,FALSE) ) )","v":""},{"$f":"IF(AND(TRIM(AP86)=\"\", TRIM(AP87)=\"\"), \"\", SUM(AP86,AP87))","v":849.42600000000004},null,null,null,{"$f":"IF(TRIM(AS88)=\"\", \"\", IF(VLOOKUP(AS88,'Footnotes list'!$D$9:$E$58,2,FALSE)=0,\"\",VLOOKUP(AS88,'Footnotes list'!$D$9:$E$58,2,FALSE) ) )","v":""},{"$f":"IF(AND(TRIM(AU86)=\"\", TRIM(AU87)=\"\"), \"\", SUM(AU86,AU87) )","v":51212.517},null,null,null,{"$f":"IF(TRIM(AX88)=\"\", \"\", IF(VLOOKUP(AX88,'Footnotes list'!$D$9:$E$58,2,FALSE)=0,\"\",VLOOKUP(AX88,'Footnotes list'!$D$9:$E$58,2,FALSE) ) )","v":""}]
[null,"W121","W121","Mineral waste from construction and demolition","HAZ","Hazardous ",4146.1450000000004,null,null,null,{"$f":"IF(TRIM(J89)=\"\", \"\", IF(VLOOKUP(J89,'Footnotes list'!$D$9:$E$58,2,FALSE)=0,\"\",VLOOKUP(J89,'Footnotes list'!$D$9:$E$58,2,FALSE) ) )","v":""},0,null,null,null,{"$f":"IF(TRIM(O89)=\"\", \"\", IF(VLOOKUP(O89,'Footnotes list'!$D$9:$E$58,2,FALSE)=0,\"\",VLOOKUP(O89,'Footnotes list'!$D$9:$E$58,2,FALSE) ) )","v":""},0,null,null,null,{"$f":"IF(TRIM(T89)=\"\", \"\", IF(VLOOKUP(T89,'Footnotes list'!$D$9:$E$58,2,FALSE)=0,\"\",VLOOKUP(T89,'Footnotes list'!$D$9:$E$58,2,FALSE) ) )","v":""},0,null,null,null,{"$f":"IF(TRIM(Y89)=\"\", \"\", IF(VLOOKUP(Y89,'Footnotes list'!$D$9:$E$58,2,FALSE)=0,\"\",VLOOKUP(Y89,'Footnotes list'!$D$9:$E$58,2,FALSE) ) )","v":""},{"$f":"IF(AND(TRIM(Q89)=\"\",TRIM(V89)=\"\"),\"\",Q89+V89)","v":0},null,null,null,{"$f":"IF(TRIM(AD89)=\"\", \"\", IF(VLOOKUP(AD89,'Footnotes list'!$D$9:$E$58,2,FALSE)=0,\"\",VLOOKUP(AD89,'Footnotes list'!$D$9:$E$58,2,FALSE) ) )","v":""},0,null,null,null,{"$f":"IF(TRIM(AI89)=\"\", \"\", IF(VLOOKUP(AI89,'Footnotes list'!$D$9:$E$58,2,FALSE)=0,\"\",VLOOKUP(AI89,'Footnotes list'!$D$9:$E$58,2,FALSE) ) )","v":""},0,null,null,null,{"$f":"IF(TRIM(AN89)=\"\", \"\", IF(VLOOKUP(AN89,'Footnotes list'!$D$9:$E$58,2,FALSE)=0,\"\",VLOOKUP(AN89,'Footnotes list'!$D$9:$E$58,2,FALSE) ) )","v":""},{"$f":"IF(AND(TRIM(AF89)=\"\",TRIM(AK89)=\"\"),\"\",AF89+AK89)","v":0},null,null,null,{"$f":"IF(TRIM(AS89)=\"\", \"\", IF(VLOOKUP(AS89,'Footnotes list'!$D$9:$E$58,2,FALSE)=0,\"\",VLOOKUP(AS89,'Footnotes list'!$D$9:$E$58,2,FALSE) ) )","v":""},{"$f":"IF(AND(TRIM(G89)=\"\",TRIM(L89)=\"\",TRIM(AA89)=\"\",TRIM(AP89)=\"\"),\"\",SUM(G89,L89,AA89,AP89))","v":4146.1450000000004},null,null,null,{"$f":"IF(TRIM(AX89)=\"\", \"\", IF(VLOOKUP(AX89,'Footnotes list'!$D$9:$E$58,2,FALSE)=0,\"\",VLOOKUP(AX89,'Footnotes list'!$D$9:$E$58,2,FALSE) ) )","v":""}]
[null,null,"W121",null,"NHAZ","Non-hazardous",427.6,null,null,null,{"$f":"IF(TRIM(J90)=\"\", \"\", IF(VLOOKUP(J90,'Footnotes list'!$D$9:$E$58,2,FALSE)=0,\"\",VLOOKUP(J90,'Footnotes list'!$D$9:$E$58,2,FALSE) ) )","v":""},0,null,null,null,{"$f":"IF(TRIM(O90)=\"\", \"\", IF(VLOOKUP(O90,'Footnotes list'!$D$9:$E$58,2,FALSE)=0,\"\",VLOOKUP(O90,'Footnotes list'!$D$9:$E$58,2,FALSE) ) )","v":""},352930.18900000001,null,null,null,{"$f":"IF(TRIM(T90)=\"\", \"\", IF(VLOOKUP(T90,'Footnotes list'!$D$9:$E$58,2,FALSE)=0,\"\",VLOOKUP(T90,'Footnotes list'!$D$9:$E$58,2,FALSE) ) )","v":""},16624.263999999999,null,null,null,{"$f":"IF(TRIM(Y90)=\"\", \"\", IF(VLOOKUP(Y90,'Footnotes list'!$D$9:$E$58,2,FALSE)=0,\"\",VLOOKUP(Y90,'Footnotes list'!$D$9:$E$58,2,FALSE) ) )","v":""},{"$f":"IF(AND(TRIM(Q90)=\"\",TRIM(V90)=\"\"),\"\",Q90+V90)","v":369554.45300000004},null,null,null,{"$f":"IF(TRIM(AD90)=\"\", \"\", IF(VLOOKUP(AD90,'Footnotes list'!$D$9:$E$58,2,FALSE)=0,\"\",VLOOKUP(AD90,'Footnotes list'!$D$9:$E$58,2,FALSE) ) )","v":""},57445.01,null,null,null,{"$f":"IF(TRIM(AI90)=\"\", \"\", IF(VLOOKUP(AI90,'Footnotes list'!$D$9:$E$58,2,FALSE)=0,\"\",VLOOKUP(AI90,'Footnotes list'!$D$9:$E$58,2,FALSE) ) )","v":""},0,null,null,null,{"$f":"IF(TRIM(AN90)=\"\", \"\", IF(VLOOKUP(AN90,'Footnotes list'!$D$9:$E$58,2,FALSE)=0,\"\",VLOOKUP(AN90,'Footnotes list'!$D$9:$E$58,2,FALSE) ) )","v":""},{"$f":"IF(AND(TRIM(AF90)=\"\",TRIM(AK90)=\"\"),\"\",AF90+AK90)","v":57445.01},null,null,null,{"$f":"IF(TRIM(AS90)=\"\", \"\", IF(VLOOKUP(AS90,'Footnotes list'!$D$9:$E$58,2,FALSE)=0,\"\",VLOOKUP(AS90,'Footnotes list'!$D$9:$E$58,2,FALSE) ) )","v":""},{"$f":"IF(AND(TRIM(G90)=\"\",TRIM(L90)=\"\",TRIM(AA90)=\"\",TRIM(AP90)=\"\"),\"\",SUM(G90,L90,AA90,AP90))","v":427427.06300000002},null,null,null,{"$f":"IF(TRIM(AX90)=\"\", \"\", IF(VLOOKUP(AX90,'Footnotes list'!$D$9:$E$58,2,FALSE)=0,\"\",VLOOKUP(AX90,'Footnotes list'!$D$9:$E$58,2,FALSE) ) )","v":""}]
[null,null,"W121",null,"HAZ_NHAZ","Total",{"$f":"IF(AND(TRIM(G89)=\"\",TRIM(G90)=\"\"),\"\",G89+G90)","v":4573.7450000000008},null,null,null,{"$f":"IF(TRIM(J91)=\"\", \"\", IF(VLOOKUP(J91,'Footnotes list'!$D$9:$E$58,2,FALSE)=0,\"\",VLOOKUP(J91,'Footnotes list'!$D$9:$E$58,2,FALSE) ) )","v":""},{"$f":"IF(AND(TRIM(L89)=\"\",TRIM(L90)=\"\"),\"\",L89+L90)","v":0},null,null,null,{"$f":"IF(TRIM(O91)=\"\", \"\", IF(VLOOKUP(O91,'Footnotes list'!$D$9:$E$58,2,FALSE)=0,\"\",VLOOKUP(O91,'Footnotes list'!$D$9:$E$58,2,FALSE) ) )","v":""},{"$f":"IF(AND(TRIM(Q89)=\"\",TRIM(Q90)=\"\"),\"\",Q89+Q90)","v":352930.18900000001},null,null,null,{"$f":"IF(TRIM(T91)=\"\", \"\", IF(VLOOKUP(T91,'Footnotes list'!$D$9:$E$58,2,FALSE)=0,\"\",VLOOKUP(T91,'Footnotes list'!$D$9:$E$58,2,FALSE) ) )","v":""},{"$f":"IF(AND(TRIM(V89)=\"\",TRIM(V90)=\"\"),\"\",V89+V90)","v":16624.263999999999},null,null,null,{"$f":"IF(TRIM(Y91)=\"\", \"\", IF(VLOOKUP(Y91,'Footnotes list'!$D$9:$E$58,2,FALSE)=0,\"\",VLOOKUP(Y91,'Footnotes list'!$D$9:$E$58,2,FALSE) ) )","v":""},{"$f":"IF(AND(TRIM(AA89)=\"\", TRIM(AA90)=\"\"), \"\", SUM(AA89,AA90))","v":369554.45300000004},null,null,null,{"$f":"IF(TRIM(AD91)=\"\", \"\", IF(VLOOKUP(AD91,'Footnotes list'!$D$9:$E$58,2,FALSE)=0,\"\",VLOOKUP(AD91,'Footnotes list'!$D$9:$E$58,2,FALSE) ) )","v":""},{"$f":"IF(AND(TRIM(AF89)=\"\",TRIM(AF90)=\"\"),\"\",AF89+AF90)","v":57445.01},null,null,null,{"$f":"IF(TRIM(AI91)=\"\", \"\", IF(VLOOKUP(AI91,'Footnotes list'!$D$9:$E$58,2,FALSE)=0,\"\",VLOOKUP(AI91,'Footnotes list'!$D$9:$E$58,2,FALSE) ) )","v":""},{"$f":"IF(AND(TRIM(AK89)=\"\",TRIM(AK90)=\"\"),\"\",AK89+AK90)","v":0},null,null,null,{"$f":"IF(TRIM(AN91)=\"\", \"\", IF(VLOOKUP(AN91,'Footnotes list'!$D$9:$E$58,2,FALSE)=0,\"\",VLOOKUP(AN91,'Footnotes list'!$D$9:$E$58,2,FALSE) ) )","v":""},{"$f":"IF(AND(TRIM(AP89)=\"\", TRIM(AP90)=\"\"), \"\", SUM(AP89,AP90))","v":57445.01},null,null,null,{"$f":"IF(TRIM(AS91)=\"\", \"\", IF(VLOOKUP(AS91,'Footnotes list'!$D$9:$E$58,2,FALSE)=0,\"\",VLOOKUP(AS91,'Footnotes list'!$D$9:$E$58,2,FALSE) ) )","v":""},{"$f":"IF(AND(TRIM(AU89)=\"\", TRIM(AU90)=\"\"), \"\", SUM(AU89,AU90) )","v":431573.20800000004},null,null,null,{"$f":"IF(TRIM(AX91)=\"\", \"\", IF(VLOOKUP(AX91,'Footnotes list'!$D$9:$E$58,2,FALSE)=0,\"\",VLOOKUP(AX91,'Footnotes list'!$D$9:$E$58,2,FALSE) ) )","v":""}]
[null,"W12B","W12B","Other mineral wastes (W122+W123+W125)","HAZ","Hazardous ",23.29,null,null,null,{"$f":"IF(TRIM(J92)=\"\", \"\", IF(VLOOKUP(J92,'Footnotes list'!$D$9:$E$58,2,FALSE)=0,\"\",VLOOKUP(J92,'Footnotes list'!$D$9:$E$58,2,FALSE) ) )","v":""},0,null,null,null,{"$f":"IF(TRIM(O92)=\"\", \"\", IF(VLOOKUP(O92,'Footnotes list'!$D$9:$E$58,2,FALSE)=0,\"\",VLOOKUP(O92,'Footnotes list'!$D$9:$E$58,2,FALSE) ) )","v":""},0,null,null,null,{"$f":"IF(TRIM(T92)=\"\", \"\", IF(VLOOKUP(T92,'Footnotes list'!$D$9:$E$58,2,FALSE)=0,\"\",VLOOKUP(T92,'Footnotes list'!$D$9:$E$58,2,FALSE) ) )","v":""},0,null,null,null,{"$f":"IF(TRIM(Y92)=\"\", \"\", IF(VLOOKUP(Y92,'Footnotes list'!$D$9:$E$58,2,FALSE)=0,\"\",VLOOKUP(Y92,'Footnotes list'!$D$9:$E$58,2,FALSE) ) )","v":""},{"$f":"IF(AND(TRIM(Q92)=\"\",TRIM(V92)=\"\"),\"\",Q92+V92)","v":0},null,null,null,{"$f":"IF(TRIM(AD92)=\"\", \"\", IF(VLOOKUP(AD92,'Footnotes list'!$D$9:$E$58,2,FALSE)=0,\"\",VLOOKUP(AD92,'Footnotes list'!$D$9:$E$58,2,FALSE) ) )","v":""},3288.0419999999999,null,null,null,{"$f":"IF(TRIM(AI92)=\"\", \"\", IF(VLOOKUP(AI92,'Footnotes list'!$D$9:$E$58,2,FALSE)=0,\"\",VLOOKUP(AI92,'Footnotes list'!$D$9:$E$58,2,FALSE) ) )","v":""},0,null,null,null,{"$f":"IF(TRIM(AN92)=\"\", \"\", IF(VLOOKUP(AN92,'Footnotes list'!$D$9:$E$58,2,FALSE)=0,\"\",VLOOKUP(AN92,'Footnotes list'!$D$9:$E$58,2,FALSE) ) )","v":""},{"$f":"IF(AND(TRIM(AF92)=\"\",TRIM(AK92)=\"\"),\"\",AF92+AK92)","v":3288.0419999999999},null,null,null,{"$f":"IF(TRIM(AS92)=\"\", \"\", IF(VLOOKUP(AS92,'Footnotes list'!$D$9:$E$58,2,FALSE)=0,\"\",VLOOKUP(AS92,'Footnotes list'!$D$9:$E$58,2,FALSE) ) )","v":""},{"$f":"IF(AND(TRIM(G92)=\"\",TRIM(L92)=\"\",TRIM(AA92)=\"\",TRIM(AP92)=\"\"),\"\",SUM(G92,L92,AA92,AP92))","v":3311.3319999999999},null,null,null,{"$f":"IF(TRIM(AX92)=\"\", \"\", IF(VLOOKUP(AX92,'Footnotes list'!$D$9:$E$58,2,FALSE)=0,\"\",VLOOKUP(AX92,'Footnotes list'!$D$9:$E$58,2,FALSE) ) )","v":""}]
[null,null,"W12B",null,"NHAZ","Non-hazardous",0,null,null,null,{"$f":"IF(TRIM(J93)=\"\", \"\", IF(VLOOKUP(J93,'Footnotes list'!$D$9:$E$58,2,FALSE)=0,\"\",VLOOKUP(J93,'Footnotes list'!$D$9:$E$58,2,FALSE) ) )","v":""},0,null,null,null,{"$f":"IF(TRIM(O93)=\"\", \"\", IF(VLOOKUP(O93,'Footnotes list'!$D$9:$E$58,2,FALSE)=0,\"\",VLOOKUP(O93,'Footnotes list'!$D$9:$E$58,2,FALSE) ) )","v":""},9285.19,null,null,null,{"$f":"IF(TRIM(T93)=\"\", \"\", IF(VLOOKUP(T93,'Footnotes list'!$D$9:$E$58,2,FALSE)=0,\"\",VLOOKUP(T93,'Footnotes list'!$D$9:$E$58,2,FALSE) ) )","v":""},75,null,null,null,{"$f":"IF(TRIM(Y93)=\"\", \"\", IF(VLOOKUP(Y93,'Footnotes list'!$D$9:$E$58,2,FALSE)=0,\"\",VLOOKUP(Y93,'Footnotes list'!$D$9:$E$58,2,FALSE) ) )","v":""},{"$f":"IF(AND(TRIM(Q93)=\"\",TRIM(V93)=\"\"),\"\",Q93+V93)","v":9360.19},null,null,null,{"$f":"IF(TRIM(AD93)=\"\", \"\", IF(VLOOKUP(AD93,'Footnotes list'!$D$9:$E$58,2,FALSE)=0,\"\",VLOOKUP(AD93,'Footnotes list'!$D$9:$E$58,2,FALSE) ) )","v":""},10038.74,null,null,null,{"$f":"IF(TRIM(AI93)=\"\", \"\", IF(VLOOKUP(AI93,'Footnotes list'!$D$9:$E$58,2,FALSE)=0,\"\",VLOOKUP(AI93,'Footnotes list'!$D$9:$E$58,2,FALSE) ) )","v":""},0,null,null,null,{"$f":"IF(TRIM(AN93)=\"\", \"\", IF(VLOOKUP(AN93,'Footnotes list'!$D$9:$E$58,2,FALSE)=0,\"\",VLOOKUP(AN93,'Footnotes list'!$D$9:$E$58,2,FALSE) ) )","v":""},{"$f":"IF(AND(TRIM(AF93)=\"\",TRIM(AK93)=\"\"),\"\",AF93+AK93)","v":10038.74},null,null,null,{"$f":"IF(TRIM(AS93)=\"\", \"\", IF(VLOOKUP(AS93,'Footnotes list'!$D$9:$E$58,2,FALSE)=0,\"\",VLOOKUP(AS93,'Footnotes list'!$D$9:$E$58,2,FALSE) ) )","v":""},{"$f":"IF(AND(TRIM(G93)=\"\",TRIM(L93)=\"\",TRIM(AA93)=\"\",TRIM(AP93)=\"\"),\"\",SUM(G93,L93,AA93,AP93))","v":19398.93},null,null,null,{"$f":"IF(TRIM(AX93)=\"\", \"\", IF(VLOOKUP(AX93,'Footnotes list'!$D$9:$E$58,2,FALSE)=0,\"\",VLOOKUP(AX93,'Footnotes list'!$D$9:$E$58,2,FALSE) ) )","v":""}]
[null,null,"W12B",null,"HAZ_NHAZ","Total",{"$f":"IF(AND(TRIM(G92)=\"\",TRIM(G93)=\"\"),\"\",G92+G93)","v":23.29},null,null,null,{"$f":"IF(TRIM(J94)=\"\", \"\", IF(VLOOKUP(J94,'Footnotes list'!$D$9:$E$58,2,FALSE)=0,\"\",VLOOKUP(J94,'Footnotes list'!$D$9:$E$58,2,FALSE) ) )","v":""},{"$f":"IF(AND(TRIM(L92)=\"\",TRIM(L93)=\"\"),\"\",L92+L93)","v":0},null,null,null,{"$f":"IF(TRIM(O94)=\"\", \"\", IF(VLOOKUP(O94,'Footnotes list'!$D$9:$E$58,2,FALSE)=0,\"\",VLOOKUP(O94,'Footnotes list'!$D$9:$E$58,2,FALSE) ) )","v":""},{"$f":"IF(AND(TRIM(Q92)=\"\",TRIM(Q93)=\"\"),\"\",Q92+Q93)","v":9285.19},null,null,null,{"$f":"IF(TRIM(T94)=\"\", \"\", IF(VLOOKUP(T94,'Footnotes list'!$D$9:$E$58,2,FALSE)=0,\"\",VLOOKUP(T94,'Footnotes list'!$D$9:$E$58,2,FALSE) ) )","v":""},{"$f":"IF(AND(TRIM(V92)=\"\",TRIM(V93)=\"\"),\"\",V92+V93)","v":75},null,null,null,{"$f":"IF(TRIM(Y94)=\"\", \"\", IF(VLOOKUP(Y94,'Footnotes list'!$D$9:$E$58,2,FALSE)=0,\"\",VLOOKUP(Y94,'Footnotes list'!$D$9:$E$58,2,FALSE) ) )","v":""},{"$f":"IF(AND(TRIM(AA92)=\"\", TRIM(AA93)=\"\"), \"\", SUM(AA92,AA93))","v":9360.19},null,null,null,{"$f":"IF(TRIM(AD94)=\"\", \"\", IF(VLOOKUP(AD94,'Footnotes list'!$D$9:$E$58,2,FALSE)=0,\"\",VLOOKUP(AD94,'Footnotes list'!$D$9:$E$58,2,FALSE) ) )","v":""},{"$f":"IF(AND(TRIM(AF92)=\"\",TRIM(AF93)=\"\"),\"\",AF92+AF93)","v":13326.781999999999},null,null,null,{"$f":"IF(TRIM(AI94)=\"\", \"\", IF(VLOOKUP(AI94,'Footnotes list'!$D$9:$E$58,2,FALSE)=0,\"\",VLOOKUP(AI94,'Footnotes list'!$D$9:$E$58,2,FALSE) ) )","v":""},{"$f":"IF(AND(TRIM(AK92)=\"\",TRIM(AK93)=\"\"),\"\",AK92+AK93)","v":0},null,null,null,{"$f":"IF(TRIM(AN94)=\"\", \"\", IF(VLOOKUP(AN94,'Footnotes list'!$D$9:$E$58,2,FALSE)=0,\"\",VLOOKUP(AN94,'Footnotes list'!$D$9:$E$58,2,FALSE) ) )","v":""},{"$f":"IF(AND(TRIM(AP92)=\"\", TRIM(AP93)=\"\"), \"\", SUM(AP92,AP93))","v":13326.781999999999},null,null,null,{"$f":"IF(TRIM(AS94)=\"\", \"\", IF(VLOOKUP(AS94,'Footnotes list'!$D$9:$E$58,2,FALSE)=0,\"\",VLOOKUP(AS94,'Footnotes list'!$D$9:$E$58,2,FALSE) ) )","v":""},{"$f":"IF(AND(TRIM(AU92)=\"\", TRIM(AU93)=\"\"), \"\", SUM(AU92,AU93) )","v":22710.261999999999},null,null,null,{"$f":"IF(TRIM(AX94)=\"\", \"\", IF(VLOOKUP(AX94,'Footnotes list'!$D$9:$E$58,2,FALSE)=0,\"\",VLOOKUP(AX94,'Footnotes list'!$D$9:$E$58,2,FALSE) ) )","v":""}]
[null,"W124","W124","Combustion wastes ","HAZ","Hazardous ",0,null,null,null,{"$f":"IF(TRIM(J95)=\"\", \"\", IF(VLOOKUP(J95,'Footnotes list'!$D$9:$E$58,2,FALSE)=0,\"\",VLOOKUP(J95,'Footnotes list'!$D$9:$E$58,2,FALSE) ) )","v":""},0,null,null,null,{"$f":"IF(TRIM(O95)=\"\", \"\", IF(VLOOKUP(O95,'Footnotes list'!$D$9:$E$58,2,FALSE)=0,\"\",VLOOKUP(O95,'Footnotes list'!$D$9:$E$58,2,FALSE) ) )","v":""},158.31399999999999,null,null,null,{"$f":"IF(TRIM(T95)=\"\", \"\", IF(VLOOKUP(T95,'Footnotes list'!$D$9:$E$58,2,FALSE)=0,\"\",VLOOKUP(T95,'Footnotes list'!$D$9:$E$58,2,FALSE) ) )","v":""},0,null,null,null,{"$f":"IF(TRIM(Y95)=\"\", \"\", IF(VLOOKUP(Y95,'Footnotes list'!$D$9:$E$58,2,FALSE)=0,\"\",VLOOKUP(Y95,'Footnotes list'!$D$9:$E$58,2,FALSE) ) )","v":""},{"$f":"IF(AND(TRIM(Q95)=\"\",TRIM(V95)=\"\"),\"\",Q95+V95)","v":158.31399999999999},null,null,null,{"$f":"IF(TRIM(AD95)=\"\", \"\", IF(VLOOKUP(AD95,'Footnotes list'!$D$9:$E$58,2,FALSE)=0,\"\",VLOOKUP(AD95,'Footnotes list'!$D$9:$E$58,2,FALSE) ) )","v":""},0,null,null,null,{"$f":"IF(TRIM(AI95)=\"\", \"\", IF(VLOOKUP(AI95,'Footnotes list'!$D$9:$E$58,2,FALSE)=0,\"\",VLOOKUP(AI95,'Footnotes list'!$D$9:$E$58,2,FALSE) ) )","v":""},0,null,null,null,{"$f":"IF(TRIM(AN95)=\"\", \"\", IF(VLOOKUP(AN95,'Footnotes list'!$D$9:$E$58,2,FALSE)=0,\"\",VLOOKUP(AN95,'Footnotes list'!$D$9:$E$58,2,FALSE) ) )","v":""},{"$f":"IF(AND(TRIM(AF95)=\"\",TRIM(AK95)=\"\"),\"\",AF95+AK95)","v":0},null,null,null,{"$f":"IF(TRIM(AS95)=\"\", \"\", IF(VLOOKUP(AS95,'Footnotes list'!$D$9:$E$58,2,FALSE)=0,\"\",VLOOKUP(AS95,'Footnotes list'!$D$9:$E$58,2,FALSE) ) )","v":""},{"$f":"IF(AND(TRIM(G95)=\"\",TRIM(L95)=\"\",TRIM(AA95)=\"\",TRIM(AP95)=\"\"),\"\",SUM(G95,L95,AA95,AP95))","v":158.31399999999999},null,null,null,{"$f":"IF(TRIM(AX95)=\"\", \"\", IF(VLOOKUP(AX95,'Footnotes list'!$D$9:$E$58,2,FALSE)=0,\"\",VLOOKUP(AX95,'Footnotes list'!$D$9:$E$58,2,FALSE) ) )","v":""}]
[null,null,"W124",null,"NHAZ","Non-hazardous",0,null,null,null,{"$f":"IF(TRIM(J96)=\"\", \"\", IF(VLOOKUP(J96,'Footnotes list'!$D$9:$E$58,2,FALSE)=0,\"\",VLOOKUP(J96,'Footnotes list'!$D$9:$E$58,2,FALSE) ) )","v":""},0,null,null,null,{"$f":"IF(TRIM(O96)=\"\", \"\", IF(VLOOKUP(O96,'Footnotes list'!$D$9:$E$58,2,FALSE)=0,\"\",VLOOKUP(O96,'Footnotes list'!$D$9:$E$58,2,FALSE) ) )","v":""},370311.67800000001,null,null,null,{"$f":"IF(TRIM(T96)=\"\", \"\", IF(VLOOKUP(T96,'Footnotes list'!$D$9:$E$58,2,FALSE)=0,\"\",VLOOKUP(T96,'Footnotes list'!$D$9:$E$58,2,FALSE) ) )","v":""},0,null,null,null,{"$f":"IF(TRIM(Y96)=\"\", \"\", IF(VLOOKUP(Y96,'Footnotes list'!$D$9:$E$58,2,FALSE)=0,\"\",VLOOKUP(Y96,'Footnotes list'!$D$9:$E$58,2,FALSE) ) )","v":""},{"$f":"IF(AND(TRIM(Q96)=\"\",TRIM(V96)=\"\"),\"\",Q96+V96)","v":370311.67800000001},null,null,null,{"$f":"IF(TRIM(AD96)=\"\", \"\", IF(VLOOKUP(AD96,'Footnotes list'!$D$9:$E$58,2,FALSE)=0,\"\",VLOOKUP(AD96,'Footnotes list'!$D$9:$E$58,2,FALSE) ) )","v":""},4753.32,null,null,null,{"$f":"IF(TRIM(AI96)=\"\", \"\", IF(VLOOKUP(AI96,'Footnotes list'!$D$9:$E$58,2,FALSE)=0,\"\",VLOOKUP(AI96,'Footnotes list'!$D$9:$E$58,2,FALSE) ) )","v":""},0,null,null,null,{"$f":"IF(TRIM(AN96)=\"\", \"\", IF(VLOOKUP(AN96,'Footnotes list'!$D$9:$E$58,2,FALSE)=0,\"\",VLOOKUP(AN96,'Footnotes list'!$D$9:$E$58,2,FALSE) ) )","v":""},{"$f":"IF(AND(TRIM(AF96)=\"\",TRIM(AK96)=\"\"),\"\",AF96+AK96)","v":4753.32},null,null,null,{"$f":"IF(TRIM(AS96)=\"\", \"\", IF(VLOOKUP(AS96,'Footnotes list'!$D$9:$E$58,2,FALSE)=0,\"\",VLOOKUP(AS96,'Footnotes list'!$D$9:$E$58,2,FALSE) ) )","v":""},{"$f":"IF(AND(TRIM(G96)=\"\",TRIM(L96)=\"\",TRIM(AA96)=\"\",TRIM(AP96)=\"\"),\"\",SUM(G96,L96,AA96,AP96))","v":375064.99800000002},null,null,null,{"$f":"IF(TRIM(AX96)=\"\", \"\", IF(VLOOKUP(AX96,'Footnotes list'!$D$9:$E$58,2,FALSE)=0,\"\",VLOOKUP(AX96,'Footnotes list'!$D$9:$E$58,2,FALSE) ) )","v":""}]
[null,null,"W124",null,"HAZ_NHAZ","Total",{"$f":"IF(AND(TRIM(G95)=\"\",TRIM(G96)=\"\"),\"\",G95+G96)","v":0},null,null,null,{"$f":"IF(TRIM(J97)=\"\", \"\", IF(VLOOKUP(J97,'Footnotes list'!$D$9:$E$58,2,FALSE)=0,\"\",VLOOKUP(J97,'Footnotes list'!$D$9:$E$58,2,FALSE) ) )","v":""},{"$f":"IF(AND(TRIM(L95)=\"\",TRIM(L96)=\"\"),\"\",L95+L96)","v":0},null,null,null,{"$f":"IF(TRIM(O97)=\"\", \"\", IF(VLOOKUP(O97,'Footnotes list'!$D$9:$E$58,2,FALSE)=0,\"\",VLOOKUP(O97,'Footnotes list'!$D$9:$E$58,2,FALSE) ) )","v":""},{"$f":"IF(AND(TRIM(Q95)=\"\",TRIM(Q96)=\"\"),\"\",Q95+Q96)","v":370469.99200000003},null,null,null,{"$f":"IF(TRIM(T97)=\"\", \"\", IF(VLOOKUP(T97,'Footnotes list'!$D$9:$E$58,2,FALSE)=0,\"\",VLOOKUP(T97,'Footnotes list'!$D$9:$E$58,2,FALSE) ) )","v":""},{"$f":"IF(AND(TRIM(V95)=\"\",TRIM(V96)=\"\"),\"\",V95+V96)","v":0},null,null,null,{"$f":"IF(TRIM(Y97)=\"\", \"\", IF(VLOOKUP(Y97,'Footnotes list'!$D$9:$E$58,2,FALSE)=0,\"\",VLOOKUP(Y97,'Footnotes list'!$D$9:$E$58,2,FALSE) ) )","v":""},{"$f":"IF(AND(TRIM(AA95)=\"\", TRIM(AA96)=\"\"), \"\", SUM(AA95,AA96))","v":370469.99200000003},null,null,null,{"$f":"IF(TRIM(AD97)=\"\", \"\", IF(VLOOKUP(AD97,'Footnotes list'!$D$9:$E$58,2,FALSE)=0,\"\",VLOOKUP(AD97,'Footnotes list'!$D$9:$E$58,2,FALSE) ) )","v":""},{"$f":"IF(AND(TRIM(AF95)=\"\",TRIM(AF96)=\"\"),\"\",AF95+AF96)","v":4753.32},null,null,null,{"$f":"IF(TRIM(AI97)=\"\", \"\", IF(VLOOKUP(AI97,'Footnotes list'!$D$9:$E$58,2,FALSE)=0,\"\",VLOOKUP(AI97,'Footnotes list'!$D$9:$E$58,2,FALSE) ) )","v":""},{"$f":"IF(AND(TRIM(AK95)=\"\",TRIM(AK96)=\"\"),\"\",AK95+AK96)","v":0},null,null,null,{"$f":"IF(TRIM(AN97)=\"\", \"\", IF(VLOOKUP(AN97,'Footnotes list'!$D$9:$E$58,2,FALSE)=0,\"\",VLOOKUP(AN97,'Footnotes list'!$D$9:$E$58,2,FALSE) ) )","v":""},{"$f":"IF(AND(TRIM(AP95)=\"\", TRIM(AP96)=\"\"), \"\", SUM(AP95,AP96))","v":4753.32},null,null,null,{"$f":"IF(TRIM(AS97)=\"\", \"\", IF(VLOOKUP(AS97,'Footnotes list'!$D$9:$E$58,2,FALSE)=0,\"\",VLOOKUP(AS97,'Footnotes list'!$D$9:$E$58,2,FALSE) ) )","v":""},{"$f":"IF(AND(TRIM(AU95)=\"\", TRIM(AU96)=\"\"), \"\", SUM(AU95,AU96) )","v":375223.31200000003},null,null,null,{"$f":"IF(TRIM(AX97)=\"\", \"\", IF(VLOOKUP(AX97,'Footnotes list'!$D$9:$E$58,2,FALSE)=0,\"\",VLOOKUP(AX97,'Footnotes list'!$D$9:$E$58,2,FALSE) ) )","v":""}]
[null,"W126","W126","Soils ","HAZ","Hazardous ",386.39499999999998,null,null,null,{"$f":"IF(TRIM(J98)=\"\", \"\", IF(VLOOKUP(J98,'Footnotes list'!$D$9:$E$58,2,FALSE)=0,\"\",VLOOKUP(J98,'Footnotes list'!$D$9:$E$58,2,FALSE) ) )","v":""},0,null,null,null,{"$f":"IF(TRIM(O98)=\"\", \"\", IF(VLOOKUP(O98,'Footnotes list'!$D$9:$E$58,2,FALSE)=0,\"\",VLOOKUP(O98,'Footnotes list'!$D$9:$E$58,2,FALSE) ) )","v":""},148.4,null,null,null,{"$f":"IF(TRIM(T98)=\"\", \"\", IF(VLOOKUP(T98,'Footnotes list'!$D$9:$E$58,2,FALSE)=0,\"\",VLOOKUP(T98,'Footnotes list'!$D$9:$E$58,2,FALSE) ) )","v":""},0,null,null,null,{"$f":"IF(TRIM(Y98)=\"\", \"\", IF(VLOOKUP(Y98,'Footnotes list'!$D$9:$E$58,2,FALSE)=0,\"\",VLOOKUP(Y98,'Footnotes list'!$D$9:$E$58,2,FALSE) ) )","v":""},{"$f":"IF(AND(TRIM(Q98)=\"\",TRIM(V98)=\"\"),\"\",Q98+V98)","v":148.4},null,null,null,{"$f":"IF(TRIM(AD98)=\"\", \"\", IF(VLOOKUP(AD98,'Footnotes list'!$D$9:$E$58,2,FALSE)=0,\"\",VLOOKUP(AD98,'Footnotes list'!$D$9:$E$58,2,FALSE) ) )","v":""},0,null,null,null,{"$f":"IF(TRIM(AI98)=\"\", \"\", IF(VLOOKUP(AI98,'Footnotes list'!$D$9:$E$58,2,FALSE)=0,\"\",VLOOKUP(AI98,'Footnotes list'!$D$9:$E$58,2,FALSE) ) )","v":""},0,null,null,null,{"$f":"IF(TRIM(AN98)=\"\", \"\", IF(VLOOKUP(AN98,'Footnotes list'!$D$9:$E$58,2,FALSE)=0,\"\",VLOOKUP(AN98,'Footnotes list'!$D$9:$E$58,2,FALSE) ) )","v":""},{"$f":"IF(AND(TRIM(AF98)=\"\",TRIM(AK98)=\"\"),\"\",AF98+AK98)","v":0},null,null,null,{"$f":"IF(TRIM(AS98)=\"\", \"\", IF(VLOOKUP(AS98,'Footnotes list'!$D$9:$E$58,2,FALSE)=0,\"\",VLOOKUP(AS98,'Footnotes list'!$D$9:$E$58,2,FALSE) ) )","v":""},{"$f":"IF(AND(TRIM(G98)=\"\",TRIM(L98)=\"\",TRIM(AA98)=\"\",TRIM(AP98)=\"\"),\"\",SUM(G98,L98,AA98,AP98))","v":534.79499999999996},null,null,null,{"$f":"IF(TRIM(AX98)=\"\", \"\", IF(VLOOKUP(AX98,'Footnotes list'!$D$9:$E$58,2,FALSE)=0,\"\",VLOOKUP(AX98,'Footnotes list'!$D$9:$E$58,2,FALSE) ) )","v":""}]
[null,null,"W126",null,"NHAZ","Non-hazardous",0,null,null,null,{"$f":"IF(TRIM(J99)=\"\", \"\", IF(VLOOKUP(J99,'Footnotes list'!$D$9:$E$58,2,FALSE)=0,\"\",VLOOKUP(J99,'Footnotes list'!$D$9:$E$58,2,FALSE) ) )","v":""},0,null,null,null,{"$f":"IF(TRIM(O99)=\"\", \"\", IF(VLOOKUP(O99,'Footnotes list'!$D$9:$E$58,2,FALSE)=0,\"\",VLOOKUP(O99,'Footnotes list'!$D$9:$E$58,2,FALSE) ) )","v":""},219571.45199999999,null,null,null,{"$f":"IF(TRIM(T99)=\"\", \"\", IF(VLOOKUP(T99,'Footnotes list'!$D$9:$E$58,2,FALSE)=0,\"\",VLOOKUP(T99,'Footnotes list'!$D$9:$E$58,2,FALSE) ) )","v":""},36782.769999999997,null,null,null,{"$f":"IF(TRIM(Y99)=\"\", \"\", IF(VLOOKUP(Y99,'Footnotes list'!$D$9:$E$58,2,FALSE)=0,\"\",VLOOKUP(Y99,'Footnotes list'!$D$9:$E$58,2,FALSE) ) )","v":""},{"$f":"IF(AND(TRIM(Q99)=\"\",TRIM(V99)=\"\"),\"\",Q99+V99)","v":256354.22199999998},null,null,null,{"$f":"IF(TRIM(AD99)=\"\", \"\", IF(VLOOKUP(AD99,'Footnotes list'!$D$9:$E$58,2,FALSE)=0,\"\",VLOOKUP(AD99,'Footnotes list'!$D$9:$E$58,2,FALSE) ) )","v":""},484558.72,null,null,null,{"$f":"IF(TRIM(AI99)=\"\", \"\", IF(VLOOKUP(AI99,'Footnotes list'!$D$9:$E$58,2,FALSE)=0,\"\",VLOOKUP(AI99,'Footnotes list'!$D$9:$E$58,2,FALSE) ) )","v":""},0,null,null,null,{"$f":"IF(TRIM(AN99)=\"\", \"\", IF(VLOOKUP(AN99,'Footnotes list'!$D$9:$E$58,2,FALSE)=0,\"\",VLOOKUP(AN99,'Footnotes list'!$D$9:$E$58,2,FALSE) ) )","v":""},{"$f":"IF(AND(TRIM(AF99)=\"\",TRIM(AK99)=\"\"),\"\",AF99+AK99)","v":484558.72},null,null,null,{"$f":"IF(TRIM(AS99)=\"\", \"\", IF(VLOOKUP(AS99,'Footnotes list'!$D$9:$E$58,2,FALSE)=0,\"\",VLOOKUP(AS99,'Footnotes list'!$D$9:$E$58,2,FALSE) ) )","v":""},{"$f":"IF(AND(TRIM(G99)=\"\",TRIM(L99)=\"\",TRIM(AA99)=\"\",TRIM(AP99)=\"\"),\"\",SUM(G99,L99,AA99,AP99))","v":740912.94199999992},null,null,null,{"$f":"IF(TRIM(AX99)=\"\", \"\", IF(VLOOKUP(AX99,'Footnotes list'!$D$9:$E$58,2,FALSE)=0,\"\",VLOOKUP(AX99,'Footnotes list'!$D$9:$E$58,2,FALSE) ) )","v":""}]
[null,null,"W126",null,"HAZ_NHAZ","Total",{"$f":"IF(AND(TRIM(G98)=\"\",TRIM(G99)=\"\"),\"\",G98+G99)","v":386.39499999999998},null,null,null,{"$f":"IF(TRIM(J100)=\"\", \"\", IF(VLOOKUP(J100,'Footnotes list'!$D$9:$E$58,2,FALSE)=0,\"\",VLOOKUP(J100,'Footnotes list'!$D$9:$E$58,2,FALSE) ) )","v":""},{"$f":"IF(AND(TRIM(L98)=\"\",TRIM(L99)=\"\"),\"\",L98+L99)","v":0},null,null,null,{"$f":"IF(TRIM(O100)=\"\", \"\", IF(VLOOKUP(O100,'Footnotes list'!$D$9:$E$58,2,FALSE)=0,\"\",VLOOKUP(O100,'Footnotes list'!$D$9:$E$58,2,FALSE) ) )","v":""},{"$f":"IF(AND(TRIM(Q98)=\"\",TRIM(Q99)=\"\"),\"\",Q98+Q99)","v":219719.85199999998},null,null,null,{"$f":"IF(TRIM(T100)=\"\", \"\", IF(VLOOKUP(T100,'Footnotes list'!$D$9:$E$58,2,FALSE)=0,\"\",VLOOKUP(T100,'Footnotes list'!$D$9:$E$58,2,FALSE) ) )","v":""},{"$f":"IF(AND(TRIM(V98)=\"\",TRIM(V99)=\"\"),\"\",V98+V99)","v":36782.769999999997},null,null,null,{"$f":"IF(TRIM(Y100)=\"\", \"\", IF(VLOOKUP(Y100,'Footnotes list'!$D$9:$E$58,2,FALSE)=0,\"\",VLOOKUP(Y100,'Footnotes list'!$D$9:$E$58,2,FALSE) ) )","v":""},{"$f":"IF(AND(TRIM(AA98)=\"\", TRIM(AA99)=\"\"), \"\", SUM(AA98,AA99))","v":256502.62199999997},null,null,null,{"$f":"IF(TRIM(AD100)=\"\", \"\", IF(VLOOKUP(AD100,'Footnotes list'!$D$9:$E$58,2,FALSE)=0,\"\",VLOOKUP(AD100,'Footnotes list'!$D$9:$E$58,2,FALSE) ) )","v":""},{"$f":"IF(AND(TRIM(AF98)=\"\",TRIM(AF99)=\"\"),\"\",AF98+AF99)","v":484558.72},null,null,null,{"$f":"IF(TRIM(AI100)=\"\", \"\", IF(VLOOKUP(AI100,'Footnotes list'!$D$9:$E$58,2,FALSE)=0,\"\",VLOOKUP(AI100,'Footnotes list'!$D$9:$E$58,2,FALSE) ) )","v":""},{"$f":"IF(AND(TRIM(AK98)=\"\",TRIM(AK99)=\"\"),\"\",AK98+AK99)","v":0},null,null,null,{"$f":"IF(TRIM(AN100)=\"\", \"\", IF(VLOOKUP(AN100,'Footnotes list'!$D$9:$E$58,2,FALSE)=0,\"\",VLOOKUP(AN100,'Footnotes list'!$D$9:$E$58,2,FALSE) ) )","v":""},{"$f":"IF(AND(TRIM(AP98)=\"\", TRIM(AP99)=\"\"), \"\", SUM(AP98,AP99))","v":484558.72},null,null,null,{"$f":"IF(TRIM(AS100)=\"\", \"\", IF(VLOOKUP(AS100,'Footnotes list'!$D$9:$E$58,2,FALSE)=0,\"\",VLOOKUP(AS100,'Footnotes list'!$D$9:$E$58,2,FALSE) ) )","v":""},{"$f":"IF(AND(TRIM(AU98)=\"\", TRIM(AU99)=\"\"), \"\", SUM(AU98,AU99) )","v":741447.73699999996},null,null,null,{"$f":"IF(TRIM(AX100)=\"\", \"\", IF(VLOOKUP(AX100,'Footnotes list'!$D$9:$E$58,2,FALSE)=0,\"\",VLOOKUP(AX100,'Footnotes list'!$D$9:$E$58,2,FALSE) ) )","v":""}]
[null,"W127","W127","Dredging spoils ","HAZ","Hazardous ",0,null,null,null,{"$f":"IF(TRIM(J101)=\"\", \"\", IF(VLOOKUP(J101,'Footnotes list'!$D$9:$E$58,2,FALSE)=0,\"\",VLOOKUP(J101,'Footnotes list'!$D$9:$E$58,2,FALSE) ) )","v":""},0,null,null,null,{"$f":"IF(TRIM(O101)=\"\", \"\", IF(VLOOKUP(O101,'Footnotes list'!$D$9:$E$58,2,FALSE)=0,\"\",VLOOKUP(O101,'Footnotes list'!$D$9:$E$58,2,FALSE) ) )","v":""},0,null,null,null,{"$f":"IF(TRIM(T101)=\"\", \"\", IF(VLOOKUP(T101,'Footnotes list'!$D$9:$E$58,2,FALSE)=0,\"\",VLOOKUP(T101,'Footnotes list'!$D$9:$E$58,2,FALSE) ) )","v":""},0,null,null,null,{"$f":"IF(TRIM(Y101)=\"\", \"\", IF(VLOOKUP(Y101,'Footnotes list'!$D$9:$E$58,2,FALSE)=0,\"\",VLOOKUP(Y101,'Footnotes list'!$D$9:$E$58,2,FALSE) ) )","v":""},{"$f":"IF(AND(TRIM(Q101)=\"\",TRIM(V101)=\"\"),\"\",Q101+V101)","v":0},null,null,null,{"$f":"IF(TRIM(AD101)=\"\", \"\", IF(VLOOKUP(AD101,'Footnotes list'!$D$9:$E$58,2,FALSE)=0,\"\",VLOOKUP(AD101,'Footnotes list'!$D$9:$E$58,2,FALSE) ) )","v":""},0,null,null,null,{"$f":"IF(TRIM(AI101)=\"\", \"\", IF(VLOOKUP(AI101,'Footnotes list'!$D$9:$E$58,2,FALSE)=0,\"\",VLOOKUP(AI101,'Footnotes list'!$D$9:$E$58,2,FALSE) ) )","v":""},0,null,null,null,{"$f":"IF(TRIM(AN101)=\"\", \"\", IF(VLOOKUP(AN101,'Footnotes list'!$D$9:$E$58,2,FALSE)=0,\"\",VLOOKUP(AN101,'Footnotes list'!$D$9:$E$58,2,FALSE) ) )","v":""},{"$f":"IF(AND(TRIM(AF101)=\"\",TRIM(AK101)=\"\"),\"\",AF101+AK101)","v":0},null,null,null,{"$f":"IF(TRIM(AS101)=\"\", \"\", IF(VLOOKUP(AS101,'Footnotes list'!$D$9:$E$58,2,FALSE)=0,\"\",VLOOKUP(AS101,'Footnotes list'!$D$9:$E$58,2,FALSE) ) )","v":""},{"$f":"IF(AND(TRIM(G101)=\"\",TRIM(L101)=\"\",TRIM(AA101)=\"\",TRIM(AP101)=\"\"),\"\",SUM(G101,L101,AA101,AP101))","v":0},null,null,null,{"$f":"IF(TRIM(AX101)=\"\", \"\", IF(VLOOKUP(AX101,'Footnotes list'!$D$9:$E$58,2,FALSE)=0,\"\",VLOOKUP(AX101,'Footnotes list'!$D$9:$E$58,2,FALSE) ) )","v":""}]
[null,null,"W127",null,"NHAZ","Non-hazardous",0,null,null,null,{"$f":"IF(TRIM(J102)=\"\", \"\", IF(VLOOKUP(J102,'Footnotes list'!$D$9:$E$58,2,FALSE)=0,\"\",VLOOKUP(J102,'Footnotes list'!$D$9:$E$58,2,FALSE) ) )","v":""},0,null,null,null,{"$f":"IF(TRIM(O102)=\"\", \"\", IF(VLOOKUP(O102,'Footnotes list'!$D$9:$E$58,2,FALSE)=0,\"\",VLOOKUP(O102,'Footnotes list'!$D$9:$E$58,2,FALSE) ) )","v":""},1591.5,null,null,null,{"$f":"IF(TRIM(T102)=\"\", \"\", IF(VLOOKUP(T102,'Footnotes list'!$D$9:$E$58,2,FALSE)=0,\"\",VLOOKUP(T102,'Footnotes list'!$D$9:$E$58,2,FALSE) ) )","v":""},0,null,null,null,{"$f":"IF(TRIM(Y102)=\"\", \"\", IF(VLOOKUP(Y102,'Footnotes list'!$D$9:$E$58,2,FALSE)=0,\"\",VLOOKUP(Y102,'Footnotes list'!$D$9:$E$58,2,FALSE) ) )","v":""},{"$f":"IF(AND(TRIM(Q102)=\"\",TRIM(V102)=\"\"),\"\",Q102+V102)","v":1591.5},null,null,null,{"$f":"IF(TRIM(AD102)=\"\", \"\", IF(VLOOKUP(AD102,'Footnotes list'!$D$9:$E$58,2,FALSE)=0,\"\",VLOOKUP(AD102,'Footnotes list'!$D$9:$E$58,2,FALSE) ) )","v":""},2.19,null,null,null,{"$f":"IF(TRIM(AI102)=\"\", \"\", IF(VLOOKUP(AI102,'Footnotes list'!$D$9:$E$58,2,FALSE)=0,\"\",VLOOKUP(AI102,'Footnotes list'!$D$9:$E$58,2,FALSE) ) )","v":""},0,null,null,null,{"$f":"IF(TRIM(AN102)=\"\", \"\", IF(VLOOKUP(AN102,'Footnotes list'!$D$9:$E$58,2,FALSE)=0,\"\",VLOOKUP(AN102,'Footnotes list'!$D$9:$E$58,2,FALSE) ) )","v":""},{"$f":"IF(AND(TRIM(AF102)=\"\",TRIM(AK102)=\"\"),\"\",AF102+AK102)","v":2.19},null,null,null,{"$f":"IF(TRIM(AS102)=\"\", \"\", IF(VLOOKUP(AS102,'Footnotes list'!$D$9:$E$58,2,FALSE)=0,\"\",VLOOKUP(AS102,'Footnotes list'!$D$9:$E$58,2,FALSE) ) )","v":""},{"$f":"IF(AND(TRIM(G102)=\"\",TRIM(L102)=\"\",TRIM(AA102)=\"\",TRIM(AP102)=\"\"),\"\",SUM(G102,L102,AA102,AP102))","v":1593.69},null,null,null,{"$f":"IF(TRIM(AX102)=\"\", \"\", IF(VLOOKUP(AX102,'Footnotes list'!$D$9:$E$58,2,FALSE)=0,\"\",VLOOKUP(AX102,'Footnotes list'!$D$9:$E$58,2,FALSE) ) )","v":""}]
[null,null,"W127",null,"HAZ_NHAZ","Total",{"$f":"IF(AND(TRIM(G101)=\"\",TRIM(G102)=\"\"),\"\",G101+G102)","v":0},null,null,null,{"$f":"IF(TRIM(J103)=\"\", \"\", IF(VLOOKUP(J103,'Footnotes list'!$D$9:$E$58,2,FALSE)=0,\"\",VLOOKUP(J103,'Footnotes list'!$D$9:$E$58,2,FALSE) ) )","v":""},{"$f":"IF(AND(TRIM(L101)=\"\",TRIM(L102)=\"\"),\"\",L101+L102)","v":0},null,null,null,{"$f":"IF(TRIM(O103)=\"\", \"\", IF(VLOOKUP(O103,'Footnotes list'!$D$9:$E$58,2,FALSE)=0,\"\",VLOOKUP(O103,'Footnotes list'!$D$9:$E$58,2,FALSE) ) )","v":""},{"$f":"IF(AND(TRIM(Q101)=\"\",TRIM(Q102)=\"\"),\"\",Q101+Q102)","v":1591.5},null,null,null,{"$f":"IF(TRIM(T103)=\"\", \"\", IF(VLOOKUP(T103,'Footnotes list'!$D$9:$E$58,2,FALSE)=0,\"\",VLOOKUP(T103,'Footnotes list'!$D$9:$E$58,2,FALSE) ) )","v":""},{"$f":"IF(AND(TRIM(V101)=\"\",TRIM(V102)=\"\"),\"\",V101+V102)","v":0},null,null,null,{"$f":"IF(TRIM(Y103)=\"\", \"\", IF(VLOOKUP(Y103,'Footnotes list'!$D$9:$E$58,2,FALSE)=0,\"\",VLOOKUP(Y103,'Footnotes list'!$D$9:$E$58,2,FALSE) ) )","v":""},{"$f":"IF(AND(TRIM(AA101)=\"\", TRIM(AA102)=\"\"), \"\", SUM(AA101,AA102))","v":1591.5},null,null,null,{"$f":"IF(TRIM(AD103)=\"\", \"\", IF(VLOOKUP(AD103,'Footnotes list'!$D$9:$E$58,2,FALSE)=0,\"\",VLOOKUP(AD103,'Footnotes list'!$D$9:$E$58,2,FALSE) ) )","v":""},{"$f":"IF(AND(TRIM(AF101)=\"\",TRIM(AF102)=\"\"),\"\",AF101+AF102)","v":2.19},null,null,null,{"$f":"IF(TRIM(AI103)=\"\", \"\", IF(VLOOKUP(AI103,'Footnotes list'!$D$9:$E$58,2,FALSE)=0,\"\",VLOOKUP(AI103,'Footnotes list'!$D$9:$E$58,2,FALSE) ) )","v":""},{"$f":"IF(AND(TRIM(AK101)=\"\",TRIM(AK102)=\"\"),\"\",AK101+AK102)","v":0},null,null,null,{"$f":"IF(TRIM(AN103)=\"\", \"\", IF(VLOOKUP(AN103,'Footnotes list'!$D$9:$E$58,2,FALSE)=0,\"\",VLOOKUP(AN103,'Footnotes list'!$D$9:$E$58,2,FALSE) ) )","v":""},{"$f":"IF(AND(TRIM(AP101)=\"\", TRIM(AP102)=\"\"), \"\", SUM(AP101,AP102))","v":2.19},null,null,null,{"$f":"IF(TRIM(AS103)=\"\", \"\", IF(VLOOKUP(AS103,'Footnotes list'!$D$9:$E$58,2,FALSE)=0,\"\",VLOOKUP(AS103,'Footnotes list'!$D$9:$E$58,2,FALSE) ) )","v":""},{"$f":"IF(AND(TRIM(AU101)=\"\", TRIM(AU102)=\"\"), \"\", SUM(AU101,AU102) )","v":1593.69},null,null,null,{"$f":"IF(TRIM(AX103)=\"\", \"\", IF(VLOOKUP(AX103,'Footnotes list'!$D$9:$E$58,2,FALSE)=0,\"\",VLOOKUP(AX103,'Footnotes list'!$D$9:$E$58,2,FALSE) ) )","v":""}]
[null,"W128_13","W128_13","Mineral wastes from waste treatment and stabilised wastes","HAZ","Hazardous ",0,null,null,null,{"$f":"IF(TRIM(J104)=\"\", \"\", IF(VLOOKUP(J104,'Footnotes list'!$D$9:$E$58,2,FALSE)=0,\"\",VLOOKUP(J104,'Footnotes list'!$D$9:$E$58,2,FALSE) ) )","v":""},0,null,null,null,{"$f":"IF(TRIM(O104)=\"\", \"\", IF(VLOOKUP(O104,'Footnotes list'!$D$9:$E$58,2,FALSE)=0,\"\",VLOOKUP(O104,'Footnotes list'!$D$9:$E$58,2,FALSE) ) )","v":""},0,null,null,null,{"$f":"IF(TRIM(T104)=\"\", \"\", IF(VLOOKUP(T104,'Footnotes list'!$D$9:$E$58,2,FALSE)=0,\"\",VLOOKUP(T104,'Footnotes list'!$D$9:$E$58,2,FALSE) ) )","v":""},0,null,null,null,{"$f":"IF(TRIM(Y104)=\"\", \"\", IF(VLOOKUP(Y104,'Footnotes list'!$D$9:$E$58,2,FALSE)=0,\"\",VLOOKUP(Y104,'Footnotes list'!$D$9:$E$58,2,FALSE) ) )","v":""},{"$f":"IF(AND(TRIM(Q104)=\"\",TRIM(V104)=\"\"),\"\",Q104+V104)","v":0},null,null,null,{"$f":"IF(TRIM(AD104)=\"\", \"\", IF(VLOOKUP(AD104,'Footnotes list'!$D$9:$E$58,2,FALSE)=0,\"\",VLOOKUP(AD104,'Footnotes list'!$D$9:$E$58,2,FALSE) ) )","v":""},0,null,null,null,{"$f":"IF(TRIM(AI104)=\"\", \"\", IF(VLOOKUP(AI104,'Footnotes list'!$D$9:$E$58,2,FALSE)=0,\"\",VLOOKUP(AI104,'Footnotes list'!$D$9:$E$58,2,FALSE) ) )","v":""},0,null,null,null,{"$f":"IF(TRIM(AN104)=\"\", \"\", IF(VLOOKUP(AN104,'Footnotes list'!$D$9:$E$58,2,FALSE)=0,\"\",VLOOKUP(AN104,'Footnotes list'!$D$9:$E$58,2,FALSE) ) )","v":""},{"$f":"IF(AND(TRIM(AF104)=\"\",TRIM(AK104)=\"\"),\"\",AF104+AK104)","v":0},null,null,null,{"$f":"IF(TRIM(AS104)=\"\", \"\", IF(VLOOKUP(AS104,'Footnotes list'!$D$9:$E$58,2,FALSE)=0,\"\",VLOOKUP(AS104,'Footnotes list'!$D$9:$E$58,2,FALSE) ) )","v":""},{"$f":"IF(AND(TRIM(G104)=\"\",TRIM(L104)=\"\",TRIM(AA104)=\"\",TRIM(AP104)=\"\"),\"\",SUM(G104,L104,AA104,AP104))","v":0},null,null,null,{"$f":"IF(TRIM(AX104)=\"\", \"\", IF(VLOOKUP(AX104,'Footnotes list'!$D$9:$E$58,2,FALSE)=0,\"\",VLOOKUP(AX104,'Footnotes list'!$D$9:$E$58,2,FALSE) ) )","v":""}]
[null,null,"W128_13",null,"NHAZ","Non-hazardous",0,null,null,null,{"$f":"IF(TRIM(J105)=\"\", \"\", IF(VLOOKUP(J105,'Footnotes list'!$D$9:$E$58,2,FALSE)=0,\"\",VLOOKUP(J105,'Footnotes list'!$D$9:$E$58,2,FALSE) ) )","v":""},0,null,null,null,{"$f":"IF(TRIM(O105)=\"\", \"\", IF(VLOOKUP(O105,'Footnotes list'!$D$9:$E$58,2,FALSE)=0,\"\",VLOOKUP(O105,'Footnotes list'!$D$9:$E$58,2,FALSE) ) )","v":""},7267.12,null,null,null,{"$f":"IF(TRIM(T105)=\"\", \"\", IF(VLOOKUP(T105,'Footnotes list'!$D$9:$E$58,2,FALSE)=0,\"\",VLOOKUP(T105,'Footnotes list'!$D$9:$E$58,2,FALSE) ) )","v":""},21367.23,null,null,null,{"$f":"IF(TRIM(Y105)=\"\", \"\", IF(VLOOKUP(Y105,'Footnotes list'!$D$9:$E$58,2,FALSE)=0,\"\",VLOOKUP(Y105,'Footnotes list'!$D$9:$E$58,2,FALSE) ) )","v":""},{"$f":"IF(AND(TRIM(Q105)=\"\",TRIM(V105)=\"\"),\"\",Q105+V105)","v":28634.35},null,null,null,{"$f":"IF(TRIM(AD105)=\"\", \"\", IF(VLOOKUP(AD105,'Footnotes list'!$D$9:$E$58,2,FALSE)=0,\"\",VLOOKUP(AD105,'Footnotes list'!$D$9:$E$58,2,FALSE) ) )","v":""},1590.52,null,null,null,{"$f":"IF(TRIM(AI105)=\"\", \"\", IF(VLOOKUP(AI105,'Footnotes list'!$D$9:$E$58,2,FALSE)=0,\"\",VLOOKUP(AI105,'Footnotes list'!$D$9:$E$58,2,FALSE) ) )","v":""},0,null,null,null,{"$f":"IF(TRIM(AN105)=\"\", \"\", IF(VLOOKUP(AN105,'Footnotes list'!$D$9:$E$58,2,FALSE)=0,\"\",VLOOKUP(AN105,'Footnotes list'!$D$9:$E$58,2,FALSE) ) )","v":""},{"$f":"IF(AND(TRIM(AF105)=\"\",TRIM(AK105)=\"\"),\"\",AF105+AK105)","v":1590.52},null,null,null,{"$f":"IF(TRIM(AS105)=\"\", \"\", IF(VLOOKUP(AS105,'Footnotes list'!$D$9:$E$58,2,FALSE)=0,\"\",VLOOKUP(AS105,'Footnotes list'!$D$9:$E$58,2,FALSE) ) )","v":""},{"$f":"IF(AND(TRIM(G105)=\"\",TRIM(L105)=\"\",TRIM(AA105)=\"\",TRIM(AP105)=\"\"),\"\",SUM(G105,L105,AA105,AP105))","v":30224.87},null,null,null,{"$f":"IF(TRIM(AX105)=\"\", \"\", IF(VLOOKUP(AX105,'Footnotes list'!$D$9:$E$58,2,FALSE)=0,\"\",VLOOKUP(AX105,'Footnotes list'!$D$9:$E$58,2,FALSE) ) )","v":""}]
[null,null,"W128_13",null,"HAZ_NHAZ","Total",{"$f":"IF(AND(TRIM(G104)=\"\",TRIM(G105)=\"\"),\"\",G104+G105)","v":0},null,null,null,{"$f":"IF(TRIM(J106)=\"\", \"\", IF(VLOOKUP(J106,'Footnotes list'!$D$9:$E$58,2,FALSE)=0,\"\",VLOOKUP(J106,'Footnotes list'!$D$9:$E$58,2,FALSE) ) )","v":""},{"$f":"IF(AND(TRIM(L104)=\"\",TRIM(L105)=\"\"),\"\",L104+L105)","v":0},null,null,null,{"$f":"IF(TRIM(O106)=\"\", \"\", IF(VLOOKUP(O106,'Footnotes list'!$D$9:$E$58,2,FALSE)=0,\"\",VLOOKUP(O106,'Footnotes list'!$D$9:$E$58,2,FALSE) ) )","v":""},{"$f":"IF(AND(TRIM(Q104)=\"\",TRIM(Q105)=\"\"),\"\",Q104+Q105)","v":7267.12},null,null,null,{"$f":"IF(TRIM(T106)=\"\", \"\", IF(VLOOKUP(T106,'Footnotes list'!$D$9:$E$58,2,FALSE)=0,\"\",VLOOKUP(T106,'Footnotes list'!$D$9:$E$58,2,FALSE) ) )","v":""},{"$f":"IF(AND(TRIM(V104)=\"\",TRIM(V105)=\"\"),\"\",V104+V105)","v":21367.23},null,null,null,{"$f":"IF(TRIM(Y106)=\"\", \"\", IF(VLOOKUP(Y106,'Footnotes list'!$D$9:$E$58,2,FALSE)=0,\"\",VLOOKUP(Y106,'Footnotes list'!$D$9:$E$58,2,FALSE) ) )","v":""},{"$f":"IF(AND(TRIM(AA104)=\"\", TRIM(AA105)=\"\"), \"\", SUM(AA104,AA105))","v":28634.35},null,null,null,{"$f":"IF(TRIM(AD106)=\"\", \"\", IF(VLOOKUP(AD106,'Footnotes list'!$D$9:$E$58,2,FALSE)=0,\"\",VLOOKUP(AD106,'Footnotes list'!$D$9:$E$58,2,FALSE) ) )","v":""},{"$f":"IF(AND(TRIM(AF104)=\"\",TRIM(AF105)=\"\"),\"\",AF104+AF105)","v":1590.52},null,null,null,{"$f":"IF(TRIM(AI106)=\"\", \"\", IF(VLOOKUP(AI106,'Footnotes list'!$D$9:$E$58,2,FALSE)=0,\"\",VLOOKUP(AI106,'Footnotes list'!$D$9:$E$58,2,FALSE) ) )","v":""},{"$f":"IF(AND(TRIM(AK104)=\"\",TRIM(AK105)=\"\"),\"\",AK104+AK105)","v":0},null,null,null,{"$f":"IF(TRIM(AN106)=\"\", \"\", IF(VLOOKUP(AN106,'Footnotes list'!$D$9:$E$58,2,FALSE)=0,\"\",VLOOKUP(AN106,'Footnotes list'!$D$9:$E$58,2,FALSE) ) )","v":""},{"$f":"IF(AND(TRIM(AP104)=\"\", TRIM(AP105)=\"\"), \"\", SUM(AP104,AP105))","v":1590.52},null,null,null,{"$f":"IF(TRIM(AS106)=\"\", \"\", IF(VLOOKUP(AS106,'Footnotes list'!$D$9:$E$58,2,FALSE)=0,\"\",VLOOKUP(AS106,'Footnotes list'!$D$9:$E$58,2,FALSE) ) )","v":""},{"$f":"IF(AND(TRIM(AU104)=\"\", TRIM(AU105)=\"\"), \"\", SUM(AU104,AU105) )","v":30224.87},null,null,null,{"$f":"IF(TRIM(AX106)=\"\", \"\", IF(VLOOKUP(AX106,'Footnotes list'!$D$9:$E$58,2,FALSE)=0,\"\",VLOOKUP(AX106,'Footnotes list'!$D$9:$E$58,2,FALSE) ) )","v":""}]
[null,"PRIM","PRIM","Primary waste","HAZ","Hazardous ",{"$f":"SUM(G8,G11,G14,G17,G20,G26,G29,G32,G35,G38,G41,G44,G47,G50,G53,G56,G59,G62,G65,G68,G71,G74,G77,G80,G86,G89,G92,G95,G98,G101)","v":16895.206000000002},null,null,null,{"$f":"IF(TRIM(J107)=\"\", \"\", IF(VLOOKUP(J107,'Footnotes list'!$D$9:$E$58,2,FALSE)=0,\"\",VLOOKUP(J107,'Footnotes list'!$D$9:$E$58,2,FALSE) ) )","v":""},{"$f":"SUM(L8,L11,L14,L17,L20,L26,L29,L32,L35,L38,L41,L44,L47,L50,L53,L56,L59,L62,L65,L68,L71,L74,L77,L80,L86,L89,L92,L95,L98,L101)","v":0},null,null,null,{"$f":"IF(TRIM(O107)=\"\", \"\", IF(VLOOKUP(O107,'Footnotes list'!$D$9:$E$58,2,FALSE)=0,\"\",VLOOKUP(O107,'Footnotes list'!$D$9:$E$58,2,FALSE) ) )","v":""},{"$f":"SUM(Q8,Q11,Q14,Q17,Q20,Q26,Q29,Q32,Q35,Q38,Q41,Q44,Q47,Q50,Q53,Q56,Q59,Q62,Q65,Q68,Q71,Q74,Q77,Q80,Q86,Q89,Q92,Q95,Q98,Q101)","v":67766.794999999984},null,null,null,{"$f":"IF(TRIM(T107)=\"\", \"\", IF(VLOOKUP(T107,'Footnotes list'!$D$9:$E$58,2,FALSE)=0,\"\",VLOOKUP(T107,'Footnotes list'!$D$9:$E$58,2,FALSE) ) )","v":""},{"$f":"SUM(V8,V11,V14,V17,V20,V26,V29,V32,V35,V38,V41,V44,V47,V50,V53,V56,V59,V62,V65,V68,V71,V74,V77,V80,V86,V89,V92,V95,V98,V101)","v":0},null,null,null,{"$f":"IF(TRIM(Y107)=\"\", \"\", IF(VLOOKUP(Y107,'Footnotes list'!$D$9:$E$58,2,FALSE)=0,\"\",VLOOKUP(Y107,'Footnotes list'!$D$9:$E$58,2,FALSE) ) )","v":""},{"$f":"SUM(AA8,AA11,AA14,AA17,AA20,AA26,AA29,AA32,AA35,AA38,AA41,AA44,AA47,AA50,AA53,AA56,AA59,AA62,AA65,AA68,AA71,AA74,AA77,AA80,AA86,AA89,AA92,AA95,AA98,AA101)","v":67766.794999999984},null,null,null,{"$f":"IF(TRIM(AD107)=\"\", \"\", IF(VLOOKUP(AD107,'Footnotes list'!$D$9:$E$58,2,FALSE)=0,\"\",VLOOKUP(AD107,'Footnotes list'!$D$9:$E$58,2,FALSE) ) )","v":""},{"$f":"SUM(AF8,AF11,AF14,AF17,AF20,AF26,AF29,AF32,AF35,AF38,AF41,AF44,AF47,AF50,AF53,AF56,AF59,AF62,AF65,AF68,AF71,AF74,AF77,AF80,AF86,AF89,AF92,AF95,AF98,AF101)","v":3288.0419999999999},null,null,null,{"$f":"IF(TRIM(AI107)=\"\", \"\", IF(VLOOKUP(AI107,'Footnotes list'!$D$9:$E$58,2,FALSE)=0,\"\",VLOOKUP(AI107,'Footnotes list'!$D$9:$E$58,2,FALSE) ) )","v":""},{"$f":"SUM(AK8,AK11,AK14,AK17,AK20,AK26,AK29,AK32,AK35,AK38,AK41,AK44,AK47,AK50,AK53,AK56,AK59,AK62,AK65,AK68,AK71,AK74,AK77,AK80,AK86,AK89,AK92,AK95,AK98,AK101)","v":0},null,null,null,{"$f":"IF(TRIM(AN107)=\"\", \"\", IF(VLOOKUP(AN107,'Footnotes list'!$D$9:$E$58,2,FALSE)=0,\"\",VLOOKUP(AN107,'Footnotes list'!$D$9:$E$58,2,FALSE) ) )","v":""},{"$f":"SUM(AP8,AP11,AP14,AP17,AP20,AP26,AP29,AP32,AP35,AP38,AP41,AP44,AP47,AP50,AP53,AP56,AP59,AP62,AP65,AP68,AP71,AP74,AP77,AP80,AP86,AP89,AP92,AP95,AP98,AP101)","v":3288.0419999999999},null,null,null,{"$f":"IF(TRIM(AS107)=\"\", \"\", IF(VLOOKUP(AS107,'Footnotes list'!$D$9:$E$58,2,FALSE)=0,\"\",VLOOKUP(AS107,'Footnotes list'!$D$9:$E$58,2,FALSE) ) )","v":""},{"$f":"SUM(AU8,AU11,AU14,AU17,AU20,AU26,AU29,AU32,AU35,AU38,AU41,AU44,AU47,AU50,AU53,AU56,AU59,AU62,AU65,AU68,AU71,AU74,AU77,AU80,AU86,AU89,AU92,AU95,AU98,AU101)","v":87950.043000000005},null,null,null,{"$f":"IF(TRIM(AX107)=\"\", \"\", IF(VLOOKUP(AX107,'Footnotes list'!$D$9:$E$58,2,FALSE)=0,\"\",VLOOKUP(AX107,'Footnotes list'!$D$9:$E$58,2,FALSE) ) )","v":""}]
[null,null,"PRIM",null,"NHAZ","Non-hazardous",{"$f":"SUM(G9,G12,G15,G18,G21,G27,G30,G33,G36,G39,G42,G45,G48,G51,G54,G57,G60,G63,G66,G69,G72,G75,G78,G81,G87,G90,G93,G96,G99,G102)","v":66276.064000000013},null,null,null,{"$f":"IF(TRIM(J108)=\"\", \"\", IF(VLOOKUP(J108,'Footnotes list'!$D$9:$E$58,2,FALSE)=0,\"\",VLOOKUP(J108,'Footnotes list'!$D$9:$E$58,2,FALSE) ) )","v":""},{"$f":"SUM(L9,L12,L15,L18,L21,L27,L30,L33,L36,L39,L42,L45,L48,L51,L54,L57,L60,L63,L66,L69,L72,L75,L78,L81,L87,L90,L93,L96,L99,L102)","v":0},null,null,null,{"$f":"IF(TRIM(O108)=\"\", \"\", IF(VLOOKUP(O108,'Footnotes list'!$D$9:$E$58,2,FALSE)=0,\"\",VLOOKUP(O108,'Footnotes list'!$D$9:$E$58,2,FALSE) ) )","v":""},{"$f":"SUM(Q9,Q12,Q15,Q18,Q21,Q27,Q30,Q33,Q36,Q39,Q42,Q45,Q48,Q51,Q54,Q57,Q60,Q63,Q66,Q69,Q72,Q75,Q78,Q81,Q87,Q90,Q93,Q96,Q99,Q102)","v":3094786.69},null,null,null,{"$f":"IF(TRIM(T108)=\"\", \"\", IF(VLOOKUP(T108,'Footnotes list'!$D$9:$E$58,2,FALSE)=0,\"\",VLOOKUP(T108,'Footnotes list'!$D$9:$E$58,2,FALSE) ) )","v":""},{"$f":"SUM(V9,V12,V15,V18,V21,V27,V30,V33,V36,V39,V42,V45,V48,V51,V54,V57,V60,V63,V66,V69,V72,V75,V78,V81,V87,V90,V93,V96,V99,V102)","v":54898.034},null,null,null,{"$f":"IF(TRIM(Y108)=\"\", \"\", IF(VLOOKUP(Y108,'Footnotes list'!$D$9:$E$58,2,FALSE)=0,\"\",VLOOKUP(Y108,'Footnotes list'!$D$9:$E$58,2,FALSE) ) )","v":""},{"$f":"SUM(AA9,AA12,AA15,AA18,AA21,AA27,AA30,AA33,AA36,AA39,AA42,AA45,AA48,AA51,AA54,AA57,AA60,AA63,AA66,AA69,AA72,AA75,AA78,AA81,AA87,AA90,AA93,AA96,AA99,AA102)","v":3149684.7239999999},null,null,null,{"$f":"IF(TRIM(AD108)=\"\", \"\", IF(VLOOKUP(AD108,'Footnotes list'!$D$9:$E$58,2,FALSE)=0,\"\",VLOOKUP(AD108,'Footnotes list'!$D$9:$E$58,2,FALSE) ) )","v":""},{"$f":"SUM(AF9,AF12,AF15,AF18,AF21,AF27,AF30,AF33,AF36,AF39,AF42,AF45,AF48,AF51,AF54,AF57,AF60,AF63,AF66,AF69,AF72,AF75,AF78,AF81,AF87,AF90,AF93,AF96,AF99,AF102)","v":1516075.9029999999},null,null,null,{"$f":"IF(TRIM(AI108)=\"\", \"\", IF(VLOOKUP(AI108,'Footnotes list'!$D$9:$E$58,2,FALSE)=0,\"\",VLOOKUP(AI108,'Footnotes list'!$D$9:$E$58,2,FALSE) ) )","v":""},{"$f":"SUM(AK9,AK12,AK15,AK18,AK21,AK27,AK30,AK33,AK36,AK39,AK42,AK45,AK48,AK51,AK54,AK57,AK60,AK63,AK66,AK69,AK72,AK75,AK78,AK81,AK87,AK90,AK93,AK96,AK99,AK102)","v":3096.9560000000001},null,null,null,{"$f":"IF(TRIM(AN108)=\"\", \"\", IF(VLOOKUP(AN108,'Footnotes list'!$D$9:$E$58,2,FALSE)=0,\"\",VLOOKUP(AN108,'Footnotes list'!$D$9:$E$58,2,FALSE) ) )","v":""},{"$f":"SUM(AP9,AP12,AP15,AP18,AP21,AP27,AP30,AP33,AP36,AP39,AP42,AP45,AP48,AP51,AP54,AP57,AP60,AP63,AP66,AP69,AP72,AP75,AP78,AP81,AP87,AP90,AP93,AP96,AP99,AP102)","v":1519172.8589999999},null,null,null,{"$f":"IF(TRIM(AS108)=\"\", \"\", IF(VLOOKUP(AS108,'Footnotes list'!$D$9:$E$58,2,FALSE)=0,\"\",VLOOKUP(AS108,'Footnotes list'!$D$9:$E$58,2,FALSE) ) )","v":""},{"$f":"SUM(AU9,AU12,AU15,AU18,AU21,AU27,AU30,AU33,AU36,AU39,AU42,AU45,AU48,AU51,AU54,AU57,AU60,AU63,AU66,AU69,AU72,AU75,AU78,AU81,AU87,AU90,AU93,AU96,AU99,AU102)","v":4735133.6470000008},null,null,null,{"$f":"IF(TRIM(AX108)=\"\", \"\", IF(VLOOKUP(AX108,'Footnotes list'!$D$9:$E$58,2,FALSE)=0,\"\",VLOOKUP(AX108,'Footnotes list'!$D$9:$E$58,2,FALSE) ) )","v":""}]
[null,null,"PRIM",null,"HAZ_NHAZ","Total",83171.269999999975,null,null,null,{"$f":"IF(TRIM(J109)=\"\", \"\", IF(VLOOKUP(J109,'Footnotes list'!$D$9:$E$58,2,FALSE)=0,\"\",VLOOKUP(J109,'Footnotes list'!$D$9:$E$58,2,FALSE) ) )","v":""},0,null,null,null,{"$f":"IF(TRIM(O109)=\"\", \"\", IF(VLOOKUP(O109,'Footnotes list'!$D$9:$E$58,2,FALSE)=0,\"\",VLOOKUP(O109,'Footnotes list'!$D$9:$E$58,2,FALSE) ) )","v":""},3162553.4849999994,null,null,null,{"$f":"IF(TRIM(T109)=\"\", \"\", IF(VLOOKUP(T109,'Footnotes list'!$D$9:$E$58,2,FALSE)=0,\"\",VLOOKUP(T109,'Footnotes list'!$D$9:$E$58,2,FALSE) ) )","v":""},54898.034,null,null,null,{"$f":"IF(TRIM(Y109)=\"\", \"\", IF(VLOOKUP(Y109,'Footnotes list'!$D$9:$E$58,2,FALSE)=0,\"\",VLOOKUP(Y109,'Footnotes list'!$D$9:$E$58,2,FALSE) ) )","v":""},3217451.5189999999,null,null,null,{"$f":"IF(TRIM(AD109)=\"\", \"\", IF(VLOOKUP(AD109,'Footnotes list'!$D$9:$E$58,2,FALSE)=0,\"\",VLOOKUP(AD109,'Footnotes list'!$D$9:$E$58,2,FALSE) ) )","v":""},1519363.9449999998,null,null,null,{"$f":"IF(TRIM(AI109)=\"\", \"\", IF(VLOOKUP(AI109,'Footnotes list'!$D$9:$E$58,2,FALSE)=0,\"\",VLOOKUP(AI109,'Footnotes list'!$D$9:$E$58,2,FALSE) ) )","v":""},3096.9560000000001,null,null,null,{"$f":"IF(TRIM(AN109)=\"\", \"\", IF(VLOOKUP(AN109,'Footnotes list'!$D$9:$E$58,2,FALSE)=0,\"\",VLOOKUP(AN109,'Footnotes list'!$D$9:$E$58,2,FALSE) ) )","v":""},1522460.9010000001,null,null,null,{"$f":"IF(TRIM(AS109)=\"\", \"\", IF(VLOOKUP(AS109,'Footnotes list'!$D$9:$E$58,2,FALSE)=0,\"\",VLOOKUP(AS109,'Footnotes list'!$D$9:$E$58,2,FALSE) ) )","v":""},4823083.6900000004,null,null,null,{"$f":"IF(TRIM(AX109)=\"\", \"\", IF(VLOOKUP(AX109,'Footnotes list'!$D$9:$E$58,2,FALSE)=0,\"\",VLOOKUP(AX109,'Footnotes list'!$D$9:$E$58,2,FALSE) ) )","v":""}]
[null,"SEC","SEC","Secondary Waste ","HAZ","Hazardous ",{"$f":"SUM(G23,G83,G104)","v":2459.23},null,null,null,{"$f":"IF(TRIM(J110)=\"\", \"\", IF(VLOOKUP(J110,'Footnotes list'!$D$9:$E$58,2,FALSE)=0,\"\",VLOOKUP(J110,'Footnotes list'!$D$9:$E$58,2,FALSE) ) )","v":""},{"$f":"SUM(L23,L83,L104)","v":0},null,null,null,{"$f":"IF(TRIM(O110)=\"\", \"\", IF(VLOOKUP(O110,'Footnotes list'!$D$9:$E$58,2,FALSE)=0,\"\",VLOOKUP(O110,'Footnotes list'!$D$9:$E$58,2,FALSE) ) )","v":""},{"$f":"SUM(Q23,Q83,Q104)","v":7138.3549999999996},null,null,null,{"$f":"IF(TRIM(T110)=\"\", \"\", IF(VLOOKUP(T110,'Footnotes list'!$D$9:$E$58,2,FALSE)=0,\"\",VLOOKUP(T110,'Footnotes list'!$D$9:$E$58,2,FALSE) ) )","v":""},{"$f":"SUM(V23,V83,V104)","v":0},null,null,null,{"$f":"IF(TRIM(Y110)=\"\", \"\", IF(VLOOKUP(Y110,'Footnotes list'!$D$9:$E$58,2,FALSE)=0,\"\",VLOOKUP(Y110,'Footnotes list'!$D$9:$E$58,2,FALSE) ) )","v":""},{"$f":"SUM(AA23,AA83,AA104)","v":7138.3549999999996},null,null,null,{"$f":"IF(TRIM(AD110)=\"\", \"\", IF(VLOOKUP(AD110,'Footnotes list'!$D$9:$E$58,2,FALSE)=0,\"\",VLOOKUP(AD110,'Footnotes list'!$D$9:$E$58,2,FALSE) ) )","v":""},{"$f":"SUM(AF23,AF83,AF104)","v":0},null,null,null,{"$f":"IF(TRIM(AI110)=\"\", \"\", IF(VLOOKUP(AI110,'Footnotes list'!$D$9:$E$58,2,FALSE)=0,\"\",VLOOKUP(AI110,'Footnotes list'!$D$9:$E$58,2,FALSE) ) )","v":""},{"$f":"SUM(AK23,AK83,AK104)","v":0},null,null,null,{"$f":"IF(TRIM(AN110)=\"\", \"\", IF(VLOOKUP(AN110,'Footnotes list'!$D$9:$E$58,2,FALSE)=0,\"\",VLOOKUP(AN110,'Footnotes list'!$D$9:$E$58,2,FALSE) ) )","v":""},{"$f":"SUM(AP23,AP83,AP104)","v":0},null,null,null,{"$f":"IF(TRIM(AS110)=\"\", \"\", IF(VLOOKUP(AS110,'Footnotes list'!$D$9:$E$58,2,FALSE)=0,\"\",VLOOKUP(AS110,'Footnotes list'!$D$9:$E$58,2,FALSE) ) )","v":""},{"$f":"SUM(AU23,AU83,AU104)","v":9597.5849999999991},null,null,null,{"$f":"IF(TRIM(AX110)=\"\", \"\", IF(VLOOKUP(AX110,'Footnotes list'!$D$9:$E$58,2,FALSE)=0,\"\",VLOOKUP(AX110,'Footnotes list'!$D$9:$E$58,2,FALSE) ) )","v":""}]
[null,null,"SEC",null,"NHAZ","Non-hazardous",{"$f":"SUM(G24,G84,G105)","v":45268.15},null,null,null,{"$f":"IF(TRIM(J111)=\"\", \"\", IF(VLOOKUP(J111,'Footnotes list'!$D$9:$E$58,2,FALSE)=0,\"\",VLOOKUP(J111,'Footnotes list'!$D$9:$E$58,2,FALSE) ) )","v":""},{"$f":"SUM(L24,L84,L105)","v":0},null,null,null,{"$f":"IF(TRIM(O111)=\"\", \"\", IF(VLOOKUP(O111,'Footnotes list'!$D$9:$E$58,2,FALSE)=0,\"\",VLOOKUP(O111,'Footnotes list'!$D$9:$E$58,2,FALSE) ) )","v":""},{"$f":"SUM(Q24,Q84,Q105)","v":19966.044000000002},null,null,null,{"$f":"IF(TRIM(T111)=\"\", \"\", IF(VLOOKUP(T111,'Footnotes list'!$D$9:$E$58,2,FALSE)=0,\"\",VLOOKUP(T111,'Footnotes list'!$D$9:$E$58,2,FALSE) ) )","v":""},{"$f":"SUM(V24,V84,V105)","v":21367.23},null,null,null,{"$f":"IF(TRIM(Y111)=\"\", \"\", IF(VLOOKUP(Y111,'Footnotes list'!$D$9:$E$58,2,FALSE)=0,\"\",VLOOKUP(Y111,'Footnotes list'!$D$9:$E$58,2,FALSE) ) )","v":""},{"$f":"SUM(AA24,AA84,AA105)","v":41333.273999999998},null,null,null,{"$f":"IF(TRIM(AD111)=\"\", \"\", IF(VLOOKUP(AD111,'Footnotes list'!$D$9:$E$58,2,FALSE)=0,\"\",VLOOKUP(AD111,'Footnotes list'!$D$9:$E$58,2,FALSE) ) )","v":""},{"$f":"SUM(AF24,AF84,AF105)","v":148377.01199999999},null,null,null,{"$f":"IF(TRIM(AI111)=\"\", \"\", IF(VLOOKUP(AI111,'Footnotes list'!$D$9:$E$58,2,FALSE)=0,\"\",VLOOKUP(AI111,'Footnotes list'!$D$9:$E$58,2,FALSE) ) )","v":""},{"$f":"SUM(AK24,AK84,AK105)","v":0},null,null,null,{"$f":"IF(TRIM(AN111)=\"\", \"\", IF(VLOOKUP(AN111,'Footnotes list'!$D$9:$E$58,2,FALSE)=0,\"\",VLOOKUP(AN111,'Footnotes list'!$D$9:$E$58,2,FALSE) ) )","v":""},{"$f":"SUM(AP24,AP84,AP105)","v":148377.01199999999},null,null,null,{"$f":"IF(TRIM(AS111)=\"\", \"\", IF(VLOOKUP(AS111,'Footnotes list'!$D$9:$E$58,2,FALSE)=0,\"\",VLOOKUP(AS111,'Footnotes list'!$D$9:$E$58,2,FALSE) ) )","v":""},{"$f":"SUM(AU24,AU84,AU105)","v":234978.43600000002},null,null,null,{"$f":"IF(TRIM(AX111)=\"\", \"\", IF(VLOOKUP(AX111,'Footnotes list'!$D$9:$E$58,2,FALSE)=0,\"\",VLOOKUP(AX111,'Footnotes list'!$D$9:$E$58,2,FALSE) ) )","v":""}]
[null,null,"SEC",null,"HAZ_NHAZ","Total",47727.38,null,null,null,{"$f":"IF(TRIM(J112)=\"\", \"\", IF(VLOOKUP(J112,'Footnotes list'!$D$9:$E$58,2,FALSE)=0,\"\",VLOOKUP(J112,'Footnotes list'!$D$9:$E$58,2,FALSE) ) )","v":""},0,null,null,null,{"$f":"IF(TRIM(O112)=\"\", \"\", IF(VLOOKUP(O112,'Footnotes list'!$D$9:$E$58,2,FALSE)=0,\"\",VLOOKUP(O112,'Footnotes list'!$D$9:$E$58,2,FALSE) ) )","v":""},27104.399000000001,null,null,null,{"$f":"IF(TRIM(T112)=\"\", \"\", IF(VLOOKUP(T112,'Footnotes list'!$D$9:$E$58,2,FALSE)=0,\"\",VLOOKUP(T112,'Footnotes list'!$D$9:$E$58,2,FALSE) ) )","v":""},21367.23,null,null,null,{"$f":"IF(TRIM(Y112)=\"\", \"\", IF(VLOOKUP(Y112,'Footnotes list'!$D$9:$E$58,2,FALSE)=0,\"\",VLOOKUP(Y112,'Footnotes list'!$D$9:$E$58,2,FALSE) ) )","v":""},48471.629000000001,null,null,null,{"$f":"IF(TRIM(AD112)=\"\", \"\", IF(VLOOKUP(AD112,'Footnotes list'!$D$9:$E$58,2,FALSE)=0,\"\",VLOOKUP(AD112,'Footnotes list'!$D$9:$E$58,2,FALSE) ) )","v":""},148377.01199999999,null,null,null,{"$f":"IF(TRIM(AI112)=\"\", \"\", IF(VLOOKUP(AI112,'Footnotes list'!$D$9:$E$58,2,FALSE)=0,\"\",VLOOKUP(AI112,'Footnotes list'!$D$9:$E$58,2,FALSE) ) )","v":""},0,null,null,null,{"$f":"IF(TRIM(AN112)=\"\", \"\", IF(VLOOKUP(AN112,'Footnotes list'!$D$9:$E$58,2,FALSE)=0,\"\",VLOOKUP(AN112,'Footnotes list'!$D$9:$E$58,2,FALSE) ) )","v":""},148377.01199999999,null,null,null,{"$f":"IF(TRIM(AS112)=\"\", \"\", IF(VLOOKUP(AS112,'Footnotes list'!$D$9:$E$58,2,FALSE)=0,\"\",VLOOKUP(AS112,'Footnotes list'!$D$9:$E$58,2,FALSE) ) )","v":""},244576.02100000001,null,null,null,{"$f":"IF(TRIM(AX112)=\"\", \"\", IF(VLOOKUP(AX112,'Footnotes list'!$D$9:$E$58,2,FALSE)=0,\"\",VLOOKUP(AX112,'Footnotes list'!$D$9:$E$58,2,FALSE) ) )","v":""}]
[null,"TOT_X_MIN","TOT_X_MIN","Total Waste (excluding mineral waste)","HAZ","Hazardous ",{"$f":"SUM(G8,G11,G14,G17,G20,G23,G26,G29,G32,G35,G38,G41,G44,G47,G50,G53,G56,G59,G62,G65,G68,G71,G74,G77,G80,G83,G86,G95,G104)","v":14798.606},null,null,null,{"$f":"IF(TRIM(J113)=\"\", \"\", IF(VLOOKUP(J113,'Footnotes list'!$D$9:$E$58,2,FALSE)=0,\"\",VLOOKUP(J113,'Footnotes list'!$D$9:$E$58,2,FALSE) ) )","v":""},{"$f":"SUM(L8,L11,L14,L17,L20,L23,L26,L29,L32,L35,L38,L41,L44,L47,L50,L53,L56,L59,L62,L65,L68,L71,L74,L77,L80,L83,L86,L95,L104)","v":0},null,null,null,{"$f":"IF(TRIM(O113)=\"\", \"\", IF(VLOOKUP(O113,'Footnotes list'!$D$9:$E$58,2,FALSE)=0,\"\",VLOOKUP(O113,'Footnotes list'!$D$9:$E$58,2,FALSE) ) )","v":""},{"$f":"SUM(Q8,Q11,Q14,Q17,Q20,Q23,Q26,Q29,Q32,Q35,Q38,Q41,Q44,Q47,Q50,Q53,Q56,Q59,Q62,Q65,Q68,Q71,Q74,Q77,Q80,Q83,Q86,Q95,Q104)","v":74756.749999999985},null,null,null,{"$f":"IF(TRIM(T113)=\"\", \"\", IF(VLOOKUP(T113,'Footnotes list'!$D$9:$E$58,2,FALSE)=0,\"\",VLOOKUP(T113,'Footnotes list'!$D$9:$E$58,2,FALSE) ) )","v":""},{"$f":"SUM(V8,V11,V14,V17,V20,V23,V26,V29,V32,V35,V38,V41,V44,V47,V50,V53,V56,V59,V62,V65,V68,V71,V74,V77,V80,V83,V86,V95,V104)","v":0},null,null,null,{"$f":"IF(TRIM(Y113)=\"\", \"\", IF(VLOOKUP(Y113,'Footnotes list'!$D$9:$E$58,2,FALSE)=0,\"\",VLOOKUP(Y113,'Footnotes list'!$D$9:$E$58,2,FALSE) ) )","v":""},{"$f":"SUM(AA8,AA11,AA14,AA17,AA20,AA23,AA26,AA29,AA32,AA35,AA38,AA41,AA44,AA47,AA50,AA53,AA56,AA59,AA62,AA65,AA68,AA71,AA74,AA77,AA80,AA83,AA86,AA95,AA104)","v":74756.749999999985},null,null,null,{"$f":"IF(TRIM(AD113)=\"\", \"\", IF(VLOOKUP(AD113,'Footnotes list'!$D$9:$E$58,2,FALSE)=0,\"\",VLOOKUP(AD113,'Footnotes list'!$D$9:$E$58,2,FALSE) ) )","v":""},{"$f":"SUM(AF8,AF11,AF14,AF17,AF20,AF23,AF26,AF29,AF32,AF35,AF38,AF41,AF44,AF47,AF50,AF53,AF56,AF59,AF62,AF65,AF68,AF71,AF74,AF77,AF80,AF83,AF86,AF95,AF104)","v":0},null,null,null,{"$f":"IF(TRIM(AI113)=\"\", \"\", IF(VLOOKUP(AI113,'Footnotes list'!$D$9:$E$58,2,FALSE)=0,\"\",VLOOKUP(AI113,'Footnotes list'!$D$9:$E$58,2,FALSE) ) )","v":""},{"$f":"SUM(AK8,AK11,AK14,AK17,AK20,AK23,AK26,AK29,AK32,AK35,AK38,AK41,AK44,AK47,AK50,AK53,AK56,AK59,AK62,AK65,AK68,AK71,AK74,AK77,AK80,AK83,AK86,AK95,AK104)","v":0},null,null,null,{"$f":"IF(TRIM(AN113)=\"\", \"\", IF(VLOOKUP(AN113,'Footnotes list'!$D$9:$E$58,2,FALSE)=0,\"\",VLOOKUP(AN113,'Footnotes list'!$D$9:$E$58,2,FALSE) ) )","v":""},{"$f":"SUM(AP8,AP11,AP14,AP17,AP20,AP23,AP26,AP29,AP32,AP35,AP38,AP41,AP44,AP47,AP50,AP53,AP56,AP59,AP62,AP65,AP68,AP71,AP74,AP77,AP80,AP83,AP86,AP95,AP104)","v":0},null,null,null,{"$f":"IF(TRIM(AS113)=\"\", \"\", IF(VLOOKUP(AS113,'Footnotes list'!$D$9:$E$58,2,FALSE)=0,\"\",VLOOKUP(AS113,'Footnotes list'!$D$9:$E$58,2,FALSE) ) )","v":""},{"$f":"SUM(AU8,AU11,AU14,AU17,AU20,AU23,AU26,AU29,AU32,AU35,AU38,AU41,AU44,AU47,AU50,AU53,AU56,AU59,AU62,AU65,AU68,AU71,AU74,AU77,AU80,AU83,AU86,AU95,AU104)","v":89555.356},null,null,null,{"$f":"IF(TRIM(AX113)=\"\", \"\", IF(VLOOKUP(AX113,'Footnotes list'!$D$9:$E$58,2,FALSE)=0,\"\",VLOOKUP(AX113,'Footnotes list'!$D$9:$E$58,2,FALSE) ) )","v":""}]
[null,null,"TOT_X_MIN",null,"NHAZ","Non-hazardous",{"$f":"SUM(G9,G12,G15,G18,G21,G24,G27,G30,G33,G36,G39,G42,G45,G48,G51,G54,G57,G60,G63,G66,G69,G72,G75,G78,G81,G84,G87,G96,G105)","v":111116.61400000002},null,null,null,{"$f":"IF(TRIM(J114)=\"\", \"\", IF(VLOOKUP(J114,'Footnotes list'!$D$9:$E$58,2,FALSE)=0,\"\",VLOOKUP(J114,'Footnotes list'!$D$9:$E$58,2,FALSE) ) )","v":""},{"$f":"SUM(L9,L12,L15,L18,L21,L24,L27,L30,L33,L36,L39,L42,L45,L48,L51,L54,L57,L60,L63,L66,L69,L72,L75,L78,L81,L84,L87,L96,L105)","v":0},null,null,null,{"$f":"IF(TRIM(O114)=\"\", \"\", IF(VLOOKUP(O114,'Footnotes list'!$D$9:$E$58,2,FALSE)=0,\"\",VLOOKUP(O114,'Footnotes list'!$D$9:$E$58,2,FALSE) ) )","v":""},{"$f":"SUM(Q9,Q12,Q15,Q18,Q21,Q24,Q27,Q30,Q33,Q36,Q39,Q42,Q45,Q48,Q51,Q54,Q57,Q60,Q63,Q66,Q69,Q72,Q75,Q78,Q81,Q84,Q87,Q96,Q105)","v":2531374.4029999999},null,null,null,{"$f":"IF(TRIM(T114)=\"\", \"\", IF(VLOOKUP(T114,'Footnotes list'!$D$9:$E$58,2,FALSE)=0,\"\",VLOOKUP(T114,'Footnotes list'!$D$9:$E$58,2,FALSE) ) )","v":""},{"$f":"SUM(V9,V12,V15,V18,V21,V24,V27,V30,V33,V36,V39,V42,V45,V48,V51,V54,V57,V60,V63,V66,V69,V72,V75,V78,V81,V84,V87,V96,V105)","v":22783.23},null,null,null,{"$f":"IF(TRIM(Y114)=\"\", \"\", IF(VLOOKUP(Y114,'Footnotes list'!$D$9:$E$58,2,FALSE)=0,\"\",VLOOKUP(Y114,'Footnotes list'!$D$9:$E$58,2,FALSE) ) )","v":""},{"$f":"SUM(AA9,AA12,AA15,AA18,AA21,AA24,AA27,AA30,AA33,AA36,AA39,AA42,AA45,AA48,AA51,AA54,AA57,AA60,AA63,AA66,AA69,AA72,AA75,AA78,AA81,AA84,AA87,AA96,AA105)","v":2554157.6329999999},null,null,null,{"$f":"IF(TRIM(AD114)=\"\", \"\", IF(VLOOKUP(AD114,'Footnotes list'!$D$9:$E$58,2,FALSE)=0,\"\",VLOOKUP(AD114,'Footnotes list'!$D$9:$E$58,2,FALSE) ) )","v":""},{"$f":"SUM(AF9,AF12,AF15,AF18,AF21,AF24,AF27,AF30,AF33,AF36,AF39,AF42,AF45,AF48,AF51,AF54,AF57,AF60,AF63,AF66,AF69,AF72,AF75,AF78,AF81,AF84,AF87,AF96,AF105)","v":1112408.2550000001},null,null,null,{"$f":"IF(TRIM(AI114)=\"\", \"\", IF(VLOOKUP(AI114,'Footnotes list'!$D$9:$E$58,2,FALSE)=0,\"\",VLOOKUP(AI114,'Footnotes list'!$D$9:$E$58,2,FALSE) ) )","v":""},{"$f":"SUM(AK9,AK12,AK15,AK18,AK21,AK24,AK27,AK30,AK33,AK36,AK39,AK42,AK45,AK48,AK51,AK54,AK57,AK60,AK63,AK66,AK69,AK72,AK75,AK78,AK81,AK84,AK87,AK96,AK105)","v":3096.9560000000001},null,null,null,{"$f":"IF(TRIM(AN114)=\"\", \"\", IF(VLOOKUP(AN114,'Footnotes list'!$D$9:$E$58,2,FALSE)=0,\"\",VLOOKUP(AN114,'Footnotes list'!$D$9:$E$58,2,FALSE) ) )","v":""},{"$f":"SUM(AP9,AP12,AP15,AP18,AP21,AP24,AP27,AP30,AP33,AP36,AP39,AP42,AP45,AP48,AP51,AP54,AP57,AP60,AP63,AP66,AP69,AP72,AP75,AP78,AP81,AP84,AP87,AP96,AP105)","v":1115505.2110000001},null,null,null,{"$f":"IF(TRIM(AS114)=\"\", \"\", IF(VLOOKUP(AS114,'Footnotes list'!$D$9:$E$58,2,FALSE)=0,\"\",VLOOKUP(AS114,'Footnotes list'!$D$9:$E$58,2,FALSE) ) )","v":""},{"$f":"SUM(AU9,AU12,AU15,AU18,AU21,AU24,AU27,AU30,AU33,AU36,AU39,AU42,AU45,AU48,AU51,AU54,AU57,AU60,AU63,AU66,AU69,AU72,AU75,AU78,AU81,AU84,AU87,AU96,AU105)","v":3780779.4580000006},null,null,null,{"$f":"IF(TRIM(AX114)=\"\", \"\", IF(VLOOKUP(AX114,'Footnotes list'!$D$9:$E$58,2,FALSE)=0,\"\",VLOOKUP(AX114,'Footnotes list'!$D$9:$E$58,2,FALSE) ) )","v":""}]
[null,null,"TOT_X_MIN",null,"HAZ_NHAZ","Total",125915.21999999999,null,null,null,{"$f":"IF(TRIM(J115)=\"\", \"\", IF(VLOOKUP(J115,'Footnotes list'!$D$9:$E$58,2,FALSE)=0,\"\",VLOOKUP(J115,'Footnotes list'!$D$9:$E$58,2,FALSE) ) )","v":""},0,null,null,null,{"$f":"IF(TRIM(O115)=\"\", \"\", IF(VLOOKUP(O115,'Footnotes list'!$D$9:$E$58,2,FALSE)=0,\"\",VLOOKUP(O115,'Footnotes list'!$D$9:$E$58,2,FALSE) ) )","v":""},2606131.1529999995,null,null,null,{"$f":"IF(TRIM(T115)=\"\", \"\", IF(VLOOKUP(T115,'Footnotes list'!$D$9:$E$58,2,FALSE)=0,\"\",VLOOKUP(T115,'Footnotes list'!$D$9:$E$58,2,FALSE) ) )","v":""},22783.23,null,null,null,{"$f":"IF(TRIM(Y115)=\"\", \"\", IF(VLOOKUP(Y115,'Footnotes list'!$D$9:$E$58,2,FALSE)=0,\"\",VLOOKUP(Y115,'Footnotes list'!$D$9:$E$58,2,FALSE) ) )","v":""},2628914.3829999994,null,null,null,{"$f":"IF(TRIM(AD115)=\"\", \"\", IF(VLOOKUP(AD115,'Footnotes list'!$D$9:$E$58,2,FALSE)=0,\"\",VLOOKUP(AD115,'Footnotes list'!$D$9:$E$58,2,FALSE) ) )","v":""},1112408.2550000001,null,null,null,{"$f":"IF(TRIM(AI115)=\"\", \"\", IF(VLOOKUP(AI115,'Footnotes list'!$D$9:$E$58,2,FALSE)=0,\"\",VLOOKUP(AI115,'Footnotes list'!$D$9:$E$58,2,FALSE) ) )","v":""},3096.9560000000001,null,null,null,{"$f":"IF(TRIM(AN115)=\"\", \"\", IF(VLOOKUP(AN115,'Footnotes list'!$D$9:$E$58,2,FALSE)=0,\"\",VLOOKUP(AN115,'Footnotes list'!$D$9:$E$58,2,FALSE) ) )","v":""},1115505.2110000001,null,null,null,{"$f":"IF(TRIM(AS115)=\"\", \"\", IF(VLOOKUP(AS115,'Footnotes list'!$D$9:$E$58,2,FALSE)=0,\"\",VLOOKUP(AS115,'Footnotes list'!$D$9:$E$58,2,FALSE) ) )","v":""},3870334.8139999998,null,null,null,{"$f":"IF(TRIM(AX115)=\"\", \"\", IF(VLOOKUP(AX115,'Footnotes list'!$D$9:$E$58,2,FALSE)=0,\"\",VLOOKUP(AX115,'Footnotes list'!$D$9:$E$58,2,FALSE) ) )","v":""}]
[null,"TOTAL","TOTAL","Total Waste ","HAZ","Hazardous ",{"$f":"SUM(G8,G11,G14,G17,G20,G23,G26,G29,G32,G35,G38,G41,G44,G47,G50,G53,G56,G59,G62,G65,G68,G71,G74,G77,G80,G83,G86,G89,G92,G95,G98,G101,G104)","v":19354.436000000002},null,null,null,{"$f":"IF(TRIM(J116)=\"\", \"\", IF(VLOOKUP(J116,'Footnotes list'!$D$9:$E$58,2,FALSE)=0,\"\",VLOOKUP(J116,'Footnotes list'!$D$9:$E$58,2,FALSE) ) )","v":""},{"$f":"SUM(L8,L11,L14,L17,L20,L23,L26,L29,L32,L35,L38,L41,L44,L47,L50,L53,L56,L59,L62,L65,L68,L71,L74,L77,L80,L83,L86,L89,L92,L95,L98,L101,L104)","v":0},null,null,null,{"$f":"IF(TRIM(O116)=\"\", \"\", IF(VLOOKUP(O116,'Footnotes list'!$D$9:$E$58,2,FALSE)=0,\"\",VLOOKUP(O116,'Footnotes list'!$D$9:$E$58,2,FALSE) ) )","v":""},{"$f":"SUM(Q8,Q11,Q14,Q17,Q20,Q23,Q26,Q29,Q32,Q35,Q38,Q41,Q44,Q47,Q50,Q53,Q56,Q59,Q62,Q65,Q68,Q71,Q74,Q77,Q80,Q83,Q86,Q89,Q92,Q95,Q98,Q101,Q104)","v":74905.14999999998},null,null,null,{"$f":"IF(TRIM(T116)=\"\", \"\", IF(VLOOKUP(T116,'Footnotes list'!$D$9:$E$58,2,FALSE)=0,\"\",VLOOKUP(T116,'Footnotes list'!$D$9:$E$58,2,FALSE) ) )","v":""},{"$f":"SUM(V8,V11,V14,V17,V20,V23,V26,V29,V32,V35,V38,V41,V44,V47,V50,V53,V56,V59,V62,V65,V68,V71,V74,V77,V80,V83,V86,V89,V92,V95,V98,V101,V104)","v":0},null,null,null,{"$f":"IF(TRIM(Y116)=\"\", \"\", IF(VLOOKUP(Y116,'Footnotes list'!$D$9:$E$58,2,FALSE)=0,\"\",VLOOKUP(Y116,'Footnotes list'!$D$9:$E$58,2,FALSE) ) )","v":""},{"$f":"SUM(AA8,AA11,AA14,AA17,AA20,AA23,AA26,AA29,AA32,AA35,AA38,AA41,AA44,AA47,AA50,AA53,AA56,AA59,AA62,AA65,AA68,AA71,AA74,AA77,AA80,AA83,AA86,AA89,AA92,AA95,AA98,AA101,AA104)","v":74905.14999999998},null,null,null,{"$f":"IF(TRIM(AD116)=\"\", \"\", IF(VLOOKUP(AD116,'Footnotes list'!$D$9:$E$58,2,FALSE)=0,\"\",VLOOKUP(AD116,'Footnotes list'!$D$9:$E$58,2,FALSE) ) )","v":""},{"$f":"SUM(AF8,AF11,AF14,AF17,AF20,AF23,AF26,AF29,AF32,AF35,AF38,AF41,AF44,AF47,AF50,AF53,AF56,AF59,AF62,AF65,AF68,AF71,AF74,AF77,AF80,AF83,AF86,AF89,AF92,AF95,AF98,AF101,AF104)","v":3288.0419999999999},null,null,null,{"$f":"IF(TRIM(AI116)=\"\", \"\", IF(VLOOKUP(AI116,'Footnotes list'!$D$9:$E$58,2,FALSE)=0,\"\",VLOOKUP(AI116,'Footnotes list'!$D$9:$E$58,2,FALSE) ) )","v":""},{"$f":"SUM(AK8,AK11,AK14,AK17,AK20,AK23,AK26,AK29,AK32,AK35,AK38,AK41,AK44,AK47,AK50,AK53,AK56,AK59,AK62,AK65,AK68,AK71,AK74,AK77,AK80,AK83,AK86,AK89,AK92,AK95,AK98,AK101,AK104)","v":0},null,null,null,{"$f":"IF(TRIM(AN116)=\"\", \"\", IF(VLOOKUP(AN116,'Footnotes list'!$D$9:$E$58,2,FALSE)=0,\"\",VLOOKUP(AN116,'Footnotes list'!$D$9:$E$58,2,FALSE) ) )","v":""},{"$f":"SUM(AP8,AP11,AP14,AP17,AP20,AP23,AP26,AP29,AP32,AP35,AP38,AP41,AP44,AP47,AP50,AP53,AP56,AP59,AP62,AP65,AP68,AP71,AP74,AP77,AP80,AP83,AP86,AP89,AP92,AP95,AP98,AP101,AP104)","v":3288.0419999999999},null,null,null,{"$f":"IF(TRIM(AS116)=\"\", \"\", IF(VLOOKUP(AS116,'Footnotes list'!$D$9:$E$58,2,FALSE)=0,\"\",VLOOKUP(AS116,'Footnotes list'!$D$9:$E$58,2,FALSE) ) )","v":""},{"$f":"SUM(AU8,AU11,AU14,AU17,AU20,AU23,AU26,AU29,AU32,AU35,AU38,AU41,AU44,AU47,AU50,AU53,AU56,AU59,AU62,AU65,AU68,AU71,AU74,AU77,AU80,AU83,AU86,AU89,AU92,AU95,AU98,AU101,AU104)","v":97547.627999999997},null,null,null,{"$f":"IF(TRIM(AX116)=\"\", \"\", IF(VLOOKUP(AX116,'Footnotes list'!$D$9:$E$58,2,FALSE)=0,\"\",VLOOKUP(AX116,'Footnotes list'!$D$9:$E$58,2,FALSE) ) )","v":""}]
[null,null,"TOTAL",null,"NHAZ","Non-hazardous",{"$f":"SUM(G9,G12,G15,G18,G21,G24,G27,G30,G33,G36,G39,G42,G45,G48,G51,G54,G57,G60,G63,G66,G69,G72,G75,G78,G81,G84,G87,G90,G93,G96,G99,G102,G105)","v":111544.21400000002},null,null,null,{"$f":"IF(TRIM(J117)=\"\", \"\", IF(VLOOKUP(J117,'Footnotes list'!$D$9:$E$58,2,FALSE)=0,\"\",VLOOKUP(J117,'Footnotes list'!$D$9:$E$58,2,FALSE) ) )","v":""},{"$f":"SUM(L9,L12,L15,L18,L21,L24,L27,L30,L33,L36,L39,L42,L45,L48,L51,L54,L57,L60,L63,L66,L69,L72,L75,L78,L81,L84,L87,L90,L93,L96,L99,L102,L105)","v":0},null,null,null,{"$f":"IF(TRIM(O117)=\"\", \"\", IF(VLOOKUP(O117,'Footnotes list'!$D$9:$E$58,2,FALSE)=0,\"\",VLOOKUP(O117,'Footnotes list'!$D$9:$E$58,2,FALSE) ) )","v":""},{"$f":"SUM(Q9,Q12,Q15,Q18,Q21,Q24,Q27,Q30,Q33,Q36,Q39,Q42,Q45,Q48,Q51,Q54,Q57,Q60,Q63,Q66,Q69,Q72,Q75,Q78,Q81,Q84,Q87,Q90,Q93,Q96,Q99,Q102,Q105)","v":3114752.7339999997},null,null,null,{"$f":"IF(TRIM(T117)=\"\", \"\", IF(VLOOKUP(T117,'Footnotes list'!$D$9:$E$58,2,FALSE)=0,\"\",VLOOKUP(T117,'Footnotes list'!$D$9:$E$58,2,FALSE) ) )","v":""},{"$f":"SUM(V9,V12,V15,V18,V21,V24,V27,V30,V33,V36,V39,V42,V45,V48,V51,V54,V57,V60,V63,V66,V69,V72,V75,V78,V81,V84,V87,V90,V93,V96,V99,V102,V105)","v":76265.263999999996},null,null,null,{"$f":"IF(TRIM(Y117)=\"\", \"\", IF(VLOOKUP(Y117,'Footnotes list'!$D$9:$E$58,2,FALSE)=0,\"\",VLOOKUP(Y117,'Footnotes list'!$D$9:$E$58,2,FALSE) ) )","v":""},{"$f":"SUM(AA9,AA12,AA15,AA18,AA21,AA24,AA27,AA30,AA33,AA36,AA39,AA42,AA45,AA48,AA51,AA54,AA57,AA60,AA63,AA66,AA69,AA72,AA75,AA78,AA81,AA84,AA87,AA90,AA93,AA96,AA99,AA102,AA105)","v":3191017.9980000001},null,null,null,{"$f":"IF(TRIM(AD117)=\"\", \"\", IF(VLOOKUP(AD117,'Footnotes list'!$D$9:$E$58,2,FALSE)=0,\"\",VLOOKUP(AD117,'Footnotes list'!$D$9:$E$58,2,FALSE) ) )","v":""},{"$f":"SUM(AF9,AF12,AF15,AF18,AF21,AF24,AF27,AF30,AF33,AF36,AF39,AF42,AF45,AF48,AF51,AF54,AF57,AF60,AF63,AF66,AF69,AF72,AF75,AF78,AF81,AF84,AF87,AF90,AF93,AF96,AF99,AF102,AF105)","v":1664452.915},null,null,null,{"$f":"IF(TRIM(AI117)=\"\", \"\", IF(VLOOKUP(AI117,'Footnotes list'!$D$9:$E$58,2,FALSE)=0,\"\",VLOOKUP(AI117,'Footnotes list'!$D$9:$E$58,2,FALSE) ) )","v":""},{"$f":"SUM(AK9,AK12,AK15,AK18,AK21,AK24,AK27,AK30,AK33,AK36,AK39,AK42,AK45,AK48,AK51,AK54,AK57,AK60,AK63,AK66,AK69,AK72,AK75,AK78,AK81,AK84,AK87,AK90,AK93,AK96,AK99,AK102,AK105)","v":3096.9560000000001},null,null,null,{"$f":"IF(TRIM(AN117)=\"\", \"\", IF(VLOOKUP(AN117,'Footnotes list'!$D$9:$E$58,2,FALSE)=0,\"\",VLOOKUP(AN117,'Footnotes list'!$D$9:$E$58,2,FALSE) ) )","v":""},{"$f":"SUM(AP9,AP12,AP15,AP18,AP21,AP24,AP27,AP30,AP33,AP36,AP39,AP42,AP45,AP48,AP51,AP54,AP57,AP60,AP63,AP66,AP69,AP72,AP75,AP78,AP81,AP84,AP87,AP90,AP93,AP96,AP99,AP102,AP105)","v":1667549.871},null,null,null,{"$f":"IF(TRIM(AS117)=\"\", \"\", IF(VLOOKUP(AS117,'Footnotes list'!$D$9:$E$58,2,FALSE)=0,\"\",VLOOKUP(AS117,'Footnotes list'!$D$9:$E$58,2,FALSE) ) )","v":""},{"$f":"SUM(AU9,AU12,AU15,AU18,AU21,AU24,AU27,AU30,AU33,AU36,AU39,AU42,AU45,AU48,AU51,AU54,AU57,AU60,AU63,AU66,AU69,AU72,AU75,AU78,AU81,AU84,AU87,AU90,AU93,AU96,AU99,AU102,AU105)","v":4970112.0830000006},null,null,null,{"$f":"IF(TRIM(AX117)=\"\", \"\", IF(VLOOKUP(AX117,'Footnotes list'!$D$9:$E$58,2,FALSE)=0,\"\",VLOOKUP(AX117,'Footnotes list'!$D$9:$E$58,2,FALSE) ) )","v":""}]
[null,null,"TOTAL",null,"HAZ_NHAZ","Total",130898.64999999998,null,null,null,{"$f":"IF(TRIM(J118)=\"\", \"\", IF(VLOOKUP(J118,'Footnotes list'!$D$9:$E$58,2,FALSE)=0,\"\",VLOOKUP(J118,'Footnotes list'!$D$9:$E$58,2,FALSE) ) )","v":""},0,null,null,null,{"$f":"IF(TRIM(O118)=\"\", \"\", IF(VLOOKUP(O118,'Footnotes list'!$D$9:$E$58,2,FALSE)=0,\"\",VLOOKUP(O118,'Footnotes list'!$D$9:$E$58,2,FALSE) ) )","v":""},3189657.8839999996,null,null,null,{"$f":"IF(TRIM(T118)=\"\", \"\", IF(VLOOKUP(T118,'Footnotes list'!$D$9:$E$58,2,FALSE)=0,\"\",VLOOKUP(T118,'Footnotes list'!$D$9:$E$58,2,FALSE) ) )","v":""},76265.263999999996,null,null,null,{"$f":"IF(TRIM(Y118)=\"\", \"\", IF(VLOOKUP(Y118,'Footnotes list'!$D$9:$E$58,2,FALSE)=0,\"\",VLOOKUP(Y118,'Footnotes list'!$D$9:$E$58,2,FALSE) ) )","v":""},3265923.1479999996,null,null,null,{"$f":"IF(TRIM(AD118)=\"\", \"\", IF(VLOOKUP(AD118,'Footnotes list'!$D$9:$E$58,2,FALSE)=0,\"\",VLOOKUP(AD118,'Footnotes list'!$D$9:$E$58,2,FALSE) ) )","v":""},1667740.9569999999,null,null,null,{"$f":"IF(TRIM(AI118)=\"\", \"\", IF(VLOOKUP(AI118,'Footnotes list'!$D$9:$E$58,2,FALSE)=0,\"\",VLOOKUP(AI118,'Footnotes list'!$D$9:$E$58,2,FALSE) ) )","v":""},3096.9560000000001,null,null,null,{"$f":"IF(TRIM(AN118)=\"\", \"\", IF(VLOOKUP(AN118,'Footnotes list'!$D$9:$E$58,2,FALSE)=0,\"\",VLOOKUP(AN118,'Footnotes list'!$D$9:$E$58,2,FALSE) ) )","v":""},1670837.9129999999,null,null,null,{"$f":"IF(TRIM(AS118)=\"\", \"\", IF(VLOOKUP(AS118,'Footnotes list'!$D$9:$E$58,2,FALSE)=0,\"\",VLOOKUP(AS118,'Footnotes list'!$D$9:$E$58,2,FALSE) ) )","v":""},5067659.7110000001,null,null,null,{"$f":"IF(TRIM(AX118)=\"\", \"\", IF(VLOOKUP(AX118,'Footnotes list'!$D$9:$E$58,2,FALSE)=0,\"\",VLOOKUP(AX118,'Footnotes list'!$D$9:$E$58,2,FALSE) ) )","v":""}]
[]
[null,"Notes:"]
[]
[null,"Cell shading:"]
[null,"White: Data provision is mandatory."]
[null,"Light grey: Automatic calculation. Formula can exceptionally be changed by a value"]
[null,"Light orange: Footnotes (only to be filled-in when relevant)"]
[null,"Black: Not applicable"]
[]
[]
[null,"Valid standard footnotes:"]
[null,"     B -  Break in time series"]
[null,"     E -  Estimate"]
[null,"     P -  Provisional"]
[]
[null,"Valid confidentiality footnotes:"]
[null,"     C -  Confidential"]
[null,"     D -  Secondary confidentiality set by the sender, not for publication"]

{"sheet":"ErrorLog","index":8,"n_rows":1,"n_cols":7,"rows_kept":1,"cut":false,"hidden":false,"merged":[]}
["Link to Error","Validation Rule","Cell","Sheet","Description","Severity","Former Color"]

{"sheet":"Table_1 (COPY-PASTING)","index":9,"n_rows":136,"n_cols":51,"rows_kept":136,"cut":false,"hidden":false,"merged":[[4,26,4,30],[4,31,4,35],[10,1,12,1],[10,3,12,3],[4,36,4,40],[7,1,9,1],[7,3,9,3],[4,41,4,45],[4,46,4,50],[6,1,6,5],[6,9,6,10],[6,14,6,15],[6,19,6,20],[6,24,6,25],[6,29,6,30],[6,34,6,35],[4,6,4,10],[4,11,4,15],[4,16,4,20],[4,21,4,25],[6,39,6,40],[6,44,6,45],[6,49,6,50],[13,1,15,1],[13,3,15,3],[16,1,18,1],[16,3,18,3],[19,1,21,1],[19,3,21,3],[22,1,24,1],[22,3,24,3],[25,1,27,1],[25,3,27,3],[28,1,30,1],[28,3,30,3],[31,1,33,1],[31,3,33,3],[34,1,36,1],[34,3,36,3],[37,1,39,1],[37,3,39,3],[40,1,42,1],[40,3,42,3],[43,1,45,1],[43,3,45,3],[46,1,48,1],[46,3,48,3],[49,1,51,1],[49,3,51,3],[52,1,54,1],[52,3,54,3],[55,1,57,1],[55,3,57,3],[58,1,60,1],[58,3,60,3],[61,1,63,1],[61,3,63,3],[64,1,66,1],[64,3,66,3],[67,1,69,1],[67,3,69,3],[70,1,72,1],[70,3,72,3],[73,1,75,1],[73,3,75,3],[76,1,78,1],[76,3,78,3],[79,1,81,1],[79,3,81,3],[82,1,84,1],[82,3,84,3],[100,3,102,3],[85,1,87,1],[85,3,87,3],[88,1,90,1],[88,3,90,3],[91,1,93,1],[91,3,93,3],[112,1,114,1],[112,3,114,3],[115,1,117,1],[115,3,117,3],[1,6,3,50],[103,1,105,1],[103,3,105,3],[106,1,108,1],[106,3,108,3],[109,1,111,1],[109,3,111,3],[94,1,96,1],[94,3,96,3],[97,1,99,1],[97,3,99,3],[100,1,102,1]]}
[]
[null,null,null,null,null,null,"NOT VALID FOR REPORTING … NOT VALID FOR REPORTING ...  NOT VALID FOR REPORTING … NOT VALID FOR REPORTING … NOT VALID FOR REPORTING "]
[null,"Country:",null,{"$f":"IF('GETTING STARTED'!E9=\"\",\"\",'GETTING STARTED'!E9)","v":"Croatia"},null,{"$f":"IF('GETTING STARTED'!G9=\"\",\"\",'GETTING STARTED'!G9)","v":"HR"}]
[null,"Reference year:",null,{"$f":"IF('GETTING STARTED'!E10=\"\",\"\",'GETTING STARTED'!E10)","v":2022}]
[null,"Unit: Tonnes",null,"T",null,null,"RCV_E",null,null,null,null,"DSP_I",null,null,null,null,"RCV_R",null,null,null,null,"RCV_B",null,null,null,null,"RCV_R_B",null,null,null,null,"DSP_L",null,null,null,null,"DSP_OTH",null,null,null,null,"DSP_L_OTH",null,null,null,null,"TRT"]
[null,null,null,null,null,null,"RCV_E",null,null,null,null,"DSP_I",null,null,null,null,"RCV_R",null,null,null,null,"RCV_B",null,null,null,null,"RCV_R_B",null,null,null,null,"DSP_L",null,null,null,null,"DSP_OTH",null,null,null,null,"DSP_L_OTH",null,null,null,null,"TRT"]
[null,"WASTE TREATMENT by waste category\n (EWC-STAT)\nand treatment category",null,null,null,null,"Recovery -\nenergy recovery\n(R1)","Standard footnote","Confidentiality footnote","Explanatory footnote",null,"Disposal - incineration\n(D10)","Standard footnote","Confidentiality footnote","Explanatory footnote",null,"Recovery\n -\n recycling","Standard footnote","Confidentiality footnote","Explanatory footnote",null,"Recovery\n -\n backfilling","Standard footnote","Confidentiality footnote","Explanatory footnote",null,"Recovery\n -\n recycling and backfilling","Standard footnote","Confidentiality footnote","Explanatory footnote",null,"Disposal - landfill\n(D1, D5, D12)","Standard footnote","Confidentiality footnote","Explanatory footnote",null,"Disposal - other\n(D2-D4, D6-D7)","Standard footnote","Confidentiality footnote","Explanatory footnote",null,"Disposal - landfill and other\n(D1-D7, D12)","Standard footnote","Confidentiality footnote","Explanatory footnote",null,"Waste treatment","Standard footnote","Confidentiality footnote","Explanatory footnote"]
[null,"W011","W011","Spent solvents ","HAZ","Hazardous ",null,null,null,null,{"$f":"IF(TRIM(J8)=\"\", \"\", IF(VLOOKUP(J8,'Footnotes list'!$D$9:$E$58,2,FALSE)=0,\"\",VLOOKUP(J8,'Footnotes list'!$D$9:$E$58,2,FALSE) ) )","v":""},null,null,null,null,{"$f":"IF(TRIM(O8)=\"\", \"\", IF(VLOOKUP(O8,'Footnotes list'!$D$9:$E$58,2,FALSE)=0,\"\",VLOOKUP(O8,'Footnotes list'!$D$9:$E$58,2,FALSE) ) )","v":""},null,null,null,null,{"$f":"IF(TRIM(T8)=\"\", \"\", IF(VLOOKUP(T8,'Footnotes list'!$D$9:$E$58,2,FALSE)=0,\"\",VLOOKUP(T8,'Footnotes list'!$D$9:$E$58,2,FALSE) ) )","v":""},null,null,null,null,{"$f":"IF(TRIM(Y8)=\"\", \"\", IF(VLOOKUP(Y8,'Footnotes list'!$D$9:$E$58,2,FALSE)=0,\"\",VLOOKUP(Y8,'Footnotes list'!$D$9:$E$58,2,FALSE) ) )","v":""},{"$f":"IF(AND(TRIM(Q8)=\"\",TRIM(V8)=\"\"),\"\",Q8+V8)","v":""},null,null,null,{"$f":"IF(TRIM(AD8)=\"\", \"\", IF(VLOOKUP(AD8,'Footnotes list'!$D$9:$E$58,2,FALSE)=0,\"\",VLOOKUP(AD8,'Footnotes list'!$D$9:$E$58,2,FALSE) ) )","v":""},null,null,null,null,{"$f":"IF(TRIM(AI8)=\"\", \"\", IF(VLOOKUP(AI8,'Footnotes list'!$D$9:$E$58,2,FALSE)=0,\"\",VLOOKUP(AI8,'Footnotes list'!$D$9:$E$58,2,FALSE) ) )","v":""},null,null,null,null,{"$f":"IF(TRIM(AN8)=\"\", \"\", IF(VLOOKUP(AN8,'Footnotes list'!$D$9:$E$58,2,FALSE)=0,\"\",VLOOKUP(AN8,'Footnotes list'!$D$9:$E$58,2,FALSE) ) )","v":""},{"$f":"IF(AND(TRIM(AF8)=\"\",TRIM(AK8)=\"\"),\"\",AF8+AK8)","v":""},null,null,null,{"$f":"IF(TRIM(AS8)=\"\", \"\", IF(VLOOKUP(AS8,'Footnotes list'!$D$9:$E$58,2,FALSE)=0,\"\",VLOOKUP(AS8,'Footnotes list'!$D$9:$E$58,2,FALSE) ) )","v":""},{"$f":"IF(AND(TRIM(G8)=\"\",TRIM(L8)=\"\",TRIM(AA8)=\"\",TRIM(AP8)=\"\"),\"\",SUM(G8,L8,AA8,AP8))","v":""},null,null,null,{"$f":"IF(TRIM(AX8)=\"\", \"\", IF(VLOOKUP(AX8,'Footnotes list'!$D$9:$E$58,2,FALSE)=0,\"\",VLOOKUP(AX8,'Footnotes list'!$D$9:$E$58,2,FALSE) ) )","v":""}]
[null,null,null,null,null,"Not applicable"]
[null,null,"W011",null,"HAZ_NHAZ","Total",{"$f":"IF(AND(TRIM(G8)=\"\",TRIM(G9)=\"\"),\"\",G8+G9)","v":""},null,null,null,{"$f":"IF(TRIM(J10)=\"\", \"\", IF(VLOOKUP(J10,'Footnotes list'!$D$9:$E$58,2,FALSE)=0,\"\",VLOOKUP(J10,'Footnotes list'!$D$9:$E$58,2,FALSE) ) )","v":""},{"$f":"IF(AND(TRIM(L8)=\"\",TRIM(L9)=\"\"),\"\",L8+L9)","v":""},null,null,null,{"$f":"IF(TRIM(O10)=\"\", \"\", IF(VLOOKUP(O10,'Footnotes list'!$D$9:$E$58,2,FALSE)=0,\"\",VLOOKUP(O10,'Footnotes list'!$D$9:$E$58,2,FALSE) ) )","v":""},{"$f":"IF(AND(TRIM(Q8)=\"\",TRIM(Q9)=\"\"),\"\",Q8+Q9)","v":""},null,null,null,{"$f":"IF(TRIM(T10)=\"\", \"\", IF(VLOOKUP(T10,'Footnotes list'!$D$9:$E$58,2,FALSE)=0,\"\",VLOOKUP(T10,'Footnotes list'!$D$9:$E$58,2,FALSE) ) )","v":""},{"$f":"IF(AND(TRIM(V8)=\"\",TRIM(V9)=\"\"),\"\",V8+V9)","v":""},null,null,null,{"$f":"IF(TRIM(Y10)=\"\", \"\", IF(VLOOKUP(Y10,'Footnotes list'!$D$9:$E$58,2,FALSE)=0,\"\",VLOOKUP(Y10,'Footnotes list'!$D$9:$E$58,2,FALSE) ) )","v":""},{"$f":"IF(AND(TRIM(AA8)=\"\", TRIM(AA9)=\"\"), \"\", SUM(AA8,AA9))","v":""},null,null,null,{"$f":"IF(TRIM(AD10)=\"\", \"\", IF(VLOOKUP(AD10,'Footnotes list'!$D$9:$E$58,2,FALSE)=0,\"\",VLOOKUP(AD10,'Footnotes list'!$D$9:$E$58,2,FALSE) ) )","v":""},{"$f":"IF(AND(TRIM(AF8)=\"\",TRIM(AF9)=\"\"),\"\",AF8+AF9)","v":""},null,null,null,{"$f":"IF(TRIM(AI10)=\"\", \"\", IF(VLOOKUP(AI10,'Footnotes list'!$D$9:$E$58,2,FALSE)=0,\"\",VLOOKUP(AI10,'Footnotes list'!$D$9:$E$58,2,FALSE) ) )","v":""},{"$f":"IF(AND(TRIM(AK8)=\"\",TRIM(AK9)=\"\"),\"\",AK8+AK9)","v":""},null,null,null,{"$f":"IF(TRIM(AN10)=\"\", \"\", IF(VLOOKUP(AN10,'Footnotes list'!$D$9:$E$58,2,FALSE)=0,\"\",VLOOKUP(AN10,'Footnotes list'!$D$9:$E$58,2,FALSE) ) )","v":""},{"$f":"IF(AND(TRIM(AP8)=\"\", TRIM(AP9)=\"\"), \"\", SUM(AP8,AP9))","v":""},null,null,null,{"$f":"IF(TRIM(AS10)=\"\", \"\", IF(VLOOKUP(AS10,'Footnotes list'!$D$9:$E$58,2,FALSE)=0,\"\",VLOOKUP(AS10,'Footnotes list'!$D$9:$E$58,2,FALSE) ) )","v":""},{"$f":"IF(AND(TRIM(AU8)=\"\", TRIM(AU9)=\"\"), \"\", SUM(AU8,AU9) )","v":""},null,null,null,{"$f":"IF(TRIM(AX10)=\"\", \"\", IF(VLOOKUP(AX10,'Footnotes list'!$D$9:$E$58,2,FALSE)=0,\"\",VLOOKUP(AX10,'Footnotes list'!$D$9:$E$58,2,FALSE) ) )","v":""}]
[null,"W012","W012","Acid, alkaline or saline wastes ","HAZ","Hazardous ",null,null,null,null,{"$f":"IF(TRIM(J11)=\"\", \"\", IF(VLOOKUP(J11,'Footnotes list'!$D$9:$E$58,2,FALSE)=0,\"\",VLOOKUP(J11,'Footnotes list'!$D$9:$E$58,2,FALSE) ) )","v":""},null,null,null,null,{"$f":"IF(TRIM(O11)=\"\", \"\", IF(VLOOKUP(O11,'Footnotes list'!$D$9:$E$58,2,FALSE)=0,\"\",VLOOKUP(O11,'Footnotes list'!$D$9:$E$58,2,FALSE) ) )","v":""},null,null,null,null,{"$f":"IF(TRIM(T11)=\"\", \"\", IF(VLOOKUP(T11,'Footnotes list'!$D$9:$E$58,2,FALSE)=0,\"\",VLOOKUP(T11,'Footnotes list'!$D$9:$E$58,2,FALSE) ) )","v":""},null,null,null,null,{"$f":"IF(TRIM(Y11)=\"\", \"\", IF(VLOOKUP(Y11,'Footnotes list'!$D$9:$E$58,2,FALSE)=0,\"\",VLOOKUP(Y11,'Footnotes list'!$D$9:$E$58,2,FALSE) ) )","v":""},{"$f":"IF(AND(TRIM(Q11)=\"\",TRIM(V11)=\"\"),\"\",Q11+V11)","v":""},null,null,null,{"$f":"IF(TRIM(AD11)=\"\", \"\", IF(VLOOKUP(AD11,'Footnotes list'!$D$9:$E$58,2,FALSE)=0,\"\",VLOOKUP(AD11,'Footnotes list'!$D$9:$E$58,2,FALSE) ) )","v":""},null,null,null,null,{"$f":"IF(TRIM(AI11)=\"\", \"\", IF(VLOOKUP(AI11,'Footnotes list'!$D$9:$E$58,2,FALSE)=0,\"\",VLOOKUP(AI11,'Footnotes list'!$D$9:$E$58,2,FALSE) ) )","v":""},null,null,null,null,{"$f":"IF(TRIM(AN11)=\"\", \"\", IF(VLOOKUP(AN11,'Footnotes list'!$D$9:$E$58,2,FALSE)=0,\"\",VLOOKUP(AN11,'Footnotes list'!$D$9:$E$58,2,FALSE) ) )","v":""},{"$f":"IF(AND(TRIM(AF11)=\"\",TRIM(AK11)=\"\"),\"\",AF11+AK11)","v":""},null,null,null,{"$f":"IF(TRIM(AS11)=\"\", \"\", IF(VLOOKUP(AS11,'Footnotes list'!$D$9:$E$58,2,FALSE)=0,\"\",VLOOKUP(AS11,'Footnotes list'!$D$9:$E$58,2,FALSE) ) )","v":""},{"$f":"IF(AND(TRIM(G11)=\"\",TRIM(L11)=\"\",TRIM(AA11)=\"\",TRIM(AP11)=\"\"),\"\",SUM(G11,L11,AA11,AP11))","v":""},null,null,null,{"$f":"IF(TRIM(AX11)=\"\", \"\", IF(VLOOKUP(AX11,'Footnotes list'!$D$9:$E$58,2,FALSE)=0,\"\",VLOOKUP(AX11,'Footnotes list'!$D$9:$E$58,2,FALSE) ) )","v":""}]
[null,null,"W012",null,"NHAZ","Non-hazardous",null,null,null,null,{"$f":"IF(TRIM(J12)=\"\", \"\", IF(VLOOKUP(J12,'Footnotes list'!$D$9:$E$58,2,FALSE)=0,\"\",VLOOKUP(J12,'Footnotes list'!$D$9:$E$58,2,FALSE) ) )","v":""},null,null,null,null,{"$f":"IF(TRIM(O12)=\"\", \"\", IF(VLOOKUP(O12,'Footnotes list'!$D$9:$E$58,2,FALSE)=0,\"\",VLOOKUP(O12,'Footnotes list'!$D$9:$E$58,2,FALSE) ) )","v":""},null,null,null,null,{"$f":"IF(TRIM(T12)=\"\", \"\", IF(VLOOKUP(T12,'Footnotes list'!$D$9:$E$58,2,FALSE)=0,\"\",VLOOKUP(T12,'Footnotes list'!$D$9:$E$58,2,FALSE) ) )","v":""},null,null,null,null,{"$f":"IF(TRIM(Y12)=\"\", \"\", IF(VLOOKUP(Y12,'Footnotes list'!$D$9:$E$58,2,FALSE)=0,\"\",VLOOKUP(Y12,'Footnotes list'!$D$9:$E$58,2,FALSE) ) )","v":""},{"$f":"IF(AND(TRIM(Q12)=\"\",TRIM(V12)=\"\"),\"\",Q12+V12)","v":""},null,null,null,{"$f":"IF(TRIM(AD12)=\"\", \"\", IF(VLOOKUP(AD12,'Footnotes list'!$D$9:$E$58,2,FALSE)=0,\"\",VLOOKUP(AD12,'Footnotes list'!$D$9:$E$58,2,FALSE) ) )","v":""},null,null,null,null,{"$f":"IF(TRIM(AI12)=\"\", \"\", IF(VLOOKUP(AI12,'Footnotes list'!$D$9:$E$58,2,FALSE)=0,\"\",VLOOKUP(AI12,'Footnotes list'!$D$9:$E$58,2,FALSE) ) )","v":""},null,null,null,null,{"$f":"IF(TRIM(AN12)=\"\", \"\", IF(VLOOKUP(AN12,'Footnotes list'!$D$9:$E$58,2,FALSE)=0,\"\",VLOOKUP(AN12,'Footnotes list'!$D$9:$E$58,2,FALSE) ) )","v":""},{"$f":"IF(AND(TRIM(AF12)=\"\",TRIM(AK12)=\"\"),\"\",AF12+AK12)","v":""},null,null,null,{"$f":"IF(TRIM(AS12)=\"\", \"\", IF(VLOOKUP(AS12,'Footnotes list'!$D$9:$E$58,2,FALSE)=0,\"\",VLOOKUP(AS12,'Footnotes list'!$D$9:$E$58,2,FALSE) ) )","v":""},{"$f":"IF(AND(TRIM(G12)=\"\",TRIM(L12)=\"\",TRIM(AA12)=\"\",TRIM(AP12)=\"\"),\"\",SUM(G12,L12,AA12,AP12))","v":""},null,null,null,{"$f":"IF(TRIM(AX12)=\"\", \"\", IF(VLOOKUP(AX12,'Footnotes list'!$D$9:$E$58,2,FALSE)=0,\"\",VLOOKUP(AX12,'Footnotes list'!$D$9:$E$58,2,FALSE) ) )","v":""}]
[null,null,"W012",null,"HAZ_NHAZ","Total",{"$f":"IF(AND(TRIM(G11)=\"\",TRIM(G12)=\"\"),\"\",G11+G12)","v":""},null,null,null,{"$f":"IF(TRIM(J13)=\"\", \"\", IF(VLOOKUP(J13,'Footnotes list'!$D$9:$E$58,2,FALSE)=0,\"\",VLOOKUP(J13,'Footnotes list'!$D$9:$E$58,2,FALSE) ) )","v":""},{"$f":"IF(AND(TRIM(L11)=\"\",TRIM(L12)=\"\"),\"\",L11+L12)","v":""},null,null,null,{"$f":"IF(TRIM(O13)=\"\", \"\", IF(VLOOKUP(O13,'Footnotes list'!$D$9:$E$58,2,FALSE)=0,\"\",VLOOKUP(O13,'Footnotes list'!$D$9:$E$58,2,FALSE) ) )","v":""},{"$f":"IF(AND(TRIM(Q11)=\"\",TRIM(Q12)=\"\"),\"\",Q11+Q12)","v":""},null,null,null,{"$f":"IF(TRIM(T13)=\"\", \"\", IF(VLOOKUP(T13,'Footnotes list'!$D$9:$E$58,2,FALSE)=0,\"\",VLOOKUP(T13,'Footnotes list'!$D$9:$E$58,2,FALSE) ) )","v":""},{"$f":"IF(AND(TRIM(V11)=\"\",TRIM(V12)=\"\"),\"\",V11+V12)","v":""},null,null,null,{"$f":"IF(TRIM(Y13)=\"\", \"\", IF(VLOOKUP(Y13,'Footnotes list'!$D$9:$E$58,2,FALSE)=0,\"\",VLOOKUP(Y13,'Footnotes list'!$D$9:$E$58,2,FALSE) ) )","v":""},{"$f":"IF(AND(TRIM(AA11)=\"\", TRIM(AA12)=\"\"), \"\", SUM(AA11,AA12))","v":""},null,null,null,{"$f":"IF(TRIM(AD13)=\"\", \"\", IF(VLOOKUP(AD13,'Footnotes list'!$D$9:$E$58,2,FALSE)=0,\"\",VLOOKUP(AD13,'Footnotes list'!$D$9:$E$58,2,FALSE) ) )","v":""},{"$f":"IF(AND(TRIM(AF11)=\"\",TRIM(AF12)=\"\"),\"\",AF11+AF12)","v":""},null,null,null,{"$f":"IF(TRIM(AI13)=\"\", \"\", IF(VLOOKUP(AI13,'Footnotes list'!$D$9:$E$58,2,FALSE)=0,\"\",VLOOKUP(AI13,'Footnotes list'!$D$9:$E$58,2,FALSE) ) )","v":""},{"$f":"IF(AND(TRIM(AK11)=\"\",TRIM(AK12)=\"\"),\"\",AK11+AK12)","v":""},null,null,null,{"$f":"IF(TRIM(AN13)=\"\", \"\", IF(VLOOKUP(AN13,'Footnotes list'!$D$9:$E$58,2,FALSE)=0,\"\",VLOOKUP(AN13,'Footnotes list'!$D$9:$E$58,2,FALSE) ) )","v":""},{"$f":"IF(AND(TRIM(AP11)=\"\", TRIM(AP12)=\"\"), \"\", SUM(AP11,AP12))","v":""},null,null,null,{"$f":"IF(TRIM(AS13)=\"\", \"\", IF(VLOOKUP(AS13,'Footnotes list'!$D$9:$E$58,2,FALSE)=0,\"\",VLOOKUP(AS13,'Footnotes list'!$D$9:$E$58,2,FALSE) ) )","v":""},{"$f":"IF(AND(TRIM(AU11)=\"\", TRIM(AU12)=\"\"), \"\", SUM(AU11,AU12) )","v":""},null,null,null,{"$f":"IF(TRIM(AX13)=\"\", \"\", IF(VLOOKUP(AX13,'Footnotes list'!$D$9:$E$58,2,FALSE)=0,\"\",VLOOKUP(AX13,'Footnotes list'!$D$9:$E$58,2,FALSE) ) )","v":""}]
[null,"W013","W013","Used oils ","HAZ","Hazardous ",null,null,null,null,{"$f":"IF(TRIM(J14)=\"\", \"\", IF(VLOOKUP(J14,'Footnotes list'!$D$9:$E$58,2,FALSE)=0,\"\",VLOOKUP(J14,'Footnotes list'!$D$9:$E$58,2,FALSE) ) )","v":""},null,null,null,null,{"$f":"IF(TRIM(O14)=\"\", \"\", IF(VLOOKUP(O14,'Footnotes list'!$D$9:$E$58,2,FALSE)=0,\"\",VLOOKUP(O14,'Footnotes list'!$D$9:$E$58,2,FALSE) ) )","v":""},null,null,null,null,{"$f":"IF(TRIM(T14)=\"\", \"\", IF(VLOOKUP(T14,'Footnotes list'!$D$9:$E$58,2,FALSE)=0,\"\",VLOOKUP(T14,'Footnotes list'!$D$9:$E$58,2,FALSE) ) )","v":""},null,null,null,null,{"$f":"IF(TRIM(Y14)=\"\", \"\", IF(VLOOKUP(Y14,'Footnotes list'!$D$9:$E$58,2,FALSE)=0,\"\",VLOOKUP(Y14,'Footnotes list'!$D$9:$E$58,2,FALSE) ) )","v":""},{"$f":"IF(AND(TRIM(Q14)=\"\",TRIM(V14)=\"\"),\"\",Q14+V14)","v":""},null,null,null,{"$f":"IF(TRIM(AD14)=\"\", \"\", IF(VLOOKUP(AD14,'Footnotes list'!$D$9:$E$58,2,FALSE)=0,\"\",VLOOKUP(AD14,'Footnotes list'!$D$9:$E$58,2,FALSE) ) )","v":""},null,null,null,null,{"$f":"IF(TRIM(AI14)=\"\", \"\", IF(VLOOKUP(AI14,'Footnotes list'!$D$9:$E$58,2,FALSE)=0,\"\",VLOOKUP(AI14,'Footnotes list'!$D$9:$E$58,2,FALSE) ) )","v":""},null,null,null,null,{"$f":"IF(TRIM(AN14)=\"\", \"\", IF(VLOOKUP(AN14,'Footnotes list'!$D$9:$E$58,2,FALSE)=0,\"\",VLOOKUP(AN14,'Footnotes list'!$D$9:$E$58,2,FALSE) ) )","v":""},{"$f":"IF(AND(TRIM(AF14)=\"\",TRIM(AK14)=\"\"),\"\",AF14+AK14)","v":""},null,null,null,{"$f":"IF(TRIM(AS14)=\"\", \"\", IF(VLOOKUP(AS14,'Footnotes list'!$D$9:$E$58,2,FALSE)=0,\"\",VLOOKUP(AS14,'Footnotes list'!$D$9:$E$58,2,FALSE) ) )","v":""},{"$f":"IF(AND(TRIM(G14)=\"\",TRIM(L14)=\"\",TRIM(AA14)=\"\",TRIM(AP14)=\"\"),\"\",SUM(G14,L14,AA14,AP14))","v":""},null,null,null,{"$f":"IF(TRIM(AX14)=\"\", \"\", IF(VLOOKUP(AX14,'Footnotes list'!$D$9:$E$58,2,FALSE)=0,\"\",VLOOKUP(AX14,'Footnotes list'!$D$9:$E$58,2,FALSE) ) )","v":""}]
[null,null,null,null,null,"Not applicable"]
[null,null,"W013",null,"HAZ_NHAZ","Total",{"$f":"IF(AND(TRIM(G14)=\"\",TRIM(G15)=\"\"),\"\",G14+G15)","v":""},null,null,null,{"$f":"IF(TRIM(J16)=\"\", \"\", IF(VLOOKUP(J16,'Footnotes list'!$D$9:$E$58,2,FALSE)=0,\"\",VLOOKUP(J16,'Footnotes list'!$D$9:$E$58,2,FALSE) ) )","v":""},{"$f":"IF(AND(TRIM(L14)=\"\",TRIM(L15)=\"\"),\"\",L14+L15)","v":""},null,null,null,{"$f":"IF(TRIM(O16)=\"\", \"\", IF(VLOOKUP(O16,'Footnotes list'!$D$9:$E$58,2,FALSE)=0,\"\",VLOOKUP(O16,'Footnotes list'!$D$9:$E$58,2,FALSE) ) )","v":""},{"$f":"IF(AND(TRIM(Q14)=\"\",TRIM(Q15)=\"\"),\"\",Q14+Q15)","v":""},null,null,null,{"$f":"IF(TRIM(T16)=\"\", \"\", IF(VLOOKUP(T16,'Footnotes list'!$D$9:$E$58,2,FALSE)=0,\"\",VLOOKUP(T16,'Footnotes list'!$D$9:$E$58,2,FALSE) ) )","v":""},{"$f":"IF(AND(TRIM(V14)=\"\",TRIM(V15)=\"\"),\"\",V14+V15)","v":""},null,null,null,{"$f":"IF(TRIM(Y16)=\"\", \"\", IF(VLOOKUP(Y16,'Footnotes list'!$D$9:$E$58,2,FALSE)=0,\"\",VLOOKUP(Y16,'Footnotes list'!$D$9:$E$58,2,FALSE) ) )","v":""},{"$f":"IF(AND(TRIM(AA14)=\"\", TRIM(AA15)=\"\"), \"\", SUM(AA14,AA15))","v":""},null,null,null,{"$f":"IF(TRIM(AD16)=\"\", \"\", IF(VLOOKUP(AD16,'Footnotes list'!$D$9:$E$58,2,FALSE)=0,\"\",VLOOKUP(AD16,'Footnotes list'!$D$9:$E$58,2,FALSE) ) )","v":""},{"$f":"IF(AND(TRIM(AF14)=\"\",TRIM(AF15)=\"\"),\"\",AF14+AF15)","v":""},null,null,null,{"$f":"IF(TRIM(AI16)=\"\", \"\", IF(VLOOKUP(AI16,'Footnotes list'!$D$9:$E$58,2,FALSE)=0,\"\",VLOOKUP(AI16,'Footnotes list'!$D$9:$E$58,2,FALSE) ) )","v":""},{"$f":"IF(AND(TRIM(AK14)=\"\",TRIM(AK15)=\"\"),\"\",AK14+AK15)","v":""},null,null,null,{"$f":"IF(TRIM(AN16)=\"\", \"\", IF(VLOOKUP(AN16,'Footnotes list'!$D$9:$E$58,2,FALSE)=0,\"\",VLOOKUP(AN16,'Footnotes list'!$D$9:$E$58,2,FALSE) ) )","v":""},{"$f":"IF(AND(TRIM(AP14)=\"\", TRIM(AP15)=\"\"), \"\", SUM(AP14,AP15))","v":""},null,null,null,{"$f":"IF(TRIM(AS16)=\"\", \"\", IF(VLOOKUP(AS16,'Footnotes list'!$D$9:$E$58,2,FALSE)=0,\"\",VLOOKUP(AS16,'Footnotes list'!$D$9:$E$58,2,FALSE) ) )","v":""},{"$f":"IF(AND(TRIM(AU14)=\"\", TRIM(AU15)=\"\"), \"\", SUM(AU14,AU15) )","v":""},null,null,null,{"$f":"IF(TRIM(AX16)=\"\", \"\", IF(VLOOKUP(AX16,'Footnotes list'!$D$9:$E$58,2,FALSE)=0,\"\",VLOOKUP(AX16,'Footnotes list'!$D$9:$E$58,2,FALSE) ) )","v":""}]
[null,"W02A","W02A","Chemical wastes ","HAZ","Hazardous ",null,null,null,null,{"$f":"IF(TRIM(J17)=\"\", \"\", IF(VLOOKUP(J17,'Footnotes list'!$D$9:$E$58,2,FALSE)=0,\"\",VLOOKUP(J17,'Footnotes list'!$D$9:$E$58,2,FALSE) ) )","v":""},null,null,null,null,{"$f":"IF(TRIM(O17)=\"\", \"\", IF(VLOOKUP(O17,'Footnotes list'!$D$9:$E$58,2,FALSE)=0,\"\",VLOOKUP(O17,'Footnotes list'!$D$9:$E$58,2,FALSE) ) )","v":""},null,null,null,null,{"$f":"IF(TRIM(T17)=\"\", \"\", IF(VLOOKUP(T17,'Footnotes list'!$D$9:$E$58,2,FALSE)=0,\"\",VLOOKUP(T17,'Footnotes list'!$D$9:$E$58,2,FALSE) ) )","v":""},null,null,null,null,{"$f":"IF(TRIM(Y17)=\"\", \"\", IF(VLOOKUP(Y17,'Footnotes list'!$D$9:$E$58,2,FALSE)=0,\"\",VLOOKUP(Y17,'Footnotes list'!$D$9:$E$58,2,FALSE) ) )","v":""},{"$f":"IF(AND(TRIM(Q17)=\"\",TRIM(V17)=\"\"),\"\",Q17+V17)","v":""},null,null,null,{"$f":"IF(TRIM(AD17)=\"\", \"\", IF(VLOOKUP(AD17,'Footnotes list'!$D$9:$E$58,2,FALSE)=0,\"\",VLOOKUP(AD17,'Footnotes list'!$D$9:$E$58,2,FALSE) ) )","v":""},null,null,null,null,{"$f":"IF(TRIM(AI17)=\"\", \"\", IF(VLOOKUP(AI17,'Footnotes list'!$D$9:$E$58,2,FALSE)=0,\"\",VLOOKUP(AI17,'Footnotes list'!$D$9:$E$58,2,FALSE) ) )","v":""},null,null,null,null,{"$f":"IF(TRIM(AN17)=\"\", \"\", IF(VLOOKUP(AN17,'Footnotes list'!$D$9:$E$58,2,FALSE)=0,\"\",VLOOKUP(AN17,'Footnotes list'!$D$9:$E$58,2,FALSE) ) )","v":""},{"$f":"IF(AND(TRIM(AF17)=\"\",TRIM(AK17)=\"\"),\"\",AF17+AK17)","v":""},null,null,null,{"$f":"IF(TRIM(AS17)=\"\", \"\", IF(VLOOKUP(AS17,'Footnotes list'!$D$9:$E$58,2,FALSE)=0,\"\",VLOOKUP(AS17,'Footnotes list'!$D$9:$E$58,2,FALSE) ) )","v":""},{"$f":"IF(AND(TRIM(G17)=\"\",TRIM(L17)=\"\",TRIM(AA17)=\"\",TRIM(AP17)=\"\"),\"\",SUM(G17,L17,AA17,AP17))","v":""},null,null,null,{"$f":"IF(TRIM(AX17)=\"\", \"\", IF(VLOOKUP(AX17,'Footnotes list'!$D$9:$E$58,2,FALSE)=0,\"\",VLOOKUP(AX17,'Footnotes list'!$D$9:$E$58,2,FALSE) ) )","v":""}]
[null,null,"W02A",null,"NHAZ","Non-hazardous",null,null,null,null,{"$f":"IF(TRIM(J18)=\"\", \"\", IF(VLOOKUP(J18,'Footnotes list'!$D$9:$E$58,2,FALSE)=0,\"\",VLOOKUP(J18,'Footnotes list'!$D$9:$E$58,2,FALSE) ) )","v":""},null,null,null,null,{"$f":"IF(TRIM(O18)=\"\", \"\", IF(VLOOKUP(O18,'Footnotes list'!$D$9:$E$58,2,FALSE)=0,\"\",VLOOKUP(O18,'Footnotes list'!$D$9:$E$58,2,FALSE) ) )","v":""},null,null,null,null,{"$f":"IF(TRIM(T18)=\"\", \"\", IF(VLOOKUP(T18,'Footnotes list'!$D$9:$E$58,2,FALSE)=0,\"\",VLOOKUP(T18,'Footnotes list'!$D$9:$E$58,2,FALSE) ) )","v":""},null,null,null,null,{"$f":"IF(TRIM(Y18)=\"\", \"\", IF(VLOOKUP(Y18,'Footnotes list'!$D$9:$E$58,2,FALSE)=0,\"\",VLOOKUP(Y18,'Footnotes list'!$D$9:$E$58,2,FALSE) ) )","v":""},{"$f":"IF(AND(TRIM(Q18)=\"\",TRIM(V18)=\"\"),\"\",Q18+V18)","v":""},null,null,null,{"$f":"IF(TRIM(AD18)=\"\", \"\", IF(VLOOKUP(AD18,'Footnotes list'!$D$9:$E$58,2,FALSE)=0,\"\",VLOOKUP(AD18,'Footnotes list'!$D$9:$E$58,2,FALSE) ) )","v":""},null,null,null,null,{"$f":"IF(TRIM(AI18)=\"\", \"\", IF(VLOOKUP(AI18,'Footnotes list'!$D$9:$E$58,2,FALSE)=0,\"\",VLOOKUP(AI18,'Footnotes list'!$D$9:$E$58,2,FALSE) ) )","v":""},null,null,null,null,{"$f":"IF(TRIM(AN18)=\"\", \"\", IF(VLOOKUP(AN18,'Footnotes list'!$D$9:$E$58,2,FALSE)=0,\"\",VLOOKUP(AN18,'Footnotes list'!$D$9:$E$58,2,FALSE) ) )","v":""},{"$f":"IF(AND(TRIM(AF18)=\"\",TRIM(AK18)=\"\"),\"\",AF18+AK18)","v":""},null,null,null,{"$f":"IF(TRIM(AS18)=\"\", \"\", IF(VLOOKUP(AS18,'Footnotes list'!$D$9:$E$58,2,FALSE)=0,\"\",VLOOKUP(AS18,'Footnotes list'!$D$9:$E$58,2,FALSE) ) )","v":""},{"$f":"IF(AND(TRIM(G18)=\"\",TRIM(L18)=\"\",TRIM(AA18)=\"\",TRIM(AP18)=\"\"),\"\",SUM(G18,L18,AA18,AP18))","v":""},null,null,null,{"$f":"IF(TRIM(AX18)=\"\", \"\", IF(VLOOKUP(AX18,'Footnotes list'!$D$9:$E$58,2,FALSE)=0,\"\",VLOOKUP(AX18,'Footnotes list'!$D$9:$E$58,2,FALSE) ) )","v":""}]
[null,null,"W02A",null,"HAZ_NHAZ","Total",{"$f":"IF(AND(TRIM(G17)=\"\",TRIM(G18)=\"\"),\"\",G17+G18)","v":""},null,null,null,{"$f":"IF(TRIM(J19)=\"\", \"\", IF(VLOOKUP(J19,'Footnotes list'!$D$9:$E$58,2,FALSE)=0,\"\",VLOOKUP(J19,'Footnotes list'!$D$9:$E$58,2,FALSE) ) )","v":""},{"$f":"IF(AND(TRIM(L17)=\"\",TRIM(L18)=\"\"),\"\",L17+L18)","v":""},null,null,null,{"$f":"IF(TRIM(O19)=\"\", \"\", IF(VLOOKUP(O19,'Footnotes list'!$D$9:$E$58,2,FALSE)=0,\"\",VLOOKUP(O19,'Footnotes list'!$D$9:$E$58,2,FALSE) ) )","v":""},{"$f":"IF(AND(TRIM(Q17)=\"\",TRIM(Q18)=\"\"),\"\",Q17+Q18)","v":""},null,null,null,{"$f":"IF(TRIM(T19)=\"\", \"\", IF(VLOOKUP(T19,'Footnotes list'!$D$9:$E$58,2,FALSE)=0,\"\",VLOOKUP(T19,'Footnotes list'!$D$9:$E$58,2,FALSE) ) )","v":""},{"$f":"IF(AND(TRIM(V17)=\"\",TRIM(V18)=\"\"),\"\",V17+V18)","v":""},null,null,null,{"$f":"IF(TRIM(Y19)=\"\", \"\", IF(VLOOKUP(Y19,'Footnotes list'!$D$9:$E$58,2,FALSE)=0,\"\",VLOOKUP(Y19,'Footnotes list'!$D$9:$E$58,2,FALSE) ) )","v":""},{"$f":"IF(AND(TRIM(AA17)=\"\", TRIM(AA18)=\"\"), \"\", SUM(AA17,AA18))","v":""},null,null,null,{"$f":"IF(TRIM(AD19)=\"\", \"\", IF(VLOOKUP(AD19,'Footnotes list'!$D$9:$E$58,2,FALSE)=0,\"\",VLOOKUP(AD19,'Footnotes list'!$D$9:$E$58,2,FALSE) ) )","v":""},{"$f":"IF(AND(TRIM(AF17)=\"\",TRIM(AF18)=\"\"),\"\",AF17+AF18)","v":""},null,null,null,{"$f":"IF(TRIM(AI19)=\"\", \"\", IF(VLOOKUP(AI19,'Footnotes list'!$D$9:$E$58,2,FALSE)=0,\"\",VLOOKUP(AI19,'Footnotes list'!$D$9:$E$58,2,FALSE) ) )","v":""},{"$f":"IF(AND(TRIM(AK17)=\"\",TRIM(AK18)=\"\"),\"\",AK17+AK18)","v":""},null,null,null,{"$f":"IF(TRIM(AN19)=\"\", \"\", IF(VLOOKUP(AN19,'Footnotes list'!$D$9:$E$58,2,FALSE)=0,\"\",VLOOKUP(AN19,'Footnotes list'!$D$9:$E$58,2,FALSE) ) )","v":""},{"$f":"IF(AND(TRIM(AP17)=\"\", TRIM(AP18)=\"\"), \"\", SUM(AP17,AP18))","v":""},null,null,null,{"$f":"IF(TRIM(AS19)=\"\", \"\", IF(VLOOKUP(AS19,'Footnotes list'!$D$9:$E$58,2,FALSE)=0,\"\",VLOOKUP(AS19,'Footnotes list'!$D$9:$E$58,2,FALSE) ) )","v":""},{"$f":"IF(AND(TRIM(AU17)=\"\", TRIM(AU18)=\"\"), \"\", SUM(AU17,AU18) )","v":""},null,null,null,{"$f":"IF(TRIM(AX19)=\"\", \"\", IF(VLOOKUP(AX19,'Footnotes list'!$D$9:$E$58,2,FALSE)=0,\"\",VLOOKUP(AX19,'Footnotes list'!$D$9:$E$58,2,FALSE) ) )","v":""}]
[null,"W032","W032","Industrial effluent sludges ","HAZ","Hazardous ",null,null,null,null,{"$f":"IF(TRIM(J20)=\"\", \"\", IF(VLOOKUP(J20,'Footnotes list'!$D$9:$E$58,2,FALSE)=0,\"\",VLOOKUP(J20,'Footnotes list'!$D$9:$E$58,2,FALSE) ) )","v":""},null,null,null,null,{"$f":"IF(TRIM(O20)=\"\", \"\", IF(VLOOKUP(O20,'Footnotes list'!$D$9:$E$58,2,FALSE)=0,\"\",VLOOKUP(O20,'Footnotes list'!$D$9:$E$58,2,FALSE) ) )","v":""},null,null,null,null,{"$f":"IF(TRIM(T20)=\"\", \"\", IF(VLOOKUP(T20,'Footnotes list'!$D$9:$E$58,2,FALSE)=0,\"\",VLOOKUP(T20,'Footnotes list'!$D$9:$E$58,2,FALSE) ) )","v":""},null,null,null,null,{"$f":"IF(TRIM(Y20)=\"\", \"\", IF(VLOOKUP(Y20,'Footnotes list'!$D$9:$E$58,2,FALSE)=0,\"\",VLOOKUP(Y20,'Footnotes list'!$D$9:$E$58,2,FALSE) ) )","v":""},{"$f":"IF(AND(TRIM(Q20)=\"\",TRIM(V20)=\"\"),\"\",Q20+V20)","v":""},null,null,null,{"$f":"IF(TRIM(AD20)=\"\", \"\", IF(VLOOKUP(AD20,'Footnotes list'!$D$9:$E$58,2,FALSE)=0,\"\",VLOOKUP(AD20,'Footnotes list'!$D$9:$E$58,2,FALSE) ) )","v":""},null,null,null,null,{"$f":"IF(TRIM(AI20)=\"\", \"\", IF(VLOOKUP(AI20,'Footnotes list'!$D$9:$E$58,2,FALSE)=0,\"\",VLOOKUP(AI20,'Footnotes list'!$D$9:$E$58,2,FALSE) ) )","v":""},null,null,null,null,{"$f":"IF(TRIM(AN20)=\"\", \"\", IF(VLOOKUP(AN20,'Footnotes list'!$D$9:$E$58,2,FALSE)=0,\"\",VLOOKUP(AN20,'Footnotes list'!$D$9:$E$58,2,FALSE) ) )","v":""},{"$f":"IF(AND(TRIM(AF20)=\"\",TRIM(AK20)=\"\"),\"\",AF20+AK20)","v":""},null,null,null,{"$f":"IF(TRIM(AS20)=\"\", \"\", IF(VLOOKUP(AS20,'Footnotes list'!$D$9:$E$58,2,FALSE)=0,\"\",VLOOKUP(AS20,'Footnotes list'!$D$9:$E$58,2,FALSE) ) )","v":""},{"$f":"IF(AND(TRIM(G20)=\"\",TRIM(L20)=\"\",TRIM(AA20)=\"\",TRIM(AP20)=\"\"),\"\",SUM(G20,L20,AA20,AP20))","v":""},null,null,null,{"$f":"IF(TRIM(AX20)=\"\", \"\", IF(VLOOKUP(AX20,'Footnotes list'!$D$9:$E$58,2,FALSE)=0,\"\",VLOOKUP(AX20,'Footnotes list'!$D$9:$E$58,2,FALSE) ) )","v":""}]
[null,null,"W032",null,"NHAZ","Non-hazardous",null,null,null,null,{"$f":"IF(TRIM(J21)=\"\", \"\", IF(VLOOKUP(J21,'Footnotes list'!$D$9:$E$58,2,FALSE)=0,\"\",VLOOKUP(J21,'Footnotes list'!$D$9:$E$58,2,FALSE) ) )","v":""},null,null,null,null,{"$f":"IF(TRIM(O21)=\"\", \"\", IF(VLOOKUP(O21,'Footnotes list'!$D$9:$E$58,2,FALSE)=0,\"\",VLOOKUP(O21,'Footnotes list'!$D$9:$E$58,2,FALSE) ) )","v":""},null,null,null,null,{"$f":"IF(TRIM(T21)=\"\", \"\", IF(VLOOKUP(T21,'Footnotes list'!$D$9:$E$58,2,FALSE)=0,\"\",VLOOKUP(T21,'Footnotes list'!$D$9:$E$58,2,FALSE) ) )","v":""},null,null,null,null,{"$f":"IF(TRIM(Y21)=\"\", \"\", IF(VLOOKUP(Y21,'Footnotes list'!$D$9:$E$58,2,FALSE)=0,\"\",VLOOKUP(Y21,'Footnotes list'!$D$9:$E$58,2,FALSE) ) )","v":""},{"$f":"IF(AND(TRIM(Q21)=\"\",TRIM(V21)=\"\"),\"\",Q21+V21)","v":""},null,null,null,{"$f":"IF(TRIM(AD21)=\"\", \"\", IF(VLOOKUP(AD21,'Footnotes list'!$D$9:$E$58,2,FALSE)=0,\"\",VLOOKUP(AD21,'Footnotes list'!$D$9:$E$58,2,FALSE) ) )","v":""},null,null,null,null,{"$f":"IF(TRIM(AI21)=\"\", \"\", IF(VLOOKUP(AI21,'Footnotes list'!$D$9:$E$58,2,FALSE)=0,\"\",VLOOKUP(AI21,'Footnotes list'!$D$9:$E$58,2,FALSE) ) )","v":""},null,null,null,null,{"$f":"IF(TRIM(AN21)=\"\", \"\", IF(VLOOKUP(AN21,'Footnotes list'!$D$9:$E$58,2,FALSE)=0,\"\",VLOOKUP(AN21,'Footnotes list'!$D$9:$E$58,2,FALSE) ) )","v":""},{"$f":"IF(AND(TRIM(AF21)=\"\",TRIM(AK21)=\"\"),\"\",AF21+AK21)","v":""},null,null,null,{"$f":"IF(TRIM(AS21)=\"\", \"\", IF(VLOOKUP(AS21,'Footnotes list'!$D$9:$E$58,2,FALSE)=0,\"\",VLOOKUP(AS21,'Footnotes list'!$D$9:$E$58,2,FALSE) ) )","v":""},{"$f":"IF(AND(TRIM(G21)=\"\",TRIM(L21)=\"\",TRIM(AA21)=\"\",TRIM(AP21)=\"\"),\"\",SUM(G21,L21,AA21,AP21))","v":""},null,null,null,{"$f":"IF(TRIM(AX21)=\"\", \"\", IF(VLOOKUP(AX21,'Footnotes list'!$D$9:$E$58,2,FALSE)=0,\"\",VLOOKUP(AX21,'Footnotes list'!$D$9:$E$58,2,FALSE) ) )","v":""}]
[null,null,"W032",null,"HAZ_NHAZ","Total",{"$f":"IF(AND(TRIM(G20)=\"\",TRIM(G21)=\"\"),\"\",G20+G21)","v":""},null,null,null,{"$f":"IF(TRIM(J22)=\"\", \"\", IF(VLOOKUP(J22,'Footnotes list'!$D$9:$E$58,2,FALSE)=0,\"\",VLOOKUP(J22,'Footnotes list'!$D$9:$E$58,2,FALSE) ) )","v":""},{"$f":"IF(AND(TRIM(L20)=\"\",TRIM(L21)=\"\"),\"\",L20+L21)","v":""},null,null,null,{"$f":"IF(TRIM(O22)=\"\", \"\", IF(VLOOKUP(O22,'Footnotes list'!$D$9:$E$58,2,FALSE)=0,\"\",VLOOKUP(O22,'Footnotes list'!$D$9:$E$58,2,FALSE) ) )","v":""},{"$f":"IF(AND(TRIM(Q20)=\"\",TRIM(Q21)=\"\"),\"\",Q20+Q21)","v":""},null,null,null,{"$f":"IF(TRIM(T22)=\"\", \"\", IF(VLOOKUP(T22,'Footnotes list'!$D$9:$E$58,2,FALSE)=0,\"\",VLOOKUP(T22,'Footnotes list'!$D$9:$E$58,2,FALSE) ) )","v":""},{"$f":"IF(AND(TRIM(V20)=\"\",TRIM(V21)=\"\"),\"\",V20+V21)","v":""},null,null,null,{"$f":"IF(TRIM(Y22)=\"\", \"\", IF(VLOOKUP(Y22,'Footnotes list'!$D$9:$E$58,2,FALSE)=0,\"\",VLOOKUP(Y22,'Footnotes list'!$D$9:$E$58,2,FALSE) ) )","v":""},{"$f":"IF(AND(TRIM(AA20)=\"\", TRIM(AA21)=\"\"), \"\", SUM(AA20,AA21))","v":""},null,null,null,{"$f":"IF(TRIM(AD22)=\"\", \"\", IF(VLOOKUP(AD22,'Footnotes list'!$D$9:$E$58,2,FALSE)=0,\"\",VLOOKUP(AD22,'Footnotes list'!$D$9:$E$58,2,FALSE) ) )","v":""},{"$f":"IF(AND(TRIM(AF20)=\"\",TRIM(AF21)=\"\"),\"\",AF20+AF21)","v":""},null,null,null,{"$f":"IF(TRIM(AI22)=\"\", \"\", IF(VLOOKUP(AI22,'Footnotes list'!$D$9:$E$58,2,FALSE)=0,\"\",VLOOKUP(AI22,'Footnotes list'!$D$9:$E$58,2,FALSE) ) )","v":""},{"$f":"IF(AND(TRIM(AK20)=\"\",TRIM(AK21)=\"\"),\"\",AK20+AK21)","v":""},null,null,null,{"$f":"IF(TRIM(AN22)=\"\", \"\", IF(VLOOKUP(AN22,'Footnotes list'!$D$9:$E$58,2,FALSE)=0,\"\",VLOOKUP(AN22,'Footnotes list'!$D$9:$E$58,2,FALSE) ) )","v":""},{"$f":"IF(AND(TRIM(AP20)=\"\", TRIM(AP21)=\"\"), \"\", SUM(AP20,AP21))","v":""},null,null,null,{"$f":"IF(TRIM(AS22)=\"\", \"\", IF(VLOOKUP(AS22,'Footnotes list'!$D$9:$E$58,2,FALSE)=0,\"\",VLOOKUP(AS22,'Footnotes list'!$D$9:$E$58,2,FALSE) ) )","v":""},{"$f":"IF(AND(TRIM(AU20)=\"\", TRIM(AU21)=\"\"), \"\", SUM(AU20,AU21) )","v":""},null,null,null,{"$f":"IF(TRIM(AX22)=\"\", \"\", IF(VLOOKUP(AX22,'Footnotes list'!$D$9:$E$58,2,FALSE)=0,\"\",VLOOKUP(AX22,'Footnotes list'!$D$9:$E$58,2,FALSE) ) )","v":""}]
[null,"W033","W033","Sludges and liquid wastes from waste treatment","HAZ","Hazardous ",null,null,null,null,{"$f":"IF(TRIM(J23)=\"\", \"\", IF(VLOOKUP(J23,'Footnotes list'!$D$9:$E$58,2,FALSE)=0,\"\",VLOOKUP(J23,'Footnotes list'!$D$9:$E$58,2,FALSE) ) )","v":""},null,null,null,null,{"$f":"IF(TRIM(O23)=\"\", \"\", IF(VLOOKUP(O23,'Footnotes list'!$D$9:$E$58,2,FALSE)=0,\"\",VLOOKUP(O23,'Footnotes list'!$D$9:$E$58,2,FALSE) ) )","v":""},null,null,null,null,{"$f":"IF(TRIM(T23)=\"\", \"\", IF(VLOOKUP(T23,'Footnotes list'!$D$9:$E$58,2,FALSE)=0,\"\",VLOOKUP(T23,'Footnotes list'!$D$9:$E$58,2,FALSE) ) )","v":""},null,null,null,null,{"$f":"IF(TRIM(Y23)=\"\", \"\", IF(VLOOKUP(Y23,'Footnotes list'!$D$9:$E$58,2,FALSE)=0,\"\",VLOOKUP(Y23,'Footnotes list'!$D$9:$E$58,2,FALSE) ) )","v":""},{"$f":"IF(AND(TRIM(Q23)=\"\",TRIM(V23)=\"\"),\"\",Q23+V23)","v":""},null,null,null,{"$f":"IF(TRIM(AD23)=\"\", \"\", IF(VLOOKUP(AD23,'Footnotes list'!$D$9:$E$58,2,FALSE)=0,\"\",VLOOKUP(AD23,'Footnotes list'!$D$9:$E$58,2,FALSE) ) )","v":""},null,null,null,null,{"$f":"IF(TRIM(AI23)=\"\", \"\", IF(VLOOKUP(AI23,'Footnotes list'!$D$9:$E$58,2,FALSE)=0,\"\",VLOOKUP(AI23,'Footnotes list'!$D$9:$E$58,2,FALSE) ) )","v":""},null,null,null,null,{"$f":"IF(TRIM(AN23)=\"\", \"\", IF(VLOOKUP(AN23,'Footnotes list'!$D$9:$E$58,2,FALSE)=0,\"\",VLOOKUP(AN23,'Footnotes list'!$D$9:$E$58,2,FALSE) ) )","v":""},{"$f":"IF(AND(TRIM(AF23)=\"\",TRIM(AK23)=\"\"),\"\",AF23+AK23)","v":""},null,null,null,{"$f":"IF(TRIM(AS23)=\"\", \"\", IF(VLOOKUP(AS23,'Footnotes list'!$D$9:$E$58,2,FALSE)=0,\"\",VLOOKUP(AS23,'Footnotes list'!$D$9:$E$58,2,FALSE) ) )","v":""},{"$f":"IF(AND(TRIM(G23)=\"\",TRIM(L23)=\"\",TRIM(AA23)=\"\",TRIM(AP23)=\"\"),\"\",SUM(G23,L23,AA23,AP23))","v":""},null,null,null,{"$f":"IF(TRIM(AX23)=\"\", \"\", IF(VLOOKUP(AX23,'Footnotes list'!$D$9:$E$58,2,FALSE)=0,\"\",VLOOKUP(AX23,'Footnotes list'!$D$9:$E$58,2,FALSE) ) )","v":""}]
[null,null,"W033",null,"NHAZ","Non-hazardous",null,null,null,null,{"$f":"IF(TRIM(J24)=\"\", \"\", IF(VLOOKUP(J24,'Footnotes list'!$D$9:$E$58,2,FALSE)=0,\"\",VLOOKUP(J24,'Footnotes list'!$D$9:$E$58,2,FALSE) ) )","v":""},null,null,null,null,{"$f":"IF(TRIM(O24)=\"\", \"\", IF(VLOOKUP(O24,'Footnotes list'!$D$9:$E$58,2,FALSE)=0,\"\",VLOOKUP(O24,'Footnotes list'!$D$9:$E$58,2,FALSE) ) )","v":""},null,null,null,null,{"$f":"IF(TRIM(T24)=\"\", \"\", IF(VLOOKUP(T24,'Footnotes list'!$D$9:$E$58,2,FALSE)=0,\"\",VLOOKUP(T24,'Footnotes list'!$D$9:$E$58,2,FALSE) ) )","v":""},null,null,null,null,{"$f":"IF(TRIM(Y24)=\"\", \"\", IF(VLOOKUP(Y24,'Footnotes list'!$D$9:$E$58,2,FALSE)=0,\"\",VLOOKUP(Y24,'Footnotes list'!$D$9:$E$58,2,FALSE) ) )","v":""},{"$f":"IF(AND(TRIM(Q24)=\"\",TRIM(V24)=\"\"),\"\",Q24+V24)","v":""},null,null,null,{"$f":"IF(TRIM(AD24)=\"\", \"\", IF(VLOOKUP(AD24,'Footnotes list'!$D$9:$E$58,2,FALSE)=0,\"\",VLOOKUP(AD24,'Footnotes list'!$D$9:$E$58,2,FALSE) ) )","v":""},null,null,null,null,{"$f":"IF(TRIM(AI24)=\"\", \"\", IF(VLOOKUP(AI24,'Footnotes list'!$D$9:$E$58,2,FALSE)=0,\"\",VLOOKUP(AI24,'Footnotes list'!$D$9:$E$58,2,FALSE) ) )","v":""},null,null,null,null,{"$f":"IF(TRIM(AN24)=\"\", \"\", IF(VLOOKUP(AN24,'Footnotes list'!$D$9:$E$58,2,FALSE)=0,\"\",VLOOKUP(AN24,'Footnotes list'!$D$9:$E$58,2,FALSE) ) )","v":""},{"$f":"IF(AND(TRIM(AF24)=\"\",TRIM(AK24)=\"\"),\"\",AF24+AK24)","v":""},null,null,null,{"$f":"IF(TRIM(AS24)=\"\", \"\", IF(VLOOKUP(AS24,'Footnotes list'!$D$9:$E$58,2,FALSE)=0,\"\",VLOOKUP(AS24,'Footnotes list'!$D$9:$E$58,2,FALSE) ) )","v":""},{"$f":"IF(AND(TRIM(G24)=\"\",TRIM(L24)=\"\",TRIM(AA24)=\"\",TRIM(AP24)=\"\"),\"\",SUM(G24,L24,AA24,AP24))","v":""},null,null,null,{"$f":"IF(TRIM(AX24)=\"\", \"\", IF(VLOOKUP(AX24,'Footnotes list'!$D$9:$E$58,2,FALSE)=0,\"\",VLOOKUP(AX24,'Footnotes list'!$D$9:$E$58,2,FALSE) ) )","v":""}]
[null,null,"W033",null,"HAZ_NHAZ","Total",{"$f":"IF(AND(TRIM(G23)=\"\",TRIM(G24)=\"\"),\"\",G23+G24)","v":""},null,null,null,{"$f":"IF(TRIM(J25)=\"\", \"\", IF(VLOOKUP(J25,'Footnotes list'!$D$9:$E$58,2,FALSE)=0,\"\",VLOOKUP(J25,'Footnotes list'!$D$9:$E$58,2,FALSE) ) )","v":""},{"$f":"IF(AND(TRIM(L23)=\"\",TRIM(L24)=\"\"),\"\",L23+L24)","v":""},null,null,null,{"$f":"IF(TRIM(O25)=\"\", \"\", IF(VLOOKUP(O25,'Footnotes list'!$D$9:$E$58,2,FALSE)=0,\"\",VLOOKUP(O25,'Footnotes list'!$D$9:$E$58,2,FALSE) ) )","v":""},{"$f":"IF(AND(TRIM(Q23)=\"\",TRIM(Q24)=\"\"),\"\",Q23+Q24)","v":""},null,null,null,{"$f":"IF(TRIM(T25)=\"\", \"\", IF(VLOOKUP(T25,'Footnotes list'!$D$9:$E$58,2,FALSE)=0,\"\",VLOOKUP(T25,'Footnotes list'!$D$9:$E$58,2,FALSE) ) )","v":""},{"$f":"IF(AND(TRIM(V23)=\"\",TRIM(V24)=\"\"),\"\",V23+V24)","v":""},null,null,null,{"$f":"IF(TRIM(Y25)=\"\", \"\", IF(VLOOKUP(Y25,'Footnotes list'!$D$9:$E$58,2,FALSE)=0,\"\",VLOOKUP(Y25,'Footnotes list'!$D$9:$E$58,2,FALSE) ) )","v":""},{"$f":"IF(AND(TRIM(AA23)=\"\", TRIM(AA24)=\"\"), \"\", SUM(AA23,AA24))","v":""},null,null,null,{"$f":"IF(TRIM(AD25)=\"\", \"\", IF(VLOOKUP(AD25,'Footnotes list'!$D$9:$E$58,2,FALSE)=0,\"\",VLOOKUP(AD25,'Footnotes list'!$D$9:$E$58,2,FALSE) ) )","v":""},{"$f":"IF(AND(TRIM(AF23)=\"\",TRIM(AF24)=\"\"),\"\",AF23+AF24)","v":""},null,null,null,{"$f":"IF(TRIM(AI25)=\"\", \"\", IF(VLOOKUP(AI25,'Footnotes list'!$D$9:$E$58,2,FALSE)=0,\"\",VLOOKUP(AI25,'Footnotes list'!$D$9:$E$58,2,FALSE) ) )","v":""},{"$f":"IF(AND(TRIM(AK23)=\"\",TRIM(AK24)=\"\"),\"\",AK23+AK24)","v":""},null,null,null,{"$f":"IF(TRIM(AN25)=\"\", \"\", IF(VLOOKUP(AN25,'Footnotes list'!$D$9:$E$58,2,FALSE)=0,\"\",VLOOKUP(AN25,'Footnotes list'!$D$9:$E$58,2,FALSE) ) )","v":""},{"$f":"IF(AND(TRIM(AP23)=\"\", TRIM(AP24)=\"\"), \"\", SUM(AP23,AP24))","v":""},null,null,null,{"$f":"IF(TRIM(AS25)=\"\", \"\", IF(VLOOKUP(AS25,'Footnotes list'!$D$9:$E$58,2,FALSE)=0,\"\",VLOOKUP(AS25,'Footnotes list'!$D$9:$E$58,2,FALSE) ) )","v":""},{"$f":"IF(AND(TRIM(AU23)=\"\", TRIM(AU24)=\"\"), \"\", SUM(AU23,AU24) )","v":""},null,null,null,{"$f":"IF(TRIM(AX25)=\"\", \"\", IF(VLOOKUP(AX25,'Footnotes list'!$D$9:$E$58,2,FALSE)=0,\"\",VLOOKUP(AX25,'Footnotes list'!$D$9:$E$58,2,FALSE) ) )","v":""}]
[null,"W05","W05","Health care and biological wastes ","HAZ","Hazardous ",null,null,null,null,{"$f":"IF(TRIM(J26)=\"\", \"\", IF(VLOOKUP(J26,'Footnotes list'!$D$9:$E$58,2,FALSE)=0,\"\",VLOOKUP(J26,'Footnotes list'!$D$9:$E$58,2,FALSE) ) )","v":""},null,null,null,null,{"$f":"IF(TRIM(O26)=\"\", \"\", IF(VLOOKUP(O26,'Footnotes list'!$D$9:$E$58,2,FALSE)=0,\"\",VLOOKUP(O26,'Footnotes list'!$D$9:$E$58,2,FALSE) ) )","v":""},null,null,null,null,{"$f":"IF(TRIM(T26)=\"\", \"\", IF(VLOOKUP(T26,'Footnotes list'!$D$9:$E$58,2,FALSE)=0,\"\",VLOOKUP(T26,'Footnotes list'!$D$9:$E$58,2,FALSE) ) )","v":""},null,null,null,null,{"$f":"IF(TRIM(Y26)=\"\", \"\", IF(VLOOKUP(Y26,'Footnotes list'!$D$9:$E$58,2,FALSE)=0,\"\",VLOOKUP(Y26,'Footnotes list'!$D$9:$E$58,2,FALSE) ) )","v":""},{"$f":"IF(AND(TRIM(Q26)=\"\",TRIM(V26)=\"\"),\"\",Q26+V26)","v":""},null,null,null,{"$f":"IF(TRIM(AD26)=\"\", \"\", IF(VLOOKUP(AD26,'Footnotes list'!$D$9:$E$58,2,FALSE)=0,\"\",VLOOKUP(AD26,'Footnotes list'!$D$9:$E$58,2,FALSE) ) )","v":""},null,null,null,null,{"$f":"IF(TRIM(AI26)=\"\", \"\", IF(VLOOKUP(AI26,'Footnotes list'!$D$9:$E$58,2,FALSE)=0,\"\",VLOOKUP(AI26,'Footnotes list'!$D$9:$E$58,2,FALSE) ) )","v":""},null,null,null,null,{"$f":"IF(TRIM(AN26)=\"\", \"\", IF(VLOOKUP(AN26,'Footnotes list'!$D$9:$E$58,2,FALSE)=0,\"\",VLOOKUP(AN26,'Footnotes list'!$D$9:$E$58,2,FALSE) ) )","v":""},{"$f":"IF(AND(TRIM(AF26)=\"\",TRIM(AK26)=\"\"),\"\",AF26+AK26)","v":""},null,null,null,{"$f":"IF(TRIM(AS26)=\"\", \"\", IF(VLOOKUP(AS26,'Footnotes list'!$D$9:$E$58,2,FALSE)=0,\"\",VLOOKUP(AS26,'Footnotes list'!$D$9:$E$58,2,FALSE) ) )","v":""},{"$f":"IF(AND(TRIM(G26)=\"\",TRIM(L26)=\"\",TRIM(AA26)=\"\",TRIM(AP26)=\"\"),\"\",SUM(G26,L26,AA26,AP26))","v":""},null,null,null,{"$f":"IF(TRIM(AX26)=\"\", \"\", IF(VLOOKUP(AX26,'Footnotes list'!$D$9:$E$58,2,FALSE)=0,\"\",VLOOKUP(AX26,'Footnotes list'!$D$9:$E$58,2,FALSE) ) )","v":""}]
[null,null,"W05",null,"NHAZ","Non-hazardous",null,null,null,null,{"$f":"IF(TRIM(J27)=\"\", \"\", IF(VLOOKUP(J27,'Footnotes list'!$D$9:$E$58,2,FALSE)=0,\"\",VLOOKUP(J27,'Footnotes list'!$D$9:$E$58,2,FALSE) ) )","v":""},null,null,null,null,{"$f":"IF(TRIM(O27)=\"\", \"\", IF(VLOOKUP(O27,'Footnotes list'!$D$9:$E$58,2,FALSE)=0,\"\",VLOOKUP(O27,'Footnotes list'!$D$9:$E$58,2,FALSE) ) )","v":""},null,null,null,null,{"$f":"IF(TRIM(T27)=\"\", \"\", IF(VLOOKUP(T27,'Footnotes list'!$D$9:$E$58,2,FALSE)=0,\"\",VLOOKUP(T27,'Footnotes list'!$D$9:$E$58,2,FALSE) ) )","v":""},null,null,null,null,{"$f":"IF(TRIM(Y27)=\"\", \"\", IF(VLOOKUP(Y27,'Footnotes list'!$D$9:$E$58,2,FALSE)=0,\"\",VLOOKUP(Y27,'Footnotes list'!$D$9:$E$58,2,FALSE) ) )","v":""},{"$f":"IF(AND(TRIM(Q27)=\"\",TRIM(V27)=\"\"),\"\",Q27+V27)","v":""},null,null,null,{"$f":"IF(TRIM(AD27)=\"\", \"\", IF(VLOOKUP(AD27,'Footnotes list'!$D$9:$E$58,2,FALSE)=0,\"\",VLOOKUP(AD27,'Footnotes list'!$D$9:$E$58,2,FALSE) ) )","v":""},null,null,null,null,{"$f":"IF(TRIM(AI27)=\"\", \"\", IF(VLOOKUP(AI27,'Footnotes list'!$D$9:$E$58,2,FALSE)=0,\"\",VLOOKUP(AI27,'Footnotes list'!$D$9:$E$58,2,FALSE) ) )","v":""},null,null,null,null,{"$f":"IF(TRIM(AN27)=\"\", \"\", IF(VLOOKUP(AN27,'Footnotes list'!$D$9:$E$58,2,FALSE)=0,\"\",VLOOKUP(AN27,'Footnotes list'!$D$9:$E$58,2,FALSE) ) )","v":""},{"$f":"IF(AND(TRIM(AF27)=\"\",TRIM(AK27)=\"\"),\"\",AF27+AK27)","v":""},null,null,null,{"$f":"IF(TRIM(AS27)=\"\", \"\", IF(VLOOKUP(AS27,'Footnotes list'!$D$9:$E$58,2,FALSE)=0,\"\",VLOOKUP(AS27,'Footnotes list'!$D$9:$E$58,2,FALSE) ) )","v":""},{"$f":"IF(AND(TRIM(G27)=\"\",TRIM(L27)=\"\",TRIM(AA27)=\"\",TRIM(AP27)=\"\"),\"\",SUM(G27,L27,AA27,AP27))","v":""},null,null,null,{"$f":"IF(TRIM(AX27)=\"\", \"\", IF(VLOOKUP(AX27,'Footnotes list'!$D$9:$E$58,2,FALSE)=0,\"\",VLOOKUP(AX27,'Footnotes list'!$D$9:$E$58,2,FALSE) ) )","v":""}]
[null,null,"W05",null,"HAZ_NHAZ","Total",{"$f":"IF(AND(TRIM(G26)=\"\",TRIM(G27)=\"\"),\"\",G26+G27)","v":""},null,null,null,{"$f":"IF(TRIM(J28)=\"\", \"\", IF(VLOOKUP(J28,'Footnotes list'!$D$9:$E$58,2,FALSE)=0,\"\",VLOOKUP(J28,'Footnotes list'!$D$9:$E$58,2,FALSE) ) )","v":""},{"$f":"IF(AND(TRIM(L26)=\"\",TRIM(L27)=\"\"),\"\",L26+L27)","v":""},null,null,null,{"$f":"IF(TRIM(O28)=\"\", \"\", IF(VLOOKUP(O28,'Footnotes list'!$D$9:$E$58,2,FALSE)=0,\"\",VLOOKUP(O28,'Footnotes list'!$D$9:$E$58,2,FALSE) ) )","v":""},{"$f":"IF(AND(TRIM(Q26)=\"\",TRIM(Q27)=\"\"),\"\",Q26+Q27)","v":""},null,null,null,{"$f":"IF(TRIM(T28)=\"\", \"\", IF(VLOOKUP(T28,'Footnotes list'!$D$9:$E$58,2,FALSE)=0,\"\",VLOOKUP(T28,'Footnotes list'!$D$9:$E$58,2,FALSE) ) )","v":""},{"$f":"IF(AND(TRIM(V26)=\"\",TRIM(V27)=\"\"),\"\",V26+V27)","v":""},null,null,null,{"$f":"IF(TRIM(Y28)=\"\", \"\", IF(VLOOKUP(Y28,'Footnotes list'!$D$9:$E$58,2,FALSE)=0,\"\",VLOOKUP(Y28,'Footnotes list'!$D$9:$E$58,2,FALSE) ) )","v":""},{"$f":"IF(AND(TRIM(AA26)=\"\", TRIM(AA27)=\"\"), \"\", SUM(AA26,AA27))","v":""},null,null,null,{"$f":"IF(TRIM(AD28)=\"\", \"\", IF(VLOOKUP(AD28,'Footnotes list'!$D$9:$E$58,2,FALSE)=0,\"\",VLOOKUP(AD28,'Footnotes list'!$D$9:$E$58,2,FALSE) ) )","v":""},{"$f":"IF(AND(TRIM(AF26)=\"\",TRIM(AF27)=\"\"),\"\",AF26+AF27)","v":""},null,null,null,{"$f":"IF(TRIM(AI28)=\"\", \"\", IF(VLOOKUP(AI28,'Footnotes list'!$D$9:$E$58,2,FALSE)=0,\"\",VLOOKUP(AI28,'Footnotes list'!$D$9:$E$58,2,FALSE) ) )","v":""},{"$f":"IF(AND(TRIM(AK26)=\"\",TRIM(AK27)=\"\"),\"\",AK26+AK27)","v":""},null,null,null,{"$f":"IF(TRIM(AN28)=\"\", \"\", IF(VLOOKUP(AN28,'Footnotes list'!$D$9:$E$58,2,FALSE)=0,\"\",VLOOKUP(AN28,'Footnotes list'!$D$9:$E$58,2,FALSE) ) )","v":""},{"$f":"IF(AND(TRIM(AP26)=\"\", TRIM(AP27)=\"\"), \"\", SUM(AP26,AP27))","v":""},null,null,null,{"$f":"IF(TRIM(AS28)=\"\", \"\", IF(VLOOKUP(AS28,'Footnotes list'!$D$9:$E$58,2,FALSE)=0,\"\",VLOOKUP(AS28,'Footnotes list'!$D$9:$E$58,2,FALSE) ) )","v":""},{"$f":"IF(AND(TRIM(AU26)=\"\", TRIM(AU27)=\"\"), \"\", SUM(AU26,AU27) )","v":""},null,null,null,{"$f":"IF(TRIM(AX28)=\"\", \"\", IF(VLOOKUP(AX28,'Footnotes list'!$D$9:$E$58,2,FALSE)=0,\"\",VLOOKUP(AX28,'Footnotes list'!$D$9:$E$58,2,FALSE) ) )","v":""}]
[null,"W061",null,"Metallic wastes, ferrous ",null,"Not applicable"]
[null,null,"W061",null,"NHAZ","Non-hazardous",null,null,null,null,{"$f":"IF(TRIM(J30)=\"\", \"\", IF(VLOOKUP(J30,'Footnotes list'!$D$9:$E$58,2,FALSE)=0,\"\",VLOOKUP(J30,'Footnotes list'!$D$9:$E$58,2,FALSE) ) )","v":""},null,null,null,null,{"$f":"IF(TRIM(O30)=\"\", \"\", IF(VLOOKUP(O30,'Footnotes list'!$D$9:$E$58,2,FALSE)=0,\"\",VLOOKUP(O30,'Footnotes list'!$D$9:$E$58,2,FALSE) ) )","v":""},null,null,null,null,{"$f":"IF(TRIM(T30)=\"\", \"\", IF(VLOOKUP(T30,'Footnotes list'!$D$9:$E$58,2,FALSE)=0,\"\",VLOOKUP(T30,'Footnotes list'!$D$9:$E$58,2,FALSE) ) )","v":""},null,null,null,null,{"$f":"IF(TRIM(Y30)=\"\", \"\", IF(VLOOKUP(Y30,'Footnotes list'!$D$9:$E$58,2,FALSE)=0,\"\",VLOOKUP(Y30,'Footnotes list'!$D$9:$E$58,2,FALSE) ) )","v":""},{"$f":"IF(AND(TRIM(Q30)=\"\",TRIM(V30)=\"\"),\"\",Q30+V30)","v":""},null,null,null,{"$f":"IF(TRIM(AD30)=\"\", \"\", IF(VLOOKUP(AD30,'Footnotes list'!$D$9:$E$58,2,FALSE)=0,\"\",VLOOKUP(AD30,'Footnotes list'!$D$9:$E$58,2,FALSE) ) )","v":""},null,null,null,null,{"$f":"IF(TRIM(AI30)=\"\", \"\", IF(VLOOKUP(AI30,'Footnotes list'!$D$9:$E$58,2,FALSE)=0,\"\",VLOOKUP(AI30,'Footnotes list'!$D$9:$E$58,2,FALSE) ) )","v":""},null,null,null,null,{"$f":"IF(TRIM(AN30)=\"\", \"\", IF(VLOOKUP(AN30,'Footnotes list'!$D$9:$E$58,2,FALSE)=0,\"\",VLOOKUP(AN30,'Footnotes list'!$D$9:$E$58,2,FALSE) ) )","v":""},{"$f":"IF(AND(TRIM(AF30)=\"\",TRIM(AK30)=\"\"),\"\",AF30+AK30)","v":""},null,null,null,{"$f":"IF(TRIM(AS30)=\"\", \"\", IF(VLOOKUP(AS30,'Footnotes list'!$D$9:$E$58,2,FALSE)=0,\"\",VLOOKUP(AS30,'Footnotes list'!$D$9:$E$58,2,FALSE) ) )","v":""},{"$f":"IF(AND(TRIM(G30)=\"\",TRIM(L30)=\"\",TRIM(AA30)=\"\",TRIM(AP30)=\"\"),\"\",SUM(G30,L30,AA30,AP30))","v":""},null,null,null,{"$f":"IF(TRIM(AX30)=\"\", \"\", IF(VLOOKUP(AX30,'Footnotes list'!$D$9:$E$58,2,FALSE)=0,\"\",VLOOKUP(AX30,'Footnotes list'!$D$9:$E$58,2,FALSE) ) )","v":""}]
[null,null,"W061",null,"HAZ_NHAZ","Total",{"$f":"IF(AND(TRIM(G29)=\"\",TRIM(G30)=\"\"),\"\",G29+G30)","v":""},null,null,null,{"$f":"IF(TRIM(J31)=\"\", \"\", IF(VLOOKUP(J31,'Footnotes list'!$D$9:$E$58,2,FALSE)=0,\"\",VLOOKUP(J31,'Footnotes list'!$D$9:$E$58,2,FALSE) ) )","v":""},{"$f":"IF(AND(TRIM(L29)=\"\",TRIM(L30)=\"\"),\"\",L29+L30)","v":""},null,null,null,{"$f":"IF(TRIM(O31)=\"\", \"\", IF(VLOOKUP(O31,'Footnotes list'!$D$9:$E$58,2,FALSE)=0,\"\",VLOOKUP(O31,'Footnotes list'!$D$9:$E$58,2,FALSE) ) )","v":""},{"$f":"IF(AND(TRIM(Q29)=\"\",TRIM(Q30)=\"\"),\"\",Q29+Q30)","v":""},null,null,null,{"$f":"IF(TRIM(T31)=\"\", \"\", IF(VLOOKUP(T31,'Footnotes list'!$D$9:$E$58,2,FALSE)=0,\"\",VLOOKUP(T31,'Footnotes list'!$D$9:$E$58,2,FALSE) ) )","v":""},{"$f":"IF(AND(TRIM(V29)=\"\",TRIM(V30)=\"\"),\"\",V29+V30)","v":""},null,null,null,{"$f":"IF(TRIM(Y31)=\"\", \"\", IF(VLOOKUP(Y31,'Footnotes list'!$D$9:$E$58,2,FALSE)=0,\"\",VLOOKUP(Y31,'Footnotes list'!$D$9:$E$58,2,FALSE) ) )","v":""},{"$f":"IF(AND(TRIM(AA29)=\"\", TRIM(AA30)=\"\"), \"\", SUM(AA29,AA30))","v":""},null,null,null,{"$f":"IF(TRIM(AD31)=\"\", \"\", IF(VLOOKUP(AD31,'Footnotes list'!$D$9:$E$58,2,FALSE)=0,\"\",VLOOKUP(AD31,'Footnotes list'!$D$9:$E$58,2,FALSE) ) )","v":""},{"$f":"IF(AND(TRIM(AF29)=\"\",TRIM(AF30)=\"\"),\"\",AF29+AF30)","v":""},null,null,null,{"$f":"IF(TRIM(AI31)=\"\", \"\", IF(VLOOKUP(AI31,'Footnotes list'!$D$9:$E$58,2,FALSE)=0,\"\",VLOOKUP(AI31,'Footnotes list'!$D$9:$E$58,2,FALSE) ) )","v":""},{"$f":"IF(AND(TRIM(AK29)=\"\",TRIM(AK30)=\"\"),\"\",AK29+AK30)","v":""},null,null,null,{"$f":"IF(TRIM(AN31)=\"\", \"\", IF(VLOOKUP(AN31,'Footnotes list'!$D$9:$E$58,2,FALSE)=0,\"\",VLOOKUP(AN31,'Footnotes list'!$D$9:$E$58,2,FALSE) ) )","v":""},{"$f":"IF(AND(TRIM(AP29)=\"\", TRIM(AP30)=\"\"), \"\", SUM(AP29,AP30))","v":""},null,null,null,{"$f":"IF(TRIM(AS31)=\"\", \"\", IF(VLOOKUP(AS31,'Footnotes list'!$D$9:$E$58,2,FALSE)=0,\"\",VLOOKUP(AS31,'Footnotes list'!$D$9:$E$58,2,FALSE) ) )","v":""},{"$f":"IF(AND(TRIM(AU29)=\"\", TRIM(AU30)=\"\"), \"\", SUM(AU29,AU30) )","v":""},null,null,null,{"$f":"IF(TRIM(AX31)=\"\", \"\", IF(VLOOKUP(AX31,'Footnotes list'!$D$9:$E$58,2,FALSE)=0,\"\",VLOOKUP(AX31,'Footnotes list'!$D$9:$E$58,2,FALSE) ) )","v":""}]
[null,"W062",null,"Metallic wastes, non-ferrous ",null,"Not applicable"]
[null,null,"W062",null,"NHAZ","Non-hazardous",null,null,null,null,{"$f":"IF(TRIM(J33)=\"\", \"\", IF(VLOOKUP(J33,'Footnotes list'!$D$9:$E$58,2,FALSE)=0,\"\",VLOOKUP(J33,'Footnotes list'!$D$9:$E$58,2,FALSE) ) )","v":""},null,null,null,null,{"$f":"IF(TRIM(O33)=\"\", \"\", IF(VLOOKUP(O33,'Footnotes list'!$D$9:$E$58,2,FALSE)=0,\"\",VLOOKUP(O33,'Footnotes list'!$D$9:$E$58,2,FALSE) ) )","v":""},null,null,null,null,{"$f":"IF(TRIM(T33)=\"\", \"\", IF(VLOOKUP(T33,'Footnotes list'!$D$9:$E$58,2,FALSE)=0,\"\",VLOOKUP(T33,'Footnotes list'!$D$9:$E$58,2,FALSE) ) )","v":""},null,null,null,null,{"$f":"IF(TRIM(Y33)=\"\", \"\", IF(VLOOKUP(Y33,'Footnotes list'!$D$9:$E$58,2,FALSE)=0,\"\",VLOOKUP(Y33,'Footnotes list'!$D$9:$E$58,2,FALSE) ) )","v":""},{"$f":"IF(AND(TRIM(Q33)=\"\",TRIM(V33)=\"\"),\"\",Q33+V33)","v":""},null,null,null,{"$f":"IF(TRIM(AD33)=\"\", \"\", IF(VLOOKUP(AD33,'Footnotes list'!$D$9:$E$58,2,FALSE)=0,\"\",VLOOKUP(AD33,'Footnotes list'!$D$9:$E$58,2,FALSE) ) )","v":""},null,null,null,null,{"$f":"IF(TRIM(AI33)=\"\", \"\", IF(VLOOKUP(AI33,'Footnotes list'!$D$9:$E$58,2,FALSE)=0,\"\",VLOOKUP(AI33,'Footnotes list'!$D$9:$E$58,2,FALSE) ) )","v":""},null,null,null,null,{"$f":"IF(TRIM(AN33)=\"\", \"\", IF(VLOOKUP(AN33,'Footnotes list'!$D$9:$E$58,2,FALSE)=0,\"\",VLOOKUP(AN33,'Footnotes list'!$D$9:$E$58,2,FALSE) ) )","v":""},{"$f":"IF(AND(TRIM(AF33)=\"\",TRIM(AK33)=\"\"),\"\",AF33+AK33)","v":""},null,null,null,{"$f":"IF(TRIM(AS33)=\"\", \"\", IF(VLOOKUP(AS33,'Footnotes list'!$D$9:$E$58,2,FALSE)=0,\"\",VLOOKUP(AS33,'Footnotes list'!$D$9:$E$58,2,FALSE) ) )","v":""},{"$f":"IF(AND(TRIM(G33)=\"\",TRIM(L33)=\"\",TRIM(AA33)=\"\",TRIM(AP33)=\"\"),\"\",SUM(G33,L33,AA33,AP33))","v":""},null,null,null,{"$f":"IF(TRIM(AX33)=\"\", \"\", IF(VLOOKUP(AX33,'Footnotes list'!$D$9:$E$58,2,FALSE)=0,\"\",VLOOKUP(AX33,'Footnotes list'!$D$9:$E$58,2,FALSE) ) )","v":""}]
[null,null,"W062",null,"HAZ_NHAZ","Total",{"$f":"IF(AND(TRIM(G32)=\"\",TRIM(G33)=\"\"),\"\",G32+G33)","v":""},null,null,null,{"$f":"IF(TRIM(J34)=\"\", \"\", IF(VLOOKUP(J34,'Footnotes list'!$D$9:$E$58,2,FALSE)=0,\"\",VLOOKUP(J34,'Footnotes list'!$D$9:$E$58,2,FALSE) ) )","v":""},{"$f":"IF(AND(TRIM(L32)=\"\",TRIM(L33)=\"\"),\"\",L32+L33)","v":""},null,null,null,{"$f":"IF(TRIM(O34)=\"\", \"\", IF(VLOOKUP(O34,'Footnotes list'!$D$9:$E$58,2,FALSE)=0,\"\",VLOOKUP(O34,'Footnotes list'!$D$9:$E$58,2,FALSE) ) )","v":""},{"$f":"IF(AND(TRIM(Q32)=\"\",TRIM(Q33)=\"\"),\"\",Q32+Q33)","v":""},null,null,null,{"$f":"IF(TRIM(T34)=\"\", \"\", IF(VLOOKUP(T34,'Footnotes list'!$D$9:$E$58,2,FALSE)=0,\"\",VLOOKUP(T34,'Footnotes list'!$D$9:$E$58,2,FALSE) ) )","v":""},{"$f":"IF(AND(TRIM(V32)=\"\",TRIM(V33)=\"\"),\"\",V32+V33)","v":""},null,null,null,{"$f":"IF(TRIM(Y34)=\"\", \"\", IF(VLOOKUP(Y34,'Footnotes list'!$D$9:$E$58,2,FALSE)=0,\"\",VLOOKUP(Y34,'Footnotes list'!$D$9:$E$58,2,FALSE) ) )","v":""},{"$f":"IF(AND(TRIM(AA32)=\"\", TRIM(AA33)=\"\"), \"\", SUM(AA32,AA33))","v":""},null,null,null,{"$f":"IF(TRIM(AD34)=\"\", \"\", IF(VLOOKUP(AD34,'Footnotes list'!$D$9:$E$58,2,FALSE)=0,\"\",VLOOKUP(AD34,'Footnotes list'!$D$9:$E$58,2,FALSE) ) )","v":""},{"$f":"IF(AND(TRIM(AF32)=\"\",TRIM(AF33)=\"\"),\"\",AF32+AF33)","v":""},null,null,null,{"$f":"IF(TRIM(AI34)=\"\", \"\", IF(VLOOKUP(AI34,'Footnotes list'!$D$9:$E$58,2,FALSE)=0,\"\",VLOOKUP(AI34,'Footnotes list'!$D$9:$E$58,2,FALSE) ) )","v":""},{"$f":"IF(AND(TRIM(AK32)=\"\",TRIM(AK33)=\"\"),\"\",AK32+AK33)","v":""},null,null,null,{"$f":"IF(TRIM(AN34)=\"\", \"\", IF(VLOOKUP(AN34,'Footnotes list'!$D$9:$E$58,2,FALSE)=0,\"\",VLOOKUP(AN34,'Footnotes list'!$D$9:$E$58,2,FALSE) ) )","v":""},{"$f":"IF(AND(TRIM(AP32)=\"\", TRIM(AP33)=\"\"), \"\", SUM(AP32,AP33))","v":""},null,null,null,{"$f":"IF(TRIM(AS34)=\"\", \"\", IF(VLOOKUP(AS34,'Footnotes list'!$D$9:$E$58,2,FALSE)=0,\"\",VLOOKUP(AS34,'Footnotes list'!$D$9:$E$58,2,FALSE) ) )","v":""},{"$f":"IF(AND(TRIM(AU32)=\"\", TRIM(AU33)=\"\"), \"\", SUM(AU32,AU33) )","v":""},null,null,null,{"$f":"IF(TRIM(AX34)=\"\", \"\", IF(VLOOKUP(AX34,'Footnotes list'!$D$9:$E$58,2,FALSE)=0,\"\",VLOOKUP(AX34,'Footnotes list'!$D$9:$E$58,2,FALSE) ) )","v":""}]
[null,"W063",null,"Metal wastes, mixed ferrous and non-ferrous",null,"Not applicable"]
[null,null,"W063",null,"NHAZ","Non-hazardous",null,null,null,null,{"$f":"IF(TRIM(J36)=\"\", \"\", IF(VLOOKUP(J36,'Footnotes list'!$D$9:$E$58,2,FALSE)=0,\"\",VLOOKUP(J36,'Footnotes list'!$D$9:$E$58,2,FALSE) ) )","v":""},null,null,null,null,{"$f":"IF(TRIM(O36)=\"\", \"\", IF(VLOOKUP(O36,'Footnotes list'!$D$9:$E$58,2,FALSE)=0,\"\",VLOOKUP(O36,'Footnotes list'!$D$9:$E$58,2,FALSE) ) )","v":""},null,null,null,null,{"$f":"IF(TRIM(T36)=\"\", \"\", IF(VLOOKUP(T36,'Footnotes list'!$D$9:$E$58,2,FALSE)=0,\"\",VLOOKUP(T36,'Footnotes list'!$D$9:$E$58,2,FALSE) ) )","v":""},null,null,null,null,{"$f":"IF(TRIM(Y36)=\"\", \"\", IF(VLOOKUP(Y36,'Footnotes list'!$D$9:$E$58,2,FALSE)=0,\"\",VLOOKUP(Y36,'Footnotes list'!$D$9:$E$58,2,FALSE) ) )","v":""},{"$f":"IF(AND(TRIM(Q36)=\"\",TRIM(V36)=\"\"),\"\",Q36+V36)","v":""},null,null,null,{"$f":"IF(TRIM(AD36)=\"\", \"\", IF(VLOOKUP(AD36,'Footnotes list'!$D$9:$E$58,2,FALSE)=0,\"\",VLOOKUP(AD36,'Footnotes list'!$D$9:$E$58,2,FALSE) ) )","v":""},null,null,null,null,{"$f":"IF(TRIM(AI36)=\"\", \"\", IF(VLOOKUP(AI36,'Footnotes list'!$D$9:$E$58,2,FALSE)=0,\"\",VLOOKUP(AI36,'Footnotes list'!$D$9:$E$58,2,FALSE) ) )","v":""},null,null,null,null,{"$f":"IF(TRIM(AN36)=\"\", \"\", IF(VLOOKUP(AN36,'Footnotes list'!$D$9:$E$58,2,FALSE)=0,\"\",VLOOKUP(AN36,'Footnotes list'!$D$9:$E$58,2,FALSE) ) )","v":""},{"$f":"IF(AND(TRIM(AF36)=\"\",TRIM(AK36)=\"\"),\"\",AF36+AK36)","v":""},null,null,null,{"$f":"IF(TRIM(AS36)=\"\", \"\", IF(VLOOKUP(AS36,'Footnotes list'!$D$9:$E$58,2,FALSE)=0,\"\",VLOOKUP(AS36,'Footnotes list'!$D$9:$E$58,2,FALSE) ) )","v":""},{"$f":"IF(AND(TRIM(G36)=\"\",TRIM(L36)=\"\",TRIM(AA36)=\"\",TRIM(AP36)=\"\"),\"\",SUM(G36,L36,AA36,AP36))","v":""},null,null,null,{"$f":"IF(TRIM(AX36)=\"\", \"\", IF(VLOOKUP(AX36,'Footnotes list'!$D$9:$E$58,2,FALSE)=0,\"\",VLOOKUP(AX36,'Footnotes list'!$D$9:$E$58,2,FALSE) ) )","v":""}]
[null,null,"W063",null,"HAZ_NHAZ","Total",{"$f":"IF(AND(TRIM(G35)=\"\",TRIM(G36)=\"\"),\"\",G35+G36)","v":""},null,null,null,{"$f":"IF(TRIM(J37)=\"\", \"\", IF(VLOOKUP(J37,'Footnotes list'!$D$9:$E$58,2,FALSE)=0,\"\",VLOOKUP(J37,'Footnotes list'!$D$9:$E$58,2,FALSE) ) )","v":""},{"$f":"IF(AND(TRIM(L35)=\"\",TRIM(L36)=\"\"),\"\",L35+L36)","v":""},null,null,null,{"$f":"IF(TRIM(O37)=\"\", \"\", IF(VLOOKUP(O37,'Footnotes list'!$D$9:$E$58,2,FALSE)=0,\"\",VLOOKUP(O37,'Footnotes list'!$D$9:$E$58,2,FALSE) ) )","v":""},{"$f":"IF(AND(TRIM(Q35)=\"\",TRIM(Q36)=\"\"),\"\",Q35+Q36)","v":""},null,null,null,{"$f":"IF(TRIM(T37)=\"\", \"\", IF(VLOOKUP(T37,'Footnotes list'!$D$9:$E$58,2,FALSE)=0,\"\",VLOOKUP(T37,'Footnotes list'!$D$9:$E$58,2,FALSE) ) )","v":""},{"$f":"IF(AND(TRIM(V35)=\"\",TRIM(V36)=\"\"),\"\",V35+V36)","v":""},null,null,null,{"$f":"IF(TRIM(Y37)=\"\", \"\", IF(VLOOKUP(Y37,'Footnotes list'!$D$9:$E$58,2,FALSE)=0,\"\",VLOOKUP(Y37,'Footnotes list'!$D$9:$E$58,2,FALSE) ) )","v":""},{"$f":"IF(AND(TRIM(AA35)=\"\", TRIM(AA36)=\"\"), \"\", SUM(AA35,AA36))","v":""},null,null,null,{"$f":"IF(TRIM(AD37)=\"\", \"\", IF(VLOOKUP(AD37,'Footnotes list'!$D$9:$E$58,2,FALSE)=0,\"\",VLOOKUP(AD37,'Footnotes list'!$D$9:$E$58,2,FALSE) ) )","v":""},{"$f":"IF(AND(TRIM(AF35)=\"\",TRIM(AF36)=\"\"),\"\",AF35+AF36)","v":""},null,null,null,{"$f":"IF(TRIM(AI37)=\"\", \"\", IF(VLOOKUP(AI37,'Footnotes list'!$D$9:$E$58,2,FALSE)=0,\"\",VLOOKUP(AI37,'Footnotes list'!$D$9:$E$58,2,FALSE) ) )","v":""},{"$f":"IF(AND(TRIM(AK35)=\"\",TRIM(AK36)=\"\"),\"\",AK35+AK36)","v":""},null,null,null,{"$f":"IF(TRIM(AN37)=\"\", \"\", IF(VLOOKUP(AN37,'Footnotes list'!$D$9:$E$58,2,FALSE)=0,\"\",VLOOKUP(AN37,'Footnotes list'!$D$9:$E$58,2,FALSE) ) )","v":""},{"$f":"IF(AND(TRIM(AP35)=\"\", TRIM(AP36)=\"\"), \"\", SUM(AP35,AP36))","v":""},null,null,null,{"$f":"IF(TRIM(AS37)=\"\", \"\", IF(VLOOKUP(AS37,'Footnotes list'!$D$9:$E$58,2,FALSE)=0,\"\",VLOOKUP(AS37,'Footnotes list'!$D$9:$E$58,2,FALSE) ) )","v":""},{"$f":"IF(AND(TRIM(AU35)=\"\", TRIM(AU36)=\"\"), \"\", SUM(AU35,AU36) )","v":""},null,null,null,{"$f":"IF(TRIM(AX37)=\"\", \"\", IF(VLOOKUP(AX37,'Footnotes list'!$D$9:$E$58,2,FALSE)=0,\"\",VLOOKUP(AX37,'Footnotes list'!$D$9:$E$58,2,FALSE) ) )","v":""}]
[null,"W071","W071","Glass wastes ","HAZ","Hazardous ",null,null,null,null,{"$f":"IF(TRIM(J38)=\"\", \"\", IF(VLOOKUP(J38,'Footnotes list'!$D$9:$E$58,2,FALSE)=0,\"\",VLOOKUP(J38,'Footnotes list'!$D$9:$E$58,2,FALSE) ) )","v":""},null,null,null,null,{"$f":"IF(TRIM(O38)=\"\", \"\", IF(VLOOKUP(O38,'Footnotes list'!$D$9:$E$58,2,FALSE)=0,\"\",VLOOKUP(O38,'Footnotes list'!$D$9:$E$58,2,FALSE) ) )","v":""},null,null,null,null,{"$f":"IF(TRIM(T38)=\"\", \"\", IF(VLOOKUP(T38,'Footnotes list'!$D$9:$E$58,2,FALSE)=0,\"\",VLOOKUP(T38,'Footnotes list'!$D$9:$E$58,2,FALSE) ) )","v":""},null,null,null,null,{"$f":"IF(TRIM(Y38)=\"\", \"\", IF(VLOOKUP(Y38,'Footnotes list'!$D$9:$E$58,2,FALSE)=0,\"\",VLOOKUP(Y38,'Footnotes list'!$D$9:$E$58,2,FALSE) ) )","v":""},{"$f":"IF(AND(TRIM(Q38)=\"\",TRIM(V38)=\"\"),\"\",Q38+V38)","v":""},null,null,null,{"$f":"IF(TRIM(AD38)=\"\", \"\", IF(VLOOKUP(AD38,'Footnotes list'!$D$9:$E$58,2,FALSE)=0,\"\",VLOOKUP(AD38,'Footnotes list'!$D$9:$E$58,2,FALSE) ) )","v":""},null,null,null,null,{"$f":"IF(TRIM(AI38)=\"\", \"\", IF(VLOOKUP(AI38,'Footnotes list'!$D$9:$E$58,2,FALSE)=0,\"\",VLOOKUP(AI38,'Footnotes list'!$D$9:$E$58,2,FALSE) ) )","v":""},null,null,null,null,{"$f":"IF(TRIM(AN38)=\"\", \"\", IF(VLOOKUP(AN38,'Footnotes list'!$D$9:$E$58,2,FALSE)=0,\"\",VLOOKUP(AN38,'Footnotes list'!$D$9:$E$58,2,FALSE) ) )","v":""},{"$f":"IF(AND(TRIM(AF38)=\"\",TRIM(AK38)=\"\"),\"\",AF38+AK38)","v":""},null,null,null,{"$f":"IF(TRIM(AS38)=\"\", \"\", IF(VLOOKUP(AS38,'Footnotes list'!$D$9:$E$58,2,FALSE)=0,\"\",VLOOKUP(AS38,'Footnotes list'!$D$9:$E$58,2,FALSE) ) )","v":""},{"$f":"IF(AND(TRIM(G38)=\"\",TRIM(L38)=\"\",TRIM(AA38)=\"\",TRIM(AP38)=\"\"),\"\",SUM(G38,L38,AA38,AP38))","v":""},null,null,null,{"$f":"IF(TRIM(AX38)=\"\", \"\", IF(VLOOKUP(AX38,'Footnotes list'!$D$9:$E$58,2,FALSE)=0,\"\",VLOOKUP(AX38,'Footnotes list'!$D$9:$E$58,2,FALSE) ) )","v":""}]
[null,null,"W071",null,"NHAZ","Non-hazardous",null,null,null,null,{"$f":"IF(TRIM(J39)=\"\", \"\", IF(VLOOKUP(J39,'Footnotes list'!$D$9:$E$58,2,FALSE)=0,\"\",VLOOKUP(J39,'Footnotes list'!$D$9:$E$58,2,FALSE) ) )","v":""},null,null,null,null,{"$f":"IF(TRIM(O39)=\"\", \"\", IF(VLOOKUP(O39,'Footnotes list'!$D$9:$E$58,2,FALSE)=0,\"\",VLOOKUP(O39,'Footnotes list'!$D$9:$E$58,2,FALSE) ) )","v":""},null,null,null,null,{"$f":"IF(TRIM(T39)=\"\", \"\", IF(VLOOKUP(T39,'Footnotes list'!$D$9:$E$58,2,FALSE)=0,\"\",VLOOKUP(T39,'Footnotes list'!$D$9:$E$58,2,FALSE) ) )","v":""},null,null,null,null,{"$f":"IF(TRIM(Y39)=\"\", \"\", IF(VLOOKUP(Y39,'Footnotes list'!$D$9:$E$58,2,FALSE)=0,\"\",VLOOKUP(Y39,'Footnotes list'!$D$9:$E$58,2,FALSE) ) )","v":""},{"$f":"IF(AND(TRIM(Q39)=\"\",TRIM(V39)=\"\"),\"\",Q39+V39)","v":""},null,null,null,{"$f":"IF(TRIM(AD39)=\"\", \"\", IF(VLOOKUP(AD39,'Footnotes list'!$D$9:$E$58,2,FALSE)=0,\"\",VLOOKUP(AD39,'Footnotes list'!$D$9:$E$58,2,FALSE) ) )","v":""},null,null,null,null,{"$f":"IF(TRIM(AI39)=\"\", \"\", IF(VLOOKUP(AI39,'Footnotes list'!$D$9:$E$58,2,FALSE)=0,\"\",VLOOKUP(AI39,'Footnotes list'!$D$9:$E$58,2,FALSE) ) )","v":""},null,null,null,null,{"$f":"IF(TRIM(AN39)=\"\", \"\", IF(VLOOKUP(AN39,'Footnotes list'!$D$9:$E$58,2,FALSE)=0,\"\",VLOOKUP(AN39,'Footnotes list'!$D$9:$E$58,2,FALSE) ) )","v":""},{"$f":"IF(AND(TRIM(AF39)=\"\",TRIM(AK39)=\"\"),\"\",AF39+AK39)","v":""},null,null,null,{"$f":"IF(TRIM(AS39)=\"\", \"\", IF(VLOOKUP(AS39,'Footnotes list'!$D$9:$E$58,2,FALSE)=0,\"\",VLOOKUP(AS39,'Footnotes list'!$D$9:$E$58,2,FALSE) ) )","v":""},{"$f":"IF(AND(TRIM(G39)=\"\",TRIM(L39)=\"\",TRIM(AA39)=\"\",TRIM(AP39)=\"\"),\"\",SUM(G39,L39,AA39,AP39))","v":""},null,null,null,{"$f":"IF(TRIM(AX39)=\"\", \"\", IF(VLOOKUP(AX39,'Footnotes list'!$D$9:$E$58,2,FALSE)=0,\"\",VLOOKUP(AX39,'Footnotes list'!$D$9:$E$58,2,FALSE) ) )","v":""}]
[null,null,"W071",null,"HAZ_NHAZ","Total",{"$f":"IF(AND(TRIM(G38)=\"\",TRIM(G39)=\"\"),\"\",G38+G39)","v":""},null,null,null,{"$f":"IF(TRIM(J40)=\"\", \"\", IF(VLOOKUP(J40,'Footnotes list'!$D$9:$E$58,2,FALSE)=0,\"\",VLOOKUP(J40,'Footnotes list'!$D$9:$E$58,2,FALSE) ) )","v":""},{"$f":"IF(AND(TRIM(L38)=\"\",TRIM(L39)=\"\"),\"\",L38+L39)","v":""},null,null,null,{"$f":"IF(TRIM(O40)=\"\", \"\", IF(VLOOKUP(O40,'Footnotes list'!$D$9:$E$58,2,FALSE)=0,\"\",VLOOKUP(O40,'Footnotes list'!$D$9:$E$58,2,FALSE) ) )","v":""},{"$f":"IF(AND(TRIM(Q38)=\"\",TRIM(Q39)=\"\"),\"\",Q38+Q39)","v":""},null,null,null,{"$f":"IF(TRIM(T40)=\"\", \"\", IF(VLOOKUP(T40,'Footnotes list'!$D$9:$E$58,2,FALSE)=0,\"\",VLOOKUP(T40,'Footnotes list'!$D$9:$E$58,2,FALSE) ) )","v":""},{"$f":"IF(AND(TRIM(V38)=\"\",TRIM(V39)=\"\"),\"\",V38+V39)","v":""},null,null,null,{"$f":"IF(TRIM(Y40)=\"\", \"\", IF(VLOOKUP(Y40,'Footnotes list'!$D$9:$E$58,2,FALSE)=0,\"\",VLOOKUP(Y40,'Footnotes list'!$D$9:$E$58,2,FALSE) ) )","v":""},{"$f":"IF(AND(TRIM(AA38)=\"\", TRIM(AA39)=\"\"), \"\", SUM(AA38,AA39))","v":""},null,null,null,{"$f":"IF(TRIM(AD40)=\"\", \"\", IF(VLOOKUP(AD40,'Footnotes list'!$D$9:$E$58,2,FALSE)=0,\"\",VLOOKUP(AD40,'Footnotes list'!$D$9:$E$58,2,FALSE) ) )","v":""},{"$f":"IF(AND(TRIM(AF38)=\"\",TRIM(AF39)=\"\"),\"\",AF38+AF39)","v":""},null,null,null,{"$f":"IF(TRIM(AI40)=\"\", \"\", IF(VLOOKUP(AI40,'Footnotes list'!$D$9:$E$58,2,FALSE)=0,\"\",VLOOKUP(AI40,'Footnotes list'!$D$9:$E$58,2,FALSE) ) )","v":""},{"$f":"IF(AND(TRIM(AK38)=\"\",TRIM(AK39)=\"\"),\"\",AK38+AK39)","v":""},null,null,null,{"$f":"IF(TRIM(AN40)=\"\", \"\", IF(VLOOKUP(AN40,'Footnotes list'!$D$9:$E$58,2,FALSE)=0,\"\",VLOOKUP(AN40,'Footnotes list'!$D$9:$E$58,2,FALSE) ) )","v":""},{"$f":"IF(AND(TRIM(AP38)=\"\", TRIM(AP39)=\"\"), \"\", SUM(AP38,AP39))","v":""},null,null,null,{"$f":"IF(TRIM(AS40)=\"\", \"\", IF(VLOOKUP(AS40,'Footnotes list'!$D$9:$E$58,2,FALSE)=0,\"\",VLOOKUP(AS40,'Footnotes list'!$D$9:$E$58,2,FALSE) ) )","v":""},{"$f":"IF(AND(TRIM(AU38)=\"\", TRIM(AU39)=\"\"), \"\", SUM(AU38,AU39) )","v":""},null,null,null,{"$f":"IF(TRIM(AX40)=\"\", \"\", IF(VLOOKUP(AX40,'Footnotes list'!$D$9:$E$58,2,FALSE)=0,\"\",VLOOKUP(AX40,'Footnotes list'!$D$9:$E$58,2,FALSE) ) )","v":""}]
[null,"W072",null,"Paper and cardboard wastes ",null,"Not applicable"]
[null,null,"W072",null,"NHAZ","Non-hazardous",null,null,null,null,{"$f":"IF(TRIM(J42)=\"\", \"\", IF(VLOOKUP(J42,'Footnotes list'!$D$9:$E$58,2,FALSE)=0,\"\",VLOOKUP(J42,'Footnotes list'!$D$9:$E$58,2,FALSE) ) )","v":""},null,null,null,null,{"$f":"IF(TRIM(O42)=\"\", \"\", IF(VLOOKUP(O42,'Footnotes list'!$D$9:$E$58,2,FALSE)=0,\"\",VLOOKUP(O42,'Footnotes list'!$D$9:$E$58,2,FALSE) ) )","v":""},null,null,null,null,{"$f":"IF(TRIM(T42)=\"\", \"\", IF(VLOOKUP(T42,'Footnotes list'!$D$9:$E$58,2,FALSE)=0,\"\",VLOOKUP(T42,'Footnotes list'!$D$9:$E$58,2,FALSE) ) )","v":""},null,null,null,null,{"$f":"IF(TRIM(Y42)=\"\", \"\", IF(VLOOKUP(Y42,'Footnotes list'!$D$9:$E$58,2,FALSE)=0,\"\",VLOOKUP(Y42,'Footnotes list'!$D$9:$E$58,2,FALSE) ) )","v":""},{"$f":"IF(AND(TRIM(Q42)=\"\",TRIM(V42)=\"\"),\"\",Q42+V42)","v":""},null,null,null,{"$f":"IF(TRIM(AD42)=\"\", \"\", IF(VLOOKUP(AD42,'Footnotes list'!$D$9:$E$58,2,FALSE)=0,\"\",VLOOKUP(AD42,'Footnotes list'!$D$9:$E$58,2,FALSE) ) )","v":""},null,null,null,null,{"$f":"IF(TRIM(AI42)=\"\", \"\", IF(VLOOKUP(AI42,'Footnotes list'!$D$9:$E$58,2,FALSE)=0,\"\",VLOOKUP(AI42,'Footnotes list'!$D$9:$E$58,2,FALSE) ) )","v":""},null,null,null,null,{"$f":"IF(TRIM(AN42)=\"\", \"\", IF(VLOOKUP(AN42,'Footnotes list'!$D$9:$E$58,2,FALSE)=0,\"\",VLOOKUP(AN42,'Footnotes list'!$D$9:$E$58,2,FALSE) ) )","v":""},{"$f":"IF(AND(TRIM(AF42)=\"\",TRIM(AK42)=\"\"),\"\",AF42+AK42)","v":""},null,null,null,{"$f":"IF(TRIM(AS42)=\"\", \"\", IF(VLOOKUP(AS42,'Footnotes list'!$D$9:$E$58,2,FALSE)=0,\"\",VLOOKUP(AS42,'Footnotes list'!$D$9:$E$58,2,FALSE) ) )","v":""},{"$f":"IF(AND(TRIM(G42)=\"\",TRIM(L42)=\"\",TRIM(AA42)=\"\",TRIM(AP42)=\"\"),\"\",SUM(G42,L42,AA42,AP42))","v":""},null,null,null,{"$f":"IF(TRIM(AX42)=\"\", \"\", IF(VLOOKUP(AX42,'Footnotes list'!$D$9:$E$58,2,FALSE)=0,\"\",VLOOKUP(AX42,'Footnotes list'!$D$9:$E$58,2,FALSE) ) )","v":""}]
[null,null,"W072",null,"HAZ_NHAZ","Total",{"$f":"IF(AND(TRIM(G41)=\"\",TRIM(G42)=\"\"),\"\",G41+G42)","v":""},null,null,null,{"$f":"IF(TRIM(J43)=\"\", \"\", IF(VLOOKUP(J43,'Footnotes list'!$D$9:$E$58,2,FALSE)=0,\"\",VLOOKUP(J43,'Footnotes list'!$D$9:$E$58,2,FALSE) ) )","v":""},{"$f":"IF(AND(TRIM(L41)=\"\",TRIM(L42)=\"\"),\"\",L41+L42)","v":""},null,null,null,{"$f":"IF(TRIM(O43)=\"\", \"\", IF(VLOOKUP(O43,'Footnotes list'!$D$9:$E$58,2,FALSE)=0,\"\",VLOOKUP(O43,'Footnotes list'!$D$9:$E$58,2,FALSE) ) )","v":""},{"$f":"IF(AND(TRIM(Q41)=\"\",TRIM(Q42)=\"\"),\"\",Q41+Q42)","v":""},null,null,null,{"$f":"IF(TRIM(T43)=\"\", \"\", IF(VLOOKUP(T43,'Footnotes list'!$D$9:$E$58,2,FALSE)=0,\"\",VLOOKUP(T43,'Footnotes list'!$D$9:$E$58,2,FALSE) ) )","v":""},{"$f":"IF(AND(TRIM(V41)=\"\",TRIM(V42)=\"\"),\"\",V41+V42)","v":""},null,null,null,{"$f":"IF(TRIM(Y43)=\"\", \"\", IF(VLOOKUP(Y43,'Footnotes list'!$D$9:$E$58,2,FALSE)=0,\"\",VLOOKUP(Y43,'Footnotes list'!$D$9:$E$58,2,FALSE) ) )","v":""},{"$f":"IF(AND(TRIM(AA41)=\"\", TRIM(AA42)=\"\"), \"\", SUM(AA41,AA42))","v":""},null,null,null,{"$f":"IF(TRIM(AD43)=\"\", \"\", IF(VLOOKUP(AD43,'Footnotes list'!$D$9:$E$58,2,FALSE)=0,\"\",VLOOKUP(AD43,'Footnotes list'!$D$9:$E$58,2,FALSE) ) )","v":""},{"$f":"IF(AND(TRIM(AF41)=\"\",TRIM(AF42)=\"\"),\"\",AF41+AF42)","v":""},null,null,null,{"$f":"IF(TRIM(AI43)=\"\", \"\", IF(VLOOKUP(AI43,'Footnotes list'!$D$9:$E$58,2,FALSE)=0,\"\",VLOOKUP(AI43,'Footnotes list'!$D$9:$E$58,2,FALSE) ) )","v":""},{"$f":"IF(AND(TRIM(AK41)=\"\",TRIM(AK42)=\"\"),\"\",AK41+AK42)","v":""},null,null,null,{"$f":"IF(TRIM(AN43)=\"\", \"\", IF(VLOOKUP(AN43,'Footnotes list'!$D$9:$E$58,2,FALSE)=0,\"\",VLOOKUP(AN43,'Footnotes list'!$D$9:$E$58,2,FALSE) ) )","v":""},{"$f":"IF(AND(TRIM(AP41)=\"\", TRIM(AP42)=\"\"), \"\", SUM(AP41,AP42))","v":""},null,null,null,{"$f":"IF(TRIM(AS43)=\"\", \"\", IF(VLOOKUP(AS43,'Footnotes list'!$D$9:$E$58,2,FALSE)=0,\"\",VLOOKUP(AS43,'Footnotes list'!$D$9:$E$58,2,FALSE) ) )","v":""},{"$f":"IF(AND(TRIM(AU41)=\"\", TRIM(AU42)=\"\"), \"\", SUM(AU41,AU42) )","v":""},null,null,null,{"$f":"IF(TRIM(AX43)=\"\", \"\", IF(VLOOKUP(AX43,'Footnotes list'!$D$9:$E$58,2,FALSE)=0,\"\",VLOOKUP(AX43,'Footnotes list'!$D$9:$E$58,2,FALSE) ) )","v":""}]
[null,"W073",null,"Rubber wastes ",null,"Not applicable"]
[null,null,"W073",null,"NHAZ","Non-hazardous",null,null,null,null,{"$f":"IF(TRIM(J45)=\"\", \"\", IF(VLOOKUP(J45,'Footnotes list'!$D$9:$E$58,2,FALSE)=0,\"\",VLOOKUP(J45,'Footnotes list'!$D$9:$E$58,2,FALSE) ) )","v":""},null,null,null,null,{"$f":"IF(TRIM(O45)=\"\", \"\", IF(VLOOKUP(O45,'Footnotes list'!$D$9:$E$58,2,FALSE)=0,\"\",VLOOKUP(O45,'Footnotes list'!$D$9:$E$58,2,FALSE) ) )","v":""},null,null,null,null,{"$f":"IF(TRIM(T45)=\"\", \"\", IF(VLOOKUP(T45,'Footnotes list'!$D$9:$E$58,2,FALSE)=0,\"\",VLOOKUP(T45,'Footnotes list'!$D$9:$E$58,2,FALSE) ) )","v":""},null,null,null,null,{"$f":"IF(TRIM(Y45)=\"\", \"\", IF(VLOOKUP(Y45,'Footnotes list'!$D$9:$E$58,2,FALSE)=0,\"\",VLOOKUP(Y45,'Footnotes list'!$D$9:$E$58,2,FALSE) ) )","v":""},{"$f":"IF(AND(TRIM(Q45)=\"\",TRIM(V45)=\"\"),\"\",Q45+V45)","v":""},null,null,null,{"$f":"IF(TRIM(AD45)=\"\", \"\", IF(VLOOKUP(AD45,'Footnotes list'!$D$9:$E$58,2,FALSE)=0,\"\",VLOOKUP(AD45,'Footnotes list'!$D$9:$E$58,2,FALSE) ) )","v":""},null,null,null,null,{"$f":"IF(TRIM(AI45)=\"\", \"\", IF(VLOOKUP(AI45,'Footnotes list'!$D$9:$E$58,2,FALSE)=0,\"\",VLOOKUP(AI45,'Footnotes list'!$D$9:$E$58,2,FALSE) ) )","v":""},null,null,null,null,{"$f":"IF(TRIM(AN45)=\"\", \"\", IF(VLOOKUP(AN45,'Footnotes list'!$D$9:$E$58,2,FALSE)=0,\"\",VLOOKUP(AN45,'Footnotes list'!$D$9:$E$58,2,FALSE) ) )","v":""},{"$f":"IF(AND(TRIM(AF45)=\"\",TRIM(AK45)=\"\"),\"\",AF45+AK45)","v":""},null,null,null,{"$f":"IF(TRIM(AS45)=\"\", \"\", IF(VLOOKUP(AS45,'Footnotes list'!$D$9:$E$58,2,FALSE)=0,\"\",VLOOKUP(AS45,'Footnotes list'!$D$9:$E$58,2,FALSE) ) )","v":""},{"$f":"IF(AND(TRIM(G45)=\"\",TRIM(L45)=\"\",TRIM(AA45)=\"\",TRIM(AP45)=\"\"),\"\",SUM(G45,L45,AA45,AP45))","v":""},null,null,null,{"$f":"IF(TRIM(AX45)=\"\", \"\", IF(VLOOKUP(AX45,'Footnotes list'!$D$9:$E$58,2,FALSE)=0,\"\",VLOOKUP(AX45,'Footnotes list'!$D$9:$E$58,2,FALSE) ) )","v":""}]
[null,null,"W073",null,"HAZ_NHAZ","Total",{"$f":"IF(AND(TRIM(G44)=\"\",TRIM(G45)=\"\"),\"\",G44+G45)","v":""},null,null,null,{"$f":"IF(TRIM(J46)=\"\", \"\", IF(VLOOKUP(J46,'Footnotes list'!$D$9:$E$58,2,FALSE)=0,\"\",VLOOKUP(J46,'Footnotes list'!$D$9:$E$58,2,FALSE) ) )","v":""},{"$f":"IF(AND(TRIM(L44)=\"\",TRIM(L45)=\"\"),\"\",L44+L45)","v":""},null,null,null,{"$f":"IF(TRIM(O46)=\"\", \"\", IF(VLOOKUP(O46,'Footnotes list'!$D$9:$E$58,2,FALSE)=0,\"\",VLOOKUP(O46,'Footnotes list'!$D$9:$E$58,2,FALSE) ) )","v":""},{"$f":"IF(AND(TRIM(Q44)=\"\",TRIM(Q45)=\"\"),\"\",Q44+Q45)","v":""},null,null,null,{"$f":"IF(TRIM(T46)=\"\", \"\", IF(VLOOKUP(T46,'Footnotes list'!$D$9:$E$58,2,FALSE)=0,\"\",VLOOKUP(T46,'Footnotes list'!$D$9:$E$58,2,FALSE) ) )","v":""},{"$f":"IF(AND(TRIM(V44)=\"\",TRIM(V45)=\"\"),\"\",V44+V45)","v":""},null,null,null,{"$f":"IF(TRIM(Y46)=\"\", \"\", IF(VLOOKUP(Y46,'Footnotes list'!$D$9:$E$58,2,FALSE)=0,\"\",VLOOKUP(Y46,'Footnotes list'!$D$9:$E$58,2,FALSE) ) )","v":""},{"$f":"IF(AND(TRIM(AA44)=\"\", TRIM(AA45)=\"\"), \"\", SUM(AA44,AA45))","v":""},null,null,null,{"$f":"IF(TRIM(AD46)=\"\", \"\", IF(VLOOKUP(AD46,'Footnotes list'!$D$9:$E$58,2,FALSE)=0,\"\",VLOOKUP(AD46,'Footnotes list'!$D$9:$E$58,2,FALSE) ) )","v":""},{"$f":"IF(AND(TRIM(AF44)=\"\",TRIM(AF45)=\"\"),\"\",AF44+AF45)","v":""},null,null,null,{"$f":"IF(TRIM(AI46)=\"\", \"\", IF(VLOOKUP(AI46,'Footnotes list'!$D$9:$E$58,2,FALSE)=0,\"\",VLOOKUP(AI46,'Footnotes list'!$D$9:$E$58,2,FALSE) ) )","v":""},{"$f":"IF(AND(TRIM(AK44)=\"\",TRIM(AK45)=\"\"),\"\",AK44+AK45)","v":""},null,null,null,{"$f":"IF(TRIM(AN46)=\"\", \"\", IF(VLOOKUP(AN46,'Footnotes list'!$D$9:$E$58,2,FALSE)=0,\"\",VLOOKUP(AN46,'Footnotes list'!$D$9:$E$58,2,FALSE) ) )","v":""},{"$f":"IF(AND(TRIM(AP44)=\"\", TRIM(AP45)=\"\"), \"\", SUM(AP44,AP45))","v":""},null,null,null,{"$f":"IF(TRIM(AS46)=\"\", \"\", IF(VLOOKUP(AS46,'Footnotes list'!$D$9:$E$58,2,FALSE)=0,\"\",VLOOKUP(AS46,'Footnotes list'!$D$9:$E$58,2,FALSE) ) )","v":""},{"$f":"IF(AND(TRIM(AU44)=\"\", TRIM(AU45)=\"\"), \"\", SUM(AU44,AU45) )","v":""},null,null,null,{"$f":"IF(TRIM(AX46)=\"\", \"\", IF(VLOOKUP(AX46,'Footnotes list'!$D$9:$E$58,2,FALSE)=0,\"\",VLOOKUP(AX46,'Footnotes list'!$D$9:$E$58,2,FALSE) ) )","v":""}]
[null,"W074",null,"Plastic wastes ",null,"Not applicable"]
[null,null,"W074",null,"NHAZ","Non-hazardous",null,null,null,null,{"$f":"IF(TRIM(J48)=\"\", \"\", IF(VLOOKUP(J48,'Footnotes list'!$D$9:$E$58,2,FALSE)=0,\"\",VLOOKUP(J48,'Footnotes list'!$D$9:$E$58,2,FALSE) ) )","v":""},null,null,null,null,{"$f":"IF(TRIM(O48)=\"\", \"\", IF(VLOOKUP(O48,'Footnotes list'!$D$9:$E$58,2,FALSE)=0,\"\",VLOOKUP(O48,'Footnotes list'!$D$9:$E$58,2,FALSE) ) )","v":""},null,null,null,null,{"$f":"IF(TRIM(T48)=\"\", \"\", IF(VLOOKUP(T48,'Footnotes list'!$D$9:$E$58,2,FALSE)=0,\"\",VLOOKUP(T48,'Footnotes list'!$D$9:$E$58,2,FALSE) ) )","v":""},null,null,null,null,{"$f":"IF(TRIM(Y48)=\"\", \"\", IF(VLOOKUP(Y48,'Footnotes list'!$D$9:$E$58,2,FALSE)=0,\"\",VLOOKUP(Y48,'Footnotes list'!$D$9:$E$58,2,FALSE) ) )","v":""},{"$f":"IF(AND(TRIM(Q48)=\"\",TRIM(V48)=\"\"),\"\",Q48+V48)","v":""},null,null,null,{"$f":"IF(TRIM(AD48)=\"\", \"\", IF(VLOOKUP(AD48,'Footnotes list'!$D$9:$E$58,2,FALSE)=0,\"\",VLOOKUP(AD48,'Footnotes list'!$D$9:$E$58,2,FALSE) ) )","v":""},null,null,null,null,{"$f":"IF(TRIM(AI48)=\"\", \"\", IF(VLOOKUP(AI48,'Footnotes list'!$D$9:$E$58,2,FALSE)=0,\"\",VLOOKUP(AI48,'Footnotes list'!$D$9:$E$58,2,FALSE) ) )","v":""},null,null,null,null,{"$f":"IF(TRIM(AN48)=\"\", \"\", IF(VLOOKUP(AN48,'Footnotes list'!$D$9:$E$58,2,FALSE)=0,\"\",VLOOKUP(AN48,'Footnotes list'!$D$9:$E$58,2,FALSE) ) )","v":""},{"$f":"IF(AND(TRIM(AF48)=\"\",TRIM(AK48)=\"\"),\"\",AF48+AK48)","v":""},null,null,null,{"$f":"IF(TRIM(AS48)=\"\", \"\", IF(VLOOKUP(AS48,'Footnotes list'!$D$9:$E$58,2,FALSE)=0,\"\",VLOOKUP(AS48,'Footnotes list'!$D$9:$E$58,2,FALSE) ) )","v":""},{"$f":"IF(AND(TRIM(G48)=\"\",TRIM(L48)=\"\",TRIM(AA48)=\"\",TRIM(AP48)=\"\"),\"\",SUM(G48,L48,AA48,AP48))","v":""},null,null,null,{"$f":"IF(TRIM(AX48)=\"\", \"\", IF(VLOOKUP(AX48,'Footnotes list'!$D$9:$E$58,2,FALSE)=0,\"\",VLOOKUP(AX48,'Footnotes list'!$D$9:$E$58,2,FALSE) ) )","v":""}]
[null,null,"W074",null,"HAZ_NHAZ","Total",{"$f":"IF(AND(TRIM(G47)=\"\",TRIM(G48)=\"\"),\"\",G47+G48)","v":""},null,null,null,{"$f":"IF(TRIM(J49)=\"\", \"\", IF(VLOOKUP(J49,'Footnotes list'!$D$9:$E$58,2,FALSE)=0,\"\",VLOOKUP(J49,'Footnotes list'!$D$9:$E$58,2,FALSE) ) )","v":""},{"$f":"IF(AND(TRIM(L47)=\"\",TRIM(L48)=\"\"),\"\",L47+L48)","v":""},null,null,null,{"$f":"IF(TRIM(O49)=\"\", \"\", IF(VLOOKUP(O49,'Footnotes list'!$D$9:$E$58,2,FALSE)=0,\"\",VLOOKUP(O49,'Footnotes list'!$D$9:$E$58,2,FALSE) ) )","v":""},{"$f":"IF(AND(TRIM(Q47)=\"\",TRIM(Q48)=\"\"),\"\",Q47+Q48)","v":""},null,null,null,{"$f":"IF(TRIM(T49)=\"\", \"\", IF(VLOOKUP(T49,'Footnotes list'!$D$9:$E$58,2,FALSE)=0,\"\",VLOOKUP(T49,'Footnotes list'!$D$9:$E$58,2,FALSE) ) )","v":""},{"$f":"IF(AND(TRIM(V47)=\"\",TRIM(V48)=\"\"),\"\",V47+V48)","v":""},null,null,null,{"$f":"IF(TRIM(Y49)=\"\", \"\", IF(VLOOKUP(Y49,'Footnotes list'!$D$9:$E$58,2,FALSE)=0,\"\",VLOOKUP(Y49,'Footnotes list'!$D$9:$E$58,2,FALSE) ) )","v":""},{"$f":"IF(AND(TRIM(AA47)=\"\", TRIM(AA48)=\"\"), \"\", SUM(AA47,AA48))","v":""},null,null,null,{"$f":"IF(TRIM(AD49)=\"\", \"\", IF(VLOOKUP(AD49,'Footnotes list'!$D$9:$E$58,2,FALSE)=0,\"\",VLOOKUP(AD49,'Footnotes list'!$D$9:$E$58,2,FALSE) ) )","v":""},{"$f":"IF(AND(TRIM(AF47)=\"\",TRIM(AF48)=\"\"),\"\",AF47+AF48)","v":""},null,null,null,{"$f":"IF(TRIM(AI49)=\"\", \"\", IF(VLOOKUP(AI49,'Footnotes list'!$D$9:$E$58,2,FALSE)=0,\"\",VLOOKUP(AI49,'Footnotes list'!$D$9:$E$58,2,FALSE) ) )","v":""},{"$f":"IF(AND(TRIM(AK47)=\"\",TRIM(AK48)=\"\"),\"\",AK47+AK48)","v":""},null,null,null,{"$f":"IF(TRIM(AN49)=\"\", \"\", IF(VLOOKUP(AN49,'Footnotes list'!$D$9:$E$58,2,FALSE)=0,\"\",VLOOKUP(AN49,'Footnotes list'!$D$9:$E$58,2,FALSE) ) )","v":""},{"$f":"IF(AND(TRIM(AP47)=\"\", TRIM(AP48)=\"\"), \"\", SUM(AP47,AP48))","v":""},null,null,null,{"$f":"IF(TRIM(AS49)=\"\", \"\", IF(VLOOKUP(AS49,'Footnotes list'!$D$9:$E$58,2,FALSE)=0,\"\",VLOOKUP(AS49,'Footnotes list'!$D$9:$E$58,2,FALSE) ) )","v":""},{"$f":"IF(AND(TRIM(AU47)=\"\", TRIM(AU48)=\"\"), \"\", SUM(AU47,AU48) )","v":""},null,null,null,{"$f":"IF(TRIM(AX49)=\"\", \"\", IF(VLOOKUP(AX49,'Footnotes list'!$D$9:$E$58,2,FALSE)=0,\"\",VLOOKUP(AX49,'Footnotes list'!$D$9:$E$58,2,FALSE) ) )","v":""}]
[null,"W075","W075","Wood wastes ","HAZ","Hazardous ",null,null,null,null,{"$f":"IF(TRIM(J50)=\"\", \"\", IF(VLOOKUP(J50,'Footnotes list'!$D$9:$E$58,2,FALSE)=0,\"\",VLOOKUP(J50,'Footnotes list'!$D$9:$E$58,2,FALSE) ) )","v":""},null,null,null,null,{"$f":"IF(TRIM(O50)=\"\", \"\", IF(VLOOKUP(O50,'Footnotes list'!$D$9:$E$58,2,FALSE)=0,\"\",VLOOKUP(O50,'Footnotes list'!$D$9:$E$58,2,FALSE) ) )","v":""},null,null,null,null,{"$f":"IF(TRIM(T50)=\"\", \"\", IF(VLOOKUP(T50,'Footnotes list'!$D$9:$E$58,2,FALSE)=0,\"\",VLOOKUP(T50,'Footnotes list'!$D$9:$E$58,2,FALSE) ) )","v":""},null,null,null,null,{"$f":"IF(TRIM(Y50)=\"\", \"\", IF(VLOOKUP(Y50,'Footnotes list'!$D$9:$E$58,2,FALSE)=0,\"\",VLOOKUP(Y50,'Footnotes list'!$D$9:$E$58,2,FALSE) ) )","v":""},{"$f":"IF(AND(TRIM(Q50)=\"\",TRIM(V50)=\"\"),\"\",Q50+V50)","v":""},null,null,null,{"$f":"IF(TRIM(AD50)=\"\", \"\", IF(VLOOKUP(AD50,'Footnotes list'!$D$9:$E$58,2,FALSE)=0,\"\",VLOOKUP(AD50,'Footnotes list'!$D$9:$E$58,2,FALSE) ) )","v":""},null,null,null,null,{"$f":"IF(TRIM(AI50)=\"\", \"\", IF(VLOOKUP(AI50,'Footnotes list'!$D$9:$E$58,2,FALSE)=0,\"\",VLOOKUP(AI50,'Footnotes list'!$D$9:$E$58,2,FALSE) ) )","v":""},null,null,null,null,{"$f":"IF(TRIM(AN50)=\"\", \"\", IF(VLOOKUP(AN50,'Footnotes list'!$D$9:$E$58,2,FALSE)=0,\"\",VLOOKUP(AN50,'Footnotes list'!$D$9:$E$58,2,FALSE) ) )","v":""},{"$f":"IF(AND(TRIM(AF50)=\"\",TRIM(AK50)=\"\"),\"\",AF50+AK50)","v":""},null,null,null,{"$f":"IF(TRIM(AS50)=\"\", \"\", IF(VLOOKUP(AS50,'Footnotes list'!$D$9:$E$58,2,FALSE)=0,\"\",VLOOKUP(AS50,'Footnotes list'!$D$9:$E$58,2,FALSE) ) )","v":""},{"$f":"IF(AND(TRIM(G50)=\"\",TRIM(L50)=\"\",TRIM(AA50)=\"\",TRIM(AP50)=\"\"),\"\",SUM(G50,L50,AA50,AP50))","v":""},null,null,null,{"$f":"IF(TRIM(AX50)=\"\", \"\", IF(VLOOKUP(AX50,'Footnotes list'!$D$9:$E$58,2,FALSE)=0,\"\",VLOOKUP(AX50,'Footnotes list'!$D$9:$E$58,2,FALSE) ) )","v":""}]
[null,null,"W075",null,"NHAZ","Non-hazardous",null,null,null,null,{"$f":"IF(TRIM(J51)=\"\", \"\", IF(VLOOKUP(J51,'Footnotes list'!$D$9:$E$58,2,FALSE)=0,\"\",VLOOKUP(J51,'Footnotes list'!$D$9:$E$58,2,FALSE) ) )","v":""},null,null,null,null,{"$f":"IF(TRIM(O51)=\"\", \"\", IF(VLOOKUP(O51,'Footnotes list'!$D$9:$E$58,2,FALSE)=0,\"\",VLOOKUP(O51,'Footnotes list'!$D$9:$E$58,2,FALSE) ) )","v":""},null,null,null,null,{"$f":"IF(TRIM(T51)=\"\", \"\", IF(VLOOKUP(T51,'Footnotes list'!$D$9:$E$58,2,FALSE)=0,\"\",VLOOKUP(T51,'Footnotes list'!$D$9:$E$58,2,FALSE) ) )","v":""},null,null,null,null,{"$f":"IF(TRIM(Y51)=\"\", \"\", IF(VLOOKUP(Y51,'Footnotes list'!$D$9:$E$58,2,FALSE)=0,\"\",VLOOKUP(Y51,'Footnotes list'!$D$9:$E$58,2,FALSE) ) )","v":""},{"$f":"IF(AND(TRIM(Q51)=\"\",TRIM(V51)=\"\"),\"\",Q51+V51)","v":""},null,null,null,{"$f":"IF(TRIM(AD51)=\"\", \"\", IF(VLOOKUP(AD51,'Footnotes list'!$D$9:$E$58,2,FALSE)=0,\"\",VLOOKUP(AD51,'Footnotes list'!$D$9:$E$58,2,FALSE) ) )","v":""},null,null,null,null,{"$f":"IF(TRIM(AI51)=\"\", \"\", IF(VLOOKUP(AI51,'Footnotes list'!$D$9:$E$58,2,FALSE)=0,\"\",VLOOKUP(AI51,'Footnotes list'!$D$9:$E$58,2,FALSE) ) )","v":""},null,null,null,null,{"$f":"IF(TRIM(AN51)=\"\", \"\", IF(VLOOKUP(AN51,'Footnotes list'!$D$9:$E$58,2,FALSE)=0,\"\",VLOOKUP(AN51,'Footnotes list'!$D$9:$E$58,2,FALSE) ) )","v":""},{"$f":"IF(AND(TRIM(AF51)=\"\",TRIM(AK51)=\"\"),\"\",AF51+AK51)","v":""},null,null,null,{"$f":"IF(TRIM(AS51)=\"\", \"\", IF(VLOOKUP(AS51,'Footnotes list'!$D$9:$E$58,2,FALSE)=0,\"\",VLOOKUP(AS51,'Footnotes list'!$D$9:$E$58,2,FALSE) ) )","v":""},{"$f":"IF(AND(TRIM(G51)=\"\",TRIM(L51)=\"\",TRIM(AA51)=\"\",TRIM(AP51)=\"\"),\"\",SUM(G51,L51,AA51,AP51))","v":""},null,null,null,{"$f":"IF(TRIM(AX51)=\"\", \"\", IF(VLOOKUP(AX51,'Footnotes list'!$D$9:$E$58,2,FALSE)=0,\"\",VLOOKUP(AX51,'Footnotes list'!$D$9:$E$58,2,FALSE) ) )","v":""}]
[null,null,"W075",null,"HAZ_NHAZ","Total",{"$f":"IF(AND(TRIM(G50)=\"\",TRIM(G51)=\"\"),\"\",G50+G51)","v":""},null,null,null,{"$f":"IF(TRIM(J52)=\"\", \"\", IF(VLOOKUP(J52,'Footnotes list'!$D$9:$E$58,2,FALSE)=0,\"\",VLOOKUP(J52,'Footnotes list'!$D$9:$E$58,2,FALSE) ) )","v":""},{"$f":"IF(AND(TRIM(L50)=\"\",TRIM(L51)=\"\"),\"\",L50+L51)","v":""},null,null,null,{"$f":"IF(TRIM(O52)=\"\", \"\", IF(VLOOKUP(O52,'Footnotes list'!$D$9:$E$58,2,FALSE)=0,\"\",VLOOKUP(O52,'Footnotes list'!$D$9:$E$58,2,FALSE) ) )","v":""},{"$f":"IF(AND(TRIM(Q50)=\"\",TRIM(Q51)=\"\"),\"\",Q50+Q51)","v":""},null,null,null,{"$f":"IF(TRIM(T52)=\"\", \"\", IF(VLOOKUP(T52,'Footnotes list'!$D$9:$E$58,2,FALSE)=0,\"\",VLOOKUP(T52,'Footnotes list'!$D$9:$E$58,2,FALSE) ) )","v":""},{"$f":"IF(AND(TRIM(V50)=\"\",TRIM(V51)=\"\"),\"\",V50+V51)","v":""},null,null,null,{"$f":"IF(TRIM(Y52)=\"\", \"\", IF(VLOOKUP(Y52,'Footnotes list'!$D$9:$E$58,2,FALSE)=0,\"\",VLOOKUP(Y52,'Footnotes list'!$D$9:$E$58,2,FALSE) ) )","v":""},{"$f":"IF(AND(TRIM(AA50)=\"\", TRIM(AA51)=\"\"), \"\", SUM(AA50,AA51))","v":""},null,null,null,{"$f":"IF(TRIM(AD52)=\"\", \"\", IF(VLOOKUP(AD52,'Footnotes list'!$D$9:$E$58,2,FALSE)=0,\"\",VLOOKUP(AD52,'Footnotes list'!$D$9:$E$58,2,FALSE) ) )","v":""},{"$f":"IF(AND(TRIM(AF50)=\"\",TRIM(AF51)=\"\"),\"\",AF50+AF51)","v":""},null,null,null,{"$f":"IF(TRIM(AI52)=\"\", \"\", IF(VLOOKUP(AI52,'Footnotes list'!$D$9:$E$58,2,FALSE)=0,\"\",VLOOKUP(AI52,'Footnotes list'!$D$9:$E$58,2,FALSE) ) )","v":""},{"$f":"IF(AND(TRIM(AK50)=\"\",TRIM(AK51)=\"\"),\"\",AK50+AK51)","v":""},null,null,null,{"$f":"IF(TRIM(AN52)=\"\", \"\", IF(VLOOKUP(AN52,'Footnotes list'!$D$9:$E$58,2,FALSE)=0,\"\",VLOOKUP(AN52,'Footnotes list'!$D$9:$E$58,2,FALSE) ) )","v":""},{"$f":"IF(AND(TRIM(AP50)=\"\", TRIM(AP51)=\"\"), \"\", SUM(AP50,AP51))","v":""},null,null,null,{"$f":"IF(TRIM(AS52)=\"\", \"\", IF(VLOOKUP(AS52,'Footnotes list'!$D$9:$E$58,2,FALSE)=0,\"\",VLOOKUP(AS52,'Footnotes list'!$D$9:$E$58,2,FALSE) ) )","v":""},{"$f":"IF(AND(TRIM(AU50)=\"\", TRIM(AU51)=\"\"), \"\", SUM(AU50,AU51) )","v":""},null,null,null,{"$f":"IF(TRIM(AX52)=\"\", \"\", IF(VLOOKUP(AX52,'Footnotes list'!$D$9:$E$58,2,FALSE)=0,\"\",VLOOKUP(AX52,'Footnotes list'!$D$9:$E$58,2,FALSE) ) )","v":""}]
[null,"W076",null,"Textile wastes ",null,"Not applicable"]
[null,null,"W076",null,"NHAZ","Non-hazardous",null,null,null,null,{"$f":"IF(TRIM(J54)=\"\", \"\", IF(VLOOKUP(J54,'Footnotes list'!$D$9:$E$58,2,FALSE)=0,\"\",VLOOKUP(J54,'Footnotes list'!$D$9:$E$58,2,FALSE) ) )","v":""},null,null,null,null,{"$f":"IF(TRIM(O54)=\"\", \"\", IF(VLOOKUP(O54,'Footnotes list'!$D$9:$E$58,2,FALSE)=0,\"\",VLOOKUP(O54,'Footnotes list'!$D$9:$E$58,2,FALSE) ) )","v":""},null,null,null,null,{"$f":"IF(TRIM(T54)=\"\", \"\", IF(VLOOKUP(T54,'Footnotes list'!$D$9:$E$58,2,FALSE)=0,\"\",VLOOKUP(T54,'Footnotes list'!$D$9:$E$58,2,FALSE) ) )","v":""},null,null,null,null,{"$f":"IF(TRIM(Y54)=\"\", \"\", IF(VLOOKUP(Y54,'Footnotes list'!$D$9:$E$58,2,FALSE)=0,\"\",VLOOKUP(Y54,'Footnotes list'!$D$9:$E$58,2,FALSE) ) )","v":""},{"$f":"IF(AND(TRIM(Q54)=\"\",TRIM(V54)=\"\"),\"\",Q54+V54)","v":""},null,null,null,{"$f":"IF(TRIM(AD54)=\"\", \"\", IF(VLOOKUP(AD54,'Footnotes list'!$D$9:$E$58,2,FALSE)=0,\"\",VLOOKUP(AD54,'Footnotes list'!$D$9:$E$58,2,FALSE) ) )","v":""},null,null,null,null,{"$f":"IF(TRIM(AI54)=\"\", \"\", IF(VLOOKUP(AI54,'Footnotes list'!$D$9:$E$58,2,FALSE)=0,\"\",VLOOKUP(AI54,'Footnotes list'!$D$9:$E$58,2,FALSE) ) )","v":""},null,null,null,null,{"$f":"IF(TRIM(AN54)=\"\", \"\", IF(VLOOKUP(AN54,'Footnotes list'!$D$9:$E$58,2,FALSE)=0,\"\",VLOOKUP(AN54,'Footnotes list'!$D$9:$E$58,2,FALSE) ) )","v":""},{"$f":"IF(AND(TRIM(AF54)=\"\",TRIM(AK54)=\"\"),\"\",AF54+AK54)","v":""},null,null,null,{"$f":"IF(TRIM(AS54)=\"\", \"\", IF(VLOOKUP(AS54,'Footnotes list'!$D$9:$E$58,2,FALSE)=0,\"\",VLOOKUP(AS54,'Footnotes list'!$D$9:$E$58,2,FALSE) ) )","v":""},{"$f":"IF(AND(TRIM(G54)=\"\",TRIM(L54)=\"\",TRIM(AA54)=\"\",TRIM(AP54)=\"\"),\"\",SUM(G54,L54,AA54,AP54))","v":""},null,null,null,{"$f":"IF(TRIM(AX54)=\"\", \"\", IF(VLOOKUP(AX54,'Footnotes list'!$D$9:$E$58,2,FALSE)=0,\"\",VLOOKUP(AX54,'Footnotes list'!$D$9:$E$58,2,FALSE) ) )","v":""}]
[null,null,"W076",null,"HAZ_NHAZ","Total",{"$f":"IF(AND(TRIM(G53)=\"\",TRIM(G54)=\"\"),\"\",G53+G54)","v":""},null,null,null,{"$f":"IF(TRIM(J55)=\"\", \"\", IF(VLOOKUP(J55,'Footnotes list'!$D$9:$E$58,2,FALSE)=0,\"\",VLOOKUP(J55,'Footnotes list'!$D$9:$E$58,2,FALSE) ) )","v":""},{"$f":"IF(AND(TRIM(L53)=\"\",TRIM(L54)=\"\"),\"\",L53+L54)","v":""},null,null,null,{"$f":"IF(TRIM(O55)=\"\", \"\", IF(VLOOKUP(O55,'Footnotes list'!$D$9:$E$58,2,FALSE)=0,\"\",VLOOKUP(O55,'Footnotes list'!$D$9:$E$58,2,FALSE) ) )","v":""},{"$f":"IF(AND(TRIM(Q53)=\"\",TRIM(Q54)=\"\"),\"\",Q53+Q54)","v":""},null,null,null,{"$f":"IF(TRIM(T55)=\"\", \"\", IF(VLOOKUP(T55,'Footnotes list'!$D$9:$E$58,2,FALSE)=0,\"\",VLOOKUP(T55,'Footnotes list'!$D$9:$E$58,2,FALSE) ) )","v":""},{"$f":"IF(AND(TRIM(V53)=\"\",TRIM(V54)=\"\"),\"\",V53+V54)","v":""},null,null,null,{"$f":"IF(TRIM(Y55)=\"\", \"\", IF(VLOOKUP(Y55,'Footnotes list'!$D$9:$E$58,2,FALSE)=0,\"\",VLOOKUP(Y55,'Footnotes list'!$D$9:$E$58,2,FALSE) ) )","v":""},{"$f":"IF(AND(TRIM(AA53)=\"\", TRIM(AA54)=\"\"), \"\", SUM(AA53,AA54))","v":""},null,null,null,{"$f":"IF(TRIM(AD55)=\"\", \"\", IF(VLOOKUP(AD55,'Footnotes list'!$D$9:$E$58,2,FALSE)=0,\"\",VLOOKUP(AD55,'Footnotes list'!$D$9:$E$58,2,FALSE) ) )","v":""},{"$f":"IF(AND(TRIM(AF53)=\"\",TRIM(AF54)=\"\"),\"\",AF53+AF54)","v":""},null,null,null,{"$f":"IF(TRIM(AI55)=\"\", \"\", IF(VLOOKUP(AI55,'Footnotes list'!$D$9:$E$58,2,FALSE)=0,\"\",VLOOKUP(AI55,'Footnotes list'!$D$9:$E$58,2,FALSE) ) )","v":""},{"$f":"IF(AND(TRIM(AK53)=\"\",TRIM(AK54)=\"\"),\"\",AK53+AK54)","v":""},null,null,null,{"$f":"IF(TRIM(AN55)=\"\", \"\", IF(VLOOKUP(AN55,'Footnotes list'!$D$9:$E$58,2,FALSE)=0,\"\",VLOOKUP(AN55,'Footnotes list'!$D$9:$E$58,2,FALSE) ) )","v":""},{"$f":"IF(AND(TRIM(AP53)=\"\", TRIM(AP54)=\"\"), \"\", SUM(AP53,AP54))","v":""},null,null,null,{"$f":"IF(TRIM(AS55)=\"\", \"\", IF(VLOOKUP(AS55,'Footnotes list'!$D$9:$E$58,2,FALSE)=0,\"\",VLOOKUP(AS55,'Footnotes list'!$D$9:$E$58,2,FALSE) ) )","v":""},{"$f":"IF(AND(TRIM(AU53)=\"\", TRIM(AU54)=\"\"), \"\", SUM(AU53,AU54) )","v":""},null,null,null,{"$f":"IF(TRIM(AX55)=\"\", \"\", IF(VLOOKUP(AX55,'Footnotes list'!$D$9:$E$58,2,FALSE)=0,\"\",VLOOKUP(AX55,'Footnotes list'!$D$9:$E$58,2,FALSE) ) )","v":""}]
[null,"W077","W077","Waste containing PCB ","HAZ","Hazardous ",null,null,null,null,{"$f":"IF(TRIM(J56)=\"\", \"\", IF(VLOOKUP(J56,'Footnotes list'!$D$9:$E$58,2,FALSE)=0,\"\",VLOOKUP(J56,'Footnotes list'!$D$9:$E$58,2,FALSE) ) )","v":""},null,null,null,null,{"$f":"IF(TRIM(O56)=\"\", \"\", IF(VLOOKUP(O56,'Footnotes list'!$D$9:$E$58,2,FALSE)=0,\"\",VLOOKUP(O56,'Footnotes list'!$D$9:$E$58,2,FALSE) ) )","v":""},null,null,null,null,{"$f":"IF(TRIM(T56)=\"\", \"\", IF(VLOOKUP(T56,'Footnotes list'!$D$9:$E$58,2,FALSE)=0,\"\",VLOOKUP(T56,'Footnotes list'!$D$9:$E$58,2,FALSE) ) )","v":""},null,null,null,null,{"$f":"IF(TRIM(Y56)=\"\", \"\", IF(VLOOKUP(Y56,'Footnotes list'!$D$9:$E$58,2,FALSE)=0,\"\",VLOOKUP(Y56,'Footnotes list'!$D$9:$E$58,2,FALSE) ) )","v":""},{"$f":"IF(AND(TRIM(Q56)=\"\",TRIM(V56)=\"\"),\"\",Q56+V56)","v":""},null,null,null,{"$f":"IF(TRIM(AD56)=\"\", \"\", IF(VLOOKUP(AD56,'Footnotes list'!$D$9:$E$58,2,FALSE)=0,\"\",VLOOKUP(AD56,'Footnotes list'!$D$9:$E$58,2,FALSE) ) )","v":""},null,null,null,null,{"$f":"IF(TRIM(AI56)=\"\", \"\", IF(VLOOKUP(AI56,'Footnotes list'!$D$9:$E$58,2,FALSE)=0,\"\",VLOOKUP(AI56,'Footnotes list'!$D$9:$E$58,2,FALSE) ) )","v":""},null,null,null,null,{"$f":"IF(TRIM(AN56)=\"\", \"\", IF(VLOOKUP(AN56,'Footnotes list'!$D$9:$E$58,2,FALSE)=0,\"\",VLOOKUP(AN56,'Footnotes list'!$D$9:$E$58,2,FALSE) ) )","v":""},{"$f":"IF(AND(TRIM(AF56)=\"\",TRIM(AK56)=\"\"),\"\",AF56+AK56)","v":""},null,null,null,{"$f":"IF(TRIM(AS56)=\"\", \"\", IF(VLOOKUP(AS56,'Footnotes list'!$D$9:$E$58,2,FALSE)=0,\"\",VLOOKUP(AS56,'Footnotes list'!$D$9:$E$58,2,FALSE) ) )","v":""},{"$f":"IF(AND(TRIM(G56)=\"\",TRIM(L56)=\"\",TRIM(AA56)=\"\",TRIM(AP56)=\"\"),\"\",SUM(G56,L56,AA56,AP56))","v":""},null,null,null,{"$f":"IF(TRIM(AX56)=\"\", \"\", IF(VLOOKUP(AX56,'Footnotes list'!$D$9:$E$58,2,FALSE)=0,\"\",VLOOKUP(AX56,'Footnotes list'!$D$9:$E$58,2,FALSE) ) )","v":""}]
[null,null,null,null,null,"Not applicable"]
[null,null,"W077",null,"HAZ_NHAZ","Total",{"$f":"IF(AND(TRIM(G56)=\"\",TRIM(G57)=\"\"),\"\",G56+G57)","v":""},null,null,null,{"$f":"IF(TRIM(J58)=\"\", \"\", IF(VLOOKUP(J58,'Footnotes list'!$D$9:$E$58,2,FALSE)=0,\"\",VLOOKUP(J58,'Footnotes list'!$D$9:$E$58,2,FALSE) ) )","v":""},{"$f":"IF(AND(TRIM(L56)=\"\",TRIM(L57)=\"\"),\"\",L56+L57)","v":""},null,null,null,{"$f":"IF(TRIM(O58)=\"\", \"\", IF(VLOOKUP(O58,'Footnotes list'!$D$9:$E$58,2,FALSE)=0,\"\",VLOOKUP(O58,'Footnotes list'!$D$9:$E$58,2,FALSE) ) )","v":""},{"$f":"IF(AND(TRIM(Q56)=\"\",TRIM(Q57)=\"\"),\"\",Q56+Q57)","v":""},null,null,null,{"$f":"IF(TRIM(T58)=\"\", \"\", IF(VLOOKUP(T58,'Footnotes list'!$D$9:$E$58,2,FALSE)=0,\"\",VLOOKUP(T58,'Footnotes list'!$D$9:$E$58,2,FALSE) ) )","v":""},{"$f":"IF(AND(TRIM(V56)=\"\",TRIM(V57)=\"\"),\"\",V56+V57)","v":""},null,null,null,{"$f":"IF(TRIM(Y58)=\"\", \"\", IF(VLOOKUP(Y58,'Footnotes list'!$D$9:$E$58,2,FALSE)=0,\"\",VLOOKUP(Y58,'Footnotes list'!$D$9:$E$58,2,FALSE) ) )","v":""},{"$f":"IF(AND(TRIM(AA56)=\"\", TRIM(AA57)=\"\"), \"\", SUM(AA56,AA57))","v":""},null,null,null,{"$f":"IF(TRIM(AD58)=\"\", \"\", IF(VLOOKUP(AD58,'Footnotes list'!$D$9:$E$58,2,FALSE)=0,\"\",VLOOKUP(AD58,'Footnotes list'!$D$9:$E$58,2,FALSE) ) )","v":""},{"$f":"IF(AND(TRIM(AF56)=\"\",TRIM(AF57)=\"\"),\"\",AF56+AF57)","v":""},null,null,null,{"$f":"IF(TRIM(AI58)=\"\", \"\", IF(VLOOKUP(AI58,'Footnotes list'!$D$9:$E$58,2,FALSE)=0,\"\",VLOOKUP(AI58,'Footnotes list'!$D$9:$E$58,2,FALSE) ) )","v":""},{"$f":"IF(AND(TRIM(AK56)=\"\",TRIM(AK57)=\"\"),\"\",AK56+AK57)","v":""},null,null,null,{"$f":"IF(TRIM(AN58)=\"\", \"\", IF(VLOOKUP(AN58,'Footnotes list'!$D$9:$E$58,2,FALSE)=0,\"\",VLOOKUP(AN58,'Footnotes list'!$D$9:$E$58,2,FALSE) ) )","v":""},{"$f":"IF(AND(TRIM(AP56)=\"\", TRIM(AP57)=\"\"), \"\", SUM(AP56,AP57))","v":""},null,null,null,{"$f":"IF(TRIM(AS58)=\"\", \"\", IF(VLOOKUP(AS58,'Footnotes list'!$D$9:$E$58,2,FALSE)=0,\"\",VLOOKUP(AS58,'Footnotes list'!$D$9:$E$58,2,FALSE) ) )","v":""},{"$f":"IF(AND(TRIM(AU56)=\"\", TRIM(AU57)=\"\"), \"\", SUM(AU56,AU57) )","v":""},null,null,null,{"$f":"IF(TRIM(AX58)=\"\", \"\", IF(VLOOKUP(AX58,'Footnotes list'!$D$9:$E$58,2,FALSE)=0,\"\",VLOOKUP(AX58,'Footnotes list'!$D$9:$E$58,2,FALSE) ) )","v":""}]
[null,"W08A","W08A","Discarded equipment (except discarded vehicles and batteries and accumulators waste) (W08 except W081, W0841)","HAZ","Hazardous ",null,null,null,null,{"$f":"IF(TRIM(J59)=\"\", \"\", IF(VLOOKUP(J59,'Footnotes list'!$D$9:$E$58,2,FALSE)=0,\"\",VLOOKUP(J59,'Footnotes list'!$D$9:$E$58,2,FALSE) ) )","v":""},null,null,null,null,{"$f":"IF(TRIM(O59)=\"\", \"\", IF(VLOOKUP(O59,'Footnotes list'!$D$9:$E$58,2,FALSE)=0,\"\",VLOOKUP(O59,'Footnotes list'!$D$9:$E$58,2,FALSE) ) )","v":""},null,null,null,null,{"$f":"IF(TRIM(T59)=\"\", \"\", IF(VLOOKUP(T59,'Footnotes list'!$D$9:$E$58,2,FALSE)=0,\"\",VLOOKUP(T59,'Footnotes list'!$D$9:$E$58,2,FALSE) ) )","v":""},null,null,null,null,{"$f":"IF(TRIM(Y59)=\"\", \"\", IF(VLOOKUP(Y59,'Footnotes list'!$D$9:$E$58,2,FALSE)=0,\"\",VLOOKUP(Y59,'Footnotes list'!$D$9:$E$58,2,FALSE) ) )","v":""},{"$f":"IF(AND(TRIM(Q59)=\"\",TRIM(V59)=\"\"),\"\",Q59+V59)","v":""},null,null,null,{"$f":"IF(TRIM(AD59)=\"\", \"\", IF(VLOOKUP(AD59,'Footnotes list'!$D$9:$E$58,2,FALSE)=0,\"\",VLOOKUP(AD59,'Footnotes list'!$D$9:$E$58,2,FALSE) ) )","v":""},null,null,null,null,{"$f":"IF(TRIM(AI59)=\"\", \"\", IF(VLOOKUP(AI59,'Footnotes list'!$D$9:$E$58,2,FALSE)=0,\"\",VLOOKUP(AI59,'Footnotes list'!$D$9:$E$58,2,FALSE) ) )","v":""},null,null,null,null,{"$f":"IF(TRIM(AN59)=\"\", \"\", IF(VLOOKUP(AN59,'Footnotes list'!$D$9:$E$58,2,FALSE)=0,\"\",VLOOKUP(AN59,'Footnotes list'!$D$9:$E$58,2,FALSE) ) )","v":""},{"$f":"IF(AND(TRIM(AF59)=\"\",TRIM(AK59)=\"\"),\"\",AF59+AK59)","v":""},null,null,null,{"$f":"IF(TRIM(AS59)=\"\", \"\", IF(VLOOKUP(AS59,'Footnotes list'!$D$9:$E$58,2,FALSE)=0,\"\",VLOOKUP(AS59,'Footnotes list'!$D$9:$E$58,2,FALSE) ) )","v":""},{"$f":"IF(AND(TRIM(G59)=\"\",TRIM(L59)=\"\",TRIM(AA59)=\"\",TRIM(AP59)=\"\"),\"\",SUM(G59,L59,AA59,AP59))","v":""},null,null,null,{"$f":"IF(TRIM(AX59)=\"\", \"\", IF(VLOOKUP(AX59,'Footnotes list'!$D$9:$E$58,2,FALSE)=0,\"\",VLOOKUP(AX59,'Footnotes list'!$D$9:$E$58,2,FALSE) ) )","v":""}]
[null,null,"W08A",null,"NHAZ","Non-hazardous",null,null,null,null,{"$f":"IF(TRIM(J60)=\"\", \"\", IF(VLOOKUP(J60,'Footnotes list'!$D$9:$E$58,2,FALSE)=0,\"\",VLOOKUP(J60,'Footnotes list'!$D$9:$E$58,2,FALSE) ) )","v":""},null,null,null,null,{"$f":"IF(TRIM(O60)=\"\", \"\", IF(VLOOKUP(O60,'Footnotes list'!$D$9:$E$58,2,FALSE)=0,\"\",VLOOKUP(O60,'Footnotes list'!$D$9:$E$58,2,FALSE) ) )","v":""},null,null,null,null,{"$f":"IF(TRIM(T60)=\"\", \"\", IF(VLOOKUP(T60,'Footnotes list'!$D$9:$E$58,2,FALSE)=0,\"\",VLOOKUP(T60,'Footnotes list'!$D$9:$E$58,2,FALSE) ) )","v":""},null,null,null,null,{"$f":"IF(TRIM(Y60)=\"\", \"\", IF(VLOOKUP(Y60,'Footnotes list'!$D$9:$E$58,2,FALSE)=0,\"\",VLOOKUP(Y60,'Footnotes list'!$D$9:$E$58,2,FALSE) ) )","v":""},{"$f":"IF(AND(TRIM(Q60)=\"\",TRIM(V60)=\"\"),\"\",Q60+V60)","v":""},null,null,null,{"$f":"IF(TRIM(AD60)=\"\", \"\", IF(VLOOKUP(AD60,'Footnotes list'!$D$9:$E$58,2,FALSE)=0,\"\",VLOOKUP(AD60,'Footnotes list'!$D$9:$E$58,2,FALSE) ) )","v":""},null,null,null,null,{"$f":"IF(TRIM(AI60)=\"\", \"\", IF(VLOOKUP(AI60,'Footnotes list'!$D$9:$E$58,2,FALSE)=0,\"\",VLOOKUP(AI60,'Footnotes list'!$D$9:$E$58,2,FALSE) ) )","v":""},null,null,null,null,{"$f":"IF(TRIM(AN60)=\"\", \"\", IF(VLOOKUP(AN60,'Footnotes list'!$D$9:$E$58,2,FALSE)=0,\"\",VLOOKUP(AN60,'Footnotes list'!$D$9:$E$58,2,FALSE) ) )","v":""},{"$f":"IF(AND(TRIM(AF60)=\"\",TRIM(AK60)=\"\"),\"\",AF60+AK60)","v":""},null,null,null,{"$f":"IF(TRIM(AS60)=\"\", \"\", IF(VLOOKUP(AS60,'Footnotes list'!$D$9:$E$58,2,FALSE)=0,\"\",VLOOKUP(AS60,'Footnotes list'!$D$9:$E$58,2,FALSE) ) )","v":""},{"$f":"IF(AND(TRIM(G60)=\"\",TRIM(L60)=\"\",TRIM(AA60)=\"\",TRIM(AP60)=\"\"),\"\",SUM(G60,L60,AA60,AP60))","v":""},null,null,null,{"$f":"IF(TRIM(AX60)=\"\", \"\", IF(VLOOKUP(AX60,'Footnotes list'!$D$9:$E$58,2,FALSE)=0,\"\",VLOOKUP(AX60,'Footnotes list'!$D$9:$E$58,2,FALSE) ) )","v":""}]
[null,null,"W08A",null,"HAZ_NHAZ","Total",{"$f":"IF(AND(TRIM(G59)=\"\",TRIM(G60)=\"\"),\"\",G59+G60)","v":""},null,null,null,{"$f":"IF(TRIM(J61)=\"\", \"\", IF(VLOOKUP(J61,'Footnotes list'!$D$9:$E$58,2,FALSE)=0,\"\",VLOOKUP(J61,'Footnotes list'!$D$9:$E$58,2,FALSE) ) )","v":""},{"$f":"IF(AND(TRIM(L59)=\"\",TRIM(L60)=\"\"),\"\",L59+L60)","v":""},null,null,null,{"$f":"IF(TRIM(O61)=\"\", \"\", IF(VLOOKUP(O61,'Footnotes list'!$D$9:$E$58,2,FALSE)=0,\"\",VLOOKUP(O61,'Footnotes list'!$D$9:$E$58,2,FALSE) ) )","v":""},{"$f":"IF(AND(TRIM(Q59)=\"\",TRIM(Q60)=\"\"),\"\",Q59+Q60)","v":""},null,null,null,{"$f":"IF(TRIM(T61)=\"\", \"\", IF(VLOOKUP(T61,'Footnotes list'!$D$9:$E$58,2,FALSE)=0,\"\",VLOOKUP(T61,'Footnotes list'!$D$9:$E$58,2,FALSE) ) )","v":""},{"$f":"IF(AND(TRIM(V59)=\"\",TRIM(V60)=\"\"),\"\",V59+V60)","v":""},null,null,null,{"$f":"IF(TRIM(Y61)=\"\", \"\", IF(VLOOKUP(Y61,'Footnotes list'!$D$9:$E$58,2,FALSE)=0,\"\",VLOOKUP(Y61,'Footnotes list'!$D$9:$E$58,2,FALSE) ) )","v":""},{"$f":"IF(AND(TRIM(AA59)=\"\", TRIM(AA60)=\"\"), \"\", SUM(AA59,AA60))","v":""},null,null,null,{"$f":"IF(TRIM(AD61)=\"\", \"\", IF(VLOOKUP(AD61,'Footnotes list'!$D$9:$E$58,2,FALSE)=0,\"\",VLOOKUP(AD61,'Footnotes list'!$D$9:$E$58,2,FALSE) ) )","v":""},{"$f":"IF(AND(TRIM(AF59)=\"\",TRIM(AF60)=\"\"),\"\",AF59+AF60)","v":""},null,null,null,{"$f":"IF(TRIM(AI61)=\"\", \"\", IF(VLOOKUP(AI61,'Footnotes list'!$D$9:$E$58,2,FALSE)=0,\"\",VLOOKUP(AI61,'Footnotes list'!$D$9:$E$58,2,FALSE) ) )","v":""},{"$f":"IF(AND(TRIM(AK59)=\"\",TRIM(AK60)=\"\"),\"\",AK59+AK60)","v":""},null,null,null,{"$f":"IF(TRIM(AN61)=\"\", \"\", IF(VLOOKUP(AN61,'Footnotes list'!$D$9:$E$58,2,FALSE)=0,\"\",VLOOKUP(AN61,'Footnotes list'!$D$9:$E$58,2,FALSE) ) )","v":""},{"$f":"IF(AND(TRIM(AP59)=\"\", TRIM(AP60)=\"\"), \"\", SUM(AP59,AP60))","v":""},null,null,null,{"$f":"IF(TRIM(AS61)=\"\", \"\", IF(VLOOKUP(AS61,'Footnotes list'!$D$9:$E$58,2,FALSE)=0,\"\",VLOOKUP(AS61,'Footnotes list'!$D$9:$E$58,2,FALSE) ) )","v":""},{"$f":"IF(AND(TRIM(AU59)=\"\", TRIM(AU60)=\"\"), \"\", SUM(AU59,AU60) )","v":""},null,null,null,{"$f":"IF(TRIM(AX61)=\"\", \"\", IF(VLOOKUP(AX61,'Footnotes list'!$D$9:$E$58,2,FALSE)=0,\"\",VLOOKUP(AX61,'Footnotes list'!$D$9:$E$58,2,FALSE) ) )","v":""}]
[null,"W081","W081","Discarded vehicles ","HAZ","Hazardous ",null,null,null,null,{"$f":"IF(TRIM(J62)=\"\", \"\", IF(VLOOKUP(J62,'Footnotes list'!$D$9:$E$58,2,FALSE)=0,\"\",VLOOKUP(J62,'Footnotes list'!$D$9:$E$58,2,FALSE) ) )","v":""},null,null,null,null,{"$f":"IF(TRIM(O62)=\"\", \"\", IF(VLOOKUP(O62,'Footnotes list'!$D$9:$E$58,2,FALSE)=0,\"\",VLOOKUP(O62,'Footnotes list'!$D$9:$E$58,2,FALSE) ) )","v":""},null,null,null,null,{"$f":"IF(TRIM(T62)=\"\", \"\", IF(VLOOKUP(T62,'Footnotes list'!$D$9:$E$58,2,FALSE)=0,\"\",VLOOKUP(T62,'Footnotes list'!$D$9:$E$58,2,FALSE) ) )","v":""},null,null,null,null,{"$f":"IF(TRIM(Y62)=\"\", \"\", IF(VLOOKUP(Y62,'Footnotes list'!$D$9:$E$58,2,FALSE)=0,\"\",VLOOKUP(Y62,'Footnotes list'!$D$9:$E$58,2,FALSE) ) )","v":""},{"$f":"IF(AND(TRIM(Q62)=\"\",TRIM(V62)=\"\"),\"\",Q62+V62)","v":""},null,null,null,{"$f":"IF(TRIM(AD62)=\"\", \"\", IF(VLOOKUP(AD62,'Footnotes list'!$D$9:$E$58,2,FALSE)=0,\"\",VLOOKUP(AD62,'Footnotes list'!$D$9:$E$58,2,FALSE) ) )","v":""},null,null,null,null,{"$f":"IF(TRIM(AI62)=\"\", \"\", IF(VLOOKUP(AI62,'Footnotes list'!$D$9:$E$58,2,FALSE)=0,\"\",VLOOKUP(AI62,'Footnotes list'!$D$9:$E$58,2,FALSE) ) )","v":""},null,null,null,null,{"$f":"IF(TRIM(AN62)=\"\", \"\", IF(VLOOKUP(AN62,'Footnotes list'!$D$9:$E$58,2,FALSE)=0,\"\",VLOOKUP(AN62,'Footnotes list'!$D$9:$E$58,2,FALSE) ) )","v":""},{"$f":"IF(AND(TRIM(AF62)=\"\",TRIM(AK62)=\"\"),\"\",AF62+AK62)","v":""},null,null,null,{"$f":"IF(TRIM(AS62)=\"\", \"\", IF(VLOOKUP(AS62,'Footnotes list'!$D$9:$E$58,2,FALSE)=0,\"\",VLOOKUP(AS62,'Footnotes list'!$D$9:$E$58,2,FALSE) ) )","v":""},{"$f":"IF(AND(TRIM(G62)=\"\",TRIM(L62)=\"\",TRIM(AA62)=\"\",TRIM(AP62)=\"\"),\"\",SUM(G62,L62,AA62,AP62))","v":""},null,null,null,{"$f":"IF(TRIM(AX62)=\"\", \"\", IF(VLOOKUP(AX62,'Footnotes list'!$D$9:$E$58,2,FALSE)=0,\"\",VLOOKUP(AX62,'Footnotes list'!$D$9:$E$58,2,FALSE) ) )","v":""}]
[null,null,"W081",null,"NHAZ","Non-hazardous",null,null,null,null,{"$f":"IF(TRIM(J63)=\"\", \"\", IF(VLOOKUP(J63,'Footnotes list'!$D$9:$E$58,2,FALSE)=0,\"\",VLOOKUP(J63,'Footnotes list'!$D$9:$E$58,2,FALSE) ) )","v":""},null,null,null,null,{"$f":"IF(TRIM(O63)=\"\", \"\", IF(VLOOKUP(O63,'Footnotes list'!$D$9:$E$58,2,FALSE)=0,\"\",VLOOKUP(O63,'Footnotes list'!$D$9:$E$58,2,FALSE) ) )","v":""},null,null,null,null,{"$f":"IF(TRIM(T63)=\"\", \"\", IF(VLOOKUP(T63,'Footnotes list'!$D$9:$E$58,2,FALSE)=0,\"\",VLOOKUP(T63,'Footnotes list'!$D$9:$E$58,2,FALSE) ) )","v":""},null,null,null,null,{"$f":"IF(TRIM(Y63)=\"\", \"\", IF(VLOOKUP(Y63,'Footnotes list'!$D$9:$E$58,2,FALSE)=0,\"\",VLOOKUP(Y63,'Footnotes list'!$D$9:$E$58,2,FALSE) ) )","v":""},{"$f":"IF(AND(TRIM(Q63)=\"\",TRIM(V63)=\"\"),\"\",Q63+V63)","v":""},null,null,null,{"$f":"IF(TRIM(AD63)=\"\", \"\", IF(VLOOKUP(AD63,'Footnotes list'!$D$9:$E$58,2,FALSE)=0,\"\",VLOOKUP(AD63,'Footnotes list'!$D$9:$E$58,2,FALSE) ) )","v":""},null,null,null,null,{"$f":"IF(TRIM(AI63)=\"\", \"\", IF(VLOOKUP(AI63,'Footnotes list'!$D$9:$E$58,2,FALSE)=0,\"\",VLOOKUP(AI63,'Footnotes list'!$D$9:$E$58,2,FALSE) ) )","v":""},null,null,null,null,{"$f":"IF(TRIM(AN63)=\"\", \"\", IF(VLOOKUP(AN63,'Footnotes list'!$D$9:$E$58,2,FALSE)=0,\"\",VLOOKUP(AN63,'Footnotes list'!$D$9:$E$58,2,FALSE) ) )","v":""},{"$f":"IF(AND(TRIM(AF63)=\"\",TRIM(AK63)=\"\"),\"\",AF63+AK63)","v":""},null,null,null,{"$f":"IF(TRIM(AS63)=\"\", \"\", IF(VLOOKUP(AS63,'Footnotes list'!$D$9:$E$58,2,FALSE)=0,\"\",VLOOKUP(AS63,'Footnotes list'!$D$9:$E$58,2,FALSE) ) )","v":""},{"$f":"IF(AND(TRIM(G63)=\"\",TRIM(L63)=\"\",TRIM(AA63)=\"\",TRIM(AP63)=\"\"),\"\",SUM(G63,L63,AA63,AP63))","v":""},null,null,null,{"$f":"IF(TRIM(AX63)=\"\", \"\", IF(VLOOKUP(AX63,'Footnotes list'!$D$9:$E$58,2,FALSE)=0,\"\",VLOOKUP(AX63,'Footnotes list'!$D$9:$E$58,2,FALSE) ) )","v":""}]
[null,null,"W081",null,"HAZ_NHAZ","Total",{"$f":"IF(AND(TRIM(G62)=\"\",TRIM(G63)=\"\"),\"\",G62+G63)","v":""},null,null,null,{"$f":"IF(TRIM(J64)=\"\", \"\", IF(VLOOKUP(J64,'Footnotes list'!$D$9:$E$58,2,FALSE)=0,\"\",VLOOKUP(J64,'Footnotes list'!$D$9:$E$58,2,FALSE) ) )","v":""},{"$f":"IF(AND(TRIM(L62)=\"\",TRIM(L63)=\"\"),\"\",L62+L63)","v":""},null,null,null,{"$f":"IF(TRIM(O64)=\"\", \"\", IF(VLOOKUP(O64,'Footnotes list'!$D$9:$E$58,2,FALSE)=0,\"\",VLOOKUP(O64,'Footnotes list'!$D$9:$E$58,2,FALSE) ) )","v":""},{"$f":"IF(AND(TRIM(Q62)=\"\",TRIM(Q63)=\"\"),\"\",Q62+Q63)","v":""},null,null,null,{"$f":"IF(TRIM(T64)=\"\", \"\", IF(VLOOKUP(T64,'Footnotes list'!$D$9:$E$58,2,FALSE)=0,\"\",VLOOKUP(T64,'Footnotes list'!$D$9:$E$58,2,FALSE) ) )","v":""},{"$f":"IF(AND(TRIM(V62)=\"\",TRIM(V63)=\"\"),\"\",V62+V63)","v":""},null,null,null,{"$f":"IF(TRIM(Y64)=\"\", \"\", IF(VLOOKUP(Y64,'Footnotes list'!$D$9:$E$58,2,FALSE)=0,\"\",VLOOKUP(Y64,'Footnotes list'!$D$9:$E$58,2,FALSE) ) )","v":""},{"$f":"IF(AND(TRIM(AA62)=\"\", TRIM(AA63)=\"\"), \"\", SUM(AA62,AA63))","v":""},null,null,null,{"$f":"IF(TRIM(AD64)=\"\", \"\", IF(VLOOKUP(AD64,'Footnotes list'!$D$9:$E$58,2,FALSE)=0,\"\",VLOOKUP(AD64,'Footnotes list'!$D$9:$E$58,2,FALSE) ) )","v":""},{"$f":"IF(AND(TRIM(AF62)=\"\",TRIM(AF63)=\"\"),\"\",AF62+AF63)","v":""},null,null,null,{"$f":"IF(TRIM(AI64)=\"\", \"\", IF(VLOOKUP(AI64,'Footnotes list'!$D$9:$E$58,2,FALSE)=0,\"\",VLOOKUP(AI64,'Footnotes list'!$D$9:$E$58,2,FALSE) ) )","v":""},{"$f":"IF(AND(TRIM(AK62)=\"\",TRIM(AK63)=\"\"),\"\",AK62+AK63)","v":""},null,null,null,{"$f":"IF(TRIM(AN64)=\"\", \"\", IF(VLOOKUP(AN64,'Footnotes list'!$D$9:$E$58,2,FALSE)=0,\"\",VLOOKUP(AN64,'Footnotes list'!$D$9:$E$58,2,FALSE) ) )","v":""},{"$f":"IF(AND(TRIM(AP62)=\"\", TRIM(AP63)=\"\"), \"\", SUM(AP62,AP63))","v":""},null,null,null,{"$f":"IF(TRIM(AS64)=\"\", \"\", IF(VLOOKUP(AS64,'Footnotes list'!$D$9:$E$58,2,FALSE)=0,\"\",VLOOKUP(AS64,'Footnotes list'!$D$9:$E$58,2,FALSE) ) )","v":""},{"$f":"IF(AND(TRIM(AU62)=\"\", TRIM(AU63)=\"\"), \"\", SUM(AU62,AU63) )","v":""},null,null,null,{"$f":"IF(TRIM(AX64)=\"\", \"\", IF(VLOOKUP(AX64,'Footnotes list'!$D$9:$E$58,2,FALSE)=0,\"\",VLOOKUP(AX64,'Footnotes list'!$D$9:$E$58,2,FALSE) ) )","v":""}]
[null,"W0841","W0841","Batteries and accumulators wastes ","HAZ","Hazardous ",null,null,null,null,{"$f":"IF(TRIM(J65)=\"\", \"\", IF(VLOOKUP(J65,'Footnotes list'!$D$9:$E$58,2,FALSE)=0,\"\",VLOOKUP(J65,'Footnotes list'!$D$9:$E$58,2,FALSE) ) )","v":""},null,null,null,null,{"$f":"IF(TRIM(O65)=\"\", \"\", IF(VLOOKUP(O65,'Footnotes list'!$D$9:$E$58,2,FALSE)=0,\"\",VLOOKUP(O65,'Footnotes list'!$D$9:$E$58,2,FALSE) ) )","v":""},null,null,null,null,{"$f":"IF(TRIM(T65)=\"\", \"\", IF(VLOOKUP(T65,'Footnotes list'!$D$9:$E$58,2,FALSE)=0,\"\",VLOOKUP(T65,'Footnotes list'!$D$9:$E$58,2,FALSE) ) )","v":""},null,null,null,null,{"$f":"IF(TRIM(Y65)=\"\", \"\", IF(VLOOKUP(Y65,'Footnotes list'!$D$9:$E$58,2,FALSE)=0,\"\",VLOOKUP(Y65,'Footnotes list'!$D$9:$E$58,2,FALSE) ) )","v":""},{"$f":"IF(AND(TRIM(Q65)=\"\",TRIM(V65)=\"\"),\"\",Q65+V65)","v":""},null,null,null,{"$f":"IF(TRIM(AD65)=\"\", \"\", IF(VLOOKUP(AD65,'Footnotes list'!$D$9:$E$58,2,FALSE)=0,\"\",VLOOKUP(AD65,'Footnotes list'!$D$9:$E$58,2,FALSE) ) )","v":""},null,null,null,null,{"$f":"IF(TRIM(AI65)=\"\", \"\", IF(VLOOKUP(AI65,'Footnotes list'!$D$9:$E$58,2,FALSE)=0,\"\",VLOOKUP(AI65,'Footnotes list'!$D$9:$E$58,2,FALSE) ) )","v":""},null,null,null,null,{"$f":"IF(TRIM(AN65)=\"\", \"\", IF(VLOOKUP(AN65,'Footnotes list'!$D$9:$E$58,2,FALSE)=0,\"\",VLOOKUP(AN65,'Footnotes list'!$D$9:$E$58,2,FALSE) ) )","v":""},{"$f":"IF(AND(TRIM(AF65)=\"\",TRIM(AK65)=\"\"),\"\",AF65+AK65)","v":""},null,null,null,{"$f":"IF(TRIM(AS65)=\"\", \"\", IF(VLOOKUP(AS65,'Footnotes list'!$D$9:$E$58,2,FALSE)=0,\"\",VLOOKUP(AS65,'Footnotes list'!$D$9:$E$58,2,FALSE) ) )","v":""},{"$f":"IF(AND(TRIM(G65)=\"\",TRIM(L65)=\"\",TRIM(AA65)=\"\",TRIM(AP65)=\"\"),\"\",SUM(G65,L65,AA65,AP65))","v":""},null,null,null,{"$f":"IF(TRIM(AX65)=\"\", \"\", IF(VLOOKUP(AX65,'Footnotes list'!$D$9:$E$58,2,FALSE)=0,\"\",VLOOKUP(AX65,'Footnotes list'!$D$9:$E$58,2,FALSE) ) )","v":""}]
[null,null,"W0841",null,"NHAZ","Non-hazardous",null,null,null,null,{"$f":"IF(TRIM(J66)=\"\", \"\", IF(VLOOKUP(J66,'Footnotes list'!$D$9:$E$58,2,FALSE)=0,\"\",VLOOKUP(J66,'Footnotes list'!$D$9:$E$58,2,FALSE) ) )","v":""},null,null,null,null,{"$f":"IF(TRIM(O66)=\"\", \"\", IF(VLOOKUP(O66,'Footnotes list'!$D$9:$E$58,2,FALSE)=0,\"\",VLOOKUP(O66,'Footnotes list'!$D$9:$E$58,2,FALSE) ) )","v":""},null,null,null,null,{"$f":"IF(TRIM(T66)=\"\", \"\", IF(VLOOKUP(T66,'Footnotes list'!$D$9:$E$58,2,FALSE)=0,\"\",VLOOKUP(T66,'Footnotes list'!$D$9:$E$58,2,FALSE) ) )","v":""},null,null,null,null,{"$f":"IF(TRIM(Y66)=\"\", \"\", IF(VLOOKUP(Y66,'Footnotes list'!$D$9:$E$58,2,FALSE)=0,\"\",VLOOKUP(Y66,'Footnotes list'!$D$9:$E$58,2,FALSE) ) )","v":""},{"$f":"IF(AND(TRIM(Q66)=\"\",TRIM(V66)=\"\"),\"\",Q66+V66)","v":""},null,null,null,{"$f":"IF(TRIM(AD66)=\"\", \"\", IF(VLOOKUP(AD66,'Footnotes list'!$D$9:$E$58,2,FALSE)=0,\"\",VLOOKUP(AD66,'Footnotes list'!$D$9:$E$58,2,FALSE) ) )","v":""},null,null,null,null,{"$f":"IF(TRIM(AI66)=\"\", \"\", IF(VLOOKUP(AI66,'Footnotes list'!$D$9:$E$58,2,FALSE)=0,\"\",VLOOKUP(AI66,'Footnotes list'!$D$9:$E$58,2,FALSE) ) )","v":""},null,null,null,null,{"$f":"IF(TRIM(AN66)=\"\", \"\", IF(VLOOKUP(AN66,'Footnotes list'!$D$9:$E$58,2,FALSE)=0,\"\",VLOOKUP(AN66,'Footnotes list'!$D$9:$E$58,2,FALSE) ) )","v":""},{"$f":"IF(AND(TRIM(AF66)=\"\",TRIM(AK66)=\"\"),\"\",AF66+AK66)","v":""},null,null,null,{"$f":"IF(TRIM(AS66)=\"\", \"\", IF(VLOOKUP(AS66,'Footnotes list'!$D$9:$E$58,2,FALSE)=0,\"\",VLOOKUP(AS66,'Footnotes list'!$D$9:$E$58,2,FALSE) ) )","v":""},{"$f":"IF(AND(TRIM(G66)=\"\",TRIM(L66)=\"\",TRIM(AA66)=\"\",TRIM(AP66)=\"\"),\"\",SUM(G66,L66,AA66,AP66))","v":""},null,null,null,{"$f":"IF(TRIM(AX66)=\"\", \"\", IF(VLOOKUP(AX66,'Footnotes list'!$D$9:$E$58,2,FALSE)=0,\"\",VLOOKUP(AX66,'Footnotes list'!$D$9:$E$58,2,FALSE) ) )","v":""}]
[null,null,"W0841",null,"HAZ_NHAZ","Total",{"$f":"IF(AND(TRIM(G65)=\"\",TRIM(G66)=\"\"),\"\",G65+G66)","v":""},null,null,null,{"$f":"IF(TRIM(J67)=\"\", \"\", IF(VLOOKUP(J67,'Footnotes list'!$D$9:$E$58,2,FALSE)=0,\"\",VLOOKUP(J67,'Footnotes list'!$D$9:$E$58,2,FALSE) ) )","v":""},{"$f":"IF(AND(TRIM(L65)=\"\",TRIM(L66)=\"\"),\"\",L65+L66)","v":""},null,null,null,{"$f":"IF(TRIM(O67)=\"\", \"\", IF(VLOOKUP(O67,'Footnotes list'!$D$9:$E$58,2,FALSE)=0,\"\",VLOOKUP(O67,'Footnotes list'!$D$9:$E$58,2,FALSE) ) )","v":""},{"$f":"IF(AND(TRIM(Q65)=\"\",TRIM(Q66)=\"\"),\"\",Q65+Q66)","v":""},null,null,null,{"$f":"IF(TRIM(T67)=\"\", \"\", IF(VLOOKUP(T67,'Footnotes list'!$D$9:$E$58,2,FALSE)=0,\"\",VLOOKUP(T67,'Footnotes list'!$D$9:$E$58,2,FALSE) ) )","v":""},{"$f":"IF(AND(TRIM(V65)=\"\",TRIM(V66)=\"\"),\"\",V65+V66)","v":""},null,null,null,{"$f":"IF(TRIM(Y67)=\"\", \"\", IF(VLOOKUP(Y67,'Footnotes list'!$D$9:$E$58,2,FALSE)=0,\"\",VLOOKUP(Y67,'Footnotes list'!$D$9:$E$58,2,FALSE) ) )","v":""},{"$f":"IF(AND(TRIM(AA65)=\"\", TRIM(AA66)=\"\"), \"\", SUM(AA65,AA66))","v":""},null,null,null,{"$f":"IF(TRIM(AD67)=\"\", \"\", IF(VLOOKUP(AD67,'Footnotes list'!$D$9:$E$58,2,FALSE)=0,\"\",VLOOKUP(AD67,'Footnotes list'!$D$9:$E$58,2,FALSE) ) )","v":""},{"$f":"IF(AND(TRIM(AF65)=\"\",TRIM(AF66)=\"\"),\"\",AF65+AF66)","v":""},null,null,null,{"$f":"IF(TRIM(AI67)=\"\", \"\", IF(VLOOKUP(AI67,'Footnotes list'!$D$9:$E$58,2,FALSE)=0,\"\",VLOOKUP(AI67,'Footnotes list'!$D$9:$E$58,2,FALSE) ) )","v":""},{"$f":"IF(AND(TRIM(AK65)=\"\",TRIM(AK66)=\"\"),\"\",AK65+AK66)","v":""},null,null,null,{"$f":"IF(TRIM(AN67)=\"\", \"\", IF(VLOOKUP(AN67,'Footnotes list'!$D$9:$E$58,2,FALSE)=0,\"\",VLOOKUP(AN67,'Footnotes list'!$D$9:$E$58,2,FALSE) ) )","v":""},{"$f":"IF(AND(TRIM(AP65)=\"\", TRIM(AP66)=\"\"), \"\", SUM(AP65,AP66))","v":""},null,null,null,{"$f":"IF(TRIM(AS67)=\"\", \"\", IF(VLOOKUP(AS67,'Footnotes list'!$D$9:$E$58,2,FALSE)=0,\"\",VLOOKUP(AS67,'Footnotes list'!$D$9:$E$58,2,FALSE) ) )","v":""},{"$f":"IF(AND(TRIM(AU65)=\"\", TRIM(AU66)=\"\"), \"\", SUM(AU65,AU66) )","v":""},null,null,null,{"$f":"IF(TRIM(AX67)=\"\", \"\", IF(VLOOKUP(AX67,'Footnotes list'!$D$9:$E$58,2,FALSE)=0,\"\",VLOOKUP(AX67,'Footnotes list'!$D$9:$E$58,2,FALSE) ) )","v":""}]
[null,"W091",null,"Animal and mixed food waste ",null,"Not applicable"]
[null,null,"W091",null,"NHAZ","Non-hazardous",null,null,null,null,{"$f":"IF(TRIM(J69)=\"\", \"\", IF(VLOOKUP(J69,'Footnotes list'!$D$9:$E$58,2,FALSE)=0,\"\",VLOOKUP(J69,'Footnotes list'!$D$9:$E$58,2,FALSE) ) )","v":""},null,null,null,null,{"$f":"IF(TRIM(O69)=\"\", \"\", IF(VLOOKUP(O69,'Footnotes list'!$D$9:$E$58,2,FALSE)=0,\"\",VLOOKUP(O69,'Footnotes list'!$D$9:$E$58,2,FALSE) ) )","v":""},null,null,null,null,{"$f":"IF(TRIM(T69)=\"\", \"\", IF(VLOOKUP(T69,'Footnotes list'!$D$9:$E$58,2,FALSE)=0,\"\",VLOOKUP(T69,'Footnotes list'!$D$9:$E$58,2,FALSE) ) )","v":""},null,null,null,null,{"$f":"IF(TRIM(Y69)=\"\", \"\", IF(VLOOKUP(Y69,'Footnotes list'!$D$9:$E$58,2,FALSE)=0,\"\",VLOOKUP(Y69,'Footnotes list'!$D$9:$E$58,2,FALSE) ) )","v":""},{"$f":"IF(AND(TRIM(Q69)=\"\",TRIM(V69)=\"\"),\"\",Q69+V69)","v":""},null,null,null,{"$f":"IF(TRIM(AD69)=\"\", \"\", IF(VLOOKUP(AD69,'Footnotes list'!$D$9:$E$58,2,FALSE)=0,\"\",VLOOKUP(AD69,'Footnotes list'!$D$9:$E$58,2,FALSE) ) )","v":""},null,null,null,null,{"$f":"IF(TRIM(AI69)=\"\", \"\", IF(VLOOKUP(AI69,'Footnotes list'!$D$9:$E$58,2,FALSE)=0,\"\",VLOOKUP(AI69,'Footnotes list'!$D$9:$E$58,2,FALSE) ) )","v":""},null,null,null,null,{"$f":"IF(TRIM(AN69)=\"\", \"\", IF(VLOOKUP(AN69,'Footnotes list'!$D$9:$E$58,2,FALSE)=0,\"\",VLOOKUP(AN69,'Footnotes list'!$D$9:$E$58,2,FALSE) ) )","v":""},{"$f":"IF(AND(TRIM(AF69)=\"\",TRIM(AK69)=\"\"),\"\",AF69+AK69)","v":""},null,null,null,{"$f":"IF(TRIM(AS69)=\"\", \"\", IF(VLOOKUP(AS69,'Footnotes list'!$D$9:$E$58,2,FALSE)=0,\"\",VLOOKUP(AS69,'Footnotes list'!$D$9:$E$58,2,FALSE) ) )","v":""},{"$f":"IF(AND(TRIM(G69)=\"\",TRIM(L69)=\"\",TRIM(AA69)=\"\",TRIM(AP69)=\"\"),\"\",SUM(G69,L69,AA69,AP69))","v":""},null,null,null,{"$f":"IF(TRIM(AX69)=\"\", \"\", IF(VLOOKUP(AX69,'Footnotes list'!$D$9:$E$58,2,FALSE)=0,\"\",VLOOKUP(AX69,'Footnotes list'!$D$9:$E$58,2,FALSE) ) )","v":""}]
[null,null,"W091",null,"HAZ_NHAZ","Total",{"$f":"IF(AND(TRIM(G68)=\"\",TRIM(G69)=\"\"),\"\",G68+G69)","v":""},null,null,null,{"$f":"IF(TRIM(J70)=\"\", \"\", IF(VLOOKUP(J70,'Footnotes list'!$D$9:$E$58,2,FALSE)=0,\"\",VLOOKUP(J70,'Footnotes list'!$D$9:$E$58,2,FALSE) ) )","v":""},{"$f":"IF(AND(TRIM(L68)=\"\",TRIM(L69)=\"\"),\"\",L68+L69)","v":""},null,null,null,{"$f":"IF(TRIM(O70)=\"\", \"\", IF(VLOOKUP(O70,'Footnotes list'!$D$9:$E$58,2,FALSE)=0,\"\",VLOOKUP(O70,'Footnotes list'!$D$9:$E$58,2,FALSE) ) )","v":""},{"$f":"IF(AND(TRIM(Q68)=\"\",TRIM(Q69)=\"\"),\"\",Q68+Q69)","v":""},null,null,null,{"$f":"IF(TRIM(T70)=\"\", \"\", IF(VLOOKUP(T70,'Footnotes list'!$D$9:$E$58,2,FALSE)=0,\"\",VLOOKUP(T70,'Footnotes list'!$D$9:$E$58,2,FALSE) ) )","v":""},{"$f":"IF(AND(TRIM(V68)=\"\",TRIM(V69)=\"\"),\"\",V68+V69)","v":""},null,null,null,{"$f":"IF(TRIM(Y70)=\"\", \"\", IF(VLOOKUP(Y70,'Footnotes list'!$D$9:$E$58,2,FALSE)=0,\"\",VLOOKUP(Y70,'Footnotes list'!$D$9:$E$58,2,FALSE) ) )","v":""},{"$f":"IF(AND(TRIM(AA68)=\"\", TRIM(AA69)=\"\"), \"\", SUM(AA68,AA69))","v":""},null,null,null,{"$f":"IF(TRIM(AD70)=\"\", \"\", IF(VLOOKUP(AD70,'Footnotes list'!$D$9:$E$58,2,FALSE)=0,\"\",VLOOKUP(AD70,'Footnotes list'!$D$9:$E$58,2,FALSE) ) )","v":""},{"$f":"IF(AND(TRIM(AF68)=\"\",TRIM(AF69)=\"\"),\"\",AF68+AF69)","v":""},null,null,null,{"$f":"IF(TRIM(AI70)=\"\", \"\", IF(VLOOKUP(AI70,'Footnotes list'!$D$9:$E$58,2,FALSE)=0,\"\",VLOOKUP(AI70,'Footnotes list'!$D$9:$E$58,2,FALSE) ) )","v":""},{"$f":"IF(AND(TRIM(AK68)=\"\",TRIM(AK69)=\"\"),\"\",AK68+AK69)","v":""},null,null,null,{"$f":"IF(TRIM(AN70)=\"\", \"\", IF(VLOOKUP(AN70,'Footnotes list'!$D$9:$E$58,2,FALSE)=0,\"\",VLOOKUP(AN70,'Footnotes list'!$D$9:$E$58,2,FALSE) ) )","v":""},{"$f":"IF(AND(TRIM(AP68)=\"\", TRIM(AP69)=\"\"), \"\", SUM(AP68,AP69))","v":""},null,null,null,{"$f":"IF(TRIM(AS70)=\"\", \"\", IF(VLOOKUP(AS70,'Footnotes list'!$D$9:$E$58,2,FALSE)=0,\"\",VLOOKUP(AS70,'Footnotes list'!$D$9:$E$58,2,FALSE) ) )","v":""},{"$f":"IF(AND(TRIM(AU68)=\"\", TRIM(AU69)=\"\"), \"\", SUM(AU68,AU69) )","v":""},null,null,null,{"$f":"IF(TRIM(AX70)=\"\", \"\", IF(VLOOKUP(AX70,'Footnotes list'!$D$9:$E$58,2,FALSE)=0,\"\",VLOOKUP(AX70,'Footnotes list'!$D$9:$E$58,2,FALSE) ) )","v":""}]
[null,"W092",null,"Vegetal wastes ",null,"Not applicable"]
[null,null,"W092",null,"NHAZ","Non-hazardous",null,null,null,null,{"$f":"IF(TRIM(J72)=\"\", \"\", IF(VLOOKUP(J72,'Footnotes list'!$D$9:$E$58,2,FALSE)=0,\"\",VLOOKUP(J72,'Footnotes list'!$D$9:$E$58,2,FALSE) ) )","v":""},null,null,null,null,{"$f":"IF(TRIM(O72)=\"\", \"\", IF(VLOOKUP(O72,'Footnotes list'!$D$9:$E$58,2,FALSE)=0,\"\",VLOOKUP(O72,'Footnotes list'!$D$9:$E$58,2,FALSE) ) )","v":""},null,null,null,null,{"$f":"IF(TRIM(T72)=\"\", \"\", IF(VLOOKUP(T72,'Footnotes list'!$D$9:$E$58,2,FALSE)=0,\"\",VLOOKUP(T72,'Footnotes list'!$D$9:$E$58,2,FALSE) ) )","v":""},null,null,null,null,{"$f":"IF(TRIM(Y72)=\"\", \"\", IF(VLOOKUP(Y72,'Footnotes list'!$D$9:$E$58,2,FALSE)=0,\"\",VLOOKUP(Y72,'Footnotes list'!$D$9:$E$58,2,FALSE) ) )","v":""},{"$f":"IF(AND(TRIM(Q72)=\"\",TRIM(V72)=\"\"),\"\",Q72+V72)","v":""},null,null,null,{"$f":"IF(TRIM(AD72)=\"\", \"\", IF(VLOOKUP(AD72,'Footnotes list'!$D$9:$E$58,2,FALSE)=0,\"\",VLOOKUP(AD72,'Footnotes list'!$D$9:$E$58,2,FALSE) ) )","v":""},null,null,null,null,{"$f":"IF(TRIM(AI72)=\"\", \"\", IF(VLOOKUP(AI72,'Footnotes list'!$D$9:$E$58,2,FALSE)=0,\"\",VLOOKUP(AI72,'Footnotes list'!$D$9:$E$58,2,FALSE) ) )","v":""},null,null,null,null,{"$f":"IF(TRIM(AN72)=\"\", \"\", IF(VLOOKUP(AN72,'Footnotes list'!$D$9:$E$58,2,FALSE)=0,\"\",VLOOKUP(AN72,'Footnotes list'!$D$9:$E$58,2,FALSE) ) )","v":""},{"$f":"IF(AND(TRIM(AF72)=\"\",TRIM(AK72)=\"\"),\"\",AF72+AK72)","v":""},null,null,null,{"$f":"IF(TRIM(AS72)=\"\", \"\", IF(VLOOKUP(AS72,'Footnotes list'!$D$9:$E$58,2,FALSE)=0,\"\",VLOOKUP(AS72,'Footnotes list'!$D$9:$E$58,2,FALSE) ) )","v":""},{"$f":"IF(AND(TRIM(G72)=\"\",TRIM(L72)=\"\",TRIM(AA72)=\"\",TRIM(AP72)=\"\"),\"\",SUM(G72,L72,AA72,AP72))","v":""},null,null,null,{"$f":"IF(TRIM(AX72)=\"\", \"\", IF(VLOOKUP(AX72,'Footnotes list'!$D$9:$E$58,2,FALSE)=0,\"\",VLOOKUP(AX72,'Footnotes list'!$D$9:$E$58,2,FALSE) ) )","v":""}]
[null,null,"W092",null,"HAZ_NHAZ","Total",{"$f":"IF(AND(TRIM(G71)=\"\",TRIM(G72)=\"\"),\"\",G71+G72)","v":""},null,null,null,{"$f":"IF(TRIM(J73)=\"\", \"\", IF(VLOOKUP(J73,'Footnotes list'!$D$9:$E$58,2,FALSE)=0,\"\",VLOOKUP(J73,'Footnotes list'!$D$9:$E$58,2,FALSE) ) )","v":""},{"$f":"IF(AND(TRIM(L71)=\"\",TRIM(L72)=\"\"),\"\",L71+L72)","v":""},null,null,null,{"$f":"IF(TRIM(O73)=\"\", \"\", IF(VLOOKUP(O73,'Footnotes list'!$D$9:$E$58,2,FALSE)=0,\"\",VLOOKUP(O73,'Footnotes list'!$D$9:$E$58,2,FALSE) ) )","v":""},{"$f":"IF(AND(TRIM(Q71)=\"\",TRIM(Q72)=\"\"),\"\",Q71+Q72)","v":""},null,null,null,{"$f":"IF(TRIM(T73)=\"\", \"\", IF(VLOOKUP(T73,'Footnotes list'!$D$9:$E$58,2,FALSE)=0,\"\",VLOOKUP(T73,'Footnotes list'!$D$9:$E$58,2,FALSE) ) )","v":""},{"$f":"IF(AND(TRIM(V71)=\"\",TRIM(V72)=\"\"),\"\",V71+V72)","v":""},null,null,null,{"$f":"IF(TRIM(Y73)=\"\", \"\", IF(VLOOKUP(Y73,'Footnotes list'!$D$9:$E$58,2,FALSE)=0,\"\",VLOOKUP(Y73,'Footnotes list'!$D$9:$E$58,2,FALSE) ) )","v":""},{"$f":"IF(AND(TRIM(AA71)=\"\", TRIM(AA72)=\"\"), \"\", SUM(AA71,AA72))","v":""},null,null,null,{"$f":"IF(TRIM(AD73)=\"\", \"\", IF(VLOOKUP(AD73,'Footnotes list'!$D$9:$E$58,2,FALSE)=0,\"\",VLOOKUP(AD73,'Footnotes list'!$D$9:$E$58,2,FALSE) ) )","v":""},{"$f":"IF(AND(TRIM(AF71)=\"\",TRIM(AF72)=\"\"),\"\",AF71+AF72)","v":""},null,null,null,{"$f":"IF(TRIM(AI73)=\"\", \"\", IF(VLOOKUP(AI73,'Footnotes list'!$D$9:$E$58,2,FALSE)=0,\"\",VLOOKUP(AI73,'Footnotes list'!$D$9:$E$58,2,FALSE) ) )","v":""},{"$f":"IF(AND(TRIM(AK71)=\"\",TRIM(AK72)=\"\"),\"\",AK71+AK72)","v":""},null,null,null,{"$f":"IF(TRIM(AN73)=\"\", \"\", IF(VLOOKUP(AN73,'Footnotes list'!$D$9:$E$58,2,FALSE)=0,\"\",VLOOKUP(AN73,'Footnotes list'!$D$9:$E$58,2,FALSE) ) )","v":""},{"$f":"IF(AND(TRIM(AP71)=\"\", TRIM(AP72)=\"\"), \"\", SUM(AP71,AP72))","v":""},null,null,null,{"$f":"IF(TRIM(AS73)=\"\", \"\", IF(VLOOKUP(AS73,'Footnotes list'!$D$9:$E$58,2,FALSE)=0,\"\",VLOOKUP(AS73,'Footnotes list'!$D$9:$E$58,2,FALSE) ) )","v":""},{"$f":"IF(AND(TRIM(AU71)=\"\", TRIM(AU72)=\"\"), \"\", SUM(AU71,AU72) )","v":""},null,null,null,{"$f":"IF(TRIM(AX73)=\"\", \"\", IF(VLOOKUP(AX73,'Footnotes list'!$D$9:$E$58,2,FALSE)=0,\"\",VLOOKUP(AX73,'Footnotes list'!$D$9:$E$58,2,FALSE) ) )","v":""}]
[null,"W093",null,"Animal faeces, urine and manure ",null,"Not applicable"]
[null,null,"W093",null,"NHAZ","Non-hazardous",null,null,null,null,{"$f":"IF(TRIM(J75)=\"\", \"\", IF(VLOOKUP(J75,'Footnotes list'!$D$9:$E$58,2,FALSE)=0,\"\",VLOOKUP(J75,'Footnotes list'!$D$9:$E$58,2,FALSE) ) )","v":""},null,null,null,null,{"$f":"IF(TRIM(O75)=\"\", \"\", IF(VLOOKUP(O75,'Footnotes list'!$D$9:$E$58,2,FALSE)=0,\"\",VLOOKUP(O75,'Footnotes list'!$D$9:$E$58,2,FALSE) ) )","v":""},null,null,null,null,{"$f":"IF(TRIM(T75)=\"\", \"\", IF(VLOOKUP(T75,'Footnotes list'!$D$9:$E$58,2,FALSE)=0,\"\",VLOOKUP(T75,'Footnotes list'!$D$9:$E$58,2,FALSE) ) )","v":""},null,null,null,null,{"$f":"IF(TRIM(Y75)=\"\", \"\", IF(VLOOKUP(Y75,'Footnotes list'!$D$9:$E$58,2,FALSE)=0,\"\",VLOOKUP(Y75,'Footnotes list'!$D$9:$E$58,2,FALSE) ) )","v":""},{"$f":"IF(AND(TRIM(Q75)=\"\",TRIM(V75)=\"\"),\"\",Q75+V75)","v":""},null,null,null,{"$f":"IF(TRIM(AD75)=\"\", \"\", IF(VLOOKUP(AD75,'Footnotes list'!$D$9:$E$58,2,FALSE)=0,\"\",VLOOKUP(AD75,'Footnotes list'!$D$9:$E$58,2,FALSE) ) )","v":""},null,null,null,null,{"$f":"IF(TRIM(AI75)=\"\", \"\", IF(VLOOKUP(AI75,'Footnotes list'!$D$9:$E$58,2,FALSE)=0,\"\",VLOOKUP(AI75,'Footnotes list'!$D$9:$E$58,2,FALSE) ) )","v":""},null,null,null,null,{"$f":"IF(TRIM(AN75)=\"\", \"\", IF(VLOOKUP(AN75,'Footnotes list'!$D$9:$E$58,2,FALSE)=0,\"\",VLOOKUP(AN75,'Footnotes list'!$D$9:$E$58,2,FALSE) ) )","v":""},{"$f":"IF(AND(TRIM(AF75)=\"\",TRIM(AK75)=\"\"),\"\",AF75+AK75)","v":""},null,null,null,{"$f":"IF(TRIM(AS75)=\"\", \"\", IF(VLOOKUP(AS75,'Footnotes list'!$D$9:$E$58,2,FALSE)=0,\"\",VLOOKUP(AS75,'Footnotes list'!$D$9:$E$58,2,FALSE) ) )","v":""},{"$f":"IF(AND(TRIM(G75)=\"\",TRIM(L75)=\"\",TRIM(AA75)=\"\",TRIM(AP75)=\"\"),\"\",SUM(G75,L75,AA75,AP75))","v":""},null,null,null,{"$f":"IF(TRIM(AX75)=\"\", \"\", IF(VLOOKUP(AX75,'Footnotes list'!$D$9:$E$58,2,FALSE)=0,\"\",VLOOKUP(AX75,'Footnotes list'!$D$9:$E$58,2,FALSE) ) )","v":""}]
[null,null,"W093",null,"HAZ_NHAZ","Total",{"$f":"IF(AND(TRIM(G74)=\"\",TRIM(G75)=\"\"),\"\",G74+G75)","v":""},null,null,null,{"$f":"IF(TRIM(J76)=\"\", \"\", IF(VLOOKUP(J76,'Footnotes list'!$D$9:$E$58,2,FALSE)=0,\"\",VLOOKUP(J76,'Footnotes list'!$D$9:$E$58,2,FALSE) ) )","v":""},{"$f":"IF(AND(TRIM(L74)=\"\",TRIM(L75)=\"\"),\"\",L74+L75)","v":""},null,null,null,{"$f":"IF(TRIM(O76)=\"\", \"\", IF(VLOOKUP(O76,'Footnotes list'!$D$9:$E$58,2,FALSE)=0,\"\",VLOOKUP(O76,'Footnotes list'!$D$9:$E$58,2,FALSE) ) )","v":""},{"$f":"IF(AND(TRIM(Q74)=\"\",TRIM(Q75)=\"\"),\"\",Q74+Q75)","v":""},null,null,null,{"$f":"IF(TRIM(T76)=\"\", \"\", IF(VLOOKUP(T76,'Footnotes list'!$D$9:$E$58,2,FALSE)=0,\"\",VLOOKUP(T76,'Footnotes list'!$D$9:$E$58,2,FALSE) ) )","v":""},{"$f":"IF(AND(TRIM(V74)=\"\",TRIM(V75)=\"\"),\"\",V74+V75)","v":""},null,null,null,{"$f":"IF(TRIM(Y76)=\"\", \"\", IF(VLOOKUP(Y76,'Footnotes list'!$D$9:$E$58,2,FALSE)=0,\"\",VLOOKUP(Y76,'Footnotes list'!$D$9:$E$58,2,FALSE) ) )","v":""},{"$f":"IF(AND(TRIM(AA74)=\"\", TRIM(AA75)=\"\"), \"\", SUM(AA74,AA75))","v":""},null,null,null,{"$f":"IF(TRIM(AD76)=\"\", \"\", IF(VLOOKUP(AD76,'Footnotes list'!$D$9:$E$58,2,FALSE)=0,\"\",VLOOKUP(AD76,'Footnotes list'!$D$9:$E$58,2,FALSE) ) )","v":""},{"$f":"IF(AND(TRIM(AF74)=\"\",TRIM(AF75)=\"\"),\"\",AF74+AF75)","v":""},null,null,null,{"$f":"IF(TRIM(AI76)=\"\", \"\", IF(VLOOKUP(AI76,'Footnotes list'!$D$9:$E$58,2,FALSE)=0,\"\",VLOOKUP(AI76,'Footnotes list'!$D$9:$E$58,2,FALSE) ) )","v":""},{"$f":"IF(AND(TRIM(AK74)=\"\",TRIM(AK75)=\"\"),\"\",AK74+AK75)","v":""},null,null,null,{"$f":"IF(TRIM(AN76)=\"\", \"\", IF(VLOOKUP(AN76,'Footnotes list'!$D$9:$E$58,2,FALSE)=0,\"\",VLOOKUP(AN76,'Footnotes list'!$D$9:$E$58,2,FALSE) ) )","v":""},{"$f":"IF(AND(TRIM(AP74)=\"\", TRIM(AP75)=\"\"), \"\", SUM(AP74,AP75))","v":""},null,null,null,{"$f":"IF(TRIM(AS76)=\"\", \"\", IF(VLOOKUP(AS76,'Footnotes list'!$D$9:$E$58,2,FALSE)=0,\"\",VLOOKUP(AS76,'Footnotes list'!$D$9:$E$58,2,FALSE) ) )","v":""},{"$f":"IF(AND(TRIM(AU74)=\"\", TRIM(AU75)=\"\"), \"\", SUM(AU74,AU75) )","v":""},null,null,null,{"$f":"IF(TRIM(AX76)=\"\", \"\", IF(VLOOKUP(AX76,'Footnotes list'!$D$9:$E$58,2,FALSE)=0,\"\",VLOOKUP(AX76,'Footnotes list'!$D$9:$E$58,2,FALSE) ) )","v":""}]
[null,"W101",null,"Household and similar wastes ",null,"Not applicable"]
[null,null,"W101",null,"NHAZ","Non-hazardous",null,null,null,null,{"$f":"IF(TRIM(J78)=\"\", \"\", IF(VLOOKUP(J78,'Footnotes list'!$D$9:$E$58,2,FALSE)=0,\"\",VLOOKUP(J78,'Footnotes list'!$D$9:$E$58,2,FALSE) ) )","v":""},null,null,null,null,{"$f":"IF(TRIM(O78)=\"\", \"\", IF(VLOOKUP(O78,'Footnotes list'!$D$9:$E$58,2,FALSE)=0,\"\",VLOOKUP(O78,'Footnotes list'!$D$9:$E$58,2,FALSE) ) )","v":""},null,null,null,null,{"$f":"IF(TRIM(T78)=\"\", \"\", IF(VLOOKUP(T78,'Footnotes list'!$D$9:$E$58,2,FALSE)=0,\"\",VLOOKUP(T78,'Footnotes list'!$D$9:$E$58,2,FALSE) ) )","v":""},null,null,null,null,{"$f":"IF(TRIM(Y78)=\"\", \"\", IF(VLOOKUP(Y78,'Footnotes list'!$D$9:$E$58,2,FALSE)=0,\"\",VLOOKUP(Y78,'Footnotes list'!$D$9:$E$58,2,FALSE) ) )","v":""},{"$f":"IF(AND(TRIM(Q78)=\"\",TRIM(V78)=\"\"),\"\",Q78+V78)","v":""},null,null,null,{"$f":"IF(TRIM(AD78)=\"\", \"\", IF(VLOOKUP(AD78,'Footnotes list'!$D$9:$E$58,2,FALSE)=0,\"\",VLOOKUP(AD78,'Footnotes list'!$D$9:$E$58,2,FALSE) ) )","v":""},null,null,null,null,{"$f":"IF(TRIM(AI78)=\"\", \"\", IF(VLOOKUP(AI78,'Footnotes list'!$D$9:$E$58,2,FALSE)=0,\"\",VLOOKUP(AI78,'Footnotes list'!$D$9:$E$58,2,FALSE) ) )","v":""},null,null,null,null,{"$f":"IF(TRIM(AN78)=\"\", \"\", IF(VLOOKUP(AN78,'Footnotes list'!$D$9:$E$58,2,FALSE)=0,\"\",VLOOKUP(AN78,'Footnotes list'!$D$9:$E$58,2,FALSE) ) )","v":""},{"$f":"IF(AND(TRIM(AF78)=\"\",TRIM(AK78)=\"\"),\"\",AF78+AK78)","v":""},null,null,null,{"$f":"IF(TRIM(AS78)=\"\", \"\", IF(VLOOKUP(AS78,'Footnotes list'!$D$9:$E$58,2,FALSE)=0,\"\",VLOOKUP(AS78,'Footnotes list'!$D$9:$E$58,2,FALSE) ) )","v":""},{"$f":"IF(AND(TRIM(G78)=\"\",TRIM(L78)=\"\",TRIM(AA78)=\"\",TRIM(AP78)=\"\"),\"\",SUM(G78,L78,AA78,AP78))","v":""},null,null,null,{"$f":"IF(TRIM(AX78)=\"\", \"\", IF(VLOOKUP(AX78,'Footnotes list'!$D$9:$E$58,2,FALSE)=0,\"\",VLOOKUP(AX78,'Footnotes list'!$D$9:$E$58,2,FALSE) ) )","v":""}]
[null,null,"W101",null,"HAZ_NHAZ","Total",{"$f":"IF(AND(TRIM(G77)=\"\",TRIM(G78)=\"\"),\"\",G77+G78)","v":""},null,null,null,{"$f":"IF(TRIM(J79)=\"\", \"\", IF(VLOOKUP(J79,'Footnotes list'!$D$9:$E$58,2,FALSE)=0,\"\",VLOOKUP(J79,'Footnotes list'!$D$9:$E$58,2,FALSE) ) )","v":""},{"$f":"IF(AND(TRIM(L77)=\"\",TRIM(L78)=\"\"),\"\",L77+L78)","v":""},null,null,null,{"$f":"IF(TRIM(O79)=\"\", \"\", IF(VLOOKUP(O79,'Footnotes list'!$D$9:$E$58,2,FALSE)=0,\"\",VLOOKUP(O79,'Footnotes list'!$D$9:$E$58,2,FALSE) ) )","v":""},{"$f":"IF(AND(TRIM(Q77)=\"\",TRIM(Q78)=\"\"),\"\",Q77+Q78)","v":""},null,null,null,{"$f":"IF(TRIM(T79)=\"\", \"\", IF(VLOOKUP(T79,'Footnotes list'!$D$9:$E$58,2,FALSE)=0,\"\",VLOOKUP(T79,'Footnotes list'!$D$9:$E$58,2,FALSE) ) )","v":""},{"$f":"IF(AND(TRIM(V77)=\"\",TRIM(V78)=\"\"),\"\",V77+V78)","v":""},null,null,null,{"$f":"IF(TRIM(Y79)=\"\", \"\", IF(VLOOKUP(Y79,'Footnotes list'!$D$9:$E$58,2,FALSE)=0,\"\",VLOOKUP(Y79,'Footnotes list'!$D$9:$E$58,2,FALSE) ) )","v":""},{"$f":"IF(AND(TRIM(AA77)=\"\", TRIM(AA78)=\"\"), \"\", SUM(AA77,AA78))","v":""},null,null,null,{"$f":"IF(TRIM(AD79)=\"\", \"\", IF(VLOOKUP(AD79,'Footnotes list'!$D$9:$E$58,2,FALSE)=0,\"\",VLOOKUP(AD79,'Footnotes list'!$D$9:$E$58,2,FALSE) ) )","v":""},{"$f":"IF(AND(TRIM(AF77)=\"\",TRIM(AF78)=\"\"),\"\",AF77+AF78)","v":""},null,null,null,{"$f":"IF(TRIM(AI79)=\"\", \"\", IF(VLOOKUP(AI79,'Footnotes list'!$D$9:$E$58,2,FALSE)=0,\"\",VLOOKUP(AI79,'Footnotes list'!$D$9:$E$58,2,FALSE) ) )","v":""},{"$f":"IF(AND(TRIM(AK77)=\"\",TRIM(AK78)=\"\"),\"\",AK77+AK78)","v":""},null,null,null,{"$f":"IF(TRIM(AN79)=\"\", \"\", IF(VLOOKUP(AN79,'Footnotes list'!$D$9:$E$58,2,FALSE)=0,\"\",VLOOKUP(AN79,'Footnotes list'!$D$9:$E$58,2,FALSE) ) )","v":""},{"$f":"IF(AND(TRIM(AP77)=\"\", TRIM(AP78)=\"\"), \"\", SUM(AP77,AP78))","v":""},null,null,null,{"$f":"IF(TRIM(AS79)=\"\", \"\", IF(VLOOKUP(AS79,'Footnotes list'!$D$9:$E$58,2,FALSE)=0,\"\",VLOOKUP(AS79,'Footnotes list'!$D$9:$E$58,2,FALSE) ) )","v":""},{"$f":"IF(AND(TRIM(AU77)=\"\", TRIM(AU78)=\"\"), \"\", SUM(AU77,AU78) )","v":""},null,null,null,{"$f":"IF(TRIM(AX79)=\"\", \"\", IF(VLOOKUP(AX79,'Footnotes list'!$D$9:$E$58,2,FALSE)=0,\"\",VLOOKUP(AX79,'Footnotes list'!$D$9:$E$58,2,FALSE) ) )","v":""}]
[null,"W102","W102","Mixed and undifferentiated materials ","HAZ","Hazardous ",null,null,null,null,{"$f":"IF(TRIM(J80)=\"\", \"\", IF(VLOOKUP(J80,'Footnotes list'!$D$9:$E$58,2,FALSE)=0,\"\",VLOOKUP(J80,'Footnotes list'!$D$9:$E$58,2,FALSE) ) )","v":""},null,null,null,null,{"$f":"IF(TRIM(O80)=\"\", \"\", IF(VLOOKUP(O80,'Footnotes list'!$D$9:$E$58,2,FALSE)=0,\"\",VLOOKUP(O80,'Footnotes list'!$D$9:$E$58,2,FALSE) ) )","v":""},null,null,null,null,{"$f":"IF(TRIM(T80)=\"\", \"\", IF(VLOOKUP(T80,'Footnotes list'!$D$9:$E$58,2,FALSE)=0,\"\",VLOOKUP(T80,'Footnotes list'!$D$9:$E$58,2,FALSE) ) )","v":""},null,null,null,null,{"$f":"IF(TRIM(Y80)=\"\", \"\", IF(VLOOKUP(Y80,'Footnotes list'!$D$9:$E$58,2,FALSE)=0,\"\",VLOOKUP(Y80,'Footnotes list'!$D$9:$E$58,2,FALSE) ) )","v":""},{"$f":"IF(AND(TRIM(Q80)=\"\",TRIM(V80)=\"\"),\"\",Q80+V80)","v":""},null,null,null,{"$f":"IF(TRIM(AD80)=\"\", \"\", IF(VLOOKUP(AD80,'Footnotes list'!$D$9:$E$58,2,FALSE)=0,\"\",VLOOKUP(AD80,'Footnotes list'!$D$9:$E$58,2,FALSE) ) )","v":""},null,null,null,null,{"$f":"IF(TRIM(AI80)=\"\", \"\", IF(VLOOKUP(AI80,'Footnotes list'!$D$9:$E$58,2,FALSE)=0,\"\",VLOOKUP(AI80,'Footnotes list'!$D$9:$E$58,2,FALSE) ) )","v":""},null,null,null,null,{"$f":"IF(TRIM(AN80)=\"\", \"\", IF(VLOOKUP(AN80,'Footnotes list'!$D$9:$E$58,2,FALSE)=0,\"\",VLOOKUP(AN80,'Footnotes list'!$D$9:$E$58,2,FALSE) ) )","v":""},{"$f":"IF(AND(TRIM(AF80)=\"\",TRIM(AK80)=\"\"),\"\",AF80+AK80)","v":""},null,null,null,{"$f":"IF(TRIM(AS80)=\"\", \"\", IF(VLOOKUP(AS80,'Footnotes list'!$D$9:$E$58,2,FALSE)=0,\"\",VLOOKUP(AS80,'Footnotes list'!$D$9:$E$58,2,FALSE) ) )","v":""},{"$f":"IF(AND(TRIM(G80)=\"\",TRIM(L80)=\"\",TRIM(AA80)=\"\",TRIM(AP80)=\"\"),\"\",SUM(G80,L80,AA80,AP80))","v":""},null,null,null,{"$f":"IF(TRIM(AX80)=\"\", \"\", IF(VLOOKUP(AX80,'Footnotes list'!$D$9:$E$58,2,FALSE)=0,\"\",VLOOKUP(AX80,'Footnotes list'!$D$9:$E$58,2,FALSE) ) )","v":""}]
[null,null,"W102",null,"NHAZ","Non-hazardous",null,null,null,null,{"$f":"IF(TRIM(J81)=\"\", \"\", IF(VLOOKUP(J81,'Footnotes list'!$D$9:$E$58,2,FALSE)=0,\"\",VLOOKUP(J81,'Footnotes list'!$D$9:$E$58,2,FALSE) ) )","v":""},null,null,null,null,{"$f":"IF(TRIM(O81)=\"\", \"\", IF(VLOOKUP(O81,'Footnotes list'!$D$9:$E$58,2,FALSE)=0,\"\",VLOOKUP(O81,'Footnotes list'!$D$9:$E$58,2,FALSE) ) )","v":""},null,null,null,null,{"$f":"IF(TRIM(T81)=\"\", \"\", IF(VLOOKUP(T81,'Footnotes list'!$D$9:$E$58,2,FALSE)=0,\"\",VLOOKUP(T81,'Footnotes list'!$D$9:$E$58,2,FALSE) ) )","v":""},null,null,null,null,{"$f":"IF(TRIM(Y81)=\"\", \"\", IF(VLOOKUP(Y81,'Footnotes list'!$D$9:$E$58,2,FALSE)=0,\"\",VLOOKUP(Y81,'Footnotes list'!$D$9:$E$58,2,FALSE) ) )","v":""},{"$f":"IF(AND(TRIM(Q81)=\"\",TRIM(V81)=\"\"),\"\",Q81+V81)","v":""},null,null,null,{"$f":"IF(TRIM(AD81)=\"\", \"\", IF(VLOOKUP(AD81,'Footnotes list'!$D$9:$E$58,2,FALSE)=0,\"\",VLOOKUP(AD81,'Footnotes list'!$D$9:$E$58,2,FALSE) ) )","v":""},null,null,null,null,{"$f":"IF(TRIM(AI81)=\"\", \"\", IF(VLOOKUP(AI81,'Footnotes list'!$D$9:$E$58,2,FALSE)=0,\"\",VLOOKUP(AI81,'Footnotes list'!$D$9:$E$58,2,FALSE) ) )","v":""},null,null,null,null,{"$f":"IF(TRIM(AN81)=\"\", \"\", IF(VLOOKUP(AN81,'Footnotes list'!$D$9:$E$58,2,FALSE)=0,\"\",VLOOKUP(AN81,'Footnotes list'!$D$9:$E$58,2,FALSE) ) )","v":""},{"$f":"IF(AND(TRIM(AF81)=\"\",TRIM(AK81)=\"\"),\"\",AF81+AK81)","v":""},null,null,null,{"$f":"IF(TRIM(AS81)=\"\", \"\", IF(VLOOKUP(AS81,'Footnotes list'!$D$9:$E$58,2,FALSE)=0,\"\",VLOOKUP(AS81,'Footnotes list'!$D$9:$E$58,2,FALSE) ) )","v":""},{"$f":"IF(AND(TRIM(G81)=\"\",TRIM(L81)=\"\",TRIM(AA81)=\"\",TRIM(AP81)=\"\"),\"\",SUM(G81,L81,AA81,AP81))","v":""},null,null,null,{"$f":"IF(TRIM(AX81)=\"\", \"\", IF(VLOOKUP(AX81,'Footnotes list'!$D$9:$E$58,2,FALSE)=0,\"\",VLOOKUP(AX81,'Footnotes list'!$D$9:$E$58,2,FALSE) ) )","v":""}]
[null,null,"W102",null,"HAZ_NHAZ","Total",{"$f":"IF(AND(TRIM(G80)=\"\",TRIM(G81)=\"\"),\"\",G80+G81)","v":""},null,null,null,{"$f":"IF(TRIM(J82)=\"\", \"\", IF(VLOOKUP(J82,'Footnotes list'!$D$9:$E$58,2,FALSE)=0,\"\",VLOOKUP(J82,'Footnotes list'!$D$9:$E$58,2,FALSE) ) )","v":""},{"$f":"IF(AND(TRIM(L80)=\"\",TRIM(L81)=\"\"),\"\",L80+L81)","v":""},null,null,null,{"$f":"IF(TRIM(O82)=\"\", \"\", IF(VLOOKUP(O82,'Footnotes list'!$D$9:$E$58,2,FALSE)=0,\"\",VLOOKUP(O82,'Footnotes list'!$D$9:$E$58,2,FALSE) ) )","v":""},{"$f":"IF(AND(TRIM(Q80)=\"\",TRIM(Q81)=\"\"),\"\",Q80+Q81)","v":""},null,null,null,{"$f":"IF(TRIM(T82)=\"\", \"\", IF(VLOOKUP(T82,'Footnotes list'!$D$9:$E$58,2,FALSE)=0,\"\",VLOOKUP(T82,'Footnotes list'!$D$9:$E$58,2,FALSE) ) )","v":""},{"$f":"IF(AND(TRIM(V80)=\"\",TRIM(V81)=\"\"),\"\",V80+V81)","v":""},null,null,null,{"$f":"IF(TRIM(Y82)=\"\", \"\", IF(VLOOKUP(Y82,'Footnotes list'!$D$9:$E$58,2,FALSE)=0,\"\",VLOOKUP(Y82,'Footnotes list'!$D$9:$E$58,2,FALSE) ) )","v":""},{"$f":"IF(AND(TRIM(AA80)=\"\", TRIM(AA81)=\"\"), \"\", SUM(AA80,AA81))","v":""},null,null,null,{"$f":"IF(TRIM(AD82)=\"\", \"\", IF(VLOOKUP(AD82,'Footnotes list'!$D$9:$E$58,2,FALSE)=0,\"\",VLOOKUP(AD82,'Footnotes list'!$D$9:$E$58,2,FALSE) ) )","v":""},{"$f":"IF(AND(TRIM(AF80)=\"\",TRIM(AF81)=\"\"),\"\",AF80+AF81)","v":""},null,null,null,{"$f":"IF(TRIM(AI82)=\"\", \"\", IF(VLOOKUP(AI82,'Footnotes list'!$D$9:$E$58,2,FALSE)=0,\"\",VLOOKUP(AI82,'Footnotes list'!$D$9:$E$58,2,FALSE) ) )","v":""},{"$f":"IF(AND(TRIM(AK80)=\"\",TRIM(AK81)=\"\"),\"\",AK80+AK81)","v":""},null,null,null,{"$f":"IF(TRIM(AN82)=\"\", \"\", IF(VLOOKUP(AN82,'Footnotes list'!$D$9:$E$58,2,FALSE)=0,\"\",VLOOKUP(AN82,'Footnotes list'!$D$9:$E$58,2,FALSE) ) )","v":""},{"$f":"IF(AND(TRIM(AP80)=\"\", TRIM(AP81)=\"\"), \"\", SUM(AP80,AP81))","v":""},null,null,null,{"$f":"IF(TRIM(AS82)=\"\", \"\", IF(VLOOKUP(AS82,'Footnotes list'!$D$9:$E$58,2,FALSE)=0,\"\",VLOOKUP(AS82,'Footnotes list'!$D$9:$E$58,2,FALSE) ) )","v":""},{"$f":"IF(AND(TRIM(AU80)=\"\", TRIM(AU81)=\"\"), \"\", SUM(AU80,AU81) )","v":""},null,null,null,{"$f":"IF(TRIM(AX82)=\"\", \"\", IF(VLOOKUP(AX82,'Footnotes list'!$D$9:$E$58,2,FALSE)=0,\"\",VLOOKUP(AX82,'Footnotes list'!$D$9:$E$58,2,FALSE) ) )","v":""}]
[null,"W103","W103","Sorting residues ","HAZ","Hazardous ",null,null,null,null,{"$f":"IF(TRIM(J83)=\"\", \"\", IF(VLOOKUP(J83,'Footnotes list'!$D$9:$E$58,2,FALSE)=0,\"\",VLOOKUP(J83,'Footnotes list'!$D$9:$E$58,2,FALSE) ) )","v":""},null,null,null,null,{"$f":"IF(TRIM(O83)=\"\", \"\", IF(VLOOKUP(O83,'Footnotes list'!$D$9:$E$58,2,FALSE)=0,\"\",VLOOKUP(O83,'Footnotes list'!$D$9:$E$58,2,FALSE) ) )","v":""},null,null,null,null,{"$f":"IF(TRIM(T83)=\"\", \"\", IF(VLOOKUP(T83,'Footnotes list'!$D$9:$E$58,2,FALSE)=0,\"\",VLOOKUP(T83,'Footnotes list'!$D$9:$E$58,2,FALSE) ) )","v":""},null,null,null,null,{"$f":"IF(TRIM(Y83)=\"\", \"\", IF(VLOOKUP(Y83,'Footnotes list'!$D$9:$E$58,2,FALSE)=0,\"\",VLOOKUP(Y83,'Footnotes list'!$D$9:$E$58,2,FALSE) ) )","v":""},{"$f":"IF(AND(TRIM(Q83)=\"\",TRIM(V83)=\"\"),\"\",Q83+V83)","v":""},null,null,null,{"$f":"IF(TRIM(AD83)=\"\", \"\", IF(VLOOKUP(AD83,'Footnotes list'!$D$9:$E$58,2,FALSE)=0,\"\",VLOOKUP(AD83,'Footnotes list'!$D$9:$E$58,2,FALSE) ) )","v":""},null,null,null,null,{"$f":"IF(TRIM(AI83)=\"\", \"\", IF(VLOOKUP(AI83,'Footnotes list'!$D$9:$E$58,2,FALSE)=0,\"\",VLOOKUP(AI83,'Footnotes list'!$D$9:$E$58,2,FALSE) ) )","v":""},null,null,null,null,{"$f":"IF(TRIM(AN83)=\"\", \"\", IF(VLOOKUP(AN83,'Footnotes list'!$D$9:$E$58,2,FALSE)=0,\"\",VLOOKUP(AN83,'Footnotes list'!$D$9:$E$58,2,FALSE) ) )","v":""},{"$f":"IF(AND(TRIM(AF83)=\"\",TRIM(AK83)=\"\"),\"\",AF83+AK83)","v":""},null,null,null,{"$f":"IF(TRIM(AS83)=\"\", \"\", IF(VLOOKUP(AS83,'Footnotes list'!$D$9:$E$58,2,FALSE)=0,\"\",VLOOKUP(AS83,'Footnotes list'!$D$9:$E$58,2,FALSE) ) )","v":""},{"$f":"IF(AND(TRIM(G83)=\"\",TRIM(L83)=\"\",TRIM(AA83)=\"\",TRIM(AP83)=\"\"),\"\",SUM(G83,L83,AA83,AP83))","v":""},null,null,null,{"$f":"IF(TRIM(AX83)=\"\", \"\", IF(VLOOKUP(AX83,'Footnotes list'!$D$9:$E$58,2,FALSE)=0,\"\",VLOOKUP(AX83,'Footnotes list'!$D$9:$E$58,2,FALSE) ) )","v":""}]
[null,null,"W103",null,"NHAZ","Non-hazardous",null,null,null,null,{"$f":"IF(TRIM(J84)=\"\", \"\", IF(VLOOKUP(J84,'Footnotes list'!$D$9:$E$58,2,FALSE)=0,\"\",VLOOKUP(J84,'Footnotes list'!$D$9:$E$58,2,FALSE) ) )","v":""},null,null,null,null,{"$f":"IF(TRIM(O84)=\"\", \"\", IF(VLOOKUP(O84,'Footnotes list'!$D$9:$E$58,2,FALSE)=0,\"\",VLOOKUP(O84,'Footnotes list'!$D$9:$E$58,2,FALSE) ) )","v":""},null,null,null,null,{"$f":"IF(TRIM(T84)=\"\", \"\", IF(VLOOKUP(T84,'Footnotes list'!$D$9:$E$58,2,FALSE)=0,\"\",VLOOKUP(T84,'Footnotes list'!$D$9:$E$58,2,FALSE) ) )","v":""},null,null,null,null,{"$f":"IF(TRIM(Y84)=\"\", \"\", IF(VLOOKUP(Y84,'Footnotes list'!$D$9:$E$58,2,FALSE)=0,\"\",VLOOKUP(Y84,'Footnotes list'!$D$9:$E$58,2,FALSE) ) )","v":""},{"$f":"IF(AND(TRIM(Q84)=\"\",TRIM(V84)=\"\"),\"\",Q84+V84)","v":""},null,null,null,{"$f":"IF(TRIM(AD84)=\"\", \"\", IF(VLOOKUP(AD84,'Footnotes list'!$D$9:$E$58,2,FALSE)=0,\"\",VLOOKUP(AD84,'Footnotes list'!$D$9:$E$58,2,FALSE) ) )","v":""},null,null,null,null,{"$f":"IF(TRIM(AI84)=\"\", \"\", IF(VLOOKUP(AI84,'Footnotes list'!$D$9:$E$58,2,FALSE)=0,\"\",VLOOKUP(AI84,'Footnotes list'!$D$9:$E$58,2,FALSE) ) )","v":""},null,null,null,null,{"$f":"IF(TRIM(AN84)=\"\", \"\", IF(VLOOKUP(AN84,'Footnotes list'!$D$9:$E$58,2,FALSE)=0,\"\",VLOOKUP(AN84,'Footnotes list'!$D$9:$E$58,2,FALSE) ) )","v":""},{"$f":"IF(AND(TRIM(AF84)=\"\",TRIM(AK84)=\"\"),\"\",AF84+AK84)","v":""},null,null,null,{"$f":"IF(TRIM(AS84)=\"\", \"\", IF(VLOOKUP(AS84,'Footnotes list'!$D$9:$E$58,2,FALSE)=0,\"\",VLOOKUP(AS84,'Footnotes list'!$D$9:$E$58,2,FALSE) ) )","v":""},{"$f":"IF(AND(TRIM(G84)=\"\",TRIM(L84)=\"\",TRIM(AA84)=\"\",TRIM(AP84)=\"\"),\"\",SUM(G84,L84,AA84,AP84))","v":""},null,null,null,{"$f":"IF(TRIM(AX84)=\"\", \"\", IF(VLOOKUP(AX84,'Footnotes list'!$D$9:$E$58,2,FALSE)=0,\"\",VLOOKUP(AX84,'Footnotes list'!$D$9:$E$58,2,FALSE) ) )","v":""}]
[null,null,"W103",null,"HAZ_NHAZ","Total",{"$f":"IF(AND(TRIM(G83)=\"\",TRIM(G84)=\"\"),\"\",G83+G84)","v":""},null,null,null,{"$f":"IF(TRIM(J85)=\"\", \"\", IF(VLOOKUP(J85,'Footnotes list'!$D$9:$E$58,2,FALSE)=0,\"\",VLOOKUP(J85,'Footnotes list'!$D$9:$E$58,2,FALSE) ) )","v":""},{"$f":"IF(AND(TRIM(L83)=\"\",TRIM(L84)=\"\"),\"\",L83+L84)","v":""},null,null,null,{"$f":"IF(TRIM(O85)=\"\", \"\", IF(VLOOKUP(O85,'Footnotes list'!$D$9:$E$58,2,FALSE)=0,\"\",VLOOKUP(O85,'Footnotes list'!$D$9:$E$58,2,FALSE) ) )","v":""},{"$f":"IF(AND(TRIM(Q83)=\"\",TRIM(Q84)=\"\"),\"\",Q83+Q84)","v":""},null,null,null,{"$f":"IF(TRIM(T85)=\"\", \"\", IF(VLOOKUP(T85,'Footnotes list'!$D$9:$E$58,2,FALSE)=0,\"\",VLOOKUP(T85,'Footnotes list'!$D$9:$E$58,2,FALSE) ) )","v":""},{"$f":"IF(AND(TRIM(V83)=\"\",TRIM(V84)=\"\"),\"\",V83+V84)","v":""},null,null,null,{"$f":"IF(TRIM(Y85)=\"\", \"\", IF(VLOOKUP(Y85,'Footnotes list'!$D$9:$E$58,2,FALSE)=0,\"\",VLOOKUP(Y85,'Footnotes list'!$D$9:$E$58,2,FALSE) ) )","v":""},{"$f":"IF(AND(TRIM(AA83)=\"\", TRIM(AA84)=\"\"), \"\", SUM(AA83,AA84))","v":""},null,null,null,{"$f":"IF(TRIM(AD85)=\"\", \"\", IF(VLOOKUP(AD85,'Footnotes list'!$D$9:$E$58,2,FALSE)=0,\"\",VLOOKUP(AD85,'Footnotes list'!$D$9:$E$58,2,FALSE) ) )","v":""},{"$f":"IF(AND(TRIM(AF83)=\"\",TRIM(AF84)=\"\"),\"\",AF83+AF84)","v":""},null,null,null,{"$f":"IF(TRIM(AI85)=\"\", \"\", IF(VLOOKUP(AI85,'Footnotes list'!$D$9:$E$58,2,FALSE)=0,\"\",VLOOKUP(AI85,'Footnotes list'!$D$9:$E$58,2,FALSE) ) )","v":""},{"$f":"IF(AND(TRIM(AK83)=\"\",TRIM(AK84)=\"\"),\"\",AK83+AK84)","v":""},null,null,null,{"$f":"IF(TRIM(AN85)=\"\", \"\", IF(VLOOKUP(AN85,'Footnotes list'!$D$9:$E$58,2,FALSE)=0,\"\",VLOOKUP(AN85,'Footnotes list'!$D$9:$E$58,2,FALSE) ) )","v":""},{"$f":"IF(AND(TRIM(AP83)=\"\", TRIM(AP84)=\"\"), \"\", SUM(AP83,AP84))","v":""},null,null,null,{"$f":"IF(TRIM(AS85)=\"\", \"\", IF(VLOOKUP(AS85,'Footnotes list'!$D$9:$E$58,2,FALSE)=0,\"\",VLOOKUP(AS85,'Footnotes list'!$D$9:$E$58,2,FALSE) ) )","v":""},{"$f":"IF(AND(TRIM(AU83)=\"\", TRIM(AU84)=\"\"), \"\", SUM(AU83,AU84) )","v":""},null,null,null,{"$f":"IF(TRIM(AX85)=\"\", \"\", IF(VLOOKUP(AX85,'Footnotes list'!$D$9:$E$58,2,FALSE)=0,\"\",VLOOKUP(AX85,'Footnotes list'!$D$9:$E$58,2,FALSE) ) )","v":""}]
[null,"W11",null,"Common sludges ",null,"Not applicable"]
[null,null,"W11",null,"NHAZ","Non-hazardous",null,null,null,null,{"$f":"IF(TRIM(J87)=\"\", \"\", IF(VLOOKUP(J87,'Footnotes list'!$D$9:$E$58,2,FALSE)=0,\"\",VLOOKUP(J87,'Footnotes list'!$D$9:$E$58,2,FALSE) ) )","v":""},null,null,null,null,{"$f":"IF(TRIM(O87)=\"\", \"\", IF(VLOOKUP(O87,'Footnotes list'!$D$9:$E$58,2,FALSE)=0,\"\",VLOOKUP(O87,'Footnotes list'!$D$9:$E$58,2,FALSE) ) )","v":""},null,null,null,null,{"$f":"IF(TRIM(T87)=\"\", \"\", IF(VLOOKUP(T87,'Footnotes list'!$D$9:$E$58,2,FALSE)=0,\"\",VLOOKUP(T87,'Footnotes list'!$D$9:$E$58,2,FALSE) ) )","v":""},null,null,null,null,{"$f":"IF(TRIM(Y87)=\"\", \"\", IF(VLOOKUP(Y87,'Footnotes list'!$D$9:$E$58,2,FALSE)=0,\"\",VLOOKUP(Y87,'Footnotes list'!$D$9:$E$58,2,FALSE) ) )","v":""},{"$f":"IF(AND(TRIM(Q87)=\"\",TRIM(V87)=\"\"),\"\",Q87+V87)","v":""},null,null,null,{"$f":"IF(TRIM(AD87)=\"\", \"\", IF(VLOOKUP(AD87,'Footnotes list'!$D$9:$E$58,2,FALSE)=0,\"\",VLOOKUP(AD87,'Footnotes list'!$D$9:$E$58,2,FALSE) ) )","v":""},null,null,null,null,{"$f":"IF(TRIM(AI87)=\"\", \"\", IF(VLOOKUP(AI87,'Footnotes list'!$D$9:$E$58,2,FALSE)=0,\"\",VLOOKUP(AI87,'Footnotes list'!$D$9:$E$58,2,FALSE) ) )","v":""},null,null,null,null,{"$f":"IF(TRIM(AN87)=\"\", \"\", IF(VLOOKUP(AN87,'Footnotes list'!$D$9:$E$58,2,FALSE)=0,\"\",VLOOKUP(AN87,'Footnotes list'!$D$9:$E$58,2,FALSE) ) )","v":""},{"$f":"IF(AND(TRIM(AF87)=\"\",TRIM(AK87)=\"\"),\"\",AF87+AK87)","v":""},null,null,null,{"$f":"IF(TRIM(AS87)=\"\", \"\", IF(VLOOKUP(AS87,'Footnotes list'!$D$9:$E$58,2,FALSE)=0,\"\",VLOOKUP(AS87,'Footnotes list'!$D$9:$E$58,2,FALSE) ) )","v":""},{"$f":"IF(AND(TRIM(G87)=\"\",TRIM(L87)=\"\",TRIM(AA87)=\"\",TRIM(AP87)=\"\"),\"\",SUM(G87,L87,AA87,AP87))","v":""},null,null,null,{"$f":"IF(TRIM(AX87)=\"\", \"\", IF(VLOOKUP(AX87,'Footnotes list'!$D$9:$E$58,2,FALSE)=0,\"\",VLOOKUP(AX87,'Footnotes list'!$D$9:$E$58,2,FALSE) ) )","v":""}]
[null,null,"W11",null,"HAZ_NHAZ","Total",{"$f":"IF(AND(TRIM(G86)=\"\",TRIM(G87)=\"\"),\"\",G86+G87)","v":""},null,null,null,{"$f":"IF(TRIM(J88)=\"\", \"\", IF(VLOOKUP(J88,'Footnotes list'!$D$9:$E$58,2,FALSE)=0,\"\",VLOOKUP(J88,'Footnotes list'!$D$9:$E$58,2,FALSE) ) )","v":""},{"$f":"IF(AND(TRIM(L86)=\"\",TRIM(L87)=\"\"),\"\",L86+L87)","v":""},null,null,null,{"$f":"IF(TRIM(O88)=\"\", \"\", IF(VLOOKUP(O88,'Footnotes list'!$D$9:$E$58,2,FALSE)=0,\"\",VLOOKUP(O88,'Footnotes list'!$D$9:$E$58,2,FALSE) ) )","v":""},{"$f":"IF(AND(TRIM(Q86)=\"\",TRIM(Q87)=\"\"),\"\",Q86+Q87)","v":""},null,null,null,{"$f":"IF(TRIM(T88)=\"\", \"\", IF(VLOOKUP(T88,'Footnotes list'!$D$9:$E$58,2,FALSE)=0,\"\",VLOOKUP(T88,'Footnotes list'!$D$9:$E$58,2,FALSE) ) )","v":""},{"$f":"IF(AND(TRIM(V86)=\"\",TRIM(V87)=\"\"),\"\",V86+V87)","v":""},null,null,null,{"$f":"IF(TRIM(Y88)=\"\", \"\", IF(VLOOKUP(Y88,'Footnotes list'!$D$9:$E$58,2,FALSE)=0,\"\",VLOOKUP(Y88,'Footnotes list'!$D$9:$E$58,2,FALSE) ) )","v":""},{"$f":"IF(AND(TRIM(AA86)=\"\", TRIM(AA87)=\"\"), \"\", SUM(AA86,AA87))","v":""},null,null,null,{"$f":"IF(TRIM(AD88)=\"\", \"\", IF(VLOOKUP(AD88,'Footnotes list'!$D$9:$E$58,2,FALSE)=0,\"\",VLOOKUP(AD88,'Footnotes list'!$D$9:$E$58,2,FALSE) ) )","v":""},{"$f":"IF(AND(TRIM(AF86)=\"\",TRIM(AF87)=\"\"),\"\",AF86+AF87)","v":""},null,null,null,{"$f":"IF(TRIM(AI88)=\"\", \"\", IF(VLOOKUP(AI88,'Footnotes list'!$D$9:$E$58,2,FALSE)=0,\"\",VLOOKUP(AI88,'Footnotes list'!$D$9:$E$58,2,FALSE) ) )","v":""},{"$f":"IF(AND(TRIM(AK86)=\"\",TRIM(AK87)=\"\"),\"\",AK86+AK87)","v":""},null,null,null,{"$f":"IF(TRIM(AN88)=\"\", \"\", IF(VLOOKUP(AN88,'Footnotes list'!$D$9:$E$58,2,FALSE)=0,\"\",VLOOKUP(AN88,'Footnotes list'!$D$9:$E$58,2,FALSE) ) )","v":""},{"$f":"IF(AND(TRIM(AP86)=\"\", TRIM(AP87)=\"\"), \"\", SUM(AP86,AP87))","v":""},null,null,null,{"$f":"IF(TRIM(AS88)=\"\", \"\", IF(VLOOKUP(AS88,'Footnotes list'!$D$9:$E$58,2,FALSE)=0,\"\",VLOOKUP(AS88,'Footnotes list'!$D$9:$E$58,2,FALSE) ) )","v":""},{"$f":"IF(AND(TRIM(AU86)=\"\", TRIM(AU87)=\"\"), \"\", SUM(AU86,AU87) )","v":""},null,null,null,{"$f":"IF(TRIM(AX88)=\"\", \"\", IF(VLOOKUP(AX88,'Footnotes list'!$D$9:$E$58,2,FALSE)=0,\"\",VLOOKUP(AX88,'Footnotes list'!$D$9:$E$58,2,FALSE) ) )","v":""}]
[null,"W121","W121","Mineral waste from construction and demolition","HAZ","Hazardous ",null,null,null,null,{"$f":"IF(TRIM(J89)=\"\", \"\", IF(VLOOKUP(J89,'Footnotes list'!$D$9:$E$58,2,FALSE)=0,\"\",VLOOKUP(J89,'Footnotes list'!$D$9:$E$58,2,FALSE) ) )","v":""},null,null,null,null,{"$f":"IF(TRIM(O89)=\"\", \"\", IF(VLOOKUP(O89,'Footnotes list'!$D$9:$E$58,2,FALSE)=0,\"\",VLOOKUP(O89,'Footnotes list'!$D$9:$E$58,2,FALSE) ) )","v":""},null,null,null,null,{"$f":"IF(TRIM(T89)=\"\", \"\", IF(VLOOKUP(T89,'Footnotes list'!$D$9:$E$58,2,FALSE)=0,\"\",VLOOKUP(T89,'Footnotes list'!$D$9:$E$58,2,FALSE) ) )","v":""},null,null,null,null,{"$f":"IF(TRIM(Y89)=\"\", \"\", IF(VLOOKUP(Y89,'Footnotes list'!$D$9:$E$58,2,FALSE)=0,\"\",VLOOKUP(Y89,'Footnotes list'!$D$9:$E$58,2,FALSE) ) )","v":""},{"$f":"IF(AND(TRIM(Q89)=\"\",TRIM(V89)=\"\"),\"\",Q89+V89)","v":""},null,null,null,{"$f":"IF(TRIM(AD89)=\"\", \"\", IF(VLOOKUP(AD89,'Footnotes list'!$D$9:$E$58,2,FALSE)=0,\"\",VLOOKUP(AD89,'Footnotes list'!$D$9:$E$58,2,FALSE) ) )","v":""},null,null,null,null,{"$f":"IF(TRIM(AI89)=\"\", \"\", IF(VLOOKUP(AI89,'Footnotes list'!$D$9:$E$58,2,FALSE)=0,\"\",VLOOKUP(AI89,'Footnotes list'!$D$9:$E$58,2,FALSE) ) )","v":""},null,null,null,null,{"$f":"IF(TRIM(AN89)=\"\", \"\", IF(VLOOKUP(AN89,'Footnotes list'!$D$9:$E$58,2,FALSE)=0,\"\",VLOOKUP(AN89,'Footnotes list'!$D$9:$E$58,2,FALSE) ) )","v":""},{"$f":"IF(AND(TRIM(AF89)=\"\",TRIM(AK89)=\"\"),\"\",AF89+AK89)","v":""},null,null,null,{"$f":"IF(TRIM(AS89)=\"\", \"\", IF(VLOOKUP(AS89,'Footnotes list'!$D$9:$E$58,2,FALSE)=0,\"\",VLOOKUP(AS89,'Footnotes list'!$D$9:$E$58,2,FALSE) ) )","v":""},{"$f":"IF(AND(TRIM(G89)=\"\",TRIM(L89)=\"\",TRIM(AA89)=\"\",TRIM(AP89)=\"\"),\"\",SUM(G89,L89,AA89,AP89))","v":""},null,null,null,{"$f":"IF(TRIM(AX89)=\"\", \"\", IF(VLOOKUP(AX89,'Footnotes list'!$D$9:$E$58,2,FALSE)=0,\"\",VLOOKUP(AX89,'Footnotes list'!$D$9:$E$58,2,FALSE) ) )","v":""}]
[null,null,"W121",null,"NHAZ","Non-hazardous",null,null,null,null,{"$f":"IF(TRIM(J90)=\"\", \"\", IF(VLOOKUP(J90,'Footnotes list'!$D$9:$E$58,2,FALSE)=0,\"\",VLOOKUP(J90,'Footnotes list'!$D$9:$E$58,2,FALSE) ) )","v":""},null,null,null,null,{"$f":"IF(TRIM(O90)=\"\", \"\", IF(VLOOKUP(O90,'Footnotes list'!$D$9:$E$58,2,FALSE)=0,\"\",VLOOKUP(O90,'Footnotes list'!$D$9:$E$58,2,FALSE) ) )","v":""},null,null,null,null,{"$f":"IF(TRIM(T90)=\"\", \"\", IF(VLOOKUP(T90,'Footnotes list'!$D$9:$E$58,2,FALSE)=0,\"\",VLOOKUP(T90,'Footnotes list'!$D$9:$E$58,2,FALSE) ) )","v":""},null,null,null,null,{"$f":"IF(TRIM(Y90)=\"\", \"\", IF(VLOOKUP(Y90,'Footnotes list'!$D$9:$E$58,2,FALSE)=0,\"\",VLOOKUP(Y90,'Footnotes list'!$D$9:$E$58,2,FALSE) ) )","v":""},{"$f":"IF(AND(TRIM(Q90)=\"\",TRIM(V90)=\"\"),\"\",Q90+V90)","v":""},null,null,null,{"$f":"IF(TRIM(AD90)=\"\", \"\", IF(VLOOKUP(AD90,'Footnotes list'!$D$9:$E$58,2,FALSE)=0,\"\",VLOOKUP(AD90,'Footnotes list'!$D$9:$E$58,2,FALSE) ) )","v":""},null,null,null,null,{"$f":"IF(TRIM(AI90)=\"\", \"\", IF(VLOOKUP(AI90,'Footnotes list'!$D$9:$E$58,2,FALSE)=0,\"\",VLOOKUP(AI90,'Footnotes list'!$D$9:$E$58,2,FALSE) ) )","v":""},null,null,null,null,{"$f":"IF(TRIM(AN90)=\"\", \"\", IF(VLOOKUP(AN90,'Footnotes list'!$D$9:$E$58,2,FALSE)=0,\"\",VLOOKUP(AN90,'Footnotes list'!$D$9:$E$58,2,FALSE) ) )","v":""},{"$f":"IF(AND(TRIM(AF90)=\"\",TRIM(AK90)=\"\"),\"\",AF90+AK90)","v":""},null,null,null,{"$f":"IF(TRIM(AS90)=\"\", \"\", IF(VLOOKUP(AS90,'Footnotes list'!$D$9:$E$58,2,FALSE)=0,\"\",VLOOKUP(AS90,'Footnotes list'!$D$9:$E$58,2,FALSE) ) )","v":""},{"$f":"IF(AND(TRIM(G90)=\"\",TRIM(L90)=\"\",TRIM(AA90)=\"\",TRIM(AP90)=\"\"),\"\",SUM(G90,L90,AA90,AP90))","v":""},null,null,null,{"$f":"IF(TRIM(AX90)=\"\", \"\", IF(VLOOKUP(AX90,'Footnotes list'!$D$9:$E$58,2,FALSE)=0,\"\",VLOOKUP(AX90,'Footnotes list'!$D$9:$E$58,2,FALSE) ) )","v":""}]
[null,null,"W121",null,"HAZ_NHAZ","Total",{"$f":"IF(AND(TRIM(G89)=\"\",TRIM(G90)=\"\"),\"\",G89+G90)","v":""},null,null,null,{"$f":"IF(TRIM(J91)=\"\", \"\", IF(VLOOKUP(J91,'Footnotes list'!$D$9:$E$58,2,FALSE)=0,\"\",VLOOKUP(J91,'Footnotes list'!$D$9:$E$58,2,FALSE) ) )","v":""},{"$f":"IF(AND(TRIM(L89)=\"\",TRIM(L90)=\"\"),\"\",L89+L90)","v":""},null,null,null,{"$f":"IF(TRIM(O91)=\"\", \"\", IF(VLOOKUP(O91,'Footnotes list'!$D$9:$E$58,2,FALSE)=0,\"\",VLOOKUP(O91,'Footnotes list'!$D$9:$E$58,2,FALSE) ) )","v":""},{"$f":"IF(AND(TRIM(Q89)=\"\",TRIM(Q90)=\"\"),\"\",Q89+Q90)","v":""},null,null,null,{"$f":"IF(TRIM(T91)=\"\", \"\", IF(VLOOKUP(T91,'Footnotes list'!$D$9:$E$58,2,FALSE)=0,\"\",VLOOKUP(T91,'Footnotes list'!$D$9:$E$58,2,FALSE) ) )","v":""},{"$f":"IF(AND(TRIM(V89)=\"\",TRIM(V90)=\"\"),\"\",V89+V90)","v":""},null,null,null,{"$f":"IF(TRIM(Y91)=\"\", \"\", IF(VLOOKUP(Y91,'Footnotes list'!$D$9:$E$58,2,FALSE)=0,\"\",VLOOKUP(Y91,'Footnotes list'!$D$9:$E$58,2,FALSE) ) )","v":""},{"$f":"IF(AND(TRIM(AA89)=\"\", TRIM(AA90)=\"\"), \"\", SUM(AA89,AA90))","v":""},null,null,null,{"$f":"IF(TRIM(AD91)=\"\", \"\", IF(VLOOKUP(AD91,'Footnotes list'!$D$9:$E$58,2,FALSE)=0,\"\",VLOOKUP(AD91,'Footnotes list'!$D$9:$E$58,2,FALSE) ) )","v":""},{"$f":"IF(AND(TRIM(AF89)=\"\",TRIM(AF90)=\"\"),\"\",AF89+AF90)","v":""},null,null,null,{"$f":"IF(TRIM(AI91)=\"\", \"\", IF(VLOOKUP(AI91,'Footnotes list'!$D$9:$E$58,2,FALSE)=0,\"\",VLOOKUP(AI91,'Footnotes list'!$D$9:$E$58,2,FALSE) ) )","v":""},{"$f":"IF(AND(TRIM(AK89)=\"\",TRIM(AK90)=\"\"),\"\",AK89+AK90)","v":""},null,null,null,{"$f":"IF(TRIM(AN91)=\"\", \"\", IF(VLOOKUP(AN91,'Footnotes list'!$D$9:$E$58,2,FALSE)=0,\"\",VLOOKUP(AN91,'Footnotes list'!$D$9:$E$58,2,FALSE) ) )","v":""},{"$f":"IF(AND(TRIM(AP89)=\"\", TRIM(AP90)=\"\"), \"\", SUM(AP89,AP90))","v":""},null,null,null,{"$f":"IF(TRIM(AS91)=\"\", \"\", IF(VLOOKUP(AS91,'Footnotes list'!$D$9:$E$58,2,FALSE)=0,\"\",VLOOKUP(AS91,'Footnotes list'!$D$9:$E$58,2,FALSE) ) )","v":""},{"$f":"IF(AND(TRIM(AU89)=\"\", TRIM(AU90)=\"\"), \"\", SUM(AU89,AU90) )","v":""},null,null,null,{"$f":"IF(TRIM(AX91)=\"\", \"\", IF(VLOOKUP(AX91,'Footnotes list'!$D$9:$E$58,2,FALSE)=0,\"\",VLOOKUP(AX91,'Footnotes list'!$D$9:$E$58,2,FALSE) ) )","v":""}]
[null,"W12B","W12B","Other mineral wastes (W122+W123+W125)","HAZ","Hazardous ",null,null,null,null,{"$f":"IF(TRIM(J92)=\"\", \"\", IF(VLOOKUP(J92,'Footnotes list'!$D$9:$E$58,2,FALSE)=0,\"\",VLOOKUP(J92,'Footnotes list'!$D$9:$E$58,2,FALSE) ) )","v":""},null,null,null,null,{"$f":"IF(TRIM(O92)=\"\", \"\", IF(VLOOKUP(O92,'Footnotes list'!$D$9:$E$58,2,FALSE)=0,\"\",VLOOKUP(O92,'Footnotes list'!$D$9:$E$58,2,FALSE) ) )","v":""},null,null,null,null,{"$f":"IF(TRIM(T92)=\"\", \"\", IF(VLOOKUP(T92,'Footnotes list'!$D$9:$E$58,2,FALSE)=0,\"\",VLOOKUP(T92,'Footnotes list'!$D$9:$E$58,2,FALSE) ) )","v":""},null,null,null,null,{"$f":"IF(TRIM(Y92)=\"\", \"\", IF(VLOOKUP(Y92,'Footnotes list'!$D$9:$E$58,2,FALSE)=0,\"\",VLOOKUP(Y92,'Footnotes list'!$D$9:$E$58,2,FALSE) ) )","v":""},{"$f":"IF(AND(TRIM(Q92)=\"\",TRIM(V92)=\"\"),\"\",Q92+V92)","v":""},null,null,null,{"$f":"IF(TRIM(AD92)=\"\", \"\", IF(VLOOKUP(AD92,'Footnotes list'!$D$9:$E$58,2,FALSE)=0,\"\",VLOOKUP(AD92,'Footnotes list'!$D$9:$E$58,2,FALSE) ) )","v":""},null,null,null,null,{"$f":"IF(TRIM(AI92)=\"\", \"\", IF(VLOOKUP(AI92,'Footnotes list'!$D$9:$E$58,2,FALSE)=0,\"\",VLOOKUP(AI92,'Footnotes list'!$D$9:$E$58,2,FALSE) ) )","v":""},null,null,null,null,{"$f":"IF(TRIM(AN92)=\"\", \"\", IF(VLOOKUP(AN92,'Footnotes list'!$D$9:$E$58,2,FALSE)=0,\"\",VLOOKUP(AN92,'Footnotes list'!$D$9:$E$58,2,FALSE) ) )","v":""},{"$f":"IF(AND(TRIM(AF92)=\"\",TRIM(AK92)=\"\"),\"\",AF92+AK92)","v":""},null,null,null,{"$f":"IF(TRIM(AS92)=\"\", \"\", IF(VLOOKUP(AS92,'Footnotes list'!$D$9:$E$58,2,FALSE)=0,\"\",VLOOKUP(AS92,'Footnotes list'!$D$9:$E$58,2,FALSE) ) )","v":""},{"$f":"IF(AND(TRIM(G92)=\"\",TRIM(L92)=\"\",TRIM(AA92)=\"\",TRIM(AP92)=\"\"),\"\",SUM(G92,L92,AA92,AP92))","v":""},null,null,null,{"$f":"IF(TRIM(AX92)=\"\", \"\", IF(VLOOKUP(AX92,'Footnotes list'!$D$9:$E$58,2,FALSE)=0,\"\",VLOOKUP(AX92,'Footnotes list'!$D$9:$E$58,2,FALSE) ) )","v":""}]
[null,null,"W12B",null,"NHAZ","Non-hazardous",null,null,null,null,{"$f":"IF(TRIM(J93)=\"\", \"\", IF(VLOOKUP(J93,'Footnotes list'!$D$9:$E$58,2,FALSE)=0,\"\",VLOOKUP(J93,'Footnotes list'!$D$9:$E$58,2,FALSE) ) )","v":""},null,null,null,null,{"$f":"IF(TRIM(O93)=\"\", \"\", IF(VLOOKUP(O93,'Footnotes list'!$D$9:$E$58,2,FALSE)=0,\"\",VLOOKUP(O93,'Footnotes list'!$D$9:$E$58,2,FALSE) ) )","v":""},null,null,null,null,{"$f":"IF(TRIM(T93)=\"\", \"\", IF(VLOOKUP(T93,'Footnotes list'!$D$9:$E$58,2,FALSE)=0,\"\",VLOOKUP(T93,'Footnotes list'!$D$9:$E$58,2,FALSE) ) )","v":""},null,null,null,null,{"$f":"IF(TRIM(Y93)=\"\", \"\", IF(VLOOKUP(Y93,'Footnotes list'!$D$9:$E$58,2,FALSE)=0,\"\",VLOOKUP(Y93,'Footnotes list'!$D$9:$E$58,2,FALSE) ) )","v":""},{"$f":"IF(AND(TRIM(Q93)=\"\",TRIM(V93)=\"\"),\"\",Q93+V93)","v":""},null,null,null,{"$f":"IF(TRIM(AD93)=\"\", \"\", IF(VLOOKUP(AD93,'Footnotes list'!$D$9:$E$58,2,FALSE)=0,\"\",VLOOKUP(AD93,'Footnotes list'!$D$9:$E$58,2,FALSE) ) )","v":""},null,null,null,null,{"$f":"IF(TRIM(AI93)=\"\", \"\", IF(VLOOKUP(AI93,'Footnotes list'!$D$9:$E$58,2,FALSE)=0,\"\",VLOOKUP(AI93,'Footnotes list'!$D$9:$E$58,2,FALSE) ) )","v":""},null,null,null,null,{"$f":"IF(TRIM(AN93)=\"\", \"\", IF(VLOOKUP(AN93,'Footnotes list'!$D$9:$E$58,2,FALSE)=0,\"\",VLOOKUP(AN93,'Footnotes list'!$D$9:$E$58,2,FALSE) ) )","v":""},{"$f":"IF(AND(TRIM(AF93)=\"\",TRIM(AK93)=\"\"),\"\",AF93+AK93)","v":""},null,null,null,{"$f":"IF(TRIM(AS93)=\"\", \"\", IF(VLOOKUP(AS93,'Footnotes list'!$D$9:$E$58,2,FALSE)=0,\"\",VLOOKUP(AS93,'Footnotes list'!$D$9:$E$58,2,FALSE) ) )","v":""},{"$f":"IF(AND(TRIM(G93)=\"\",TRIM(L93)=\"\",TRIM(AA93)=\"\",TRIM(AP93)=\"\"),\"\",SUM(G93,L93,AA93,AP93))","v":""},null,null,null,{"$f":"IF(TRIM(AX93)=\"\", \"\", IF(VLOOKUP(AX93,'Footnotes list'!$D$9:$E$58,2,FALSE)=0,\"\",VLOOKUP(AX93,'Footnotes list'!$D$9:$E$58,2,FALSE) ) )","v":""}]
[null,null,"W12B",null,"HAZ_NHAZ","Total",{"$f":"IF(AND(TRIM(G92)=\"\",TRIM(G93)=\"\"),\"\",G92+G93)","v":""},null,null,null,{"$f":"IF(TRIM(J94)=\"\", \"\", IF(VLOOKUP(J94,'Footnotes list'!$D$9:$E$58,2,FALSE)=0,\"\",VLOOKUP(J94,'Footnotes list'!$D$9:$E$58,2,FALSE) ) )","v":""},{"$f":"IF(AND(TRIM(L92)=\"\",TRIM(L93)=\"\"),\"\",L92+L93)","v":""},null,null,null,{"$f":"IF(TRIM(O94)=\"\", \"\", IF(VLOOKUP(O94,'Footnotes list'!$D$9:$E$58,2,FALSE)=0,\"\",VLOOKUP(O94,'Footnotes list'!$D$9:$E$58,2,FALSE) ) )","v":""},{"$f":"IF(AND(TRIM(Q92)=\"\",TRIM(Q93)=\"\"),\"\",Q92+Q93)","v":""},null,null,null,{"$f":"IF(TRIM(T94)=\"\", \"\", IF(VLOOKUP(T94,'Footnotes list'!$D$9:$E$58,2,FALSE)=0,\"\",VLOOKUP(T94,'Footnotes list'!$D$9:$E$58,2,FALSE) ) )","v":""},{"$f":"IF(AND(TRIM(V92)=\"\",TRIM(V93)=\"\"),\"\",V92+V93)","v":""},null,null,null,{"$f":"IF(TRIM(Y94)=\"\", \"\", IF(VLOOKUP(Y94,'Footnotes list'!$D$9:$E$58,2,FALSE)=0,\"\",VLOOKUP(Y94,'Footnotes list'!$D$9:$E$58,2,FALSE) ) )","v":""},{"$f":"IF(AND(TRIM(AA92)=\"\", TRIM(AA93)=\"\"), \"\", SUM(AA92,AA93))","v":""},null,null,null,{"$f":"IF(TRIM(AD94)=\"\", \"\", IF(VLOOKUP(AD94,'Footnotes list'!$D$9:$E$58,2,FALSE)=0,\"\",VLOOKUP(AD94,'Footnotes list'!$D$9:$E$58,2,FALSE) ) )","v":""},{"$f":"IF(AND(TRIM(AF92)=\"\",TRIM(AF93)=\"\"),\"\",AF92+AF93)","v":""},null,null,null,{"$f":"IF(TRIM(AI94)=\"\", \"\", IF(VLOOKUP(AI94,'Footnotes list'!$D$9:$E$58,2,FALSE)=0,\"\",VLOOKUP(AI94,'Footnotes list'!$D$9:$E$58,2,FALSE) ) )","v":""},{"$f":"IF(AND(TRIM(AK92)=\"\",TRIM(AK93)=\"\"),\"\",AK92+AK93)","v":""},null,null,null,{"$f":"IF(TRIM(AN94)=\"\", \"\", IF(VLOOKUP(AN94,'Footnotes list'!$D$9:$E$58,2,FALSE)=0,\"\",VLOOKUP(AN94,'Footnotes list'!$D$9:$E$58,2,FALSE) ) )","v":""},{"$f":"IF(AND(TRIM(AP92)=\"\", TRIM(AP93)=\"\"), \"\", SUM(AP92,AP93))","v":""},null,null,null,{"$f":"IF(TRIM(AS94)=\"\", \"\", IF(VLOOKUP(AS94,'Footnotes list'!$D$9:$E$58,2,FALSE)=0,\"\",VLOOKUP(AS94,'Footnotes list'!$D$9:$E$58,2,FALSE) ) )","v":""},{"$f":"IF(AND(TRIM(AU92)=\"\", TRIM(AU93)=\"\"), \"\", SUM(AU92,AU93) )","v":""},null,null,null,{"$f":"IF(TRIM(AX94)=\"\", \"\", IF(VLOOKUP(AX94,'Footnotes list'!$D$9:$E$58,2,FALSE)=0,\"\",VLOOKUP(AX94,'Footnotes list'!$D$9:$E$58,2,FALSE) ) )","v":""}]
[null,"W124","W124","Combustion wastes ","HAZ","Hazardous ",null,null,null,null,{"$f":"IF(TRIM(J95)=\"\", \"\", IF(VLOOKUP(J95,'Footnotes list'!$D$9:$E$58,2,FALSE)=0,\"\",VLOOKUP(J95,'Footnotes list'!$D$9:$E$58,2,FALSE) ) )","v":""},null,null,null,null,{"$f":"IF(TRIM(O95)=\"\", \"\", IF(VLOOKUP(O95,'Footnotes list'!$D$9:$E$58,2,FALSE)=0,\"\",VLOOKUP(O95,'Footnotes list'!$D$9:$E$58,2,FALSE) ) )","v":""},null,null,null,null,{"$f":"IF(TRIM(T95)=\"\", \"\", IF(VLOOKUP(T95,'Footnotes list'!$D$9:$E$58,2,FALSE)=0,\"\",VLOOKUP(T95,'Footnotes list'!$D$9:$E$58,2,FALSE) ) )","v":""},null,null,null,null,{"$f":"IF(TRIM(Y95)=\"\", \"\", IF(VLOOKUP(Y95,'Footnotes list'!$D$9:$E$58,2,FALSE)=0,\"\",VLOOKUP(Y95,'Footnotes list'!$D$9:$E$58,2,FALSE) ) )","v":""},{"$f":"IF(AND(TRIM(Q95)=\"\",TRIM(V95)=\"\"),\"\",Q95+V95)","v":""},null,null,null,{"$f":"IF(TRIM(AD95)=\"\", \"\", IF(VLOOKUP(AD95,'Footnotes list'!$D$9:$E$58,2,FALSE)=0,\"\",VLOOKUP(AD95,'Footnotes list'!$D$9:$E$58,2,FALSE) ) )","v":""},null,null,null,null,{"$f":"IF(TRIM(AI95)=\"\", \"\", IF(VLOOKUP(AI95,'Footnotes list'!$D$9:$E$58,2,FALSE)=0,\"\",VLOOKUP(AI95,'Footnotes list'!$D$9:$E$58,2,FALSE) ) )","v":""},null,null,null,null,{"$f":"IF(TRIM(AN95)=\"\", \"\", IF(VLOOKUP(AN95,'Footnotes list'!$D$9:$E$58,2,FALSE)=0,\"\",VLOOKUP(AN95,'Footnotes list'!$D$9:$E$58,2,FALSE) ) )","v":""},{"$f":"IF(AND(TRIM(AF95)=\"\",TRIM(AK95)=\"\"),\"\",AF95+AK95)","v":""},null,null,null,{"$f":"IF(TRIM(AS95)=\"\", \"\", IF(VLOOKUP(AS95,'Footnotes list'!$D$9:$E$58,2,FALSE)=0,\"\",VLOOKUP(AS95,'Footnotes list'!$D$9:$E$58,2,FALSE) ) )","v":""},{"$f":"IF(AND(TRIM(G95)=\"\",TRIM(L95)=\"\",TRIM(AA95)=\"\",TRIM(AP95)=\"\"),\"\",SUM(G95,L95,AA95,AP95))","v":""},null,null,null,{"$f":"IF(TRIM(AX95)=\"\", \"\", IF(VLOOKUP(AX95,'Footnotes list'!$D$9:$E$58,2,FALSE)=0,\"\",VLOOKUP(AX95,'Footnotes list'!$D$9:$E$58,2,FALSE) ) )","v":""}]
[null,null,"W124",null,"NHAZ","Non-hazardous",null,null,null,null,{"$f":"IF(TRIM(J96)=\"\", \"\", IF(VLOOKUP(J96,'Footnotes list'!$D$9:$E$58,2,FALSE)=0,\"\",VLOOKUP(J96,'Footnotes list'!$D$9:$E$58,2,FALSE) ) )","v":""},null,null,null,null,{"$f":"IF(TRIM(O96)=\"\", \"\", IF(VLOOKUP(O96,'Footnotes list'!$D$9:$E$58,2,FALSE)=0,\"\",VLOOKUP(O96,'Footnotes list'!$D$9:$E$58,2,FALSE) ) )","v":""},null,null,null,null,{"$f":"IF(TRIM(T96)=\"\", \"\", IF(VLOOKUP(T96,'Footnotes list'!$D$9:$E$58,2,FALSE)=0,\"\",VLOOKUP(T96,'Footnotes list'!$D$9:$E$58,2,FALSE) ) )","v":""},null,null,null,null,{"$f":"IF(TRIM(Y96)=\"\", \"\", IF(VLOOKUP(Y96,'Footnotes list'!$D$9:$E$58,2,FALSE)=0,\"\",VLOOKUP(Y96,'Footnotes list'!$D$9:$E$58,2,FALSE) ) )","v":""},{"$f":"IF(AND(TRIM(Q96)=\"\",TRIM(V96)=\"\"),\"\",Q96+V96)","v":""},null,null,null,{"$f":"IF(TRIM(AD96)=\"\", \"\", IF(VLOOKUP(AD96,'Footnotes list'!$D$9:$E$58,2,FALSE)=0,\"\",VLOOKUP(AD96,'Footnotes list'!$D$9:$E$58,2,FALSE) ) )","v":""},null,null,null,null,{"$f":"IF(TRIM(AI96)=\"\", \"\", IF(VLOOKUP(AI96,'Footnotes list'!$D$9:$E$58,2,FALSE)=0,\"\",VLOOKUP(AI96,'Footnotes list'!$D$9:$E$58,2,FALSE) ) )","v":""},null,null,null,null,{"$f":"IF(TRIM(AN96)=\"\", \"\", IF(VLOOKUP(AN96,'Footnotes list'!$D$9:$E$58,2,FALSE)=0,\"\",VLOOKUP(AN96,'Footnotes list'!$D$9:$E$58,2,FALSE) ) )","v":""},{"$f":"IF(AND(TRIM(AF96)=\"\",TRIM(AK96)=\"\"),\"\",AF96+AK96)","v":""},null,null,null,{"$f":"IF(TRIM(AS96)=\"\", \"\", IF(VLOOKUP(AS96,'Footnotes list'!$D$9:$E$58,2,FALSE)=0,\"\",VLOOKUP(AS96,'Footnotes list'!$D$9:$E$58,2,FALSE) ) )","v":""},{"$f":"IF(AND(TRIM(G96)=\"\",TRIM(L96)=\"\",TRIM(AA96)=\"\",TRIM(AP96)=\"\"),\"\",SUM(G96,L96,AA96,AP96))","v":""},null,null,null,{"$f":"IF(TRIM(AX96)=\"\", \"\", IF(VLOOKUP(AX96,'Footnotes list'!$D$9:$E$58,2,FALSE)=0,\"\",VLOOKUP(AX96,'Footnotes list'!$D$9:$E$58,2,FALSE) ) )","v":""}]
[null,null,"W124",null,"HAZ_NHAZ","Total",{"$f":"IF(AND(TRIM(G95)=\"\",TRIM(G96)=\"\"),\"\",G95+G96)","v":""},null,null,null,{"$f":"IF(TRIM(J97)=\"\", \"\", IF(VLOOKUP(J97,'Footnotes list'!$D$9:$E$58,2,FALSE)=0,\"\",VLOOKUP(J97,'Footnotes list'!$D$9:$E$58,2,FALSE) ) )","v":""},{"$f":"IF(AND(TRIM(L95)=\"\",TRIM(L96)=\"\"),\"\",L95+L96)","v":""},null,null,null,{"$f":"IF(TRIM(O97)=\"\", \"\", IF(VLOOKUP(O97,'Footnotes list'!$D$9:$E$58,2,FALSE)=0,\"\",VLOOKUP(O97,'Footnotes list'!$D$9:$E$58,2,FALSE) ) )","v":""},{"$f":"IF(AND(TRIM(Q95)=\"\",TRIM(Q96)=\"\"),\"\",Q95+Q96)","v":""},null,null,null,{"$f":"IF(TRIM(T97)=\"\", \"\", IF(VLOOKUP(T97,'Footnotes list'!$D$9:$E$58,2,FALSE)=0,\"\",VLOOKUP(T97,'Footnotes list'!$D$9:$E$58,2,FALSE) ) )","v":""},{"$f":"IF(AND(TRIM(V95)=\"\",TRIM(V96)=\"\"),\"\",V95+V96)","v":""},null,null,null,{"$f":"IF(TRIM(Y97)=\"\", \"\", IF(VLOOKUP(Y97,'Footnotes list'!$D$9:$E$58,2,FALSE)=0,\"\",VLOOKUP(Y97,'Footnotes list'!$D$9:$E$58,2,FALSE) ) )","v":""},{"$f":"IF(AND(TRIM(AA95)=\"\", TRIM(AA96)=\"\"), \"\", SUM(AA95,AA96))","v":""},null,null,null,{"$f":"IF(TRIM(AD97)=\"\", \"\", IF(VLOOKUP(AD97,'Footnotes list'!$D$9:$E$58,2,FALSE)=0,\"\",VLOOKUP(AD97,'Footnotes list'!$D$9:$E$58,2,FALSE) ) )","v":""},{"$f":"IF(AND(TRIM(AF95)=\"\",TRIM(AF96)=\"\"),\"\",AF95+AF96)","v":""},null,null,null,{"$f":"IF(TRIM(AI97)=\"\", \"\", IF(VLOOKUP(AI97,'Footnotes list'!$D$9:$E$58,2,FALSE)=0,\"\",VLOOKUP(AI97,'Footnotes list'!$D$9:$E$58,2,FALSE) ) )","v":""},{"$f":"IF(AND(TRIM(AK95)=\"\",TRIM(AK96)=\"\"),\"\",AK95+AK96)","v":""},null,null,null,{"$f":"IF(TRIM(AN97)=\"\", \"\", IF(VLOOKUP(AN97,'Footnotes list'!$D$9:$E$58,2,FALSE)=0,\"\",VLOOKUP(AN97,'Footnotes list'!$D$9:$E$58,2,FALSE) ) )","v":""},{"$f":"IF(AND(TRIM(AP95)=\"\", TRIM(AP96)=\"\"), \"\", SUM(AP95,AP96))","v":""},null,null,null,{"$f":"IF(TRIM(AS97)=\"\", \"\", IF(VLOOKUP(AS97,'Footnotes list'!$D$9:$E$58,2,FALSE)=0,\"\",VLOOKUP(AS97,'Footnotes list'!$D$9:$E$58,2,FALSE) ) )","v":""},{"$f":"IF(AND(TRIM(AU95)=\"\", TRIM(AU96)=\"\"), \"\", SUM(AU95,AU96) )","v":""},null,null,null,{"$f":"IF(TRIM(AX97)=\"\", \"\", IF(VLOOKUP(AX97,'Footnotes list'!$D$9:$E$58,2,FALSE)=0,\"\",VLOOKUP(AX97,'Footnotes list'!$D$9:$E$58,2,FALSE) ) )","v":""}]
[null,"W126","W126","Soils ","HAZ","Hazardous ",null,null,null,null,{"$f":"IF(TRIM(J98)=\"\", \"\", IF(VLOOKUP(J98,'Footnotes list'!$D$9:$E$58,2,FALSE)=0,\"\",VLOOKUP(J98,'Footnotes list'!$D$9:$E$58,2,FALSE) ) )","v":""},null,null,null,null,{"$f":"IF(TRIM(O98)=\"\", \"\", IF(VLOOKUP(O98,'Footnotes list'!$D$9:$E$58,2,FALSE)=0,\"\",VLOOKUP(O98,'Footnotes list'!$D$9:$E$58,2,FALSE) ) )","v":""},null,null,null,null,{"$f":"IF(TRIM(T98)=\"\", \"\", IF(VLOOKUP(T98,'Footnotes list'!$D$9:$E$58,2,FALSE)=0,\"\",VLOOKUP(T98,'Footnotes list'!$D$9:$E$58,2,FALSE) ) )","v":""},null,null,null,null,{"$f":"IF(TRIM(Y98)=\"\", \"\", IF(VLOOKUP(Y98,'Footnotes list'!$D$9:$E$58,2,FALSE)=0,\"\",VLOOKUP(Y98,'Footnotes list'!$D$9:$E$58,2,FALSE) ) )","v":""},{"$f":"IF(AND(TRIM(Q98)=\"\",TRIM(V98)=\"\"),\"\",Q98+V98)","v":""},null,null,null,{"$f":"IF(TRIM(AD98)=\"\", \"\", IF(VLOOKUP(AD98,'Footnotes list'!$D$9:$E$58,2,FALSE)=0,\"\",VLOOKUP(AD98,'Footnotes list'!$D$9:$E$58,2,FALSE) ) )","v":""},null,null,null,null,{"$f":"IF(TRIM(AI98)=\"\", \"\", IF(VLOOKUP(AI98,'Footnotes list'!$D$9:$E$58,2,FALSE)=0,\"\",VLOOKUP(AI98,'Footnotes list'!$D$9:$E$58,2,FALSE) ) )","v":""},null,null,null,null,{"$f":"IF(TRIM(AN98)=\"\", \"\", IF(VLOOKUP(AN98,'Footnotes list'!$D$9:$E$58,2,FALSE)=0,\"\",VLOOKUP(AN98,'Footnotes list'!$D$9:$E$58,2,FALSE) ) )","v":""},{"$f":"IF(AND(TRIM(AF98)=\"\",TRIM(AK98)=\"\"),\"\",AF98+AK98)","v":""},null,null,null,{"$f":"IF(TRIM(AS98)=\"\", \"\", IF(VLOOKUP(AS98,'Footnotes list'!$D$9:$E$58,2,FALSE)=0,\"\",VLOOKUP(AS98,'Footnotes list'!$D$9:$E$58,2,FALSE) ) )","v":""},{"$f":"IF(AND(TRIM(G98)=\"\",TRIM(L98)=\"\",TRIM(AA98)=\"\",TRIM(AP98)=\"\"),\"\",SUM(G98,L98,AA98,AP98))","v":""},null,null,null,{"$f":"IF(TRIM(AX98)=\"\", \"\", IF(VLOOKUP(AX98,'Footnotes list'!$D$9:$E$58,2,FALSE)=0,\"\",VLOOKUP(AX98,'Footnotes list'!$D$9:$E$58,2,FALSE) ) )","v":""}]
[null,null,"W126",null,"NHAZ","Non-hazardous",null,null,null,null,{"$f":"IF(TRIM(J99)=\"\", \"\", IF(VLOOKUP(J99,'Footnotes list'!$D$9:$E$58,2,FALSE)=0,\"\",VLOOKUP(J99,'Footnotes list'!$D$9:$E$58,2,FALSE) ) )","v":""},null,null,null,null,{"$f":"IF(TRIM(O99)=\"\", \"\", IF(VLOOKUP(O99,'Footnotes list'!$D$9:$E$58,2,FALSE)=0,\"\",VLOOKUP(O99,'Footnotes list'!$D$9:$E$58,2,FALSE) ) )","v":""},null,null,null,null,{"$f":"IF(TRIM(T99)=\"\", \"\", IF(VLOOKUP(T99,'Footnotes list'!$D$9:$E$58,2,FALSE)=0,\"\",VLOOKUP(T99,'Footnotes list'!$D$9:$E$58,2,FALSE) ) )","v":""},null,null,null,null,{"$f":"IF(TRIM(Y99)=\"\", \"\", IF(VLOOKUP(Y99,'Footnotes list'!$D$9:$E$58,2,FALSE)=0,\"\",VLOOKUP(Y99,'Footnotes list'!$D$9:$E$58,2,FALSE) ) )","v":""},{"$f":"IF(AND(TRIM(Q99)=\"\",TRIM(V99)=\"\"),\"\",Q99+V99)","v":""},null,null,null,{"$f":"IF(TRIM(AD99)=\"\", \"\", IF(VLOOKUP(AD99,'Footnotes list'!$D$9:$E$58,2,FALSE)=0,\"\",VLOOKUP(AD99,'Footnotes list'!$D$9:$E$58,2,FALSE) ) )","v":""},null,null,null,null,{"$f":"IF(TRIM(AI99)=\"\", \"\", IF(VLOOKUP(AI99,'Footnotes list'!$D$9:$E$58,2,FALSE)=0,\"\",VLOOKUP(AI99,'Footnotes list'!$D$9:$E$58,2,FALSE) ) )","v":""},null,null,null,null,{"$f":"IF(TRIM(AN99)=\"\", \"\", IF(VLOOKUP(AN99,'Footnotes list'!$D$9:$E$58,2,FALSE)=0,\"\",VLOOKUP(AN99,'Footnotes list'!$D$9:$E$58,2,FALSE) ) )","v":""},{"$f":"IF(AND(TRIM(AF99)=\"\",TRIM(AK99)=\"\"),\"\",AF99+AK99)","v":""},null,null,null,{"$f":"IF(TRIM(AS99)=\"\", \"\", IF(VLOOKUP(AS99,'Footnotes list'!$D$9:$E$58,2,FALSE)=0,\"\",VLOOKUP(AS99,'Footnotes list'!$D$9:$E$58,2,FALSE) ) )","v":""},{"$f":"IF(AND(TRIM(G99)=\"\",TRIM(L99)=\"\",TRIM(AA99)=\"\",TRIM(AP99)=\"\"),\"\",SUM(G99,L99,AA99,AP99))","v":""},null,null,null,{"$f":"IF(TRIM(AX99)=\"\", \"\", IF(VLOOKUP(AX99,'Footnotes list'!$D$9:$E$58,2,FALSE)=0,\"\",VLOOKUP(AX99,'Footnotes list'!$D$9:$E$58,2,FALSE) ) )","v":""}]
[null,null,"W126",null,"HAZ_NHAZ","Total",{"$f":"IF(AND(TRIM(G98)=\"\",TRIM(G99)=\"\"),\"\",G98+G99)","v":""},null,null,null,{"$f":"IF(TRIM(J100)=\"\", \"\", IF(VLOOKUP(J100,'Footnotes list'!$D$9:$E$58,2,FALSE)=0,\"\",VLOOKUP(J100,'Footnotes list'!$D$9:$E$58,2,FALSE) ) )","v":""},{"$f":"IF(AND(TRIM(L98)=\"\",TRIM(L99)=\"\"),\"\",L98+L99)","v":""},null,null,null,{"$f":"IF(TRIM(O100)=\"\", \"\", IF(VLOOKUP(O100,'Footnotes list'!$D$9:$E$58,2,FALSE)=0,\"\",VLOOKUP(O100,'Footnotes list'!$D$9:$E$58,2,FALSE) ) )","v":""},{"$f":"IF(AND(TRIM(Q98)=\"\",TRIM(Q99)=\"\"),\"\",Q98+Q99)","v":""},null,null,null,{"$f":"IF(TRIM(T100)=\"\", \"\", IF(VLOOKUP(T100,'Footnotes list'!$D$9:$E$58,2,FALSE)=0,\"\",VLOOKUP(T100,'Footnotes list'!$D$9:$E$58,2,FALSE) ) )","v":""},{"$f":"IF(AND(TRIM(V98)=\"\",TRIM(V99)=\"\"),\"\",V98+V99)","v":""},null,null,null,{"$f":"IF(TRIM(Y100)=\"\", \"\", IF(VLOOKUP(Y100,'Footnotes list'!$D$9:$E$58,2,FALSE)=0,\"\",VLOOKUP(Y100,'Footnotes list'!$D$9:$E$58,2,FALSE) ) )","v":""},{"$f":"IF(AND(TRIM(AA98)=\"\", TRIM(AA99)=\"\"), \"\", SUM(AA98,AA99))","v":""},null,null,null,{"$f":"IF(TRIM(AD100)=\"\", \"\", IF(VLOOKUP(AD100,'Footnotes list'!$D$9:$E$58,2,FALSE)=0,\"\",VLOOKUP(AD100,'Footnotes list'!$D$9:$E$58,2,FALSE) ) )","v":""},{"$f":"IF(AND(TRIM(AF98)=\"\",TRIM(AF99)=\"\"),\"\",AF98+AF99)","v":""},null,null,null,{"$f":"IF(TRIM(AI100)=\"\", \"\", IF(VLOOKUP(AI100,'Footnotes list'!$D$9:$E$58,2,FALSE)=0,\"\",VLOOKUP(AI100,'Footnotes list'!$D$9:$E$58,2,FALSE) ) )","v":""},{"$f":"IF(AND(TRIM(AK98)=\"\",TRIM(AK99)=\"\"),\"\",AK98+AK99)","v":""},null,null,null,{"$f":"IF(TRIM(AN100)=\"\", \"\", IF(VLOOKUP(AN100,'Footnotes list'!$D$9:$E$58,2,FALSE)=0,\"\",VLOOKUP(AN100,'Footnotes list'!$D$9:$E$58,2,FALSE) ) )","v":""},{"$f":"IF(AND(TRIM(AP98)=\"\", TRIM(AP99)=\"\"), \"\", SUM(AP98,AP99))","v":""},null,null,null,{"$f":"IF(TRIM(AS100)=\"\", \"\", IF(VLOOKUP(AS100,'Footnotes list'!$D$9:$E$58,2,FALSE)=0,\"\",VLOOKUP(AS100,'Footnotes list'!$D$9:$E$58,2,FALSE) ) )","v":""},{"$f":"IF(AND(TRIM(AU98)=\"\", TRIM(AU99)=\"\"), \"\", SUM(AU98,AU99) )","v":""},null,null,null,{"$f":"IF(TRIM(AX100)=\"\", \"\", IF(VLOOKUP(AX100,'Footnotes list'!$D$9:$E$58,2,FALSE)=0,\"\",VLOOKUP(AX100,'Footnotes list'!$D$9:$E$58,2,FALSE) ) )","v":""}]
[null,"W127","W127","Dredging spoils ","HAZ","Hazardous ",null,null,null,null,{"$f":"IF(TRIM(J101)=\"\", \"\", IF(VLOOKUP(J101,'Footnotes list'!$D$9:$E$58,2,FALSE)=0,\"\",VLOOKUP(J101,'Footnotes list'!$D$9:$E$58,2,FALSE) ) )","v":""},null,null,null,null,{"$f":"IF(TRIM(O101)=\"\", \"\", IF(VLOOKUP(O101,'Footnotes list'!$D$9:$E$58,2,FALSE)=0,\"\",VLOOKUP(O101,'Footnotes list'!$D$9:$E$58,2,FALSE) ) )","v":""},null,null,null,null,{"$f":"IF(TRIM(T101)=\"\", \"\", IF(VLOOKUP(T101,'Footnotes list'!$D$9:$E$58,2,FALSE)=0,\"\",VLOOKUP(T101,'Footnotes list'!$D$9:$E$58,2,FALSE) ) )","v":""},null,null,null,null,{"$f":"IF(TRIM(Y101)=\"\", \"\", IF(VLOOKUP(Y101,'Footnotes list'!$D$9:$E$58,2,FALSE)=0,\"\",VLOOKUP(Y101,'Footnotes list'!$D$9:$E$58,2,FALSE) ) )","v":""},{"$f":"IF(AND(TRIM(Q101)=\"\",TRIM(V101)=\"\"),\"\",Q101+V101)","v":""},null,null,null,{"$f":"IF(TRIM(AD101)=\"\", \"\", IF(VLOOKUP(AD101,'Footnotes list'!$D$9:$E$58,2,FALSE)=0,\"\",VLOOKUP(AD101,'Footnotes list'!$D$9:$E$58,2,FALSE) ) )","v":""},null,null,null,null,{"$f":"IF(TRIM(AI101)=\"\", \"\", IF(VLOOKUP(AI101,'Footnotes list'!$D$9:$E$58,2,FALSE)=0,\"\",VLOOKUP(AI101,'Footnotes list'!$D$9:$E$58,2,FALSE) ) )","v":""},null,null,null,null,{"$f":"IF(TRIM(AN101)=\"\", \"\", IF(VLOOKUP(AN101,'Footnotes list'!$D$9:$E$58,2,FALSE)=0,\"\",VLOOKUP(AN101,'Footnotes list'!$D$9:$E$58,2,FALSE) ) )","v":""},{"$f":"IF(AND(TRIM(AF101)=\"\",TRIM(AK101)=\"\"),\"\",AF101+AK101)","v":""},null,null,null,{"$f":"IF(TRIM(AS101)=\"\", \"\", IF(VLOOKUP(AS101,'Footnotes list'!$D$9:$E$58,2,FALSE)=0,\"\",VLOOKUP(AS101,'Footnotes list'!$D$9:$E$58,2,FALSE) ) )","v":""},{"$f":"IF(AND(TRIM(G101)=\"\",TRIM(L101)=\"\",TRIM(AA101)=\"\",TRIM(AP101)=\"\"),\"\",SUM(G101,L101,AA101,AP101))","v":""},null,null,null,{"$f":"IF(TRIM(AX101)=\"\", \"\", IF(VLOOKUP(AX101,'Footnotes list'!$D$9:$E$58,2,FALSE)=0,\"\",VLOOKUP(AX101,'Footnotes list'!$D$9:$E$58,2,FALSE) ) )","v":""}]
[null,null,"W127",null,"NHAZ","Non-hazardous",null,null,null,null,{"$f":"IF(TRIM(J102)=\"\", \"\", IF(VLOOKUP(J102,'Footnotes list'!$D$9:$E$58,2,FALSE)=0,\"\",VLOOKUP(J102,'Footnotes list'!$D$9:$E$58,2,FALSE) ) )","v":""},null,null,null,null,{"$f":"IF(TRIM(O102)=\"\", \"\", IF(VLOOKUP(O102,'Footnotes list'!$D$9:$E$58,2,FALSE)=0,\"\",VLOOKUP(O102,'Footnotes list'!$D$9:$E$58,2,FALSE) ) )","v":""},null,null,null,null,{"$f":"IF(TRIM(T102)=\"\", \"\", IF(VLOOKUP(T102,'Footnotes list'!$D$9:$E$58,2,FALSE)=0,\"\",VLOOKUP(T102,'Footnotes list'!$D$9:$E$58,2,FALSE) ) )","v":""},null,null,null,null,{"$f":"IF(TRIM(Y102)=\"\", \"\", IF(VLOOKUP(Y102,'Footnotes list'!$D$9:$E$58,2,FALSE)=0,\"\",VLOOKUP(Y102,'Footnotes list'!$D$9:$E$58,2,FALSE) ) )","v":""},{"$f":"IF(AND(TRIM(Q102)=\"\",TRIM(V102)=\"\"),\"\",Q102+V102)","v":""},null,null,null,{"$f":"IF(TRIM(AD102)=\"\", \"\", IF(VLOOKUP(AD102,'Footnotes list'!$D$9:$E$58,2,FALSE)=0,\"\",VLOOKUP(AD102,'Footnotes list'!$D$9:$E$58,2,FALSE) ) )","v":""},null,null,null,null,{"$f":"IF(TRIM(AI102)=\"\", \"\", IF(VLOOKUP(AI102,'Footnotes list'!$D$9:$E$58,2,FALSE)=0,\"\",VLOOKUP(AI102,'Footnotes list'!$D$9:$E$58,2,FALSE) ) )","v":""},null,null,null,null,{"$f":"IF(TRIM(AN102)=\"\", \"\", IF(VLOOKUP(AN102,'Footnotes list'!$D$9:$E$58,2,FALSE)=0,\"\",VLOOKUP(AN102,'Footnotes list'!$D$9:$E$58,2,FALSE) ) )","v":""},{"$f":"IF(AND(TRIM(AF102)=\"\",TRIM(AK102)=\"\"),\"\",AF102+AK102)","v":""},null,null,null,{"$f":"IF(TRIM(AS102)=\"\", \"\", IF(VLOOKUP(AS102,'Footnotes list'!$D$9:$E$58,2,FALSE)=0,\"\",VLOOKUP(AS102,'Footnotes list'!$D$9:$E$58,2,FALSE) ) )","v":""},{"$f":"IF(AND(TRIM(G102)=\"\",TRIM(L102)=\"\",TRIM(AA102)=\"\",TRIM(AP102)=\"\"),\"\",SUM(G102,L102,AA102,AP102))","v":""},null,null,null,{"$f":"IF(TRIM(AX102)=\"\", \"\", IF(VLOOKUP(AX102,'Footnotes list'!$D$9:$E$58,2,FALSE)=0,\"\",VLOOKUP(AX102,'Footnotes list'!$D$9:$E$58,2,FALSE) ) )","v":""}]
[null,null,"W127",null,"HAZ_NHAZ","Total",{"$f":"IF(AND(TRIM(G101)=\"\",TRIM(G102)=\"\"),\"\",G101+G102)","v":""},null,null,null,{"$f":"IF(TRIM(J103)=\"\", \"\", IF(VLOOKUP(J103,'Footnotes list'!$D$9:$E$58,2,FALSE)=0,\"\",VLOOKUP(J103,'Footnotes list'!$D$9:$E$58,2,FALSE) ) )","v":""},{"$f":"IF(AND(TRIM(L101)=\"\",TRIM(L102)=\"\"),\"\",L101+L102)","v":""},null,null,null,{"$f":"IF(TRIM(O103)=\"\", \"\", IF(VLOOKUP(O103,'Footnotes list'!$D$9:$E$58,2,FALSE)=0,\"\",VLOOKUP(O103,'Footnotes list'!$D$9:$E$58,2,FALSE) ) )","v":""},{"$f":"IF(AND(TRIM(Q101)=\"\",TRIM(Q102)=\"\"),\"\",Q101+Q102)","v":""},null,null,null,{"$f":"IF(TRIM(T103)=\"\", \"\", IF(VLOOKUP(T103,'Footnotes list'!$D$9:$E$58,2,FALSE)=0,\"\",VLOOKUP(T103,'Footnotes list'!$D$9:$E$58,2,FALSE) ) )","v":""},{"$f":"IF(AND(TRIM(V101)=\"\",TRIM(V102)=\"\"),\"\",V101+V102)","v":""},null,null,null,{"$f":"IF(TRIM(Y103)=\"\", \"\", IF(VLOOKUP(Y103,'Footnotes list'!$D$9:$E$58,2,FALSE)=0,\"\",VLOOKUP(Y103,'Footnotes list'!$D$9:$E$58,2,FALSE) ) )","v":""},{"$f":"IF(AND(TRIM(AA101)=\"\", TRIM(AA102)=\"\"), \"\", SUM(AA101,AA102))","v":""},null,null,null,{"$f":"IF(TRIM(AD103)=\"\", \"\", IF(VLOOKUP(AD103,'Footnotes list'!$D$9:$E$58,2,FALSE)=0,\"\",VLOOKUP(AD103,'Footnotes list'!$D$9:$E$58,2,FALSE) ) )","v":""},{"$f":"IF(AND(TRIM(AF101)=\"\",TRIM(AF102)=\"\"),\"\",AF101+AF102)","v":""},null,null,null,{"$f":"IF(TRIM(AI103)=\"\", \"\", IF(VLOOKUP(AI103,'Footnotes list'!$D$9:$E$58,2,FALSE)=0,\"\",VLOOKUP(AI103,'Footnotes list'!$D$9:$E$58,2,FALSE) ) )","v":""},{"$f":"IF(AND(TRIM(AK101)=\"\",TRIM(AK102)=\"\"),\"\",AK101+AK102)","v":""},null,null,null,{"$f":"IF(TRIM(AN103)=\"\", \"\", IF(VLOOKUP(AN103,'Footnotes list'!$D$9:$E$58,2,FALSE)=0,\"\",VLOOKUP(AN103,'Footnotes list'!$D$9:$E$58,2,FALSE) ) )","v":""},{"$f":"IF(AND(TRIM(AP101)=\"\", TRIM(AP102)=\"\"), \"\", SUM(AP101,AP102))","v":""},null,null,null,{"$f":"IF(TRIM(AS103)=\"\", \"\", IF(VLOOKUP(AS103,'Footnotes list'!$D$9:$E$58,2,FALSE)=0,\"\",VLOOKUP(AS103,'Footnotes list'!$D$9:$E$58,2,FALSE) ) )","v":""},{"$f":"IF(AND(TRIM(AU101)=\"\", TRIM(AU102)=\"\"), \"\", SUM(AU101,AU102) )","v":""},null,null,null,{"$f":"IF(TRIM(AX103)=\"\", \"\", IF(VLOOKUP(AX103,'Footnotes list'!$D$9:$E$58,2,FALSE)=0,\"\",VLOOKUP(AX103,'Footnotes list'!$D$9:$E$58,2,FALSE) ) )","v":""}]
[null,"W128_13","W128_13","Mineral wastes from waste treatment and stabilised wastes","HAZ","Hazardous ",null,null,null,null,{"$f":"IF(TRIM(J104)=\"\", \"\", IF(VLOOKUP(J104,'Footnotes list'!$D$9:$E$58,2,FALSE)=0,\"\",VLOOKUP(J104,'Footnotes list'!$D$9:$E$58,2,FALSE) ) )","v":""},null,null,null,null,{"$f":"IF(TRIM(O104)=\"\", \"\", IF(VLOOKUP(O104,'Footnotes list'!$D$9:$E$58,2,FALSE)=0,\"\",VLOOKUP(O104,'Footnotes list'!$D$9:$E$58,2,FALSE) ) )","v":""},null,null,null,null,{"$f":"IF(TRIM(T104)=\"\", \"\", IF(VLOOKUP(T104,'Footnotes list'!$D$9:$E$58,2,FALSE)=0,\"\",VLOOKUP(T104,'Footnotes list'!$D$9:$E$58,2,FALSE) ) )","v":""},null,null,null,null,{"$f":"IF(TRIM(Y104)=\"\", \"\", IF(VLOOKUP(Y104,'Footnotes list'!$D$9:$E$58,2,FALSE)=0,\"\",VLOOKUP(Y104,'Footnotes list'!$D$9:$E$58,2,FALSE) ) )","v":""},{"$f":"IF(AND(TRIM(Q104)=\"\",TRIM(V104)=\"\"),\"\",Q104+V104)","v":""},null,null,null,{"$f":"IF(TRIM(AD104)=\"\", \"\", IF(VLOOKUP(AD104,'Footnotes list'!$D$9:$E$58,2,FALSE)=0,\"\",VLOOKUP(AD104,'Footnotes list'!$D$9:$E$58,2,FALSE) ) )","v":""},null,null,null,null,{"$f":"IF(TRIM(AI104)=\"\", \"\", IF(VLOOKUP(AI104,'Footnotes list'!$D$9:$E$58,2,FALSE)=0,\"\",VLOOKUP(AI104,'Footnotes list'!$D$9:$E$58,2,FALSE) ) )","v":""},null,null,null,null,{"$f":"IF(TRIM(AN104)=\"\", \"\", IF(VLOOKUP(AN104,'Footnotes list'!$D$9:$E$58,2,FALSE)=0,\"\",VLOOKUP(AN104,'Footnotes list'!$D$9:$E$58,2,FALSE) ) )","v":""},{"$f":"IF(AND(TRIM(AF104)=\"\",TRIM(AK104)=\"\"),\"\",AF104+AK104)","v":""},null,null,null,{"$f":"IF(TRIM(AS104)=\"\", \"\", IF(VLOOKUP(AS104,'Footnotes list'!$D$9:$E$58,2,FALSE)=0,\"\",VLOOKUP(AS104,'Footnotes list'!$D$9:$E$58,2,FALSE) ) )","v":""},{"$f":"IF(AND(TRIM(G104)=\"\",TRIM(L104)=\"\",TRIM(AA104)=\"\",TRIM(AP104)=\"\"),\"\",SUM(G104,L104,AA104,AP104))","v":""},null,null,null,{"$f":"IF(TRIM(AX104)=\"\", \"\", IF(VLOOKUP(AX104,'Footnotes list'!$D$9:$E$58,2,FALSE)=0,\"\",VLOOKUP(AX104,'Footnotes list'!$D$9:$E$58,2,FALSE) ) )","v":""}]
[null,null,"W128_13",null,"NHAZ","Non-hazardous",null,null,null,null,{"$f":"IF(TRIM(J105)=\"\", \"\", IF(VLOOKUP(J105,'Footnotes list'!$D$9:$E$58,2,FALSE)=0,\"\",VLOOKUP(J105,'Footnotes list'!$D$9:$E$58,2,FALSE) ) )","v":""},null,null,null,null,{"$f":"IF(TRIM(O105)=\"\", \"\", IF(VLOOKUP(O105,'Footnotes list'!$D$9:$E$58,2,FALSE)=0,\"\",VLOOKUP(O105,'Footnotes list'!$D$9:$E$58,2,FALSE) ) )","v":""},null,null,null,null,{"$f":"IF(TRIM(T105)=\"\", \"\", IF(VLOOKUP(T105,'Footnotes list'!$D$9:$E$58,2,FALSE)=0,\"\",VLOOKUP(T105,'Footnotes list'!$D$9:$E$58,2,FALSE) ) )","v":""},null,null,null,null,{"$f":"IF(TRIM(Y105)=\"\", \"\", IF(VLOOKUP(Y105,'Footnotes list'!$D$9:$E$58,2,FALSE)=0,\"\",VLOOKUP(Y105,'Footnotes list'!$D$9:$E$58,2,FALSE) ) )","v":""},{"$f":"IF(AND(TRIM(Q105)=\"\",TRIM(V105)=\"\"),\"\",Q105+V105)","v":""},null,null,null,{"$f":"IF(TRIM(AD105)=\"\", \"\", IF(VLOOKUP(AD105,'Footnotes list'!$D$9:$E$58,2,FALSE)=0,\"\",VLOOKUP(AD105,'Footnotes list'!$D$9:$E$58,2,FALSE) ) )","v":""},null,null,null,null,{"$f":"IF(TRIM(AI105)=\"\", \"\", IF(VLOOKUP(AI105,'Footnotes list'!$D$9:$E$58,2,FALSE)=0,\"\",VLOOKUP(AI105,'Footnotes list'!$D$9:$E$58,2,FALSE) ) )","v":""},null,null,null,null,{"$f":"IF(TRIM(AN105)=\"\", \"\", IF(VLOOKUP(AN105,'Footnotes list'!$D$9:$E$58,2,FALSE)=0,\"\",VLOOKUP(AN105,'Footnotes list'!$D$9:$E$58,2,FALSE) ) )","v":""},{"$f":"IF(AND(TRIM(AF105)=\"\",TRIM(AK105)=\"\"),\"\",AF105+AK105)","v":""},null,null,null,{"$f":"IF(TRIM(AS105)=\"\", \"\", IF(VLOOKUP(AS105,'Footnotes list'!$D$9:$E$58,2,FALSE)=0,\"\",VLOOKUP(AS105,'Footnotes list'!$D$9:$E$58,2,FALSE) ) )","v":""},{"$f":"IF(AND(TRIM(G105)=\"\",TRIM(L105)=\"\",TRIM(AA105)=\"\",TRIM(AP105)=\"\"),\"\",SUM(G105,L105,AA105,AP105))","v":""},null,null,null,{"$f":"IF(TRIM(AX105)=\"\", \"\", IF(VLOOKUP(AX105,'Footnotes list'!$D$9:$E$58,2,FALSE)=0,\"\",VLOOKUP(AX105,'Footnotes list'!$D$9:$E$58,2,FALSE) ) )","v":""}]
[null,null,"W128_13",null,"HAZ_NHAZ","Total",{"$f":"IF(AND(TRIM(G104)=\"\",TRIM(G105)=\"\"),\"\",G104+G105)","v":""},null,null,null,{"$f":"IF(TRIM(J106)=\"\", \"\", IF(VLOOKUP(J106,'Footnotes list'!$D$9:$E$58,2,FALSE)=0,\"\",VLOOKUP(J106,'Footnotes list'!$D$9:$E$58,2,FALSE) ) )","v":""},{"$f":"IF(AND(TRIM(L104)=\"\",TRIM(L105)=\"\"),\"\",L104+L105)","v":""},null,null,null,{"$f":"IF(TRIM(O106)=\"\", \"\", IF(VLOOKUP(O106,'Footnotes list'!$D$9:$E$58,2,FALSE)=0,\"\",VLOOKUP(O106,'Footnotes list'!$D$9:$E$58,2,FALSE) ) )","v":""},{"$f":"IF(AND(TRIM(Q104)=\"\",TRIM(Q105)=\"\"),\"\",Q104+Q105)","v":""},null,null,null,{"$f":"IF(TRIM(T106)=\"\", \"\", IF(VLOOKUP(T106,'Footnotes list'!$D$9:$E$58,2,FALSE)=0,\"\",VLOOKUP(T106,'Footnotes list'!$D$9:$E$58,2,FALSE) ) )","v":""},{"$f":"IF(AND(TRIM(V104)=\"\",TRIM(V105)=\"\"),\"\",V104+V105)","v":""},null,null,null,{"$f":"IF(TRIM(Y106)=\"\", \"\", IF(VLOOKUP(Y106,'Footnotes list'!$D$9:$E$58,2,FALSE)=0,\"\",VLOOKUP(Y106,'Footnotes list'!$D$9:$E$58,2,FALSE) ) )","v":""},{"$f":"IF(AND(TRIM(AA104)=\"\", TRIM(AA105)=\"\"), \"\", SUM(AA104,AA105))","v":""},null,null,null,{"$f":"IF(TRIM(AD106)=\"\", \"\", IF(VLOOKUP(AD106,'Footnotes list'!$D$9:$E$58,2,FALSE)=0,\"\",VLOOKUP(AD106,'Footnotes list'!$D$9:$E$58,2,FALSE) ) )","v":""},{"$f":"IF(AND(TRIM(AF104)=\"\",TRIM(AF105)=\"\"),\"\",AF104+AF105)","v":""},null,null,null,{"$f":"IF(TRIM(AI106)=\"\", \"\", IF(VLOOKUP(AI106,'Footnotes list'!$D$9:$E$58,2,FALSE)=0,\"\",VLOOKUP(AI106,'Footnotes list'!$D$9:$E$58,2,FALSE) ) )","v":""},{"$f":"IF(AND(TRIM(AK104)=\"\",TRIM(AK105)=\"\"),\"\",AK104+AK105)","v":""},null,null,null,{"$f":"IF(TRIM(AN106)=\"\", \"\", IF(VLOOKUP(AN106,'Footnotes list'!$D$9:$E$58,2,FALSE)=0,\"\",VLOOKUP(AN106,'Footnotes list'!$D$9:$E$58,2,FALSE) ) )","v":""},{"$f":"IF(AND(TRIM(AP104)=\"\", TRIM(AP105)=\"\"), \"\", SUM(AP104,AP105))","v":""},null,null,null,{"$f":"IF(TRIM(AS106)=\"\", \"\", IF(VLOOKUP(AS106,'Footnotes list'!$D$9:$E$58,2,FALSE)=0,\"\",VLOOKUP(AS106,'Footnotes list'!$D$9:$E$58,2,FALSE) ) )","v":""},{"$f":"IF(AND(TRIM(AU104)=\"\", TRIM(AU105)=\"\"), \"\", SUM(AU104,AU105) )","v":""},null,null,null,{"$f":"IF(TRIM(AX106)=\"\", \"\", IF(VLOOKUP(AX106,'Footnotes list'!$D$9:$E$58,2,FALSE)=0,\"\",VLOOKUP(AX106,'Footnotes list'!$D$9:$E$58,2,FALSE) ) )","v":""}]
[null,"PRIM","PRIM","Primary waste","HAZ","Hazardous ",{"$f":"SUM(G8,G11,G14,G17,G20,G26,G29,G32,G35,G38,G41,G44,G47,G50,G53,G56,G59,G62,G65,G68,G71,G74,G77,G80,G86,G89,G92,G95,G98,G101)","v":0},null,null,null,{"$f":"IF(TRIM(J107)=\"\", \"\", IF(VLOOKUP(J107,'Footnotes list'!$D$9:$E$58,2,FALSE)=0,\"\",VLOOKUP(J107,'Footnotes list'!$D$9:$E$58,2,FALSE) ) )","v":""},{"$f":"SUM(L8,L11,L14,L17,L20,L26,L29,L32,L35,L38,L41,L44,L47,L50,L53,L56,L59,L62,L65,L68,L71,L74,L77,L80,L86,L89,L92,L95,L98,L101)","v":0},null,null,null,{"$f":"IF(TRIM(O107)=\"\", \"\", IF(VLOOKUP(O107,'Footnotes list'!$D$9:$E$58,2,FALSE)=0,\"\",VLOOKUP(O107,'Footnotes list'!$D$9:$E$58,2,FALSE) ) )","v":""},{"$f":"SUM(Q8,Q11,Q14,Q17,Q20,Q26,Q29,Q32,Q35,Q38,Q41,Q44,Q47,Q50,Q53,Q56,Q59,Q62,Q65,Q68,Q71,Q74,Q77,Q80,Q86,Q89,Q92,Q95,Q98,Q101)","v":0},null,null,null,{"$f":"IF(TRIM(T107)=\"\", \"\", IF(VLOOKUP(T107,'Footnotes list'!$D$9:$E$58,2,FALSE)=0,\"\",VLOOKUP(T107,'Footnotes list'!$D$9:$E$58,2,FALSE) ) )","v":""},{"$f":"SUM(V8,V11,V14,V17,V20,V26,V29,V32,V35,V38,V41,V44,V47,V50,V53,V56,V59,V62,V65,V68,V71,V74,V77,V80,V86,V89,V92,V95,V98,V101)","v":0},null,null,null,{"$f":"IF(TRIM(Y107)=\"\", \"\", IF(VLOOKUP(Y107,'Footnotes list'!$D$9:$E$58,2,FALSE)=0,\"\",VLOOKUP(Y107,'Footnotes list'!$D$9:$E$58,2,FALSE) ) )","v":""},{"$f":"SUM(AA8,AA11,AA14,AA17,AA20,AA26,AA29,AA32,AA35,AA38,AA41,AA44,AA47,AA50,AA53,AA56,AA59,AA62,AA65,AA68,AA71,AA74,AA77,AA80,AA86,AA89,AA92,AA95,AA98,AA101)","v":0},null,null,null,{"$f":"IF(TRIM(AD107)=\"\", \"\", IF(VLOOKUP(AD107,'Footnotes list'!$D$9:$E$58,2,FALSE)=0,\"\",VLOOKUP(AD107,'Footnotes list'!$D$9:$E$58,2,FALSE) ) )","v":""},{"$f":"SUM(AF8,AF11,AF14,AF17,AF20,AF26,AF29,AF32,AF35,AF38,AF41,AF44,AF47,AF50,AF53,AF56,AF59,AF62,AF65,AF68,AF71,AF74,AF77,AF80,AF86,AF89,AF92,AF95,AF98,AF101)","v":0},null,null,null,{"$f":"IF(TRIM(AI107)=\"\", \"\", IF(VLOOKUP(AI107,'Footnotes list'!$D$9:$E$58,2,FALSE)=0,\"\",VLOOKUP(AI107,'Footnotes list'!$D$9:$E$58,2,FALSE) ) )","v":""},{"$f":"SUM(AK8,AK11,AK14,AK17,AK20,AK26,AK29,AK32,AK35,AK38,AK41,AK44,AK47,AK50,AK53,AK56,AK59,AK62,AK65,AK68,AK71,AK74,AK77,AK80,AK86,AK89,AK92,AK95,AK98,AK101)","v":0},null,null,null,{"$f":"IF(TRIM(AN107)=\"\", \"\", IF(VLOOKUP(AN107,'Footnotes list'!$D$9:$E$58,2,FALSE)=0,\"\",VLOOKUP(AN107,'Footnotes list'!$D$9:$E$58,2,FALSE) ) )","v":""},{"$f":"SUM(AP8,AP11,AP14,AP17,AP20,AP26,AP29,AP32,AP35,AP38,AP41,AP44,AP47,AP50,AP53,AP56,AP59,AP62,AP65,AP68,AP71,AP74,AP77,AP80,AP86,AP89,AP92,AP95,AP98,AP101)","v":0},null,null,null,{"$f":"IF(TRIM(AS107)=\"\", \"\", IF(VLOOKUP(AS107,'Footnotes list'!$D$9:$E$58,2,FALSE)=0,\"\",VLOOKUP(AS107,'Footnotes list'!$D$9:$E$58,2,FALSE) ) )","v":""},{"$f":"SUM(AU8,AU11,AU14,AU17,AU20,AU26,AU29,AU32,AU35,AU38,AU41,AU44,AU47,AU50,AU53,AU56,AU59,AU62,AU65,AU68,AU71,AU74,AU77,AU80,AU86,AU89,AU92,AU95,AU98,AU101)","v":0},null,null,null,{"$f":"IF(TRIM(AX107)=\"\", \"\", IF(VLOOKUP(AX107,'Footnotes list'!$D$9:$E$58,2,FALSE)=0,\"\",VLOOKUP(AX107,'Footnotes list'!$D$9:$E$58,2,FALSE) ) )","v":""}]
[null,null,"PRIM",null,"NHAZ","Non-hazardous",{"$f":"SUM(G9,G12,G15,G18,G21,G27,G30,G33,G36,G39,G42,G45,G48,G51,G54,G57,G60,G63,G66,G69,G72,G75,G78,G81,G87,G90,G93,G96,G99,G102)","v":0},null,null,null,{"$f":"IF(TRIM(J108)=\"\", \"\", IF(VLOOKUP(J108,'Footnotes list'!$D$9:$E$58,2,FALSE)=0,\"\",VLOOKUP(J108,'Footnotes list'!$D$9:$E$58,2,FALSE) ) )","v":""},{"$f":"SUM(L9,L12,L15,L18,L21,L27,L30,L33,L36,L39,L42,L45,L48,L51,L54,L57,L60,L63,L66,L69,L72,L75,L78,L81,L87,L90,L93,L96,L99,L102)","v":0},null,null,null,{"$f":"IF(TRIM(O108)=\"\", \"\", IF(VLOOKUP(O108,'Footnotes list'!$D$9:$E$58,2,FALSE)=0,\"\",VLOOKUP(O108,'Footnotes list'!$D$9:$E$58,2,FALSE) ) )","v":""},{"$f":"SUM(Q9,Q12,Q15,Q18,Q21,Q27,Q30,Q33,Q36,Q39,Q42,Q45,Q48,Q51,Q54,Q57,Q60,Q63,Q66,Q69,Q72,Q75,Q78,Q81,Q87,Q90,Q93,Q96,Q99,Q102)","v":0},null,null,null,{"$f":"IF(TRIM(T108)=\"\", \"\", IF(VLOOKUP(T108,'Footnotes list'!$D$9:$E$58,2,FALSE)=0,\"\",VLOOKUP(T108,'Footnotes list'!$D$9:$E$58,2,FALSE) ) )","v":""},{"$f":"SUM(V9,V12,V15,V18,V21,V27,V30,V33,V36,V39,V42,V45,V48,V51,V54,V57,V60,V63,V66,V69,V72,V75,V78,V81,V87,V90,V93,V96,V99,V102)","v":0},null,null,null,{"$f":"IF(TRIM(Y108)=\"\", \"\", IF(VLOOKUP(Y108,'Footnotes list'!$D$9:$E$58,2,FALSE)=0,\"\",VLOOKUP(Y108,'Footnotes list'!$D$9:$E$58,2,FALSE) ) )","v":""},{"$f":"SUM(AA9,AA12,AA15,AA18,AA21,AA27,AA30,AA33,AA36,AA39,AA42,AA45,AA48,AA51,AA54,AA57,AA60,AA63,AA66,AA69,AA72,AA75,AA78,AA81,AA87,AA90,AA93,AA96,AA99,AA102)","v":0},null,null,null,{"$f":"IF(TRIM(AD108)=\"\", \"\", IF(VLOOKUP(AD108,'Footnotes list'!$D$9:$E$58,2,FALSE)=0,\"\",VLOOKUP(AD108,'Footnotes list'!$D$9:$E$58,2,FALSE) ) )","v":""},{"$f":"SUM(AF9,AF12,AF15,AF18,AF21,AF27,AF30,AF33,AF36,AF39,AF42,AF45,AF48,AF51,AF54,AF57,AF60,AF63,AF66,AF69,AF72,AF75,AF78,AF81,AF87,AF90,AF93,AF96,AF99,AF102)","v":0},null,null,null,{"$f":"IF(TRIM(AI108)=\"\", \"\", IF(VLOOKUP(AI108,'Footnotes list'!$D$9:$E$58,2,FALSE)=0,\"\",VLOOKUP(AI108,'Footnotes list'!$D$9:$E$58,2,FALSE) ) )","v":""},{"$f":"SUM(AK9,AK12,AK15,AK18,AK21,AK27,AK30,AK33,AK36,AK39,AK42,AK45,AK48,AK51,AK54,AK57,AK60,AK63,AK66,AK69,AK72,AK75,AK78,AK81,AK87,AK90,AK93,AK96,AK99,AK102)","v":0},null,null,null,{"$f":"IF(TRIM(AN108)=\"\", \"\", IF(VLOOKUP(AN108,'Footnotes list'!$D$9:$E$58,2,FALSE)=0,\"\",VLOOKUP(AN108,'Footnotes list'!$D$9:$E$58,2,FALSE) ) )","v":""},{"$f":"SUM(AP9,AP12,AP15,AP18,AP21,AP27,AP30,AP33,AP36,AP39,AP42,AP45,AP48,AP51,AP54,AP57,AP60,AP63,AP66,AP69,AP72,AP75,AP78,AP81,AP87,AP90,AP93,AP96,AP99,AP102)","v":0},null,null,null,{"$f":"IF(TRIM(AS108)=\"\", \"\", IF(VLOOKUP(AS108,'Footnotes list'!$D$9:$E$58,2,FALSE)=0,\"\",VLOOKUP(AS108,'Footnotes list'!$D$9:$E$58,2,FALSE) ) )","v":""},{"$f":"SUM(AU9,AU12,AU15,AU18,AU21,AU27,AU30,AU33,AU36,AU39,AU42,AU45,AU48,AU51,AU54,AU57,AU60,AU63,AU66,AU69,AU72,AU75,AU78,AU81,AU87,AU90,AU93,AU96,AU99,AU102)","v":0},null,null,null,{"$f":"IF(TRIM(AX108)=\"\", \"\", IF(VLOOKUP(AX108,'Footnotes list'!$D$9:$E$58,2,FALSE)=0,\"\",VLOOKUP(AX108,'Footnotes list'!$D$9:$E$58,2,FALSE) ) )","v":""}]
[null,null,"PRIM",null,"HAZ_NHAZ","Total",0,null,null,null,{"$f":"IF(TRIM(J109)=\"\", \"\", IF(VLOOKUP(J109,'Footnotes list'!$D$9:$E$58,2,FALSE)=0,\"\",VLOOKUP(J109,'Footnotes list'!$D$9:$E$58,2,FALSE) ) )","v":""},0,null,null,null,{"$f":"IF(TRIM(O109)=\"\", \"\", IF(VLOOKUP(O109,'Footnotes list'!$D$9:$E$58,2,FALSE)=0,\"\",VLOOKUP(O109,'Footnotes list'!$D$9:$E$58,2,FALSE) ) )","v":""},0,null,null,null,{"$f":"IF(TRIM(T109)=\"\", \"\", IF(VLOOKUP(T109,'Footnotes list'!$D$9:$E$58,2,FALSE)=0,\"\",VLOOKUP(T109,'Footnotes list'!$D$9:$E$58,2,FALSE) ) )","v":""},0,null,null,null,{"$f":"IF(TRIM(Y109)=\"\", \"\", IF(VLOOKUP(Y109,'Footnotes list'!$D$9:$E$58,2,FALSE)=0,\"\",VLOOKUP(Y109,'Footnotes list'!$D$9:$E$58,2,FALSE) ) )","v":""},0,null,null,null,{"$f":"IF(TRIM(AD109)=\"\", \"\", IF(VLOOKUP(AD109,'Footnotes list'!$D$9:$E$58,2,FALSE)=0,\"\",VLOOKUP(AD109,'Footnotes list'!$D$9:$E$58,2,FALSE) ) )","v":""},0,null,null,null,{"$f":"IF(TRIM(AI109)=\"\", \"\", IF(VLOOKUP(AI109,'Footnotes list'!$D$9:$E$58,2,FALSE)=0,\"\",VLOOKUP(AI109,'Footnotes list'!$D$9:$E$58,2,FALSE) ) )","v":""},0,null,null,null,{"$f":"IF(TRIM(AN109)=\"\", \"\", IF(VLOOKUP(AN109,'Footnotes list'!$D$9:$E$58,2,FALSE)=0,\"\",VLOOKUP(AN109,'Footnotes list'!$D$9:$E$58,2,FALSE) ) )","v":""},0,null,null,null,{"$f":"IF(TRIM(AS109)=\"\", \"\", IF(VLOOKUP(AS109,'Footnotes list'!$D$9:$E$58,2,FALSE)=0,\"\",VLOOKUP(AS109,'Footnotes list'!$D$9:$E$58,2,FALSE) ) )","v":""},0,null,null,null,{"$f":"IF(TRIM(AX109)=\"\", \"\", IF(VLOOKUP(AX109,'Footnotes list'!$D$9:$E$58,2,FALSE)=0,\"\",VLOOKUP(AX109,'Footnotes list'!$D$9:$E$58,2,FALSE) ) )","v":""}]
[null,"SEC","SEC","Secondary Waste ","HAZ","Hazardous ",{"$f":"SUM(G23,G83,G104)","v":0},null,null,null,{"$f":"IF(TRIM(J110)=\"\", \"\", IF(VLOOKUP(J110,'Footnotes list'!$D$9:$E$58,2,FALSE)=0,\"\",VLOOKUP(J110,'Footnotes list'!$D$9:$E$58,2,FALSE) ) )","v":""},{"$f":"SUM(L23,L83,L104)","v":0},null,null,null,{"$f":"IF(TRIM(O110)=\"\", \"\", IF(VLOOKUP(O110,'Footnotes list'!$D$9:$E$58,2,FALSE)=0,\"\",VLOOKUP(O110,'Footnotes list'!$D$9:$E$58,2,FALSE) ) )","v":""},{"$f":"SUM(Q23,Q83,Q104)","v":0},null,null,null,{"$f":"IF(TRIM(T110)=\"\", \"\", IF(VLOOKUP(T110,'Footnotes list'!$D$9:$E$58,2,FALSE)=0,\"\",VLOOKUP(T110,'Footnotes list'!$D$9:$E$58,2,FALSE) ) )","v":""},{"$f":"SUM(V23,V83,V104)","v":0},null,null,null,{"$f":"IF(TRIM(Y110)=\"\", \"\", IF(VLOOKUP(Y110,'Footnotes list'!$D$9:$E$58,2,FALSE)=0,\"\",VLOOKUP(Y110,'Footnotes list'!$D$9:$E$58,2,FALSE) ) )","v":""},{"$f":"SUM(AA23,AA83,AA104)","v":0},null,null,null,{"$f":"IF(TRIM(AD110)=\"\", \"\", IF(VLOOKUP(AD110,'Footnotes list'!$D$9:$E$58,2,FALSE)=0,\"\",VLOOKUP(AD110,'Footnotes list'!$D$9:$E$58,2,FALSE) ) )","v":""},{"$f":"SUM(AF23,AF83,AF104)","v":0},null,null,null,{"$f":"IF(TRIM(AI110)=\"\", \"\", IF(VLOOKUP(AI110,'Footnotes list'!$D$9:$E$58,2,FALSE)=0,\"\",VLOOKUP(AI110,'Footnotes list'!$D$9:$E$58,2,FALSE) ) )","v":""},{"$f":"SUM(AK23,AK83,AK104)","v":0},null,null,null,{"$f":"IF(TRIM(AN110)=\"\", \"\", IF(VLOOKUP(AN110,'Footnotes list'!$D$9:$E$58,2,FALSE)=0,\"\",VLOOKUP(AN110,'Footnotes list'!$D$9:$E$58,2,FALSE) ) )","v":""},{"$f":"SUM(AP23,AP83,AP104)","v":0},null,null,null,{"$f":"IF(TRIM(AS110)=\"\", \"\", IF(VLOOKUP(AS110,'Footnotes list'!$D$9:$E$58,2,FALSE)=0,\"\",VLOOKUP(AS110,'Footnotes list'!$D$9:$E$58,2,FALSE) ) )","v":""},{"$f":"SUM(AU23,AU83,AU104)","v":0},null,null,null,{"$f":"IF(TRIM(AX110)=\"\", \"\", IF(VLOOKUP(AX110,'Footnotes list'!$D$9:$E$58,2,FALSE)=0,\"\",VLOOKUP(AX110,'Footnotes list'!$D$9:$E$58,2,FALSE) ) )","v":""}]
[null,null,"SEC",null,"NHAZ","Non-hazardous",{"$f":"SUM(G24,G84,G105)","v":0},null,null,null,{"$f":"IF(TRIM(J111)=\"\", \"\", IF(VLOOKUP(J111,'Footnotes list'!$D$9:$E$58,2,FALSE)=0,\"\",VLOOKUP(J111,'Footnotes list'!$D$9:$E$58,2,FALSE) ) )","v":""},{"$f":"SUM(L24,L84,L105)","v":0},null,null,null,{"$f":"IF(TRIM(O111)=\"\", \"\", IF(VLOOKUP(O111,'Footnotes list'!$D$9:$E$58,2,FALSE)=0,\"\",VLOOKUP(O111,'Footnotes list'!$D$9:$E$58,2,FALSE) ) )","v":""},{"$f":"SUM(Q24,Q84,Q105)","v":0},null,null,null,{"$f":"IF(TRIM(T111)=\"\", \"\", IF(VLOOKUP(T111,'Footnotes list'!$D$9:$E$58,2,FALSE)=0,\"\",VLOOKUP(T111,'Footnotes list'!$D$9:$E$58,2,FALSE) ) )","v":""},{"$f":"SUM(V24,V84,V105)","v":0},null,null,null,{"$f":"IF(TRIM(Y111)=\"\", \"\", IF(VLOOKUP(Y111,'Footnotes list'!$D$9:$E$58,2,FALSE)=0,\"\",VLOOKUP(Y111,'Footnotes list'!$D$9:$E$58,2,FALSE) ) )","v":""},{"$f":"SUM(AA24,AA84,AA105)","v":0},null,null,null,{"$f":"IF(TRIM(AD111)=\"\", \"\", IF(VLOOKUP(AD111,'Footnotes list'!$D$9:$E$58,2,FALSE)=0,\"\",VLOOKUP(AD111,'Footnotes list'!$D$9:$E$58,2,FALSE) ) )","v":""},{"$f":"SUM(AF24,AF84,AF105)","v":0},null,null,null,{"$f":"IF(TRIM(AI111)=\"\", \"\", IF(VLOOKUP(AI111,'Footnotes list'!$D$9:$E$58,2,FALSE)=0,\"\",VLOOKUP(AI111,'Footnotes list'!$D$9:$E$58,2,FALSE) ) )","v":""},{"$f":"SUM(AK24,AK84,AK105)","v":0},null,null,null,{"$f":"IF(TRIM(AN111)=\"\", \"\", IF(VLOOKUP(AN111,'Footnotes list'!$D$9:$E$58,2,FALSE)=0,\"\",VLOOKUP(AN111,'Footnotes list'!$D$9:$E$58,2,FALSE) ) )","v":""},{"$f":"SUM(AP24,AP84,AP105)","v":0},null,null,null,{"$f":"IF(TRIM(AS111)=\"\", \"\", IF(VLOOKUP(AS111,'Footnotes list'!$D$9:$E$58,2,FALSE)=0,\"\",VLOOKUP(AS111,'Footnotes list'!$D$9:$E$58,2,FALSE) ) )","v":""},{"$f":"SUM(AU24,AU84,AU105)","v":0},null,null,null,{"$f":"IF(TRIM(AX111)=\"\", \"\", IF(VLOOKUP(AX111,'Footnotes list'!$D$9:$E$58,2,FALSE)=0,\"\",VLOOKUP(AX111,'Footnotes list'!$D$9:$E$58,2,FALSE) ) )","v":""}]
[null,null,"SEC",null,"HAZ_NHAZ","Total",0,null,null,null,{"$f":"IF(TRIM(J112)=\"\", \"\", IF(VLOOKUP(J112,'Footnotes list'!$D$9:$E$58,2,FALSE)=0,\"\",VLOOKUP(J112,'Footnotes list'!$D$9:$E$58,2,FALSE) ) )","v":""},0,null,null,null,{"$f":"IF(TRIM(O112)=\"\", \"\", IF(VLOOKUP(O112,'Footnotes list'!$D$9:$E$58,2,FALSE)=0,\"\",VLOOKUP(O112,'Footnotes list'!$D$9:$E$58,2,FALSE) ) )","v":""},0,null,null,null,{"$f":"IF(TRIM(T112)=\"\", \"\", IF(VLOOKUP(T112,'Footnotes list'!$D$9:$E$58,2,FALSE)=0,\"\",VLOOKUP(T112,'Footnotes list'!$D$9:$E$58,2,FALSE) ) )","v":""},0,null,null,null,{"$f":"IF(TRIM(Y112)=\"\", \"\", IF(VLOOKUP(Y112,'Footnotes list'!$D$9:$E$58,2,FALSE)=0,\"\",VLOOKUP(Y112,'Footnotes list'!$D$9:$E$58,2,FALSE) ) )","v":""},0,null,null,null,{"$f":"IF(TRIM(AD112)=\"\", \"\", IF(VLOOKUP(AD112,'Footnotes list'!$D$9:$E$58,2,FALSE)=0,\"\",VLOOKUP(AD112,'Footnotes list'!$D$9:$E$58,2,FALSE) ) )","v":""},0,null,null,null,{"$f":"IF(TRIM(AI112)=\"\", \"\", IF(VLOOKUP(AI112,'Footnotes list'!$D$9:$E$58,2,FALSE)=0,\"\",VLOOKUP(AI112,'Footnotes list'!$D$9:$E$58,2,FALSE) ) )","v":""},0,null,null,null,{"$f":"IF(TRIM(AN112)=\"\", \"\", IF(VLOOKUP(AN112,'Footnotes list'!$D$9:$E$58,2,FALSE)=0,\"\",VLOOKUP(AN112,'Footnotes list'!$D$9:$E$58,2,FALSE) ) )","v":""},0,null,null,null,{"$f":"IF(TRIM(AS112)=\"\", \"\", IF(VLOOKUP(AS112,'Footnotes list'!$D$9:$E$58,2,FALSE)=0,\"\",VLOOKUP(AS112,'Footnotes list'!$D$9:$E$58,2,FALSE) ) )","v":""},0,null,null,null,{"$f":"IF(TRIM(AX112)=\"\", \"\", IF(VLOOKUP(AX112,'Footnotes list'!$D$9:$E$58,2,FALSE)=0,\"\",VLOOKUP(AX112,'Footnotes list'!$D$9:$E$58,2,FALSE) ) )","v":""}]
[null,"TOT_X_MIN","TOT_X_MIN","Total Waste (excluding mineral waste)","HAZ","Hazardous ",{"$f":"SUM(G8,G11,G14,G17,G20,G23,G26,G29,G32,G35,G38,G41,G44,G47,G50,G53,G56,G59,G62,G65,G68,G71,G74,G77,G80,G83,G86,G95,G104)","v":0},null,null,null,{"$f":"IF(TRIM(J113)=\"\", \"\", IF(VLOOKUP(J113,'Footnotes list'!$D$9:$E$58,2,FALSE)=0,\"\",VLOOKUP(J113,'Footnotes list'!$D$9:$E$58,2,FALSE) ) )","v":""},{"$f":"SUM(L8,L11,L14,L17,L20,L23,L26,L29,L32,L35,L38,L41,L44,L47,L50,L53,L56,L59,L62,L65,L68,L71,L74,L77,L80,L83,L86,L95,L104)","v":0},null,null,null,{"$f":"IF(TRIM(O113)=\"\", \"\", IF(VLOOKUP(O113,'Footnotes list'!$D$9:$E$58,2,FALSE)=0,\"\",VLOOKUP(O113,'Footnotes list'!$D$9:$E$58,2,FALSE) ) )","v":""},{"$f":"SUM(Q8,Q11,Q14,Q17,Q20,Q23,Q26,Q29,Q32,Q35,Q38,Q41,Q44,Q47,Q50,Q53,Q56,Q59,Q62,Q65,Q68,Q71,Q74,Q77,Q80,Q83,Q86,Q95,Q104)","v":0},null,null,null,{"$f":"IF(TRIM(T113)=\"\", \"\", IF(VLOOKUP(T113,'Footnotes list'!$D$9:$E$58,2,FALSE)=0,\"\",VLOOKUP(T113,'Footnotes list'!$D$9:$E$58,2,FALSE) ) )","v":""},{"$f":"SUM(V8,V11,V14,V17,V20,V23,V26,V29,V32,V35,V38,V41,V44,V47,V50,V53,V56,V59,V62,V65,V68,V71,V74,V77,V80,V83,V86,V95,V104)","v":0},null,null,null,{"$f":"IF(TRIM(Y113)=\"\", \"\", IF(VLOOKUP(Y113,'Footnotes list'!$D$9:$E$58,2,FALSE)=0,\"\",VLOOKUP(Y113,'Footnotes list'!$D$9:$E$58,2,FALSE) ) )","v":""},{"$f":"SUM(AA8,AA11,AA14,AA17,AA20,AA23,AA26,AA29,AA32,AA35,AA38,AA41,AA44,AA47,AA50,AA53,AA56,AA59,AA62,AA65,AA68,AA71,AA74,AA77,AA80,AA83,AA86,AA95,AA104)","v":0},null,null,null,{"$f":"IF(TRIM(AD113)=\"\", \"\", IF(VLOOKUP(AD113,'Footnotes list'!$D$9:$E$58,2,FALSE)=0,\"\",VLOOKUP(AD113,'Footnotes list'!$D$9:$E$58,2,FALSE) ) )","v":""},{"$f":"SUM(AF8,AF11,AF14,AF17,AF20,AF23,AF26,AF29,AF32,AF35,AF38,AF41,AF44,AF47,AF50,AF53,AF56,AF59,AF62,AF65,AF68,AF71,AF74,AF77,AF80,AF83,AF86,AF95,AF104)","v":0},null,null,null,{"$f":"IF(TRIM(AI113)=\"\", \"\", IF(VLOOKUP(AI113,'Footnotes list'!$D$9:$E$58,2,FALSE)=0,\"\",VLOOKUP(AI113,'Footnotes list'!$D$9:$E$58,2,FALSE) ) )","v":""},{"$f":"SUM(AK8,AK11,AK14,AK17,AK20,AK23,AK26,AK29,AK32,AK35,AK38,AK41,AK44,AK47,AK50,AK53,AK56,AK59,AK62,AK65,AK68,AK71,AK74,AK77,AK80,AK83,AK86,AK95,AK104)","v":0},null,null,null,{"$f":"IF(TRIM(AN113)=\"\", \"\", IF(VLOOKUP(AN113,'Footnotes list'!$D$9:$E$58,2,FALSE)=0,\"\",VLOOKUP(AN113,'Footnotes list'!$D$9:$E$58,2,FALSE) ) )","v":""},{"$f":"SUM(AP8,AP11,AP14,AP17,AP20,AP23,AP26,AP29,AP32,AP35,AP38,AP41,AP44,AP47,AP50,AP53,AP56,AP59,AP62,AP65,AP68,AP71,AP74,AP77,AP80,AP83,AP86,AP95,AP104)","v":0},null,null,null,{"$f":"IF(TRIM(AS113)=\"\", \"\", IF(VLOOKUP(AS113,'Footnotes list'!$D$9:$E$58,2,FALSE)=0,\"\",VLOOKUP(AS113,'Footnotes list'!$D$9:$E$58,2,FALSE) ) )","v":""},{"$f":"SUM(AU8,AU11,AU14,AU17,AU20,AU23,AU26,AU29,AU32,AU35,AU38,AU41,AU44,AU47,AU50,AU53,AU56,AU59,AU62,AU65,AU68,AU71,AU74,AU77,AU80,AU83,AU86,AU95,AU104)","v":0},null,null,null,{"$f":"IF(TRIM(AX113)=\"\", \"\", IF(VLOOKUP(AX113,'Footnotes list'!$D$9:$E$58,2,FALSE)=0,\"\",VLOOKUP(AX113,'Footnotes list'!$D$9:$E$58,2,FALSE) ) )","v":""}]
[null,null,"TOT_X_MIN",null,"NHAZ","Non-hazardous",{"$f":"SUM(G9,G12,G15,G18,G21,G24,G27,G30,G33,G36,G39,G42,G45,G48,G51,G54,G57,G60,G63,G66,G69,G72,G75,G78,G81,G84,G87,G96,G105)","v":0},null,null,null,{"$f":"IF(TRIM(J114)=\"\", \"\", IF(VLOOKUP(J114,'Footnotes list'!$D$9:$E$58,2,FALSE)=0,\"\",VLOOKUP(J114,'Footnotes list'!$D$9:$E$58,2,FALSE) ) )","v":""},{"$f":"SUM(L9,L12,L15,L18,L21,L24,L27,L30,L33,L36,L39,L42,L45,L48,L51,L54,L57,L60,L63,L66,L69,L72,L75,L78,L81,L84,L87,L96,L105)","v":0},null,null,null,{"$f":"IF(TRIM(O114)=\"\", \"\", IF(VLOOKUP(O114,'Footnotes list'!$D$9:$E$58,2,FALSE)=0,\"\",VLOOKUP(O114,'Footnotes list'!$D$9:$E$58,2,FALSE) ) )","v":""},{"$f":"SUM(Q9,Q12,Q15,Q18,Q21,Q24,Q27,Q30,Q33,Q36,Q39,Q42,Q45,Q48,Q51,Q54,Q57,Q60,Q63,Q66,Q69,Q72,Q75,Q78,Q81,Q84,Q87,Q96,Q105)","v":0},null,null,null,{"$f":"IF(TRIM(T114)=\"\", \"\", IF(VLOOKUP(T114,'Footnotes list'!$D$9:$E$58,2,FALSE)=0,\"\",VLOOKUP(T114,'Footnotes list'!$D$9:$E$58,2,FALSE) ) )","v":""},{"$f":"SUM(V9,V12,V15,V18,V21,V24,V27,V30,V33,V36,V39,V42,V45,V48,V51,V54,V57,V60,V63,V66,V69,V72,V75,V78,V81,V84,V87,V96,V105)","v":0},null,null,null,{"$f":"IF(TRIM(Y114)=\"\", \"\", IF(VLOOKUP(Y114,'Footnotes list'!$D$9:$E$58,2,FALSE)=0,\"\",VLOOKUP(Y114,'Footnotes list'!$D$9:$E$58,2,FALSE) ) )","v":""},{"$f":"SUM(AA9,AA12,AA15,AA18,AA21,AA24,AA27,AA30,AA33,AA36,AA39,AA42,AA45,AA48,AA51,AA54,AA57,AA60,AA63,AA66,AA69,AA72,AA75,AA78,AA81,AA84,AA87,AA96,AA105)","v":0},null,null,null,{"$f":"IF(TRIM(AD114)=\"\", \"\", IF(VLOOKUP(AD114,'Footnotes list'!$D$9:$E$58,2,FALSE)=0,\"\",VLOOKUP(AD114,'Footnotes list'!$D$9:$E$58,2,FALSE) ) )","v":""},{"$f":"SUM(AF9,AF12,AF15,AF18,AF21,AF24,AF27,AF30,AF33,AF36,AF39,AF42,AF45,AF48,AF51,AF54,AF57,AF60,AF63,AF66,AF69,AF72,AF75,AF78,AF81,AF84,AF87,AF96,AF105)","v":0},null,null,null,{"$f":"IF(TRIM(AI114)=\"\", \"\", IF(VLOOKUP(AI114,'Footnotes list'!$D$9:$E$58,2,FALSE)=0,\"\",VLOOKUP(AI114,'Footnotes list'!$D$9:$E$58,2,FALSE) ) )","v":""},{"$f":"SUM(AK9,AK12,AK15,AK18,AK21,AK24,AK27,AK30,AK33,AK36,AK39,AK42,AK45,AK48,AK51,AK54,AK57,AK60,AK63,AK66,AK69,AK72,AK75,AK78,AK81,AK84,AK87,AK96,AK105)","v":0},null,null,null,{"$f":"IF(TRIM(AN114)=\"\", \"\", IF(VLOOKUP(AN114,'Footnotes list'!$D$9:$E$58,2,FALSE)=0,\"\",VLOOKUP(AN114,'Footnotes list'!$D$9:$E$58,2,FALSE) ) )","v":""},{"$f":"SUM(AP9,AP12,AP15,AP18,AP21,AP24,AP27,AP30,AP33,AP36,AP39,AP42,AP45,AP48,AP51,AP54,AP57,AP60,AP63,AP66,AP69,AP72,AP75,AP78,AP81,AP84,AP87,AP96,AP105)","v":0},null,null,null,{"$f":"IF(TRIM(AS114)=\"\", \"\", IF(VLOOKUP(AS114,'Footnotes list'!$D$9:$E$58,2,FALSE)=0,\"\",VLOOKUP(AS114,'Footnotes list'!$D$9:$E$58,2,FALSE) ) )","v":""},{"$f":"SUM(AU9,AU12,AU15,AU18,AU21,AU24,AU27,AU30,AU33,AU36,AU39,AU42,AU45,AU48,AU51,AU54,AU57,AU60,AU63,AU66,AU69,AU72,AU75,AU78,AU81,AU84,AU87,AU96,AU105)","v":0},null,null,null,{"$f":"IF(TRIM(AX114)=\"\", \"\", IF(VLOOKUP(AX114,'Footnotes list'!$D$9:$E$58,2,FALSE)=0,\"\",VLOOKUP(AX114,'Footnotes list'!$D$9:$E$58,2,FALSE) ) )","v":""}]
[null,null,"TOT_X_MIN",null,"HAZ_NHAZ","Total",0,null,null,null,{"$f":"IF(TRIM(J115)=\"\", \"\", IF(VLOOKUP(J115,'Footnotes list'!$D$9:$E$58,2,FALSE)=0,\"\",VLOOKUP(J115,'Footnotes list'!$D$9:$E$58,2,FALSE) ) )","v":""},0,null,null,null,{"$f":"IF(TRIM(O115)=\"\", \"\", IF(VLOOKUP(O115,'Footnotes list'!$D$9:$E$58,2,FALSE)=0,\"\",VLOOKUP(O115,'Footnotes list'!$D$9:$E$58,2,FALSE) ) )","v":""},0,null,null,null,{"$f":"IF(TRIM(T115)=\"\", \"\", IF(VLOOKUP(T115,'Footnotes list'!$D$9:$E$58,2,FALSE)=0,\"\",VLOOKUP(T115,'Footnotes list'!$D$9:$E$58,2,FALSE) ) )","v":""},0,null,null,null,{"$f":"IF(TRIM(Y115)=\"\", \"\", IF(VLOOKUP(Y115,'Footnotes list'!$D$9:$E$58,2,FALSE)=0,\"\",VLOOKUP(Y115,'Footnotes list'!$D$9:$E$58,2,FALSE) ) )","v":""},0,null,null,null,{"$f":"IF(TRIM(AD115)=\"\", \"\", IF(VLOOKUP(AD115,'Footnotes list'!$D$9:$E$58,2,FALSE)=0,\"\",VLOOKUP(AD115,'Footnotes list'!$D$9:$E$58,2,FALSE) ) )","v":""},0,null,null,null,{"$f":"IF(TRIM(AI115)=\"\", \"\", IF(VLOOKUP(AI115,'Footnotes list'!$D$9:$E$58,2,FALSE)=0,\"\",VLOOKUP(AI115,'Footnotes list'!$D$9:$E$58,2,FALSE) ) )","v":""},0,null,null,null,{"$f":"IF(TRIM(AN115)=\"\", \"\", IF(VLOOKUP(AN115,'Footnotes list'!$D$9:$E$58,2,FALSE)=0,\"\",VLOOKUP(AN115,'Footnotes list'!$D$9:$E$58,2,FALSE) ) )","v":""},0,null,null,null,{"$f":"IF(TRIM(AS115)=\"\", \"\", IF(VLOOKUP(AS115,'Footnotes list'!$D$9:$E$58,2,FALSE)=0,\"\",VLOOKUP(AS115,'Footnotes list'!$D$9:$E$58,2,FALSE) ) )","v":""},0,null,null,null,{"$f":"IF(TRIM(AX115)=\"\", \"\", IF(VLOOKUP(AX115,'Footnotes list'!$D$9:$E$58,2,FALSE)=0,\"\",VLOOKUP(AX115,'Footnotes list'!$D$9:$E$58,2,FALSE) ) )","v":""}]
[null,"TOTAL","TOTAL","Total Waste ","HAZ","Hazardous ",{"$f":"SUM(G8,G11,G14,G17,G20,G23,G26,G29,G32,G35,G38,G41,G44,G47,G50,G53,G56,G59,G62,G65,G68,G71,G74,G77,G80,G83,G86,G89,G92,G95,G98,G101,G104)","v":0},null,null,null,{"$f":"IF(TRIM(J116)=\"\", \"\", IF(VLOOKUP(J116,'Footnotes list'!$D$9:$E$58,2,FALSE)=0,\"\",VLOOKUP(J116,'Footnotes list'!$D$9:$E$58,2,FALSE) ) )","v":""},{"$f":"SUM(L8,L11,L14,L17,L20,L23,L26,L29,L32,L35,L38,L41,L44,L47,L50,L53,L56,L59,L62,L65,L68,L71,L74,L77,L80,L83,L86,L89,L92,L95,L98,L101,L104)","v":0},null,null,null,{"$f":"IF(TRIM(O116)=\"\", \"\", IF(VLOOKUP(O116,'Footnotes list'!$D$9:$E$58,2,FALSE)=0,\"\",VLOOKUP(O116,'Footnotes list'!$D$9:$E$58,2,FALSE) ) )","v":""},{"$f":"SUM(Q8,Q11,Q14,Q17,Q20,Q23,Q26,Q29,Q32,Q35,Q38,Q41,Q44,Q47,Q50,Q53,Q56,Q59,Q62,Q65,Q68,Q71,Q74,Q77,Q80,Q83,Q86,Q89,Q92,Q95,Q98,Q101,Q104)","v":0},null,null,null,{"$f":"IF(TRIM(T116)=\"\", \"\", IF(VLOOKUP(T116,'Footnotes list'!$D$9:$E$58,2,FALSE)=0,\"\",VLOOKUP(T116,'Footnotes list'!$D$9:$E$58,2,FALSE) ) )","v":""},{"$f":"SUM(V8,V11,V14,V17,V20,V23,V26,V29,V32,V35,V38,V41,V44,V47,V50,V53,V56,V59,V62,V65,V68,V71,V74,V77,V80,V83,V86,V89,V92,V95,V98,V101,V104)","v":0},null,null,null,{"$f":"IF(TRIM(Y116)=\"\", \"\", IF(VLOOKUP(Y116,'Footnotes list'!$D$9:$E$58,2,FALSE)=0,\"\",VLOOKUP(Y116,'Footnotes list'!$D$9:$E$58,2,FALSE) ) )","v":""},{"$f":"SUM(AA8,AA11,AA14,AA17,AA20,AA23,AA26,AA29,AA32,AA35,AA38,AA41,AA44,AA47,AA50,AA53,AA56,AA59,AA62,AA65,AA68,AA71,AA74,AA77,AA80,AA83,AA86,AA89,AA92,AA95,AA98,AA101,AA104)","v":0},null,null,null,{"$f":"IF(TRIM(AD116)=\"\", \"\", IF(VLOOKUP(AD116,'Footnotes list'!$D$9:$E$58,2,FALSE)=0,\"\",VLOOKUP(AD116,'Footnotes list'!$D$9:$E$58,2,FALSE) ) )","v":""},{"$f":"SUM(AF8,AF11,AF14,AF17,AF20,AF23,AF26,AF29,AF32,AF35,AF38,AF41,AF44,AF47,AF50,AF53,AF56,AF59,AF62,AF65,AF68,AF71,AF74,AF77,AF80,AF83,AF86,AF89,AF92,AF95,AF98,AF101,AF104)","v":0},null,null,null,{"$f":"IF(TRIM(AI116)=\"\", \"\", IF(VLOOKUP(AI116,'Footnotes list'!$D$9:$E$58,2,FALSE)=0,\"\",VLOOKUP(AI116,'Footnotes list'!$D$9:$E$58,2,FALSE) ) )","v":""},{"$f":"SUM(AK8,AK11,AK14,AK17,AK20,AK23,AK26,AK29,AK32,AK35,AK38,AK41,AK44,AK47,AK50,AK53,AK56,AK59,AK62,AK65,AK68,AK71,AK74,AK77,AK80,AK83,AK86,AK89,AK92,AK95,AK98,AK101,AK104)","v":0},null,null,null,{"$f":"IF(TRIM(AN116)=\"\", \"\", IF(VLOOKUP(AN116,'Footnotes list'!$D$9:$E$58,2,FALSE)=0,\"\",VLOOKUP(AN116,'Footnotes list'!$D$9:$E$58,2,FALSE) ) )","v":""},{"$f":"SUM(AP8,AP11,AP14,AP17,AP20,AP23,AP26,AP29,AP32,AP35,AP38,AP41,AP44,AP47,AP50,AP53,AP56,AP59,AP62,AP65,AP68,AP71,AP74,AP77,AP80,AP83,AP86,AP89,AP92,AP95,AP98,AP101,AP104)","v":0},null,null,null,{"$f":"IF(TRIM(AS116)=\"\", \"\", IF(VLOOKUP(AS116,'Footnotes list'!$D$9:$E$58,2,FALSE)=0,\"\",VLOOKUP(AS116,'Footnotes list'!$D$9:$E$58,2,FALSE) ) )","v":""},{"$f":"SUM(AU8,AU11,AU14,AU17,AU20,AU23,AU26,AU29,AU32,AU35,AU38,AU41,AU44,AU47,AU50,AU53,AU56,AU59,AU62,AU65,AU68,AU71,AU74,AU77,AU80,AU83,AU86,AU89,AU92,AU95,AU98,AU101,AU104)","v":0},null,null,null,{"$f":"IF(TRIM(AX116)=\"\", \"\", IF(VLOOKUP(AX116,'Footnotes list'!$D$9:$E$58,2,FALSE)=0,\"\",VLOOKUP(AX116,'Footnotes list'!$D$9:$E$58,2,FALSE) ) )","v":""}]
[null,null,"TOTAL",null,"NHAZ","Non-hazardous",{"$f":"SUM(G9,G12,G15,G18,G21,G24,G27,G30,G33,G36,G39,G42,G45,G48,G51,G54,G57,G60,G63,G66,G69,G72,G75,G78,G81,G84,G87,G90,G93,G96,G99,G102,G105)","v":0},null,null,null,{"$f":"IF(TRIM(J117)=\"\", \"\", IF(VLOOKUP(J117,'Footnotes list'!$D$9:$E$58,2,FALSE)=0,\"\",VLOOKUP(J117,'Footnotes list'!$D$9:$E$58,2,FALSE) ) )","v":""},{"$f":"SUM(L9,L12,L15,L18,L21,L24,L27,L30,L33,L36,L39,L42,L45,L48,L51,L54,L57,L60,L63,L66,L69,L72,L75,L78,L81,L84,L87,L90,L93,L96,L99,L102,L105)","v":0},null,null,null,{"$f":"IF(TRIM(O117)=\"\", \"\", IF(VLOOKUP(O117,'Footnotes list'!$D$9:$E$58,2,FALSE)=0,\"\",VLOOKUP(O117,'Footnotes list'!$D$9:$E$58,2,FALSE) ) )","v":""},{"$f":"SUM(Q9,Q12,Q15,Q18,Q21,Q24,Q27,Q30,Q33,Q36,Q39,Q42,Q45,Q48,Q51,Q54,Q57,Q60,Q63,Q66,Q69,Q72,Q75,Q78,Q81,Q84,Q87,Q90,Q93,Q96,Q99,Q102,Q105)","v":0},null,null,null,{"$f":"IF(TRIM(T117)=\"\", \"\", IF(VLOOKUP(T117,'Footnotes list'!$D$9:$E$58,2,FALSE)=0,\"\",VLOOKUP(T117,'Footnotes list'!$D$9:$E$58,2,FALSE) ) )","v":""},{"$f":"SUM(V9,V12,V15,V18,V21,V24,V27,V30,V33,V36,V39,V42,V45,V48,V51,V54,V57,V60,V63,V66,V69,V72,V75,V78,V81,V84,V87,V90,V93,V96,V99,V102,V105)","v":0},null,null,null,{"$f":"IF(TRIM(Y117)=\"\", \"\", IF(VLOOKUP(Y117,'Footnotes list'!$D$9:$E$58,2,FALSE)=0,\"\",VLOOKUP(Y117,'Footnotes list'!$D$9:$E$58,2,FALSE) ) )","v":""},{"$f":"SUM(AA9,AA12,AA15,AA18,AA21,AA24,AA27,AA30,AA33,AA36,AA39,AA42,AA45,AA48,AA51,AA54,AA57,AA60,AA63,AA66,AA69,AA72,AA75,AA78,AA81,AA84,AA87,AA90,AA93,AA96,AA99,AA102,AA105)","v":0},null,null,null,{"$f":"IF(TRIM(AD117)=\"\", \"\", IF(VLOOKUP(AD117,'Footnotes list'!$D$9:$E$58,2,FALSE)=0,\"\",VLOOKUP(AD117,'Footnotes list'!$D$9:$E$58,2,FALSE) ) )","v":""},{"$f":"SUM(AF9,AF12,AF15,AF18,AF21,AF24,AF27,AF30,AF33,AF36,AF39,AF42,AF45,AF48,AF51,AF54,AF57,AF60,AF63,AF66,AF69,AF72,AF75,AF78,AF81,AF84,AF87,AF90,AF93,AF96,AF99,AF102,AF105)","v":0},null,null,null,{"$f":"IF(TRIM(AI117)=\"\", \"\", IF(VLOOKUP(AI117,'Footnotes list'!$D$9:$E$58,2,FALSE)=0,\"\",VLOOKUP(AI117,'Footnotes list'!$D$9:$E$58,2,FALSE) ) )","v":""},{"$f":"SUM(AK9,AK12,AK15,AK18,AK21,AK24,AK27,AK30,AK33,AK36,AK39,AK42,AK45,AK48,AK51,AK54,AK57,AK60,AK63,AK66,AK69,AK72,AK75,AK78,AK81,AK84,AK87,AK90,AK93,AK96,AK99,AK102,AK105)","v":0},null,null,null,{"$f":"IF(TRIM(AN117)=\"\", \"\", IF(VLOOKUP(AN117,'Footnotes list'!$D$9:$E$58,2,FALSE)=0,\"\",VLOOKUP(AN117,'Footnotes list'!$D$9:$E$58,2,FALSE) ) )","v":""},{"$f":"SUM(AP9,AP12,AP15,AP18,AP21,AP24,AP27,AP30,AP33,AP36,AP39,AP42,AP45,AP48,AP51,AP54,AP57,AP60,AP63,AP66,AP69,AP72,AP75,AP78,AP81,AP84,AP87,AP90,AP93,AP96,AP99,AP102,AP105)","v":0},null,null,null,{"$f":"IF(TRIM(AS117)=\"\", \"\", IF(VLOOKUP(AS117,'Footnotes list'!$D$9:$E$58,2,FALSE)=0,\"\",VLOOKUP(AS117,'Footnotes list'!$D$9:$E$58,2,FALSE) ) )","v":""},{"$f":"SUM(AU9,AU12,AU15,AU18,AU21,AU24,AU27,AU30,AU33,AU36,AU39,AU42,AU45,AU48,AU51,AU54,AU57,AU60,AU63,AU66,AU69,AU72,AU75,AU78,AU81,AU84,AU87,AU90,AU93,AU96,AU99,AU102,AU105)","v":0},null,null,null,{"$f":"IF(TRIM(AX117)=\"\", \"\", IF(VLOOKUP(AX117,'Footnotes list'!$D$9:$E$58,2,FALSE)=0,\"\",VLOOKUP(AX117,'Footnotes list'!$D$9:$E$58,2,FALSE) ) )","v":""}]
[null,null,"TOTAL",null,"HAZ_NHAZ","Total",0,null,null,null,{"$f":"IF(TRIM(J118)=\"\", \"\", IF(VLOOKUP(J118,'Footnotes list'!$D$9:$E$58,2,FALSE)=0,\"\",VLOOKUP(J118,'Footnotes list'!$D$9:$E$58,2,FALSE) ) )","v":""},0,null,null,null,{"$f":"IF(TRIM(O118)=\"\", \"\", IF(VLOOKUP(O118,'Footnotes list'!$D$9:$E$58,2,FALSE)=0,\"\",VLOOKUP(O118,'Footnotes list'!$D$9:$E$58,2,FALSE) ) )","v":""},0,null,null,null,{"$f":"IF(TRIM(T118)=\"\", \"\", IF(VLOOKUP(T118,'Footnotes list'!$D$9:$E$58,2,FALSE)=0,\"\",VLOOKUP(T118,'Footnotes list'!$D$9:$E$58,2,FALSE) ) )","v":""},0,null,null,null,{"$f":"IF(TRIM(Y118)=\"\", \"\", IF(VLOOKUP(Y118,'Footnotes list'!$D$9:$E$58,2,FALSE)=0,\"\",VLOOKUP(Y118,'Footnotes list'!$D$9:$E$58,2,FALSE) ) )","v":""},0,null,null,null,{"$f":"IF(TRIM(AD118)=\"\", \"\", IF(VLOOKUP(AD118,'Footnotes list'!$D$9:$E$58,2,FALSE)=0,\"\",VLOOKUP(AD118,'Footnotes list'!$D$9:$E$58,2,FALSE) ) )","v":""},0,null,null,null,{"$f":"IF(TRIM(AI118)=\"\", \"\", IF(VLOOKUP(AI118,'Footnotes list'!$D$9:$E$58,2,FALSE)=0,\"\",VLOOKUP(AI118,'Footnotes list'!$D$9:$E$58,2,FALSE) ) )","v":""},0,null,null,null,{"$f":"IF(TRIM(AN118)=\"\", \"\", IF(VLOOKUP(AN118,'Footnotes list'!$D$9:$E$58,2,FALSE)=0,\"\",VLOOKUP(AN118,'Footnotes list'!$D$9:$E$58,2,FALSE) ) )","v":""},0,null,null,null,{"$f":"IF(TRIM(AS118)=\"\", \"\", IF(VLOOKUP(AS118,'Footnotes list'!$D$9:$E$58,2,FALSE)=0,\"\",VLOOKUP(AS118,'Footnotes list'!$D$9:$E$58,2,FALSE) ) )","v":""},0,null,null,null,{"$f":"IF(TRIM(AX118)=\"\", \"\", IF(VLOOKUP(AX118,'Footnotes list'!$D$9:$E$58,2,FALSE)=0,\"\",VLOOKUP(AX118,'Footnotes list'!$D$9:$E$58,2,FALSE) ) )","v":""}]
[]
[null,"Notes:"]
[]
[null,"Cell shading:"]
[null,"White: Data provision is mandatory."]
[null,"Light grey: Automatic calculation. Formula can exceptionally be changed by a value"]
[null,"Light orange: Footnotes (only to be filled-in when relevant)"]
[null,"Black: Not applicable"]
[]
[]
[null,"Valid standard footnotes:"]
[null,"     B -  Break in time series"]
[null,"     E -  Estimate"]
[null,"     P -  Provisional"]
[]
[null,"Valid confidentiality footnotes:"]
[null,"     C -  Confidential"]
[null,"     D -  Secondary confidentiality set by the sender, not for publication"]

{"sheet":"StandardFootnotes","index":10,"n_rows":3,"n_cols":7,"rows_kept":3,"cut":false,"hidden":true,"merged":[]}
["Severity","SheetName","Top Left Cell","Bottom Right Cell","Row Step","Column Step","Footnote type \n(CONF/STATUS)"]
["Error","Table_1","H8","AV118",1,5,"STATUS"]
["Error","Table_1","I8","AW118",1,5,"CONF"]

{"sheet":"Lists","index":11,"n_rows":43,"n_cols":13,"rows_kept":43,"cut":false,"hidden":true,"merged":[[1,9,1,10],[5,9,5,10],[10,9,10,10],[15,9,15,10]]}
["Country label","Country code",null,"Valid flags","Label",null,"Code","Description",null,"Textual variables","String",null,"WASTE-2024-DC"]
["Belgium","BE",null,"B","Break in time series",null,"C","confidential",null,"Institutional names"]
["Bulgaria","BG",null,"E","Estimated data",null,"D","secondary confidentiality set by the sender",null,"Eurostat Text","Statistical Office of the European Union"]
["Czechia","CZ",null,"P","Provisional",null,null,null,null,"Directorate Text","Directorate E: Sectoral and regional statistics"]
["Denmark","DK",null,"BE","Break in time series, estimated",null,null,null,null,"Unit Text","Unit E-2: Environmental statistics and accounts; sustainable development"]
["Germany","DE",null,"BP","Break in time series, provisional",null,null,null,null,"Data collection information"]
["Estonia","EE",null,"EP","Estimated, provisional",null,null,null,null,"Data Collection Text","Biennial Waste Statistics Regulation - Waste Treatment"]
["Ireland","IE",null,"BEP","Break in time series, estimated, provisional",null,null,null,null,"Data Collection Year",2024]
["Greece","EL",null,null,null,null,null,null,null,"Launching date","20 May 2024"]
["Spain","ES",null,null,null,null,null,null,null,"Submission deadline","30 June 2024"]
["France","FR",null,null,null,null,null,null,null,"EDAMIS data"]
["Croatia","HR",null,null,null,null,null,null,null,"Domain name","WASTE"]
["Italy","IT",null,null,null,null,null,null,null,"Dataset name","WASTE_TRT"]
["Cyprus","CY",null,null,null,null,null,null,null,"Web page","https://webgate.ec.europa.eu/edamis/helpcenter/website/index.htm"]
["Latvia","LV",null,null,null,null,null,null,null,"Functional e-mail","estat-support-edamis@ec.europa.eu"]
["Lithuania","LT",null,null,null,null,null,null,null,"E2 information"]
["Luxembourg","LU",null,null,null,null,null,null,null,"Telephone","(+352) 4301 33213"]
["Hungary","HU",null,null,null,null,null,null,null,"Contact","ESTAT-WASTE-STATISTICS@EC.EUROPA.EU"]
["Malta","MT",null,null,null,null,null,null,null,"Methodology URL","https://ec.europa.eu/eurostat/web/waste/methodology"]
["Netherlands","NL",null,null,null,null,null,null,null,"Legislation URL","https://ec.europa.eu/eurostat/web/waste/legislation"]
["Austria","AT"]
["Poland","PL"]
["Portugal","PT"]
["Romania","RO"]
["Slovenia","SI"]
["Slovakia","SK"]
["Finland","FI"]
["Sweden","SE"]
["United Kingdom","UK"]
["Iceland","IS"]
["Liechtenstein","LI"]
["Norway","NO"]
["Switzerland","CH"]
["Montenegro","ME"]
["North Macedonia","MK"]
["Albania","AL"]
["Serbia","RS"]
["Turkey","TR"]
["Bosnia and Herzegovina","BA"]
["Kosovo (UNSCR 1244)","XK"]
["Georgia","GE"]
["Moldova","MD"]
["Ukraine","UE"]

{"sheet":"Changelog","index":12,"n_rows":8,"n_cols":7,"rows_kept":8,"cut":false,"hidden":true,"merged":[]}
["Changed by","SheetName","Cell","Change","Version","Date","REMARKS"]
["CDD","ChangeLog",null,"Sheet was added. Changes before 18/05/2022 do not appear in this log.","v0.8m22","May 2022"]
[null,null,null,"Add macros m21"]
[null,null,null,"Include SSS \"ForbiddenStrings\""]
[null,"CountryName",null,"This QC has been merge into \"mandatory\" QC"]
[null,"ALL",null,"Adapt to Style Guide for E2 Waste questionnaires"]
[null,"MacroBehaviour",null,"Include MacroBehaviour sheet (see the sheet content for details)"]
["CDD","Table_1 (COPY-PASTING)",null,"Introduced to allow copy-pasting from that sheet to the reporting one"]

{"sheet":"Pre-filling parameters","index":13,"n_rows":3,"n_cols":11,"rows_kept":3,"cut":false,"hidden":true,"merged":[]}
["Sheet From","Sheet To","Top Left Cell","Bottom Right Cell","Row Step","Column Step","Confidentiality flag\n(YES/NO)","Replace locked cells\n(YES/NO)","Hide sheet after pasting\n(YES/NO)","Footnote Call-out (number) exists\n(YES/NO)"]
["Table_1 (COPY-PASTING)","Table_1","G8","AY106",1,5,"YES","NO","NO","YES","Detailed waste codes"]
["Table_1 (COPY-PASTING)","Table_1","G107","AY118",1,5,"YES","NO","NO","YES","GRAND TOTAL "]

{"sheet":"MacroBehaviour","index":14,"n_rows":3,"n_cols":7,"rows_kept":3,"cut":false,"hidden":true,"merged":[[0,0,0,2],[0,4,0,6]]}
["COMMON TO ALL (OR MOST)  QUESTIONNAIRE",null,null,null,"SPECIFIC TO THIS QUESTIONNAIRE"]
["Parameter","Value","(Valid values)",null,"Parameter","Value","(Valid values)"]
["DevelopmentMode",false,"TRUE (during development)\nFALSE (For real reporting and testing, prevents copy-paste of formats by the user)"]

{"sheet":"Locks","index":15,"n_rows":36,"n_cols":8,"rows_kept":36,"cut":false,"hidden":true,"merged":[]}
["SheetName","Top Left Cell","Bottom Right Cell","Row Step","Column Step","Lock Type","Focus Back To","IMPORTANT: The same cell must not be included in two ranges. In such a case the switch will operate twice, leaving the cell in the same original state"]
["Table_1","G10","V106",3,5,"Formulas","G8","Hazardous + non hazardous (left block, until RCV_R_B)"]
["Table_1","AF10","AK106",3,5,"Formulas","G8","Hazardous + non hazardous (Middle-left block, between RCV_R_B and DSP_L_OTH)"]
["Table_1","G107","AU118",1,5,"Formulas","G8","Bottom grand totals"]
["Table_1","AA8","AA8",999,999,"Formulas","G8","RCV_R_B"]
["Table_1","AA10","AA14",1,999,"Formulas","G8","RCV_R_B"]
["Table_1","AA16","AA28",1,999,"Formulas","G8","RCV_R_B"]
["Table_1","AA30","AA31",1,999,"Formulas","G8","RCV_R_B"]
["Table_1","AA33","AA34",1,999,"Formulas","G8","RCV_R_B"]
["Table_1","AA36","AA40",1,999,"Formulas","G8","RCV_R_B"]
["Table_1","AA42","AA43",1,999,"Formulas","G8","RCV_R_B"]
["Table_1","AA45","AA46",1,999,"Formulas","G8","RCV_R_B"]
["Table_1","AA48","AA52",1,999,"Formulas","G8","RCV_R_B"]
["Table_1","AA54","AA56",1,999,"Formulas","G8","RCV_R_B"]
["Table_1","AA58","AA67",1,999,"Formulas","G8","RCV_R_B"]
["Table_1","AA69","AA70",1,999,"Formulas","G8","RCV_R_B"]
["Table_1","AA72","AA73",1,999,"Formulas","G8","RCV_R_B"]
["Table_1","AA75","AA76",1,999,"Formulas","G8","RCV_R_B"]
["Table_1","AA78","AA85",1,999,"Formulas","G8","RCV_R_B"]
["Table_1","AA87","AA106",1,999,"Formulas","G8","RCV_R_B"]
["Table_1","AP8","AU8",999,5,"Formulas","G8","DSP_L_OTH and TRT"]
["Table_1","AP10","AU14",1,5,"Formulas","G8","DSP_L_OTH and TRT"]
["Table_1","AP16","AU28",1,5,"Formulas","G8","DSP_L_OTH and TRT"]
["Table_1","AP30","AU31",1,5,"Formulas","G8","DSP_L_OTH and TRT"]
["Table_1","AP33","AU34",1,5,"Formulas","G8","DSP_L_OTH and TRT"]
["Table_1","AP36","AU40",1,5,"Formulas","G8","DSP_L_OTH and TRT"]
["Table_1","AP42","AU43",1,5,"Formulas","G8","DSP_L_OTH and TRT"]
["Table_1","AP45","AU46",1,5,"Formulas","G8","DSP_L_OTH and TRT"]
["Table_1","AP48","AU52",1,5,"Formulas","G8","DSP_L_OTH and TRT"]
["Table_1","AP54","AU56",1,5,"Formulas","G8","DSP_L_OTH and TRT"]
["Table_1","AP58","AU67",1,5,"Formulas","G8","DSP_L_OTH and TRT"]
["Table_1","AP69","AU70",1,5,"Formulas","G8","DSP_L_OTH and TRT"]
["Table_1","AP72","AU73",1,5,"Formulas","G8","DSP_L_OTH and TRT"]
["Table_1","AP75","AU76",1,5,"Formulas","G8","DSP_L_OTH and TRT"]
["Table_1","AP78","AU85",1,5,"Formulas","G8","DSP_L_OTH and TRT"]
["Table_1","AP87","AU106",1,5,"Formulas","G8","DSP_L_OTH and TRT"]

{"sheet":"Summations","index":16,"n_rows":110,"n_cols":13,"rows_kept":110,"cut":false,"hidden":true,"merged":[[11,5,11,6]]}
["Severity","Sheet Name","List of Cells\n (first block)","First Total Cell (first block)","Last Total Cell\n(Last block)","Row Block Repetition Step","Column Block Repetition Step","Greater or Equal","Valid Threshold","Only if all data is available","Non compliance Is Valid If Footnote Exists","Footnote Shift From Value","Display text in error"]
["Error","Table_1","G8,G11,G14,G17,G20,G26,G29,G32,G35,G38,G41,G44,G47,G50,G53,G56,G59,G62,G65,G68,G71,G74,G77,G80,G86,G89,G92,G95,G98,G101","G107","AU109",1,5,"EQ",0.1,"NO","YES",3,"Primary Waste total is not correct"]
["Error","Table_1","G23,G83,G104","G110","AU112",1,5,"EQ",0.1,"NO","YES",3,"Secondary Waste total is not correct"]
["Error","Table_1","G8,G11,G14,G17,G20,G23,G26,G29,G32,G35,G38,G41,G44,G47,G50,G53,G56,G59,G62,G65,G68,G71,G74,G77,G80,G83,G86,G95,G104","G113","AU115",1,5,"EQ",0.1,"NO","YES",3,"Total Waste (excluding mineral waste) is not correct"]
["Error","Table_1","G8,G11,G14,G17,G20,G23,G26,G29,G32,G35,G38,G41,G44,G47,G50,G53,G56,G59,G62,G65,G68,G71,G74,G77,G80,G83,G86,G89,G92,G95,G98,G101,G104","G116","AU118",1,5,"EQ",0.1,"NO","YES",3,"Waste total is not correct"]
["Error","Table_1","G8,G9","G10","AU118",3,5,"EQ",0.1,"NO","YES",3,"Total = Haz. + Non-Haz."]
["Error","Table_1","Q8,V8","AA8","AA118",1,9999,"EQ",0.1,"NO","YES",3,"RCV_R_B must be equal to RCV_R + RCV_B"]
["Error","Table_1","AF8,AK8","AP8","AP118",1,9999,"EQ",0.1,"NO","YES",3,"DSP_L_OTH must be equal to DSP_L + DSP_OTH"]
["Error","Table_1","G8,L8,AA8,AP8","AU8","AU118",1,9999,"EQ",0.1,"NO","YES",3,"TRT = RCV_R + DSP_I + RCV_R_B + DSP_L_OTH"]
[]
[]
[null,null,null,null,null,"Must be > 0 for a not relevant dimension. Else you get an infinite loop",null,"EQ or GE or GT","GT does not admit threshold","NO or YES",null,"Not Applicable if the previous column is \"NO\""]
[]
["DESCRIPTION"]
["This sheet is meant to define the validation for summations in a row or in a column."]
["- A block is defined as a sequence of addendums in the same row or column"]
["- Only the first block must be explicitly defined"]
["- The block can be repeated at regular patterns through rows and columns at the same time"]
[]
[]
["PARAMETRES"]
["SheetName",null,"Name of the sheet to be validated (e.g. Table 1)"]
["List of Cells\n (first block)",null,"First cell in the first block to be validated"]
["First TotalCell (first block)"]
["Last TotalCell (Last block)"]
["Row Block Repetition Step"]
["Column Block Repetition Step"]
["Greater or Equal"]
["Valid Threshold"]
["Only if all data is available"]
["Display text in error",null,"Valid values: EQ (Strictly equal); GE (Greater or Equal); GT (Strictly greater - No threshold will be considered)"]
[]
[]
[]
[]
[]
[]
[]
[]
[]
[]
[]
[]
[]
[]
[]
[]
[]
[]
[]
[]
[]
[]
[]
[]
[]
[]
[]
[]
[]
[]
[]
[]
[]
[]
[]
[]
[]
[]
[]
[]
[]
[]
[]
[]
[]
[]
[]
[]
[]
[]
[]
[]
[]
[]
[]
[]
[]
[]
[]
[]
[]
[]
[]
[]
[]
[]
[]
[]
[]
[]
[]
[]
[]
[]
[]
[]
[]
[]
[null,null,null,{"$error":"#NAME?"}]

{"sheet":"Mandatory","index":17,"n_rows":20,"n_cols":9,"rows_kept":20,"cut":false,"hidden":true,"merged":[]}
["Severity","SheetName","Top Left Cell","Bottom Right Cell","Row Step","Column Step","Empty Is Valid If Footnote Exists","Footnote Shift From Value"]
["Error","GETTING STARTED","E9","E10",1,999,"NO",999,"STANDARD FOR ALL QUESTIONNAIRES"]
["Error","GETTING STARTED","D14","D22",2,999,"NO",999]
["Error","Table_1","G8","AU8",1,5,"YES",4]
["Error","Table_1","G10","AU14",1,5,"YES",4]
["Error","Table_1","G16","AU28",1,5,"YES",4]
["Error","Table_1","G30","AU31",1,5,"YES",4]
["Error","Table_1","G33","AU34",1,5,"YES",4]
["Error","Table_1","G36","AU40",1,5,"YES",4]
["Error","Table_1","G42","AU43",1,5,"YES",4]
["Error","Table_1","G45","AU46",1,5,"YES",4]
["Error","Table_1","G48","AU52",1,5,"YES",4]
["Error","Table_1","G54","AU56",1,5,"YES",4]
["Error","Table_1","G56","AU56",1,5,"YES",4]
["Error","Table_1","G58","AU67",1,5,"YES",4]
["Error","Table_1","G69","AU70",1,5,"YES",4]
["Error","Table_1","G72","AU73",1,5,"YES",4]
["Error","Table_1","G75","AU76",1,5,"YES",4]
["Error","Table_1","G78","AU85",1,5,"YES",4]
["Error","Table_1","G87","AU118",1,5,"YES",4]

{"sheet":"x IsFormula","index":18,"n_rows":36,"n_cols":7,"rows_kept":36,"cut":false,"hidden":true,"merged":[]}
["Severity","Sheet Name","Top Left Cell","Bottom Right Cell","Row Step","Column Step","CDD: Validation removed because all summations are \"EQ\". Hence this validation has no added value"]
["Info","Table_1","G10","V106",3,5,"Hazardous + non hazardous (left block, until RCV_R_B)"]
["Info","Table_1","AF10","AK106",3,5,"Hazardous + non hazardous (Middle-left block, between RCV_R_B and DSP_L_OTH)"]
["Info","Table_1","G107","AU118",1,5,"Bottom grand totals"]
["Info","Table_1","AA8","AA8",999,999,"RCV_R_B"]
["Info","Table_1","AA10","AA14",1,999,"RCV_R_B"]
["Info","Table_1","AA16","AA28",1,999,"RCV_R_B"]
["Info","Table_1","AA30","AA31",1,999,"RCV_R_B"]
["Info","Table_1","AA33","AA34",1,999,"RCV_R_B"]
["Info","Table_1","AA36","AA40",1,999,"RCV_R_B"]
["Info","Table_1","AA42","AA43",1,999,"RCV_R_B"]
["Info","Table_1","AA45","AA46",1,999,"RCV_R_B"]
["Info","Table_1","AA48","AA52",1,999,"RCV_R_B"]
["Info","Table_1","AA54","AA56",1,999,"RCV_R_B"]
["Info","Table_1","AA58","AA67",1,999,"RCV_R_B"]
["Info","Table_1","AA69","AA70",1,999,"RCV_R_B"]
["Info","Table_1","AA72","AA73",1,999,"RCV_R_B"]
["Info","Table_1","AA75","AA76",1,999,"RCV_R_B"]
["Info","Table_1","AA78","AA85",1,999,"RCV_R_B"]
["Info","Table_1","AA87","AA106",1,999,"RCV_R_B"]
["Info","Table_1","AP8","AU8",999,5,"DSP_L_OTH and TRT"]
["Info","Table_1","AP10","AU14",1,5,"DSP_L_OTH and TRT"]
["Info","Table_1","AP16","AU28",1,5,"DSP_L_OTH and TRT"]
["Info","Table_1","AP30","AU31",1,5,"DSP_L_OTH and TRT"]
["Info","Table_1","AP33","AU34",1,5,"DSP_L_OTH and TRT"]
["Info","Table_1","AP36","AU40",1,5,"DSP_L_OTH and TRT"]
["Info","Table_1","AP42","AU43",1,5,"DSP_L_OTH and TRT"]
["Info","Table_1","AP45","AU46",1,5,"DSP_L_OTH and TRT"]
["Info","Table_1","AP48","AU52",1,5,"DSP_L_OTH and TRT"]
["Info","Table_1","AP54","AU56",1,5,"DSP_L_OTH and TRT"]
["Info","Table_1","AP58","AU67",1,5,"DSP_L_OTH and TRT"]
["Info","Table_1","AP69","AU70",1,5,"DSP_L_OTH and TRT"]
["Info","Table_1","AP72","AU73",1,5,"DSP_L_OTH and TRT"]
["Info","Table_1","AP75","AU76",1,5,"DSP_L_OTH and TRT"]
["Info","Table_1","AP78","AU85",1,5,"DSP_L_OTH and TRT"]
["Info","Table_1","AP87","AU106",1,5,"DSP_L_OTH and TRT"]

{"sheet":"MustNotBeNegative","index":19,"n_rows":2,"n_cols":6,"rows_kept":2,"cut":false,"hidden":true,"merged":[]}
["Severity","SheetName","TopLeftCell","BottomRightCell","RowStep","ColumnStep"]
["Error","Table_1","G8","AU118",1,5]

{"sheet":"ForbiddenStrings","index":20,"n_rows":5,"n_cols":8,"rows_kept":5,"cut":false,"hidden":true,"merged":[]}
["Severity","SheetName","TopLeftCell","BottomRightCell","RowStep","ColumnStep","ForbiddenString","Display text in error"]
["Warning","Footnotes list","E9","E58",1,999,"not available","Please verify the explanatory note sufficiently explains why the data is not available"]
["Warning","Footnotes list","E9","E58",1,999,"not reported","Please verify the explanatory note sufficiently explains why the data is not available"]
["Warning","Footnotes list","E9","E58",1,999,"unavailable data","Please verify the explanatory note sufficiently explains why the data is not available"]
["Warning","Footnotes list","E9","E58",1,999,"no data available","Please verify the explanatory note sufficiently explains why the data is not available"]

{"sheet":"FootnoteContent","index":21,"n_rows":2,"n_cols":7,"rows_kept":2,"cut":false,"hidden":true,"merged":[]}
["Severity","SheetName","TopLeftCell","BottomRightCell","RowStep","ColumnStep","DistanceFromReferenceToText"]
["Error","Table_1","J8","AX118",1,5,1]

{"sheet":"IsNumeric","index":22,"n_rows":2,"n_cols":6,"rows_kept":2,"cut":false,"hidden":true,"merged":[]}
["Severity","SheetName","TopLeftCell","BottomRightCell","RowStep","ColumnStep"]
["Error","Table_1","G8","AU118",1,5]

{"sheet":"Table_1 (COPY)","index":23,"n_rows":136,"n_cols":51,"rows_kept":136,"cut":false,"hidden":true,"merged":[[4,26,4,30],[4,31,4,35],[10,1,12,1],[10,3,12,3],[4,36,4,40],[7,1,9,1],[7,3,9,3],[4,41,4,45],[4,46,4,50],[6,1,6,5],[6,9,6,10],[6,14,6,15],[6,19,6,20],[6,24,6,25],[6,29,6,30],[6,34,6,35],[4,6,4,10],[4,11,4,15],[4,16,4,20],[4,21,4,25],[6,39,6,40],[6,44,6,45],[6,49,6,50],[13,1,15,1],[13,3,15,3],[16,1,18,1],[16,3,18,3],[19,1,21,1],[19,3,21,3],[22,1,24,1],[22,3,24,3],[25,1,27,1],[25,3,27,3],[28,1,30,1],[28,3,30,3],[31,1,33,1],[31,3,33,3],[34,1,36,1],[34,3,36,3],[37,1,39,1],[37,3,39,3],[40,1,42,1],[40,3,42,3],[43,1,45,1],[43,3,45,3],[46,1,48,1],[46,3,48,3],[49,1,51,1],[49,3,51,3],[52,1,54,1],[52,3,54,3],[55,1,57,1],[55,3,57,3],[58,1,60,1],[58,3,60,3],[61,1,63,1],[61,3,63,3],[64,1,66,1],[64,3,66,3],[67,1,69,1],[67,3,69,3],[70,1,72,1],[70,3,72,3],[73,1,75,1],[73,3,75,3],[76,1,78,1],[76,3,78,3],[79,1,81,1],[79,3,81,3],[82,1,84,1],[82,3,84,3],[85,1,87,1],[85,3,87,3],[88,1,90,1],[88,3,90,3],[91,1,93,1],[91,3,93,3],[94,1,96,1],[94,3,96,3],[97,1,99,1],[97,3,99,3],[100,1,102,1],[100,3,102,3],[112,1,114,1],[112,3,114,3],[115,1,117,1],[115,3,117,3],[103,1,105,1],[103,3,105,3],[106,1,108,1],[106,3,108,3],[109,1,111,1],[109,3,111,3]]}
[]
[]
[null,"Country:",null,{"$f":"IF('GETTING STARTED'!E9=\"\",\"\",'GETTING STARTED'!E9)","v":"Croatia"},null,{"$f":"IF('GETTING STARTED'!G9=\"\",\"\",'GETTING STARTED'!G9)","v":"HR"}]
[null,"Reference year:",null,{"$f":"IF('GETTING STARTED'!E10=\"\",\"\",'GETTING STARTED'!E10)","v":2022}]
[null,"Unit: Tonnes",null,"T",null,null,"RCV_E",null,null,null,null,"DSP_I",null,null,null,null,"RCV_R",null,null,null,null,"RCV_B",null,null,null,null,"RCV_R_B",null,null,null,null,"DSP_L",null,null,null,null,"DSP_OTH",null,null,null,null,"DSP_L_OTH",null,null,null,null,"TRT"]
[null,null,null,null,null,null,"RCV_E",null,null,null,null,"DSP_I",null,null,null,null,"RCV_R",null,null,null,null,"RCV_B",null,null,null,null,"RCV_R_B",null,null,null,null,"DSP_L",null,null,null,null,"DSP_OTH",null,null,null,null,"DSP_L_OTH",null,null,null,null,"TRT"]
[null,"WASTE TREATMENT by waste category\n (EWC-STAT)\nand treatment category",null,null,null,null,"Recovery -\nenergy recovery\n(R1)","Standard footnote","Confidentiality footnote","Explanatory footnote",null,"Disposal - incineration\n(D10)","Standard footnote","Confidentiality footnote","Explanatory footnote",null,"Recovery\n -\n recycling","Standard footnote","Confidentiality footnote","Explanatory footnote",null,"Recovery\n -\n backfilling","Standard footnote","Confidentiality footnote","Explanatory footnote",null,"Recovery\n -\n recycling and backfilling","Standard footnote","Confidentiality footnote","Explanatory footnote",null,"Disposal - landfill\n(D1, D5, D12)","Standard footnote","Confidentiality footnote","Explanatory footnote",null,"Disposal - other\n(D2-D4, D6-D7)","Standard footnote","Confidentiality footnote","Explanatory footnote",null,"Disposal - landfill and other\n(D1-D7, D12)","Standard footnote","Confidentiality footnote","Explanatory footnote",null,"Waste treatment","Standard footnote","Confidentiality footnote","Explanatory footnote"]
[null,"W011","W011","Spent solvents ","HAZ","Hazardous ",null,null,null,null,{"$f":"IF(TRIM(J8)=\"\", \"\", IF(VLOOKUP(J8,'Footnotes list'!$D$9:$E$58,2,FALSE)=0,\"\",VLOOKUP(J8,'Footnotes list'!$D$9:$E$58,2,FALSE) ) )","v":""},null,null,null,null,{"$f":"IF(TRIM(O8)=\"\", \"\", IF(VLOOKUP(O8,'Footnotes list'!$D$9:$E$58,2,FALSE)=0,\"\",VLOOKUP(O8,'Footnotes list'!$D$9:$E$58,2,FALSE) ) )","v":""},null,null,null,null,{"$f":"IF(TRIM(T8)=\"\", \"\", IF(VLOOKUP(T8,'Footnotes list'!$D$9:$E$58,2,FALSE)=0,\"\",VLOOKUP(T8,'Footnotes list'!$D$9:$E$58,2,FALSE) ) )","v":""},null,null,null,null,{"$f":"IF(TRIM(Y8)=\"\", \"\", IF(VLOOKUP(Y8,'Footnotes list'!$D$9:$E$58,2,FALSE)=0,\"\",VLOOKUP(Y8,'Footnotes list'!$D$9:$E$58,2,FALSE) ) )","v":""},{"$f":"IF(AND(TRIM(Q8)=\"\",TRIM(V8)=\"\"),\"\",Q8+V8)","v":""},null,null,null,{"$f":"IF(TRIM(AD8)=\"\", \"\", IF(VLOOKUP(AD8,'Footnotes list'!$D$9:$E$58,2,FALSE)=0,\"\",VLOOKUP(AD8,'Footnotes list'!$D$9:$E$58,2,FALSE) ) )","v":""},null,null,null,null,{"$f":"IF(TRIM(AI8)=\"\", \"\", IF(VLOOKUP(AI8,'Footnotes list'!$D$9:$E$58,2,FALSE)=0,\"\",VLOOKUP(AI8,'Footnotes list'!$D$9:$E$58,2,FALSE) ) )","v":""},null,null,null,null,{"$f":"IF(TRIM(AN8)=\"\", \"\", IF(VLOOKUP(AN8,'Footnotes list'!$D$9:$E$58,2,FALSE)=0,\"\",VLOOKUP(AN8,'Footnotes list'!$D$9:$E$58,2,FALSE) ) )","v":""},{"$f":"IF(AND(TRIM(AF8)=\"\",TRIM(AK8)=\"\"),\"\",AF8+AK8)","v":""},null,null,null,{"$f":"IF(TRIM(AS8)=\"\", \"\", IF(VLOOKUP(AS8,'Footnotes list'!$D$9:$E$58,2,FALSE)=0,\"\",VLOOKUP(AS8,'Footnotes list'!$D$9:$E$58,2,FALSE) ) )","v":""},{"$f":"IF(AND(TRIM(G8)=\"\",TRIM(L8)=\"\",TRIM(AA8)=\"\",TRIM(AP8)=\"\"),\"\",SUM(G8,L8,AA8,AP8))","v":""},null,null,null,{"$f":"IF(TRIM(AX8)=\"\", \"\", IF(VLOOKUP(AX8,'Footnotes list'!$D$9:$E$58,2,FALSE)=0,\"\",VLOOKUP(AX8,'Footnotes list'!$D$9:$E$58,2,FALSE) ) )","v":""}]
[null,null,null,null,null,"Not applicable"]
[null,null,"W011",null,"HAZ_NHAZ","Total",{"$f":"IF(AND(TRIM(G8)=\"\",TRIM(G9)=\"\"),\"\",G8+G9)","v":""},null,null,null,{"$f":"IF(TRIM(J10)=\"\", \"\", IF(VLOOKUP(J10,'Footnotes list'!$D$9:$E$58,2,FALSE)=0,\"\",VLOOKUP(J10,'Footnotes list'!$D$9:$E$58,2,FALSE) ) )","v":""},{"$f":"IF(AND(TRIM(L8)=\"\",TRIM(L9)=\"\"),\"\",L8+L9)","v":""},null,null,null,{"$f":"IF(TRIM(O10)=\"\", \"\", IF(VLOOKUP(O10,'Footnotes list'!$D$9:$E$58,2,FALSE)=0,\"\",VLOOKUP(O10,'Footnotes list'!$D$9:$E$58,2,FALSE) ) )","v":""},{"$f":"IF(AND(TRIM(Q8)=\"\",TRIM(Q9)=\"\"),\"\",Q8+Q9)","v":""},null,null,null,{"$f":"IF(TRIM(T10)=\"\", \"\", IF(VLOOKUP(T10,'Footnotes list'!$D$9:$E$58,2,FALSE)=0,\"\",VLOOKUP(T10,'Footnotes list'!$D$9:$E$58,2,FALSE) ) )","v":""},{"$f":"IF(AND(TRIM(V8)=\"\",TRIM(V9)=\"\"),\"\",V8+V9)","v":""},null,null,null,{"$f":"IF(TRIM(Y10)=\"\", \"\", IF(VLOOKUP(Y10,'Footnotes list'!$D$9:$E$58,2,FALSE)=0,\"\",VLOOKUP(Y10,'Footnotes list'!$D$9:$E$58,2,FALSE) ) )","v":""},{"$f":"IF(AND(TRIM(AA8)=\"\", TRIM(AA9)=\"\"), \"\", SUM(AA8,AA9))","v":""},null,null,null,{"$f":"IF(TRIM(AD10)=\"\", \"\", IF(VLOOKUP(AD10,'Footnotes list'!$D$9:$E$58,2,FALSE)=0,\"\",VLOOKUP(AD10,'Footnotes list'!$D$9:$E$58,2,FALSE) ) )","v":""},{"$f":"IF(AND(TRIM(AF8)=\"\",TRIM(AF9)=\"\"),\"\",AF8+AF9)","v":""},null,null,null,{"$f":"IF(TRIM(AI10)=\"\", \"\", IF(VLOOKUP(AI10,'Footnotes list'!$D$9:$E$58,2,FALSE)=0,\"\",VLOOKUP(AI10,'Footnotes list'!$D$9:$E$58,2,FALSE) ) )","v":""},{"$f":"IF(AND(TRIM(AK8)=\"\",TRIM(AK9)=\"\"),\"\",AK8+AK9)","v":""},null,null,null,{"$f":"IF(TRIM(AN10)=\"\", \"\", IF(VLOOKUP(AN10,'Footnotes list'!$D$9:$E$58,2,FALSE)=0,\"\",VLOOKUP(AN10,'Footnotes list'!$D$9:$E$58,2,FALSE) ) )","v":""},{"$f":"IF(AND(TRIM(AP8)=\"\", TRIM(AP9)=\"\"), \"\", SUM(AP8,AP9))","v":""},null,null,null,{"$f":"IF(TRIM(AS10)=\"\", \"\", IF(VLOOKUP(AS10,'Footnotes list'!$D$9:$E$58,2,FALSE)=0,\"\",VLOOKUP(AS10,'Footnotes list'!$D$9:$E$58,2,FALSE) ) )","v":""},{"$f":"IF(AND(TRIM(AU8)=\"\", TRIM(AU9)=\"\"), \"\", SUM(AU8,AU9) )","v":""},null,null,null,{"$f":"IF(TRIM(AX10)=\"\", \"\", IF(VLOOKUP(AX10,'Footnotes list'!$D$9:$E$58,2,FALSE)=0,\"\",VLOOKUP(AX10,'Footnotes list'!$D$9:$E$58,2,FALSE) ) )","v":""}]
[null,"W012","W012","Acid, alkaline or saline wastes ","HAZ","Hazardous ",null,null,null,null,{"$f":"IF(TRIM(J11)=\"\", \"\", IF(VLOOKUP(J11,'Footnotes list'!$D$9:$E$58,2,FALSE)=0,\"\",VLOOKUP(J11,'Footnotes list'!$D$9:$E$58,2,FALSE) ) )","v":""},null,null,null,null,{"$f":"IF(TRIM(O11)=\"\", \"\", IF(VLOOKUP(O11,'Footnotes list'!$D$9:$E$58,2,FALSE)=0,\"\",VLOOKUP(O11,'Footnotes list'!$D$9:$E$58,2,FALSE) ) )","v":""},null,null,null,null,{"$f":"IF(TRIM(T11)=\"\", \"\", IF(VLOOKUP(T11,'Footnotes list'!$D$9:$E$58,2,FALSE)=0,\"\",VLOOKUP(T11,'Footnotes list'!$D$9:$E$58,2,FALSE) ) )","v":""},null,null,null,null,{"$f":"IF(TRIM(Y11)=\"\", \"\", IF(VLOOKUP(Y11,'Footnotes list'!$D$9:$E$58,2,FALSE)=0,\"\",VLOOKUP(Y11,'Footnotes list'!$D$9:$E$58,2,FALSE) ) )","v":""},{"$f":"IF(AND(TRIM(Q11)=\"\",TRIM(V11)=\"\"),\"\",Q11+V11)","v":""},null,null,null,{"$f":"IF(TRIM(AD11)=\"\", \"\", IF(VLOOKUP(AD11,'Footnotes list'!$D$9:$E$58,2,FALSE)=0,\"\",VLOOKUP(AD11,'Footnotes list'!$D$9:$E$58,2,FALSE) ) )","v":""},null,null,null,null,{"$f":"IF(TRIM(AI11)=\"\", \"\", IF(VLOOKUP(AI11,'Footnotes list'!$D$9:$E$58,2,FALSE)=0,\"\",VLOOKUP(AI11,'Footnotes list'!$D$9:$E$58,2,FALSE) ) )","v":""},null,null,null,null,{"$f":"IF(TRIM(AN11)=\"\", \"\", IF(VLOOKUP(AN11,'Footnotes list'!$D$9:$E$58,2,FALSE)=0,\"\",VLOOKUP(AN11,'Footnotes list'!$D$9:$E$58,2,FALSE) ) )","v":""},{"$f":"IF(AND(TRIM(AF11)=\"\",TRIM(AK11)=\"\"),\"\",AF11+AK11)","v":""},null,null,null,{"$f":"IF(TRIM(AS11)=\"\", \"\", IF(VLOOKUP(AS11,'Footnotes list'!$D$9:$E$58,2,FALSE)=0,\"\",VLOOKUP(AS11,'Footnotes list'!$D$9:$E$58,2,FALSE) ) )","v":""},{"$f":"IF(AND(TRIM(G11)=\"\",TRIM(L11)=\"\",TRIM(AA11)=\"\",TRIM(AP11)=\"\"),\"\",SUM(G11,L11,AA11,AP11))","v":""},null,null,null,{"$f":"IF(TRIM(AX11)=\"\", \"\", IF(VLOOKUP(AX11,'Footnotes list'!$D$9:$E$58,2,FALSE)=0,\"\",VLOOKUP(AX11,'Footnotes list'!$D$9:$E$58,2,FALSE) ) )","v":""}]
[null,null,"W012",null,"NHAZ","Non-hazardous",null,null,null,null,{"$f":"IF(TRIM(J12)=\"\", \"\", IF(VLOOKUP(J12,'Footnotes list'!$D$9:$E$58,2,FALSE)=0,\"\",VLOOKUP(J12,'Footnotes list'!$D$9:$E$58,2,FALSE) ) )","v":""},null,null,null,null,{"$f":"IF(TRIM(O12)=\"\", \"\", IF(VLOOKUP(O12,'Footnotes list'!$D$9:$E$58,2,FALSE)=0,\"\",VLOOKUP(O12,'Footnotes list'!$D$9:$E$58,2,FALSE) ) )","v":""},null,null,null,null,{"$f":"IF(TRIM(T12)=\"\", \"\", IF(VLOOKUP(T12,'Footnotes list'!$D$9:$E$58,2,FALSE)=0,\"\",VLOOKUP(T12,'Footnotes list'!$D$9:$E$58,2,FALSE) ) )","v":""},null,null,null,null,{"$f":"IF(TRIM(Y12)=\"\", \"\", IF(VLOOKUP(Y12,'Footnotes list'!$D$9:$E$58,2,FALSE)=0,\"\",VLOOKUP(Y12,'Footnotes list'!$D$9:$E$58,2,FALSE) ) )","v":""},{"$f":"IF(AND(TRIM(Q12)=\"\",TRIM(V12)=\"\"),\"\",Q12+V12)","v":""},null,null,null,{"$f":"IF(TRIM(AD12)=\"\", \"\", IF(VLOOKUP(AD12,'Footnotes list'!$D$9:$E$58,2,FALSE)=0,\"\",VLOOKUP(AD12,'Footnotes list'!$D$9:$E$58,2,FALSE) ) )","v":""},null,null,null,null,{"$f":"IF(TRIM(AI12)=\"\", \"\", IF(VLOOKUP(AI12,'Footnotes list'!$D$9:$E$58,2,FALSE)=0,\"\",VLOOKUP(AI12,'Footnotes list'!$D$9:$E$58,2,FALSE) ) )","v":""},null,null,null,null,{"$f":"IF(TRIM(AN12)=\"\", \"\", IF(VLOOKUP(AN12,'Footnotes list'!$D$9:$E$58,2,FALSE)=0,\"\",VLOOKUP(AN12,'Footnotes list'!$D$9:$E$58,2,FALSE) ) )","v":""},{"$f":"IF(AND(TRIM(AF12)=\"\",TRIM(AK12)=\"\"),\"\",AF12+AK12)","v":""},null,null,null,{"$f":"IF(TRIM(AS12)=\"\", \"\", IF(VLOOKUP(AS12,'Footnotes list'!$D$9:$E$58,2,FALSE)=0,\"\",VLOOKUP(AS12,'Footnotes list'!$D$9:$E$58,2,FALSE) ) )","v":""},{"$f":"IF(AND(TRIM(G12)=\"\",TRIM(L12)=\"\",TRIM(AA12)=\"\",TRIM(AP12)=\"\"),\"\",SUM(G12,L12,AA12,AP12))","v":""},null,null,null,{"$f":"IF(TRIM(AX12)=\"\", \"\", IF(VLOOKUP(AX12,'Footnotes list'!$D$9:$E$58,2,FALSE)=0,\"\",VLOOKUP(AX12,'Footnotes list'!$D$9:$E$58,2,FALSE) ) )","v":""}]
[null,null,"W012",null,"HAZ_NHAZ","Total",{"$f":"IF(AND(TRIM(G11)=\"\",TRIM(G12)=\"\"),\"\",G11+G12)","v":""},null,null,null,{"$f":"IF(TRIM(J13)=\"\", \"\", IF(VLOOKUP(J13,'Footnotes list'!$D$9:$E$58,2,FALSE)=0,\"\",VLOOKUP(J13,'Footnotes list'!$D$9:$E$58,2,FALSE) ) )","v":""},{"$f":"IF(AND(TRIM(L11)=\"\",TRIM(L12)=\"\"),\"\",L11+L12)","v":""},null,null,null,{"$f":"IF(TRIM(O13)=\"\", \"\", IF(VLOOKUP(O13,'Footnotes list'!$D$9:$E$58,2,FALSE)=0,\"\",VLOOKUP(O13,'Footnotes list'!$D$9:$E$58,2,FALSE) ) )","v":""},{"$f":"IF(AND(TRIM(Q11)=\"\",TRIM(Q12)=\"\"),\"\",Q11+Q12)","v":""},null,null,null,{"$f":"IF(TRIM(T13)=\"\", \"\", IF(VLOOKUP(T13,'Footnotes list'!$D$9:$E$58,2,FALSE)=0,\"\",VLOOKUP(T13,'Footnotes list'!$D$9:$E$58,2,FALSE) ) )","v":""},{"$f":"IF(AND(TRIM(V11)=\"\",TRIM(V12)=\"\"),\"\",V11+V12)","v":""},null,null,null,{"$f":"IF(TRIM(Y13)=\"\", \"\", IF(VLOOKUP(Y13,'Footnotes list'!$D$9:$E$58,2,FALSE)=0,\"\",VLOOKUP(Y13,'Footnotes list'!$D$9:$E$58,2,FALSE) ) )","v":""},{"$f":"IF(AND(TRIM(AA11)=\"\", TRIM(AA12)=\"\"), \"\", SUM(AA11,AA12))","v":""},null,null,null,{"$f":"IF(TRIM(AD13)=\"\", \"\", IF(VLOOKUP(AD13,'Footnotes list'!$D$9:$E$58,2,FALSE)=0,\"\",VLOOKUP(AD13,'Footnotes list'!$D$9:$E$58,2,FALSE) ) )","v":""},{"$f":"IF(AND(TRIM(AF11)=\"\",TRIM(AF12)=\"\"),\"\",AF11+AF12)","v":""},null,null,null,{"$f":"IF(TRIM(AI13)=\"\", \"\", IF(VLOOKUP(AI13,'Footnotes list'!$D$9:$E$58,2,FALSE)=0,\"\",VLOOKUP(AI13,'Footnotes list'!$D$9:$E$58,2,FALSE) ) )","v":""},{"$f":"IF(AND(TRIM(AK11)=\"\",TRIM(AK12)=\"\"),\"\",AK11+AK12)","v":""},null,null,null,{"$f":"IF(TRIM(AN13)=\"\", \"\", IF(VLOOKUP(AN13,'Footnotes list'!$D$9:$E$58,2,FALSE)=0,\"\",VLOOKUP(AN13,'Footnotes list'!$D$9:$E$58,2,FALSE) ) )","v":""},{"$f":"IF(AND(TRIM(AP11)=\"\", TRIM(AP12)=\"\"), \"\", SUM(AP11,AP12))","v":""},null,null,null,{"$f":"IF(TRIM(AS13)=\"\", \"\", IF(VLOOKUP(AS13,'Footnotes list'!$D$9:$E$58,2,FALSE)=0,\"\",VLOOKUP(AS13,'Footnotes list'!$D$9:$E$58,2,FALSE) ) )","v":""},{"$f":"IF(AND(TRIM(AU11)=\"\", TRIM(AU12)=\"\"), \"\", SUM(AU11,AU12) )","v":""},null,null,null,{"$f":"IF(TRIM(AX13)=\"\", \"\", IF(VLOOKUP(AX13,'Footnotes list'!$D$9:$E$58,2,FALSE)=0,\"\",VLOOKUP(AX13,'Footnotes list'!$D$9:$E$58,2,FALSE) ) )","v":""}]
[null,"W013","W013","Used oils ","HAZ","Hazardous ",null,null,null,null,{"$f":"IF(TRIM(J14)=\"\", \"\", IF(VLOOKUP(J14,'Footnotes list'!$D$9:$E$58,2,FALSE)=0,\"\",VLOOKUP(J14,'Footnotes list'!$D$9:$E$58,2,FALSE) ) )","v":""},null,null,null,null,{"$f":"IF(TRIM(O14)=\"\", \"\", IF(VLOOKUP(O14,'Footnotes list'!$D$9:$E$58,2,FALSE)=0,\"\",VLOOKUP(O14,'Footnotes list'!$D$9:$E$58,2,FALSE) ) )","v":""},null,null,null,null,{"$f":"IF(TRIM(T14)=\"\", \"\", IF(VLOOKUP(T14,'Footnotes list'!$D$9:$E$58,2,FALSE)=0,\"\",VLOOKUP(T14,'Footnotes list'!$D$9:$E$58,2,FALSE) ) )","v":""},null,null,null,null,{"$f":"IF(TRIM(Y14)=\"\", \"\", IF(VLOOKUP(Y14,'Footnotes list'!$D$9:$E$58,2,FALSE)=0,\"\",VLOOKUP(Y14,'Footnotes list'!$D$9:$E$58,2,FALSE) ) )","v":""},{"$f":"IF(AND(TRIM(Q14)=\"\",TRIM(V14)=\"\"),\"\",Q14+V14)","v":""},null,null,null,{"$f":"IF(TRIM(AD14)=\"\", \"\", IF(VLOOKUP(AD14,'Footnotes list'!$D$9:$E$58,2,FALSE)=0,\"\",VLOOKUP(AD14,'Footnotes list'!$D$9:$E$58,2,FALSE) ) )","v":""},null,null,null,null,{"$f":"IF(TRIM(AI14)=\"\", \"\", IF(VLOOKUP(AI14,'Footnotes list'!$D$9:$E$58,2,FALSE)=0,\"\",VLOOKUP(AI14,'Footnotes list'!$D$9:$E$58,2,FALSE) ) )","v":""},null,null,null,null,{"$f":"IF(TRIM(AN14)=\"\", \"\", IF(VLOOKUP(AN14,'Footnotes list'!$D$9:$E$58,2,FALSE)=0,\"\",VLOOKUP(AN14,'Footnotes list'!$D$9:$E$58,2,FALSE) ) )","v":""},{"$f":"IF(AND(TRIM(AF14)=\"\",TRIM(AK14)=\"\"),\"\",AF14+AK14)","v":""},null,null,null,{"$f":"IF(TRIM(AS14)=\"\", \"\", IF(VLOOKUP(AS14,'Footnotes list'!$D$9:$E$58,2,FALSE)=0,\"\",VLOOKUP(AS14,'Footnotes list'!$D$9:$E$58,2,FALSE) ) )","v":""},{"$f":"IF(AND(TRIM(G14)=\"\",TRIM(L14)=\"\",TRIM(AA14)=\"\",TRIM(AP14)=\"\"),\"\",SUM(G14,L14,AA14,AP14))","v":""},null,null,null,{"$f":"IF(TRIM(AX14)=\"\", \"\", IF(VLOOKUP(AX14,'Footnotes list'!$D$9:$E$58,2,FALSE)=0,\"\",VLOOKUP(AX14,'Footnotes list'!$D$9:$E$58,2,FALSE) ) )","v":""}]
[null,null,null,null,null,"Not applicable"]
[null,null,"W013",null,"HAZ_NHAZ","Total",{"$f":"IF(AND(TRIM(G14)=\"\",TRIM(G15)=\"\"),\"\",G14+G15)","v":""},null,null,null,{"$f":"IF(TRIM(J16)=\"\", \"\", IF(VLOOKUP(J16,'Footnotes list'!$D$9:$E$58,2,FALSE)=0,\"\",VLOOKUP(J16,'Footnotes list'!$D$9:$E$58,2,FALSE) ) )","v":""},{"$f":"IF(AND(TRIM(L14)=\"\",TRIM(L15)=\"\"),\"\",L14+L15)","v":""},null,null,null,{"$f":"IF(TRIM(O16)=\"\", \"\", IF(VLOOKUP(O16,'Footnotes list'!$D$9:$E$58,2,FALSE)=0,\"\",VLOOKUP(O16,'Footnotes list'!$D$9:$E$58,2,FALSE) ) )","v":""},{"$f":"IF(AND(TRIM(Q14)=\"\",TRIM(Q15)=\"\"),\"\",Q14+Q15)","v":""},null,null,null,{"$f":"IF(TRIM(T16)=\"\", \"\", IF(VLOOKUP(T16,'Footnotes list'!$D$9:$E$58,2,FALSE)=0,\"\",VLOOKUP(T16,'Footnotes list'!$D$9:$E$58,2,FALSE) ) )","v":""},{"$f":"IF(AND(TRIM(V14)=\"\",TRIM(V15)=\"\"),\"\",V14+V15)","v":""},null,null,null,{"$f":"IF(TRIM(Y16)=\"\", \"\", IF(VLOOKUP(Y16,'Footnotes list'!$D$9:$E$58,2,FALSE)=0,\"\",VLOOKUP(Y16,'Footnotes list'!$D$9:$E$58,2,FALSE) ) )","v":""},{"$f":"IF(AND(TRIM(AA14)=\"\", TRIM(AA15)=\"\"), \"\", SUM(AA14,AA15))","v":""},null,null,null,{"$f":"IF(TRIM(AD16)=\"\", \"\", IF(VLOOKUP(AD16,'Footnotes list'!$D$9:$E$58,2,FALSE)=0,\"\",VLOOKUP(AD16,'Footnotes list'!$D$9:$E$58,2,FALSE) ) )","v":""},{"$f":"IF(AND(TRIM(AF14)=\"\",TRIM(AF15)=\"\"),\"\",AF14+AF15)","v":""},null,null,null,{"$f":"IF(TRIM(AI16)=\"\", \"\", IF(VLOOKUP(AI16,'Footnotes list'!$D$9:$E$58,2,FALSE)=0,\"\",VLOOKUP(AI16,'Footnotes list'!$D$9:$E$58,2,FALSE) ) )","v":""},{"$f":"IF(AND(TRIM(AK14)=\"\",TRIM(AK15)=\"\"),\"\",AK14+AK15)","v":""},null,null,null,{"$f":"IF(TRIM(AN16)=\"\", \"\", IF(VLOOKUP(AN16,'Footnotes list'!$D$9:$E$58,2,FALSE)=0,\"\",VLOOKUP(AN16,'Footnotes list'!$D$9:$E$58,2,FALSE) ) )","v":""},{"$f":"IF(AND(TRIM(AP14)=\"\", TRIM(AP15)=\"\"), \"\", SUM(AP14,AP15))","v":""},null,null,null,{"$f":"IF(TRIM(AS16)=\"\", \"\", IF(VLOOKUP(AS16,'Footnotes list'!$D$9:$E$58,2,FALSE)=0,\"\",VLOOKUP(AS16,'Footnotes list'!$D$9:$E$58,2,FALSE) ) )","v":""},{"$f":"IF(AND(TRIM(AU14)=\"\", TRIM(AU15)=\"\"), \"\", SUM(AU14,AU15) )","v":""},null,null,null,{"$f":"IF(TRIM(AX16)=\"\", \"\", IF(VLOOKUP(AX16,'Footnotes list'!$D$9:$E$58,2,FALSE)=0,\"\",VLOOKUP(AX16,'Footnotes list'!$D$9:$E$58,2,FALSE) ) )","v":""}]
[null,"W02A","W02A","Chemical wastes ","HAZ","Hazardous ",null,null,null,null,{"$f":"IF(TRIM(J17)=\"\", \"\", IF(VLOOKUP(J17,'Footnotes list'!$D$9:$E$58,2,FALSE)=0,\"\",VLOOKUP(J17,'Footnotes list'!$D$9:$E$58,2,FALSE) ) )","v":""},null,null,null,null,{"$f":"IF(TRIM(O17)=\"\", \"\", IF(VLOOKUP(O17,'Footnotes list'!$D$9:$E$58,2,FALSE)=0,\"\",VLOOKUP(O17,'Footnotes list'!$D$9:$E$58,2,FALSE) ) )","v":""},null,null,null,null,{"$f":"IF(TRIM(T17)=\"\", \"\", IF(VLOOKUP(T17,'Footnotes list'!$D$9:$E$58,2,FALSE)=0,\"\",VLOOKUP(T17,'Footnotes list'!$D$9:$E$58,2,FALSE) ) )","v":""},null,null,null,null,{"$f":"IF(TRIM(Y17)=\"\", \"\", IF(VLOOKUP(Y17,'Footnotes list'!$D$9:$E$58,2,FALSE)=0,\"\",VLOOKUP(Y17,'Footnotes list'!$D$9:$E$58,2,FALSE) ) )","v":""},{"$f":"IF(AND(TRIM(Q17)=\"\",TRIM(V17)=\"\"),\"\",Q17+V17)","v":""},null,null,null,{"$f":"IF(TRIM(AD17)=\"\", \"\", IF(VLOOKUP(AD17,'Footnotes list'!$D$9:$E$58,2,FALSE)=0,\"\",VLOOKUP(AD17,'Footnotes list'!$D$9:$E$58,2,FALSE) ) )","v":""},null,null,null,null,{"$f":"IF(TRIM(AI17)=\"\", \"\", IF(VLOOKUP(AI17,'Footnotes list'!$D$9:$E$58,2,FALSE)=0,\"\",VLOOKUP(AI17,'Footnotes list'!$D$9:$E$58,2,FALSE) ) )","v":""},null,null,null,null,{"$f":"IF(TRIM(AN17)=\"\", \"\", IF(VLOOKUP(AN17,'Footnotes list'!$D$9:$E$58,2,FALSE)=0,\"\",VLOOKUP(AN17,'Footnotes list'!$D$9:$E$58,2,FALSE) ) )","v":""},{"$f":"IF(AND(TRIM(AF17)=\"\",TRIM(AK17)=\"\"),\"\",AF17+AK17)","v":""},null,null,null,{"$f":"IF(TRIM(AS17)=\"\", \"\", IF(VLOOKUP(AS17,'Footnotes list'!$D$9:$E$58,2,FALSE)=0,\"\",VLOOKUP(AS17,'Footnotes list'!$D$9:$E$58,2,FALSE) ) )","v":""},{"$f":"IF(AND(TRIM(G17)=\"\",TRIM(L17)=\"\",TRIM(AA17)=\"\",TRIM(AP17)=\"\"),\"\",SUM(G17,L17,AA17,AP17))","v":""},null,null,null,{"$f":"IF(TRIM(AX17)=\"\", \"\", IF(VLOOKUP(AX17,'Footnotes list'!$D$9:$E$58,2,FALSE)=0,\"\",VLOOKUP(AX17,'Footnotes list'!$D$9:$E$58,2,FALSE) ) )","v":""}]
[null,null,"W02A",null,"NHAZ","Non-hazardous",null,null,null,null,{"$f":"IF(TRIM(J18)=\"\", \"\", IF(VLOOKUP(J18,'Footnotes list'!$D$9:$E$58,2,FALSE)=0,\"\",VLOOKUP(J18,'Footnotes list'!$D$9:$E$58,2,FALSE) ) )","v":""},null,null,null,null,{"$f":"IF(TRIM(O18)=\"\", \"\", IF(VLOOKUP(O18,'Footnotes list'!$D$9:$E$58,2,FALSE)=0,\"\",VLOOKUP(O18,'Footnotes list'!$D$9:$E$58,2,FALSE) ) )","v":""},null,null,null,null,{"$f":"IF(TRIM(T18)=\"\", \"\", IF(VLOOKUP(T18,'Footnotes list'!$D$9:$E$58,2,FALSE)=0,\"\",VLOOKUP(T18,'Footnotes list'!$D$9:$E$58,2,FALSE) ) )","v":""},null,null,null,null,{"$f":"IF(TRIM(Y18)=\"\", \"\", IF(VLOOKUP(Y18,'Footnotes list'!$D$9:$E$58,2,FALSE)=0,\"\",VLOOKUP(Y18,'Footnotes list'!$D$9:$E$58,2,FALSE) ) )","v":""},{"$f":"IF(AND(TRIM(Q18)=\"\",TRIM(V18)=\"\"),\"\",Q18+V18)","v":""},null,null,null,{"$f":"IF(TRIM(AD18)=\"\", \"\", IF(VLOOKUP(AD18,'Footnotes list'!$D$9:$E$58,2,FALSE)=0,\"\",VLOOKUP(AD18,'Footnotes list'!$D$9:$E$58,2,FALSE) ) )","v":""},null,null,null,null,{"$f":"IF(TRIM(AI18)=\"\", \"\", IF(VLOOKUP(AI18,'Footnotes list'!$D$9:$E$58,2,FALSE)=0,\"\",VLOOKUP(AI18,'Footnotes list'!$D$9:$E$58,2,FALSE) ) )","v":""},null,null,null,null,{"$f":"IF(TRIM(AN18)=\"\", \"\", IF(VLOOKUP(AN18,'Footnotes list'!$D$9:$E$58,2,FALSE)=0,\"\",VLOOKUP(AN18,'Footnotes list'!$D$9:$E$58,2,FALSE) ) )","v":""},{"$f":"IF(AND(TRIM(AF18)=\"\",TRIM(AK18)=\"\"),\"\",AF18+AK18)","v":""},null,null,null,{"$f":"IF(TRIM(AS18)=\"\", \"\", IF(VLOOKUP(AS18,'Footnotes list'!$D$9:$E$58,2,FALSE)=0,\"\",VLOOKUP(AS18,'Footnotes list'!$D$9:$E$58,2,FALSE) ) )","v":""},{"$f":"IF(AND(TRIM(G18)=\"\",TRIM(L18)=\"\",TRIM(AA18)=\"\",TRIM(AP18)=\"\"),\"\",SUM(G18,L18,AA18,AP18))","v":""},null,null,null,{"$f":"IF(TRIM(AX18)=\"\", \"\", IF(VLOOKUP(AX18,'Footnotes list'!$D$9:$E$58,2,FALSE)=0,\"\",VLOOKUP(AX18,'Footnotes list'!$D$9:$E$58,2,FALSE) ) )","v":""}]
[null,null,"W02A",null,"HAZ_NHAZ","Total",{"$f":"IF(AND(TRIM(G17)=\"\",TRIM(G18)=\"\"),\"\",G17+G18)","v":""},null,null,null,{"$f":"IF(TRIM(J19)=\"\", \"\", IF(VLOOKUP(J19,'Footnotes list'!$D$9:$E$58,2,FALSE)=0,\"\",VLOOKUP(J19,'Footnotes list'!$D$9:$E$58,2,FALSE) ) )","v":""},{"$f":"IF(AND(TRIM(L17)=\"\",TRIM(L18)=\"\"),\"\",L17+L18)","v":""},null,null,null,{"$f":"IF(TRIM(O19)=\"\", \"\", IF(VLOOKUP(O19,'Footnotes list'!$D$9:$E$58,2,FALSE)=0,\"\",VLOOKUP(O19,'Footnotes list'!$D$9:$E$58,2,FALSE) ) )","v":""},{"$f":"IF(AND(TRIM(Q17)=\"\",TRIM(Q18)=\"\"),\"\",Q17+Q18)","v":""},null,null,null,{"$f":"IF(TRIM(T19)=\"\", \"\", IF(VLOOKUP(T19,'Footnotes list'!$D$9:$E$58,2,FALSE)=0,\"\",VLOOKUP(T19,'Footnotes list'!$D$9:$E$58,2,FALSE) ) )","v":""},{"$f":"IF(AND(TRIM(V17)=\"\",TRIM(V18)=\"\"),\"\",V17+V18)","v":""},null,null,null,{"$f":"IF(TRIM(Y19)=\"\", \"\", IF(VLOOKUP(Y19,'Footnotes list'!$D$9:$E$58,2,FALSE)=0,\"\",VLOOKUP(Y19,'Footnotes list'!$D$9:$E$58,2,FALSE) ) )","v":""},{"$f":"IF(AND(TRIM(AA17)=\"\", TRIM(AA18)=\"\"), \"\", SUM(AA17,AA18))","v":""},null,null,null,{"$f":"IF(TRIM(AD19)=\"\", \"\", IF(VLOOKUP(AD19,'Footnotes list'!$D$9:$E$58,2,FALSE)=0,\"\",VLOOKUP(AD19,'Footnotes list'!$D$9:$E$58,2,FALSE) ) )","v":""},{"$f":"IF(AND(TRIM(AF17)=\"\",TRIM(AF18)=\"\"),\"\",AF17+AF18)","v":""},null,null,null,{"$f":"IF(TRIM(AI19)=\"\", \"\", IF(VLOOKUP(AI19,'Footnotes list'!$D$9:$E$58,2,FALSE)=0,\"\",VLOOKUP(AI19,'Footnotes list'!$D$9:$E$58,2,FALSE) ) )","v":""},{"$f":"IF(AND(TRIM(AK17)=\"\",TRIM(AK18)=\"\"),\"\",AK17+AK18)","v":""},null,null,null,{"$f":"IF(TRIM(AN19)=\"\", \"\", IF(VLOOKUP(AN19,'Footnotes list'!$D$9:$E$58,2,FALSE)=0,\"\",VLOOKUP(AN19,'Footnotes list'!$D$9:$E$58,2,FALSE) ) )","v":""},{"$f":"IF(AND(TRIM(AP17)=\"\", TRIM(AP18)=\"\"), \"\", SUM(AP17,AP18))","v":""},null,null,null,{"$f":"IF(TRIM(AS19)=\"\", \"\", IF(VLOOKUP(AS19,'Footnotes list'!$D$9:$E$58,2,FALSE)=0,\"\",VLOOKUP(AS19,'Footnotes list'!$D$9:$E$58,2,FALSE) ) )","v":""},{"$f":"IF(AND(TRIM(AU17)=\"\", TRIM(AU18)=\"\"), \"\", SUM(AU17,AU18) )","v":""},null,null,null,{"$f":"IF(TRIM(AX19)=\"\", \"\", IF(VLOOKUP(AX19,'Footnotes list'!$D$9:$E$58,2,FALSE)=0,\"\",VLOOKUP(AX19,'Footnotes list'!$D$9:$E$58,2,FALSE) ) )","v":""}]
[null,"W032","W032","Industrial effluent sludges ","HAZ","Hazardous ",null,null,null,null,{"$f":"IF(TRIM(J20)=\"\", \"\", IF(VLOOKUP(J20,'Footnotes list'!$D$9:$E$58,2,FALSE)=0,\"\",VLOOKUP(J20,'Footnotes list'!$D$9:$E$58,2,FALSE) ) )","v":""},null,null,null,null,{"$f":"IF(TRIM(O20)=\"\", \"\", IF(VLOOKUP(O20,'Footnotes list'!$D$9:$E$58,2,FALSE)=0,\"\",VLOOKUP(O20,'Footnotes list'!$D$9:$E$58,2,FALSE) ) )","v":""},null,null,null,null,{"$f":"IF(TRIM(T20)=\"\", \"\", IF(VLOOKUP(T20,'Footnotes list'!$D$9:$E$58,2,FALSE)=0,\"\",VLOOKUP(T20,'Footnotes list'!$D$9:$E$58,2,FALSE) ) )","v":""},null,null,null,null,{"$f":"IF(TRIM(Y20)=\"\", \"\", IF(VLOOKUP(Y20,'Footnotes list'!$D$9:$E$58,2,FALSE)=0,\"\",VLOOKUP(Y20,'Footnotes list'!$D$9:$E$58,2,FALSE) ) )","v":""},{"$f":"IF(AND(TRIM(Q20)=\"\",TRIM(V20)=\"\"),\"\",Q20+V20)","v":""},null,null,null,{"$f":"IF(TRIM(AD20)=\"\", \"\", IF(VLOOKUP(AD20,'Footnotes list'!$D$9:$E$58,2,FALSE)=0,\"\",VLOOKUP(AD20,'Footnotes list'!$D$9:$E$58,2,FALSE) ) )","v":""},null,null,null,null,{"$f":"IF(TRIM(AI20)=\"\", \"\", IF(VLOOKUP(AI20,'Footnotes list'!$D$9:$E$58,2,FALSE)=0,\"\",VLOOKUP(AI20,'Footnotes list'!$D$9:$E$58,2,FALSE) ) )","v":""},null,null,null,null,{"$f":"IF(TRIM(AN20)=\"\", \"\", IF(VLOOKUP(AN20,'Footnotes list'!$D$9:$E$58,2,FALSE)=0,\"\",VLOOKUP(AN20,'Footnotes list'!$D$9:$E$58,2,FALSE) ) )","v":""},{"$f":"IF(AND(TRIM(AF20)=\"\",TRIM(AK20)=\"\"),\"\",AF20+AK20)","v":""},null,null,null,{"$f":"IF(TRIM(AS20)=\"\", \"\", IF(VLOOKUP(AS20,'Footnotes list'!$D$9:$E$58,2,FALSE)=0,\"\",VLOOKUP(AS20,'Footnotes list'!$D$9:$E$58,2,FALSE) ) )","v":""},{"$f":"IF(AND(TRIM(G20)=\"\",TRIM(L20)=\"\",TRIM(AA20)=\"\",TRIM(AP20)=\"\"),\"\",SUM(G20,L20,AA20,AP20))","v":""},null,null,null,{"$f":"IF(TRIM(AX20)=\"\", \"\", IF(VLOOKUP(AX20,'Footnotes list'!$D$9:$E$58,2,FALSE)=0,\"\",VLOOKUP(AX20,'Footnotes list'!$D$9:$E$58,2,FALSE) ) )","v":""}]
[null,null,"W032",null,"NHAZ","Non-hazardous",null,null,null,null,{"$f":"IF(TRIM(J21)=\"\", \"\", IF(VLOOKUP(J21,'Footnotes list'!$D$9:$E$58,2,FALSE)=0,\"\",VLOOKUP(J21,'Footnotes list'!$D$9:$E$58,2,FALSE) ) )","v":""},null,null,null,null,{"$f":"IF(TRIM(O21)=\"\", \"\", IF(VLOOKUP(O21,'Footnotes list'!$D$9:$E$58,2,FALSE)=0,\"\",VLOOKUP(O21,'Footnotes list'!$D$9:$E$58,2,FALSE) ) )","v":""},null,null,null,null,{"$f":"IF(TRIM(T21)=\"\", \"\", IF(VLOOKUP(T21,'Footnotes list'!$D$9:$E$58,2,FALSE)=0,\"\",VLOOKUP(T21,'Footnotes list'!$D$9:$E$58,2,FALSE) ) )","v":""},null,null,null,null,{"$f":"IF(TRIM(Y21)=\"\", \"\", IF(VLOOKUP(Y21,'Footnotes list'!$D$9:$E$58,2,FALSE)=0,\"\",VLOOKUP(Y21,'Footnotes list'!$D$9:$E$58,2,FALSE) ) )","v":""},{"$f":"IF(AND(TRIM(Q21)=\"\",TRIM(V21)=\"\"),\"\",Q21+V21)","v":""},null,null,null,{"$f":"IF(TRIM(AD21)=\"\", \"\", IF(VLOOKUP(AD21,'Footnotes list'!$D$9:$E$58,2,FALSE)=0,\"\",VLOOKUP(AD21,'Footnotes list'!$D$9:$E$58,2,FALSE) ) )","v":""},null,null,null,null,{"$f":"IF(TRIM(AI21)=\"\", \"\", IF(VLOOKUP(AI21,'Footnotes list'!$D$9:$E$58,2,FALSE)=0,\"\",VLOOKUP(AI21,'Footnotes list'!$D$9:$E$58,2,FALSE) ) )","v":""},null,null,null,null,{"$f":"IF(TRIM(AN21)=\"\", \"\", IF(VLOOKUP(AN21,'Footnotes list'!$D$9:$E$58,2,FALSE)=0,\"\",VLOOKUP(AN21,'Footnotes list'!$D$9:$E$58,2,FALSE) ) )","v":""},{"$f":"IF(AND(TRIM(AF21)=\"\",TRIM(AK21)=\"\"),\"\",AF21+AK21)","v":""},null,null,null,{"$f":"IF(TRIM(AS21)=\"\", \"\", IF(VLOOKUP(AS21,'Footnotes list'!$D$9:$E$58,2,FALSE)=0,\"\",VLOOKUP(AS21,'Footnotes list'!$D$9:$E$58,2,FALSE) ) )","v":""},{"$f":"IF(AND(TRIM(G21)=\"\",TRIM(L21)=\"\",TRIM(AA21)=\"\",TRIM(AP21)=\"\"),\"\",SUM(G21,L21,AA21,AP21))","v":""},null,null,null,{"$f":"IF(TRIM(AX21)=\"\", \"\", IF(VLOOKUP(AX21,'Footnotes list'!$D$9:$E$58,2,FALSE)=0,\"\",VLOOKUP(AX21,'Footnotes list'!$D$9:$E$58,2,FALSE) ) )","v":""}]
[null,null,"W032",null,"HAZ_NHAZ","Total",{"$f":"IF(AND(TRIM(G20)=\"\",TRIM(G21)=\"\"),\"\",G20+G21)","v":""},null,null,null,{"$f":"IF(TRIM(J22)=\"\", \"\", IF(VLOOKUP(J22,'Footnotes list'!$D$9:$E$58,2,FALSE)=0,\"\",VLOOKUP(J22,'Footnotes list'!$D$9:$E$58,2,FALSE) ) )","v":""},{"$f":"IF(AND(TRIM(L20)=\"\",TRIM(L21)=\"\"),\"\",L20+L21)","v":""},null,null,null,{"$f":"IF(TRIM(O22)=\"\", \"\", IF(VLOOKUP(O22,'Footnotes list'!$D$9:$E$58,2,FALSE)=0,\"\",VLOOKUP(O22,'Footnotes list'!$D$9:$E$58,2,FALSE) ) )","v":""},{"$f":"IF(AND(TRIM(Q20)=\"\",TRIM(Q21)=\"\"),\"\",Q20+Q21)","v":""},null,null,null,{"$f":"IF(TRIM(T22)=\"\", \"\", IF(VLOOKUP(T22,'Footnotes list'!$D$9:$E$58,2,FALSE)=0,\"\",VLOOKUP(T22,'Footnotes list'!$D$9:$E$58,2,FALSE) ) )","v":""},{"$f":"IF(AND(TRIM(V20)=\"\",TRIM(V21)=\"\"),\"\",V20+V21)","v":""},null,null,null,{"$f":"IF(TRIM(Y22)=\"\", \"\", IF(VLOOKUP(Y22,'Footnotes list'!$D$9:$E$58,2,FALSE)=0,\"\",VLOOKUP(Y22,'Footnotes list'!$D$9:$E$58,2,FALSE) ) )","v":""},{"$f":"IF(AND(TRIM(AA20)=\"\", TRIM(AA21)=\"\"), \"\", SUM(AA20,AA21))","v":""},null,null,null,{"$f":"IF(TRIM(AD22)=\"\", \"\", IF(VLOOKUP(AD22,'Footnotes list'!$D$9:$E$58,2,FALSE)=0,\"\",VLOOKUP(AD22,'Footnotes list'!$D$9:$E$58,2,FALSE) ) )","v":""},{"$f":"IF(AND(TRIM(AF20)=\"\",TRIM(AF21)=\"\"),\"\",AF20+AF21)","v":""},null,null,null,{"$f":"IF(TRIM(AI22)=\"\", \"\", IF(VLOOKUP(AI22,'Footnotes list'!$D$9:$E$58,2,FALSE)=0,\"\",VLOOKUP(AI22,'Footnotes list'!$D$9:$E$58,2,FALSE) ) )","v":""},{"$f":"IF(AND(TRIM(AK20)=\"\",TRIM(AK21)=\"\"),\"\",AK20+AK21)","v":""},null,null,null,{"$f":"IF(TRIM(AN22)=\"\", \"\", IF(VLOOKUP(AN22,'Footnotes list'!$D$9:$E$58,2,FALSE)=0,\"\",VLOOKUP(AN22,'Footnotes list'!$D$9:$E$58,2,FALSE) ) )","v":""},{"$f":"IF(AND(TRIM(AP20)=\"\", TRIM(AP21)=\"\"), \"\", SUM(AP20,AP21))","v":""},null,null,null,{"$f":"IF(TRIM(AS22)=\"\", \"\", IF(VLOOKUP(AS22,'Footnotes list'!$D$9:$E$58,2,FALSE)=0,\"\",VLOOKUP(AS22,'Footnotes list'!$D$9:$E$58,2,FALSE) ) )","v":""},{"$f":"IF(AND(TRIM(AU20)=\"\", TRIM(AU21)=\"\"), \"\", SUM(AU20,AU21) )","v":""},null,null,null,{"$f":"IF(TRIM(AX22)=\"\", \"\", IF(VLOOKUP(AX22,'Footnotes list'!$D$9:$E$58,2,FALSE)=0,\"\",VLOOKUP(AX22,'Footnotes list'!$D$9:$E$58,2,FALSE) ) )","v":""}]
[null,"W033","W033","Sludges and liquid wastes from waste treatment","HAZ","Hazardous ",null,null,null,null,{"$f":"IF(TRIM(J23)=\"\", \"\", IF(VLOOKUP(J23,'Footnotes list'!$D$9:$E$58,2,FALSE)=0,\"\",VLOOKUP(J23,'Footnotes list'!$D$9:$E$58,2,FALSE) ) )","v":""},null,null,null,null,{"$f":"IF(TRIM(O23)=\"\", \"\", IF(VLOOKUP(O23,'Footnotes list'!$D$9:$E$58,2,FALSE)=0,\"\",VLOOKUP(O23,'Footnotes list'!$D$9:$E$58,2,FALSE) ) )","v":""},null,null,null,null,{"$f":"IF(TRIM(T23)=\"\", \"\", IF(VLOOKUP(T23,'Footnotes list'!$D$9:$E$58,2,FALSE)=0,\"\",VLOOKUP(T23,'Footnotes list'!$D$9:$E$58,2,FALSE) ) )","v":""},null,null,null,null,{"$f":"IF(TRIM(Y23)=\"\", \"\", IF(VLOOKUP(Y23,'Footnotes list'!$D$9:$E$58,2,FALSE)=0,\"\",VLOOKUP(Y23,'Footnotes list'!$D$9:$E$58,2,FALSE) ) )","v":""},{"$f":"IF(AND(TRIM(Q23)=\"\",TRIM(V23)=\"\"),\"\",Q23+V23)","v":""},null,null,null,{"$f":"IF(TRIM(AD23)=\"\", \"\", IF(VLOOKUP(AD23,'Footnotes list'!$D$9:$E$58,2,FALSE)=0,\"\",VLOOKUP(AD23,'Footnotes list'!$D$9:$E$58,2,FALSE) ) )","v":""},null,null,null,null,{"$f":"IF(TRIM(AI23)=\"\", \"\", IF(VLOOKUP(AI23,'Footnotes list'!$D$9:$E$58,2,FALSE)=0,\"\",VLOOKUP(AI23,'Footnotes list'!$D$9:$E$58,2,FALSE) ) )","v":""},null,null,null,null,{"$f":"IF(TRIM(AN23)=\"\", \"\", IF(VLOOKUP(AN23,'Footnotes list'!$D$9:$E$58,2,FALSE)=0,\"\",VLOOKUP(AN23,'Footnotes list'!$D$9:$E$58,2,FALSE) ) )","v":""},{"$f":"IF(AND(TRIM(AF23)=\"\",TRIM(AK23)=\"\"),\"\",AF23+AK23)","v":""},null,null,null,{"$f":"IF(TRIM(AS23)=\"\", \"\", IF(VLOOKUP(AS23,'Footnotes list'!$D$9:$E$58,2,FALSE)=0,\"\",VLOOKUP(AS23,'Footnotes list'!$D$9:$E$58,2,FALSE) ) )","v":""},{"$f":"IF(AND(TRIM(G23)=\"\",TRIM(L23)=\"\",TRIM(AA23)=\"\",TRIM(AP23)=\"\"),\"\",SUM(G23,L23,AA23,AP23))","v":""},null,null,null,{"$f":"IF(TRIM(AX23)=\"\", \"\", IF(VLOOKUP(AX23,'Footnotes list'!$D$9:$E$58,2,FALSE)=0,\"\",VLOOKUP(AX23,'Footnotes list'!$D$9:$E$58,2,FALSE) ) )","v":""}]
[null,null,"W033",null,"NHAZ","Non-hazardous",null,null,null,null,{"$f":"IF(TRIM(J24)=\"\", \"\", IF(VLOOKUP(J24,'Footnotes list'!$D$9:$E$58,2,FALSE)=0,\"\",VLOOKUP(J24,'Footnotes list'!$D$9:$E$58,2,FALSE) ) )","v":""},null,null,null,null,{"$f":"IF(TRIM(O24)=\"\", \"\", IF(VLOOKUP(O24,'Footnotes list'!$D$9:$E$58,2,FALSE)=0,\"\",VLOOKUP(O24,'Footnotes list'!$D$9:$E$58,2,FALSE) ) )","v":""},null,null,null,null,{"$f":"IF(TRIM(T24)=\"\", \"\", IF(VLOOKUP(T24,'Footnotes list'!$D$9:$E$58,2,FALSE)=0,\"\",VLOOKUP(T24,'Footnotes list'!$D$9:$E$58,2,FALSE) ) )","v":""},null,null,null,null,{"$f":"IF(TRIM(Y24)=\"\", \"\", IF(VLOOKUP(Y24,'Footnotes list'!$D$9:$E$58,2,FALSE)=0,\"\",VLOOKUP(Y24,'Footnotes list'!$D$9:$E$58,2,FALSE) ) )","v":""},{"$f":"IF(AND(TRIM(Q24)=\"\",TRIM(V24)=\"\"),\"\",Q24+V24)","v":""},null,null,null,{"$f":"IF(TRIM(AD24)=\"\", \"\", IF(VLOOKUP(AD24,'Footnotes list'!$D$9:$E$58,2,FALSE)=0,\"\",VLOOKUP(AD24,'Footnotes list'!$D$9:$E$58,2,FALSE) ) )","v":""},null,null,null,null,{"$f":"IF(TRIM(AI24)=\"\", \"\", IF(VLOOKUP(AI24,'Footnotes list'!$D$9:$E$58,2,FALSE)=0,\"\",VLOOKUP(AI24,'Footnotes list'!$D$9:$E$58,2,FALSE) ) )","v":""},null,null,null,null,{"$f":"IF(TRIM(AN24)=\"\", \"\", IF(VLOOKUP(AN24,'Footnotes list'!$D$9:$E$58,2,FALSE)=0,\"\",VLOOKUP(AN24,'Footnotes list'!$D$9:$E$58,2,FALSE) ) )","v":""},{"$f":"IF(AND(TRIM(AF24)=\"\",TRIM(AK24)=\"\"),\"\",AF24+AK24)","v":""},null,null,null,{"$f":"IF(TRIM(AS24)=\"\", \"\", IF(VLOOKUP(AS24,'Footnotes list'!$D$9:$E$58,2,FALSE)=0,\"\",VLOOKUP(AS24,'Footnotes list'!$D$9:$E$58,2,FALSE) ) )","v":""},{"$f":"IF(AND(TRIM(G24)=\"\",TRIM(L24)=\"\",TRIM(AA24)=\"\",TRIM(AP24)=\"\"),\"\",SUM(G24,L24,AA24,AP24))","v":""},null,null,null,{"$f":"IF(TRIM(AX24)=\"\", \"\", IF(VLOOKUP(AX24,'Footnotes list'!$D$9:$E$58,2,FALSE)=0,\"\",VLOOKUP(AX24,'Footnotes list'!$D$9:$E$58,2,FALSE) ) )","v":""}]
[null,null,"W033",null,"HAZ_NHAZ","Total",{"$f":"IF(AND(TRIM(G23)=\"\",TRIM(G24)=\"\"),\"\",G23+G24)","v":""},null,null,null,{"$f":"IF(TRIM(J25)=\"\", \"\", IF(VLOOKUP(J25,'Footnotes list'!$D$9:$E$58,2,FALSE)=0,\"\",VLOOKUP(J25,'Footnotes list'!$D$9:$E$58,2,FALSE) ) )","v":""},{"$f":"IF(AND(TRIM(L23)=\"\",TRIM(L24)=\"\"),\"\",L23+L24)","v":""},null,null,null,{"$f":"IF(TRIM(O25)=\"\", \"\", IF(VLOOKUP(O25,'Footnotes list'!$D$9:$E$58,2,FALSE)=0,\"\",VLOOKUP(O25,'Footnotes list'!$D$9:$E$58,2,FALSE) ) )","v":""},{"$f":"IF(AND(TRIM(Q23)=\"\",TRIM(Q24)=\"\"),\"\",Q23+Q24)","v":""},null,null,null,{"$f":"IF(TRIM(T25)=\"\", \"\", IF(VLOOKUP(T25,'Footnotes list'!$D$9:$E$58,2,FALSE)=0,\"\",VLOOKUP(T25,'Footnotes list'!$D$9:$E$58,2,FALSE) ) )","v":""},{"$f":"IF(AND(TRIM(V23)=\"\",TRIM(V24)=\"\"),\"\",V23+V24)","v":""},null,null,null,{"$f":"IF(TRIM(Y25)=\"\", \"\", IF(VLOOKUP(Y25,'Footnotes list'!$D$9:$E$58,2,FALSE)=0,\"\",VLOOKUP(Y25,'Footnotes list'!$D$9:$E$58,2,FALSE) ) )","v":""},{"$f":"IF(AND(TRIM(AA23)=\"\", TRIM(AA24)=\"\"), \"\", SUM(AA23,AA24))","v":""},null,null,null,{"$f":"IF(TRIM(AD25)=\"\", \"\", IF(VLOOKUP(AD25,'Footnotes list'!$D$9:$E$58,2,FALSE)=0,\"\",VLOOKUP(AD25,'Footnotes list'!$D$9:$E$58,2,FALSE) ) )","v":""},{"$f":"IF(AND(TRIM(AF23)=\"\",TRIM(AF24)=\"\"),\"\",AF23+AF24)","v":""},null,null,null,{"$f":"IF(TRIM(AI25)=\"\", \"\", IF(VLOOKUP(AI25,'Footnotes list'!$D$9:$E$58,2,FALSE)=0,\"\",VLOOKUP(AI25,'Footnotes list'!$D$9:$E$58,2,FALSE) ) )","v":""},{"$f":"IF(AND(TRIM(AK23)=\"\",TRIM(AK24)=\"\"),\"\",AK23+AK24)","v":""},null,null,null,{"$f":"IF(TRIM(AN25)=\"\", \"\", IF(VLOOKUP(AN25,'Footnotes list'!$D$9:$E$58,2,FALSE)=0,\"\",VLOOKUP(AN25,'Footnotes list'!$D$9:$E$58,2,FALSE) ) )","v":""},{"$f":"IF(AND(TRIM(AP23)=\"\", TRIM(AP24)=\"\"), \"\", SUM(AP23,AP24))","v":""},null,null,null,{"$f":"IF(TRIM(AS25)=\"\", \"\", IF(VLOOKUP(AS25,'Footnotes list'!$D$9:$E$58,2,FALSE)=0,\"\",VLOOKUP(AS25,'Footnotes list'!$D$9:$E$58,2,FALSE) ) )","v":""},{"$f":"IF(AND(TRIM(AU23)=\"\", TRIM(AU24)=\"\"), \"\", SUM(AU23,AU24) )","v":""},null,null,null,{"$f":"IF(TRIM(AX25)=\"\", \"\", IF(VLOOKUP(AX25,'Footnotes list'!$D$9:$E$58,2,FALSE)=0,\"\",VLOOKUP(AX25,'Footnotes list'!$D$9:$E$58,2,FALSE) ) )","v":""}]
[null,"W05","W05","Health care and biological wastes ","HAZ","Hazardous ",null,null,null,null,{"$f":"IF(TRIM(J26)=\"\", \"\", IF(VLOOKUP(J26,'Footnotes list'!$D$9:$E$58,2,FALSE)=0,\"\",VLOOKUP(J26,'Footnotes list'!$D$9:$E$58,2,FALSE) ) )","v":""},null,null,null,null,{"$f":"IF(TRIM(O26)=\"\", \"\", IF(VLOOKUP(O26,'Footnotes list'!$D$9:$E$58,2,FALSE)=0,\"\",VLOOKUP(O26,'Footnotes list'!$D$9:$E$58,2,FALSE) ) )","v":""},null,null,null,null,{"$f":"IF(TRIM(T26)=\"\", \"\", IF(VLOOKUP(T26,'Footnotes list'!$D$9:$E$58,2,FALSE)=0,\"\",VLOOKUP(T26,'Footnotes list'!$D$9:$E$58,2,FALSE) ) )","v":""},null,null,null,null,{"$f":"IF(TRIM(Y26)=\"\", \"\", IF(VLOOKUP(Y26,'Footnotes list'!$D$9:$E$58,2,FALSE)=0,\"\",VLOOKUP(Y26,'Footnotes list'!$D$9:$E$58,2,FALSE) ) )","v":""},{"$f":"IF(AND(TRIM(Q26)=\"\",TRIM(V26)=\"\"),\"\",Q26+V26)","v":""},null,null,null,{"$f":"IF(TRIM(AD26)=\"\", \"\", IF(VLOOKUP(AD26,'Footnotes list'!$D$9:$E$58,2,FALSE)=0,\"\",VLOOKUP(AD26,'Footnotes list'!$D$9:$E$58,2,FALSE) ) )","v":""},null,null,null,null,{"$f":"IF(TRIM(AI26)=\"\", \"\", IF(VLOOKUP(AI26,'Footnotes list'!$D$9:$E$58,2,FALSE)=0,\"\",VLOOKUP(AI26,'Footnotes list'!$D$9:$E$58,2,FALSE) ) )","v":""},null,null,null,null,{"$f":"IF(TRIM(AN26)=\"\", \"\", IF(VLOOKUP(AN26,'Footnotes list'!$D$9:$E$58,2,FALSE)=0,\"\",VLOOKUP(AN26,'Footnotes list'!$D$9:$E$58,2,FALSE) ) )","v":""},{"$f":"IF(AND(TRIM(AF26)=\"\",TRIM(AK26)=\"\"),\"\",AF26+AK26)","v":""},null,null,null,{"$f":"IF(TRIM(AS26)=\"\", \"\", IF(VLOOKUP(AS26,'Footnotes list'!$D$9:$E$58,2,FALSE)=0,\"\",VLOOKUP(AS26,'Footnotes list'!$D$9:$E$58,2,FALSE) ) )","v":""},{"$f":"IF(AND(TRIM(G26)=\"\",TRIM(L26)=\"\",TRIM(AA26)=\"\",TRIM(AP26)=\"\"),\"\",SUM(G26,L26,AA26,AP26))","v":""},null,null,null,{"$f":"IF(TRIM(AX26)=\"\", \"\", IF(VLOOKUP(AX26,'Footnotes list'!$D$9:$E$58,2,FALSE)=0,\"\",VLOOKUP(AX26,'Footnotes list'!$D$9:$E$58,2,FALSE) ) )","v":""}]
[null,null,"W05",null,"NHAZ","Non-hazardous",null,null,null,null,{"$f":"IF(TRIM(J27)=\"\", \"\", IF(VLOOKUP(J27,'Footnotes list'!$D$9:$E$58,2,FALSE)=0,\"\",VLOOKUP(J27,'Footnotes list'!$D$9:$E$58,2,FALSE) ) )","v":""},null,null,null,null,{"$f":"IF(TRIM(O27)=\"\", \"\", IF(VLOOKUP(O27,'Footnotes list'!$D$9:$E$58,2,FALSE)=0,\"\",VLOOKUP(O27,'Footnotes list'!$D$9:$E$58,2,FALSE) ) )","v":""},null,null,null,null,{"$f":"IF(TRIM(T27)=\"\", \"\", IF(VLOOKUP(T27,'Footnotes list'!$D$9:$E$58,2,FALSE)=0,\"\",VLOOKUP(T27,'Footnotes list'!$D$9:$E$58,2,FALSE) ) )","v":""},null,null,null,null,{"$f":"IF(TRIM(Y27)=\"\", \"\", IF(VLOOKUP(Y27,'Footnotes list'!$D$9:$E$58,2,FALSE)=0,\"\",VLOOKUP(Y27,'Footnotes list'!$D$9:$E$58,2,FALSE) ) )","v":""},{"$f":"IF(AND(TRIM(Q27)=\"\",TRIM(V27)=\"\"),\"\",Q27+V27)","v":""},null,null,null,{"$f":"IF(TRIM(AD27)=\"\", \"\", IF(VLOOKUP(AD27,'Footnotes list'!$D$9:$E$58,2,FALSE)=0,\"\",VLOOKUP(AD27,'Footnotes list'!$D$9:$E$58,2,FALSE) ) )","v":""},null,null,null,null,{"$f":"IF(TRIM(AI27)=\"\", \"\", IF(VLOOKUP(AI27,'Footnotes list'!$D$9:$E$58,2,FALSE)=0,\"\",VLOOKUP(AI27,'Footnotes list'!$D$9:$E$58,2,FALSE) ) )","v":""},null,null,null,null,{"$f":"IF(TRIM(AN27)=\"\", \"\", IF(VLOOKUP(AN27,'Footnotes list'!$D$9:$E$58,2,FALSE)=0,\"\",VLOOKUP(AN27,'Footnotes list'!$D$9:$E$58,2,FALSE) ) )","v":""},{"$f":"IF(AND(TRIM(AF27)=\"\",TRIM(AK27)=\"\"),\"\",AF27+AK27)","v":""},null,null,null,{"$f":"IF(TRIM(AS27)=\"\", \"\", IF(VLOOKUP(AS27,'Footnotes list'!$D$9:$E$58,2,FALSE)=0,\"\",VLOOKUP(AS27,'Footnotes list'!$D$9:$E$58,2,FALSE) ) )","v":""},{"$f":"IF(AND(TRIM(G27)=\"\",TRIM(L27)=\"\",TRIM(AA27)=\"\",TRIM(AP27)=\"\"),\"\",SUM(G27,L27,AA27,AP27))","v":""},null,null,null,{"$f":"IF(TRIM(AX27)=\"\", \"\", IF(VLOOKUP(AX27,'Footnotes list'!$D$9:$E$58,2,FALSE)=0,\"\",VLOOKUP(AX27,'Footnotes list'!$D$9:$E$58,2,FALSE) ) )","v":""}]
[null,null,"W05",null,"HAZ_NHAZ","Total",{"$f":"IF(AND(TRIM(G26)=\"\",TRIM(G27)=\"\"),\"\",G26+G27)","v":""},null,null,null,{"$f":"IF(TRIM(J28)=\"\", \"\", IF(VLOOKUP(J28,'Footnotes list'!$D$9:$E$58,2,FALSE)=0,\"\",VLOOKUP(J28,'Footnotes list'!$D$9:$E$58,2,FALSE) ) )","v":""},{"$f":"IF(AND(TRIM(L26)=\"\",TRIM(L27)=\"\"),\"\",L26+L27)","v":""},null,null,null,{"$f":"IF(TRIM(O28)=\"\", \"\", IF(VLOOKUP(O28,'Footnotes list'!$D$9:$E$58,2,FALSE)=0,\"\",VLOOKUP(O28,'Footnotes list'!$D$9:$E$58,2,FALSE) ) )","v":""},{"$f":"IF(AND(TRIM(Q26)=\"\",TRIM(Q27)=\"\"),\"\",Q26+Q27)","v":""},null,null,null,{"$f":"IF(TRIM(T28)=\"\", \"\", IF(VLOOKUP(T28,'Footnotes list'!$D$9:$E$58,2,FALSE)=0,\"\",VLOOKUP(T28,'Footnotes list'!$D$9:$E$58,2,FALSE) ) )","v":""},{"$f":"IF(AND(TRIM(V26)=\"\",TRIM(V27)=\"\"),\"\",V26+V27)","v":""},null,null,null,{"$f":"IF(TRIM(Y28)=\"\", \"\", IF(VLOOKUP(Y28,'Footnotes list'!$D$9:$E$58,2,FALSE)=0,\"\",VLOOKUP(Y28,'Footnotes list'!$D$9:$E$58,2,FALSE) ) )","v":""},{"$f":"IF(AND(TRIM(AA26)=\"\", TRIM(AA27)=\"\"), \"\", SUM(AA26,AA27))","v":""},null,null,null,{"$f":"IF(TRIM(AD28)=\"\", \"\", IF(VLOOKUP(AD28,'Footnotes list'!$D$9:$E$58,2,FALSE)=0,\"\",VLOOKUP(AD28,'Footnotes list'!$D$9:$E$58,2,FALSE) ) )","v":""},{"$f":"IF(AND(TRIM(AF26)=\"\",TRIM(AF27)=\"\"),\"\",AF26+AF27)","v":""},null,null,null,{"$f":"IF(TRIM(AI28)=\"\", \"\", IF(VLOOKUP(AI28,'Footnotes list'!$D$9:$E$58,2,FALSE)=0,\"\",VLOOKUP(AI28,'Footnotes list'!$D$9:$E$58,2,FALSE) ) )","v":""},{"$f":"IF(AND(TRIM(AK26)=\"\",TRIM(AK27)=\"\"),\"\",AK26+AK27)","v":""},null,null,null,{"$f":"IF(TRIM(AN28)=\"\", \"\", IF(VLOOKUP(AN28,'Footnotes list'!$D$9:$E$58,2,FALSE)=0,\"\",VLOOKUP(AN28,'Footnotes list'!$D$9:$E$58,2,FALSE) ) )","v":""},{"$f":"IF(AND(TRIM(AP26)=\"\", TRIM(AP27)=\"\"), \"\", SUM(AP26,AP27))","v":""},null,null,null,{"$f":"IF(TRIM(AS28)=\"\", \"\", IF(VLOOKUP(AS28,'Footnotes list'!$D$9:$E$58,2,FALSE)=0,\"\",VLOOKUP(AS28,'Footnotes list'!$D$9:$E$58,2,FALSE) ) )","v":""},{"$f":"IF(AND(TRIM(AU26)=\"\", TRIM(AU27)=\"\"), \"\", SUM(AU26,AU27) )","v":""},null,null,null,{"$f":"IF(TRIM(AX28)=\"\", \"\", IF(VLOOKUP(AX28,'Footnotes list'!$D$9:$E$58,2,FALSE)=0,\"\",VLOOKUP(AX28,'Footnotes list'!$D$9:$E$58,2,FALSE) ) )","v":""}]
[null,"W061",null,"Metallic wastes, ferrous ",null,"Not applicable"]
[null,null,"W061",null,"NHAZ","Non-hazardous",null,null,null,null,{"$f":"IF(TRIM(J30)=\"\", \"\", IF(VLOOKUP(J30,'Footnotes list'!$D$9:$E$58,2,FALSE)=0,\"\",VLOOKUP(J30,'Footnotes list'!$D$9:$E$58,2,FALSE) ) )","v":""},null,null,null,null,{"$f":"IF(TRIM(O30)=\"\", \"\", IF(VLOOKUP(O30,'Footnotes list'!$D$9:$E$58,2,FALSE)=0,\"\",VLOOKUP(O30,'Footnotes list'!$D$9:$E$58,2,FALSE) ) )","v":""},null,null,null,null,{"$f":"IF(TRIM(T30)=\"\", \"\", IF(VLOOKUP(T30,'Footnotes list'!$D$9:$E$58,2,FALSE)=0,\"\",VLOOKUP(T30,'Footnotes list'!$D$9:$E$58,2,FALSE) ) )","v":""},null,null,null,null,{"$f":"IF(TRIM(Y30)=\"\", \"\", IF(VLOOKUP(Y30,'Footnotes list'!$D$9:$E$58,2,FALSE)=0,\"\",VLOOKUP(Y30,'Footnotes list'!$D$9:$E$58,2,FALSE) ) )","v":""},{"$f":"IF(AND(TRIM(Q30)=\"\",TRIM(V30)=\"\"),\"\",Q30+V30)","v":""},null,null,null,{"$f":"IF(TRIM(AD30)=\"\", \"\", IF(VLOOKUP(AD30,'Footnotes list'!$D$9:$E$58,2,FALSE)=0,\"\",VLOOKUP(AD30,'Footnotes list'!$D$9:$E$58,2,FALSE) ) )","v":""},null,null,null,null,{"$f":"IF(TRIM(AI30)=\"\", \"\", IF(VLOOKUP(AI30,'Footnotes list'!$D$9:$E$58,2,FALSE)=0,\"\",VLOOKUP(AI30,'Footnotes list'!$D$9:$E$58,2,FALSE) ) )","v":""},null,null,null,null,{"$f":"IF(TRIM(AN30)=\"\", \"\", IF(VLOOKUP(AN30,'Footnotes list'!$D$9:$E$58,2,FALSE)=0,\"\",VLOOKUP(AN30,'Footnotes list'!$D$9:$E$58,2,FALSE) ) )","v":""},{"$f":"IF(AND(TRIM(AF30)=\"\",TRIM(AK30)=\"\"),\"\",AF30+AK30)","v":""},null,null,null,{"$f":"IF(TRIM(AS30)=\"\", \"\", IF(VLOOKUP(AS30,'Footnotes list'!$D$9:$E$58,2,FALSE)=0,\"\",VLOOKUP(AS30,'Footnotes list'!$D$9:$E$58,2,FALSE) ) )","v":""},{"$f":"IF(AND(TRIM(G30)=\"\",TRIM(L30)=\"\",TRIM(AA30)=\"\",TRIM(AP30)=\"\"),\"\",SUM(G30,L30,AA30,AP30))","v":""},null,null,null,{"$f":"IF(TRIM(AX30)=\"\", \"\", IF(VLOOKUP(AX30,'Footnotes list'!$D$9:$E$58,2,FALSE)=0,\"\",VLOOKUP(AX30,'Footnotes list'!$D$9:$E$58,2,FALSE) ) )","v":""}]
[null,null,"W061",null,"HAZ_NHAZ","Total",{"$f":"IF(AND(TRIM(G29)=\"\",TRIM(G30)=\"\"),\"\",G29+G30)","v":""},null,null,null,{"$f":"IF(TRIM(J31)=\"\", \"\", IF(VLOOKUP(J31,'Footnotes list'!$D$9:$E$58,2,FALSE)=0,\"\",VLOOKUP(J31,'Footnotes list'!$D$9:$E$58,2,FALSE) ) )","v":""},{"$f":"IF(AND(TRIM(L29)=\"\",TRIM(L30)=\"\"),\"\",L29+L30)","v":""},null,null,null,{"$f":"IF(TRIM(O31)=\"\", \"\", IF(VLOOKUP(O31,'Footnotes list'!$D$9:$E$58,2,FALSE)=0,\"\",VLOOKUP(O31,'Footnotes list'!$D$9:$E$58,2,FALSE) ) )","v":""},{"$f":"IF(AND(TRIM(Q29)=\"\",TRIM(Q30)=\"\"),\"\",Q29+Q30)","v":""},null,null,null,{"$f":"IF(TRIM(T31)=\"\", \"\", IF(VLOOKUP(T31,'Footnotes list'!$D$9:$E$58,2,FALSE)=0,\"\",VLOOKUP(T31,'Footnotes list'!$D$9:$E$58,2,FALSE) ) )","v":""},{"$f":"IF(AND(TRIM(V29)=\"\",TRIM(V30)=\"\"),\"\",V29+V30)","v":""},null,null,null,{"$f":"IF(TRIM(Y31)=\"\", \"\", IF(VLOOKUP(Y31,'Footnotes list'!$D$9:$E$58,2,FALSE)=0,\"\",VLOOKUP(Y31,'Footnotes list'!$D$9:$E$58,2,FALSE) ) )","v":""},{"$f":"IF(AND(TRIM(AA29)=\"\", TRIM(AA30)=\"\"), \"\", SUM(AA29,AA30))","v":""},null,null,null,{"$f":"IF(TRIM(AD31)=\"\", \"\", IF(VLOOKUP(AD31,'Footnotes list'!$D$9:$E$58,2,FALSE)=0,\"\",VLOOKUP(AD31,'Footnotes list'!$D$9:$E$58,2,FALSE) ) )","v":""},{"$f":"IF(AND(TRIM(AF29)=\"\",TRIM(AF30)=\"\"),\"\",AF29+AF30)","v":""},null,null,null,{"$f":"IF(TRIM(AI31)=\"\", \"\", IF(VLOOKUP(AI31,'Footnotes list'!$D$9:$E$58,2,FALSE)=0,\"\",VLOOKUP(AI31,'Footnotes list'!$D$9:$E$58,2,FALSE) ) )","v":""},{"$f":"IF(AND(TRIM(AK29)=\"\",TRIM(AK30)=\"\"),\"\",AK29+AK30)","v":""},null,null,null,{"$f":"IF(TRIM(AN31)=\"\", \"\", IF(VLOOKUP(AN31,'Footnotes list'!$D$9:$E$58,2,FALSE)=0,\"\",VLOOKUP(AN31,'Footnotes list'!$D$9:$E$58,2,FALSE) ) )","v":""},{"$f":"IF(AND(TRIM(AP29)=\"\", TRIM(AP30)=\"\"), \"\", SUM(AP29,AP30))","v":""},null,null,null,{"$f":"IF(TRIM(AS31)=\"\", \"\", IF(VLOOKUP(AS31,'Footnotes list'!$D$9:$E$58,2,FALSE)=0,\"\",VLOOKUP(AS31,'Footnotes list'!$D$9:$E$58,2,FALSE) ) )","v":""},{"$f":"IF(AND(TRIM(AU29)=\"\", TRIM(AU30)=\"\"), \"\", SUM(AU29,AU30) )","v":""},null,null,null,{"$f":"IF(TRIM(AX31)=\"\", \"\", IF(VLOOKUP(AX31,'Footnotes list'!$D$9:$E$58,2,FALSE)=0,\"\",VLOOKUP(AX31,'Footnotes list'!$D$9:$E$58,2,FALSE) ) )","v":""}]
[null,"W062",null,"Metallic wastes, non-ferrous ",null,"Not applicable"]
[null,null,"W062",null,"NHAZ","Non-hazardous",null,null,null,null,{"$f":"IF(TRIM(J33)=\"\", \"\", IF(VLOOKUP(J33,'Footnotes list'!$D$9:$E$58,2,FALSE)=0,\"\",VLOOKUP(J33,'Footnotes list'!$D$9:$E$58,2,FALSE) ) )","v":""},null,null,null,null,{"$f":"IF(TRIM(O33)=\"\", \"\", IF(VLOOKUP(O33,'Footnotes list'!$D$9:$E$58,2,FALSE)=0,\"\",VLOOKUP(O33,'Footnotes list'!$D$9:$E$58,2,FALSE) ) )","v":""},null,null,null,null,{"$f":"IF(TRIM(T33)=\"\", \"\", IF(VLOOKUP(T33,'Footnotes list'!$D$9:$E$58,2,FALSE)=0,\"\",VLOOKUP(T33,'Footnotes list'!$D$9:$E$58,2,FALSE) ) )","v":""},null,null,null,null,{"$f":"IF(TRIM(Y33)=\"\", \"\", IF(VLOOKUP(Y33,'Footnotes list'!$D$9:$E$58,2,FALSE)=0,\"\",VLOOKUP(Y33,'Footnotes list'!$D$9:$E$58,2,FALSE) ) )","v":""},{"$f":"IF(AND(TRIM(Q33)=\"\",TRIM(V33)=\"\"),\"\",Q33+V33)","v":""},null,null,null,{"$f":"IF(TRIM(AD33)=\"\", \"\", IF(VLOOKUP(AD33,'Footnotes list'!$D$9:$E$58,2,FALSE)=0,\"\",VLOOKUP(AD33,'Footnotes list'!$D$9:$E$58,2,FALSE) ) )","v":""},null,null,null,null,{"$f":"IF(TRIM(AI33)=\"\", \"\", IF(VLOOKUP(AI33,'Footnotes list'!$D$9:$E$58,2,FALSE)=0,\"\",VLOOKUP(AI33,'Footnotes list'!$D$9:$E$58,2,FALSE) ) )","v":""},null,null,null,null,{"$f":"IF(TRIM(AN33)=\"\", \"\", IF(VLOOKUP(AN33,'Footnotes list'!$D$9:$E$58,2,FALSE)=0,\"\",VLOOKUP(AN33,'Footnotes list'!$D$9:$E$58,2,FALSE) ) )","v":""},{"$f":"IF(AND(TRIM(AF33)=\"\",TRIM(AK33)=\"\"),\"\",AF33+AK33)","v":""},null,null,null,{"$f":"IF(TRIM(AS33)=\"\", \"\", IF(VLOOKUP(AS33,'Footnotes list'!$D$9:$E$58,2,FALSE)=0,\"\",VLOOKUP(AS33,'Footnotes list'!$D$9:$E$58,2,FALSE) ) )","v":""},{"$f":"IF(AND(TRIM(G33)=\"\",TRIM(L33)=\"\",TRIM(AA33)=\"\",TRIM(AP33)=\"\"),\"\",SUM(G33,L33,AA33,AP33))","v":""},null,null,null,{"$f":"IF(TRIM(AX33)=\"\", \"\", IF(VLOOKUP(AX33,'Footnotes list'!$D$9:$E$58,2,FALSE)=0,\"\",VLOOKUP(AX33,'Footnotes list'!$D$9:$E$58,2,FALSE) ) )","v":""}]
[null,null,"W062",null,"HAZ_NHAZ","Total",{"$f":"IF(AND(TRIM(G32)=\"\",TRIM(G33)=\"\"),\"\",G32+G33)","v":""},null,null,null,{"$f":"IF(TRIM(J34)=\"\", \"\", IF(VLOOKUP(J34,'Footnotes list'!$D$9:$E$58,2,FALSE)=0,\"\",VLOOKUP(J34,'Footnotes list'!$D$9:$E$58,2,FALSE) ) )","v":""},{"$f":"IF(AND(TRIM(L32)=\"\",TRIM(L33)=\"\"),\"\",L32+L33)","v":""},null,null,null,{"$f":"IF(TRIM(O34)=\"\", \"\", IF(VLOOKUP(O34,'Footnotes list'!$D$9:$E$58,2,FALSE)=0,\"\",VLOOKUP(O34,'Footnotes list'!$D$9:$E$58,2,FALSE) ) )","v":""},{"$f":"IF(AND(TRIM(Q32)=\"\",TRIM(Q33)=\"\"),\"\",Q32+Q33)","v":""},null,null,null,{"$f":"IF(TRIM(T34)=\"\", \"\", IF(VLOOKUP(T34,'Footnotes list'!$D$9:$E$58,2,FALSE)=0,\"\",VLOOKUP(T34,'Footnotes list'!$D$9:$E$58,2,FALSE) ) )","v":""},{"$f":"IF(AND(TRIM(V32)=\"\",TRIM(V33)=\"\"),\"\",V32+V33)","v":""},null,null,null,{"$f":"IF(TRIM(Y34)=\"\", \"\", IF(VLOOKUP(Y34,'Footnotes list'!$D$9:$E$58,2,FALSE)=0,\"\",VLOOKUP(Y34,'Footnotes list'!$D$9:$E$58,2,FALSE) ) )","v":""},{"$f":"IF(AND(TRIM(AA32)=\"\", TRIM(AA33)=\"\"), \"\", SUM(AA32,AA33))","v":""},null,null,null,{"$f":"IF(TRIM(AD34)=\"\", \"\", IF(VLOOKUP(AD34,'Footnotes list'!$D$9:$E$58,2,FALSE)=0,\"\",VLOOKUP(AD34,'Footnotes list'!$D$9:$E$58,2,FALSE) ) )","v":""},{"$f":"IF(AND(TRIM(AF32)=\"\",TRIM(AF33)=\"\"),\"\",AF32+AF33)","v":""},null,null,null,{"$f":"IF(TRIM(AI34)=\"\", \"\", IF(VLOOKUP(AI34,'Footnotes list'!$D$9:$E$58,2,FALSE)=0,\"\",VLOOKUP(AI34,'Footnotes list'!$D$9:$E$58,2,FALSE) ) )","v":""},{"$f":"IF(AND(TRIM(AK32)=\"\",TRIM(AK33)=\"\"),\"\",AK32+AK33)","v":""},null,null,null,{"$f":"IF(TRIM(AN34)=\"\", \"\", IF(VLOOKUP(AN34,'Footnotes list'!$D$9:$E$58,2,FALSE)=0,\"\",VLOOKUP(AN34,'Footnotes list'!$D$9:$E$58,2,FALSE) ) )","v":""},{"$f":"IF(AND(TRIM(AP32)=\"\", TRIM(AP33)=\"\"), \"\", SUM(AP32,AP33))","v":""},null,null,null,{"$f":"IF(TRIM(AS34)=\"\", \"\", IF(VLOOKUP(AS34,'Footnotes list'!$D$9:$E$58,2,FALSE)=0,\"\",VLOOKUP(AS34,'Footnotes list'!$D$9:$E$58,2,FALSE) ) )","v":""},{"$f":"IF(AND(TRIM(AU32)=\"\", TRIM(AU33)=\"\"), \"\", SUM(AU32,AU33) )","v":""},null,null,null,{"$f":"IF(TRIM(AX34)=\"\", \"\", IF(VLOOKUP(AX34,'Footnotes list'!$D$9:$E$58,2,FALSE)=0,\"\",VLOOKUP(AX34,'Footnotes list'!$D$9:$E$58,2,FALSE) ) )","v":""}]
[null,"W063",null,"Metal wastes, mixed ferrous and non-ferrous",null,"Not applicable"]
[null,null,"W063",null,"NHAZ","Non-hazardous",null,null,null,null,{"$f":"IF(TRIM(J36)=\"\", \"\", IF(VLOOKUP(J36,'Footnotes list'!$D$9:$E$58,2,FALSE)=0,\"\",VLOOKUP(J36,'Footnotes list'!$D$9:$E$58,2,FALSE) ) )","v":""},null,null,null,null,{"$f":"IF(TRIM(O36)=\"\", \"\", IF(VLOOKUP(O36,'Footnotes list'!$D$9:$E$58,2,FALSE)=0,\"\",VLOOKUP(O36,'Footnotes list'!$D$9:$E$58,2,FALSE) ) )","v":""},null,null,null,null,{"$f":"IF(TRIM(T36)=\"\", \"\", IF(VLOOKUP(T36,'Footnotes list'!$D$9:$E$58,2,FALSE)=0,\"\",VLOOKUP(T36,'Footnotes list'!$D$9:$E$58,2,FALSE) ) )","v":""},null,null,null,null,{"$f":"IF(TRIM(Y36)=\"\", \"\", IF(VLOOKUP(Y36,'Footnotes list'!$D$9:$E$58,2,FALSE)=0,\"\",VLOOKUP(Y36,'Footnotes list'!$D$9:$E$58,2,FALSE) ) )","v":""},{"$f":"IF(AND(TRIM(Q36)=\"\",TRIM(V36)=\"\"),\"\",Q36+V36)","v":""},null,null,null,{"$f":"IF(TRIM(AD36)=\"\", \"\", IF(VLOOKUP(AD36,'Footnotes list'!$D$9:$E$58,2,FALSE)=0,\"\",VLOOKUP(AD36,'Footnotes list'!$D$9:$E$58,2,FALSE) ) )","v":""},null,null,null,null,{"$f":"IF(TRIM(AI36)=\"\", \"\", IF(VLOOKUP(AI36,'Footnotes list'!$D$9:$E$58,2,FALSE)=0,\"\",VLOOKUP(AI36,'Footnotes list'!$D$9:$E$58,2,FALSE) ) )","v":""},null,null,null,null,{"$f":"IF(TRIM(AN36)=\"\", \"\", IF(VLOOKUP(AN36,'Footnotes list'!$D$9:$E$58,2,FALSE)=0,\"\",VLOOKUP(AN36,'Footnotes list'!$D$9:$E$58,2,FALSE) ) )","v":""},{"$f":"IF(AND(TRIM(AF36)=\"\",TRIM(AK36)=\"\"),\"\",AF36+AK36)","v":""},null,null,null,{"$f":"IF(TRIM(AS36)=\"\", \"\", IF(VLOOKUP(AS36,'Footnotes list'!$D$9:$E$58,2,FALSE)=0,\"\",VLOOKUP(AS36,'Footnotes list'!$D$9:$E$58,2,FALSE) ) )","v":""},{"$f":"IF(AND(TRIM(G36)=\"\",TRIM(L36)=\"\",TRIM(AA36)=\"\",TRIM(AP36)=\"\"),\"\",SUM(G36,L36,AA36,AP36))","v":""},null,null,null,{"$f":"IF(TRIM(AX36)=\"\", \"\", IF(VLOOKUP(AX36,'Footnotes list'!$D$9:$E$58,2,FALSE)=0,\"\",VLOOKUP(AX36,'Footnotes list'!$D$9:$E$58,2,FALSE) ) )","v":""}]
[null,null,"W063",null,"HAZ_NHAZ","Total",{"$f":"IF(AND(TRIM(G35)=\"\",TRIM(G36)=\"\"),\"\",G35+G36)","v":""},null,null,null,{"$f":"IF(TRIM(J37)=\"\", \"\", IF(VLOOKUP(J37,'Footnotes list'!$D$9:$E$58,2,FALSE)=0,\"\",VLOOKUP(J37,'Footnotes list'!$D$9:$E$58,2,FALSE) ) )","v":""},{"$f":"IF(AND(TRIM(L35)=\"\",TRIM(L36)=\"\"),\"\",L35+L36)","v":""},null,null,null,{"$f":"IF(TRIM(O37)=\"\", \"\", IF(VLOOKUP(O37,'Footnotes list'!$D$9:$E$58,2,FALSE)=0,\"\",VLOOKUP(O37,'Footnotes list'!$D$9:$E$58,2,FALSE) ) )","v":""},{"$f":"IF(AND(TRIM(Q35)=\"\",TRIM(Q36)=\"\"),\"\",Q35+Q36)","v":""},null,null,null,{"$f":"IF(TRIM(T37)=\"\", \"\", IF(VLOOKUP(T37,'Footnotes list'!$D$9:$E$58,2,FALSE)=0,\"\",VLOOKUP(T37,'Footnotes list'!$D$9:$E$58,2,FALSE) ) )","v":""},{"$f":"IF(AND(TRIM(V35)=\"\",TRIM(V36)=\"\"),\"\",V35+V36)","v":""},null,null,null,{"$f":"IF(TRIM(Y37)=\"\", \"\", IF(VLOOKUP(Y37,'Footnotes list'!$D$9:$E$58,2,FALSE)=0,\"\",VLOOKUP(Y37,'Footnotes list'!$D$9:$E$58,2,FALSE) ) )","v":""},{"$f":"IF(AND(TRIM(AA35)=\"\", TRIM(AA36)=\"\"), \"\", SUM(AA35,AA36))","v":""},null,null,null,{"$f":"IF(TRIM(AD37)=\"\", \"\", IF(VLOOKUP(AD37,'Footnotes list'!$D$9:$E$58,2,FALSE)=0,\"\",VLOOKUP(AD37,'Footnotes list'!$D$9:$E$58,2,FALSE) ) )","v":""},{"$f":"IF(AND(TRIM(AF35)=\"\",TRIM(AF36)=\"\"),\"\",AF35+AF36)","v":""},null,null,null,{"$f":"IF(TRIM(AI37)=\"\", \"\", IF(VLOOKUP(AI37,'Footnotes list'!$D$9:$E$58,2,FALSE)=0,\"\",VLOOKUP(AI37,'Footnotes list'!$D$9:$E$58,2,FALSE) ) )","v":""},{"$f":"IF(AND(TRIM(AK35)=\"\",TRIM(AK36)=\"\"),\"\",AK35+AK36)","v":""},null,null,null,{"$f":"IF(TRIM(AN37)=\"\", \"\", IF(VLOOKUP(AN37,'Footnotes list'!$D$9:$E$58,2,FALSE)=0,\"\",VLOOKUP(AN37,'Footnotes list'!$D$9:$E$58,2,FALSE) ) )","v":""},{"$f":"IF(AND(TRIM(AP35)=\"\", TRIM(AP36)=\"\"), \"\", SUM(AP35,AP36))","v":""},null,null,null,{"$f":"IF(TRIM(AS37)=\"\", \"\", IF(VLOOKUP(AS37,'Footnotes list'!$D$9:$E$58,2,FALSE)=0,\"\",VLOOKUP(AS37,'Footnotes list'!$D$9:$E$58,2,FALSE) ) )","v":""},{"$f":"IF(AND(TRIM(AU35)=\"\", TRIM(AU36)=\"\"), \"\", SUM(AU35,AU36) )","v":""},null,null,null,{"$f":"IF(TRIM(AX37)=\"\", \"\", IF(VLOOKUP(AX37,'Footnotes list'!$D$9:$E$58,2,FALSE)=0,\"\",VLOOKUP(AX37,'Footnotes list'!$D$9:$E$58,2,FALSE) ) )","v":""}]
[null,"W071","W071","Glass wastes ","HAZ","Hazardous ",null,null,null,null,{"$f":"IF(TRIM(J38)=\"\", \"\", IF(VLOOKUP(J38,'Footnotes list'!$D$9:$E$58,2,FALSE)=0,\"\",VLOOKUP(J38,'Footnotes list'!$D$9:$E$58,2,FALSE) ) )","v":""},null,null,null,null,{"$f":"IF(TRIM(O38)=\"\", \"\", IF(VLOOKUP(O38,'Footnotes list'!$D$9:$E$58,2,FALSE)=0,\"\",VLOOKUP(O38,'Footnotes list'!$D$9:$E$58,2,FALSE) ) )","v":""},null,null,null,null,{"$f":"IF(TRIM(T38)=\"\", \"\", IF(VLOOKUP(T38,'Footnotes list'!$D$9:$E$58,2,FALSE)=0,\"\",VLOOKUP(T38,'Footnotes list'!$D$9:$E$58,2,FALSE) ) )","v":""},null,null,null,null,{"$f":"IF(TRIM(Y38)=\"\", \"\", IF(VLOOKUP(Y38,'Footnotes list'!$D$9:$E$58,2,FALSE)=0,\"\",VLOOKUP(Y38,'Footnotes list'!$D$9:$E$58,2,FALSE) ) )","v":""},{"$f":"IF(AND(TRIM(Q38)=\"\",TRIM(V38)=\"\"),\"\",Q38+V38)","v":""},null,null,null,{"$f":"IF(TRIM(AD38)=\"\", \"\", IF(VLOOKUP(AD38,'Footnotes list'!$D$9:$E$58,2,FALSE)=0,\"\",VLOOKUP(AD38,'Footnotes list'!$D$9:$E$58,2,FALSE) ) )","v":""},null,null,null,null,{"$f":"IF(TRIM(AI38)=\"\", \"\", IF(VLOOKUP(AI38,'Footnotes list'!$D$9:$E$58,2,FALSE)=0,\"\",VLOOKUP(AI38,'Footnotes list'!$D$9:$E$58,2,FALSE) ) )","v":""},null,null,null,null,{"$f":"IF(TRIM(AN38)=\"\", \"\", IF(VLOOKUP(AN38,'Footnotes list'!$D$9:$E$58,2,FALSE)=0,\"\",VLOOKUP(AN38,'Footnotes list'!$D$9:$E$58,2,FALSE) ) )","v":""},{"$f":"IF(AND(TRIM(AF38)=\"\",TRIM(AK38)=\"\"),\"\",AF38+AK38)","v":""},null,null,null,{"$f":"IF(TRIM(AS38)=\"\", \"\", IF(VLOOKUP(AS38,'Footnotes list'!$D$9:$E$58,2,FALSE)=0,\"\",VLOOKUP(AS38,'Footnotes list'!$D$9:$E$58,2,FALSE) ) )","v":""},{"$f":"IF(AND(TRIM(G38)=\"\",TRIM(L38)=\"\",TRIM(AA38)=\"\",TRIM(AP38)=\"\"),\"\",SUM(G38,L38,AA38,AP38))","v":""},null,null,null,{"$f":"IF(TRIM(AX38)=\"\", \"\", IF(VLOOKUP(AX38,'Footnotes list'!$D$9:$E$58,2,FALSE)=0,\"\",VLOOKUP(AX38,'Footnotes list'!$D$9:$E$58,2,FALSE) ) )","v":""}]
[null,null,"W071",null,"NHAZ","Non-hazardous",null,null,null,null,{"$f":"IF(TRIM(J39)=\"\", \"\", IF(VLOOKUP(J39,'Footnotes list'!$D$9:$E$58,2,FALSE)=0,\"\",VLOOKUP(J39,'Footnotes list'!$D$9:$E$58,2,FALSE) ) )","v":""},null,null,null,null,{"$f":"IF(TRIM(O39)=\"\", \"\", IF(VLOOKUP(O39,'Footnotes list'!$D$9:$E$58,2,FALSE)=0,\"\",VLOOKUP(O39,'Footnotes list'!$D$9:$E$58,2,FALSE) ) )","v":""},null,null,null,null,{"$f":"IF(TRIM(T39)=\"\", \"\", IF(VLOOKUP(T39,'Footnotes list'!$D$9:$E$58,2,FALSE)=0,\"\",VLOOKUP(T39,'Footnotes list'!$D$9:$E$58,2,FALSE) ) )","v":""},null,null,null,null,{"$f":"IF(TRIM(Y39)=\"\", \"\", IF(VLOOKUP(Y39,'Footnotes list'!$D$9:$E$58,2,FALSE)=0,\"\",VLOOKUP(Y39,'Footnotes list'!$D$9:$E$58,2,FALSE) ) )","v":""},{"$f":"IF(AND(TRIM(Q39)=\"\",TRIM(V39)=\"\"),\"\",Q39+V39)","v":""},null,null,null,{"$f":"IF(TRIM(AD39)=\"\", \"\", IF(VLOOKUP(AD39,'Footnotes list'!$D$9:$E$58,2,FALSE)=0,\"\",VLOOKUP(AD39,'Footnotes list'!$D$9:$E$58,2,FALSE) ) )","v":""},null,null,null,null,{"$f":"IF(TRIM(AI39)=\"\", \"\", IF(VLOOKUP(AI39,'Footnotes list'!$D$9:$E$58,2,FALSE)=0,\"\",VLOOKUP(AI39,'Footnotes list'!$D$9:$E$58,2,FALSE) ) )","v":""},null,null,null,null,{"$f":"IF(TRIM(AN39)=\"\", \"\", IF(VLOOKUP(AN39,'Footnotes list'!$D$9:$E$58,2,FALSE)=0,\"\",VLOOKUP(AN39,'Footnotes list'!$D$9:$E$58,2,FALSE) ) )","v":""},{"$f":"IF(AND(TRIM(AF39)=\"\",TRIM(AK39)=\"\"),\"\",AF39+AK39)","v":""},null,null,null,{"$f":"IF(TRIM(AS39)=\"\", \"\", IF(VLOOKUP(AS39,'Footnotes list'!$D$9:$E$58,2,FALSE)=0,\"\",VLOOKUP(AS39,'Footnotes list'!$D$9:$E$58,2,FALSE) ) )","v":""},{"$f":"IF(AND(TRIM(G39)=\"\",TRIM(L39)=\"\",TRIM(AA39)=\"\",TRIM(AP39)=\"\"),\"\",SUM(G39,L39,AA39,AP39))","v":""},null,null,null,{"$f":"IF(TRIM(AX39)=\"\", \"\", IF(VLOOKUP(AX39,'Footnotes list'!$D$9:$E$58,2,FALSE)=0,\"\",VLOOKUP(AX39,'Footnotes list'!$D$9:$E$58,2,FALSE) ) )","v":""}]
[null,null,"W071",null,"HAZ_NHAZ","Total",{"$f":"IF(AND(TRIM(G38)=\"\",TRIM(G39)=\"\"),\"\",G38+G39)","v":""},null,null,null,{"$f":"IF(TRIM(J40)=\"\", \"\", IF(VLOOKUP(J40,'Footnotes list'!$D$9:$E$58,2,FALSE)=0,\"\",VLOOKUP(J40,'Footnotes list'!$D$9:$E$58,2,FALSE) ) )","v":""},{"$f":"IF(AND(TRIM(L38)=\"\",TRIM(L39)=\"\"),\"\",L38+L39)","v":""},null,null,null,{"$f":"IF(TRIM(O40)=\"\", \"\", IF(VLOOKUP(O40,'Footnotes list'!$D$9:$E$58,2,FALSE)=0,\"\",VLOOKUP(O40,'Footnotes list'!$D$9:$E$58,2,FALSE) ) )","v":""},{"$f":"IF(AND(TRIM(Q38)=\"\",TRIM(Q39)=\"\"),\"\",Q38+Q39)","v":""},null,null,null,{"$f":"IF(TRIM(T40)=\"\", \"\", IF(VLOOKUP(T40,'Footnotes list'!$D$9:$E$58,2,FALSE)=0,\"\",VLOOKUP(T40,'Footnotes list'!$D$9:$E$58,2,FALSE) ) )","v":""},{"$f":"IF(AND(TRIM(V38)=\"\",TRIM(V39)=\"\"),\"\",V38+V39)","v":""},null,null,null,{"$f":"IF(TRIM(Y40)=\"\", \"\", IF(VLOOKUP(Y40,'Footnotes list'!$D$9:$E$58,2,FALSE)=0,\"\",VLOOKUP(Y40,'Footnotes list'!$D$9:$E$58,2,FALSE) ) )","v":""},{"$f":"IF(AND(TRIM(AA38)=\"\", TRIM(AA39)=\"\"), \"\", SUM(AA38,AA39))","v":""},null,null,null,{"$f":"IF(TRIM(AD40)=\"\", \"\", IF(VLOOKUP(AD40,'Footnotes list'!$D$9:$E$58,2,FALSE)=0,\"\",VLOOKUP(AD40,'Footnotes list'!$D$9:$E$58,2,FALSE) ) )","v":""},{"$f":"IF(AND(TRIM(AF38)=\"\",TRIM(AF39)=\"\"),\"\",AF38+AF39)","v":""},null,null,null,{"$f":"IF(TRIM(AI40)=\"\", \"\", IF(VLOOKUP(AI40,'Footnotes list'!$D$9:$E$58,2,FALSE)=0,\"\",VLOOKUP(AI40,'Footnotes list'!$D$9:$E$58,2,FALSE) ) )","v":""},{"$f":"IF(AND(TRIM(AK38)=\"\",TRIM(AK39)=\"\"),\"\",AK38+AK39)","v":""},null,null,null,{"$f":"IF(TRIM(AN40)=\"\", \"\", IF(VLOOKUP(AN40,'Footnotes list'!$D$9:$E$58,2,FALSE)=0,\"\",VLOOKUP(AN40,'Footnotes list'!$D$9:$E$58,2,FALSE) ) )","v":""},{"$f":"IF(AND(TRIM(AP38)=\"\", TRIM(AP39)=\"\"), \"\", SUM(AP38,AP39))","v":""},null,null,null,{"$f":"IF(TRIM(AS40)=\"\", \"\", IF(VLOOKUP(AS40,'Footnotes list'!$D$9:$E$58,2,FALSE)=0,\"\",VLOOKUP(AS40,'Footnotes list'!$D$9:$E$58,2,FALSE) ) )","v":""},{"$f":"IF(AND(TRIM(AU38)=\"\", TRIM(AU39)=\"\"), \"\", SUM(AU38,AU39) )","v":""},null,null,null,{"$f":"IF(TRIM(AX40)=\"\", \"\", IF(VLOOKUP(AX40,'Footnotes list'!$D$9:$E$58,2,FALSE)=0,\"\",VLOOKUP(AX40,'Footnotes list'!$D$9:$E$58,2,FALSE) ) )","v":""}]
[null,"W072",null,"Paper and cardboard wastes ",null,"Not applicable"]
[null,null,"W072",null,"NHAZ","Non-hazardous",null,null,null,null,{"$f":"IF(TRIM(J42)=\"\", \"\", IF(VLOOKUP(J42,'Footnotes list'!$D$9:$E$58,2,FALSE)=0,\"\",VLOOKUP(J42,'Footnotes list'!$D$9:$E$58,2,FALSE) ) )","v":""},null,null,null,null,{"$f":"IF(TRIM(O42)=\"\", \"\", IF(VLOOKUP(O42,'Footnotes list'!$D$9:$E$58,2,FALSE)=0,\"\",VLOOKUP(O42,'Footnotes list'!$D$9:$E$58,2,FALSE) ) )","v":""},null,null,null,null,{"$f":"IF(TRIM(T42)=\"\", \"\", IF(VLOOKUP(T42,'Footnotes list'!$D$9:$E$58,2,FALSE)=0,\"\",VLOOKUP(T42,'Footnotes list'!$D$9:$E$58,2,FALSE) ) )","v":""},null,null,null,null,{"$f":"IF(TRIM(Y42)=\"\", \"\", IF(VLOOKUP(Y42,'Footnotes list'!$D$9:$E$58,2,FALSE)=0,\"\",VLOOKUP(Y42,'Footnotes list'!$D$9:$E$58,2,FALSE) ) )","v":""},{"$f":"IF(AND(TRIM(Q42)=\"\",TRIM(V42)=\"\"),\"\",Q42+V42)","v":""},null,null,null,{"$f":"IF(TRIM(AD42)=\"\", \"\", IF(VLOOKUP(AD42,'Footnotes list'!$D$9:$E$58,2,FALSE)=0,\"\",VLOOKUP(AD42,'Footnotes list'!$D$9:$E$58,2,FALSE) ) )","v":""},null,null,null,null,{"$f":"IF(TRIM(AI42)=\"\", \"\", IF(VLOOKUP(AI42,'Footnotes list'!$D$9:$E$58,2,FALSE)=0,\"\",VLOOKUP(AI42,'Footnotes list'!$D$9:$E$58,2,FALSE) ) )","v":""},null,null,null,null,{"$f":"IF(TRIM(AN42)=\"\", \"\", IF(VLOOKUP(AN42,'Footnotes list'!$D$9:$E$58,2,FALSE)=0,\"\",VLOOKUP(AN42,'Footnotes list'!$D$9:$E$58,2,FALSE) ) )","v":""},{"$f":"IF(AND(TRIM(AF42)=\"\",TRIM(AK42)=\"\"),\"\",AF42+AK42)","v":""},null,null,null,{"$f":"IF(TRIM(AS42)=\"\", \"\", IF(VLOOKUP(AS42,'Footnotes list'!$D$9:$E$58,2,FALSE)=0,\"\",VLOOKUP(AS42,'Footnotes list'!$D$9:$E$58,2,FALSE) ) )","v":""},{"$f":"IF(AND(TRIM(G42)=\"\",TRIM(L42)=\"\",TRIM(AA42)=\"\",TRIM(AP42)=\"\"),\"\",SUM(G42,L42,AA42,AP42))","v":""},null,null,null,{"$f":"IF(TRIM(AX42)=\"\", \"\", IF(VLOOKUP(AX42,'Footnotes list'!$D$9:$E$58,2,FALSE)=0,\"\",VLOOKUP(AX42,'Footnotes list'!$D$9:$E$58,2,FALSE) ) )","v":""}]
[null,null,"W072",null,"HAZ_NHAZ","Total",{"$f":"IF(AND(TRIM(G41)=\"\",TRIM(G42)=\"\"),\"\",G41+G42)","v":""},null,null,null,{"$f":"IF(TRIM(J43)=\"\", \"\", IF(VLOOKUP(J43,'Footnotes list'!$D$9:$E$58,2,FALSE)=0,\"\",VLOOKUP(J43,'Footnotes list'!$D$9:$E$58,2,FALSE) ) )","v":""},{"$f":"IF(AND(TRIM(L41)=\"\",TRIM(L42)=\"\"),\"\",L41+L42)","v":""},null,null,null,{"$f":"IF(TRIM(O43)=\"\", \"\", IF(VLOOKUP(O43,'Footnotes list'!$D$9:$E$58,2,FALSE)=0,\"\",VLOOKUP(O43,'Footnotes list'!$D$9:$E$58,2,FALSE) ) )","v":""},{"$f":"IF(AND(TRIM(Q41)=\"\",TRIM(Q42)=\"\"),\"\",Q41+Q42)","v":""},null,null,null,{"$f":"IF(TRIM(T43)=\"\", \"\", IF(VLOOKUP(T43,'Footnotes list'!$D$9:$E$58,2,FALSE)=0,\"\",VLOOKUP(T43,'Footnotes list'!$D$9:$E$58,2,FALSE) ) )","v":""},{"$f":"IF(AND(TRIM(V41)=\"\",TRIM(V42)=\"\"),\"\",V41+V42)","v":""},null,null,null,{"$f":"IF(TRIM(Y43)=\"\", \"\", IF(VLOOKUP(Y43,'Footnotes list'!$D$9:$E$58,2,FALSE)=0,\"\",VLOOKUP(Y43,'Footnotes list'!$D$9:$E$58,2,FALSE) ) )","v":""},{"$f":"IF(AND(TRIM(AA41)=\"\", TRIM(AA42)=\"\"), \"\", SUM(AA41,AA42))","v":""},null,null,null,{"$f":"IF(TRIM(AD43)=\"\", \"\", IF(VLOOKUP(AD43,'Footnotes list'!$D$9:$E$58,2,FALSE)=0,\"\",VLOOKUP(AD43,'Footnotes list'!$D$9:$E$58,2,FALSE) ) )","v":""},{"$f":"IF(AND(TRIM(AF41)=\"\",TRIM(AF42)=\"\"),\"\",AF41+AF42)","v":""},null,null,null,{"$f":"IF(TRIM(AI43)=\"\", \"\", IF(VLOOKUP(AI43,'Footnotes list'!$D$9:$E$58,2,FALSE)=0,\"\",VLOOKUP(AI43,'Footnotes list'!$D$9:$E$58,2,FALSE) ) )","v":""},{"$f":"IF(AND(TRIM(AK41)=\"\",TRIM(AK42)=\"\"),\"\",AK41+AK42)","v":""},null,null,null,{"$f":"IF(TRIM(AN43)=\"\", \"\", IF(VLOOKUP(AN43,'Footnotes list'!$D$9:$E$58,2,FALSE)=0,\"\",VLOOKUP(AN43,'Footnotes list'!$D$9:$E$58,2,FALSE) ) )","v":""},{"$f":"IF(AND(TRIM(AP41)=\"\", TRIM(AP42)=\"\"), \"\", SUM(AP41,AP42))","v":""},null,null,null,{"$f":"IF(TRIM(AS43)=\"\", \"\", IF(VLOOKUP(AS43,'Footnotes list'!$D$9:$E$58,2,FALSE)=0,\"\",VLOOKUP(AS43,'Footnotes list'!$D$9:$E$58,2,FALSE) ) )","v":""},{"$f":"IF(AND(TRIM(AU41)=\"\", TRIM(AU42)=\"\"), \"\", SUM(AU41,AU42) )","v":""},null,null,null,{"$f":"IF(TRIM(AX43)=\"\", \"\", IF(VLOOKUP(AX43,'Footnotes list'!$D$9:$E$58,2,FALSE)=0,\"\",VLOOKUP(AX43,'Footnotes list'!$D$9:$E$58,2,FALSE) ) )","v":""}]
[null,"W073",null,"Rubber wastes ",null,"Not applicable"]
[null,null,"W073",null,"NHAZ","Non-hazardous",null,null,null,null,{"$f":"IF(TRIM(J45)=\"\", \"\", IF(VLOOKUP(J45,'Footnotes list'!$D$9:$E$58,2,FALSE)=0,\"\",VLOOKUP(J45,'Footnotes list'!$D$9:$E$58,2,FALSE) ) )","v":""},null,null,null,null,{"$f":"IF(TRIM(O45)=\"\", \"\", IF(VLOOKUP(O45,'Footnotes list'!$D$9:$E$58,2,FALSE)=0,\"\",VLOOKUP(O45,'Footnotes list'!$D$9:$E$58,2,FALSE) ) )","v":""},null,null,null,null,{"$f":"IF(TRIM(T45)=\"\", \"\", IF(VLOOKUP(T45,'Footnotes list'!$D$9:$E$58,2,FALSE)=0,\"\",VLOOKUP(T45,'Footnotes list'!$D$9:$E$58,2,FALSE) ) )","v":""},null,null,null,null,{"$f":"IF(TRIM(Y45)=\"\", \"\", IF(VLOOKUP(Y45,'Footnotes list'!$D$9:$E$58,2,FALSE)=0,\"\",VLOOKUP(Y45,'Footnotes list'!$D$9:$E$58,2,FALSE) ) )","v":""},{"$f":"IF(AND(TRIM(Q45)=\"\",TRIM(V45)=\"\"),\"\",Q45+V45)","v":""},null,null,null,{"$f":"IF(TRIM(AD45)=\"\", \"\", IF(VLOOKUP(AD45,'Footnotes list'!$D$9:$E$58,2,FALSE)=0,\"\",VLOOKUP(AD45,'Footnotes list'!$D$9:$E$58,2,FALSE) ) )","v":""},null,null,null,null,{"$f":"IF(TRIM(AI45)=\"\", \"\", IF(VLOOKUP(AI45,'Footnotes list'!$D$9:$E$58,2,FALSE)=0,\"\",VLOOKUP(AI45,'Footnotes list'!$D$9:$E$58,2,FALSE) ) )","v":""},null,null,null,null,{"$f":"IF(TRIM(AN45)=\"\", \"\", IF(VLOOKUP(AN45,'Footnotes list'!$D$9:$E$58,2,FALSE)=0,\"\",VLOOKUP(AN45,'Footnotes list'!$D$9:$E$58,2,FALSE) ) )","v":""},{"$f":"IF(AND(TRIM(AF45)=\"\",TRIM(AK45)=\"\"),\"\",AF45+AK45)","v":""},null,null,null,{"$f":"IF(TRIM(AS45)=\"\", \"\", IF(VLOOKUP(AS45,'Footnotes list'!$D$9:$E$58,2,FALSE)=0,\"\",VLOOKUP(AS45,'Footnotes list'!$D$9:$E$58,2,FALSE) ) )","v":""},{"$f":"IF(AND(TRIM(G45)=\"\",TRIM(L45)=\"\",TRIM(AA45)=\"\",TRIM(AP45)=\"\"),\"\",SUM(G45,L45,AA45,AP45))","v":""},null,null,null,{"$f":"IF(TRIM(AX45)=\"\", \"\", IF(VLOOKUP(AX45,'Footnotes list'!$D$9:$E$58,2,FALSE)=0,\"\",VLOOKUP(AX45,'Footnotes list'!$D$9:$E$58,2,FALSE) ) )","v":""}]
[null,null,"W073",null,"HAZ_NHAZ","Total",{"$f":"IF(AND(TRIM(G44)=\"\",TRIM(G45)=\"\"),\"\",G44+G45)","v":""},null,null,null,{"$f":"IF(TRIM(J46)=\"\", \"\", IF(VLOOKUP(J46,'Footnotes list'!$D$9:$E$58,2,FALSE)=0,\"\",VLOOKUP(J46,'Footnotes list'!$D$9:$E$58,2,FALSE) ) )","v":""},{"$f":"IF(AND(TRIM(L44)=\"\",TRIM(L45)=\"\"),\"\",L44+L45)","v":""},null,null,null,{"$f":"IF(TRIM(O46)=\"\", \"\", IF(VLOOKUP(O46,'Footnotes list'!$D$9:$E$58,2,FALSE)=0,\"\",VLOOKUP(O46,'Footnotes list'!$D$9:$E$58,2,FALSE) ) )","v":""},{"$f":"IF(AND(TRIM(Q44)=\"\",TRIM(Q45)=\"\"),\"\",Q44+Q45)","v":""},null,null,null,{"$f":"IF(TRIM(T46)=\"\", \"\", IF(VLOOKUP(T46,'Footnotes list'!$D$9:$E$58,2,FALSE)=0,\"\",VLOOKUP(T46,'Footnotes list'!$D$9:$E$58,2,FALSE) ) )","v":""},{"$f":"IF(AND(TRIM(V44)=\"\",TRIM(V45)=\"\"),\"\",V44+V45)","v":""},null,null,null,{"$f":"IF(TRIM(Y46)=\"\", \"\", IF(VLOOKUP(Y46,'Footnotes list'!$D$9:$E$58,2,FALSE)=0,\"\",VLOOKUP(Y46,'Footnotes list'!$D$9:$E$58,2,FALSE) ) )","v":""},{"$f":"IF(AND(TRIM(AA44)=\"\", TRIM(AA45)=\"\"), \"\", SUM(AA44,AA45))","v":""},null,null,null,{"$f":"IF(TRIM(AD46)=\"\", \"\", IF(VLOOKUP(AD46,'Footnotes list'!$D$9:$E$58,2,FALSE)=0,\"\",VLOOKUP(AD46,'Footnotes list'!$D$9:$E$58,2,FALSE) ) )","v":""},{"$f":"IF(AND(TRIM(AF44)=\"\",TRIM(AF45)=\"\"),\"\",AF44+AF45)","v":""},null,null,null,{"$f":"IF(TRIM(AI46)=\"\", \"\", IF(VLOOKUP(AI46,'Footnotes list'!$D$9:$E$58,2,FALSE)=0,\"\",VLOOKUP(AI46,'Footnotes list'!$D$9:$E$58,2,FALSE) ) )","v":""},{"$f":"IF(AND(TRIM(AK44)=\"\",TRIM(AK45)=\"\"),\"\",AK44+AK45)","v":""},null,null,null,{"$f":"IF(TRIM(AN46)=\"\", \"\", IF(VLOOKUP(AN46,'Footnotes list'!$D$9:$E$58,2,FALSE)=0,\"\",VLOOKUP(AN46,'Footnotes list'!$D$9:$E$58,2,FALSE) ) )","v":""},{"$f":"IF(AND(TRIM(AP44)=\"\", TRIM(AP45)=\"\"), \"\", SUM(AP44,AP45))","v":""},null,null,null,{"$f":"IF(TRIM(AS46)=\"\", \"\", IF(VLOOKUP(AS46,'Footnotes list'!$D$9:$E$58,2,FALSE)=0,\"\",VLOOKUP(AS46,'Footnotes list'!$D$9:$E$58,2,FALSE) ) )","v":""},{"$f":"IF(AND(TRIM(AU44)=\"\", TRIM(AU45)=\"\"), \"\", SUM(AU44,AU45) )","v":""},null,null,null,{"$f":"IF(TRIM(AX46)=\"\", \"\", IF(VLOOKUP(AX46,'Footnotes list'!$D$9:$E$58,2,FALSE)=0,\"\",VLOOKUP(AX46,'Footnotes list'!$D$9:$E$58,2,FALSE) ) )","v":""}]
[null,"W074",null,"Plastic wastes ",null,"Not applicable"]
[null,null,"W074",null,"NHAZ","Non-hazardous",null,null,null,null,{"$f":"IF(TRIM(J48)=\"\", \"\", IF(VLOOKUP(J48,'Footnotes list'!$D$9:$E$58,2,FALSE)=0,\"\",VLOOKUP(J48,'Footnotes list'!$D$9:$E$58,2,FALSE) ) )","v":""},null,null,null,null,{"$f":"IF(TRIM(O48)=\"\", \"\", IF(VLOOKUP(O48,'Footnotes list'!$D$9:$E$58,2,FALSE)=0,\"\",VLOOKUP(O48,'Footnotes list'!$D$9:$E$58,2,FALSE) ) )","v":""},null,null,null,null,{"$f":"IF(TRIM(T48)=\"\", \"\", IF(VLOOKUP(T48,'Footnotes list'!$D$9:$E$58,2,FALSE)=0,\"\",VLOOKUP(T48,'Footnotes list'!$D$9:$E$58,2,FALSE) ) )","v":""},null,null,null,null,{"$f":"IF(TRIM(Y48)=\"\", \"\", IF(VLOOKUP(Y48,'Footnotes list'!$D$9:$E$58,2,FALSE)=0,\"\",VLOOKUP(Y48,'Footnotes list'!$D$9:$E$58,2,FALSE) ) )","v":""},{"$f":"IF(AND(TRIM(Q48)=\"\",TRIM(V48)=\"\"),\"\",Q48+V48)","v":""},null,null,null,{"$f":"IF(TRIM(AD48)=\"\", \"\", IF(VLOOKUP(AD48,'Footnotes list'!$D$9:$E$58,2,FALSE)=0,\"\",VLOOKUP(AD48,'Footnotes list'!$D$9:$E$58,2,FALSE) ) )","v":""},null,null,null,null,{"$f":"IF(TRIM(AI48)=\"\", \"\", IF(VLOOKUP(AI48,'Footnotes list'!$D$9:$E$58,2,FALSE)=0,\"\",VLOOKUP(AI48,'Footnotes list'!$D$9:$E$58,2,FALSE) ) )","v":""},null,null,null,null,{"$f":"IF(TRIM(AN48)=\"\", \"\", IF(VLOOKUP(AN48,'Footnotes list'!$D$9:$E$58,2,FALSE)=0,\"\",VLOOKUP(AN48,'Footnotes list'!$D$9:$E$58,2,FALSE) ) )","v":""},{"$f":"IF(AND(TRIM(AF48)=\"\",TRIM(AK48)=\"\"),\"\",AF48+AK48)","v":""},null,null,null,{"$f":"IF(TRIM(AS48)=\"\", \"\", IF(VLOOKUP(AS48,'Footnotes list'!$D$9:$E$58,2,FALSE)=0,\"\",VLOOKUP(AS48,'Footnotes list'!$D$9:$E$58,2,FALSE) ) )","v":""},{"$f":"IF(AND(TRIM(G48)=\"\",TRIM(L48)=\"\",TRIM(AA48)=\"\",TRIM(AP48)=\"\"),\"\",SUM(G48,L48,AA48,AP48))","v":""},null,null,null,{"$f":"IF(TRIM(AX48)=\"\", \"\", IF(VLOOKUP(AX48,'Footnotes list'!$D$9:$E$58,2,FALSE)=0,\"\",VLOOKUP(AX48,'Footnotes list'!$D$9:$E$58,2,FALSE) ) )","v":""}]
[null,null,"W074",null,"HAZ_NHAZ","Total",{"$f":"IF(AND(TRIM(G47)=\"\",TRIM(G48)=\"\"),\"\",G47+G48)","v":""},null,null,null,{"$f":"IF(TRIM(J49)=\"\", \"\", IF(VLOOKUP(J49,'Footnotes list'!$D$9:$E$58,2,FALSE)=0,\"\",VLOOKUP(J49,'Footnotes list'!$D$9:$E$58,2,FALSE) ) )","v":""},{"$f":"IF(AND(TRIM(L47)=\"\",TRIM(L48)=\"\"),\"\",L47+L48)","v":""},null,null,null,{"$f":"IF(TRIM(O49)=\"\", \"\", IF(VLOOKUP(O49,'Footnotes list'!$D$9:$E$58,2,FALSE)=0,\"\",VLOOKUP(O49,'Footnotes list'!$D$9:$E$58,2,FALSE) ) )","v":""},{"$f":"IF(AND(TRIM(Q47)=\"\",TRIM(Q48)=\"\"),\"\",Q47+Q48)","v":""},null,null,null,{"$f":"IF(TRIM(T49)=\"\", \"\", IF(VLOOKUP(T49,'Footnotes list'!$D$9:$E$58,2,FALSE)=0,\"\",VLOOKUP(T49,'Footnotes list'!$D$9:$E$58,2,FALSE) ) )","v":""},{"$f":"IF(AND(TRIM(V47)=\"\",TRIM(V48)=\"\"),\"\",V47+V48)","v":""},null,null,null,{"$f":"IF(TRIM(Y49)=\"\", \"\", IF(VLOOKUP(Y49,'Footnotes list'!$D$9:$E$58,2,FALSE)=0,\"\",VLOOKUP(Y49,'Footnotes list'!$D$9:$E$58,2,FALSE) ) )","v":""},{"$f":"IF(AND(TRIM(AA47)=\"\", TRIM(AA48)=\"\"), \"\", SUM(AA47,AA48))","v":""},null,null,null,{"$f":"IF(TRIM(AD49)=\"\", \"\", IF(VLOOKUP(AD49,'Footnotes list'!$D$9:$E$58,2,FALSE)=0,\"\",VLOOKUP(AD49,'Footnotes list'!$D$9:$E$58,2,FALSE) ) )","v":""},{"$f":"IF(AND(TRIM(AF47)=\"\",TRIM(AF48)=\"\"),\"\",AF47+AF48)","v":""},null,null,null,{"$f":"IF(TRIM(AI49)=\"\", \"\", IF(VLOOKUP(AI49,'Footnotes list'!$D$9:$E$58,2,FALSE)=0,\"\",VLOOKUP(AI49,'Footnotes list'!$D$9:$E$58,2,FALSE) ) )","v":""},{"$f":"IF(AND(TRIM(AK47)=\"\",TRIM(AK48)=\"\"),\"\",AK47+AK48)","v":""},null,null,null,{"$f":"IF(TRIM(AN49)=\"\", \"\", IF(VLOOKUP(AN49,'Footnotes list'!$D$9:$E$58,2,FALSE)=0,\"\",VLOOKUP(AN49,'Footnotes list'!$D$9:$E$58,2,FALSE) ) )","v":""},{"$f":"IF(AND(TRIM(AP47)=\"\", TRIM(AP48)=\"\"), \"\", SUM(AP47,AP48))","v":""},null,null,null,{"$f":"IF(TRIM(AS49)=\"\", \"\", IF(VLOOKUP(AS49,'Footnotes list'!$D$9:$E$58,2,FALSE)=0,\"\",VLOOKUP(AS49,'Footnotes list'!$D$9:$E$58,2,FALSE) ) )","v":""},{"$f":"IF(AND(TRIM(AU47)=\"\", TRIM(AU48)=\"\"), \"\", SUM(AU47,AU48) )","v":""},null,null,null,{"$f":"IF(TRIM(AX49)=\"\", \"\", IF(VLOOKUP(AX49,'Footnotes list'!$D$9:$E$58,2,FALSE)=0,\"\",VLOOKUP(AX49,'Footnotes list'!$D$9:$E$58,2,FALSE) ) )","v":""}]
[null,"W075","W075","Wood wastes ","HAZ","Hazardous ",null,null,null,null,{"$f":"IF(TRIM(J50)=\"\", \"\", IF(VLOOKUP(J50,'Footnotes list'!$D$9:$E$58,2,FALSE)=0,\"\",VLOOKUP(J50,'Footnotes list'!$D$9:$E$58,2,FALSE) ) )","v":""},null,null,null,null,{"$f":"IF(TRIM(O50)=\"\", \"\", IF(VLOOKUP(O50,'Footnotes list'!$D$9:$E$58,2,FALSE)=0,\"\",VLOOKUP(O50,'Footnotes list'!$D$9:$E$58,2,FALSE) ) )","v":""},null,null,null,null,{"$f":"IF(TRIM(T50)=\"\", \"\", IF(VLOOKUP(T50,'Footnotes list'!$D$9:$E$58,2,FALSE)=0,\"\",VLOOKUP(T50,'Footnotes list'!$D$9:$E$58,2,FALSE) ) )","v":""},null,null,null,null,{"$f":"IF(TRIM(Y50)=\"\", \"\", IF(VLOOKUP(Y50,'Footnotes list'!$D$9:$E$58,2,FALSE)=0,\"\",VLOOKUP(Y50,'Footnotes list'!$D$9:$E$58,2,FALSE) ) )","v":""},{"$f":"IF(AND(TRIM(Q50)=\"\",TRIM(V50)=\"\"),\"\",Q50+V50)","v":""},null,null,null,{"$f":"IF(TRIM(AD50)=\"\", \"\", IF(VLOOKUP(AD50,'Footnotes list'!$D$9:$E$58,2,FALSE)=0,\"\",VLOOKUP(AD50,'Footnotes list'!$D$9:$E$58,2,FALSE) ) )","v":""},null,null,null,null,{"$f":"IF(TRIM(AI50)=\"\", \"\", IF(VLOOKUP(AI50,'Footnotes list'!$D$9:$E$58,2,FALSE)=0,\"\",VLOOKUP(AI50,'Footnotes list'!$D$9:$E$58,2,FALSE) ) )","v":""},null,null,null,null,{"$f":"IF(TRIM(AN50)=\"\", \"\", IF(VLOOKUP(AN50,'Footnotes list'!$D$9:$E$58,2,FALSE)=0,\"\",VLOOKUP(AN50,'Footnotes list'!$D$9:$E$58,2,FALSE) ) )","v":""},{"$f":"IF(AND(TRIM(AF50)=\"\",TRIM(AK50)=\"\"),\"\",AF50+AK50)","v":""},null,null,null,{"$f":"IF(TRIM(AS50)=\"\", \"\", IF(VLOOKUP(AS50,'Footnotes list'!$D$9:$E$58,2,FALSE)=0,\"\",VLOOKUP(AS50,'Footnotes list'!$D$9:$E$58,2,FALSE) ) )","v":""},{"$f":"IF(AND(TRIM(G50)=\"\",TRIM(L50)=\"\",TRIM(AA50)=\"\",TRIM(AP50)=\"\"),\"\",SUM(G50,L50,AA50,AP50))","v":""},null,null,null,{"$f":"IF(TRIM(AX50)=\"\", \"\", IF(VLOOKUP(AX50,'Footnotes list'!$D$9:$E$58,2,FALSE)=0,\"\",VLOOKUP(AX50,'Footnotes list'!$D$9:$E$58,2,FALSE) ) )","v":""}]
[null,null,"W075",null,"NHAZ","Non-hazardous",null,null,null,null,{"$f":"IF(TRIM(J51)=\"\", \"\", IF(VLOOKUP(J51,'Footnotes list'!$D$9:$E$58,2,FALSE)=0,\"\",VLOOKUP(J51,'Footnotes list'!$D$9:$E$58,2,FALSE) ) )","v":""},null,null,null,null,{"$f":"IF(TRIM(O51)=\"\", \"\", IF(VLOOKUP(O51,'Footnotes list'!$D$9:$E$58,2,FALSE)=0,\"\",VLOOKUP(O51,'Footnotes list'!$D$9:$E$58,2,FALSE) ) )","v":""},null,null,null,null,{"$f":"IF(TRIM(T51)=\"\", \"\", IF(VLOOKUP(T51,'Footnotes list'!$D$9:$E$58,2,FALSE)=0,\"\",VLOOKUP(T51,'Footnotes list'!$D$9:$E$58,2,FALSE) ) )","v":""},null,null,null,null,{"$f":"IF(TRIM(Y51)=\"\", \"\", IF(VLOOKUP(Y51,'Footnotes list'!$D$9:$E$58,2,FALSE)=0,\"\",VLOOKUP(Y51,'Footnotes list'!$D$9:$E$58,2,FALSE) ) )","v":""},{"$f":"IF(AND(TRIM(Q51)=\"\",TRIM(V51)=\"\"),\"\",Q51+V51)","v":""},null,null,null,{"$f":"IF(TRIM(AD51)=\"\", \"\", IF(VLOOKUP(AD51,'Footnotes list'!$D$9:$E$58,2,FALSE)=0,\"\",VLOOKUP(AD51,'Footnotes list'!$D$9:$E$58,2,FALSE) ) )","v":""},null,null,null,null,{"$f":"IF(TRIM(AI51)=\"\", \"\", IF(VLOOKUP(AI51,'Footnotes list'!$D$9:$E$58,2,FALSE)=0,\"\",VLOOKUP(AI51,'Footnotes list'!$D$9:$E$58,2,FALSE) ) )","v":""},null,null,null,null,{"$f":"IF(TRIM(AN51)=\"\", \"\", IF(VLOOKUP(AN51,'Footnotes list'!$D$9:$E$58,2,FALSE)=0,\"\",VLOOKUP(AN51,'Footnotes list'!$D$9:$E$58,2,FALSE) ) )","v":""},{"$f":"IF(AND(TRIM(AF51)=\"\",TRIM(AK51)=\"\"),\"\",AF51+AK51)","v":""},null,null,null,{"$f":"IF(TRIM(AS51)=\"\", \"\", IF(VLOOKUP(AS51,'Footnotes list'!$D$9:$E$58,2,FALSE)=0,\"\",VLOOKUP(AS51,'Footnotes list'!$D$9:$E$58,2,FALSE) ) )","v":""},{"$f":"IF(AND(TRIM(G51)=\"\",TRIM(L51)=\"\",TRIM(AA51)=\"\",TRIM(AP51)=\"\"),\"\",SUM(G51,L51,AA51,AP51))","v":""},null,null,null,{"$f":"IF(TRIM(AX51)=\"\", \"\", IF(VLOOKUP(AX51,'Footnotes list'!$D$9:$E$58,2,FALSE)=0,\"\",VLOOKUP(AX51,'Footnotes list'!$D$9:$E$58,2,FALSE) ) )","v":""}]
[null,null,"W075",null,"HAZ_NHAZ","Total",{"$f":"IF(AND(TRIM(G50)=\"\",TRIM(G51)=\"\"),\"\",G50+G51)","v":""},null,null,null,{"$f":"IF(TRIM(J52)=\"\", \"\", IF(VLOOKUP(J52,'Footnotes list'!$D$9:$E$58,2,FALSE)=0,\"\",VLOOKUP(J52,'Footnotes list'!$D$9:$E$58,2,FALSE) ) )","v":""},{"$f":"IF(AND(TRIM(L50)=\"\",TRIM(L51)=\"\"),\"\",L50+L51)","v":""},null,null,null,{"$f":"IF(TRIM(O52)=\"\", \"\", IF(VLOOKUP(O52,'Footnotes list'!$D$9:$E$58,2,FALSE)=0,\"\",VLOOKUP(O52,'Footnotes list'!$D$9:$E$58,2,FALSE) ) )","v":""},{"$f":"IF(AND(TRIM(Q50)=\"\",TRIM(Q51)=\"\"),\"\",Q50+Q51)","v":""},null,null,null,{"$f":"IF(TRIM(T52)=\"\", \"\", IF(VLOOKUP(T52,'Footnotes list'!$D$9:$E$58,2,FALSE)=0,\"\",VLOOKUP(T52,'Footnotes list'!$D$9:$E$58,2,FALSE) ) )","v":""},{"$f":"IF(AND(TRIM(V50)=\"\",TRIM(V51)=\"\"),\"\",V50+V51)","v":""},null,null,null,{"$f":"IF(TRIM(Y52)=\"\", \"\", IF(VLOOKUP(Y52,'Footnotes list'!$D$9:$E$58,2,FALSE)=0,\"\",VLOOKUP(Y52,'Footnotes list'!$D$9:$E$58,2,FALSE) ) )","v":""},{"$f":"IF(AND(TRIM(AA50)=\"\", TRIM(AA51)=\"\"), \"\", SUM(AA50,AA51))","v":""},null,null,null,{"$f":"IF(TRIM(AD52)=\"\", \"\", IF(VLOOKUP(AD52,'Footnotes list'!$D$9:$E$58,2,FALSE)=0,\"\",VLOOKUP(AD52,'Footnotes list'!$D$9:$E$58,2,FALSE) ) )","v":""},{"$f":"IF(AND(TRIM(AF50)=\"\",TRIM(AF51)=\"\"),\"\",AF50+AF51)","v":""},null,null,null,{"$f":"IF(TRIM(AI52)=\"\", \"\", IF(VLOOKUP(AI52,'Footnotes list'!$D$9:$E$58,2,FALSE)=0,\"\",VLOOKUP(AI52,'Footnotes list'!$D$9:$E$58,2,FALSE) ) )","v":""},{"$f":"IF(AND(TRIM(AK50)=\"\",TRIM(AK51)=\"\"),\"\",AK50+AK51)","v":""},null,null,null,{"$f":"IF(TRIM(AN52)=\"\", \"\", IF(VLOOKUP(AN52,'Footnotes list'!$D$9:$E$58,2,FALSE)=0,\"\",VLOOKUP(AN52,'Footnotes list'!$D$9:$E$58,2,FALSE) ) )","v":""},{"$f":"IF(AND(TRIM(AP50)=\"\", TRIM(AP51)=\"\"), \"\", SUM(AP50,AP51))","v":""},null,null,null,{"$f":"IF(TRIM(AS52)=\"\", \"\", IF(VLOOKUP(AS52,'Footnotes list'!$D$9:$E$58,2,FALSE)=0,\"\",VLOOKUP(AS52,'Footnotes list'!$D$9:$E$58,2,FALSE) ) )","v":""},{"$f":"IF(AND(TRIM(AU50)=\"\", TRIM(AU51)=\"\"), \"\", SUM(AU50,AU51) )","v":""},null,null,null,{"$f":"IF(TRIM(AX52)=\"\", \"\", IF(VLOOKUP(AX52,'Footnotes list'!$D$9:$E$58,2,FALSE)=0,\"\",VLOOKUP(AX52,'Footnotes list'!$D$9:$E$58,2,FALSE) ) )","v":""}]
[null,"W076",null,"Textile wastes ",null,"Not applicable"]
[null,null,"W076",null,"NHAZ","Non-hazardous",null,null,null,null,{"$f":"IF(TRIM(J54)=\"\", \"\", IF(VLOOKUP(J54,'Footnotes list'!$D$9:$E$58,2,FALSE)=0,\"\",VLOOKUP(J54,'Footnotes list'!$D$9:$E$58,2,FALSE) ) )","v":""},null,null,null,null,{"$f":"IF(TRIM(O54)=\"\", \"\", IF(VLOOKUP(O54,'Footnotes list'!$D$9:$E$58,2,FALSE)=0,\"\",VLOOKUP(O54,'Footnotes list'!$D$9:$E$58,2,FALSE) ) )","v":""},null,null,null,null,{"$f":"IF(TRIM(T54)=\"\", \"\", IF(VLOOKUP(T54,'Footnotes list'!$D$9:$E$58,2,FALSE)=0,\"\",VLOOKUP(T54,'Footnotes list'!$D$9:$E$58,2,FALSE) ) )","v":""},null,null,null,null,{"$f":"IF(TRIM(Y54)=\"\", \"\", IF(VLOOKUP(Y54,'Footnotes list'!$D$9:$E$58,2,FALSE)=0,\"\",VLOOKUP(Y54,'Footnotes list'!$D$9:$E$58,2,FALSE) ) )","v":""},{"$f":"IF(AND(TRIM(Q54)=\"\",TRIM(V54)=\"\"),\"\",Q54+V54)","v":""},null,null,null,{"$f":"IF(TRIM(AD54)=\"\", \"\", IF(VLOOKUP(AD54,'Footnotes list'!$D$9:$E$58,2,FALSE)=0,\"\",VLOOKUP(AD54,'Footnotes list'!$D$9:$E$58,2,FALSE) ) )","v":""},null,null,null,null,{"$f":"IF(TRIM(AI54)=\"\", \"\", IF(VLOOKUP(AI54,'Footnotes list'!$D$9:$E$58,2,FALSE)=0,\"\",VLOOKUP(AI54,'Footnotes list'!$D$9:$E$58,2,FALSE) ) )","v":""},null,null,null,null,{"$f":"IF(TRIM(AN54)=\"\", \"\", IF(VLOOKUP(AN54,'Footnotes list'!$D$9:$E$58,2,FALSE)=0,\"\",VLOOKUP(AN54,'Footnotes list'!$D$9:$E$58,2,FALSE) ) )","v":""},{"$f":"IF(AND(TRIM(AF54)=\"\",TRIM(AK54)=\"\"),\"\",AF54+AK54)","v":""},null,null,null,{"$f":"IF(TRIM(AS54)=\"\", \"\", IF(VLOOKUP(AS54,'Footnotes list'!$D$9:$E$58,2,FALSE)=0,\"\",VLOOKUP(AS54,'Footnotes list'!$D$9:$E$58,2,FALSE) ) )","v":""},{"$f":"IF(AND(TRIM(G54)=\"\",TRIM(L54)=\"\",TRIM(AA54)=\"\",TRIM(AP54)=\"\"),\"\",SUM(G54,L54,AA54,AP54))","v":""},null,null,null,{"$f":"IF(TRIM(AX54)=\"\", \"\", IF(VLOOKUP(AX54,'Footnotes list'!$D$9:$E$58,2,FALSE)=0,\"\",VLOOKUP(AX54,'Footnotes list'!$D$9:$E$58,2,FALSE) ) )","v":""}]
[null,null,"W076",null,"HAZ_NHAZ","Total",{"$f":"IF(AND(TRIM(G53)=\"\",TRIM(G54)=\"\"),\"\",G53+G54)","v":""},null,null,null,{"$f":"IF(TRIM(J55)=\"\", \"\", IF(VLOOKUP(J55,'Footnotes list'!$D$9:$E$58,2,FALSE)=0,\"\",VLOOKUP(J55,'Footnotes list'!$D$9:$E$58,2,FALSE) ) )","v":""},{"$f":"IF(AND(TRIM(L53)=\"\",TRIM(L54)=\"\"),\"\",L53+L54)","v":""},null,null,null,{"$f":"IF(TRIM(O55)=\"\", \"\", IF(VLOOKUP(O55,'Footnotes list'!$D$9:$E$58,2,FALSE)=0,\"\",VLOOKUP(O55,'Footnotes list'!$D$9:$E$58,2,FALSE) ) )","v":""},{"$f":"IF(AND(TRIM(Q53)=\"\",TRIM(Q54)=\"\"),\"\",Q53+Q54)","v":""},null,null,null,{"$f":"IF(TRIM(T55)=\"\", \"\", IF(VLOOKUP(T55,'Footnotes list'!$D$9:$E$58,2,FALSE)=0,\"\",VLOOKUP(T55,'Footnotes list'!$D$9:$E$58,2,FALSE) ) )","v":""},{"$f":"IF(AND(TRIM(V53)=\"\",TRIM(V54)=\"\"),\"\",V53+V54)","v":""},null,null,null,{"$f":"IF(TRIM(Y55)=\"\", \"\", IF(VLOOKUP(Y55,'Footnotes list'!$D$9:$E$58,2,FALSE)=0,\"\",VLOOKUP(Y55,'Footnotes list'!$D$9:$E$58,2,FALSE) ) )","v":""},{"$f":"IF(AND(TRIM(AA53)=\"\", TRIM(AA54)=\"\"), \"\", SUM(AA53,AA54))","v":""},null,null,null,{"$f":"IF(TRIM(AD55)=\"\", \"\", IF(VLOOKUP(AD55,'Footnotes list'!$D$9:$E$58,2,FALSE)=0,\"\",VLOOKUP(AD55,'Footnotes list'!$D$9:$E$58,2,FALSE) ) )","v":""},{"$f":"IF(AND(TRIM(AF53)=\"\",TRIM(AF54)=\"\"),\"\",AF53+AF54)","v":""},null,null,null,{"$f":"IF(TRIM(AI55)=\"\", \"\", IF(VLOOKUP(AI55,'Footnotes list'!$D$9:$E$58,2,FALSE)=0,\"\",VLOOKUP(AI55,'Footnotes list'!$D$9:$E$58,2,FALSE) ) )","v":""},{"$f":"IF(AND(TRIM(AK53)=\"\",TRIM(AK54)=\"\"),\"\",AK53+AK54)","v":""},null,null,null,{"$f":"IF(TRIM(AN55)=\"\", \"\", IF(VLOOKUP(AN55,'Footnotes list'!$D$9:$E$58,2,FALSE)=0,\"\",VLOOKUP(AN55,'Footnotes list'!$D$9:$E$58,2,FALSE) ) )","v":""},{"$f":"IF(AND(TRIM(AP53)=\"\", TRIM(AP54)=\"\"), \"\", SUM(AP53,AP54))","v":""},null,null,null,{"$f":"IF(TRIM(AS55)=\"\", \"\", IF(VLOOKUP(AS55,'Footnotes list'!$D$9:$E$58,2,FALSE)=0,\"\",VLOOKUP(AS55,'Footnotes list'!$D$9:$E$58,2,FALSE) ) )","v":""},{"$f":"IF(AND(TRIM(AU53)=\"\", TRIM(AU54)=\"\"), \"\", SUM(AU53,AU54) )","v":""},null,null,null,{"$f":"IF(TRIM(AX55)=\"\", \"\", IF(VLOOKUP(AX55,'Footnotes list'!$D$9:$E$58,2,FALSE)=0,\"\",VLOOKUP(AX55,'Footnotes list'!$D$9:$E$58,2,FALSE) ) )","v":""}]
[null,"W077","W077","Waste containing PCB ","HAZ","Hazardous ",null,null,null,null,{"$f":"IF(TRIM(J56)=\"\", \"\", IF(VLOOKUP(J56,'Footnotes list'!$D$9:$E$58,2,FALSE)=0,\"\",VLOOKUP(J56,'Footnotes list'!$D$9:$E$58,2,FALSE) ) )","v":""},null,null,null,null,{"$f":"IF(TRIM(O56)=\"\", \"\", IF(VLOOKUP(O56,'Footnotes list'!$D$9:$E$58,2,FALSE)=0,\"\",VLOOKUP(O56,'Footnotes list'!$D$9:$E$58,2,FALSE) ) )","v":""},null,null,null,null,{"$f":"IF(TRIM(T56)=\"\", \"\", IF(VLOOKUP(T56,'Footnotes list'!$D$9:$E$58,2,FALSE)=0,\"\",VLOOKUP(T56,'Footnotes list'!$D$9:$E$58,2,FALSE) ) )","v":""},null,null,null,null,{"$f":"IF(TRIM(Y56)=\"\", \"\", IF(VLOOKUP(Y56,'Footnotes list'!$D$9:$E$58,2,FALSE)=0,\"\",VLOOKUP(Y56,'Footnotes list'!$D$9:$E$58,2,FALSE) ) )","v":""},{"$f":"IF(AND(TRIM(Q56)=\"\",TRIM(V56)=\"\"),\"\",Q56+V56)","v":""},null,null,null,{"$f":"IF(TRIM(AD56)=\"\", \"\", IF(VLOOKUP(AD56,'Footnotes list'!$D$9:$E$58,2,FALSE)=0,\"\",VLOOKUP(AD56,'Footnotes list'!$D$9:$E$58,2,FALSE) ) )","v":""},null,null,null,null,{"$f":"IF(TRIM(AI56)=\"\", \"\", IF(VLOOKUP(AI56,'Footnotes list'!$D$9:$E$58,2,FALSE)=0,\"\",VLOOKUP(AI56,'Footnotes list'!$D$9:$E$58,2,FALSE) ) )","v":""},null,null,null,null,{"$f":"IF(TRIM(AN56)=\"\", \"\", IF(VLOOKUP(AN56,'Footnotes list'!$D$9:$E$58,2,FALSE)=0,\"\",VLOOKUP(AN56,'Footnotes list'!$D$9:$E$58,2,FALSE) ) )","v":""},{"$f":"IF(AND(TRIM(AF56)=\"\",TRIM(AK56)=\"\"),\"\",AF56+AK56)","v":""},null,null,null,{"$f":"IF(TRIM(AS56)=\"\", \"\", IF(VLOOKUP(AS56,'Footnotes list'!$D$9:$E$58,2,FALSE)=0,\"\",VLOOKUP(AS56,'Footnotes list'!$D$9:$E$58,2,FALSE) ) )","v":""},{"$f":"IF(AND(TRIM(G56)=\"\",TRIM(L56)=\"\",TRIM(AA56)=\"\",TRIM(AP56)=\"\"),\"\",SUM(G56,L56,AA56,AP56))","v":""},null,null,null,{"$f":"IF(TRIM(AX56)=\"\", \"\", IF(VLOOKUP(AX56,'Footnotes list'!$D$9:$E$58,2,FALSE)=0,\"\",VLOOKUP(AX56,'Footnotes list'!$D$9:$E$58,2,FALSE) ) )","v":""}]
[null,null,null,null,null,"Not applicable"]
[null,null,"W077",null,"HAZ_NHAZ","Total",{"$f":"IF(AND(TRIM(G56)=\"\",TRIM(G57)=\"\"),\"\",G56+G57)","v":""},null,null,null,{"$f":"IF(TRIM(J58)=\"\", \"\", IF(VLOOKUP(J58,'Footnotes list'!$D$9:$E$58,2,FALSE)=0,\"\",VLOOKUP(J58,'Footnotes list'!$D$9:$E$58,2,FALSE) ) )","v":""},{"$f":"IF(AND(TRIM(L56)=\"\",TRIM(L57)=\"\"),\"\",L56+L57)","v":""},null,null,null,{"$f":"IF(TRIM(O58)=\"\", \"\", IF(VLOOKUP(O58,'Footnotes list'!$D$9:$E$58,2,FALSE)=0,\"\",VLOOKUP(O58,'Footnotes list'!$D$9:$E$58,2,FALSE) ) )","v":""},{"$f":"IF(AND(TRIM(Q56)=\"\",TRIM(Q57)=\"\"),\"\",Q56+Q57)","v":""},null,null,null,{"$f":"IF(TRIM(T58)=\"\", \"\", IF(VLOOKUP(T58,'Footnotes list'!$D$9:$E$58,2,FALSE)=0,\"\",VLOOKUP(T58,'Footnotes list'!$D$9:$E$58,2,FALSE) ) )","v":""},{"$f":"IF(AND(TRIM(V56)=\"\",TRIM(V57)=\"\"),\"\",V56+V57)","v":""},null,null,null,{"$f":"IF(TRIM(Y58)=\"\", \"\", IF(VLOOKUP(Y58,'Footnotes list'!$D$9:$E$58,2,FALSE)=0,\"\",VLOOKUP(Y58,'Footnotes list'!$D$9:$E$58,2,FALSE) ) )","v":""},{"$f":"IF(AND(TRIM(AA56)=\"\", TRIM(AA57)=\"\"), \"\", SUM(AA56,AA57))","v":""},null,null,null,{"$f":"IF(TRIM(AD58)=\"\", \"\", IF(VLOOKUP(AD58,'Footnotes list'!$D$9:$E$58,2,FALSE)=0,\"\",VLOOKUP(AD58,'Footnotes list'!$D$9:$E$58,2,FALSE) ) )","v":""},{"$f":"IF(AND(TRIM(AF56)=\"\",TRIM(AF57)=\"\"),\"\",AF56+AF57)","v":""},null,null,null,{"$f":"IF(TRIM(AI58)=\"\", \"\", IF(VLOOKUP(AI58,'Footnotes list'!$D$9:$E$58,2,FALSE)=0,\"\",VLOOKUP(AI58,'Footnotes list'!$D$9:$E$58,2,FALSE) ) )","v":""},{"$f":"IF(AND(TRIM(AK56)=\"\",TRIM(AK57)=\"\"),\"\",AK56+AK57)","v":""},null,null,null,{"$f":"IF(TRIM(AN58)=\"\", \"\", IF(VLOOKUP(AN58,'Footnotes list'!$D$9:$E$58,2,FALSE)=0,\"\",VLOOKUP(AN58,'Footnotes list'!$D$9:$E$58,2,FALSE) ) )","v":""},{"$f":"IF(AND(TRIM(AP56)=\"\", TRIM(AP57)=\"\"), \"\", SUM(AP56,AP57))","v":""},null,null,null,{"$f":"IF(TRIM(AS58)=\"\", \"\", IF(VLOOKUP(AS58,'Footnotes list'!$D$9:$E$58,2,FALSE)=0,\"\",VLOOKUP(AS58,'Footnotes list'!$D$9:$E$58,2,FALSE) ) )","v":""},{"$f":"IF(AND(TRIM(AU56)=\"\", TRIM(AU57)=\"\"), \"\", SUM(AU56,AU57) )","v":""},null,null,null,{"$f":"IF(TRIM(AX58)=\"\", \"\", IF(VLOOKUP(AX58,'Footnotes list'!$D$9:$E$58,2,FALSE)=0,\"\",VLOOKUP(AX58,'Footnotes list'!$D$9:$E$58,2,FALSE) ) )","v":""}]
[null,"W08A","W08A","Discarded equipment (except discarded vehicles and batteries and accumulators waste) (W08 except W081, W0841)","HAZ","Hazardous ",null,null,null,null,{"$f":"IF(TRIM(J59)=\"\", \"\", IF(VLOOKUP(J59,'Footnotes list'!$D$9:$E$58,2,FALSE)=0,\"\",VLOOKUP(J59,'Footnotes list'!$D$9:$E$58,2,FALSE) ) )","v":""},null,null,null,null,{"$f":"IF(TRIM(O59)=\"\", \"\", IF(VLOOKUP(O59,'Footnotes list'!$D$9:$E$58,2,FALSE)=0,\"\",VLOOKUP(O59,'Footnotes list'!$D$9:$E$58,2,FALSE) ) )","v":""},null,null,null,null,{"$f":"IF(TRIM(T59)=\"\", \"\", IF(VLOOKUP(T59,'Footnotes list'!$D$9:$E$58,2,FALSE)=0,\"\",VLOOKUP(T59,'Footnotes list'!$D$9:$E$58,2,FALSE) ) )","v":""},null,null,null,null,{"$f":"IF(TRIM(Y59)=\"\", \"\", IF(VLOOKUP(Y59,'Footnotes list'!$D$9:$E$58,2,FALSE)=0,\"\",VLOOKUP(Y59,'Footnotes list'!$D$9:$E$58,2,FALSE) ) )","v":""},{"$f":"IF(AND(TRIM(Q59)=\"\",TRIM(V59)=\"\"),\"\",Q59+V59)","v":""},null,null,null,{"$f":"IF(TRIM(AD59)=\"\", \"\", IF(VLOOKUP(AD59,'Footnotes list'!$D$9:$E$58,2,FALSE)=0,\"\",VLOOKUP(AD59,'Footnotes list'!$D$9:$E$58,2,FALSE) ) )","v":""},null,null,null,null,{"$f":"IF(TRIM(AI59)=\"\", \"\", IF(VLOOKUP(AI59,'Footnotes list'!$D$9:$E$58,2,FALSE)=0,\"\",VLOOKUP(AI59,'Footnotes list'!$D$9:$E$58,2,FALSE) ) )","v":""},null,null,null,null,{"$f":"IF(TRIM(AN59)=\"\", \"\", IF(VLOOKUP(AN59,'Footnotes list'!$D$9:$E$58,2,FALSE)=0,\"\",VLOOKUP(AN59,'Footnotes list'!$D$9:$E$58,2,FALSE) ) )","v":""},{"$f":"IF(AND(TRIM(AF59)=\"\",TRIM(AK59)=\"\"),\"\",AF59+AK59)","v":""},null,null,null,{"$f":"IF(TRIM(AS59)=\"\", \"\", IF(VLOOKUP(AS59,'Footnotes list'!$D$9:$E$58,2,FALSE)=0,\"\",VLOOKUP(AS59,'Footnotes list'!$D$9:$E$58,2,FALSE) ) )","v":""},{"$f":"IF(AND(TRIM(G59)=\"\",TRIM(L59)=\"\",TRIM(AA59)=\"\",TRIM(AP59)=\"\"),\"\",SUM(G59,L59,AA59,AP59))","v":""},null,null,null,{"$f":"IF(TRIM(AX59)=\"\", \"\", IF(VLOOKUP(AX59,'Footnotes list'!$D$9:$E$58,2,FALSE)=0,\"\",VLOOKUP(AX59,'Footnotes list'!$D$9:$E$58,2,FALSE) ) )","v":""}]
[null,null,"W08A",null,"NHAZ","Non-hazardous",null,null,null,null,{"$f":"IF(TRIM(J60)=\"\", \"\", IF(VLOOKUP(J60,'Footnotes list'!$D$9:$E$58,2,FALSE)=0,\"\",VLOOKUP(J60,'Footnotes list'!$D$9:$E$58,2,FALSE) ) )","v":""},null,null,null,null,{"$f":"IF(TRIM(O60)=\"\", \"\", IF(VLOOKUP(O60,'Footnotes list'!$D$9:$E$58,2,FALSE)=0,\"\",VLOOKUP(O60,'Footnotes list'!$D$9:$E$58,2,FALSE) ) )","v":""},null,null,null,null,{"$f":"IF(TRIM(T60)=\"\", \"\", IF(VLOOKUP(T60,'Footnotes list'!$D$9:$E$58,2,FALSE)=0,\"\",VLOOKUP(T60,'Footnotes list'!$D$9:$E$58,2,FALSE) ) )","v":""},null,null,null,null,{"$f":"IF(TRIM(Y60)=\"\", \"\", IF(VLOOKUP(Y60,'Footnotes list'!$D$9:$E$58,2,FALSE)=0,\"\",VLOOKUP(Y60,'Footnotes list'!$D$9:$E$58,2,FALSE) ) )","v":""},{"$f":"IF(AND(TRIM(Q60)=\"\",TRIM(V60)=\"\"),\"\",Q60+V60)","v":""},null,null,null,{"$f":"IF(TRIM(AD60)=\"\", \"\", IF(VLOOKUP(AD60,'Footnotes list'!$D$9:$E$58,2,FALSE)=0,\"\",VLOOKUP(AD60,'Footnotes list'!$D$9:$E$58,2,FALSE) ) )","v":""},null,null,null,null,{"$f":"IF(TRIM(AI60)=\"\", \"\", IF(VLOOKUP(AI60,'Footnotes list'!$D$9:$E$58,2,FALSE)=0,\"\",VLOOKUP(AI60,'Footnotes list'!$D$9:$E$58,2,FALSE) ) )","v":""},null,null,null,null,{"$f":"IF(TRIM(AN60)=\"\", \"\", IF(VLOOKUP(AN60,'Footnotes list'!$D$9:$E$58,2,FALSE)=0,\"\",VLOOKUP(AN60,'Footnotes list'!$D$9:$E$58,2,FALSE) ) )","v":""},{"$f":"IF(AND(TRIM(AF60)=\"\",TRIM(AK60)=\"\"),\"\",AF60+AK60)","v":""},null,null,null,{"$f":"IF(TRIM(AS60)=\"\", \"\", IF(VLOOKUP(AS60,'Footnotes list'!$D$9:$E$58,2,FALSE)=0,\"\",VLOOKUP(AS60,'Footnotes list'!$D$9:$E$58,2,FALSE) ) )","v":""},{"$f":"IF(AND(TRIM(G60)=\"\",TRIM(L60)=\"\",TRIM(AA60)=\"\",TRIM(AP60)=\"\"),\"\",SUM(G60,L60,AA60,AP60))","v":""},null,null,null,{"$f":"IF(TRIM(AX60)=\"\", \"\", IF(VLOOKUP(AX60,'Footnotes list'!$D$9:$E$58,2,FALSE)=0,\"\",VLOOKUP(AX60,'Footnotes list'!$D$9:$E$58,2,FALSE) ) )","v":""}]
[null,null,"W08A",null,"HAZ_NHAZ","Total",{"$f":"IF(AND(TRIM(G59)=\"\",TRIM(G60)=\"\"),\"\",G59+G60)","v":""},null,null,null,{"$f":"IF(TRIM(J61)=\"\", \"\", IF(VLOOKUP(J61,'Footnotes list'!$D$9:$E$58,2,FALSE)=0,\"\",VLOOKUP(J61,'Footnotes list'!$D$9:$E$58,2,FALSE) ) )","v":""},{"$f":"IF(AND(TRIM(L59)=\"\",TRIM(L60)=\"\"),\"\",L59+L60)","v":""},null,null,null,{"$f":"IF(TRIM(O61)=\"\", \"\", IF(VLOOKUP(O61,'Footnotes list'!$D$9:$E$58,2,FALSE)=0,\"\",VLOOKUP(O61,'Footnotes list'!$D$9:$E$58,2,FALSE) ) )","v":""},{"$f":"IF(AND(TRIM(Q59)=\"\",TRIM(Q60)=\"\"),\"\",Q59+Q60)","v":""},null,null,null,{"$f":"IF(TRIM(T61)=\"\", \"\", IF(VLOOKUP(T61,'Footnotes list'!$D$9:$E$58,2,FALSE)=0,\"\",VLOOKUP(T61,'Footnotes list'!$D$9:$E$58,2,FALSE) ) )","v":""},{"$f":"IF(AND(TRIM(V59)=\"\",TRIM(V60)=\"\"),\"\",V59+V60)","v":""},null,null,null,{"$f":"IF(TRIM(Y61)=\"\", \"\", IF(VLOOKUP(Y61,'Footnotes list'!$D$9:$E$58,2,FALSE)=0,\"\",VLOOKUP(Y61,'Footnotes list'!$D$9:$E$58,2,FALSE) ) )","v":""},{"$f":"IF(AND(TRIM(AA59)=\"\", TRIM(AA60)=\"\"), \"\", SUM(AA59,AA60))","v":""},null,null,null,{"$f":"IF(TRIM(AD61)=\"\", \"\", IF(VLOOKUP(AD61,'Footnotes list'!$D$9:$E$58,2,FALSE)=0,\"\",VLOOKUP(AD61,'Footnotes list'!$D$9:$E$58,2,FALSE) ) )","v":""},{"$f":"IF(AND(TRIM(AF59)=\"\",TRIM(AF60)=\"\"),\"\",AF59+AF60)","v":""},null,null,null,{"$f":"IF(TRIM(AI61)=\"\", \"\", IF(VLOOKUP(AI61,'Footnotes list'!$D$9:$E$58,2,FALSE)=0,\"\",VLOOKUP(AI61,'Footnotes list'!$D$9:$E$58,2,FALSE) ) )","v":""},{"$f":"IF(AND(TRIM(AK59)=\"\",TRIM(AK60)=\"\"),\"\",AK59+AK60)","v":""},null,null,null,{"$f":"IF(TRIM(AN61)=\"\", \"\", IF(VLOOKUP(AN61,'Footnotes list'!$D$9:$E$58,2,FALSE)=0,\"\",VLOOKUP(AN61,'Footnotes list'!$D$9:$E$58,2,FALSE) ) )","v":""},{"$f":"IF(AND(TRIM(AP59)=\"\", TRIM(AP60)=\"\"), \"\", SUM(AP59,AP60))","v":""},null,null,null,{"$f":"IF(TRIM(AS61)=\"\", \"\", IF(VLOOKUP(AS61,'Footnotes list'!$D$9:$E$58,2,FALSE)=0,\"\",VLOOKUP(AS61,'Footnotes list'!$D$9:$E$58,2,FALSE) ) )","v":""},{"$f":"IF(AND(TRIM(AU59)=\"\", TRIM(AU60)=\"\"), \"\", SUM(AU59,AU60) )","v":""},null,null,null,{"$f":"IF(TRIM(AX61)=\"\", \"\", IF(VLOOKUP(AX61,'Footnotes list'!$D$9:$E$58,2,FALSE)=0,\"\",VLOOKUP(AX61,'Footnotes list'!$D$9:$E$58,2,FALSE) ) )","v":""}]
[null,"W081","W081","Discarded vehicles ","HAZ","Hazardous ",null,null,null,null,{"$f":"IF(TRIM(J62)=\"\", \"\", IF(VLOOKUP(J62,'Footnotes list'!$D$9:$E$58,2,FALSE)=0,\"\",VLOOKUP(J62,'Footnotes list'!$D$9:$E$58,2,FALSE) ) )","v":""},null,null,null,null,{"$f":"IF(TRIM(O62)=\"\", \"\", IF(VLOOKUP(O62,'Footnotes list'!$D$9:$E$58,2,FALSE)=0,\"\",VLOOKUP(O62,'Footnotes list'!$D$9:$E$58,2,FALSE) ) )","v":""},null,null,null,null,{"$f":"IF(TRIM(T62)=\"\", \"\", IF(VLOOKUP(T62,'Footnotes list'!$D$9:$E$58,2,FALSE)=0,\"\",VLOOKUP(T62,'Footnotes list'!$D$9:$E$58,2,FALSE) ) )","v":""},null,null,null,null,{"$f":"IF(TRIM(Y62)=\"\", \"\", IF(VLOOKUP(Y62,'Footnotes list'!$D$9:$E$58,2,FALSE)=0,\"\",VLOOKUP(Y62,'Footnotes list'!$D$9:$E$58,2,FALSE) ) )","v":""},{"$f":"IF(AND(TRIM(Q62)=\"\",TRIM(V62)=\"\"),\"\",Q62+V62)","v":""},null,null,null,{"$f":"IF(TRIM(AD62)=\"\", \"\", IF(VLOOKUP(AD62,'Footnotes list'!$D$9:$E$58,2,FALSE)=0,\"\",VLOOKUP(AD62,'Footnotes list'!$D$9:$E$58,2,FALSE) ) )","v":""},null,null,null,null,{"$f":"IF(TRIM(AI62)=\"\", \"\", IF(VLOOKUP(AI62,'Footnotes list'!$D$9:$E$58,2,FALSE)=0,\"\",VLOOKUP(AI62,'Footnotes list'!$D$9:$E$58,2,FALSE) ) )","v":""},null,null,null,null,{"$f":"IF(TRIM(AN62)=\"\", \"\", IF(VLOOKUP(AN62,'Footnotes list'!$D$9:$E$58,2,FALSE)=0,\"\",VLOOKUP(AN62,'Footnotes list'!$D$9:$E$58,2,FALSE) ) )","v":""},{"$f":"IF(AND(TRIM(AF62)=\"\",TRIM(AK62)=\"\"),\"\",AF62+AK62)","v":""},null,null,null,{"$f":"IF(TRIM(AS62)=\"\", \"\", IF(VLOOKUP(AS62,'Footnotes list'!$D$9:$E$58,2,FALSE)=0,\"\",VLOOKUP(AS62,'Footnotes list'!$D$9:$E$58,2,FALSE) ) )","v":""},{"$f":"IF(AND(TRIM(G62)=\"\",TRIM(L62)=\"\",TRIM(AA62)=\"\",TRIM(AP62)=\"\"),\"\",SUM(G62,L62,AA62,AP62))","v":""},null,null,null,{"$f":"IF(TRIM(AX62)=\"\", \"\", IF(VLOOKUP(AX62,'Footnotes list'!$D$9:$E$58,2,FALSE)=0,\"\",VLOOKUP(AX62,'Footnotes list'!$D$9:$E$58,2,FALSE) ) )","v":""}]
[null,null,"W081",null,"NHAZ","Non-hazardous",null,null,null,null,{"$f":"IF(TRIM(J63)=\"\", \"\", IF(VLOOKUP(J63,'Footnotes list'!$D$9:$E$58,2,FALSE)=0,\"\",VLOOKUP(J63,'Footnotes list'!$D$9:$E$58,2,FALSE) ) )","v":""},null,null,null,null,{"$f":"IF(TRIM(O63)=\"\", \"\", IF(VLOOKUP(O63,'Footnotes list'!$D$9:$E$58,2,FALSE)=0,\"\",VLOOKUP(O63,'Footnotes list'!$D$9:$E$58,2,FALSE) ) )","v":""},null,null,null,null,{"$f":"IF(TRIM(T63)=\"\", \"\", IF(VLOOKUP(T63,'Footnotes list'!$D$9:$E$58,2,FALSE)=0,\"\",VLOOKUP(T63,'Footnotes list'!$D$9:$E$58,2,FALSE) ) )","v":""},null,null,null,null,{"$f":"IF(TRIM(Y63)=\"\", \"\", IF(VLOOKUP(Y63,'Footnotes list'!$D$9:$E$58,2,FALSE)=0,\"\",VLOOKUP(Y63,'Footnotes list'!$D$9:$E$58,2,FALSE) ) )","v":""},{"$f":"IF(AND(TRIM(Q63)=\"\",TRIM(V63)=\"\"),\"\",Q63+V63)","v":""},null,null,null,{"$f":"IF(TRIM(AD63)=\"\", \"\", IF(VLOOKUP(AD63,'Footnotes list'!$D$9:$E$58,2,FALSE)=0,\"\",VLOOKUP(AD63,'Footnotes list'!$D$9:$E$58,2,FALSE) ) )","v":""},null,null,null,null,{"$f":"IF(TRIM(AI63)=\"\", \"\", IF(VLOOKUP(AI63,'Footnotes list'!$D$9:$E$58,2,FALSE)=0,\"\",VLOOKUP(AI63,'Footnotes list'!$D$9:$E$58,2,FALSE) ) )","v":""},null,null,null,null,{"$f":"IF(TRIM(AN63)=\"\", \"\", IF(VLOOKUP(AN63,'Footnotes list'!$D$9:$E$58,2,FALSE)=0,\"\",VLOOKUP(AN63,'Footnotes list'!$D$9:$E$58,2,FALSE) ) )","v":""},{"$f":"IF(AND(TRIM(AF63)=\"\",TRIM(AK63)=\"\"),\"\",AF63+AK63)","v":""},null,null,null,{"$f":"IF(TRIM(AS63)=\"\", \"\", IF(VLOOKUP(AS63,'Footnotes list'!$D$9:$E$58,2,FALSE)=0,\"\",VLOOKUP(AS63,'Footnotes list'!$D$9:$E$58,2,FALSE) ) )","v":""},{"$f":"IF(AND(TRIM(G63)=\"\",TRIM(L63)=\"\",TRIM(AA63)=\"\",TRIM(AP63)=\"\"),\"\",SUM(G63,L63,AA63,AP63))","v":""},null,null,null,{"$f":"IF(TRIM(AX63)=\"\", \"\", IF(VLOOKUP(AX63,'Footnotes list'!$D$9:$E$58,2,FALSE)=0,\"\",VLOOKUP(AX63,'Footnotes list'!$D$9:$E$58,2,FALSE) ) )","v":""}]
[null,null,"W081",null,"HAZ_NHAZ","Total",{"$f":"IF(AND(TRIM(G62)=\"\",TRIM(G63)=\"\"),\"\",G62+G63)","v":""},null,null,null,{"$f":"IF(TRIM(J64)=\"\", \"\", IF(VLOOKUP(J64,'Footnotes list'!$D$9:$E$58,2,FALSE)=0,\"\",VLOOKUP(J64,'Footnotes list'!$D$9:$E$58,2,FALSE) ) )","v":""},{"$f":"IF(AND(TRIM(L62)=\"\",TRIM(L63)=\"\"),\"\",L62+L63)","v":""},null,null,null,{"$f":"IF(TRIM(O64)=\"\", \"\", IF(VLOOKUP(O64,'Footnotes list'!$D$9:$E$58,2,FALSE)=0,\"\",VLOOKUP(O64,'Footnotes list'!$D$9:$E$58,2,FALSE) ) )","v":""},{"$f":"IF(AND(TRIM(Q62)=\"\",TRIM(Q63)=\"\"),\"\",Q62+Q63)","v":""},null,null,null,{"$f":"IF(TRIM(T64)=\"\", \"\", IF(VLOOKUP(T64,'Footnotes list'!$D$9:$E$58,2,FALSE)=0,\"\",VLOOKUP(T64,'Footnotes list'!$D$9:$E$58,2,FALSE) ) )","v":""},{"$f":"IF(AND(TRIM(V62)=\"\",TRIM(V63)=\"\"),\"\",V62+V63)","v":""},null,null,null,{"$f":"IF(TRIM(Y64)=\"\", \"\", IF(VLOOKUP(Y64,'Footnotes list'!$D$9:$E$58,2,FALSE)=0,\"\",VLOOKUP(Y64,'Footnotes list'!$D$9:$E$58,2,FALSE) ) )","v":""},{"$f":"IF(AND(TRIM(AA62)=\"\", TRIM(AA63)=\"\"), \"\", SUM(AA62,AA63))","v":""},null,null,null,{"$f":"IF(TRIM(AD64)=\"\", \"\", IF(VLOOKUP(AD64,'Footnotes list'!$D$9:$E$58,2,FALSE)=0,\"\",VLOOKUP(AD64,'Footnotes list'!$D$9:$E$58,2,FALSE) ) )","v":""},{"$f":"IF(AND(TRIM(AF62)=\"\",TRIM(AF63)=\"\"),\"\",AF62+AF63)","v":""},null,null,null,{"$f":"IF(TRIM(AI64)=\"\", \"\", IF(VLOOKUP(AI64,'Footnotes list'!$D$9:$E$58,2,FALSE)=0,\"\",VLOOKUP(AI64,'Footnotes list'!$D$9:$E$58,2,FALSE) ) )","v":""},{"$f":"IF(AND(TRIM(AK62)=\"\",TRIM(AK63)=\"\"),\"\",AK62+AK63)","v":""},null,null,null,{"$f":"IF(TRIM(AN64)=\"\", \"\", IF(VLOOKUP(AN64,'Footnotes list'!$D$9:$E$58,2,FALSE)=0,\"\",VLOOKUP(AN64,'Footnotes list'!$D$9:$E$58,2,FALSE) ) )","v":""},{"$f":"IF(AND(TRIM(AP62)=\"\", TRIM(AP63)=\"\"), \"\", SUM(AP62,AP63))","v":""},null,null,null,{"$f":"IF(TRIM(AS64)=\"\", \"\", IF(VLOOKUP(AS64,'Footnotes list'!$D$9:$E$58,2,FALSE)=0,\"\",VLOOKUP(AS64,'Footnotes list'!$D$9:$E$58,2,FALSE) ) )","v":""},{"$f":"IF(AND(TRIM(AU62)=\"\", TRIM(AU63)=\"\"), \"\", SUM(AU62,AU63) )","v":""},null,null,null,{"$f":"IF(TRIM(AX64)=\"\", \"\", IF(VLOOKUP(AX64,'Footnotes list'!$D$9:$E$58,2,FALSE)=0,\"\",VLOOKUP(AX64,'Footnotes list'!$D$9:$E$58,2,FALSE) ) )","v":""}]
[null,"W0841","W0841","Batteries and accumulators wastes ","HAZ","Hazardous ",null,null,null,null,{"$f":"IF(TRIM(J65)=\"\", \"\", IF(VLOOKUP(J65,'Footnotes list'!$D$9:$E$58,2,FALSE)=0,\"\",VLOOKUP(J65,'Footnotes list'!$D$9:$E$58,2,FALSE) ) )","v":""},null,null,null,null,{"$f":"IF(TRIM(O65)=\"\", \"\", IF(VLOOKUP(O65,'Footnotes list'!$D$9:$E$58,2,FALSE)=0,\"\",VLOOKUP(O65,'Footnotes list'!$D$9:$E$58,2,FALSE) ) )","v":""},null,null,null,null,{"$f":"IF(TRIM(T65)=\"\", \"\", IF(VLOOKUP(T65,'Footnotes list'!$D$9:$E$58,2,FALSE)=0,\"\",VLOOKUP(T65,'Footnotes list'!$D$9:$E$58,2,FALSE) ) )","v":""},null,null,null,null,{"$f":"IF(TRIM(Y65)=\"\", \"\", IF(VLOOKUP(Y65,'Footnotes list'!$D$9:$E$58,2,FALSE)=0,\"\",VLOOKUP(Y65,'Footnotes list'!$D$9:$E$58,2,FALSE) ) )","v":""},{"$f":"IF(AND(TRIM(Q65)=\"\",TRIM(V65)=\"\"),\"\",Q65+V65)","v":""},null,null,null,{"$f":"IF(TRIM(AD65)=\"\", \"\", IF(VLOOKUP(AD65,'Footnotes list'!$D$9:$E$58,2,FALSE)=0,\"\",VLOOKUP(AD65,'Footnotes list'!$D$9:$E$58,2,FALSE) ) )","v":""},null,null,null,null,{"$f":"IF(TRIM(AI65)=\"\", \"\", IF(VLOOKUP(AI65,'Footnotes list'!$D$9:$E$58,2,FALSE)=0,\"\",VLOOKUP(AI65,'Footnotes list'!$D$9:$E$58,2,FALSE) ) )","v":""},null,null,null,null,{"$f":"IF(TRIM(AN65)=\"\", \"\", IF(VLOOKUP(AN65,'Footnotes list'!$D$9:$E$58,2,FALSE)=0,\"\",VLOOKUP(AN65,'Footnotes list'!$D$9:$E$58,2,FALSE) ) )","v":""},{"$f":"IF(AND(TRIM(AF65)=\"\",TRIM(AK65)=\"\"),\"\",AF65+AK65)","v":""},null,null,null,{"$f":"IF(TRIM(AS65)=\"\", \"\", IF(VLOOKUP(AS65,'Footnotes list'!$D$9:$E$58,2,FALSE)=0,\"\",VLOOKUP(AS65,'Footnotes list'!$D$9:$E$58,2,FALSE) ) )","v":""},{"$f":"IF(AND(TRIM(G65)=\"\",TRIM(L65)=\"\",TRIM(AA65)=\"\",TRIM(AP65)=\"\"),\"\",SUM(G65,L65,AA65,AP65))","v":""},null,null,null,{"$f":"IF(TRIM(AX65)=\"\", \"\", IF(VLOOKUP(AX65,'Footnotes list'!$D$9:$E$58,2,FALSE)=0,\"\",VLOOKUP(AX65,'Footnotes list'!$D$9:$E$58,2,FALSE) ) )","v":""}]
[null,null,"W0841",null,"NHAZ","Non-hazardous",null,null,null,null,{"$f":"IF(TRIM(J66)=\"\", \"\", IF(VLOOKUP(J66,'Footnotes list'!$D$9:$E$58,2,FALSE)=0,\"\",VLOOKUP(J66,'Footnotes list'!$D$9:$E$58,2,FALSE) ) )","v":""},null,null,null,null,{"$f":"IF(TRIM(O66)=\"\", \"\", IF(VLOOKUP(O66,'Footnotes list'!$D$9:$E$58,2,FALSE)=0,\"\",VLOOKUP(O66,'Footnotes list'!$D$9:$E$58,2,FALSE) ) )","v":""},null,null,null,null,{"$f":"IF(TRIM(T66)=\"\", \"\", IF(VLOOKUP(T66,'Footnotes list'!$D$9:$E$58,2,FALSE)=0,\"\",VLOOKUP(T66,'Footnotes list'!$D$9:$E$58,2,FALSE) ) )","v":""},null,null,null,null,{"$f":"IF(TRIM(Y66)=\"\", \"\", IF(VLOOKUP(Y66,'Footnotes list'!$D$9:$E$58,2,FALSE)=0,\"\",VLOOKUP(Y66,'Footnotes list'!$D$9:$E$58,2,FALSE) ) )","v":""},{"$f":"IF(AND(TRIM(Q66)=\"\",TRIM(V66)=\"\"),\"\",Q66+V66)","v":""},null,null,null,{"$f":"IF(TRIM(AD66)=\"\", \"\", IF(VLOOKUP(AD66,'Footnotes list'!$D$9:$E$58,2,FALSE)=0,\"\",VLOOKUP(AD66,'Footnotes list'!$D$9:$E$58,2,FALSE) ) )","v":""},null,null,null,null,{"$f":"IF(TRIM(AI66)=\"\", \"\", IF(VLOOKUP(AI66,'Footnotes list'!$D$9:$E$58,2,FALSE)=0,\"\",VLOOKUP(AI66,'Footnotes list'!$D$9:$E$58,2,FALSE) ) )","v":""},null,null,null,null,{"$f":"IF(TRIM(AN66)=\"\", \"\", IF(VLOOKUP(AN66,'Footnotes list'!$D$9:$E$58,2,FALSE)=0,\"\",VLOOKUP(AN66,'Footnotes list'!$D$9:$E$58,2,FALSE) ) )","v":""},{"$f":"IF(AND(TRIM(AF66)=\"\",TRIM(AK66)=\"\"),\"\",AF66+AK66)","v":""},null,null,null,{"$f":"IF(TRIM(AS66)=\"\", \"\", IF(VLOOKUP(AS66,'Footnotes list'!$D$9:$E$58,2,FALSE)=0,\"\",VLOOKUP(AS66,'Footnotes list'!$D$9:$E$58,2,FALSE) ) )","v":""},{"$f":"IF(AND(TRIM(G66)=\"\",TRIM(L66)=\"\",TRIM(AA66)=\"\",TRIM(AP66)=\"\"),\"\",SUM(G66,L66,AA66,AP66))","v":""},null,null,null,{"$f":"IF(TRIM(AX66)=\"\", \"\", IF(VLOOKUP(AX66,'Footnotes list'!$D$9:$E$58,2,FALSE)=0,\"\",VLOOKUP(AX66,'Footnotes list'!$D$9:$E$58,2,FALSE) ) )","v":""}]
[null,null,"W0841",null,"HAZ_NHAZ","Total",{"$f":"IF(AND(TRIM(G65)=\"\",TRIM(G66)=\"\"),\"\",G65+G66)","v":""},null,null,null,{"$f":"IF(TRIM(J67)=\"\", \"\", IF(VLOOKUP(J67,'Footnotes list'!$D$9:$E$58,2,FALSE)=0,\"\",VLOOKUP(J67,'Footnotes list'!$D$9:$E$58,2,FALSE) ) )","v":""},{"$f":"IF(AND(TRIM(L65)=\"\",TRIM(L66)=\"\"),\"\",L65+L66)","v":""},null,null,null,{"$f":"IF(TRIM(O67)=\"\", \"\", IF(VLOOKUP(O67,'Footnotes list'!$D$9:$E$58,2,FALSE)=0,\"\",VLOOKUP(O67,'Footnotes list'!$D$9:$E$58,2,FALSE) ) )","v":""},{"$f":"IF(AND(TRIM(Q65)=\"\",TRIM(Q66)=\"\"),\"\",Q65+Q66)","v":""},null,null,null,{"$f":"IF(TRIM(T67)=\"\", \"\", IF(VLOOKUP(T67,'Footnotes list'!$D$9:$E$58,2,FALSE)=0,\"\",VLOOKUP(T67,'Footnotes list'!$D$9:$E$58,2,FALSE) ) )","v":""},{"$f":"IF(AND(TRIM(V65)=\"\",TRIM(V66)=\"\"),\"\",V65+V66)","v":""},null,null,null,{"$f":"IF(TRIM(Y67)=\"\", \"\", IF(VLOOKUP(Y67,'Footnotes list'!$D$9:$E$58,2,FALSE)=0,\"\",VLOOKUP(Y67,'Footnotes list'!$D$9:$E$58,2,FALSE) ) )","v":""},{"$f":"IF(AND(TRIM(AA65)=\"\", TRIM(AA66)=\"\"), \"\", SUM(AA65,AA66))","v":""},null,null,null,{"$f":"IF(TRIM(AD67)=\"\", \"\", IF(VLOOKUP(AD67,'Footnotes list'!$D$9:$E$58,2,FALSE)=0,\"\",VLOOKUP(AD67,'Footnotes list'!$D$9:$E$58,2,FALSE) ) )","v":""},{"$f":"IF(AND(TRIM(AF65)=\"\",TRIM(AF66)=\"\"),\"\",AF65+AF66)","v":""},null,null,null,{"$f":"IF(TRIM(AI67)=\"\", \"\", IF(VLOOKUP(AI67,'Footnotes list'!$D$9:$E$58,2,FALSE)=0,\"\",VLOOKUP(AI67,'Footnotes list'!$D$9:$E$58,2,FALSE) ) )","v":""},{"$f":"IF(AND(TRIM(AK65)=\"\",TRIM(AK66)=\"\"),\"\",AK65+AK66)","v":""},null,null,null,{"$f":"IF(TRIM(AN67)=\"\", \"\", IF(VLOOKUP(AN67,'Footnotes list'!$D$9:$E$58,2,FALSE)=0,\"\",VLOOKUP(AN67,'Footnotes list'!$D$9:$E$58,2,FALSE) ) )","v":""},{"$f":"IF(AND(TRIM(AP65)=\"\", TRIM(AP66)=\"\"), \"\", SUM(AP65,AP66))","v":""},null,null,null,{"$f":"IF(TRIM(AS67)=\"\", \"\", IF(VLOOKUP(AS67,'Footnotes list'!$D$9:$E$58,2,FALSE)=0,\"\",VLOOKUP(AS67,'Footnotes list'!$D$9:$E$58,2,FALSE) ) )","v":""},{"$f":"IF(AND(TRIM(AU65)=\"\", TRIM(AU66)=\"\"), \"\", SUM(AU65,AU66) )","v":""},null,null,null,{"$f":"IF(TRIM(AX67)=\"\", \"\", IF(VLOOKUP(AX67,'Footnotes list'!$D$9:$E$58,2,FALSE)=0,\"\",VLOOKUP(AX67,'Footnotes list'!$D$9:$E$58,2,FALSE) ) )","v":""}]
[null,"W091",null,"Animal and mixed food waste ",null,"Not applicable"]
[null,null,"W091",null,"NHAZ","Non-hazardous",null,null,null,null,{"$f":"IF(TRIM(J69)=\"\", \"\", IF(VLOOKUP(J69,'Footnotes list'!$D$9:$E$58,2,FALSE)=0,\"\",VLOOKUP(J69,'Footnotes list'!$D$9:$E$58,2,FALSE) ) )","v":""},null,null,null,null,{"$f":"IF(TRIM(O69)=\"\", \"\", IF(VLOOKUP(O69,'Footnotes list'!$D$9:$E$58,2,FALSE)=0,\"\",VLOOKUP(O69,'Footnotes list'!$D$9:$E$58,2,FALSE) ) )","v":""},null,null,null,null,{"$f":"IF(TRIM(T69)=\"\", \"\", IF(VLOOKUP(T69,'Footnotes list'!$D$9:$E$58,2,FALSE)=0,\"\",VLOOKUP(T69,'Footnotes list'!$D$9:$E$58,2,FALSE) ) )","v":""},null,null,null,null,{"$f":"IF(TRIM(Y69)=\"\", \"\", IF(VLOOKUP(Y69,'Footnotes list'!$D$9:$E$58,2,FALSE)=0,\"\",VLOOKUP(Y69,'Footnotes list'!$D$9:$E$58,2,FALSE) ) )","v":""},{"$f":"IF(AND(TRIM(Q69)=\"\",TRIM(V69)=\"\"),\"\",Q69+V69)","v":""},null,null,null,{"$f":"IF(TRIM(AD69)=\"\", \"\", IF(VLOOKUP(AD69,'Footnotes list'!$D$9:$E$58,2,FALSE)=0,\"\",VLOOKUP(AD69,'Footnotes list'!$D$9:$E$58,2,FALSE) ) )","v":""},null,null,null,null,{"$f":"IF(TRIM(AI69)=\"\", \"\", IF(VLOOKUP(AI69,'Footnotes list'!$D$9:$E$58,2,FALSE)=0,\"\",VLOOKUP(AI69,'Footnotes list'!$D$9:$E$58,2,FALSE) ) )","v":""},null,null,null,null,{"$f":"IF(TRIM(AN69)=\"\", \"\", IF(VLOOKUP(AN69,'Footnotes list'!$D$9:$E$58,2,FALSE)=0,\"\",VLOOKUP(AN69,'Footnotes list'!$D$9:$E$58,2,FALSE) ) )","v":""},{"$f":"IF(AND(TRIM(AF69)=\"\",TRIM(AK69)=\"\"),\"\",AF69+AK69)","v":""},null,null,null,{"$f":"IF(TRIM(AS69)=\"\", \"\", IF(VLOOKUP(AS69,'Footnotes list'!$D$9:$E$58,2,FALSE)=0,\"\",VLOOKUP(AS69,'Footnotes list'!$D$9:$E$58,2,FALSE) ) )","v":""},{"$f":"IF(AND(TRIM(G69)=\"\",TRIM(L69)=\"\",TRIM(AA69)=\"\",TRIM(AP69)=\"\"),\"\",SUM(G69,L69,AA69,AP69))","v":""},null,null,null,{"$f":"IF(TRIM(AX69)=\"\", \"\", IF(VLOOKUP(AX69,'Footnotes list'!$D$9:$E$58,2,FALSE)=0,\"\",VLOOKUP(AX69,'Footnotes list'!$D$9:$E$58,2,FALSE) ) )","v":""}]
[null,null,"W091",null,"HAZ_NHAZ","Total",{"$f":"IF(AND(TRIM(G68)=\"\",TRIM(G69)=\"\"),\"\",G68+G69)","v":""},null,null,null,{"$f":"IF(TRIM(J70)=\"\", \"\", IF(VLOOKUP(J70,'Footnotes list'!$D$9:$E$58,2,FALSE)=0,\"\",VLOOKUP(J70,'Footnotes list'!$D$9:$E$58,2,FALSE) ) )","v":""},{"$f":"IF(AND(TRIM(L68)=\"\",TRIM(L69)=\"\"),\"\",L68+L69)","v":""},null,null,null,{"$f":"IF(TRIM(O70)=\"\", \"\", IF(VLOOKUP(O70,'Footnotes list'!$D$9:$E$58,2,FALSE)=0,\"\",VLOOKUP(O70,'Footnotes list'!$D$9:$E$58,2,FALSE) ) )","v":""},{"$f":"IF(AND(TRIM(Q68)=\"\",TRIM(Q69)=\"\"),\"\",Q68+Q69)","v":""},null,null,null,{"$f":"IF(TRIM(T70)=\"\", \"\", IF(VLOOKUP(T70,'Footnotes list'!$D$9:$E$58,2,FALSE)=0,\"\",VLOOKUP(T70,'Footnotes list'!$D$9:$E$58,2,FALSE) ) )","v":""},{"$f":"IF(AND(TRIM(V68)=\"\",TRIM(V69)=\"\"),\"\",V68+V69)","v":""},null,null,null,{"$f":"IF(TRIM(Y70)=\"\", \"\", IF(VLOOKUP(Y70,'Footnotes list'!$D$9:$E$58,2,FALSE)=0,\"\",VLOOKUP(Y70,'Footnotes list'!$D$9:$E$58,2,FALSE) ) )","v":""},{"$f":"IF(AND(TRIM(AA68)=\"\", TRIM(AA69)=\"\"), \"\", SUM(AA68,AA69))","v":""},null,null,null,{"$f":"IF(TRIM(AD70)=\"\", \"\", IF(VLOOKUP(AD70,'Footnotes list'!$D$9:$E$58,2,FALSE)=0,\"\",VLOOKUP(AD70,'Footnotes list'!$D$9:$E$58,2,FALSE) ) )","v":""},{"$f":"IF(AND(TRIM(AF68)=\"\",TRIM(AF69)=\"\"),\"\",AF68+AF69)","v":""},null,null,null,{"$f":"IF(TRIM(AI70)=\"\", \"\", IF(VLOOKUP(AI70,'Footnotes list'!$D$9:$E$58,2,FALSE)=0,\"\",VLOOKUP(AI70,'Footnotes list'!$D$9:$E$58,2,FALSE) ) )","v":""},{"$f":"IF(AND(TRIM(AK68)=\"\",TRIM(AK69)=\"\"),\"\",AK68+AK69)","v":""},null,null,null,{"$f":"IF(TRIM(AN70)=\"\", \"\", IF(VLOOKUP(AN70,'Footnotes list'!$D$9:$E$58,2,FALSE)=0,\"\",VLOOKUP(AN70,'Footnotes list'!$D$9:$E$58,2,FALSE) ) )","v":""},{"$f":"IF(AND(TRIM(AP68)=\"\", TRIM(AP69)=\"\"), \"\", SUM(AP68,AP69))","v":""},null,null,null,{"$f":"IF(TRIM(AS70)=\"\", \"\", IF(VLOOKUP(AS70,'Footnotes list'!$D$9:$E$58,2,FALSE)=0,\"\",VLOOKUP(AS70,'Footnotes list'!$D$9:$E$58,2,FALSE) ) )","v":""},{"$f":"IF(AND(TRIM(AU68)=\"\", TRIM(AU69)=\"\"), \"\", SUM(AU68,AU69) )","v":""},null,null,null,{"$f":"IF(TRIM(AX70)=\"\", \"\", IF(VLOOKUP(AX70,'Footnotes list'!$D$9:$E$58,2,FALSE)=0,\"\",VLOOKUP(AX70,'Footnotes list'!$D$9:$E$58,2,FALSE) ) )","v":""}]
[null,"W092",null,"Vegetal wastes ",null,"Not applicable"]
[null,null,"W092",null,"NHAZ","Non-hazardous",null,null,null,null,{"$f":"IF(TRIM(J72)=\"\", \"\", IF(VLOOKUP(J72,'Footnotes list'!$D$9:$E$58,2,FALSE)=0,\"\",VLOOKUP(J72,'Footnotes list'!$D$9:$E$58,2,FALSE) ) )","v":""},null,null,null,null,{"$f":"IF(TRIM(O72)=\"\", \"\", IF(VLOOKUP(O72,'Footnotes list'!$D$9:$E$58,2,FALSE)=0,\"\",VLOOKUP(O72,'Footnotes list'!$D$9:$E$58,2,FALSE) ) )","v":""},null,null,null,null,{"$f":"IF(TRIM(T72)=\"\", \"\", IF(VLOOKUP(T72,'Footnotes list'!$D$9:$E$58,2,FALSE)=0,\"\",VLOOKUP(T72,'Footnotes list'!$D$9:$E$58,2,FALSE) ) )","v":""},null,null,null,null,{"$f":"IF(TRIM(Y72)=\"\", \"\", IF(VLOOKUP(Y72,'Footnotes list'!$D$9:$E$58,2,FALSE)=0,\"\",VLOOKUP(Y72,'Footnotes list'!$D$9:$E$58,2,FALSE) ) )","v":""},{"$f":"IF(AND(TRIM(Q72)=\"\",TRIM(V72)=\"\"),\"\",Q72+V72)","v":""},null,null,null,{"$f":"IF(TRIM(AD72)=\"\", \"\", IF(VLOOKUP(AD72,'Footnotes list'!$D$9:$E$58,2,FALSE)=0,\"\",VLOOKUP(AD72,'Footnotes list'!$D$9:$E$58,2,FALSE) ) )","v":""},null,null,null,null,{"$f":"IF(TRIM(AI72)=\"\", \"\", IF(VLOOKUP(AI72,'Footnotes list'!$D$9:$E$58,2,FALSE)=0,\"\",VLOOKUP(AI72,'Footnotes list'!$D$9:$E$58,2,FALSE) ) )","v":""},null,null,null,null,{"$f":"IF(TRIM(AN72)=\"\", \"\", IF(VLOOKUP(AN72,'Footnotes list'!$D$9:$E$58,2,FALSE)=0,\"\",VLOOKUP(AN72,'Footnotes list'!$D$9:$E$58,2,FALSE) ) )","v":""},{"$f":"IF(AND(TRIM(AF72)=\"\",TRIM(AK72)=\"\"),\"\",AF72+AK72)","v":""},null,null,null,{"$f":"IF(TRIM(AS72)=\"\", \"\", IF(VLOOKUP(AS72,'Footnotes list'!$D$9:$E$58,2,FALSE)=0,\"\",VLOOKUP(AS72,'Footnotes list'!$D$9:$E$58,2,FALSE) ) )","v":""},{"$f":"IF(AND(TRIM(G72)=\"\",TRIM(L72)=\"\",TRIM(AA72)=\"\",TRIM(AP72)=\"\"),\"\",SUM(G72,L72,AA72,AP72))","v":""},null,null,null,{"$f":"IF(TRIM(AX72)=\"\", \"\", IF(VLOOKUP(AX72,'Footnotes list'!$D$9:$E$58,2,FALSE)=0,\"\",VLOOKUP(AX72,'Footnotes list'!$D$9:$E$58,2,FALSE) ) )","v":""}]
[null,null,"W092",null,"HAZ_NHAZ","Total",{"$f":"IF(AND(TRIM(G71)=\"\",TRIM(G72)=\"\"),\"\",G71+G72)","v":""},null,null,null,{"$f":"IF(TRIM(J73)=\"\", \"\", IF(VLOOKUP(J73,'Footnotes list'!$D$9:$E$58,2,FALSE)=0,\"\",VLOOKUP(J73,'Footnotes list'!$D$9:$E$58,2,FALSE) ) )","v":""},{"$f":"IF(AND(TRIM(L71)=\"\",TRIM(L72)=\"\"),\"\",L71+L72)","v":""},null,null,null,{"$f":"IF(TRIM(O73)=\"\", \"\", IF(VLOOKUP(O73,'Footnotes list'!$D$9:$E$58,2,FALSE)=0,\"\",VLOOKUP(O73,'Footnotes list'!$D$9:$E$58,2,FALSE) ) )","v":""},{"$f":"IF(AND(TRIM(Q71)=\"\",TRIM(Q72)=\"\"),\"\",Q71+Q72)","v":""},null,null,null,{"$f":"IF(TRIM(T73)=\"\", \"\", IF(VLOOKUP(T73,'Footnotes list'!$D$9:$E$58,2,FALSE)=0,\"\",VLOOKUP(T73,'Footnotes list'!$D$9:$E$58,2,FALSE) ) )","v":""},{"$f":"IF(AND(TRIM(V71)=\"\",TRIM(V72)=\"\"),\"\",V71+V72)","v":""},null,null,null,{"$f":"IF(TRIM(Y73)=\"\", \"\", IF(VLOOKUP(Y73,'Footnotes list'!$D$9:$E$58,2,FALSE)=0,\"\",VLOOKUP(Y73,'Footnotes list'!$D$9:$E$58,2,FALSE) ) )","v":""},{"$f":"IF(AND(TRIM(AA71)=\"\", TRIM(AA72)=\"\"), \"\", SUM(AA71,AA72))","v":""},null,null,null,{"$f":"IF(TRIM(AD73)=\"\", \"\", IF(VLOOKUP(AD73,'Footnotes list'!$D$9:$E$58,2,FALSE)=0,\"\",VLOOKUP(AD73,'Footnotes list'!$D$9:$E$58,2,FALSE) ) )","v":""},{"$f":"IF(AND(TRIM(AF71)=\"\",TRIM(AF72)=\"\"),\"\",AF71+AF72)","v":""},null,null,null,{"$f":"IF(TRIM(AI73)=\"\", \"\", IF(VLOOKUP(AI73,'Footnotes list'!$D$9:$E$58,2,FALSE)=0,\"\",VLOOKUP(AI73,'Footnotes list'!$D$9:$E$58,2,FALSE) ) )","v":""},{"$f":"IF(AND(TRIM(AK71)=\"\",TRIM(AK72)=\"\"),\"\",AK71+AK72)","v":""},null,null,null,{"$f":"IF(TRIM(AN73)=\"\", \"\", IF(VLOOKUP(AN73,'Footnotes list'!$D$9:$E$58,2,FALSE)=0,\"\",VLOOKUP(AN73,'Footnotes list'!$D$9:$E$58,2,FALSE) ) )","v":""},{"$f":"IF(AND(TRIM(AP71)=\"\", TRIM(AP72)=\"\"), \"\", SUM(AP71,AP72))","v":""},null,null,null,{"$f":"IF(TRIM(AS73)=\"\", \"\", IF(VLOOKUP(AS73,'Footnotes list'!$D$9:$E$58,2,FALSE)=0,\"\",VLOOKUP(AS73,'Footnotes list'!$D$9:$E$58,2,FALSE) ) )","v":""},{"$f":"IF(AND(TRIM(AU71)=\"\", TRIM(AU72)=\"\"), \"\", SUM(AU71,AU72) )","v":""},null,null,null,{"$f":"IF(TRIM(AX73)=\"\", \"\", IF(VLOOKUP(AX73,'Footnotes list'!$D$9:$E$58,2,FALSE)=0,\"\",VLOOKUP(AX73,'Footnotes list'!$D$9:$E$58,2,FALSE) ) )","v":""}]
[null,"W093",null,"Animal faeces, urine and manure ",null,"Not applicable"]
[null,null,"W093",null,"NHAZ","Non-hazardous",null,null,null,null,{"$f":"IF(TRIM(J75)=\"\", \"\", IF(VLOOKUP(J75,'Footnotes list'!$D$9:$E$58,2,FALSE)=0,\"\",VLOOKUP(J75,'Footnotes list'!$D$9:$E$58,2,FALSE) ) )","v":""},null,null,null,null,{"$f":"IF(TRIM(O75)=\"\", \"\", IF(VLOOKUP(O75,'Footnotes list'!$D$9:$E$58,2,FALSE)=0,\"\",VLOOKUP(O75,'Footnotes list'!$D$9:$E$58,2,FALSE) ) )","v":""},null,null,null,null,{"$f":"IF(TRIM(T75)=\"\", \"\", IF(VLOOKUP(T75,'Footnotes list'!$D$9:$E$58,2,FALSE)=0,\"\",VLOOKUP(T75,'Footnotes list'!$D$9:$E$58,2,FALSE) ) )","v":""},null,null,null,null,{"$f":"IF(TRIM(Y75)=\"\", \"\", IF(VLOOKUP(Y75,'Footnotes list'!$D$9:$E$58,2,FALSE)=0,\"\",VLOOKUP(Y75,'Footnotes list'!$D$9:$E$58,2,FALSE) ) )","v":""},{"$f":"IF(AND(TRIM(Q75)=\"\",TRIM(V75)=\"\"),\"\",Q75+V75)","v":""},null,null,null,{"$f":"IF(TRIM(AD75)=\"\", \"\", IF(VLOOKUP(AD75,'Footnotes list'!$D$9:$E$58,2,FALSE)=0,\"\",VLOOKUP(AD75,'Footnotes list'!$D$9:$E$58,2,FALSE) ) )","v":""},null,null,null,null,{"$f":"IF(TRIM(AI75)=\"\", \"\", IF(VLOOKUP(AI75,'Footnotes list'!$D$9:$E$58,2,FALSE)=0,\"\",VLOOKUP(AI75,'Footnotes list'!$D$9:$E$58,2,FALSE) ) )","v":""},null,null,null,null,{"$f":"IF(TRIM(AN75)=\"\", \"\", IF(VLOOKUP(AN75,'Footnotes list'!$D$9:$E$58,2,FALSE)=0,\"\",VLOOKUP(AN75,'Footnotes list'!$D$9:$E$58,2,FALSE) ) )","v":""},{"$f":"IF(AND(TRIM(AF75)=\"\",TRIM(AK75)=\"\"),\"\",AF75+AK75)","v":""},null,null,null,{"$f":"IF(TRIM(AS75)=\"\", \"\", IF(VLOOKUP(AS75,'Footnotes list'!$D$9:$E$58,2,FALSE)=0,\"\",VLOOKUP(AS75,'Footnotes list'!$D$9:$E$58,2,FALSE) ) )","v":""},{"$f":"IF(AND(TRIM(G75)=\"\",TRIM(L75)=\"\",TRIM(AA75)=\"\",TRIM(AP75)=\"\"),\"\",SUM(G75,L75,AA75,AP75))","v":""},null,null,null,{"$f":"IF(TRIM(AX75)=\"\", \"\", IF(VLOOKUP(AX75,'Footnotes list'!$D$9:$E$58,2,FALSE)=0,\"\",VLOOKUP(AX75,'Footnotes list'!$D$9:$E$58,2,FALSE) ) )","v":""}]
[null,null,"W093",null,"HAZ_NHAZ","Total",{"$f":"IF(AND(TRIM(G74)=\"\",TRIM(G75)=\"\"),\"\",G74+G75)","v":""},null,null,null,{"$f":"IF(TRIM(J76)=\"\", \"\", IF(VLOOKUP(J76,'Footnotes list'!$D$9:$E$58,2,FALSE)=0,\"\",VLOOKUP(J76,'Footnotes list'!$D$9:$E$58,2,FALSE) ) )","v":""},{"$f":"IF(AND(TRIM(L74)=\"\",TRIM(L75)=\"\"),\"\",L74+L75)","v":""},null,null,null,{"$f":"IF(TRIM(O76)=\"\", \"\", IF(VLOOKUP(O76,'Footnotes list'!$D$9:$E$58,2,FALSE)=0,\"\",VLOOKUP(O76,'Footnotes list'!$D$9:$E$58,2,FALSE) ) )","v":""},{"$f":"IF(AND(TRIM(Q74)=\"\",TRIM(Q75)=\"\"),\"\",Q74+Q75)","v":""},null,null,null,{"$f":"IF(TRIM(T76)=\"\", \"\", IF(VLOOKUP(T76,'Footnotes list'!$D$9:$E$58,2,FALSE)=0,\"\",VLOOKUP(T76,'Footnotes list'!$D$9:$E$58,2,FALSE) ) )","v":""},{"$f":"IF(AND(TRIM(V74)=\"\",TRIM(V75)=\"\"),\"\",V74+V75)","v":""},null,null,null,{"$f":"IF(TRIM(Y76)=\"\", \"\", IF(VLOOKUP(Y76,'Footnotes list'!$D$9:$E$58,2,FALSE)=0,\"\",VLOOKUP(Y76,'Footnotes list'!$D$9:$E$58,2,FALSE) ) )","v":""},{"$f":"IF(AND(TRIM(AA74)=\"\", TRIM(AA75)=\"\"), \"\", SUM(AA74,AA75))","v":""},null,null,null,{"$f":"IF(TRIM(AD76)=\"\", \"\", IF(VLOOKUP(AD76,'Footnotes list'!$D$9:$E$58,2,FALSE)=0,\"\",VLOOKUP(AD76,'Footnotes list'!$D$9:$E$58,2,FALSE) ) )","v":""},{"$f":"IF(AND(TRIM(AF74)=\"\",TRIM(AF75)=\"\"),\"\",AF74+AF75)","v":""},null,null,null,{"$f":"IF(TRIM(AI76)=\"\", \"\", IF(VLOOKUP(AI76,'Footnotes list'!$D$9:$E$58,2,FALSE)=0,\"\",VLOOKUP(AI76,'Footnotes list'!$D$9:$E$58,2,FALSE) ) )","v":""},{"$f":"IF(AND(TRIM(AK74)=\"\",TRIM(AK75)=\"\"),\"\",AK74+AK75)","v":""},null,null,null,{"$f":"IF(TRIM(AN76)=\"\", \"\", IF(VLOOKUP(AN76,'Footnotes list'!$D$9:$E$58,2,FALSE)=0,\"\",VLOOKUP(AN76,'Footnotes list'!$D$9:$E$58,2,FALSE) ) )","v":""},{"$f":"IF(AND(TRIM(AP74)=\"\", TRIM(AP75)=\"\"), \"\", SUM(AP74,AP75))","v":""},null,null,null,{"$f":"IF(TRIM(AS76)=\"\", \"\", IF(VLOOKUP(AS76,'Footnotes list'!$D$9:$E$58,2,FALSE)=0,\"\",VLOOKUP(AS76,'Footnotes list'!$D$9:$E$58,2,FALSE) ) )","v":""},{"$f":"IF(AND(TRIM(AU74)=\"\", TRIM(AU75)=\"\"), \"\", SUM(AU74,AU75) )","v":""},null,null,null,{"$f":"IF(TRIM(AX76)=\"\", \"\", IF(VLOOKUP(AX76,'Footnotes list'!$D$9:$E$58,2,FALSE)=0,\"\",VLOOKUP(AX76,'Footnotes list'!$D$9:$E$58,2,FALSE) ) )","v":""}]
[null,"W101",null,"Household and similar wastes ",null,"Not applicable"]
[null,null,"W101",null,"NHAZ","Non-hazardous",null,null,null,null,{"$f":"IF(TRIM(J78)=\"\", \"\", IF(VLOOKUP(J78,'Footnotes list'!$D$9:$E$58,2,FALSE)=0,\"\",VLOOKUP(J78,'Footnotes list'!$D$9:$E$58,2,FALSE) ) )","v":""},null,null,null,null,{"$f":"IF(TRIM(O78)=\"\", \"\", IF(VLOOKUP(O78,'Footnotes list'!$D$9:$E$58,2,FALSE)=0,\"\",VLOOKUP(O78,'Footnotes list'!$D$9:$E$58,2,FALSE) ) )","v":""},null,null,null,null,{"$f":"IF(TRIM(T78)=\"\", \"\", IF(VLOOKUP(T78,'Footnotes list'!$D$9:$E$58,2,FALSE)=0,\"\",VLOOKUP(T78,'Footnotes list'!$D$9:$E$58,2,FALSE) ) )","v":""},null,null,null,null,{"$f":"IF(TRIM(Y78)=\"\", \"\", IF(VLOOKUP(Y78,'Footnotes list'!$D$9:$E$58,2,FALSE)=0,\"\",VLOOKUP(Y78,'Footnotes list'!$D$9:$E$58,2,FALSE) ) )","v":""},{"$f":"IF(AND(TRIM(Q78)=\"\",TRIM(V78)=\"\"),\"\",Q78+V78)","v":""},null,null,null,{"$f":"IF(TRIM(AD78)=\"\", \"\", IF(VLOOKUP(AD78,'Footnotes list'!$D$9:$E$58,2,FALSE)=0,\"\",VLOOKUP(AD78,'Footnotes list'!$D$9:$E$58,2,FALSE) ) )","v":""},null,null,null,null,{"$f":"IF(TRIM(AI78)=\"\", \"\", IF(VLOOKUP(AI78,'Footnotes list'!$D$9:$E$58,2,FALSE)=0,\"\",VLOOKUP(AI78,'Footnotes list'!$D$9:$E$58,2,FALSE) ) )","v":""},null,null,null,null,{"$f":"IF(TRIM(AN78)=\"\", \"\", IF(VLOOKUP(AN78,'Footnotes list'!$D$9:$E$58,2,FALSE)=0,\"\",VLOOKUP(AN78,'Footnotes list'!$D$9:$E$58,2,FALSE) ) )","v":""},{"$f":"IF(AND(TRIM(AF78)=\"\",TRIM(AK78)=\"\"),\"\",AF78+AK78)","v":""},null,null,null,{"$f":"IF(TRIM(AS78)=\"\", \"\", IF(VLOOKUP(AS78,'Footnotes list'!$D$9:$E$58,2,FALSE)=0,\"\",VLOOKUP(AS78,'Footnotes list'!$D$9:$E$58,2,FALSE) ) )","v":""},{"$f":"IF(AND(TRIM(G78)=\"\",TRIM(L78)=\"\",TRIM(AA78)=\"\",TRIM(AP78)=\"\"),\"\",SUM(G78,L78,AA78,AP78))","v":""},null,null,null,{"$f":"IF(TRIM(AX78)=\"\", \"\", IF(VLOOKUP(AX78,'Footnotes list'!$D$9:$E$58,2,FALSE)=0,\"\",VLOOKUP(AX78,'Footnotes list'!$D$9:$E$58,2,FALSE) ) )","v":""}]
[null,null,"W101",null,"HAZ_NHAZ","Total",{"$f":"IF(AND(TRIM(G77)=\"\",TRIM(G78)=\"\"),\"\",G77+G78)","v":""},null,null,null,{"$f":"IF(TRIM(J79)=\"\", \"\", IF(VLOOKUP(J79,'Footnotes list'!$D$9:$E$58,2,FALSE)=0,\"\",VLOOKUP(J79,'Footnotes list'!$D$9:$E$58,2,FALSE) ) )","v":""},{"$f":"IF(AND(TRIM(L77)=\"\",TRIM(L78)=\"\"),\"\",L77+L78)","v":""},null,null,null,{"$f":"IF(TRIM(O79)=\"\", \"\", IF(VLOOKUP(O79,'Footnotes list'!$D$9:$E$58,2,FALSE)=0,\"\",VLOOKUP(O79,'Footnotes list'!$D$9:$E$58,2,FALSE) ) )","v":""},{"$f":"IF(AND(TRIM(Q77)=\"\",TRIM(Q78)=\"\"),\"\",Q77+Q78)","v":""},null,null,null,{"$f":"IF(TRIM(T79)=\"\", \"\", IF(VLOOKUP(T79,'Footnotes list'!$D$9:$E$58,2,FALSE)=0,\"\",VLOOKUP(T79,'Footnotes list'!$D$9:$E$58,2,FALSE) ) )","v":""},{"$f":"IF(AND(TRIM(V77)=\"\",TRIM(V78)=\"\"),\"\",V77+V78)","v":""},null,null,null,{"$f":"IF(TRIM(Y79)=\"\", \"\", IF(VLOOKUP(Y79,'Footnotes list'!$D$9:$E$58,2,FALSE)=0,\"\",VLOOKUP(Y79,'Footnotes list'!$D$9:$E$58,2,FALSE) ) )","v":""},{"$f":"IF(AND(TRIM(AA77)=\"\", TRIM(AA78)=\"\"), \"\", SUM(AA77,AA78))","v":""},null,null,null,{"$f":"IF(TRIM(AD79)=\"\", \"\", IF(VLOOKUP(AD79,'Footnotes list'!$D$9:$E$58,2,FALSE)=0,\"\",VLOOKUP(AD79,'Footnotes list'!$D$9:$E$58,2,FALSE) ) )","v":""},{"$f":"IF(AND(TRIM(AF77)=\"\",TRIM(AF78)=\"\"),\"\",AF77+AF78)","v":""},null,null,null,{"$f":"IF(TRIM(AI79)=\"\", \"\", IF(VLOOKUP(AI79,'Footnotes list'!$D$9:$E$58,2,FALSE)=0,\"\",VLOOKUP(AI79,'Footnotes list'!$D$9:$E$58,2,FALSE) ) )","v":""},{"$f":"IF(AND(TRIM(AK77)=\"\",TRIM(AK78)=\"\"),\"\",AK77+AK78)","v":""},null,null,null,{"$f":"IF(TRIM(AN79)=\"\", \"\", IF(VLOOKUP(AN79,'Footnotes list'!$D$9:$E$58,2,FALSE)=0,\"\",VLOOKUP(AN79,'Footnotes list'!$D$9:$E$58,2,FALSE) ) )","v":""},{"$f":"IF(AND(TRIM(AP77)=\"\", TRIM(AP78)=\"\"), \"\", SUM(AP77,AP78))","v":""},null,null,null,{"$f":"IF(TRIM(AS79)=\"\", \"\", IF(VLOOKUP(AS79,'Footnotes list'!$D$9:$E$58,2,FALSE)=0,\"\",VLOOKUP(AS79,'Footnotes list'!$D$9:$E$58,2,FALSE) ) )","v":""},{"$f":"IF(AND(TRIM(AU77)=\"\", TRIM(AU78)=\"\"), \"\", SUM(AU77,AU78) )","v":""},null,null,null,{"$f":"IF(TRIM(AX79)=\"\", \"\", IF(VLOOKUP(AX79,'Footnotes list'!$D$9:$E$58,2,FALSE)=0,\"\",VLOOKUP(AX79,'Footnotes list'!$D$9:$E$58,2,FALSE) ) )","v":""}]
[null,"W102","W102","Mixed and undifferentiated materials ","HAZ","Hazardous ",null,null,null,null,{"$f":"IF(TRIM(J80)=\"\", \"\", IF(VLOOKUP(J80,'Footnotes list'!$D$9:$E$58,2,FALSE)=0,\"\",VLOOKUP(J80,'Footnotes list'!$D$9:$E$58,2,FALSE) ) )","v":""},null,null,null,null,{"$f":"IF(TRIM(O80)=\"\", \"\", IF(VLOOKUP(O80,'Footnotes list'!$D$9:$E$58,2,FALSE)=0,\"\",VLOOKUP(O80,'Footnotes list'!$D$9:$E$58,2,FALSE) ) )","v":""},null,null,null,null,{"$f":"IF(TRIM(T80)=\"\", \"\", IF(VLOOKUP(T80,'Footnotes list'!$D$9:$E$58,2,FALSE)=0,\"\",VLOOKUP(T80,'Footnotes list'!$D$9:$E$58,2,FALSE) ) )","v":""},null,null,null,null,{"$f":"IF(TRIM(Y80)=\"\", \"\", IF(VLOOKUP(Y80,'Footnotes list'!$D$9:$E$58,2,FALSE)=0,\"\",VLOOKUP(Y80,'Footnotes list'!$D$9:$E$58,2,FALSE) ) )","v":""},{"$f":"IF(AND(TRIM(Q80)=\"\",TRIM(V80)=\"\"),\"\",Q80+V80)","v":""},null,null,null,{"$f":"IF(TRIM(AD80)=\"\", \"\", IF(VLOOKUP(AD80,'Footnotes list'!$D$9:$E$58,2,FALSE)=0,\"\",VLOOKUP(AD80,'Footnotes list'!$D$9:$E$58,2,FALSE) ) )","v":""},null,null,null,null,{"$f":"IF(TRIM(AI80)=\"\", \"\", IF(VLOOKUP(AI80,'Footnotes list'!$D$9:$E$58,2,FALSE)=0,\"\",VLOOKUP(AI80,'Footnotes list'!$D$9:$E$58,2,FALSE) ) )","v":""},null,null,null,null,{"$f":"IF(TRIM(AN80)=\"\", \"\", IF(VLOOKUP(AN80,'Footnotes list'!$D$9:$E$58,2,FALSE)=0,\"\",VLOOKUP(AN80,'Footnotes list'!$D$9:$E$58,2,FALSE) ) )","v":""},{"$f":"IF(AND(TRIM(AF80)=\"\",TRIM(AK80)=\"\"),\"\",AF80+AK80)","v":""},null,null,null,{"$f":"IF(TRIM(AS80)=\"\", \"\", IF(VLOOKUP(AS80,'Footnotes list'!$D$9:$E$58,2,FALSE)=0,\"\",VLOOKUP(AS80,'Footnotes list'!$D$9:$E$58,2,FALSE) ) )","v":""},{"$f":"IF(AND(TRIM(G80)=\"\",TRIM(L80)=\"\",TRIM(AA80)=\"\",TRIM(AP80)=\"\"),\"\",SUM(G80,L80,AA80,AP80))","v":""},null,null,null,{"$f":"IF(TRIM(AX80)=\"\", \"\", IF(VLOOKUP(AX80,'Footnotes list'!$D$9:$E$58,2,FALSE)=0,\"\",VLOOKUP(AX80,'Footnotes list'!$D$9:$E$58,2,FALSE) ) )","v":""}]
[null,null,"W102",null,"NHAZ","Non-hazardous",null,null,null,null,{"$f":"IF(TRIM(J81)=\"\", \"\", IF(VLOOKUP(J81,'Footnotes list'!$D$9:$E$58,2,FALSE)=0,\"\",VLOOKUP(J81,'Footnotes list'!$D$9:$E$58,2,FALSE) ) )","v":""},null,null,null,null,{"$f":"IF(TRIM(O81)=\"\", \"\", IF(VLOOKUP(O81,'Footnotes list'!$D$9:$E$58,2,FALSE)=0,\"\",VLOOKUP(O81,'Footnotes list'!$D$9:$E$58,2,FALSE) ) )","v":""},null,null,null,null,{"$f":"IF(TRIM(T81)=\"\", \"\", IF(VLOOKUP(T81,'Footnotes list'!$D$9:$E$58,2,FALSE)=0,\"\",VLOOKUP(T81,'Footnotes list'!$D$9:$E$58,2,FALSE) ) )","v":""},null,null,null,null,{"$f":"IF(TRIM(Y81)=\"\", \"\", IF(VLOOKUP(Y81,'Footnotes list'!$D$9:$E$58,2,FALSE)=0,\"\",VLOOKUP(Y81,'Footnotes list'!$D$9:$E$58,2,FALSE) ) )","v":""},{"$f":"IF(AND(TRIM(Q81)=\"\",TRIM(V81)=\"\"),\"\",Q81+V81)","v":""},null,null,null,{"$f":"IF(TRIM(AD81)=\"\", \"\", IF(VLOOKUP(AD81,'Footnotes list'!$D$9:$E$58,2,FALSE)=0,\"\",VLOOKUP(AD81,'Footnotes list'!$D$9:$E$58,2,FALSE) ) )","v":""},null,null,null,null,{"$f":"IF(TRIM(AI81)=\"\", \"\", IF(VLOOKUP(AI81,'Footnotes list'!$D$9:$E$58,2,FALSE)=0,\"\",VLOOKUP(AI81,'Footnotes list'!$D$9:$E$58,2,FALSE) ) )","v":""},null,null,null,null,{"$f":"IF(TRIM(AN81)=\"\", \"\", IF(VLOOKUP(AN81,'Footnotes list'!$D$9:$E$58,2,FALSE)=0,\"\",VLOOKUP(AN81,'Footnotes list'!$D$9:$E$58,2,FALSE) ) )","v":""},{"$f":"IF(AND(TRIM(AF81)=\"\",TRIM(AK81)=\"\"),\"\",AF81+AK81)","v":""},null,null,null,{"$f":"IF(TRIM(AS81)=\"\", \"\", IF(VLOOKUP(AS81,'Footnotes list'!$D$9:$E$58,2,FALSE)=0,\"\",VLOOKUP(AS81,'Footnotes list'!$D$9:$E$58,2,FALSE) ) )","v":""},{"$f":"IF(AND(TRIM(G81)=\"\",TRIM(L81)=\"\",TRIM(AA81)=\"\",TRIM(AP81)=\"\"),\"\",SUM(G81,L81,AA81,AP81))","v":""},null,null,null,{"$f":"IF(TRIM(AX81)=\"\", \"\", IF(VLOOKUP(AX81,'Footnotes list'!$D$9:$E$58,2,FALSE)=0,\"\",VLOOKUP(AX81,'Footnotes list'!$D$9:$E$58,2,FALSE) ) )","v":""}]
[null,null,"W102",null,"HAZ_NHAZ","Total",{"$f":"IF(AND(TRIM(G80)=\"\",TRIM(G81)=\"\"),\"\",G80+G81)","v":""},null,null,null,{"$f":"IF(TRIM(J82)=\"\", \"\", IF(VLOOKUP(J82,'Footnotes list'!$D$9:$E$58,2,FALSE)=0,\"\",VLOOKUP(J82,'Footnotes list'!$D$9:$E$58,2,FALSE) ) )","v":""},{"$f":"IF(AND(TRIM(L80)=\"\",TRIM(L81)=\"\"),\"\",L80+L81)","v":""},null,null,null,{"$f":"IF(TRIM(O82)=\"\", \"\", IF(VLOOKUP(O82,'Footnotes list'!$D$9:$E$58,2,FALSE)=0,\"\",VLOOKUP(O82,'Footnotes list'!$D$9:$E$58,2,FALSE) ) )","v":""},{"$f":"IF(AND(TRIM(Q80)=\"\",TRIM(Q81)=\"\"),\"\",Q80+Q81)","v":""},null,null,null,{"$f":"IF(TRIM(T82)=\"\", \"\", IF(VLOOKUP(T82,'Footnotes list'!$D$9:$E$58,2,FALSE)=0,\"\",VLOOKUP(T82,'Footnotes list'!$D$9:$E$58,2,FALSE) ) )","v":""},{"$f":"IF(AND(TRIM(V80)=\"\",TRIM(V81)=\"\"),\"\",V80+V81)","v":""},null,null,null,{"$f":"IF(TRIM(Y82)=\"\", \"\", IF(VLOOKUP(Y82,'Footnotes list'!$D$9:$E$58,2,FALSE)=0,\"\",VLOOKUP(Y82,'Footnotes list'!$D$9:$E$58,2,FALSE) ) )","v":""},{"$f":"IF(AND(TRIM(AA80)=\"\", TRIM(AA81)=\"\"), \"\", SUM(AA80,AA81))","v":""},null,null,null,{"$f":"IF(TRIM(AD82)=\"\", \"\", IF(VLOOKUP(AD82,'Footnotes list'!$D$9:$E$58,2,FALSE)=0,\"\",VLOOKUP(AD82,'Footnotes list'!$D$9:$E$58,2,FALSE) ) )","v":""},{"$f":"IF(AND(TRIM(AF80)=\"\",TRIM(AF81)=\"\"),\"\",AF80+AF81)","v":""},null,null,null,{"$f":"IF(TRIM(AI82)=\"\", \"\", IF(VLOOKUP(AI82,'Footnotes list'!$D$9:$E$58,2,FALSE)=0,\"\",VLOOKUP(AI82,'Footnotes list'!$D$9:$E$58,2,FALSE) ) )","v":""},{"$f":"IF(AND(TRIM(AK80)=\"\",TRIM(AK81)=\"\"),\"\",AK80+AK81)","v":""},null,null,null,{"$f":"IF(TRIM(AN82)=\"\", \"\", IF(VLOOKUP(AN82,'Footnotes list'!$D$9:$E$58,2,FALSE)=0,\"\",VLOOKUP(AN82,'Footnotes list'!$D$9:$E$58,2,FALSE) ) )","v":""},{"$f":"IF(AND(TRIM(AP80)=\"\", TRIM(AP81)=\"\"), \"\", SUM(AP80,AP81))","v":""},null,null,null,{"$f":"IF(TRIM(AS82)=\"\", \"\", IF(VLOOKUP(AS82,'Footnotes list'!$D$9:$E$58,2,FALSE)=0,\"\",VLOOKUP(AS82,'Footnotes list'!$D$9:$E$58,2,FALSE) ) )","v":""},{"$f":"IF(AND(TRIM(AU80)=\"\", TRIM(AU81)=\"\"), \"\", SUM(AU80,AU81) )","v":""},null,null,null,{"$f":"IF(TRIM(AX82)=\"\", \"\", IF(VLOOKUP(AX82,'Footnotes list'!$D$9:$E$58,2,FALSE)=0,\"\",VLOOKUP(AX82,'Footnotes list'!$D$9:$E$58,2,FALSE) ) )","v":""}]
[null,"W103","W103","Sorting residues ","HAZ","Hazardous ",null,null,null,null,{"$f":"IF(TRIM(J83)=\"\", \"\", IF(VLOOKUP(J83,'Footnotes list'!$D$9:$E$58,2,FALSE)=0,\"\",VLOOKUP(J83,'Footnotes list'!$D$9:$E$58,2,FALSE) ) )","v":""},null,null,null,null,{"$f":"IF(TRIM(O83)=\"\", \"\", IF(VLOOKUP(O83,'Footnotes list'!$D$9:$E$58,2,FALSE)=0,\"\",VLOOKUP(O83,'Footnotes list'!$D$9:$E$58,2,FALSE) ) )","v":""},null,null,null,null,{"$f":"IF(TRIM(T83)=\"\", \"\", IF(VLOOKUP(T83,'Footnotes list'!$D$9:$E$58,2,FALSE)=0,\"\",VLOOKUP(T83,'Footnotes list'!$D$9:$E$58,2,FALSE) ) )","v":""},null,null,null,null,{"$f":"IF(TRIM(Y83)=\"\", \"\", IF(VLOOKUP(Y83,'Footnotes list'!$D$9:$E$58,2,FALSE)=0,\"\",VLOOKUP(Y83,'Footnotes list'!$D$9:$E$58,2,FALSE) ) )","v":""},{"$f":"IF(AND(TRIM(Q83)=\"\",TRIM(V83)=\"\"),\"\",Q83+V83)","v":""},null,null,null,{"$f":"IF(TRIM(AD83)=\"\", \"\", IF(VLOOKUP(AD83,'Footnotes list'!$D$9:$E$58,2,FALSE)=0,\"\",VLOOKUP(AD83,'Footnotes list'!$D$9:$E$58,2,FALSE) ) )","v":""},null,null,null,null,{"$f":"IF(TRIM(AI83)=\"\", \"\", IF(VLOOKUP(AI83,'Footnotes list'!$D$9:$E$58,2,FALSE)=0,\"\",VLOOKUP(AI83,'Footnotes list'!$D$9:$E$58,2,FALSE) ) )","v":""},null,null,null,null,{"$f":"IF(TRIM(AN83)=\"\", \"\", IF(VLOOKUP(AN83,'Footnotes list'!$D$9:$E$58,2,FALSE)=0,\"\",VLOOKUP(AN83,'Footnotes list'!$D$9:$E$58,2,FALSE) ) )","v":""},{"$f":"IF(AND(TRIM(AF83)=\"\",TRIM(AK83)=\"\"),\"\",AF83+AK83)","v":""},null,null,null,{"$f":"IF(TRIM(AS83)=\"\", \"\", IF(VLOOKUP(AS83,'Footnotes list'!$D$9:$E$58,2,FALSE)=0,\"\",VLOOKUP(AS83,'Footnotes list'!$D$9:$E$58,2,FALSE) ) )","v":""},{"$f":"IF(AND(TRIM(G83)=\"\",TRIM(L83)=\"\",TRIM(AA83)=\"\",TRIM(AP83)=\"\"),\"\",SUM(G83,L83,AA83,AP83))","v":""},null,null,null,{"$f":"IF(TRIM(AX83)=\"\", \"\", IF(VLOOKUP(AX83,'Footnotes list'!$D$9:$E$58,2,FALSE)=0,\"\",VLOOKUP(AX83,'Footnotes list'!$D$9:$E$58,2,FALSE) ) )","v":""}]
[null,null,"W103",null,"NHAZ","Non-hazardous",null,null,null,null,{"$f":"IF(TRIM(J84)=\"\", \"\", IF(VLOOKUP(J84,'Footnotes list'!$D$9:$E$58,2,FALSE)=0,\"\",VLOOKUP(J84,'Footnotes list'!$D$9:$E$58,2,FALSE) ) )","v":""},null,null,null,null,{"$f":"IF(TRIM(O84)=\"\", \"\", IF(VLOOKUP(O84,'Footnotes list'!$D$9:$E$58,2,FALSE)=0,\"\",VLOOKUP(O84,'Footnotes list'!$D$9:$E$58,2,FALSE) ) )","v":""},null,null,null,null,{"$f":"IF(TRIM(T84)=\"\", \"\", IF(VLOOKUP(T84,'Footnotes list'!$D$9:$E$58,2,FALSE)=0,\"\",VLOOKUP(T84,'Footnotes list'!$D$9:$E$58,2,FALSE) ) )","v":""},null,null,null,null,{"$f":"IF(TRIM(Y84)=\"\", \"\", IF(VLOOKUP(Y84,'Footnotes list'!$D$9:$E$58,2,FALSE)=0,\"\",VLOOKUP(Y84,'Footnotes list'!$D$9:$E$58,2,FALSE) ) )","v":""},{"$f":"IF(AND(TRIM(Q84)=\"\",TRIM(V84)=\"\"),\"\",Q84+V84)","v":""},null,null,null,{"$f":"IF(TRIM(AD84)=\"\", \"\", IF(VLOOKUP(AD84,'Footnotes list'!$D$9:$E$58,2,FALSE)=0,\"\",VLOOKUP(AD84,'Footnotes list'!$D$9:$E$58,2,FALSE) ) )","v":""},null,null,null,null,{"$f":"IF(TRIM(AI84)=\"\", \"\", IF(VLOOKUP(AI84,'Footnotes list'!$D$9:$E$58,2,FALSE)=0,\"\",VLOOKUP(AI84,'Footnotes list'!$D$9:$E$58,2,FALSE) ) )","v":""},null,null,null,null,{"$f":"IF(TRIM(AN84)=\"\", \"\", IF(VLOOKUP(AN84,'Footnotes list'!$D$9:$E$58,2,FALSE)=0,\"\",VLOOKUP(AN84,'Footnotes list'!$D$9:$E$58,2,FALSE) ) )","v":""},{"$f":"IF(AND(TRIM(AF84)=\"\",TRIM(AK84)=\"\"),\"\",AF84+AK84)","v":""},null,null,null,{"$f":"IF(TRIM(AS84)=\"\", \"\", IF(VLOOKUP(AS84,'Footnotes list'!$D$9:$E$58,2,FALSE)=0,\"\",VLOOKUP(AS84,'Footnotes list'!$D$9:$E$58,2,FALSE) ) )","v":""},{"$f":"IF(AND(TRIM(G84)=\"\",TRIM(L84)=\"\",TRIM(AA84)=\"\",TRIM(AP84)=\"\"),\"\",SUM(G84,L84,AA84,AP84))","v":""},null,null,null,{"$f":"IF(TRIM(AX84)=\"\", \"\", IF(VLOOKUP(AX84,'Footnotes list'!$D$9:$E$58,2,FALSE)=0,\"\",VLOOKUP(AX84,'Footnotes list'!$D$9:$E$58,2,FALSE) ) )","v":""}]
[null,null,"W103",null,"HAZ_NHAZ","Total",{"$f":"IF(AND(TRIM(G83)=\"\",TRIM(G84)=\"\"),\"\",G83+G84)","v":""},null,null,null,{"$f":"IF(TRIM(J85)=\"\", \"\", IF(VLOOKUP(J85,'Footnotes list'!$D$9:$E$58,2,FALSE)=0,\"\",VLOOKUP(J85,'Footnotes list'!$D$9:$E$58,2,FALSE) ) )","v":""},{"$f":"IF(AND(TRIM(L83)=\"\",TRIM(L84)=\"\"),\"\",L83+L84)","v":""},null,null,null,{"$f":"IF(TRIM(O85)=\"\", \"\", IF(VLOOKUP(O85,'Footnotes list'!$D$9:$E$58,2,FALSE)=0,\"\",VLOOKUP(O85,'Footnotes list'!$D$9:$E$58,2,FALSE) ) )","v":""},{"$f":"IF(AND(TRIM(Q83)=\"\",TRIM(Q84)=\"\"),\"\",Q83+Q84)","v":""},null,null,null,{"$f":"IF(TRIM(T85)=\"\", \"\", IF(VLOOKUP(T85,'Footnotes list'!$D$9:$E$58,2,FALSE)=0,\"\",VLOOKUP(T85,'Footnotes list'!$D$9:$E$58,2,FALSE) ) )","v":""},{"$f":"IF(AND(TRIM(V83)=\"\",TRIM(V84)=\"\"),\"\",V83+V84)","v":""},null,null,null,{"$f":"IF(TRIM(Y85)=\"\", \"\", IF(VLOOKUP(Y85,'Footnotes list'!$D$9:$E$58,2,FALSE)=0,\"\",VLOOKUP(Y85,'Footnotes list'!$D$9:$E$58,2,FALSE) ) )","v":""},{"$f":"IF(AND(TRIM(AA83)=\"\", TRIM(AA84)=\"\"), \"\", SUM(AA83,AA84))","v":""},null,null,null,{"$f":"IF(TRIM(AD85)=\"\", \"\", IF(VLOOKUP(AD85,'Footnotes list'!$D$9:$E$58,2,FALSE)=0,\"\",VLOOKUP(AD85,'Footnotes list'!$D$9:$E$58,2,FALSE) ) )","v":""},{"$f":"IF(AND(TRIM(AF83)=\"\",TRIM(AF84)=\"\"),\"\",AF83+AF84)","v":""},null,null,null,{"$f":"IF(TRIM(AI85)=\"\", \"\", IF(VLOOKUP(AI85,'Footnotes list'!$D$9:$E$58,2,FALSE)=0,\"\",VLOOKUP(AI85,'Footnotes list'!$D$9:$E$58,2,FALSE) ) )","v":""},{"$f":"IF(AND(TRIM(AK83)=\"\",TRIM(AK84)=\"\"),\"\",AK83+AK84)","v":""},null,null,null,{"$f":"IF(TRIM(AN85)=\"\", \"\", IF(VLOOKUP(AN85,'Footnotes list'!$D$9:$E$58,2,FALSE)=0,\"\",VLOOKUP(AN85,'Footnotes list'!$D$9:$E$58,2,FALSE) ) )","v":""},{"$f":"IF(AND(TRIM(AP83)=\"\", TRIM(AP84)=\"\"), \"\", SUM(AP83,AP84))","v":""},null,null,null,{"$f":"IF(TRIM(AS85)=\"\", \"\", IF(VLOOKUP(AS85,'Footnotes list'!$D$9:$E$58,2,FALSE)=0,\"\",VLOOKUP(AS85,'Footnotes list'!$D$9:$E$58,2,FALSE) ) )","v":""},{"$f":"IF(AND(TRIM(AU83)=\"\", TRIM(AU84)=\"\"), \"\", SUM(AU83,AU84) )","v":""},null,null,null,{"$f":"IF(TRIM(AX85)=\"\", \"\", IF(VLOOKUP(AX85,'Footnotes list'!$D$9:$E$58,2,FALSE)=0,\"\",VLOOKUP(AX85,'Footnotes list'!$D$9:$E$58,2,FALSE) ) )","v":""}]
[null,"W11",null,"Common sludges ",null,"Not applicable"]
[null,null,"W11",null,"NHAZ","Non-hazardous",null,null,null,null,{"$f":"IF(TRIM(J87)=\"\", \"\", IF(VLOOKUP(J87,'Footnotes list'!$D$9:$E$58,2,FALSE)=0,\"\",VLOOKUP(J87,'Footnotes list'!$D$9:$E$58,2,FALSE) ) )","v":""},null,null,null,null,{"$f":"IF(TRIM(O87)=\"\", \"\", IF(VLOOKUP(O87,'Footnotes list'!$D$9:$E$58,2,FALSE)=0,\"\",VLOOKUP(O87,'Footnotes list'!$D$9:$E$58,2,FALSE) ) )","v":""},null,null,null,null,{"$f":"IF(TRIM(T87)=\"\", \"\", IF(VLOOKUP(T87,'Footnotes list'!$D$9:$E$58,2,FALSE)=0,\"\",VLOOKUP(T87,'Footnotes list'!$D$9:$E$58,2,FALSE) ) )","v":""},null,null,null,null,{"$f":"IF(TRIM(Y87)=\"\", \"\", IF(VLOOKUP(Y87,'Footnotes list'!$D$9:$E$58,2,FALSE)=0,\"\",VLOOKUP(Y87,'Footnotes list'!$D$9:$E$58,2,FALSE) ) )","v":""},{"$f":"IF(AND(TRIM(Q87)=\"\",TRIM(V87)=\"\"),\"\",Q87+V87)","v":""},null,null,null,{"$f":"IF(TRIM(AD87)=\"\", \"\", IF(VLOOKUP(AD87,'Footnotes list'!$D$9:$E$58,2,FALSE)=0,\"\",VLOOKUP(AD87,'Footnotes list'!$D$9:$E$58,2,FALSE) ) )","v":""},null,null,null,null,{"$f":"IF(TRIM(AI87)=\"\", \"\", IF(VLOOKUP(AI87,'Footnotes list'!$D$9:$E$58,2,FALSE)=0,\"\",VLOOKUP(AI87,'Footnotes list'!$D$9:$E$58,2,FALSE) ) )","v":""},null,null,null,null,{"$f":"IF(TRIM(AN87)=\"\", \"\", IF(VLOOKUP(AN87,'Footnotes list'!$D$9:$E$58,2,FALSE)=0,\"\",VLOOKUP(AN87,'Footnotes list'!$D$9:$E$58,2,FALSE) ) )","v":""},{"$f":"IF(AND(TRIM(AF87)=\"\",TRIM(AK87)=\"\"),\"\",AF87+AK87)","v":""},null,null,null,{"$f":"IF(TRIM(AS87)=\"\", \"\", IF(VLOOKUP(AS87,'Footnotes list'!$D$9:$E$58,2,FALSE)=0,\"\",VLOOKUP(AS87,'Footnotes list'!$D$9:$E$58,2,FALSE) ) )","v":""},{"$f":"IF(AND(TRIM(G87)=\"\",TRIM(L87)=\"\",TRIM(AA87)=\"\",TRIM(AP87)=\"\"),\"\",SUM(G87,L87,AA87,AP87))","v":""},null,null,null,{"$f":"IF(TRIM(AX87)=\"\", \"\", IF(VLOOKUP(AX87,'Footnotes list'!$D$9:$E$58,2,FALSE)=0,\"\",VLOOKUP(AX87,'Footnotes list'!$D$9:$E$58,2,FALSE) ) )","v":""}]
[null,null,"W11",null,"HAZ_NHAZ","Total",{"$f":"IF(AND(TRIM(G86)=\"\",TRIM(G87)=\"\"),\"\",G86+G87)","v":""},null,null,null,{"$f":"IF(TRIM(J88)=\"\", \"\", IF(VLOOKUP(J88,'Footnotes list'!$D$9:$E$58,2,FALSE)=0,\"\",VLOOKUP(J88,'Footnotes list'!$D$9:$E$58,2,FALSE) ) )","v":""},{"$f":"IF(AND(TRIM(L86)=\"\",TRIM(L87)=\"\"),\"\",L86+L87)","v":""},null,null,null,{"$f":"IF(TRIM(O88)=\"\", \"\", IF(VLOOKUP(O88,'Footnotes list'!$D$9:$E$58,2,FALSE)=0,\"\",VLOOKUP(O88,'Footnotes list'!$D$9:$E$58,2,FALSE) ) )","v":""},{"$f":"IF(AND(TRIM(Q86)=\"\",TRIM(Q87)=\"\"),\"\",Q86+Q87)","v":""},null,null,null,{"$f":"IF(TRIM(T88)=\"\", \"\", IF(VLOOKUP(T88,'Footnotes list'!$D$9:$E$58,2,FALSE)=0,\"\",VLOOKUP(T88,'Footnotes list'!$D$9:$E$58,2,FALSE) ) )","v":""},{"$f":"IF(AND(TRIM(V86)=\"\",TRIM(V87)=\"\"),\"\",V86+V87)","v":""},null,null,null,{"$f":"IF(TRIM(Y88)=\"\", \"\", IF(VLOOKUP(Y88,'Footnotes list'!$D$9:$E$58,2,FALSE)=0,\"\",VLOOKUP(Y88,'Footnotes list'!$D$9:$E$58,2,FALSE) ) )","v":""},{"$f":"IF(AND(TRIM(AA86)=\"\", TRIM(AA87)=\"\"), \"\", SUM(AA86,AA87))","v":""},null,null,null,{"$f":"IF(TRIM(AD88)=\"\", \"\", IF(VLOOKUP(AD88,'Footnotes list'!$D$9:$E$58,2,FALSE)=0,\"\",VLOOKUP(AD88,'Footnotes list'!$D$9:$E$58,2,FALSE) ) )","v":""},{"$f":"IF(AND(TRIM(AF86)=\"\",TRIM(AF87)=\"\"),\"\",AF86+AF87)","v":""},null,null,null,{"$f":"IF(TRIM(AI88)=\"\", \"\", IF(VLOOKUP(AI88,'Footnotes list'!$D$9:$E$58,2,FALSE)=0,\"\",VLOOKUP(AI88,'Footnotes list'!$D$9:$E$58,2,FALSE) ) )","v":""},{"$f":"IF(AND(TRIM(AK86)=\"\",TRIM(AK87)=\"\"),\"\",AK86+AK87)","v":""},null,null,null,{"$f":"IF(TRIM(AN88)=\"\", \"\", IF(VLOOKUP(AN88,'Footnotes list'!$D$9:$E$58,2,FALSE)=0,\"\",VLOOKUP(AN88,'Footnotes list'!$D$9:$E$58,2,FALSE) ) )","v":""},{"$f":"IF(AND(TRIM(AP86)=\"\", TRIM(AP87)=\"\"), \"\", SUM(AP86,AP87))","v":""},null,null,null,{"$f":"IF(TRIM(AS88)=\"\", \"\", IF(VLOOKUP(AS88,'Footnotes list'!$D$9:$E$58,2,FALSE)=0,\"\",VLOOKUP(AS88,'Footnotes list'!$D$9:$E$58,2,FALSE) ) )","v":""},{"$f":"IF(AND(TRIM(AU86)=\"\", TRIM(AU87)=\"\"), \"\", SUM(AU86,AU87) )","v":""},null,null,null,{"$f":"IF(TRIM(AX88)=\"\", \"\", IF(VLOOKUP(AX88,'Footnotes list'!$D$9:$E$58,2,FALSE)=0,\"\",VLOOKUP(AX88,'Footnotes list'!$D$9:$E$58,2,FALSE) ) )","v":""}]
[null,"W121","W121","Mineral waste from construction and demolition","HAZ","Hazardous ",null,null,null,null,{"$f":"IF(TRIM(J89)=\"\", \"\", IF(VLOOKUP(J89,'Footnotes list'!$D$9:$E$58,2,FALSE)=0,\"\",VLOOKUP(J89,'Footnotes list'!$D$9:$E$58,2,FALSE) ) )","v":""},null,null,null,null,{"$f":"IF(TRIM(O89)=\"\", \"\", IF(VLOOKUP(O89,'Footnotes list'!$D$9:$E$58,2,FALSE)=0,\"\",VLOOKUP(O89,'Footnotes list'!$D$9:$E$58,2,FALSE) ) )","v":""},null,null,null,null,{"$f":"IF(TRIM(T89)=\"\", \"\", IF(VLOOKUP(T89,'Footnotes list'!$D$9:$E$58,2,FALSE)=0,\"\",VLOOKUP(T89,'Footnotes list'!$D$9:$E$58,2,FALSE) ) )","v":""},null,null,null,null,{"$f":"IF(TRIM(Y89)=\"\", \"\", IF(VLOOKUP(Y89,'Footnotes list'!$D$9:$E$58,2,FALSE)=0,\"\",VLOOKUP(Y89,'Footnotes list'!$D$9:$E$58,2,FALSE) ) )","v":""},{"$f":"IF(AND(TRIM(Q89)=\"\",TRIM(V89)=\"\"),\"\",Q89+V89)","v":""},null,null,null,{"$f":"IF(TRIM(AD89)=\"\", \"\", IF(VLOOKUP(AD89,'Footnotes list'!$D$9:$E$58,2,FALSE)=0,\"\",VLOOKUP(AD89,'Footnotes list'!$D$9:$E$58,2,FALSE) ) )","v":""},null,null,null,null,{"$f":"IF(TRIM(AI89)=\"\", \"\", IF(VLOOKUP(AI89,'Footnotes list'!$D$9:$E$58,2,FALSE)=0,\"\",VLOOKUP(AI89,'Footnotes list'!$D$9:$E$58,2,FALSE) ) )","v":""},null,null,null,null,{"$f":"IF(TRIM(AN89)=\"\", \"\", IF(VLOOKUP(AN89,'Footnotes list'!$D$9:$E$58,2,FALSE)=0,\"\",VLOOKUP(AN89,'Footnotes list'!$D$9:$E$58,2,FALSE) ) )","v":""},{"$f":"IF(AND(TRIM(AF89)=\"\",TRIM(AK89)=\"\"),\"\",AF89+AK89)","v":""},null,null,null,{"$f":"IF(TRIM(AS89)=\"\", \"\", IF(VLOOKUP(AS89,'Footnotes list'!$D$9:$E$58,2,FALSE)=0,\"\",VLOOKUP(AS89,'Footnotes list'!$D$9:$E$58,2,FALSE) ) )","v":""},{"$f":"IF(AND(TRIM(G89)=\"\",TRIM(L89)=\"\",TRIM(AA89)=\"\",TRIM(AP89)=\"\"),\"\",SUM(G89,L89,AA89,AP89))","v":""},null,null,null,{"$f":"IF(TRIM(AX89)=\"\", \"\", IF(VLOOKUP(AX89,'Footnotes list'!$D$9:$E$58,2,FALSE)=0,\"\",VLOOKUP(AX89,'Footnotes list'!$D$9:$E$58,2,FALSE) ) )","v":""}]
[null,null,"W121",null,"NHAZ","Non-hazardous",null,null,null,null,{"$f":"IF(TRIM(J90)=\"\", \"\", IF(VLOOKUP(J90,'Footnotes list'!$D$9:$E$58,2,FALSE)=0,\"\",VLOOKUP(J90,'Footnotes list'!$D$9:$E$58,2,FALSE) ) )","v":""},null,null,null,null,{"$f":"IF(TRIM(O90)=\"\", \"\", IF(VLOOKUP(O90,'Footnotes list'!$D$9:$E$58,2,FALSE)=0,\"\",VLOOKUP(O90,'Footnotes list'!$D$9:$E$58,2,FALSE) ) )","v":""},null,null,null,null,{"$f":"IF(TRIM(T90)=\"\", \"\", IF(VLOOKUP(T90,'Footnotes list'!$D$9:$E$58,2,FALSE)=0,\"\",VLOOKUP(T90,'Footnotes list'!$D$9:$E$58,2,FALSE) ) )","v":""},null,null,null,null,{"$f":"IF(TRIM(Y90)=\"\", \"\", IF(VLOOKUP(Y90,'Footnotes list'!$D$9:$E$58,2,FALSE)=0,\"\",VLOOKUP(Y90,'Footnotes list'!$D$9:$E$58,2,FALSE) ) )","v":""},{"$f":"IF(AND(TRIM(Q90)=\"\",TRIM(V90)=\"\"),\"\",Q90+V90)","v":""},null,null,null,{"$f":"IF(TRIM(AD90)=\"\", \"\", IF(VLOOKUP(AD90,'Footnotes list'!$D$9:$E$58,2,FALSE)=0,\"\",VLOOKUP(AD90,'Footnotes list'!$D$9:$E$58,2,FALSE) ) )","v":""},null,null,null,null,{"$f":"IF(TRIM(AI90)=\"\", \"\", IF(VLOOKUP(AI90,'Footnotes list'!$D$9:$E$58,2,FALSE)=0,\"\",VLOOKUP(AI90,'Footnotes list'!$D$9:$E$58,2,FALSE) ) )","v":""},null,null,null,null,{"$f":"IF(TRIM(AN90)=\"\", \"\", IF(VLOOKUP(AN90,'Footnotes list'!$D$9:$E$58,2,FALSE)=0,\"\",VLOOKUP(AN90,'Footnotes list'!$D$9:$E$58,2,FALSE) ) )","v":""},{"$f":"IF(AND(TRIM(AF90)=\"\",TRIM(AK90)=\"\"),\"\",AF90+AK90)","v":""},null,null,null,{"$f":"IF(TRIM(AS90)=\"\", \"\", IF(VLOOKUP(AS90,'Footnotes list'!$D$9:$E$58,2,FALSE)=0,\"\",VLOOKUP(AS90,'Footnotes list'!$D$9:$E$58,2,FALSE) ) )","v":""},{"$f":"IF(AND(TRIM(G90)=\"\",TRIM(L90)=\"\",TRIM(AA90)=\"\",TRIM(AP90)=\"\"),\"\",SUM(G90,L90,AA90,AP90))","v":""},null,null,null,{"$f":"IF(TRIM(AX90)=\"\", \"\", IF(VLOOKUP(AX90,'Footnotes list'!$D$9:$E$58,2,FALSE)=0,\"\",VLOOKUP(AX90,'Footnotes list'!$D$9:$E$58,2,FALSE) ) )","v":""}]
[null,null,"W121",null,"HAZ_NHAZ","Total",{"$f":"IF(AND(TRIM(G89)=\"\",TRIM(G90)=\"\"),\"\",G89+G90)","v":""},null,null,null,{"$f":"IF(TRIM(J91)=\"\", \"\", IF(VLOOKUP(J91,'Footnotes list'!$D$9:$E$58,2,FALSE)=0,\"\",VLOOKUP(J91,'Footnotes list'!$D$9:$E$58,2,FALSE) ) )","v":""},{"$f":"IF(AND(TRIM(L89)=\"\",TRIM(L90)=\"\"),\"\",L89+L90)","v":""},null,null,null,{"$f":"IF(TRIM(O91)=\"\", \"\", IF(VLOOKUP(O91,'Footnotes list'!$D$9:$E$58,2,FALSE)=0,\"\",VLOOKUP(O91,'Footnotes list'!$D$9:$E$58,2,FALSE) ) )","v":""},{"$f":"IF(AND(TRIM(Q89)=\"\",TRIM(Q90)=\"\"),\"\",Q89+Q90)","v":""},null,null,null,{"$f":"IF(TRIM(T91)=\"\", \"\", IF(VLOOKUP(T91,'Footnotes list'!$D$9:$E$58,2,FALSE)=0,\"\",VLOOKUP(T91,'Footnotes list'!$D$9:$E$58,2,FALSE) ) )","v":""},{"$f":"IF(AND(TRIM(V89)=\"\",TRIM(V90)=\"\"),\"\",V89+V90)","v":""},null,null,null,{"$f":"IF(TRIM(Y91)=\"\", \"\", IF(VLOOKUP(Y91,'Footnotes list'!$D$9:$E$58,2,FALSE)=0,\"\",VLOOKUP(Y91,'Footnotes list'!$D$9:$E$58,2,FALSE) ) )","v":""},{"$f":"IF(AND(TRIM(AA89)=\"\", TRIM(AA90)=\"\"), \"\", SUM(AA89,AA90))","v":""},null,null,null,{"$f":"IF(TRIM(AD91)=\"\", \"\", IF(VLOOKUP(AD91,'Footnotes list'!$D$9:$E$58,2,FALSE)=0,\"\",VLOOKUP(AD91,'Footnotes list'!$D$9:$E$58,2,FALSE) ) )","v":""},{"$f":"IF(AND(TRIM(AF89)=\"\",TRIM(AF90)=\"\"),\"\",AF89+AF90)","v":""},null,null,null,{"$f":"IF(TRIM(AI91)=\"\", \"\", IF(VLOOKUP(AI91,'Footnotes list'!$D$9:$E$58,2,FALSE)=0,\"\",VLOOKUP(AI91,'Footnotes list'!$D$9:$E$58,2,FALSE) ) )","v":""},{"$f":"IF(AND(TRIM(AK89)=\"\",TRIM(AK90)=\"\"),\"\",AK89+AK90)","v":""},null,null,null,{"$f":"IF(TRIM(AN91)=\"\", \"\", IF(VLOOKUP(AN91,'Footnotes list'!$D$9:$E$58,2,FALSE)=0,\"\",VLOOKUP(AN91,'Footnotes list'!$D$9:$E$58,2,FALSE) ) )","v":""},{"$f":"IF(AND(TRIM(AP89)=\"\", TRIM(AP90)=\"\"), \"\", SUM(AP89,AP90))","v":""},null,null,null,{"$f":"IF(TRIM(AS91)=\"\", \"\", IF(VLOOKUP(AS91,'Footnotes list'!$D$9:$E$58,2,FALSE)=0,\"\",VLOOKUP(AS91,'Footnotes list'!$D$9:$E$58,2,FALSE) ) )","v":""},{"$f":"IF(AND(TRIM(AU89)=\"\", TRIM(AU90)=\"\"), \"\", SUM(AU89,AU90) )","v":""},null,null,null,{"$f":"IF(TRIM(AX91)=\"\", \"\", IF(VLOOKUP(AX91,'Footnotes list'!$D$9:$E$58,2,FALSE)=0,\"\",VLOOKUP(AX91,'Footnotes list'!$D$9:$E$58,2,FALSE) ) )","v":""}]
[null,"W12B","W12B","Other mineral wastes (W122+W123+W125)","HAZ","Hazardous ",null,null,null,null,{"$f":"IF(TRIM(J92)=\"\", \"\", IF(VLOOKUP(J92,'Footnotes list'!$D$9:$E$58,2,FALSE)=0,\"\",VLOOKUP(J92,'Footnotes list'!$D$9:$E$58,2,FALSE) ) )","v":""},null,null,null,null,{"$f":"IF(TRIM(O92)=\"\", \"\", IF(VLOOKUP(O92,'Footnotes list'!$D$9:$E$58,2,FALSE)=0,\"\",VLOOKUP(O92,'Footnotes list'!$D$9:$E$58,2,FALSE) ) )","v":""},null,null,null,null,{"$f":"IF(TRIM(T92)=\"\", \"\", IF(VLOOKUP(T92,'Footnotes list'!$D$9:$E$58,2,FALSE)=0,\"\",VLOOKUP(T92,'Footnotes list'!$D$9:$E$58,2,FALSE) ) )","v":""},null,null,null,null,{"$f":"IF(TRIM(Y92)=\"\", \"\", IF(VLOOKUP(Y92,'Footnotes list'!$D$9:$E$58,2,FALSE)=0,\"\",VLOOKUP(Y92,'Footnotes list'!$D$9:$E$58,2,FALSE) ) )","v":""},{"$f":"IF(AND(TRIM(Q92)=\"\",TRIM(V92)=\"\"),\"\",Q92+V92)","v":""},null,null,null,{"$f":"IF(TRIM(AD92)=\"\", \"\", IF(VLOOKUP(AD92,'Footnotes list'!$D$9:$E$58,2,FALSE)=0,\"\",VLOOKUP(AD92,'Footnotes list'!$D$9:$E$58,2,FALSE) ) )","v":""},null,null,null,null,{"$f":"IF(TRIM(AI92)=\"\", \"\", IF(VLOOKUP(AI92,'Footnotes list'!$D$9:$E$58,2,FALSE)=0,\"\",VLOOKUP(AI92,'Footnotes list'!$D$9:$E$58,2,FALSE) ) )","v":""},null,null,null,null,{"$f":"IF(TRIM(AN92)=\"\", \"\", IF(VLOOKUP(AN92,'Footnotes list'!$D$9:$E$58,2,FALSE)=0,\"\",VLOOKUP(AN92,'Footnotes list'!$D$9:$E$58,2,FALSE) ) )","v":""},{"$f":"IF(AND(TRIM(AF92)=\"\",TRIM(AK92)=\"\"),\"\",AF92+AK92)","v":""},null,null,null,{"$f":"IF(TRIM(AS92)=\"\", \"\", IF(VLOOKUP(AS92,'Footnotes list'!$D$9:$E$58,2,FALSE)=0,\"\",VLOOKUP(AS92,'Footnotes list'!$D$9:$E$58,2,FALSE) ) )","v":""},{"$f":"IF(AND(TRIM(G92)=\"\",TRIM(L92)=\"\",TRIM(AA92)=\"\",TRIM(AP92)=\"\"),\"\",SUM(G92,L92,AA92,AP92))","v":""},null,null,null,{"$f":"IF(TRIM(AX92)=\"\", \"\", IF(VLOOKUP(AX92,'Footnotes list'!$D$9:$E$58,2,FALSE)=0,\"\",VLOOKUP(AX92,'Footnotes list'!$D$9:$E$58,2,FALSE) ) )","v":""}]
[null,null,"W12B",null,"NHAZ","Non-hazardous",null,null,null,null,{"$f":"IF(TRIM(J93)=\"\", \"\", IF(VLOOKUP(J93,'Footnotes list'!$D$9:$E$58,2,FALSE)=0,\"\",VLOOKUP(J93,'Footnotes list'!$D$9:$E$58,2,FALSE) ) )","v":""},null,null,null,null,{"$f":"IF(TRIM(O93)=\"\", \"\", IF(VLOOKUP(O93,'Footnotes list'!$D$9:$E$58,2,FALSE)=0,\"\",VLOOKUP(O93,'Footnotes list'!$D$9:$E$58,2,FALSE) ) )","v":""},null,null,null,null,{"$f":"IF(TRIM(T93)=\"\", \"\", IF(VLOOKUP(T93,'Footnotes list'!$D$9:$E$58,2,FALSE)=0,\"\",VLOOKUP(T93,'Footnotes list'!$D$9:$E$58,2,FALSE) ) )","v":""},null,null,null,null,{"$f":"IF(TRIM(Y93)=\"\", \"\", IF(VLOOKUP(Y93,'Footnotes list'!$D$9:$E$58,2,FALSE)=0,\"\",VLOOKUP(Y93,'Footnotes list'!$D$9:$E$58,2,FALSE) ) )","v":""},{"$f":"IF(AND(TRIM(Q93)=\"\",TRIM(V93)=\"\"),\"\",Q93+V93)","v":""},null,null,null,{"$f":"IF(TRIM(AD93)=\"\", \"\", IF(VLOOKUP(AD93,'Footnotes list'!$D$9:$E$58,2,FALSE)=0,\"\",VLOOKUP(AD93,'Footnotes list'!$D$9:$E$58,2,FALSE) ) )","v":""},null,null,null,null,{"$f":"IF(TRIM(AI93)=\"\", \"\", IF(VLOOKUP(AI93,'Footnotes list'!$D$9:$E$58,2,FALSE)=0,\"\",VLOOKUP(AI93,'Footnotes list'!$D$9:$E$58,2,FALSE) ) )","v":""},null,null,null,null,{"$f":"IF(TRIM(AN93)=\"\", \"\", IF(VLOOKUP(AN93,'Footnotes list'!$D$9:$E$58,2,FALSE)=0,\"\",VLOOKUP(AN93,'Footnotes list'!$D$9:$E$58,2,FALSE) ) )","v":""},{"$f":"IF(AND(TRIM(AF93)=\"\",TRIM(AK93)=\"\"),\"\",AF93+AK93)","v":""},null,null,null,{"$f":"IF(TRIM(AS93)=\"\", \"\", IF(VLOOKUP(AS93,'Footnotes list'!$D$9:$E$58,2,FALSE)=0,\"\",VLOOKUP(AS93,'Footnotes list'!$D$9:$E$58,2,FALSE) ) )","v":""},{"$f":"IF(AND(TRIM(G93)=\"\",TRIM(L93)=\"\",TRIM(AA93)=\"\",TRIM(AP93)=\"\"),\"\",SUM(G93,L93,AA93,AP93))","v":""},null,null,null,{"$f":"IF(TRIM(AX93)=\"\", \"\", IF(VLOOKUP(AX93,'Footnotes list'!$D$9:$E$58,2,FALSE)=0,\"\",VLOOKUP(AX93,'Footnotes list'!$D$9:$E$58,2,FALSE) ) )","v":""}]
[null,null,"W12B",null,"HAZ_NHAZ","Total",{"$f":"IF(AND(TRIM(G92)=\"\",TRIM(G93)=\"\"),\"\",G92+G93)","v":""},null,null,null,{"$f":"IF(TRIM(J94)=\"\", \"\", IF(VLOOKUP(J94,'Footnotes list'!$D$9:$E$58,2,FALSE)=0,\"\",VLOOKUP(J94,'Footnotes list'!$D$9:$E$58,2,FALSE) ) )","v":""},{"$f":"IF(AND(TRIM(L92)=\"\",TRIM(L93)=\"\"),\"\",L92+L93)","v":""},null,null,null,{"$f":"IF(TRIM(O94)=\"\", \"\", IF(VLOOKUP(O94,'Footnotes list'!$D$9:$E$58,2,FALSE)=0,\"\",VLOOKUP(O94,'Footnotes list'!$D$9:$E$58,2,FALSE) ) )","v":""},{"$f":"IF(AND(TRIM(Q92)=\"\",TRIM(Q93)=\"\"),\"\",Q92+Q93)","v":""},null,null,null,{"$f":"IF(TRIM(T94)=\"\", \"\", IF(VLOOKUP(T94,'Footnotes list'!$D$9:$E$58,2,FALSE)=0,\"\",VLOOKUP(T94,'Footnotes list'!$D$9:$E$58,2,FALSE) ) )","v":""},{"$f":"IF(AND(TRIM(V92)=\"\",TRIM(V93)=\"\"),\"\",V92+V93)","v":""},null,null,null,{"$f":"IF(TRIM(Y94)=\"\", \"\", IF(VLOOKUP(Y94,'Footnotes list'!$D$9:$E$58,2,FALSE)=0,\"\",VLOOKUP(Y94,'Footnotes list'!$D$9:$E$58,2,FALSE) ) )","v":""},{"$f":"IF(AND(TRIM(AA92)=\"\", TRIM(AA93)=\"\"), \"\", SUM(AA92,AA93))","v":""},null,null,null,{"$f":"IF(TRIM(AD94)=\"\", \"\", IF(VLOOKUP(AD94,'Footnotes list'!$D$9:$E$58,2,FALSE)=0,\"\",VLOOKUP(AD94,'Footnotes list'!$D$9:$E$58,2,FALSE) ) )","v":""},{"$f":"IF(AND(TRIM(AF92)=\"\",TRIM(AF93)=\"\"),\"\",AF92+AF93)","v":""},null,null,null,{"$f":"IF(TRIM(AI94)=\"\", \"\", IF(VLOOKUP(AI94,'Footnotes list'!$D$9:$E$58,2,FALSE)=0,\"\",VLOOKUP(AI94,'Footnotes list'!$D$9:$E$58,2,FALSE) ) )","v":""},{"$f":"IF(AND(TRIM(AK92)=\"\",TRIM(AK93)=\"\"),\"\",AK92+AK93)","v":""},null,null,null,{"$f":"IF(TRIM(AN94)=\"\", \"\", IF(VLOOKUP(AN94,'Footnotes list'!$D$9:$E$58,2,FALSE)=0,\"\",VLOOKUP(AN94,'Footnotes list'!$D$9:$E$58,2,FALSE) ) )","v":""},{"$f":"IF(AND(TRIM(AP92)=\"\", TRIM(AP93)=\"\"), \"\", SUM(AP92,AP93))","v":""},null,null,null,{"$f":"IF(TRIM(AS94)=\"\", \"\", IF(VLOOKUP(AS94,'Footnotes list'!$D$9:$E$58,2,FALSE)=0,\"\",VLOOKUP(AS94,'Footnotes list'!$D$9:$E$58,2,FALSE) ) )","v":""},{"$f":"IF(AND(TRIM(AU92)=\"\", TRIM(AU93)=\"\"), \"\", SUM(AU92,AU93) )","v":""},null,null,null,{"$f":"IF(TRIM(AX94)=\"\", \"\", IF(VLOOKUP(AX94,'Footnotes list'!$D$9:$E$58,2,FALSE)=0,\"\",VLOOKUP(AX94,'Footnotes list'!$D$9:$E$58,2,FALSE) ) )","v":""}]
[null,"W124","W124","Combustion wastes ","HAZ","Hazardous ",null,null,null,null,{"$f":"IF(TRIM(J95)=\"\", \"\", IF(VLOOKUP(J95,'Footnotes list'!$D$9:$E$58,2,FALSE)=0,\"\",VLOOKUP(J95,'Footnotes list'!$D$9:$E$58,2,FALSE) ) )","v":""},null,null,null,null,{"$f":"IF(TRIM(O95)=\"\", \"\", IF(VLOOKUP(O95,'Footnotes list'!$D$9:$E$58,2,FALSE)=0,\"\",VLOOKUP(O95,'Footnotes list'!$D$9:$E$58,2,FALSE) ) )","v":""},null,null,null,null,{"$f":"IF(TRIM(T95)=\"\", \"\", IF(VLOOKUP(T95,'Footnotes list'!$D$9:$E$58,2,FALSE)=0,\"\",VLOOKUP(T95,'Footnotes list'!$D$9:$E$58,2,FALSE) ) )","v":""},null,null,null,null,{"$f":"IF(TRIM(Y95)=\"\", \"\", IF(VLOOKUP(Y95,'Footnotes list'!$D$9:$E$58,2,FALSE)=0,\"\",VLOOKUP(Y95,'Footnotes list'!$D$9:$E$58,2,FALSE) ) )","v":""},{"$f":"IF(AND(TRIM(Q95)=\"\",TRIM(V95)=\"\"),\"\",Q95+V95)","v":""},null,null,null,{"$f":"IF(TRIM(AD95)=\"\", \"\", IF(VLOOKUP(AD95,'Footnotes list'!$D$9:$E$58,2,FALSE)=0,\"\",VLOOKUP(AD95,'Footnotes list'!$D$9:$E$58,2,FALSE) ) )","v":""},null,null,null,null,{"$f":"IF(TRIM(AI95)=\"\", \"\", IF(VLOOKUP(AI95,'Footnotes list'!$D$9:$E$58,2,FALSE)=0,\"\",VLOOKUP(AI95,'Footnotes list'!$D$9:$E$58,2,FALSE) ) )","v":""},null,null,null,null,{"$f":"IF(TRIM(AN95)=\"\", \"\", IF(VLOOKUP(AN95,'Footnotes list'!$D$9:$E$58,2,FALSE)=0,\"\",VLOOKUP(AN95,'Footnotes list'!$D$9:$E$58,2,FALSE) ) )","v":""},{"$f":"IF(AND(TRIM(AF95)=\"\",TRIM(AK95)=\"\"),\"\",AF95+AK95)","v":""},null,null,null,{"$f":"IF(TRIM(AS95)=\"\", \"\", IF(VLOOKUP(AS95,'Footnotes list'!$D$9:$E$58,2,FALSE)=0,\"\",VLOOKUP(AS95,'Footnotes list'!$D$9:$E$58,2,FALSE) ) )","v":""},{"$f":"IF(AND(TRIM(G95)=\"\",TRIM(L95)=\"\",TRIM(AA95)=\"\",TRIM(AP95)=\"\"),\"\",SUM(G95,L95,AA95,AP95))","v":""},null,null,null,{"$f":"IF(TRIM(AX95)=\"\", \"\", IF(VLOOKUP(AX95,'Footnotes list'!$D$9:$E$58,2,FALSE)=0,\"\",VLOOKUP(AX95,'Footnotes list'!$D$9:$E$58,2,FALSE) ) )","v":""}]
[null,null,"W124",null,"NHAZ","Non-hazardous",null,null,null,null,{"$f":"IF(TRIM(J96)=\"\", \"\", IF(VLOOKUP(J96,'Footnotes list'!$D$9:$E$58,2,FALSE)=0,\"\",VLOOKUP(J96,'Footnotes list'!$D$9:$E$58,2,FALSE) ) )","v":""},null,null,null,null,{"$f":"IF(TRIM(O96)=\"\", \"\", IF(VLOOKUP(O96,'Footnotes list'!$D$9:$E$58,2,FALSE)=0,\"\",VLOOKUP(O96,'Footnotes list'!$D$9:$E$58,2,FALSE) ) )","v":""},null,null,null,null,{"$f":"IF(TRIM(T96)=\"\", \"\", IF(VLOOKUP(T96,'Footnotes list'!$D$9:$E$58,2,FALSE)=0,\"\",VLOOKUP(T96,'Footnotes list'!$D$9:$E$58,2,FALSE) ) )","v":""},null,null,null,null,{"$f":"IF(TRIM(Y96)=\"\", \"\", IF(VLOOKUP(Y96,'Footnotes list'!$D$9:$E$58,2,FALSE)=0,\"\",VLOOKUP(Y96,'Footnotes list'!$D$9:$E$58,2,FALSE) ) )","v":""},{"$f":"IF(AND(TRIM(Q96)=\"\",TRIM(V96)=\"\"),\"\",Q96+V96)","v":""},null,null,null,{"$f":"IF(TRIM(AD96)=\"\", \"\", IF(VLOOKUP(AD96,'Footnotes list'!$D$9:$E$58,2,FALSE)=0,\"\",VLOOKUP(AD96,'Footnotes list'!$D$9:$E$58,2,FALSE) ) )","v":""},null,null,null,null,{"$f":"IF(TRIM(AI96)=\"\", \"\", IF(VLOOKUP(AI96,'Footnotes list'!$D$9:$E$58,2,FALSE)=0,\"\",VLOOKUP(AI96,'Footnotes list'!$D$9:$E$58,2,FALSE) ) )","v":""},null,null,null,null,{"$f":"IF(TRIM(AN96)=\"\", \"\", IF(VLOOKUP(AN96,'Footnotes list'!$D$9:$E$58,2,FALSE)=0,\"\",VLOOKUP(AN96,'Footnotes list'!$D$9:$E$58,2,FALSE) ) )","v":""},{"$f":"IF(AND(TRIM(AF96)=\"\",TRIM(AK96)=\"\"),\"\",AF96+AK96)","v":""},null,null,null,{"$f":"IF(TRIM(AS96)=\"\", \"\", IF(VLOOKUP(AS96,'Footnotes list'!$D$9:$E$58,2,FALSE)=0,\"\",VLOOKUP(AS96,'Footnotes list'!$D$9:$E$58,2,FALSE) ) )","v":""},{"$f":"IF(AND(TRIM(G96)=\"\",TRIM(L96)=\"\",TRIM(AA96)=\"\",TRIM(AP96)=\"\"),\"\",SUM(G96,L96,AA96,AP96))","v":""},null,null,null,{"$f":"IF(TRIM(AX96)=\"\", \"\", IF(VLOOKUP(AX96,'Footnotes list'!$D$9:$E$58,2,FALSE)=0,\"\",VLOOKUP(AX96,'Footnotes list'!$D$9:$E$58,2,FALSE) ) )","v":""}]
[null,null,"W124",null,"HAZ_NHAZ","Total",{"$f":"IF(AND(TRIM(G95)=\"\",TRIM(G96)=\"\"),\"\",G95+G96)","v":""},null,null,null,{"$f":"IF(TRIM(J97)=\"\", \"\", IF(VLOOKUP(J97,'Footnotes list'!$D$9:$E$58,2,FALSE)=0,\"\",VLOOKUP(J97,'Footnotes list'!$D$9:$E$58,2,FALSE) ) )","v":""},{"$f":"IF(AND(TRIM(L95)=\"\",TRIM(L96)=\"\"),\"\",L95+L96)","v":""},null,null,null,{"$f":"IF(TRIM(O97)=\"\", \"\", IF(VLOOKUP(O97,'Footnotes list'!$D$9:$E$58,2,FALSE)=0,\"\",VLOOKUP(O97,'Footnotes list'!$D$9:$E$58,2,FALSE) ) )","v":""},{"$f":"IF(AND(TRIM(Q95)=\"\",TRIM(Q96)=\"\"),\"\",Q95+Q96)","v":""},null,null,null,{"$f":"IF(TRIM(T97)=\"\", \"\", IF(VLOOKUP(T97,'Footnotes list'!$D$9:$E$58,2,FALSE)=0,\"\",VLOOKUP(T97,'Footnotes list'!$D$9:$E$58,2,FALSE) ) )","v":""},{"$f":"IF(AND(TRIM(V95)=\"\",TRIM(V96)=\"\"),\"\",V95+V96)","v":""},null,null,null,{"$f":"IF(TRIM(Y97)=\"\", \"\", IF(VLOOKUP(Y97,'Footnotes list'!$D$9:$E$58,2,FALSE)=0,\"\",VLOOKUP(Y97,'Footnotes list'!$D$9:$E$58,2,FALSE) ) )","v":""},{"$f":"IF(AND(TRIM(AA95)=\"\", TRIM(AA96)=\"\"), \"\", SUM(AA95,AA96))","v":""},null,null,null,{"$f":"IF(TRIM(AD97)=\"\", \"\", IF(VLOOKUP(AD97,'Footnotes list'!$D$9:$E$58,2,FALSE)=0,\"\",VLOOKUP(AD97,'Footnotes list'!$D$9:$E$58,2,FALSE) ) )","v":""},{"$f":"IF(AND(TRIM(AF95)=\"\",TRIM(AF96)=\"\"),\"\",AF95+AF96)","v":""},null,null,null,{"$f":"IF(TRIM(AI97)=\"\", \"\", IF(VLOOKUP(AI97,'Footnotes list'!$D$9:$E$58,2,FALSE)=0,\"\",VLOOKUP(AI97,'Footnotes list'!$D$9:$E$58,2,FALSE) ) )","v":""},{"$f":"IF(AND(TRIM(AK95)=\"\",TRIM(AK96)=\"\"),\"\",AK95+AK96)","v":""},null,null,null,{"$f":"IF(TRIM(AN97)=\"\", \"\", IF(VLOOKUP(AN97,'Footnotes list'!$D$9:$E$58,2,FALSE)=0,\"\",VLOOKUP(AN97,'Footnotes list'!$D$9:$E$58,2,FALSE) ) )","v":""},{"$f":"IF(AND(TRIM(AP95)=\"\", TRIM(AP96)=\"\"), \"\", SUM(AP95,AP96))","v":""},null,null,null,{"$f":"IF(TRIM(AS97)=\"\", \"\", IF(VLOOKUP(AS97,'Footnotes list'!$D$9:$E$58,2,FALSE)=0,\"\",VLOOKUP(AS97,'Footnotes list'!$D$9:$E$58,2,FALSE) ) )","v":""},{"$f":"IF(AND(TRIM(AU95)=\"\", TRIM(AU96)=\"\"), \"\", SUM(AU95,AU96) )","v":""},null,null,null,{"$f":"IF(TRIM(AX97)=\"\", \"\", IF(VLOOKUP(AX97,'Footnotes list'!$D$9:$E$58,2,FALSE)=0,\"\",VLOOKUP(AX97,'Footnotes list'!$D$9:$E$58,2,FALSE) ) )","v":""}]
[null,"W126","W126","Soils ","HAZ","Hazardous ",null,null,null,null,{"$f":"IF(TRIM(J98)=\"\", \"\", IF(VLOOKUP(J98,'Footnotes list'!$D$9:$E$58,2,FALSE)=0,\"\",VLOOKUP(J98,'Footnotes list'!$D$9:$E$58,2,FALSE) ) )","v":""},null,null,null,null,{"$f":"IF(TRIM(O98)=\"\", \"\", IF(VLOOKUP(O98,'Footnotes list'!$D$9:$E$58,2,FALSE)=0,\"\",VLOOKUP(O98,'Footnotes list'!$D$9:$E$58,2,FALSE) ) )","v":""},null,null,null,null,{"$f":"IF(TRIM(T98)=\"\", \"\", IF(VLOOKUP(T98,'Footnotes list'!$D$9:$E$58,2,FALSE)=0,\"\",VLOOKUP(T98,'Footnotes list'!$D$9:$E$58,2,FALSE) ) )","v":""},null,null,null,null,{"$f":"IF(TRIM(Y98)=\"\", \"\", IF(VLOOKUP(Y98,'Footnotes list'!$D$9:$E$58,2,FALSE)=0,\"\",VLOOKUP(Y98,'Footnotes list'!$D$9:$E$58,2,FALSE) ) )","v":""},{"$f":"IF(AND(TRIM(Q98)=\"\",TRIM(V98)=\"\"),\"\",Q98+V98)","v":""},null,null,null,{"$f":"IF(TRIM(AD98)=\"\", \"\", IF(VLOOKUP(AD98,'Footnotes list'!$D$9:$E$58,2,FALSE)=0,\"\",VLOOKUP(AD98,'Footnotes list'!$D$9:$E$58,2,FALSE) ) )","v":""},null,null,null,null,{"$f":"IF(TRIM(AI98)=\"\", \"\", IF(VLOOKUP(AI98,'Footnotes list'!$D$9:$E$58,2,FALSE)=0,\"\",VLOOKUP(AI98,'Footnotes list'!$D$9:$E$58,2,FALSE) ) )","v":""},null,null,null,null,{"$f":"IF(TRIM(AN98)=\"\", \"\", IF(VLOOKUP(AN98,'Footnotes list'!$D$9:$E$58,2,FALSE)=0,\"\",VLOOKUP(AN98,'Footnotes list'!$D$9:$E$58,2,FALSE) ) )","v":""},{"$f":"IF(AND(TRIM(AF98)=\"\",TRIM(AK98)=\"\"),\"\",AF98+AK98)","v":""},null,null,null,{"$f":"IF(TRIM(AS98)=\"\", \"\", IF(VLOOKUP(AS98,'Footnotes list'!$D$9:$E$58,2,FALSE)=0,\"\",VLOOKUP(AS98,'Footnotes list'!$D$9:$E$58,2,FALSE) ) )","v":""},{"$f":"IF(AND(TRIM(G98)=\"\",TRIM(L98)=\"\",TRIM(AA98)=\"\",TRIM(AP98)=\"\"),\"\",SUM(G98,L98,AA98,AP98))","v":""},null,null,null,{"$f":"IF(TRIM(AX98)=\"\", \"\", IF(VLOOKUP(AX98,'Footnotes list'!$D$9:$E$58,2,FALSE)=0,\"\",VLOOKUP(AX98,'Footnotes list'!$D$9:$E$58,2,FALSE) ) )","v":""}]
[null,null,"W126",null,"NHAZ","Non-hazardous",null,null,null,null,{"$f":"IF(TRIM(J99)=\"\", \"\", IF(VLOOKUP(J99,'Footnotes list'!$D$9:$E$58,2,FALSE)=0,\"\",VLOOKUP(J99,'Footnotes list'!$D$9:$E$58,2,FALSE) ) )","v":""},null,null,null,null,{"$f":"IF(TRIM(O99)=\"\", \"\", IF(VLOOKUP(O99,'Footnotes list'!$D$9:$E$58,2,FALSE)=0,\"\",VLOOKUP(O99,'Footnotes list'!$D$9:$E$58,2,FALSE) ) )","v":""},null,null,null,null,{"$f":"IF(TRIM(T99)=\"\", \"\", IF(VLOOKUP(T99,'Footnotes list'!$D$9:$E$58,2,FALSE)=0,\"\",VLOOKUP(T99,'Footnotes list'!$D$9:$E$58,2,FALSE) ) )","v":""},null,null,null,null,{"$f":"IF(TRIM(Y99)=\"\", \"\", IF(VLOOKUP(Y99,'Footnotes list'!$D$9:$E$58,2,FALSE)=0,\"\",VLOOKUP(Y99,'Footnotes list'!$D$9:$E$58,2,FALSE) ) )","v":""},{"$f":"IF(AND(TRIM(Q99)=\"\",TRIM(V99)=\"\"),\"\",Q99+V99)","v":""},null,null,null,{"$f":"IF(TRIM(AD99)=\"\", \"\", IF(VLOOKUP(AD99,'Footnotes list'!$D$9:$E$58,2,FALSE)=0,\"\",VLOOKUP(AD99,'Footnotes list'!$D$9:$E$58,2,FALSE) ) )","v":""},null,null,null,null,{"$f":"IF(TRIM(AI99)=\"\", \"\", IF(VLOOKUP(AI99,'Footnotes list'!$D$9:$E$58,2,FALSE)=0,\"\",VLOOKUP(AI99,'Footnotes list'!$D$9:$E$58,2,FALSE) ) )","v":""},null,null,null,null,{"$f":"IF(TRIM(AN99)=\"\", \"\", IF(VLOOKUP(AN99,'Footnotes list'!$D$9:$E$58,2,FALSE)=0,\"\",VLOOKUP(AN99,'Footnotes list'!$D$9:$E$58,2,FALSE) ) )","v":""},{"$f":"IF(AND(TRIM(AF99)=\"\",TRIM(AK99)=\"\"),\"\",AF99+AK99)","v":""},null,null,null,{"$f":"IF(TRIM(AS99)=\"\", \"\", IF(VLOOKUP(AS99,'Footnotes list'!$D$9:$E$58,2,FALSE)=0,\"\",VLOOKUP(AS99,'Footnotes list'!$D$9:$E$58,2,FALSE) ) )","v":""},{"$f":"IF(AND(TRIM(G99)=\"\",TRIM(L99)=\"\",TRIM(AA99)=\"\",TRIM(AP99)=\"\"),\"\",SUM(G99,L99,AA99,AP99))","v":""},null,null,null,{"$f":"IF(TRIM(AX99)=\"\", \"\", IF(VLOOKUP(AX99,'Footnotes list'!$D$9:$E$58,2,FALSE)=0,\"\",VLOOKUP(AX99,'Footnotes list'!$D$9:$E$58,2,FALSE) ) )","v":""}]
[null,null,"W126",null,"HAZ_NHAZ","Total",{"$f":"IF(AND(TRIM(G98)=\"\",TRIM(G99)=\"\"),\"\",G98+G99)","v":""},null,null,null,{"$f":"IF(TRIM(J100)=\"\", \"\", IF(VLOOKUP(J100,'Footnotes list'!$D$9:$E$58,2,FALSE)=0,\"\",VLOOKUP(J100,'Footnotes list'!$D$9:$E$58,2,FALSE) ) )","v":""},{"$f":"IF(AND(TRIM(L98)=\"\",TRIM(L99)=\"\"),\"\",L98+L99)","v":""},null,null,null,{"$f":"IF(TRIM(O100)=\"\", \"\", IF(VLOOKUP(O100,'Footnotes list'!$D$9:$E$58,2,FALSE)=0,\"\",VLOOKUP(O100,'Footnotes list'!$D$9:$E$58,2,FALSE) ) )","v":""},{"$f":"IF(AND(TRIM(Q98)=\"\",TRIM(Q99)=\"\"),\"\",Q98+Q99)","v":""},null,null,null,{"$f":"IF(TRIM(T100)=\"\", \"\", IF(VLOOKUP(T100,'Footnotes list'!$D$9:$E$58,2,FALSE)=0,\"\",VLOOKUP(T100,'Footnotes list'!$D$9:$E$58,2,FALSE) ) )","v":""},{"$f":"IF(AND(TRIM(V98)=\"\",TRIM(V99)=\"\"),\"\",V98+V99)","v":""},null,null,null,{"$f":"IF(TRIM(Y100)=\"\", \"\", IF(VLOOKUP(Y100,'Footnotes list'!$D$9:$E$58,2,FALSE)=0,\"\",VLOOKUP(Y100,'Footnotes list'!$D$9:$E$58,2,FALSE) ) )","v":""},{"$f":"IF(AND(TRIM(AA98)=\"\", TRIM(AA99)=\"\"), \"\", SUM(AA98,AA99))","v":""},null,null,null,{"$f":"IF(TRIM(AD100)=\"\", \"\", IF(VLOOKUP(AD100,'Footnotes list'!$D$9:$E$58,2,FALSE)=0,\"\",VLOOKUP(AD100,'Footnotes list'!$D$9:$E$58,2,FALSE) ) )","v":""},{"$f":"IF(AND(TRIM(AF98)=\"\",TRIM(AF99)=\"\"),\"\",AF98+AF99)","v":""},null,null,null,{"$f":"IF(TRIM(AI100)=\"\", \"\", IF(VLOOKUP(AI100,'Footnotes list'!$D$9:$E$58,2,FALSE)=0,\"\",VLOOKUP(AI100,'Footnotes list'!$D$9:$E$58,2,FALSE) ) )","v":""},{"$f":"IF(AND(TRIM(AK98)=\"\",TRIM(AK99)=\"\"),\"\",AK98+AK99)","v":""},null,null,null,{"$f":"IF(TRIM(AN100)=\"\", \"\", IF(VLOOKUP(AN100,'Footnotes list'!$D$9:$E$58,2,FALSE)=0,\"\",VLOOKUP(AN100,'Footnotes list'!$D$9:$E$58,2,FALSE) ) )","v":""},{"$f":"IF(AND(TRIM(AP98)=\"\", TRIM(AP99)=\"\"), \"\", SUM(AP98,AP99))","v":""},null,null,null,{"$f":"IF(TRIM(AS100)=\"\", \"\", IF(VLOOKUP(AS100,'Footnotes list'!$D$9:$E$58,2,FALSE)=0,\"\",VLOOKUP(AS100,'Footnotes list'!$D$9:$E$58,2,FALSE) ) )","v":""},{"$f":"IF(AND(TRIM(AU98)=\"\", TRIM(AU99)=\"\"), \"\", SUM(AU98,AU99) )","v":""},null,null,null,{"$f":"IF(TRIM(AX100)=\"\", \"\", IF(VLOOKUP(AX100,'Footnotes list'!$D$9:$E$58,2,FALSE)=0,\"\",VLOOKUP(AX100,'Footnotes list'!$D$9:$E$58,2,FALSE) ) )","v":""}]
[null,"W127","W127","Dredging spoils ","HAZ","Hazardous ",null,null,null,null,{"$f":"IF(TRIM(J101)=\"\", \"\", IF(VLOOKUP(J101,'Footnotes list'!$D$9:$E$58,2,FALSE)=0,\"\",VLOOKUP(J101,'Footnotes list'!$D$9:$E$58,2,FALSE) ) )","v":""},null,null,null,null,{"$f":"IF(TRIM(O101)=\"\", \"\", IF(VLOOKUP(O101,'Footnotes list'!$D$9:$E$58,2,FALSE)=0,\"\",VLOOKUP(O101,'Footnotes list'!$D$9:$E$58,2,FALSE) ) )","v":""},null,null,null,null,{"$f":"IF(TRIM(T101)=\"\", \"\", IF(VLOOKUP(T101,'Footnotes list'!$D$9:$E$58,2,FALSE)=0,\"\",VLOOKUP(T101,'Footnotes list'!$D$9:$E$58,2,FALSE) ) )","v":""},null,null,null,null,{"$f":"IF(TRIM(Y101)=\"\", \"\", IF(VLOOKUP(Y101,'Footnotes list'!$D$9:$E$58,2,FALSE)=0,\"\",VLOOKUP(Y101,'Footnotes list'!$D$9:$E$58,2,FALSE) ) )","v":""},{"$f":"IF(AND(TRIM(Q101)=\"\",TRIM(V101)=\"\"),\"\",Q101+V101)","v":""},null,null,null,{"$f":"IF(TRIM(AD101)=\"\", \"\", IF(VLOOKUP(AD101,'Footnotes list'!$D$9:$E$58,2,FALSE)=0,\"\",VLOOKUP(AD101,'Footnotes list'!$D$9:$E$58,2,FALSE) ) )","v":""},null,null,null,null,{"$f":"IF(TRIM(AI101)=\"\", \"\", IF(VLOOKUP(AI101,'Footnotes list'!$D$9:$E$58,2,FALSE)=0,\"\",VLOOKUP(AI101,'Footnotes list'!$D$9:$E$58,2,FALSE) ) )","v":""},null,null,null,null,{"$f":"IF(TRIM(AN101)=\"\", \"\", IF(VLOOKUP(AN101,'Footnotes list'!$D$9:$E$58,2,FALSE)=0,\"\",VLOOKUP(AN101,'Footnotes list'!$D$9:$E$58,2,FALSE) ) )","v":""},{"$f":"IF(AND(TRIM(AF101)=\"\",TRIM(AK101)=\"\"),\"\",AF101+AK101)","v":""},null,null,null,{"$f":"IF(TRIM(AS101)=\"\", \"\", IF(VLOOKUP(AS101,'Footnotes list'!$D$9:$E$58,2,FALSE)=0,\"\",VLOOKUP(AS101,'Footnotes list'!$D$9:$E$58,2,FALSE) ) )","v":""},{"$f":"IF(AND(TRIM(G101)=\"\",TRIM(L101)=\"\",TRIM(AA101)=\"\",TRIM(AP101)=\"\"),\"\",SUM(G101,L101,AA101,AP101))","v":""},null,null,null,{"$f":"IF(TRIM(AX101)=\"\", \"\", IF(VLOOKUP(AX101,'Footnotes list'!$D$9:$E$58,2,FALSE)=0,\"\",VLOOKUP(AX101,'Footnotes list'!$D$9:$E$58,2,FALSE) ) )","v":""}]
[null,null,"W127",null,"NHAZ","Non-hazardous",null,null,null,null,{"$f":"IF(TRIM(J102)=\"\", \"\", IF(VLOOKUP(J102,'Footnotes list'!$D$9:$E$58,2,FALSE)=0,\"\",VLOOKUP(J102,'Footnotes list'!$D$9:$E$58,2,FALSE) ) )","v":""},null,null,null,null,{"$f":"IF(TRIM(O102)=\"\", \"\", IF(VLOOKUP(O102,'Footnotes list'!$D$9:$E$58,2,FALSE)=0,\"\",VLOOKUP(O102,'Footnotes list'!$D$9:$E$58,2,FALSE) ) )","v":""},null,null,null,null,{"$f":"IF(TRIM(T102)=\"\", \"\", IF(VLOOKUP(T102,'Footnotes list'!$D$9:$E$58,2,FALSE)=0,\"\",VLOOKUP(T102,'Footnotes list'!$D$9:$E$58,2,FALSE) ) )","v":""},null,null,null,null,{"$f":"IF(TRIM(Y102)=\"\", \"\", IF(VLOOKUP(Y102,'Footnotes list'!$D$9:$E$58,2,FALSE)=0,\"\",VLOOKUP(Y102,'Footnotes list'!$D$9:$E$58,2,FALSE) ) )","v":""},{"$f":"IF(AND(TRIM(Q102)=\"\",TRIM(V102)=\"\"),\"\",Q102+V102)","v":""},null,null,null,{"$f":"IF(TRIM(AD102)=\"\", \"\", IF(VLOOKUP(AD102,'Footnotes list'!$D$9:$E$58,2,FALSE)=0,\"\",VLOOKUP(AD102,'Footnotes list'!$D$9:$E$58,2,FALSE) ) )","v":""},null,null,null,null,{"$f":"IF(TRIM(AI102)=\"\", \"\", IF(VLOOKUP(AI102,'Footnotes list'!$D$9:$E$58,2,FALSE)=0,\"\",VLOOKUP(AI102,'Footnotes list'!$D$9:$E$58,2,FALSE) ) )","v":""},null,null,null,null,{"$f":"IF(TRIM(AN102)=\"\", \"\", IF(VLOOKUP(AN102,'Footnotes list'!$D$9:$E$58,2,FALSE)=0,\"\",VLOOKUP(AN102,'Footnotes list'!$D$9:$E$58,2,FALSE) ) )","v":""},{"$f":"IF(AND(TRIM(AF102)=\"\",TRIM(AK102)=\"\"),\"\",AF102+AK102)","v":""},null,null,null,{"$f":"IF(TRIM(AS102)=\"\", \"\", IF(VLOOKUP(AS102,'Footnotes list'!$D$9:$E$58,2,FALSE)=0,\"\",VLOOKUP(AS102,'Footnotes list'!$D$9:$E$58,2,FALSE) ) )","v":""},{"$f":"IF(AND(TRIM(G102)=\"\",TRIM(L102)=\"\",TRIM(AA102)=\"\",TRIM(AP102)=\"\"),\"\",SUM(G102,L102,AA102,AP102))","v":""},null,null,null,{"$f":"IF(TRIM(AX102)=\"\", \"\", IF(VLOOKUP(AX102,'Footnotes list'!$D$9:$E$58,2,FALSE)=0,\"\",VLOOKUP(AX102,'Footnotes list'!$D$9:$E$58,2,FALSE) ) )","v":""}]
[null,null,"W127",null,"HAZ_NHAZ","Total",{"$f":"IF(AND(TRIM(G101)=\"\",TRIM(G102)=\"\"),\"\",G101+G102)","v":""},null,null,null,{"$f":"IF(TRIM(J103)=\"\", \"\", IF(VLOOKUP(J103,'Footnotes list'!$D$9:$E$58,2,FALSE)=0,\"\",VLOOKUP(J103,'Footnotes list'!$D$9:$E$58,2,FALSE) ) )","v":""},{"$f":"IF(AND(TRIM(L101)=\"\",TRIM(L102)=\"\"),\"\",L101+L102)","v":""},null,null,null,{"$f":"IF(TRIM(O103)=\"\", \"\", IF(VLOOKUP(O103,'Footnotes list'!$D$9:$E$58,2,FALSE)=0,\"\",VLOOKUP(O103,'Footnotes list'!$D$9:$E$58,2,FALSE) ) )","v":""},{"$f":"IF(AND(TRIM(Q101)=\"\",TRIM(Q102)=\"\"),\"\",Q101+Q102)","v":""},null,null,null,{"$f":"IF(TRIM(T103)=\"\", \"\", IF(VLOOKUP(T103,'Footnotes list'!$D$9:$E$58,2,FALSE)=0,\"\",VLOOKUP(T103,'Footnotes list'!$D$9:$E$58,2,FALSE) ) )","v":""},{"$f":"IF(AND(TRIM(V101)=\"\",TRIM(V102)=\"\"),\"\",V101+V102)","v":""},null,null,null,{"$f":"IF(TRIM(Y103)=\"\", \"\", IF(VLOOKUP(Y103,'Footnotes list'!$D$9:$E$58,2,FALSE)=0,\"\",VLOOKUP(Y103,'Footnotes list'!$D$9:$E$58,2,FALSE) ) )","v":""},{"$f":"IF(AND(TRIM(AA101)=\"\", TRIM(AA102)=\"\"), \"\", SUM(AA101,AA102))","v":""},null,null,null,{"$f":"IF(TRIM(AD103)=\"\", \"\", IF(VLOOKUP(AD103,'Footnotes list'!$D$9:$E$58,2,FALSE)=0,\"\",VLOOKUP(AD103,'Footnotes list'!$D$9:$E$58,2,FALSE) ) )","v":""},{"$f":"IF(AND(TRIM(AF101)=\"\",TRIM(AF102)=\"\"),\"\",AF101+AF102)","v":""},null,null,null,{"$f":"IF(TRIM(AI103)=\"\", \"\", IF(VLOOKUP(AI103,'Footnotes list'!$D$9:$E$58,2,FALSE)=0,\"\",VLOOKUP(AI103,'Footnotes list'!$D$9:$E$58,2,FALSE) ) )","v":""},{"$f":"IF(AND(TRIM(AK101)=\"\",TRIM(AK102)=\"\"),\"\",AK101+AK102)","v":""},null,null,null,{"$f":"IF(TRIM(AN103)=\"\", \"\", IF(VLOOKUP(AN103,'Footnotes list'!$D$9:$E$58,2,FALSE)=0,\"\",VLOOKUP(AN103,'Footnotes list'!$D$9:$E$58,2,FALSE) ) )","v":""},{"$f":"IF(AND(TRIM(AP101)=\"\", TRIM(AP102)=\"\"), \"\", SUM(AP101,AP102))","v":""},null,null,null,{"$f":"IF(TRIM(AS103)=\"\", \"\", IF(VLOOKUP(AS103,'Footnotes list'!$D$9:$E$58,2,FALSE)=0,\"\",VLOOKUP(AS103,'Footnotes list'!$D$9:$E$58,2,FALSE) ) )","v":""},{"$f":"IF(AND(TRIM(AU101)=\"\", TRIM(AU102)=\"\"), \"\", SUM(AU101,AU102) )","v":""},null,null,null,{"$f":"IF(TRIM(AX103)=\"\", \"\", IF(VLOOKUP(AX103,'Footnotes list'!$D$9:$E$58,2,FALSE)=0,\"\",VLOOKUP(AX103,'Footnotes list'!$D$9:$E$58,2,FALSE) ) )","v":""}]
[null,"W128_13","W128_13","Mineral wastes from waste treatment and stabilised wastes","HAZ","Hazardous ",null,null,null,null,{"$f":"IF(TRIM(J104)=\"\", \"\", IF(VLOOKUP(J104,'Footnotes list'!$D$9:$E$58,2,FALSE)=0,\"\",VLOOKUP(J104,'Footnotes list'!$D$9:$E$58,2,FALSE) ) )","v":""},null,null,null,null,{"$f":"IF(TRIM(O104)=\"\", \"\", IF(VLOOKUP(O104,'Footnotes list'!$D$9:$E$58,2,FALSE)=0,\"\",VLOOKUP(O104,'Footnotes list'!$D$9:$E$58,2,FALSE) ) )","v":""},null,null,null,null,{"$f":"IF(TRIM(T104)=\"\", \"\", IF(VLOOKUP(T104,'Footnotes list'!$D$9:$E$58,2,FALSE)=0,\"\",VLOOKUP(T104,'Footnotes list'!$D$9:$E$58,2,FALSE) ) )","v":""},null,null,null,null,{"$f":"IF(TRIM(Y104)=\"\", \"\", IF(VLOOKUP(Y104,'Footnotes list'!$D$9:$E$58,2,FALSE)=0,\"\",VLOOKUP(Y104,'Footnotes list'!$D$9:$E$58,2,FALSE) ) )","v":""},{"$f":"IF(AND(TRIM(Q104)=\"\",TRIM(V104)=\"\"),\"\",Q104+V104)","v":""},null,null,null,{"$f":"IF(TRIM(AD104)=\"\", \"\", IF(VLOOKUP(AD104,'Footnotes list'!$D$9:$E$58,2,FALSE)=0,\"\",VLOOKUP(AD104,'Footnotes list'!$D$9:$E$58,2,FALSE) ) )","v":""},null,null,null,null,{"$f":"IF(TRIM(AI104)=\"\", \"\", IF(VLOOKUP(AI104,'Footnotes list'!$D$9:$E$58,2,FALSE)=0,\"\",VLOOKUP(AI104,'Footnotes list'!$D$9:$E$58,2,FALSE) ) )","v":""},null,null,null,null,{"$f":"IF(TRIM(AN104)=\"\", \"\", IF(VLOOKUP(AN104,'Footnotes list'!$D$9:$E$58,2,FALSE)=0,\"\",VLOOKUP(AN104,'Footnotes list'!$D$9:$E$58,2,FALSE) ) )","v":""},{"$f":"IF(AND(TRIM(AF104)=\"\",TRIM(AK104)=\"\"),\"\",AF104+AK104)","v":""},null,null,null,{"$f":"IF(TRIM(AS104)=\"\", \"\", IF(VLOOKUP(AS104,'Footnotes list'!$D$9:$E$58,2,FALSE)=0,\"\",VLOOKUP(AS104,'Footnotes list'!$D$9:$E$58,2,FALSE) ) )","v":""},{"$f":"IF(AND(TRIM(G104)=\"\",TRIM(L104)=\"\",TRIM(AA104)=\"\",TRIM(AP104)=\"\"),\"\",SUM(G104,L104,AA104,AP104))","v":""},null,null,null,{"$f":"IF(TRIM(AX104)=\"\", \"\", IF(VLOOKUP(AX104,'Footnotes list'!$D$9:$E$58,2,FALSE)=0,\"\",VLOOKUP(AX104,'Footnotes list'!$D$9:$E$58,2,FALSE) ) )","v":""}]
[null,null,"W128_13",null,"NHAZ","Non-hazardous",null,null,null,null,{"$f":"IF(TRIM(J105)=\"\", \"\", IF(VLOOKUP(J105,'Footnotes list'!$D$9:$E$58,2,FALSE)=0,\"\",VLOOKUP(J105,'Footnotes list'!$D$9:$E$58,2,FALSE) ) )","v":""},null,null,null,null,{"$f":"IF(TRIM(O105)=\"\", \"\", IF(VLOOKUP(O105,'Footnotes list'!$D$9:$E$58,2,FALSE)=0,\"\",VLOOKUP(O105,'Footnotes list'!$D$9:$E$58,2,FALSE) ) )","v":""},null,null,null,null,{"$f":"IF(TRIM(T105)=\"\", \"\", IF(VLOOKUP(T105,'Footnotes list'!$D$9:$E$58,2,FALSE)=0,\"\",VLOOKUP(T105,'Footnotes list'!$D$9:$E$58,2,FALSE) ) )","v":""},null,null,null,null,{"$f":"IF(TRIM(Y105)=\"\", \"\", IF(VLOOKUP(Y105,'Footnotes list'!$D$9:$E$58,2,FALSE)=0,\"\",VLOOKUP(Y105,'Footnotes list'!$D$9:$E$58,2,FALSE) ) )","v":""},{"$f":"IF(AND(TRIM(Q105)=\"\",TRIM(V105)=\"\"),\"\",Q105+V105)","v":""},null,null,null,{"$f":"IF(TRIM(AD105)=\"\", \"\", IF(VLOOKUP(AD105,'Footnotes list'!$D$9:$E$58,2,FALSE)=0,\"\",VLOOKUP(AD105,'Footnotes list'!$D$9:$E$58,2,FALSE) ) )","v":""},null,null,null,null,{"$f":"IF(TRIM(AI105)=\"\", \"\", IF(VLOOKUP(AI105,'Footnotes list'!$D$9:$E$58,2,FALSE)=0,\"\",VLOOKUP(AI105,'Footnotes list'!$D$9:$E$58,2,FALSE) ) )","v":""},null,null,null,null,{"$f":"IF(TRIM(AN105)=\"\", \"\", IF(VLOOKUP(AN105,'Footnotes list'!$D$9:$E$58,2,FALSE)=0,\"\",VLOOKUP(AN105,'Footnotes list'!$D$9:$E$58,2,FALSE) ) )","v":""},{"$f":"IF(AND(TRIM(AF105)=\"\",TRIM(AK105)=\"\"),\"\",AF105+AK105)","v":""},null,null,null,{"$f":"IF(TRIM(AS105)=\"\", \"\", IF(VLOOKUP(AS105,'Footnotes list'!$D$9:$E$58,2,FALSE)=0,\"\",VLOOKUP(AS105,'Footnotes list'!$D$9:$E$58,2,FALSE) ) )","v":""},{"$f":"IF(AND(TRIM(G105)=\"\",TRIM(L105)=\"\",TRIM(AA105)=\"\",TRIM(AP105)=\"\"),\"\",SUM(G105,L105,AA105,AP105))","v":""},null,null,null,{"$f":"IF(TRIM(AX105)=\"\", \"\", IF(VLOOKUP(AX105,'Footnotes list'!$D$9:$E$58,2,FALSE)=0,\"\",VLOOKUP(AX105,'Footnotes list'!$D$9:$E$58,2,FALSE) ) )","v":""}]
[null,null,"W128_13",null,"HAZ_NHAZ","Total",{"$f":"IF(AND(TRIM(G104)=\"\",TRIM(G105)=\"\"),\"\",G104+G105)","v":""},null,null,null,{"$f":"IF(TRIM(J106)=\"\", \"\", IF(VLOOKUP(J106,'Footnotes list'!$D$9:$E$58,2,FALSE)=0,\"\",VLOOKUP(J106,'Footnotes list'!$D$9:$E$58,2,FALSE) ) )","v":""},{"$f":"IF(AND(TRIM(L104)=\"\",TRIM(L105)=\"\"),\"\",L104+L105)","v":""},null,null,null,{"$f":"IF(TRIM(O106)=\"\", \"\", IF(VLOOKUP(O106,'Footnotes list'!$D$9:$E$58,2,FALSE)=0,\"\",VLOOKUP(O106,'Footnotes list'!$D$9:$E$58,2,FALSE) ) )","v":""},{"$f":"IF(AND(TRIM(Q104)=\"\",TRIM(Q105)=\"\"),\"\",Q104+Q105)","v":""},null,null,null,{"$f":"IF(TRIM(T106)=\"\", \"\", IF(VLOOKUP(T106,'Footnotes list'!$D$9:$E$58,2,FALSE)=0,\"\",VLOOKUP(T106,'Footnotes list'!$D$9:$E$58,2,FALSE) ) )","v":""},{"$f":"IF(AND(TRIM(V104)=\"\",TRIM(V105)=\"\"),\"\",V104+V105)","v":""},null,null,null,{"$f":"IF(TRIM(Y106)=\"\", \"\", IF(VLOOKUP(Y106,'Footnotes list'!$D$9:$E$58,2,FALSE)=0,\"\",VLOOKUP(Y106,'Footnotes list'!$D$9:$E$58,2,FALSE) ) )","v":""},{"$f":"IF(AND(TRIM(AA104)=\"\", TRIM(AA105)=\"\"), \"\", SUM(AA104,AA105))","v":""},null,null,null,{"$f":"IF(TRIM(AD106)=\"\", \"\", IF(VLOOKUP(AD106,'Footnotes list'!$D$9:$E$58,2,FALSE)=0,\"\",VLOOKUP(AD106,'Footnotes list'!$D$9:$E$58,2,FALSE) ) )","v":""},{"$f":"IF(AND(TRIM(AF104)=\"\",TRIM(AF105)=\"\"),\"\",AF104+AF105)","v":""},null,null,null,{"$f":"IF(TRIM(AI106)=\"\", \"\", IF(VLOOKUP(AI106,'Footnotes list'!$D$9:$E$58,2,FALSE)=0,\"\",VLOOKUP(AI106,'Footnotes list'!$D$9:$E$58,2,FALSE) ) )","v":""},{"$f":"IF(AND(TRIM(AK104)=\"\",TRIM(AK105)=\"\"),\"\",AK104+AK105)","v":""},null,null,null,{"$f":"IF(TRIM(AN106)=\"\", \"\", IF(VLOOKUP(AN106,'Footnotes list'!$D$9:$E$58,2,FALSE)=0,\"\",VLOOKUP(AN106,'Footnotes list'!$D$9:$E$58,2,FALSE) ) )","v":""},{"$f":"IF(AND(TRIM(AP104)=\"\", TRIM(AP105)=\"\"), \"\", SUM(AP104,AP105))","v":""},null,null,null,{"$f":"IF(TRIM(AS106)=\"\", \"\", IF(VLOOKUP(AS106,'Footnotes list'!$D$9:$E$58,2,FALSE)=0,\"\",VLOOKUP(AS106,'Footnotes list'!$D$9:$E$58,2,FALSE) ) )","v":""},{"$f":"IF(AND(TRIM(AU104)=\"\", TRIM(AU105)=\"\"), \"\", SUM(AU104,AU105) )","v":""},null,null,null,{"$f":"IF(TRIM(AX106)=\"\", \"\", IF(VLOOKUP(AX106,'Footnotes list'!$D$9:$E$58,2,FALSE)=0,\"\",VLOOKUP(AX106,'Footnotes list'!$D$9:$E$58,2,FALSE) ) )","v":""}]
[null,"PRIM","PRIM","Primary waste","HAZ","Hazardous ",{"$f":"SUM(G8,G11,G14,G17,G20,G26,G29,G32,G35,G38,G41,G44,G47,G50,G53,G56,G59,G62,G65,G68,G71,G74,G77,G80,G86,G89,G92,G95,G98,G101)","v":0},null,null,null,{"$f":"IF(TRIM(J107)=\"\", \"\", IF(VLOOKUP(J107,'Footnotes list'!$D$9:$E$58,2,FALSE)=0,\"\",VLOOKUP(J107,'Footnotes list'!$D$9:$E$58,2,FALSE) ) )","v":""},{"$f":"SUM(L8,L11,L14,L17,L20,L26,L29,L32,L35,L38,L41,L44,L47,L50,L53,L56,L59,L62,L65,L68,L71,L74,L77,L80,L86,L89,L92,L95,L98,L101)","v":0},null,null,null,{"$f":"IF(TRIM(O107)=\"\", \"\", IF(VLOOKUP(O107,'Footnotes list'!$D$9:$E$58,2,FALSE)=0,\"\",VLOOKUP(O107,'Footnotes list'!$D$9:$E$58,2,FALSE) ) )","v":""},{"$f":"SUM(Q8,Q11,Q14,Q17,Q20,Q26,Q29,Q32,Q35,Q38,Q41,Q44,Q47,Q50,Q53,Q56,Q59,Q62,Q65,Q68,Q71,Q74,Q77,Q80,Q86,Q89,Q92,Q95,Q98,Q101)","v":0},null,null,null,{"$f":"IF(TRIM(T107)=\"\", \"\", IF(VLOOKUP(T107,'Footnotes list'!$D$9:$E$58,2,FALSE)=0,\"\",VLOOKUP(T107,'Footnotes list'!$D$9:$E$58,2,FALSE) ) )","v":""},{"$f":"SUM(V8,V11,V14,V17,V20,V26,V29,V32,V35,V38,V41,V44,V47,V50,V53,V56,V59,V62,V65,V68,V71,V74,V77,V80,V86,V89,V92,V95,V98,V101)","v":0},null,null,null,{"$f":"IF(TRIM(Y107)=\"\", \"\", IF(VLOOKUP(Y107,'Footnotes list'!$D$9:$E$58,2,FALSE)=0,\"\",VLOOKUP(Y107,'Footnotes list'!$D$9:$E$58,2,FALSE) ) )","v":""},{"$f":"SUM(AA8,AA11,AA14,AA17,AA20,AA26,AA29,AA32,AA35,AA38,AA41,AA44,AA47,AA50,AA53,AA56,AA59,AA62,AA65,AA68,AA71,AA74,AA77,AA80,AA86,AA89,AA92,AA95,AA98,AA101)","v":0},null,null,null,{"$f":"IF(TRIM(AD107)=\"\", \"\", IF(VLOOKUP(AD107,'Footnotes list'!$D$9:$E$58,2,FALSE)=0,\"\",VLOOKUP(AD107,'Footnotes list'!$D$9:$E$58,2,FALSE) ) )","v":""},{"$f":"SUM(AF8,AF11,AF14,AF17,AF20,AF26,AF29,AF32,AF35,AF38,AF41,AF44,AF47,AF50,AF53,AF56,AF59,AF62,AF65,AF68,AF71,AF74,AF77,AF80,AF86,AF89,AF92,AF95,AF98,AF101)","v":0},null,null,null,{"$f":"IF(TRIM(AI107)=\"\", \"\", IF(VLOOKUP(AI107,'Footnotes list'!$D$9:$E$58,2,FALSE)=0,\"\",VLOOKUP(AI107,'Footnotes list'!$D$9:$E$58,2,FALSE) ) )","v":""},{"$f":"SUM(AK8,AK11,AK14,AK17,AK20,AK26,AK29,AK32,AK35,AK38,AK41,AK44,AK47,AK50,AK53,AK56,AK59,AK62,AK65,AK68,AK71,AK74,AK77,AK80,AK86,AK89,AK92,AK95,AK98,AK101)","v":0},null,null,null,{"$f":"IF(TRIM(AN107)=\"\", \"\", IF(VLOOKUP(AN107,'Footnotes list'!$D$9:$E$58,2,FALSE)=0,\"\",VLOOKUP(AN107,'Footnotes list'!$D$9:$E$58,2,FALSE) ) )","v":""},{"$f":"SUM(AP8,AP11,AP14,AP17,AP20,AP26,AP29,AP32,AP35,AP38,AP41,AP44,AP47,AP50,AP53,AP56,AP59,AP62,AP65,AP68,AP71,AP74,AP77,AP80,AP86,AP89,AP92,AP95,AP98,AP101)","v":0},null,null,null,{"$f":"IF(TRIM(AS107)=\"\", \"\", IF(VLOOKUP(AS107,'Footnotes list'!$D$9:$E$58,2,FALSE)=0,\"\",VLOOKUP(AS107,'Footnotes list'!$D$9:$E$58,2,FALSE) ) )","v":""},{"$f":"SUM(AU8,AU11,AU14,AU17,AU20,AU26,AU29,AU32,AU35,AU38,AU41,AU44,AU47,AU50,AU53,AU56,AU59,AU62,AU65,AU68,AU71,AU74,AU77,AU80,AU86,AU89,AU92,AU95,AU98,AU101)","v":0},null,null,null,{"$f":"IF(TRIM(AX107)=\"\", \"\", IF(VLOOKUP(AX107,'Footnotes list'!$D$9:$E$58,2,FALSE)=0,\"\",VLOOKUP(AX107,'Footnotes list'!$D$9:$E$58,2,FALSE) ) )","v":""}]
[null,null,"PRIM",null,"NHAZ","Non-hazardous",{"$f":"SUM(G9,G12,G15,G18,G21,G27,G30,G33,G36,G39,G42,G45,G48,G51,G54,G57,G60,G63,G66,G69,G72,G75,G78,G81,G87,G90,G93,G96,G99,G102)","v":0},null,null,null,{"$f":"IF(TRIM(J108)=\"\", \"\", IF(VLOOKUP(J108,'Footnotes list'!$D$9:$E$58,2,FALSE)=0,\"\",VLOOKUP(J108,'Footnotes list'!$D$9:$E$58,2,FALSE) ) )","v":""},{"$f":"SUM(L9,L12,L15,L18,L21,L27,L30,L33,L36,L39,L42,L45,L48,L51,L54,L57,L60,L63,L66,L69,L72,L75,L78,L81,L87,L90,L93,L96,L99,L102)","v":0},null,null,null,{"$f":"IF(TRIM(O108)=\"\", \"\", IF(VLOOKUP(O108,'Footnotes list'!$D$9:$E$58,2,FALSE)=0,\"\",VLOOKUP(O108,'Footnotes list'!$D$9:$E$58,2,FALSE) ) )","v":""},{"$f":"SUM(Q9,Q12,Q15,Q18,Q21,Q27,Q30,Q33,Q36,Q39,Q42,Q45,Q48,Q51,Q54,Q57,Q60,Q63,Q66,Q69,Q72,Q75,Q78,Q81,Q87,Q90,Q93,Q96,Q99,Q102)","v":0},null,null,null,{"$f":"IF(TRIM(T108)=\"\", \"\", IF(VLOOKUP(T108,'Footnotes list'!$D$9:$E$58,2,FALSE)=0,\"\",VLOOKUP(T108,'Footnotes list'!$D$9:$E$58,2,FALSE) ) )","v":""},{"$f":"SUM(V9,V12,V15,V18,V21,V27,V30,V33,V36,V39,V42,V45,V48,V51,V54,V57,V60,V63,V66,V69,V72,V75,V78,V81,V87,V90,V93,V96,V99,V102)","v":0},null,null,null,{"$f":"IF(TRIM(Y108)=\"\", \"\", IF(VLOOKUP(Y108,'Footnotes list'!$D$9:$E$58,2,FALSE)=0,\"\",VLOOKUP(Y108,'Footnotes list'!$D$9:$E$58,2,FALSE) ) )","v":""},{"$f":"SUM(AA9,AA12,AA15,AA18,AA21,AA27,AA30,AA33,AA36,AA39,AA42,AA45,AA48,AA51,AA54,AA57,AA60,AA63,AA66,AA69,AA72,AA75,AA78,AA81,AA87,AA90,AA93,AA96,AA99,AA102)","v":0},null,null,null,{"$f":"IF(TRIM(AD108)=\"\", \"\", IF(VLOOKUP(AD108,'Footnotes list'!$D$9:$E$58,2,FALSE)=0,\"\",VLOOKUP(AD108,'Footnotes list'!$D$9:$E$58,2,FALSE) ) )","v":""},{"$f":"SUM(AF9,AF12,AF15,AF18,AF21,AF27,AF30,AF33,AF36,AF39,AF42,AF45,AF48,AF51,AF54,AF57,AF60,AF63,AF66,AF69,AF72,AF75,AF78,AF81,AF87,AF90,AF93,AF96,AF99,AF102)","v":0},null,null,null,{"$f":"IF(TRIM(AI108)=\"\", \"\", IF(VLOOKUP(AI108,'Footnotes list'!$D$9:$E$58,2,FALSE)=0,\"\",VLOOKUP(AI108,'Footnotes list'!$D$9:$E$58,2,FALSE) ) )","v":""},{"$f":"SUM(AK9,AK12,AK15,AK18,AK21,AK27,AK30,AK33,AK36,AK39,AK42,AK45,AK48,AK51,AK54,AK57,AK60,AK63,AK66,AK69,AK72,AK75,AK78,AK81,AK87,AK90,AK93,AK96,AK99,AK102)","v":0},null,null,null,{"$f":"IF(TRIM(AN108)=\"\", \"\", IF(VLOOKUP(AN108,'Footnotes list'!$D$9:$E$58,2,FALSE)=0,\"\",VLOOKUP(AN108,'Footnotes list'!$D$9:$E$58,2,FALSE) ) )","v":""},{"$f":"SUM(AP9,AP12,AP15,AP18,AP21,AP27,AP30,AP33,AP36,AP39,AP42,AP45,AP48,AP51,AP54,AP57,AP60,AP63,AP66,AP69,AP72,AP75,AP78,AP81,AP87,AP90,AP93,AP96,AP99,AP102)","v":0},null,null,null,{"$f":"IF(TRIM(AS108)=\"\", \"\", IF(VLOOKUP(AS108,'Footnotes list'!$D$9:$E$58,2,FALSE)=0,\"\",VLOOKUP(AS108,'Footnotes list'!$D$9:$E$58,2,FALSE) ) )","v":""},{"$f":"SUM(AU9,AU12,AU15,AU18,AU21,AU27,AU30,AU33,AU36,AU39,AU42,AU45,AU48,AU51,AU54,AU57,AU60,AU63,AU66,AU69,AU72,AU75,AU78,AU81,AU87,AU90,AU93,AU96,AU99,AU102)","v":0},null,null,null,{"$f":"IF(TRIM(AX108)=\"\", \"\", IF(VLOOKUP(AX108,'Footnotes list'!$D$9:$E$58,2,FALSE)=0,\"\",VLOOKUP(AX108,'Footnotes list'!$D$9:$E$58,2,FALSE) ) )","v":""}]
[null,null,"PRIM",null,"HAZ_NHAZ","Total",0,null,null,null,{"$f":"IF(TRIM(J109)=\"\", \"\", IF(VLOOKUP(J109,'Footnotes list'!$D$9:$E$58,2,FALSE)=0,\"\",VLOOKUP(J109,'Footnotes list'!$D$9:$E$58,2,FALSE) ) )","v":""},0,null,null,null,{"$f":"IF(TRIM(O109)=\"\", \"\", IF(VLOOKUP(O109,'Footnotes list'!$D$9:$E$58,2,FALSE)=0,\"\",VLOOKUP(O109,'Footnotes list'!$D$9:$E$58,2,FALSE) ) )","v":""},0,null,null,null,{"$f":"IF(TRIM(T109)=\"\", \"\", IF(VLOOKUP(T109,'Footnotes list'!$D$9:$E$58,2,FALSE)=0,\"\",VLOOKUP(T109,'Footnotes list'!$D$9:$E$58,2,FALSE) ) )","v":""},0,null,null,null,{"$f":"IF(TRIM(Y109)=\"\", \"\", IF(VLOOKUP(Y109,'Footnotes list'!$D$9:$E$58,2,FALSE)=0,\"\",VLOOKUP(Y109,'Footnotes list'!$D$9:$E$58,2,FALSE) ) )","v":""},0,null,null,null,{"$f":"IF(TRIM(AD109)=\"\", \"\", IF(VLOOKUP(AD109,'Footnotes list'!$D$9:$E$58,2,FALSE)=0,\"\",VLOOKUP(AD109,'Footnotes list'!$D$9:$E$58,2,FALSE) ) )","v":""},0,null,null,null,{"$f":"IF(TRIM(AI109)=\"\", \"\", IF(VLOOKUP(AI109,'Footnotes list'!$D$9:$E$58,2,FALSE)=0,\"\",VLOOKUP(AI109,'Footnotes list'!$D$9:$E$58,2,FALSE) ) )","v":""},0,null,null,null,{"$f":"IF(TRIM(AN109)=\"\", \"\", IF(VLOOKUP(AN109,'Footnotes list'!$D$9:$E$58,2,FALSE)=0,\"\",VLOOKUP(AN109,'Footnotes list'!$D$9:$E$58,2,FALSE) ) )","v":""},0,null,null,null,{"$f":"IF(TRIM(AS109)=\"\", \"\", IF(VLOOKUP(AS109,'Footnotes list'!$D$9:$E$58,2,FALSE)=0,\"\",VLOOKUP(AS109,'Footnotes list'!$D$9:$E$58,2,FALSE) ) )","v":""},0,null,null,null,{"$f":"IF(TRIM(AX109)=\"\", \"\", IF(VLOOKUP(AX109,'Footnotes list'!$D$9:$E$58,2,FALSE)=0,\"\",VLOOKUP(AX109,'Footnotes list'!$D$9:$E$58,2,FALSE) ) )","v":""}]
[null,"SEC","SEC","Secondary Waste ","HAZ","Hazardous ",{"$f":"SUM(G23,G83,G104)","v":0},null,null,null,{"$f":"IF(TRIM(J110)=\"\", \"\", IF(VLOOKUP(J110,'Footnotes list'!$D$9:$E$58,2,FALSE)=0,\"\",VLOOKUP(J110,'Footnotes list'!$D$9:$E$58,2,FALSE) ) )","v":""},{"$f":"SUM(L23,L83,L104)","v":0},null,null,null,{"$f":"IF(TRIM(O110)=\"\", \"\", IF(VLOOKUP(O110,'Footnotes list'!$D$9:$E$58,2,FALSE)=0,\"\",VLOOKUP(O110,'Footnotes list'!$D$9:$E$58,2,FALSE) ) )","v":""},{"$f":"SUM(Q23,Q83,Q104)","v":0},null,null,null,{"$f":"IF(TRIM(T110)=\"\", \"\", IF(VLOOKUP(T110,'Footnotes list'!$D$9:$E$58,2,FALSE)=0,\"\",VLOOKUP(T110,'Footnotes list'!$D$9:$E$58,2,FALSE) ) )","v":""},{"$f":"SUM(V23,V83,V104)","v":0},null,null,null,{"$f":"IF(TRIM(Y110)=\"\", \"\", IF(VLOOKUP(Y110,'Footnotes list'!$D$9:$E$58,2,FALSE)=0,\"\",VLOOKUP(Y110,'Footnotes list'!$D$9:$E$58,2,FALSE) ) )","v":""},{"$f":"SUM(AA23,AA83,AA104)","v":0},null,null,null,{"$f":"IF(TRIM(AD110)=\"\", \"\", IF(VLOOKUP(AD110,'Footnotes list'!$D$9:$E$58,2,FALSE)=0,\"\",VLOOKUP(AD110,'Footnotes list'!$D$9:$E$58,2,FALSE) ) )","v":""},{"$f":"SUM(AF23,AF83,AF104)","v":0},null,null,null,{"$f":"IF(TRIM(AI110)=\"\", \"\", IF(VLOOKUP(AI110,'Footnotes list'!$D$9:$E$58,2,FALSE)=0,\"\",VLOOKUP(AI110,'Footnotes list'!$D$9:$E$58,2,FALSE) ) )","v":""},{"$f":"SUM(AK23,AK83,AK104)","v":0},null,null,null,{"$f":"IF(TRIM(AN110)=\"\", \"\", IF(VLOOKUP(AN110,'Footnotes list'!$D$9:$E$58,2,FALSE)=0,\"\",VLOOKUP(AN110,'Footnotes list'!$D$9:$E$58,2,FALSE) ) )","v":""},{"$f":"SUM(AP23,AP83,AP104)","v":0},null,null,null,{"$f":"IF(TRIM(AS110)=\"\", \"\", IF(VLOOKUP(AS110,'Footnotes list'!$D$9:$E$58,2,FALSE)=0,\"\",VLOOKUP(AS110,'Footnotes list'!$D$9:$E$58,2,FALSE) ) )","v":""},{"$f":"SUM(AU23,AU83,AU104)","v":0},null,null,null,{"$f":"IF(TRIM(AX110)=\"\", \"\", IF(VLOOKUP(AX110,'Footnotes list'!$D$9:$E$58,2,FALSE)=0,\"\",VLOOKUP(AX110,'Footnotes list'!$D$9:$E$58,2,FALSE) ) )","v":""}]
[null,null,"SEC",null,"NHAZ","Non-hazardous",{"$f":"SUM(G24,G84,G105)","v":0},null,null,null,{"$f":"IF(TRIM(J111)=\"\", \"\", IF(VLOOKUP(J111,'Footnotes list'!$D$9:$E$58,2,FALSE)=0,\"\",VLOOKUP(J111,'Footnotes list'!$D$9:$E$58,2,FALSE) ) )","v":""},{"$f":"SUM(L24,L84,L105)","v":0},null,null,null,{"$f":"IF(TRIM(O111)=\"\", \"\", IF(VLOOKUP(O111,'Footnotes list'!$D$9:$E$58,2,FALSE)=0,\"\",VLOOKUP(O111,'Footnotes list'!$D$9:$E$58,2,FALSE) ) )","v":""},{"$f":"SUM(Q24,Q84,Q105)","v":0},null,null,null,{"$f":"IF(TRIM(T111)=\"\", \"\", IF(VLOOKUP(T111,'Footnotes list'!$D$9:$E$58,2,FALSE)=0,\"\",VLOOKUP(T111,'Footnotes list'!$D$9:$E$58,2,FALSE) ) )","v":""},{"$f":"SUM(V24,V84,V105)","v":0},null,null,null,{"$f":"IF(TRIM(Y111)=\"\", \"\", IF(VLOOKUP(Y111,'Footnotes list'!$D$9:$E$58,2,FALSE)=0,\"\",VLOOKUP(Y111,'Footnotes list'!$D$9:$E$58,2,FALSE) ) )","v":""},{"$f":"SUM(AA24,AA84,AA105)","v":0},null,null,null,{"$f":"IF(TRIM(AD111)=\"\", \"\", IF(VLOOKUP(AD111,'Footnotes list'!$D$9:$E$58,2,FALSE)=0,\"\",VLOOKUP(AD111,'Footnotes list'!$D$9:$E$58,2,FALSE) ) )","v":""},{"$f":"SUM(AF24,AF84,AF105)","v":0},null,null,null,{"$f":"IF(TRIM(AI111)=\"\", \"\", IF(VLOOKUP(AI111,'Footnotes list'!$D$9:$E$58,2,FALSE)=0,\"\",VLOOKUP(AI111,'Footnotes list'!$D$9:$E$58,2,FALSE) ) )","v":""},{"$f":"SUM(AK24,AK84,AK105)","v":0},null,null,null,{"$f":"IF(TRIM(AN111)=\"\", \"\", IF(VLOOKUP(AN111,'Footnotes list'!$D$9:$E$58,2,FALSE)=0,\"\",VLOOKUP(AN111,'Footnotes list'!$D$9:$E$58,2,FALSE) ) )","v":""},{"$f":"SUM(AP24,AP84,AP105)","v":0},null,null,null,{"$f":"IF(TRIM(AS111)=\"\", \"\", IF(VLOOKUP(AS111,'Footnotes list'!$D$9:$E$58,2,FALSE)=0,\"\",VLOOKUP(AS111,'Footnotes list'!$D$9:$E$58,2,FALSE) ) )","v":""},{"$f":"SUM(AU24,AU84,AU105)","v":0},null,null,null,{"$f":"IF(TRIM(AX111)=\"\", \"\", IF(VLOOKUP(AX111,'Footnotes list'!$D$9:$E$58,2,FALSE)=0,\"\",VLOOKUP(AX111,'Footnotes list'!$D$9:$E$58,2,FALSE) ) )","v":""}]
[null,null,"SEC",null,"HAZ_NHAZ","Total",0,null,null,null,{"$f":"IF(TRIM(J112)=\"\", \"\", IF(VLOOKUP(J112,'Footnotes list'!$D$9:$E$58,2,FALSE)=0,\"\",VLOOKUP(J112,'Footnotes list'!$D$9:$E$58,2,FALSE) ) )","v":""},0,null,null,null,{"$f":"IF(TRIM(O112)=\"\", \"\", IF(VLOOKUP(O112,'Footnotes list'!$D$9:$E$58,2,FALSE)=0,\"\",VLOOKUP(O112,'Footnotes list'!$D$9:$E$58,2,FALSE) ) )","v":""},0,null,null,null,{"$f":"IF(TRIM(T112)=\"\", \"\", IF(VLOOKUP(T112,'Footnotes list'!$D$9:$E$58,2,FALSE)=0,\"\",VLOOKUP(T112,'Footnotes list'!$D$9:$E$58,2,FALSE) ) )","v":""},0,null,null,null,{"$f":"IF(TRIM(Y112)=\"\", \"\", IF(VLOOKUP(Y112,'Footnotes list'!$D$9:$E$58,2,FALSE)=0,\"\",VLOOKUP(Y112,'Footnotes list'!$D$9:$E$58,2,FALSE) ) )","v":""},0,null,null,null,{"$f":"IF(TRIM(AD112)=\"\", \"\", IF(VLOOKUP(AD112,'Footnotes list'!$D$9:$E$58,2,FALSE)=0,\"\",VLOOKUP(AD112,'Footnotes list'!$D$9:$E$58,2,FALSE) ) )","v":""},0,null,null,null,{"$f":"IF(TRIM(AI112)=\"\", \"\", IF(VLOOKUP(AI112,'Footnotes list'!$D$9:$E$58,2,FALSE)=0,\"\",VLOOKUP(AI112,'Footnotes list'!$D$9:$E$58,2,FALSE) ) )","v":""},0,null,null,null,{"$f":"IF(TRIM(AN112)=\"\", \"\", IF(VLOOKUP(AN112,'Footnotes list'!$D$9:$E$58,2,FALSE)=0,\"\",VLOOKUP(AN112,'Footnotes list'!$D$9:$E$58,2,FALSE) ) )","v":""},0,null,null,null,{"$f":"IF(TRIM(AS112)=\"\", \"\", IF(VLOOKUP(AS112,'Footnotes list'!$D$9:$E$58,2,FALSE)=0,\"\",VLOOKUP(AS112,'Footnotes list'!$D$9:$E$58,2,FALSE) ) )","v":""},0,null,null,null,{"$f":"IF(TRIM(AX112)=\"\", \"\", IF(VLOOKUP(AX112,'Footnotes list'!$D$9:$E$58,2,FALSE)=0,\"\",VLOOKUP(AX112,'Footnotes list'!$D$9:$E$58,2,FALSE) ) )","v":""}]
[null,"TOT_X_MIN","TOT_X_MIN","Total Waste (excluding mineral waste)","HAZ","Hazardous ",{"$f":"SUM(G8,G11,G14,G17,G20,G23,G26,G29,G32,G35,G38,G41,G44,G47,G50,G53,G56,G59,G62,G65,G68,G71,G74,G77,G80,G83,G86,G95,G104)","v":0},null,null,null,{"$f":"IF(TRIM(J113)=\"\", \"\", IF(VLOOKUP(J113,'Footnotes list'!$D$9:$E$58,2,FALSE)=0,\"\",VLOOKUP(J113,'Footnotes list'!$D$9:$E$58,2,FALSE) ) )","v":""},{"$f":"SUM(L8,L11,L14,L17,L20,L23,L26,L29,L32,L35,L38,L41,L44,L47,L50,L53,L56,L59,L62,L65,L68,L71,L74,L77,L80,L83,L86,L95,L104)","v":0},null,null,null,{"$f":"IF(TRIM(O113)=\"\", \"\", IF(VLOOKUP(O113,'Footnotes list'!$D$9:$E$58,2,FALSE)=0,\"\",VLOOKUP(O113,'Footnotes list'!$D$9:$E$58,2,FALSE) ) )","v":""},{"$f":"SUM(Q8,Q11,Q14,Q17,Q20,Q23,Q26,Q29,Q32,Q35,Q38,Q41,Q44,Q47,Q50,Q53,Q56,Q59,Q62,Q65,Q68,Q71,Q74,Q77,Q80,Q83,Q86,Q95,Q104)","v":0},null,null,null,{"$f":"IF(TRIM(T113)=\"\", \"\", IF(VLOOKUP(T113,'Footnotes list'!$D$9:$E$58,2,FALSE)=0,\"\",VLOOKUP(T113,'Footnotes list'!$D$9:$E$58,2,FALSE) ) )","v":""},{"$f":"SUM(V8,V11,V14,V17,V20,V23,V26,V29,V32,V35,V38,V41,V44,V47,V50,V53,V56,V59,V62,V65,V68,V71,V74,V77,V80,V83,V86,V95,V104)","v":0},null,null,null,{"$f":"IF(TRIM(Y113)=\"\", \"\", IF(VLOOKUP(Y113,'Footnotes list'!$D$9:$E$58,2,FALSE)=0,\"\",VLOOKUP(Y113,'Footnotes list'!$D$9:$E$58,2,FALSE) ) )","v":""},{"$f":"SUM(AA8,AA11,AA14,AA17,AA20,AA23,AA26,AA29,AA32,AA35,AA38,AA41,AA44,AA47,AA50,AA53,AA56,AA59,AA62,AA65,AA68,AA71,AA74,AA77,AA80,AA83,AA86,AA95,AA104)","v":0},null,null,null,{"$f":"IF(TRIM(AD113)=\"\", \"\", IF(VLOOKUP(AD113,'Footnotes list'!$D$9:$E$58,2,FALSE)=0,\"\",VLOOKUP(AD113,'Footnotes list'!$D$9:$E$58,2,FALSE) ) )","v":""},{"$f":"SUM(AF8,AF11,AF14,AF17,AF20,AF23,AF26,AF29,AF32,AF35,AF38,AF41,AF44,AF47,AF50,AF53,AF56,AF59,AF62,AF65,AF68,AF71,AF74,AF77,AF80,AF83,AF86,AF95,AF104)","v":0},null,null,null,{"$f":"IF(TRIM(AI113)=\"\", \"\", IF(VLOOKUP(AI113,'Footnotes list'!$D$9:$E$58,2,FALSE)=0,\"\",VLOOKUP(AI113,'Footnotes list'!$D$9:$E$58,2,FALSE) ) )","v":""},{"$f":"SUM(AK8,AK11,AK14,AK17,AK20,AK23,AK26,AK29,AK32,AK35,AK38,AK41,AK44,AK47,AK50,AK53,AK56,AK59,AK62,AK65,AK68,AK71,AK74,AK77,AK80,AK83,AK86,AK95,AK104)","v":0},null,null,null,{"$f":"IF(TRIM(AN113)=\"\", \"\", IF(VLOOKUP(AN113,'Footnotes list'!$D$9:$E$58,2,FALSE)=0,\"\",VLOOKUP(AN113,'Footnotes list'!$D$9:$E$58,2,FALSE) ) )","v":""},{"$f":"SUM(AP8,AP11,AP14,AP17,AP20,AP23,AP26,AP29,AP32,AP35,AP38,AP41,AP44,AP47,AP50,AP53,AP56,AP59,AP62,AP65,AP68,AP71,AP74,AP77,AP80,AP83,AP86,AP95,AP104)","v":0},null,null,null,{"$f":"IF(TRIM(AS113)=\"\", \"\", IF(VLOOKUP(AS113,'Footnotes list'!$D$9:$E$58,2,FALSE)=0,\"\",VLOOKUP(AS113,'Footnotes list'!$D$9:$E$58,2,FALSE) ) )","v":""},{"$f":"SUM(AU8,AU11,AU14,AU17,AU20,AU23,AU26,AU29,AU32,AU35,AU38,AU41,AU44,AU47,AU50,AU53,AU56,AU59,AU62,AU65,AU68,AU71,AU74,AU77,AU80,AU83,AU86,AU95,AU104)","v":0},null,null,null,{"$f":"IF(TRIM(AX113)=\"\", \"\", IF(VLOOKUP(AX113,'Footnotes list'!$D$9:$E$58,2,FALSE)=0,\"\",VLOOKUP(AX113,'Footnotes list'!$D$9:$E$58,2,FALSE) ) )","v":""}]
[null,null,"TOT_X_MIN",null,"NHAZ","Non-hazardous",{"$f":"SUM(G9,G12,G15,G18,G21,G24,G27,G30,G33,G36,G39,G42,G45,G48,G51,G54,G57,G60,G63,G66,G69,G72,G75,G78,G81,G84,G87,G96,G105)","v":0},null,null,null,{"$f":"IF(TRIM(J114)=\"\", \"\", IF(VLOOKUP(J114,'Footnotes list'!$D$9:$E$58,2,FALSE)=0,\"\",VLOOKUP(J114,'Footnotes list'!$D$9:$E$58,2,FALSE) ) )","v":""},{"$f":"SUM(L9,L12,L15,L18,L21,L24,L27,L30,L33,L36,L39,L42,L45,L48,L51,L54,L57,L60,L63,L66,L69,L72,L75,L78,L81,L84,L87,L96,L105)","v":0},null,null,null,{"$f":"IF(TRIM(O114)=\"\", \"\", IF(VLOOKUP(O114,'Footnotes list'!$D$9:$E$58,2,FALSE)=0,\"\",VLOOKUP(O114,'Footnotes list'!$D$9:$E$58,2,FALSE) ) )","v":""},{"$f":"SUM(Q9,Q12,Q15,Q18,Q21,Q24,Q27,Q30,Q33,Q36,Q39,Q42,Q45,Q48,Q51,Q54,Q57,Q60,Q63,Q66,Q69,Q72,Q75,Q78,Q81,Q84,Q87,Q96,Q105)","v":0},null,null,null,{"$f":"IF(TRIM(T114)=\"\", \"\", IF(VLOOKUP(T114,'Footnotes list'!$D$9:$E$58,2,FALSE)=0,\"\",VLOOKUP(T114,'Footnotes list'!$D$9:$E$58,2,FALSE) ) )","v":""},{"$f":"SUM(V9,V12,V15,V18,V21,V24,V27,V30,V33,V36,V39,V42,V45,V48,V51,V54,V57,V60,V63,V66,V69,V72,V75,V78,V81,V84,V87,V96,V105)","v":0},null,null,null,{"$f":"IF(TRIM(Y114)=\"\", \"\", IF(VLOOKUP(Y114,'Footnotes list'!$D$9:$E$58,2,FALSE)=0,\"\",VLOOKUP(Y114,'Footnotes list'!$D$9:$E$58,2,FALSE) ) )","v":""},{"$f":"SUM(AA9,AA12,AA15,AA18,AA21,AA24,AA27,AA30,AA33,AA36,AA39,AA42,AA45,AA48,AA51,AA54,AA57,AA60,AA63,AA66,AA69,AA72,AA75,AA78,AA81,AA84,AA87,AA96,AA105)","v":0},null,null,null,{"$f":"IF(TRIM(AD114)=\"\", \"\", IF(VLOOKUP(AD114,'Footnotes list'!$D$9:$E$58,2,FALSE)=0,\"\",VLOOKUP(AD114,'Footnotes list'!$D$9:$E$58,2,FALSE) ) )","v":""},{"$f":"SUM(AF9,AF12,AF15,AF18,AF21,AF24,AF27,AF30,AF33,AF36,AF39,AF42,AF45,AF48,AF51,AF54,AF57,AF60,AF63,AF66,AF69,AF72,AF75,AF78,AF81,AF84,AF87,AF96,AF105)","v":0},null,null,null,{"$f":"IF(TRIM(AI114)=\"\", \"\", IF(VLOOKUP(AI114,'Footnotes list'!$D$9:$E$58,2,FALSE)=0,\"\",VLOOKUP(AI114,'Footnotes list'!$D$9:$E$58,2,FALSE) ) )","v":""},{"$f":"SUM(AK9,AK12,AK15,AK18,AK21,AK24,AK27,AK30,AK33,AK36,AK39,AK42,AK45,AK48,AK51,AK54,AK57,AK60,AK63,AK66,AK69,AK72,AK75,AK78,AK81,AK84,AK87,AK96,AK105)","v":0},null,null,null,{"$f":"IF(TRIM(AN114)=\"\", \"\", IF(VLOOKUP(AN114,'Footnotes list'!$D$9:$E$58,2,FALSE)=0,\"\",VLOOKUP(AN114,'Footnotes list'!$D$9:$E$58,2,FALSE) ) )","v":""},{"$f":"SUM(AP9,AP12,AP15,AP18,AP21,AP24,AP27,AP30,AP33,AP36,AP39,AP42,AP45,AP48,AP51,AP54,AP57,AP60,AP63,AP66,AP69,AP72,AP75,AP78,AP81,AP84,AP87,AP96,AP105)","v":0},null,null,null,{"$f":"IF(TRIM(AS114)=\"\", \"\", IF(VLOOKUP(AS114,'Footnotes list'!$D$9:$E$58,2,FALSE)=0,\"\",VLOOKUP(AS114,'Footnotes list'!$D$9:$E$58,2,FALSE) ) )","v":""},{"$f":"SUM(AU9,AU12,AU15,AU18,AU21,AU24,AU27,AU30,AU33,AU36,AU39,AU42,AU45,AU48,AU51,AU54,AU57,AU60,AU63,AU66,AU69,AU72,AU75,AU78,AU81,AU84,AU87,AU96,AU105)","v":0},null,null,null,{"$f":"IF(TRIM(AX114)=\"\", \"\", IF(VLOOKUP(AX114,'Footnotes list'!$D$9:$E$58,2,FALSE)=0,\"\",VLOOKUP(AX114,'Footnotes list'!$D$9:$E$58,2,FALSE) ) )","v":""}]
[null,null,"TOT_X_MIN",null,"HAZ_NHAZ","Total",0,null,null,null,{"$f":"IF(TRIM(J115)=\"\", \"\", IF(VLOOKUP(J115,'Footnotes list'!$D$9:$E$58,2,FALSE)=0,\"\",VLOOKUP(J115,'Footnotes list'!$D$9:$E$58,2,FALSE) ) )","v":""},0,null,null,null,{"$f":"IF(TRIM(O115)=\"\", \"\", IF(VLOOKUP(O115,'Footnotes list'!$D$9:$E$58,2,FALSE)=0,\"\",VLOOKUP(O115,'Footnotes list'!$D$9:$E$58,2,FALSE) ) )","v":""},0,null,null,null,{"$f":"IF(TRIM(T115)=\"\", \"\", IF(VLOOKUP(T115,'Footnotes list'!$D$9:$E$58,2,FALSE)=0,\"\",VLOOKUP(T115,'Footnotes list'!$D$9:$E$58,2,FALSE) ) )","v":""},0,null,null,null,{"$f":"IF(TRIM(Y115)=\"\", \"\", IF(VLOOKUP(Y115,'Footnotes list'!$D$9:$E$58,2,FALSE)=0,\"\",VLOOKUP(Y115,'Footnotes list'!$D$9:$E$58,2,FALSE) ) )","v":""},0,null,null,null,{"$f":"IF(TRIM(AD115)=\"\", \"\", IF(VLOOKUP(AD115,'Footnotes list'!$D$9:$E$58,2,FALSE)=0,\"\",VLOOKUP(AD115,'Footnotes list'!$D$9:$E$58,2,FALSE) ) )","v":""},0,null,null,null,{"$f":"IF(TRIM(AI115)=\"\", \"\", IF(VLOOKUP(AI115,'Footnotes list'!$D$9:$E$58,2,FALSE)=0,\"\",VLOOKUP(AI115,'Footnotes list'!$D$9:$E$58,2,FALSE) ) )","v":""},0,null,null,null,{"$f":"IF(TRIM(AN115)=\"\", \"\", IF(VLOOKUP(AN115,'Footnotes list'!$D$9:$E$58,2,FALSE)=0,\"\",VLOOKUP(AN115,'Footnotes list'!$D$9:$E$58,2,FALSE) ) )","v":""},0,null,null,null,{"$f":"IF(TRIM(AS115)=\"\", \"\", IF(VLOOKUP(AS115,'Footnotes list'!$D$9:$E$58,2,FALSE)=0,\"\",VLOOKUP(AS115,'Footnotes list'!$D$9:$E$58,2,FALSE) ) )","v":""},0,null,null,null,{"$f":"IF(TRIM(AX115)=\"\", \"\", IF(VLOOKUP(AX115,'Footnotes list'!$D$9:$E$58,2,FALSE)=0,\"\",VLOOKUP(AX115,'Footnotes list'!$D$9:$E$58,2,FALSE) ) )","v":""}]
[null,"TOTAL","TOTAL","Total Waste ","HAZ","Hazardous ",{"$f":"SUM(G8,G11,G14,G17,G20,G23,G26,G29,G32,G35,G38,G41,G44,G47,G50,G53,G56,G59,G62,G65,G68,G71,G74,G77,G80,G83,G86,G89,G92,G95,G98,G101,G104)","v":0},null,null,null,{"$f":"IF(TRIM(J116)=\"\", \"\", IF(VLOOKUP(J116,'Footnotes list'!$D$9:$E$58,2,FALSE)=0,\"\",VLOOKUP(J116,'Footnotes list'!$D$9:$E$58,2,FALSE) ) )","v":""},{"$f":"SUM(L8,L11,L14,L17,L20,L23,L26,L29,L32,L35,L38,L41,L44,L47,L50,L53,L56,L59,L62,L65,L68,L71,L74,L77,L80,L83,L86,L89,L92,L95,L98,L101,L104)","v":0},null,null,null,{"$f":"IF(TRIM(O116)=\"\", \"\", IF(VLOOKUP(O116,'Footnotes list'!$D$9:$E$58,2,FALSE)=0,\"\",VLOOKUP(O116,'Footnotes list'!$D$9:$E$58,2,FALSE) ) )","v":""},{"$f":"SUM(Q8,Q11,Q14,Q17,Q20,Q23,Q26,Q29,Q32,Q35,Q38,Q41,Q44,Q47,Q50,Q53,Q56,Q59,Q62,Q65,Q68,Q71,Q74,Q77,Q80,Q83,Q86,Q89,Q92,Q95,Q98,Q101,Q104)","v":0},null,null,null,{"$f":"IF(TRIM(T116)=\"\", \"\", IF(VLOOKUP(T116,'Footnotes list'!$D$9:$E$58,2,FALSE)=0,\"\",VLOOKUP(T116,'Footnotes list'!$D$9:$E$58,2,FALSE) ) )","v":""},{"$f":"SUM(V8,V11,V14,V17,V20,V23,V26,V29,V32,V35,V38,V41,V44,V47,V50,V53,V56,V59,V62,V65,V68,V71,V74,V77,V80,V83,V86,V89,V92,V95,V98,V101,V104)","v":0},null,null,null,{"$f":"IF(TRIM(Y116)=\"\", \"\", IF(VLOOKUP(Y116,'Footnotes list'!$D$9:$E$58,2,FALSE)=0,\"\",VLOOKUP(Y116,'Footnotes list'!$D$9:$E$58,2,FALSE) ) )","v":""},{"$f":"SUM(AA8,AA11,AA14,AA17,AA20,AA23,AA26,AA29,AA32,AA35,AA38,AA41,AA44,AA47,AA50,AA53,AA56,AA59,AA62,AA65,AA68,AA71,AA74,AA77,AA80,AA83,AA86,AA89,AA92,AA95,AA98,AA101,AA104)","v":0},null,null,null,{"$f":"IF(TRIM(AD116)=\"\", \"\", IF(VLOOKUP(AD116,'Footnotes list'!$D$9:$E$58,2,FALSE)=0,\"\",VLOOKUP(AD116,'Footnotes list'!$D$9:$E$58,2,FALSE) ) )","v":""},{"$f":"SUM(AF8,AF11,AF14,AF17,AF20,AF23,AF26,AF29,AF32,AF35,AF38,AF41,AF44,AF47,AF50,AF53,AF56,AF59,AF62,AF65,AF68,AF71,AF74,AF77,AF80,AF83,AF86,AF89,AF92,AF95,AF98,AF101,AF104)","v":0},null,null,null,{"$f":"IF(TRIM(AI116)=\"\", \"\", IF(VLOOKUP(AI116,'Footnotes list'!$D$9:$E$58,2,FALSE)=0,\"\",VLOOKUP(AI116,'Footnotes list'!$D$9:$E$58,2,FALSE) ) )","v":""},{"$f":"SUM(AK8,AK11,AK14,AK17,AK20,AK23,AK26,AK29,AK32,AK35,AK38,AK41,AK44,AK47,AK50,AK53,AK56,AK59,AK62,AK65,AK68,AK71,AK74,AK77,AK80,AK83,AK86,AK89,AK92,AK95,AK98,AK101,AK104)","v":0},null,null,null,{"$f":"IF(TRIM(AN116)=\"\", \"\", IF(VLOOKUP(AN116,'Footnotes list'!$D$9:$E$58,2,FALSE)=0,\"\",VLOOKUP(AN116,'Footnotes list'!$D$9:$E$58,2,FALSE) ) )","v":""},{"$f":"SUM(AP8,AP11,AP14,AP17,AP20,AP23,AP26,AP29,AP32,AP35,AP38,AP41,AP44,AP47,AP50,AP53,AP56,AP59,AP62,AP65,AP68,AP71,AP74,AP77,AP80,AP83,AP86,AP89,AP92,AP95,AP98,AP101,AP104)","v":0},null,null,null,{"$f":"IF(TRIM(AS116)=\"\", \"\", IF(VLOOKUP(AS116,'Footnotes list'!$D$9:$E$58,2,FALSE)=0,\"\",VLOOKUP(AS116,'Footnotes list'!$D$9:$E$58,2,FALSE) ) )","v":""},{"$f":"SUM(AU8,AU11,AU14,AU17,AU20,AU23,AU26,AU29,AU32,AU35,AU38,AU41,AU44,AU47,AU50,AU53,AU56,AU59,AU62,AU65,AU68,AU71,AU74,AU77,AU80,AU83,AU86,AU89,AU92,AU95,AU98,AU101,AU104)","v":0},null,null,null,{"$f":"IF(TRIM(AX116)=\"\", \"\", IF(VLOOKUP(AX116,'Footnotes list'!$D$9:$E$58,2,FALSE)=0,\"\",VLOOKUP(AX116,'Footnotes list'!$D$9:$E$58,2,FALSE) ) )","v":""}]
[null,null,"TOTAL",null,"NHAZ","Non-hazardous",{"$f":"SUM(G9,G12,G15,G18,G21,G24,G27,G30,G33,G36,G39,G42,G45,G48,G51,G54,G57,G60,G63,G66,G69,G72,G75,G78,G81,G84,G87,G90,G93,G96,G99,G102,G105)","v":0},null,null,null,{"$f":"IF(TRIM(J117)=\"\", \"\", IF(VLOOKUP(J117,'Footnotes list'!$D$9:$E$58,2,FALSE)=0,\"\",VLOOKUP(J117,'Footnotes list'!$D$9:$E$58,2,FALSE) ) )","v":""},{"$f":"SUM(L9,L12,L15,L18,L21,L24,L27,L30,L33,L36,L39,L42,L45,L48,L51,L54,L57,L60,L63,L66,L69,L72,L75,L78,L81,L84,L87,L90,L93,L96,L99,L102,L105)","v":0},null,null,null,{"$f":"IF(TRIM(O117)=\"\", \"\", IF(VLOOKUP(O117,'Footnotes list'!$D$9:$E$58,2,FALSE)=0,\"\",VLOOKUP(O117,'Footnotes list'!$D$9:$E$58,2,FALSE) ) )","v":""},{"$f":"SUM(Q9,Q12,Q15,Q18,Q21,Q24,Q27,Q30,Q33,Q36,Q39,Q42,Q45,Q48,Q51,Q54,Q57,Q60,Q63,Q66,Q69,Q72,Q75,Q78,Q81,Q84,Q87,Q90,Q93,Q96,Q99,Q102,Q105)","v":0},null,null,null,{"$f":"IF(TRIM(T117)=\"\", \"\", IF(VLOOKUP(T117,'Footnotes list'!$D$9:$E$58,2,FALSE)=0,\"\",VLOOKUP(T117,'Footnotes list'!$D$9:$E$58,2,FALSE) ) )","v":""},{"$f":"SUM(V9,V12,V15,V18,V21,V24,V27,V30,V33,V36,V39,V42,V45,V48,V51,V54,V57,V60,V63,V66,V69,V72,V75,V78,V81,V84,V87,V90,V93,V96,V99,V102,V105)","v":0},null,null,null,{"$f":"IF(TRIM(Y117)=\"\", \"\", IF(VLOOKUP(Y117,'Footnotes list'!$D$9:$E$58,2,FALSE)=0,\"\",VLOOKUP(Y117,'Footnotes list'!$D$9:$E$58,2,FALSE) ) )","v":""},{"$f":"SUM(AA9,AA12,AA15,AA18,AA21,AA24,AA27,AA30,AA33,AA36,AA39,AA42,AA45,AA48,AA51,AA54,AA57,AA60,AA63,AA66,AA69,AA72,AA75,AA78,AA81,AA84,AA87,AA90,AA93,AA96,AA99,AA102,AA105)","v":0},null,null,null,{"$f":"IF(TRIM(AD117)=\"\", \"\", IF(VLOOKUP(AD117,'Footnotes list'!$D$9:$E$58,2,FALSE)=0,\"\",VLOOKUP(AD117,'Footnotes list'!$D$9:$E$58,2,FALSE) ) )","v":""},{"$f":"SUM(AF9,AF12,AF15,AF18,AF21,AF24,AF27,AF30,AF33,AF36,AF39,AF42,AF45,AF48,AF51,AF54,AF57,AF60,AF63,AF66,AF69,AF72,AF75,AF78,AF81,AF84,AF87,AF90,AF93,AF96,AF99,AF102,AF105)","v":0},null,null,null,{"$f":"IF(TRIM(AI117)=\"\", \"\", IF(VLOOKUP(AI117,'Footnotes list'!$D$9:$E$58,2,FALSE)=0,\"\",VLOOKUP(AI117,'Footnotes list'!$D$9:$E$58,2,FALSE) ) )","v":""},{"$f":"SUM(AK9,AK12,AK15,AK18,AK21,AK24,AK27,AK30,AK33,AK36,AK39,AK42,AK45,AK48,AK51,AK54,AK57,AK60,AK63,AK66,AK69,AK72,AK75,AK78,AK81,AK84,AK87,AK90,AK93,AK96,AK99,AK102,AK105)","v":0},null,null,null,{"$f":"IF(TRIM(AN117)=\"\", \"\", IF(VLOOKUP(AN117,'Footnotes list'!$D$9:$E$58,2,FALSE)=0,\"\",VLOOKUP(AN117,'Footnotes list'!$D$9:$E$58,2,FALSE) ) )","v":""},{"$f":"SUM(AP9,AP12,AP15,AP18,AP21,AP24,AP27,AP30,AP33,AP36,AP39,AP42,AP45,AP48,AP51,AP54,AP57,AP60,AP63,AP66,AP69,AP72,AP75,AP78,AP81,AP84,AP87,AP90,AP93,AP96,AP99,AP102,AP105)","v":0},null,null,null,{"$f":"IF(TRIM(AS117)=\"\", \"\", IF(VLOOKUP(AS117,'Footnotes list'!$D$9:$E$58,2,FALSE)=0,\"\",VLOOKUP(AS117,'Footnotes list'!$D$9:$E$58,2,FALSE) ) )","v":""},{"$f":"SUM(AU9,AU12,AU15,AU18,AU21,AU24,AU27,AU30,AU33,AU36,AU39,AU42,AU45,AU48,AU51,AU54,AU57,AU60,AU63,AU66,AU69,AU72,AU75,AU78,AU81,AU84,AU87,AU90,AU93,AU96,AU99,AU102,AU105)","v":0},null,null,null,{"$f":"IF(TRIM(AX117)=\"\", \"\", IF(VLOOKUP(AX117,'Footnotes list'!$D$9:$E$58,2,FALSE)=0,\"\",VLOOKUP(AX117,'Footnotes list'!$D$9:$E$58,2,FALSE) ) )","v":""}]
[null,null,"TOTAL",null,"HAZ_NHAZ","Total",0,null,null,null,{"$f":"IF(TRIM(J118)=\"\", \"\", IF(VLOOKUP(J118,'Footnotes list'!$D$9:$E$58,2,FALSE)=0,\"\",VLOOKUP(J118,'Footnotes list'!$D$9:$E$58,2,FALSE) ) )","v":""},0,null,null,null,{"$f":"IF(TRIM(O118)=\"\", \"\", IF(VLOOKUP(O118,'Footnotes list'!$D$9:$E$58,2,FALSE)=0,\"\",VLOOKUP(O118,'Footnotes list'!$D$9:$E$58,2,FALSE) ) )","v":""},0,null,null,null,{"$f":"IF(TRIM(T118)=\"\", \"\", IF(VLOOKUP(T118,'Footnotes list'!$D$9:$E$58,2,FALSE)=0,\"\",VLOOKUP(T118,'Footnotes list'!$D$9:$E$58,2,FALSE) ) )","v":""},0,null,null,null,{"$f":"IF(TRIM(Y118)=\"\", \"\", IF(VLOOKUP(Y118,'Footnotes list'!$D$9:$E$58,2,FALSE)=0,\"\",VLOOKUP(Y118,'Footnotes list'!$D$9:$E$58,2,FALSE) ) )","v":""},0,null,null,null,{"$f":"IF(TRIM(AD118)=\"\", \"\", IF(VLOOKUP(AD118,'Footnotes list'!$D$9:$E$58,2,FALSE)=0,\"\",VLOOKUP(AD118,'Footnotes list'!$D$9:$E$58,2,FALSE) ) )","v":""},0,null,null,null,{"$f":"IF(TRIM(AI118)=\"\", \"\", IF(VLOOKUP(AI118,'Footnotes list'!$D$9:$E$58,2,FALSE)=0,\"\",VLOOKUP(AI118,'Footnotes list'!$D$9:$E$58,2,FALSE) ) )","v":""},0,null,null,null,{"$f":"IF(TRIM(AN118)=\"\", \"\", IF(VLOOKUP(AN118,'Footnotes list'!$D$9:$E$58,2,FALSE)=0,\"\",VLOOKUP(AN118,'Footnotes list'!$D$9:$E$58,2,FALSE) ) )","v":""},0,null,null,null,{"$f":"IF(TRIM(AS118)=\"\", \"\", IF(VLOOKUP(AS118,'Footnotes list'!$D$9:$E$58,2,FALSE)=0,\"\",VLOOKUP(AS118,'Footnotes list'!$D$9:$E$58,2,FALSE) ) )","v":""},0,null,null,null,{"$f":"IF(TRIM(AX118)=\"\", \"\", IF(VLOOKUP(AX118,'Footnotes list'!$D$9:$E$58,2,FALSE)=0,\"\",VLOOKUP(AX118,'Footnotes list'!$D$9:$E$58,2,FALSE) ) )","v":""}]
[]
[null,"Notes:"]
[]
[null,"Cell shading:"]
[null,"White: Data provision is mandatory."]
[null,"Light grey: Automatic calculation. Formula can exceptionally be changed by a value"]
[null,"Light orange: Footnotes (only to be filled-in when relevant)"]
[null,"Black: Not applicable"]
[]
[]
[null,"Valid standard footnotes:"]
[null,"     B -  Break in time series"]
[null,"     E -  Estimate"]
[null,"     P -  Provisional"]
[]
[null,"Valid confidentiality footnotes:"]
[null,"     C -  Confidential"]
[null,"     D -  Secondary confidentiality set by the sender, not for publication"]