{"text_format":"1","workbook":"xlsx","n_sheets":16,"sheets":["COVER","Methodology","Basic instructions","Table_1","Validation rules","Lists","Locks","CountryName","Summations","Mandatory","SimpleRatios","Thresholds","IsFormula","MustNotBeNegative","FootnoteContent","IsNumeric"],"not_rendered":{"charts":0,"images":3,"macros":1,"external_links":0,"defined_names":9,"comments":0,"pivot_tables":0},"unopened":[],"bounds":{"document_bytes":16777216,"sheet_cells":100000,"rows_first":2000,"rows_last":500,"rows_between":2000,"halvings":0,"cell_chars":16384,"cell_head_chars":4096},"cells_cut":0,"cells_raw":0,"read":"whole","date_system":"1900"}

{"sheet":"COVER","index":0,"n_rows":17,"n_cols":3,"rows_kept":17,"cut":false,"hidden":false,"merged":[[18,1,23,3],[1,1,1,3],[8,1,8,3],[9,1,9,3],[10,1,11,3],[16,1,16,3]]}
[]
[null,"Statistical Office of the European Union"]
[]
[]
[]
[]
[]
[]
[]
[null,"Directorate E: Sectoral and regional statistics"]
[null,"Unit E-2: Environmental statistics and accounts; sustainable development"]
[]
[]
[]
[]
[null,null,"QUESTIONNAIRE"]
[null,"Biennial Waste Statistics Regulation - Waste Generation\n2022 DATA COLLECTION\n\n"]

{"sheet":"Methodology","index":1,"n_rows":19,"n_cols":2,"rows_kept":19,"cut":false,"hidden":false,"merged":[[8,1,8,2],[1,1,1,2],[4,1,4,2],[5,1,5,2],[6,1,6,2],[7,1,7,2],[16,1,16,2],[17,1,17,2],[18,1,18,2],[9,1,9,2],[10,1,10,2],[11,1,11,2],[13,1,13,2],[14,1,14,2],[15,1,15,2]]}
[]
[null,"DETAILED EXPLANATORY NOTES AND METHODOLOGY"]
[]
[]
[null,"Table of contents"]
[null,"1. Background"]
[null,"2. Legal acts"]
[null,"3. Data reporting - questionnaire"]
[]
[null,"1. Background"]
[null,"Regular Community statistics on the production and management of waste from businesses and private households are required by the Community for monitoring the implementation of waste policy. Regulation (EC) No 2150/2002 of the European Parliament and of the Council of 25 November 2002 on waste statistics creates the basis for monitoring compliance with the principles of maximisation of recovery and safe disposal.\n\nThis reporting template allows Member States to report waste generation pursuant to the requirements of this Regulation and the amending Commission Regulation (EU) No 849/2010.\nThe guidelines are available here:\n"]
[null,"https://ec.europa.eu/eurostat/web/waste/methodology"]
[]
[null,"2. Legal acts"]
[null,"European Parliament and Council Regulation 2002/2150 was last amended by amending Commission Regulation (EU) No 849/2010.\n\nDefinitions and classifications in these Regulations are based on the Waste Framework Directive - Directive 2008/98/EC of the European Parliament and the Council  (https://eur-lex.europa.eu/legal-content/EN/TXT/?uri=CELEX:02008L0098-20180705)\n\nThe legislation is available here:"]
[null,"https://ec.europa.eu/eurostat/web/waste/legislation"]
[null,"https://eur-lex.europa.eu/legal-content/EN/TXT/?uri=CELEX:02008L0098-20180705"]
[null,"3. Data reporting - questionnaire"]
[null,"This document assists Member States to report high quality, harmonised and efficient waste statistics.\n\nThe reporting shall cover a full calendar year.\n\nThe basic instructions sheet consists of some information necessary for filling in this questionnaire correctly.\n\n\n"]

{"sheet":"Basic instructions","index":2,"n_rows":75,"n_cols":10,"rows_kept":75,"cut":false,"hidden":false,"merged":[[10,2,10,4],[10,6,10,8],[2,2,2,15],[3,2,3,15],[5,2,5,15],[6,2,6,15],[8,2,8,15],[32,2,32,15],[13,2,13,15],[15,3,15,15],[17,3,17,15],[19,3,19,15],[21,3,21,15],[23,3,23,15],[24,2,24,15],[26,2,26,15],[27,2,27,15],[28,2,28,15],[29,2,29,15],[31,2,31,13],[30,5,30,10],[45,5,45,10],[34,2,34,15],[35,2,35,3],[36,2,36,3],[37,2,37,3],[39,2,39,14],[40,2,40,15],[37,6,37,11],[57,2,57,15],[46,2,46,13],[47,2,47,15],[48,2,48,15],[49,2,49,15],[50,2,50,15],[51,2,51,15],[52,2,52,15],[53,2,53,15],[54,2,54,15],[56,2,56,3],[59,2,59,15],[60,2,60,15],[61,2,61,15],[62,2,62,15],[63,2,63,15],[64,2,64,15],[65,2,65,15],[66,1,66,16],[67,2,67,15],[68,1,68,16],[69,3,69,15],[70,3,70,15],[75,1,75,16],[71,3,71,15],[72,3,72,15],[73,3,73,15],[74,3,74,15]]}
[]
[]
[null,null,"Biennial Statistics on Waste Generation\n2022 DATA COLLECTION"]
[null,null,"Basic instructions"]
[]
[null,null,"Before filling in the questionnaire please read carefully the instructions below. This EXCEL workbook is the questionnaire. Please do not  delete or add rows in the questionnaire. This EXCEL workbook contains macros. In order to make them work you need to save the file in your computer and then reopen it and enable macros resp. make it a trusted document. After you completely filled in the table and before sending it, please, validate the questionnaire with the button \"validate questionnaire\" above. You find the results of this immediate validation in the table \"ErrorLog\"."]
[null,null,"Please note that this questionnaire only includes one table."]
[]
[null,null,"1. Getting started "]
[null,null,"Enter the data without changing the format of the questionnaire (i.e. do not add/delete rows or columns) since Eurostat uses automated routines for data validation.\n"]
[null,null,"Please select your country (click on the white cell):    ",null,null,null,"Croatia",null,null,{"$f":"IF(G11=\"\",\"\",VLOOKUP(G11,Lists!A2:B40,2,FALSE))","v":"HR"}]
[null,null,"Reference year:    ",null,null,null,2020,null," "]
[null,null,"The due date for reporting is 30 June 2022                                        ",null,null,null," "]
[null,null,"Who is the primary contact point for biennial statistics on waste generation in your country?"]
[]
[null,null,"Name:"]
[]
[null,null,"Institution:","Ministry of Economy and Sustainable Development"]
[]
[null,null,"Unit:","Institute for Environment and Nature"]
[]
[null,null,"Telephone:"]
[]
[null,null,"Email adress:"]
[null,null,"Eurostat would be grateful if you could send us the completed questionnaire ahead of the deadline. "]
[]
[null,null,"2. Data transmission:"]
[null,null,"The standard tool for the transmission of statistical data is the eDAMIS system. The system creates a secure environment for the transmission of data, it records all data submissions and acknowledges the data delivery. The eDAMIS system has been installed in the National Statistical Institutes.\n   "]
[null,null,"Please submit this questionnaire to Eurostat using the eDAMIS reporting system. Use the following details: \nDomain name: WASTE\nData set name: WASTE_GEN"]
[null,null,"Should you have any questions regarding data transmission do not hesitate to contact your local eDAMIS coordinator or the Eurostat eDAMIS helpdesk at: "]
[null,null,null,null,null,"https://webgate.ec.europa.eu/edamis/helpcenter/website/index.htm"]
[null,null,"e-mail address: ESTAT-SUPPORT-EDAMIS@EC.EUROPA.EU or call (+352) 4301- 33213"]
[null,null,"For methodological questions contact Eurostat's waste team: ESTAT-WASTE-STATISTICS@EC.EUROPA.EU"]
[null,null," "]
[null,null,"3. Reporting conventions\n\n"]
[null,null,"Description",null,"Symbol"]
[null,null,"Real zero",null,0]
[null,null,"Not available",null," ",null,"(Empty cell means \"not available\")"]
[]
[null,null,"1. White shaded (uncoloured) boxes: Provision of data is mandatory"]
[null,null,"2. Black shaded boxes: reporting is not applicable"]
[null,null,"3. Grey shaded boxes: calculation is automatic; do not input any data into these cells"]
[]
[]
[null,null,"4. Metadata:"]
[null,null,"Please provide data by the Metadatahandler: ",null,null,"https://webgate.ec.europa.eu/estat/spe/metaconv/home.htm"]
[]
[null,null,"5. Footnotes: \nYou are asked to report data that follow as closely as possible the Waste Statistics Regulation waste definitions and reporting rules (see paragraphs below). Please report problems with the coverage or data quality in the Metadatahandler."]
[null,null,"Flags (footnote symbols) should be entered in the reporting tables in the footnote columns, next to the value cell. There are two types of footnotes: \n- Letters for standard footnotes (as defined by Eurostat) and \n- Numbers for country-specific footnotes (to be defined by the data compilers). "]
[null,null,"Standard footnotes"]
[null,null,"The following footnotes will be used for the automatic data processing and data dissemination. Hence, they cannot be changed:"]
[null,null,"B) break in series"]
[null,null,"E) estimated data"]
[null,null,"P) provisional"]
[null,null,"To include standard footnotes use the drop-down menu. The drop-down menue includes as well combinations of footnotes. If you need to put more than one footnote in a field, please, use these combinations in the drop-down menue."]
[]
[null,null,"Country-specific footnotes"]
[null,null,"The specific footnotes can be used for any meaning beyond the pre-defined footnotes.\nTo include the specific footnotes, insert the text in the footnote column corresponding to the value cell. Please report the footnote text in the worksheet 'Footnotes list' starting from number 1. You can select the number of the specific footnote from the drop-down menu. \nPlease do not report footnotes that elaborate on e.g. source data and compilation methods; these are to be described in the quality report and the metadata sheets. \n"]
[]
[null,null,"6. Methodology and questions:\n    Guidance and the Manual on waste statistics are available on Eurostat website:"]
[null,null,"https://ec.europa.eu/eurostat/web/waste/methodology"]
[null,null,"The guidelines contain definitions, examples and recommendations to ensure that data are compiled and maintained on a consistent basis. They explain the scope and the reasoning behind the terms of the tables, and provide extra information necessary to allow a consistent collection and interpretation of the data to be reported by countries."]
[null,null,"A summary methodology is presented in this questionnaire, in the sheet named 'Methodology'. It is essential to read this sheet before filling in the questionnaire as it contains, beside the summary methodology, important information on priorities for filling in the tables, data sources and hints for establishing a methodology at national level."]
[]
[null,null,"If you have questions, please send them to the following email addresses:"]
[null,null,"ESTAT-WASTE-STATISTICS@EC.EUROPA.EU"]
[null,"Annex: How to fill in the data sheets of the questionnaire"]
[null,null,"You are kindly requested to:"]
[]
[null,null,"1)","To fill in all the uncoloured cells with a value. "]
[null,null,"2)","Cells, which contain sums, are filled in automatically, unless there are empty fields in one of the summands. In this case, the field containing the sum has to be filled as well. In case, you  assume that a formula should be added in a cell, please, send us an email with this formula. Please, do not add the formula yourself. The formula may be helpful all countries."]
[null,null,"3)","Flags (footnote symbols) can be entered in the reporting tables in the footnote columns."]
[null,null,"4)","To include standard footnotes use the drop-down menu."]
[null,null,"5)","The text of specific footnotes can be entered in the worksheet 'Footnotes list'. "]
[null,null,"6)","Empty fields are a breach of the Regulation 2150/2002. An explanation, why the value is not available, has to be entered."]

{"sheet":"Table_1","index":3,"n_rows":136,"n_cols":116,"rows_kept":136,"cut":false,"hidden":false,"merged":[[5,46,5,50],[5,91,5,95],[5,86,5,90],[5,81,5,85],[5,76,5,80],[5,71,5,75],[6,99,6,100],[6,104,6,105],[6,109,6,110],[6,54,6,55],[6,59,6,60],[6,64,6,65],[6,69,6,70],[5,66,5,70],[5,61,5,65],[5,56,5,60],[5,51,5,55],[6,49,6,50],[6,114,6,115],[5,111,5,115],[5,106,5,110],[5,101,5,105],[5,96,5,100],[6,74,6,75],[6,79,6,80],[6,84,6,85],[6,89,6,90],[6,94,6,95],[5,6,5,10],[5,11,5,15],[6,44,6,45],[5,41,5,45],[5,36,5,40],[5,31,5,35],[5,26,5,30],[5,21,5,25],[5,16,5,20],[6,9,6,10],[6,14,6,15],[6,19,6,20],[6,24,6,25],[6,29,6,30],[6,34,6,35],[6,39,6,40],[88,1,90,1],[85,1,87,1],[82,1,84,1],[79,1,81,1],[76,1,78,1],[73,1,75,1],[25,1,27,1],[67,1,69,1],[64,1,66,1],[61,1,63,1],[58,1,60,1],[55,1,57,1],[52,1,54,1],[49,1,51,1],[70,1,72,1],[46,1,48,1],[43,1,45,1],[40,1,42,1],[97,1,99,1],[94,1,96,1],[91,1,93,1],[100,3,102,3],[103,3,105,3],[115,3,117,3],[115,1,117,1],[103,1,105,1],[100,1,102,1],[106,1,108,1],[106,3,108,3],[109,1,111,1],[109,3,111,3],[112,1,114,1],[112,3,114,3],[40,3,42,3],[94,3,96,3],[97,3,99,3],[46,3,48,3],[58,3,60,3],[61,3,63,3],[64,3,66,3],[67,3,69,3],[49,3,51,3],[52,3,54,3],[55,3,57,3],[43,3,45,3],[88,3,90,3],[91,3,93,3],[76,3,78,3],[79,3,81,3],[82,3,84,3],[85,3,87,3],[70,3,72,3],[73,3,75,3],[25,3,27,3],[37,1,39,1],[34,1,36,1],[31,1,33,1],[28,1,30,1],[7,1,9,1],[10,1,12,1],[13,1,15,1],[6,1,6,5],[16,1,18,1],[19,1,21,1],[22,1,24,1],[7,3,9,3],[10,3,12,3],[13,3,15,3],[16,3,18,3],[19,3,21,3],[22,3,24,3],[28,3,30,3],[31,3,33,3],[34,3,36,3],[37,3,39,3]]}
[]
[]
[null,"Country:",null,{"$f":"IF('Basic instructions'!$G$11=\"\",\"\",'Basic instructions'!$G$11)","v":"Croatia"},null,{"$f":"IF('Basic instructions'!$J$11=\"\",\"\",'Basic instructions'!$J$11)","v":"HR"}]
[null,"Reference year:",null,{"$f":"IF('Basic instructions'!$G$12=\"\",\"\",'Basic instructions'!$G$12)","v":2020}]
[null,null,null,null,null,null,"A",null,null,null,null,"B",null,null,null,null,"C10-C12",null,null,null,null,"C13-C15",null,null,null,null,"C16",null,null,null,null,"C17_C18",null,null,null,null,"C19",null,null,null,null,"C20-C22",null,null,null,null,"C23",null,null,null,null,"C24_C25",null,null,null,null,"C26-C30",null,null,null,null,"C31-C33",null,null,null,null,"C",null,null,null,null,"D",null,null,null,null,"E36_E37_E39",null,null,null,null,"E38",null,null,null,null,"E",null,null,null,null,"F",null,null,null,null,"G-U_X_G4677",null,null,null,null,"G4677",null,null,null,null,"EP_HH",null,null,null,null,"TOTAL_HH"]
[null,"Unit: Tonnes",null,"T",null,null,{"$f":"G5","v":"A"},null,null,null,null,{"$f":"L5","v":"B"},null,null,null,null,{"$f":"Q5","v":"C10-C12"},null,null,null,null,{"$f":"V5","v":"C13-C15"},null,null,null,null,{"$f":"AA5","v":"C16"},null,null,null,null,{"$f":"AF5","v":"C17_C18"},null,null,null,null,{"$f":"AK5","v":"C19"},null,null,null,null,{"$f":"AP5","v":"C20-C22"},null,null,null,null,{"$f":"AU5","v":"C23"},null,null,null,null,{"$f":"AZ5","v":"C24_C25"},null,null,null,null,{"$f":"BE5","v":"C26-C30"},null,null,null,null,{"$f":"BJ5","v":"C31-C33"},null,null,null,null,{"$f":"BO5","v":"C"},null,null,null,null,{"$f":"BT5","v":"D"},null,null,null,null,{"$f":"BY5","v":"E36_E37_E39"},null,null,null,null,{"$f":"CD5","v":"E38"},null,null,null,null,{"$f":"CI5","v":"E"},null,null,null,null,{"$f":"CN5","v":"F"},null,null,null,null,{"$f":"CS5","v":"G-U_X_G4677"},null,null,null,null,{"$f":"CX5","v":"G4677"},null,null,null,null,{"$f":"DC5","v":"EP_HH"},null,null,null,null,{"$f":"DH5","v":"TOTAL_HH"}]
[null,"WASTE GENERATION\nby waste category (EWC-STAT)\nand economic activity (NACE)",null,null,null,null,"Agriculture, forestry and fishing","Standard footnote","Confidentiality footnote","Explanatory footnote",null,"Mining and quarrying","Standard footnote","Confidentiality footnote","Explanatory footnote",null,"Manufacture of food products; beverages and tobacco products","Standard footnote","Confidentiality footnote","Explanatory footnote",null,"Manufacture of textiles, wearing apparel, leather and related products","Standard footnote","Confidentiality footnote","Explanatory footnote",null,"Manufacture of wood and of products of wood and cork, except furniture; manufacture of articles of straw and plaiting materials","Standard footnote","Confidentiality footnote","Explanatory footnote",null,"Manufacture of paper and paper products; printing and reproduction of recorded media","Standard footnote","Confidentiality footnote","Explanatory footnote",null,"Manufacture of coke and refined petroleum products","Standard footnote","Confidentiality footnote","Explanatory footnote",null,"Manufacture of chemical, pharmaceutical, rubber and plastic products","Standard footnote","Confidentiality footnote","Explanatory footnote",null,"Manufacture of other non-metallic mineral products","Standard footnote","Confidentiality footnote","Explanatory footnote",null,"Manufacture of basic metals and fabricated metal products, except machinery and equipment","Standard footnote","Confidentiality footnote","Explanatory footnote",null,"Manufacture of computer, electronic and optical products, electrical equipment, motor vehicles and other transport equipment","Standard footnote","Confidentiality footnote","Explanatory footnote",null,"Manufacture of furniture; jewellery, musical instruments, toys; repair and installation of machinery and equipment","Standard footnote","Confidentiality footnote","Explanatory footnote",null,"Manufacturing","Standard footnote","Confidentiality footnote","Explanatory footnote",null,"Electricity, gas, steam and air conditioning supply","Standard footnote","Confidentiality footnote","Explanatory footnote",null,"Water collection, treatment and supply; sewerage; remediation activities and other waste management services","Standard footnote","Confidentiality footnote","Explanatory footnote",null,"Waste collection, treatment and disposal activities; materials recovery","Standard footnote","Confidentiality footnote","Explanatory footnote",null,"Water supply; sewerage, waste management and remediation activities","Standard footnote","Confidentiality footnote","Explanatory footnote",null,"Construction","Standard footnote","Confidentiality footnote","Explanatory footnote",null,"Services (except wholesale of waste and scrap)","Standard footnote","Confidentiality footnote","Explanatory footnote",null,"Wholesale of waste and scrap","Standard footnote","Confidentiality footnote","Explanatory footnote",null,"Households","Standard footnote","Confidentiality footnote","Explanatory footnote",null,"All NACE activities plus households","Standard footnote","Confidentiality footnote","Explanatory footnote"]
[null,"W011","W011","Spent solvents ","HAZ","Hazardous ",0,null,null,null,null,0,null,null,null,null,0.36199999999999999,null,null,null,null,19.157,null,null,null,null,1.7549999999999999,null,null,null,null,86.156999999999996,null,null,null,null,77.19,null,null,null,null,1164.395,null,null,null,null,1.093,null,null,null,null,19.559000000000001,null,null,null,null,248.999,null,null,null,null,19.802,null,null,null,{"$f":"IF(TRIM(BM8)=\"\", \"\", IF(VLOOKUP(BM8,#REF!,2,FALSE)=0,\"\",VLOOKUP(BM8,#REF!,2,FALSE) ) )","v":""},{"$f":"IF(AND(TRIM(Q8)=\"\",TRIM(V8)=\"\",TRIM(AA8)=\"\", TRIM(AF8)=\"\", TRIM(AK8)=\"\", TRIM(AP8)=\"\", TRIM(AU8)=\"\", TRIM(AZ8)=\"\", TRIM(BE8)=\"\", TRIM(BJ8)=\"\"),\"\",Q8+V8+AA8+AF8+AK8+AP8+AU8+AZ8+BE8+BJ8)","v":1638.4690000000001},null,null,null,{"$f":"IF(TRIM(BR8)=\"\", \"\", IF(VLOOKUP(BR8,#REF!,2,FALSE)=0,\"\",VLOOKUP(BR8,#REF!,2,FALSE) ) )","v":""},0.104,null,null,null,null,0.17599999999999999,null,null,null,null,3.2469999999999999,null,null,null,{"$f":"IF(TRIM(CG8)=\"\", \"\", IF(VLOOKUP(CG8,#REF!,2,FALSE)=0,\"\",VLOOKUP(CG8,#REF!,2,FALSE) ) )","v":""},{"$f":"IF(AND(TRIM(BY8)=\"\",TRIM(CD8)=\"\"),\"\",BY8+CD8)","v":3.423},null,null,null,{"$f":"IF(TRIM(CL8)=\"\", \"\", IF(VLOOKUP(CL8,#REF!,2,FALSE)=0,\"\",VLOOKUP(CL8,#REF!,2,FALSE) ) )","v":""},1.44,null,null,null,null,70.974000000000004,null,null,null,null,0,null,null,null,null,0.27,null,null,null,{"$f":"IF(TRIM(DF8)=\"\", \"\", IF(VLOOKUP(DF8,#REF!,2,FALSE)=0,\"\",VLOOKUP(DF8,#REF!,2,FALSE) ) )","v":""},{"$f":"IF(AND(TRIM(G8)=\"\",TRIM(L8)=\"\",TRIM(BO8)=\"\",TRIM(BT8)=\"\",TRIM(CI8)=\"\",TRIM(CN8)=\"\",TRIM(CS8)=\"\",TRIM(CX8)=\"\",TRIM(DC8)=\"\"),\"\",SUM(G8,L8,BO8,BT8,CI8,CN8,CS8,CX8,DC8))","v":1714.68},null,null,null,{"$f":"IF(TRIM(DK8)=\"\", \"\", IF(VLOOKUP(DK8,#REF!,2,FALSE)=0,\"\",VLOOKUP(DK8,#REF!,2,FALSE) ) )","v":""}]
[null,null,null,null,null,"Not applicable",0,null,null,null,null,0,null,null,null,null,0,null,null,null,null,0,null,null,null,null,0,null,null,null,null,0,null,null,null,null,0,null,null,null,null,0,null,null,null,null,0,null,null,null,null,0,null,null,null,null,0,null,null,null,null,0,null,null,null,null,null,null,null,null,null,0,null,null,null,null,0,null,null,null,null,0,null,null,null,null,null,null,null,null,null,0,null,null,null,null,0,null,null,null,null,0,null,null,null,null,0]
[null,null,"W011",null,"HAZ_NHAZ","Total",{"$f":"IF(AND(TRIM(G8)=\"\",TRIM(G9)=\"\"),\"\",G8+G9)","v":0},null,null,null,null,{"$f":"IF(AND(TRIM(L8)=\"\",TRIM(L9)=\"\"),\"\",L8+L9)","v":0},null,null,null,null,{"$f":"IF(AND(TRIM(Q8)=\"\",TRIM(Q9)=\"\"),\"\",Q8+Q9)","v":0.36199999999999999},null,null,null,null,{"$f":"IF(AND(TRIM(V8)=\"\",TRIM(V9)=\"\"),\"\",V8+V9)","v":19.157},null,null,null,null,{"$f":"IF(AND(TRIM(AA8)=\"\",TRIM(AA9)=\"\"),\"\",AA8+AA9)","v":1.7549999999999999},null,null,null,null,{"$f":"IF(AND(TRIM(AF8)=\"\",TRIM(AF9)=\"\"),\"\",AF8+AF9)","v":86.156999999999996},null,null,null,null,{"$f":"IF(AND(TRIM(AK8)=\"\",TRIM(AK9)=\"\"),\"\",AK8+AK9)","v":77.19},null,null,null,null,{"$f":"IF(AND(TRIM(AP8)=\"\",TRIM(AP9)=\"\"),\"\",AP8+AP9)","v":1164.395},null,null,null,null,{"$f":"IF(AND(TRIM(AU8)=\"\",TRIM(AU9)=\"\"),\"\",AU8+AU9)","v":1.093},null,null,null,null,{"$f":"IF(AND(TRIM(AZ8)=\"\",TRIM(AZ9)=\"\"),\"\",AZ8+AZ9)","v":19.559000000000001},null,null,null,null,{"$f":"IF(AND(TRIM(BE8)=\"\",TRIM(BE9)=\"\"),\"\",BE8+BE9)","v":248.999},null,null,null,null,{"$f":"IF(AND(TRIM(BJ8)=\"\",TRIM(BJ9)=\"\"),\"\",BJ8+BJ9)","v":19.802},null,null,null,{"$f":"IF(TRIM(BM10)=\"\", \"\", IF(VLOOKUP(BM10,#REF!,2,FALSE)=0,\"\",VLOOKUP(BM10,#REF!,2,FALSE) ) )","v":""},{"$f":"IF(AND(TRIM(BO8)=\"\", TRIM(BO9)=\"\"), \"\", (IF(ISNUMBER(BO8),BO8,0)+IF(ISNUMBER(BO9),BO9,0)))","v":1638.4690000000001},null,null,null,{"$f":"IF(TRIM(BR10)=\"\", \"\", IF(VLOOKUP(BR10,#REF!,2,FALSE)=0,\"\",VLOOKUP(BR10,#REF!,2,FALSE) ) )","v":""},{"$f":"IF(AND(TRIM(BT8)=\"\",TRIM(BT9)=\"\"),\"\",BT8+BT9)","v":0.104},null,null,null,null,{"$f":"IF(AND(TRIM(BY8)=\"\",TRIM(BY9)=\"\"),\"\",BY8+BY9)","v":0.17599999999999999},null,null,null,null,{"$f":"IF(AND(TRIM(CD8)=\"\",TRIM(CD9)=\"\"),\"\",CD8+CD9)","v":3.2469999999999999},null,null,null,{"$f":"IF(TRIM(CG10)=\"\", \"\", IF(VLOOKUP(CG10,#REF!,2,FALSE)=0,\"\",VLOOKUP(CG10,#REF!,2,FALSE) ) )","v":""},{"$f":"IF(AND(TRIM(CI8)=\"\", TRIM(CI9)=\"\"), \"\", (IF(ISNUMBER(CI8),CI8,0)+IF(ISNUMBER(CI9),CI9,0)))","v":3.423},null,null,null,{"$f":"IF(TRIM(CL10)=\"\", \"\", IF(VLOOKUP(CL10,#REF!,2,FALSE)=0,\"\",VLOOKUP(CL10,#REF!,2,FALSE) ) )","v":""},{"$f":"IF(AND(TRIM(CN8)=\"\",TRIM(CN9)=\"\"),\"\",CN8+CN9)","v":1.44},null,null,null,null,{"$f":"IF(AND(TRIM(CS8)=\"\",TRIM(CS9)=\"\"),\"\",CS8+CS9)","v":70.974000000000004},null,null,null,null,{"$f":"IF(AND(TRIM(CX8)=\"\",TRIM(CX9)=\"\"),\"\",CX8+CX9)","v":0},null,null,null,null,{"$f":"IF(AND(TRIM(DC8)=\"\",TRIM(DC9)=\"\"),\"\",DC8+DC9)","v":0.27},null,null,null,{"$f":"IF(TRIM(DF10)=\"\", \"\", IF(VLOOKUP(DF10,#REF!,2,FALSE)=0,\"\",VLOOKUP(DF10,#REF!,2,FALSE) ) )","v":""},{"$f":"IF(AND(TRIM(DH8)=\"\", TRIM(DH9)=\"\"), \"\", SUM(DH8,DH9) )","v":1714.68},null,null,null,{"$f":"IF(TRIM(DK10)=\"\", \"\", IF(VLOOKUP(DK10,#REF!,2,FALSE)=0,\"\",VLOOKUP(DK10,#REF!,2,FALSE) ) )","v":""}]
[null,"W012","W012","Acid, alkaline or saline wastes ","HAZ","Hazardous ",0,null,null,null,null,18.018000000000001,null,null,null,null,34.426000000000002,null,null,null,null,0,null,null,null,null,7.0000000000000001E-3,null,null,null,null,116.749,null,null,null,null,28.788,null,null,null,null,387.55500000000001,null,null,null,null,0.253,null,null,null,null,3599.9789999999998,null,null,null,null,135.85900000000001,null,null,null,null,4.1219999999999999,null,null,null,{"$f":"IF(TRIM(BM11)=\"\", \"\", IF(VLOOKUP(BM11,#REF!,2,FALSE)=0,\"\",VLOOKUP(BM11,#REF!,2,FALSE) ) )","v":""},{"$f":"IF(AND(TRIM(Q11)=\"\",TRIM(V11)=\"\",TRIM(AA11)=\"\", TRIM(AF11)=\"\", TRIM(AK11)=\"\", TRIM(AP11)=\"\", TRIM(AU11)=\"\", TRIM(AZ11)=\"\", TRIM(BE11)=\"\", TRIM(BJ11)=\"\"),\"\",Q11+V11+AA11+AF11+AK11+AP11+AU11+AZ11+BE11+BJ11)","v":4307.7380000000003},null,null,null,{"$f":"IF(TRIM(BR11)=\"\", \"\", IF(VLOOKUP(BR11,#REF!,2,FALSE)=0,\"\",VLOOKUP(BR11,#REF!,2,FALSE) ) )","v":""},2.1425000000000001,null,null,null,null,0.442,null,null,null,null,5.97,null,null,null,{"$f":"IF(TRIM(CG11)=\"\", \"\", IF(VLOOKUP(CG11,#REF!,2,FALSE)=0,\"\",VLOOKUP(CG11,#REF!,2,FALSE) ) )","v":""},{"$f":"IF(AND(TRIM(BY11)=\"\",TRIM(CD11)=\"\"),\"\",BY11+CD11)","v":6.4119999999999999},null,null,null,{"$f":"IF(TRIM(CL11)=\"\", \"\", IF(VLOOKUP(CL11,#REF!,2,FALSE)=0,\"\",VLOOKUP(CL11,#REF!,2,FALSE) ) )","v":""},4.0199999999999996,null,null,null,null,68.001000000000005,null,null,null,null,0,null,null,null,null,1.0409999999999999,null,null,null,{"$f":"IF(TRIM(DF11)=\"\", \"\", IF(VLOOKUP(DF11,#REF!,2,FALSE)=0,\"\",VLOOKUP(DF11,#REF!,2,FALSE) ) )","v":""},{"$f":"IF(AND(TRIM(G11)=\"\",TRIM(L11)=\"\",TRIM(BO11)=\"\",TRIM(BT11)=\"\",TRIM(CI11)=\"\",TRIM(CN11)=\"\",TRIM(CS11)=\"\",TRIM(CX11)=\"\",TRIM(DC11)=\"\"),\"\",SUM(G11,L11,BO11,BT11,CI11,CN11,CS11,CX11,DC11))","v":4407.3729999999996},null,null,null,{"$f":"IF(TRIM(DK11)=\"\", \"\", IF(VLOOKUP(DK11,#REF!,2,FALSE)=0,\"\",VLOOKUP(DK11,#REF!,2,FALSE) ) )","v":""}]
[null,null,"W012",null,"NHAZ","Non-hazardous",0,null,null,null,null,0,null,null,null,null,0,null,null,null,null,0,null,null,null,null,0,null,null,null,null,0,null,null,null,null,15.92,null,null,null,null,7.4999999999999997E-2,null,null,null,null,0,null,null,null,null,410,null,null,null,null,1.2509999999999999,null,null,null,null,0,null,null,null,{"$f":"IF(TRIM(BM12)=\"\", \"\", IF(VLOOKUP(BM12,#REF!,2,FALSE)=0,\"\",VLOOKUP(BM12,#REF!,2,FALSE) ) )","v":""},{"$f":"IF(AND(TRIM(Q12)=\"\",TRIM(V12)=\"\",TRIM(AA12)=\"\", TRIM(AF12)=\"\", TRIM(AK12)=\"\", TRIM(AP12)=\"\", TRIM(AU12)=\"\", TRIM(AZ12)=\"\", TRIM(BE12)=\"\", TRIM(BJ12)=\"\"),\"\",Q12+V12+AA12+AF12+AK12+AP12+AU12+AZ12+BE12+BJ12)","v":427.24599999999998},null,null,null,{"$f":"IF(TRIM(BR12)=\"\", \"\", IF(VLOOKUP(BR12,#REF!,2,FALSE)=0,\"\",VLOOKUP(BR12,#REF!,2,FALSE) ) )","v":""},0,null,null,null,null,0,null,null,null,null,0,null,null,null,{"$f":"IF(TRIM(CG12)=\"\", \"\", IF(VLOOKUP(CG12,#REF!,2,FALSE)=0,\"\",VLOOKUP(CG12,#REF!,2,FALSE) ) )","v":""},{"$f":"IF(AND(TRIM(BY12)=\"\",TRIM(CD12)=\"\"),\"\",BY12+CD12)","v":0},null,null,null,{"$f":"IF(TRIM(CL12)=\"\", \"\", IF(VLOOKUP(CL12,#REF!,2,FALSE)=0,\"\",VLOOKUP(CL12,#REF!,2,FALSE) ) )","v":""},0,null,null,null,null,0,null,null,null,null,0,null,null,null,null,0,null,null,null,{"$f":"IF(TRIM(DF12)=\"\", \"\", IF(VLOOKUP(DF12,#REF!,2,FALSE)=0,\"\",VLOOKUP(DF12,#REF!,2,FALSE) ) )","v":""},{"$f":"IF(AND(TRIM(G12)=\"\",TRIM(L12)=\"\",TRIM(BO12)=\"\",TRIM(BT12)=\"\",TRIM(CI12)=\"\",TRIM(CN12)=\"\",TRIM(CS12)=\"\",TRIM(CX12)=\"\",TRIM(DC12)=\"\"),\"\",SUM(G12,L12,BO12,BT12,CI12,CN12,CS12,CX12,DC12))","v":427.24599999999998},null,null,null,{"$f":"IF(TRIM(DK12)=\"\", \"\", IF(VLOOKUP(DK12,#REF!,2,FALSE)=0,\"\",VLOOKUP(DK12,#REF!,2,FALSE) ) )","v":""}]
[null,null,"W012",null,"HAZ_NHAZ","Total",{"$f":"IF(AND(TRIM(G11)=\"\",TRIM(G12)=\"\"),\"\",G11+G12)","v":0},null,null,null,null,{"$f":"IF(AND(TRIM(L11)=\"\",TRIM(L12)=\"\"),\"\",L11+L12)","v":18.018000000000001},null,null,null,null,{"$f":"IF(AND(TRIM(Q11)=\"\",TRIM(Q12)=\"\"),\"\",Q11+Q12)","v":34.426000000000002},null,null,null,null,{"$f":"IF(AND(TRIM(V11)=\"\",TRIM(V12)=\"\"),\"\",V11+V12)","v":0},null,null,null,null,{"$f":"IF(AND(TRIM(AA11)=\"\",TRIM(AA12)=\"\"),\"\",AA11+AA12)","v":7.0000000000000001E-3},null,null,null,null,{"$f":"IF(AND(TRIM(AF11)=\"\",TRIM(AF12)=\"\"),\"\",AF11+AF12)","v":116.749},null,null,null,null,{"$f":"IF(AND(TRIM(AK11)=\"\",TRIM(AK12)=\"\"),\"\",AK11+AK12)","v":44.707999999999998},null,null,null,null,{"$f":"IF(AND(TRIM(AP11)=\"\",TRIM(AP12)=\"\"),\"\",AP11+AP12)","v":387.63},null,null,null,null,{"$f":"IF(AND(TRIM(AU11)=\"\",TRIM(AU12)=\"\"),\"\",AU11+AU12)","v":0.253},null,null,null,null,{"$f":"IF(AND(TRIM(AZ11)=\"\",TRIM(AZ12)=\"\"),\"\",AZ11+AZ12)","v":4009.9789999999998},null,null,null,null,{"$f":"IF(AND(TRIM(BE11)=\"\",TRIM(BE12)=\"\"),\"\",BE11+BE12)","v":137.11000000000001},null,null,null,null,{"$f":"IF(AND(TRIM(BJ11)=\"\",TRIM(BJ12)=\"\"),\"\",BJ11+BJ12)","v":4.1219999999999999},null,null,null,{"$f":"IF(TRIM(BM13)=\"\", \"\", IF(VLOOKUP(BM13,#REF!,2,FALSE)=0,\"\",VLOOKUP(BM13,#REF!,2,FALSE) ) )","v":""},{"$f":"IF(AND(TRIM(BO11)=\"\", TRIM(BO12)=\"\"), \"\", (IF(ISNUMBER(BO11),BO11,0)+IF(ISNUMBER(BO12),BO12,0)))","v":4734.9840000000004},null,null,null,{"$f":"IF(TRIM(BR13)=\"\", \"\", IF(VLOOKUP(BR13,#REF!,2,FALSE)=0,\"\",VLOOKUP(BR13,#REF!,2,FALSE) ) )","v":""},{"$f":"IF(AND(TRIM(BT11)=\"\",TRIM(BT12)=\"\"),\"\",BT11+BT12)","v":2.1429999999999998},null,null,null,null,{"$f":"IF(AND(TRIM(BY11)=\"\",TRIM(BY12)=\"\"),\"\",BY11+BY12)","v":0.442},null,null,null,null,{"$f":"IF(AND(TRIM(CD11)=\"\",TRIM(CD12)=\"\"),\"\",CD11+CD12)","v":5.97},null,null,null,{"$f":"IF(TRIM(CG13)=\"\", \"\", IF(VLOOKUP(CG13,#REF!,2,FALSE)=0,\"\",VLOOKUP(CG13,#REF!,2,FALSE) ) )","v":""},{"$f":"IF(AND(TRIM(CI11)=\"\", TRIM(CI12)=\"\"), \"\", (IF(ISNUMBER(CI11),CI11,0)+IF(ISNUMBER(CI12),CI12,0)))","v":6.4119999999999999},null,null,null,{"$f":"IF(TRIM(CL13)=\"\", \"\", IF(VLOOKUP(CL13,#REF!,2,FALSE)=0,\"\",VLOOKUP(CL13,#REF!,2,FALSE) ) )","v":""},{"$f":"IF(AND(TRIM(CN11)=\"\",TRIM(CN12)=\"\"),\"\",CN11+CN12)","v":4.0199999999999996},null,null,null,null,{"$f":"IF(AND(TRIM(CS11)=\"\",TRIM(CS12)=\"\"),\"\",CS11+CS12)","v":68.001000000000005},null,null,null,null,{"$f":"IF(AND(TRIM(CX11)=\"\",TRIM(CX12)=\"\"),\"\",CX11+CX12)","v":0},null,null,null,null,{"$f":"IF(AND(TRIM(DC11)=\"\",TRIM(DC12)=\"\"),\"\",DC11+DC12)","v":1.0409999999999999},null,null,null,{"$f":"IF(TRIM(DF13)=\"\", \"\", IF(VLOOKUP(DF13,#REF!,2,FALSE)=0,\"\",VLOOKUP(DF13,#REF!,2,FALSE) ) )","v":""},{"$f":"IF(AND(TRIM(DH11)=\"\", TRIM(DH12)=\"\"), \"\", SUM(DH11,DH12) )","v":4834.6189999999997},null,null,null,{"$f":"IF(TRIM(DK13)=\"\", \"\", IF(VLOOKUP(DK13,#REF!,2,FALSE)=0,\"\",VLOOKUP(DK13,#REF!,2,FALSE) ) )","v":""}]
[null,"W013","W013","Used oils ","HAZ","Hazardous ",108.06399999999999,null,null,null,null,2804.32,null,null,null,null,61.76,null,null,null,null,6.7480000000000002,null,null,null,null,48.569000000000003,null,null,null,null,42.326000000000001,null,null,null,null,262.48500000000001,null,null,null,null,56.134,null,null,null,null,130.29,null,null,null,null,1756.413,null,null,null,null,1885.288,null,null,null,null,315.88900000000001,null,null,null,{"$f":"IF(TRIM(BM14)=\"\", \"\", IF(VLOOKUP(BM14,#REF!,2,FALSE)=0,\"\",VLOOKUP(BM14,#REF!,2,FALSE) ) )","v":""},{"$f":"IF(AND(TRIM(Q14)=\"\",TRIM(V14)=\"\",TRIM(AA14)=\"\", TRIM(AF14)=\"\", TRIM(AK14)=\"\", TRIM(AP14)=\"\", TRIM(AU14)=\"\", TRIM(AZ14)=\"\", TRIM(BE14)=\"\", TRIM(BJ14)=\"\"),\"\",Q14+V14+AA14+AF14+AK14+AP14+AU14+AZ14+BE14+BJ14)","v":4565.902},null,null,null,{"$f":"IF(TRIM(BR14)=\"\", \"\", IF(VLOOKUP(BR14,#REF!,2,FALSE)=0,\"\",VLOOKUP(BR14,#REF!,2,FALSE) ) )","v":""},437.1,null,null,null,null,46.287500000000001,null,null,null,null,243.14,null,null,null,{"$f":"IF(TRIM(CG14)=\"\", \"\", IF(VLOOKUP(CG14,#REF!,2,FALSE)=0,\"\",VLOOKUP(CG14,#REF!,2,FALSE) ) )","v":""},{"$f":"IF(AND(TRIM(BY14)=\"\",TRIM(CD14)=\"\"),\"\",BY14+CD14)","v":289.428},null,null,null,{"$f":"IF(TRIM(CL14)=\"\", \"\", IF(VLOOKUP(CL14,#REF!,2,FALSE)=0,\"\",VLOOKUP(CL14,#REF!,2,FALSE) ) )","v":""},152.29599999999999,null,null,null,null,5079.8779999999997,null,null,null,null,2.3439999999999999,null,null,null,null,78.228999999999999,null,null,null,{"$f":"IF(TRIM(DF14)=\"\", \"\", IF(VLOOKUP(DF14,#REF!,2,FALSE)=0,\"\",VLOOKUP(DF14,#REF!,2,FALSE) ) )","v":""},{"$f":"IF(AND(TRIM(G14)=\"\",TRIM(L14)=\"\",TRIM(BO14)=\"\",TRIM(BT14)=\"\",TRIM(CI14)=\"\",TRIM(CN14)=\"\",TRIM(CS14)=\"\",TRIM(CX14)=\"\",TRIM(DC14)=\"\"),\"\",SUM(G14,L14,BO14,BT14,CI14,CN14,CS14,CX14,DC14))","v":13517.561},null,null,null,{"$f":"IF(TRIM(DK14)=\"\", \"\", IF(VLOOKUP(DK14,#REF!,2,FALSE)=0,\"\",VLOOKUP(DK14,#REF!,2,FALSE) ) )","v":""}]
[null,null,null,null,null,"Not applicable",0,null,null,null,null,0,null,null,null,null,0,null,null,null,null,0,null,null,null,null,0,null,null,null,null,0,null,null,null,null,0,null,null,null,null,0,null,null,null,null,0,null,null,null,null,0,null,null,null,null,0,null,null,null,null,0,null,null,null,null,null,null,null,null,null,0,null,null,null,null,0,null,null,null,null,0,null,null,null,null,null,null,null,null,null,0,null,null,null,null,0,null,null,null,null,0,null,null,null,null,0]
[null,null,"W013",null,"HAZ_NHAZ","Total",{"$f":"IF(AND(TRIM(G14)=\"\",TRIM(G15)=\"\"),\"\",G14+G15)","v":108.06399999999999},null,null,null,null,{"$f":"IF(AND(TRIM(L14)=\"\",TRIM(L15)=\"\"),\"\",L14+L15)","v":2804.32},null,null,null,null,{"$f":"IF(AND(TRIM(Q14)=\"\",TRIM(Q15)=\"\"),\"\",Q14+Q15)","v":61.76},null,null,null,null,{"$f":"IF(AND(TRIM(V14)=\"\",TRIM(V15)=\"\"),\"\",V14+V15)","v":6.7480000000000002},null,null,null,null,{"$f":"IF(AND(TRIM(AA14)=\"\",TRIM(AA15)=\"\"),\"\",AA14+AA15)","v":48.569000000000003},null,null,null,null,{"$f":"IF(AND(TRIM(AF14)=\"\",TRIM(AF15)=\"\"),\"\",AF14+AF15)","v":42.326000000000001},null,null,null,null,{"$f":"IF(AND(TRIM(AK14)=\"\",TRIM(AK15)=\"\"),\"\",AK14+AK15)","v":262.48500000000001},null,null,null,null,{"$f":"IF(AND(TRIM(AP14)=\"\",TRIM(AP15)=\"\"),\"\",AP14+AP15)","v":56.134},null,null,null,null,{"$f":"IF(AND(TRIM(AU14)=\"\",TRIM(AU15)=\"\"),\"\",AU14+AU15)","v":130.29},null,null,null,null,{"$f":"IF(AND(TRIM(AZ14)=\"\",TRIM(AZ15)=\"\"),\"\",AZ14+AZ15)","v":1756.413},null,null,null,null,{"$f":"IF(AND(TRIM(BE14)=\"\",TRIM(BE15)=\"\"),\"\",BE14+BE15)","v":1885.288},null,null,null,null,{"$f":"IF(AND(TRIM(BJ14)=\"\",TRIM(BJ15)=\"\"),\"\",BJ14+BJ15)","v":315.88900000000001},null,null,null,{"$f":"IF(TRIM(BM16)=\"\", \"\", IF(VLOOKUP(BM16,#REF!,2,FALSE)=0,\"\",VLOOKUP(BM16,#REF!,2,FALSE) ) )","v":""},{"$f":"IF(AND(TRIM(BO14)=\"\", TRIM(BO15)=\"\"), \"\", (IF(ISNUMBER(BO14),BO14,0)+IF(ISNUMBER(BO15),BO15,0)))","v":4565.902},null,null,null,{"$f":"IF(TRIM(BR16)=\"\", \"\", IF(VLOOKUP(BR16,#REF!,2,FALSE)=0,\"\",VLOOKUP(BR16,#REF!,2,FALSE) ) )","v":""},{"$f":"IF(AND(TRIM(BT14)=\"\",TRIM(BT15)=\"\"),\"\",BT14+BT15)","v":437.1},null,null,null,null,{"$f":"IF(AND(TRIM(BY14)=\"\",TRIM(BY15)=\"\"),\"\",BY14+BY15)","v":46.287999999999997},null,null,null,null,{"$f":"IF(AND(TRIM(CD14)=\"\",TRIM(CD15)=\"\"),\"\",CD14+CD15)","v":243.14},null,null,null,{"$f":"IF(TRIM(CG16)=\"\", \"\", IF(VLOOKUP(CG16,#REF!,2,FALSE)=0,\"\",VLOOKUP(CG16,#REF!,2,FALSE) ) )","v":""},{"$f":"IF(AND(TRIM(CI14)=\"\", TRIM(CI15)=\"\"), \"\", (IF(ISNUMBER(CI14),CI14,0)+IF(ISNUMBER(CI15),CI15,0)))","v":289.428},null,null,null,{"$f":"IF(TRIM(CL16)=\"\", \"\", IF(VLOOKUP(CL16,#REF!,2,FALSE)=0,\"\",VLOOKUP(CL16,#REF!,2,FALSE) ) )","v":""},{"$f":"IF(AND(TRIM(CN14)=\"\",TRIM(CN15)=\"\"),\"\",CN14+CN15)","v":152.29599999999999},null,null,null,null,{"$f":"IF(AND(TRIM(CS14)=\"\",TRIM(CS15)=\"\"),\"\",CS14+CS15)","v":5079.8779999999997},null,null,null,null,{"$f":"IF(AND(TRIM(CX14)=\"\",TRIM(CX15)=\"\"),\"\",CX14+CX15)","v":2.3439999999999999},null,null,null,null,{"$f":"IF(AND(TRIM(DC14)=\"\",TRIM(DC15)=\"\"),\"\",DC14+DC15)","v":78.228999999999999},null,null,null,{"$f":"IF(TRIM(DF16)=\"\", \"\", IF(VLOOKUP(DF16,#REF!,2,FALSE)=0,\"\",VLOOKUP(DF16,#REF!,2,FALSE) ) )","v":""},{"$f":"IF(AND(TRIM(DH14)=\"\", TRIM(DH15)=\"\"), \"\", SUM(DH14,DH15) )","v":13517.561},null,null,null,{"$f":"IF(TRIM(DK16)=\"\", \"\", IF(VLOOKUP(DK16,#REF!,2,FALSE)=0,\"\",VLOOKUP(DK16,#REF!,2,FALSE) ) )","v":""}]
[null,"W02A","W02A","Chemical wastes ","HAZ","Hazardous ",250.71,null,null,null,null,446.31400000000002,null,null,null,null,244.83099999999999,null,null,null,null,320.47000000000003,null,null,null,null,104.971,null,null,null,null,813.03499999999997,null,null,null,null,1532.93,null,null,null,null,1446.934,null,null,null,null,382.61799999999999,null,null,null,null,3248.4209999999998,null,null,null,null,1327.489,null,null,null,null,1065.653,null,null,null,{"$f":"IF(TRIM(BM17)=\"\", \"\", IF(VLOOKUP(BM17,#REF!,2,FALSE)=0,\"\",VLOOKUP(BM17,#REF!,2,FALSE) ) )","v":""},{"$f":"IF(AND(TRIM(Q17)=\"\",TRIM(V17)=\"\",TRIM(AA17)=\"\", TRIM(AF17)=\"\", TRIM(AK17)=\"\", TRIM(AP17)=\"\", TRIM(AU17)=\"\", TRIM(AZ17)=\"\", TRIM(BE17)=\"\", TRIM(BJ17)=\"\"),\"\",Q17+V17+AA17+AF17+AK17+AP17+AU17+AZ17+BE17+BJ17)","v":10487.352000000001},null,null,null,{"$f":"IF(TRIM(BR17)=\"\", \"\", IF(VLOOKUP(BR17,#REF!,2,FALSE)=0,\"\",VLOOKUP(BR17,#REF!,2,FALSE) ) )","v":""},482.12200000000001,null,null,null,null,542.52099999999996,null,null,null,null,1453.1659999999999,null,null,null,{"$f":"IF(TRIM(CG17)=\"\", \"\", IF(VLOOKUP(CG17,#REF!,2,FALSE)=0,\"\",VLOOKUP(CG17,#REF!,2,FALSE) ) )","v":""},{"$f":"IF(AND(TRIM(BY17)=\"\",TRIM(CD17)=\"\"),\"\",BY17+CD17)","v":1995.6869999999999},null,null,null,{"$f":"IF(TRIM(CL17)=\"\", \"\", IF(VLOOKUP(CL17,#REF!,2,FALSE)=0,\"\",VLOOKUP(CL17,#REF!,2,FALSE) ) )","v":""},1298.846,null,null,null,null,6893.723,null,null,null,null,2.5000000000000001E-2,null,null,null,null,272.45499999999998,null,null,null,{"$f":"IF(TRIM(DF17)=\"\", \"\", IF(VLOOKUP(DF17,#REF!,2,FALSE)=0,\"\",VLOOKUP(DF17,#REF!,2,FALSE) ) )","v":""},{"$f":"IF(AND(TRIM(G17)=\"\",TRIM(L17)=\"\",TRIM(BO17)=\"\",TRIM(BT17)=\"\",TRIM(CI17)=\"\",TRIM(CN17)=\"\",TRIM(CS17)=\"\",TRIM(CX17)=\"\",TRIM(DC17)=\"\"),\"\",SUM(G17,L17,BO17,BT17,CI17,CN17,CS17,CX17,DC17))","v":22127.234},null,null,null,{"$f":"IF(TRIM(DK17)=\"\", \"\", IF(VLOOKUP(DK17,#REF!,2,FALSE)=0,\"\",VLOOKUP(DK17,#REF!,2,FALSE) ) )","v":""}]
[null,null,"W02A",null,"NHAZ","Non-hazardous",1.47,null,null,null,null,0.38,null,null,null,null,283.435,null,null,null,null,1659.203,null,null,null,null,138.82249999999999,null,null,null,null,24.95,null,null,null,null,145.4,null,null,null,null,501.02300000000002,null,null,null,null,26.724,null,null,null,null,106.235,null,null,null,null,92.99,null,null,null,null,87.206999999999994,null,null,null,{"$f":"IF(TRIM(BM18)=\"\", \"\", IF(VLOOKUP(BM18,#REF!,2,FALSE)=0,\"\",VLOOKUP(BM18,#REF!,2,FALSE) ) )","v":""},{"$f":"IF(AND(TRIM(Q18)=\"\",TRIM(V18)=\"\",TRIM(AA18)=\"\", TRIM(AF18)=\"\", TRIM(AK18)=\"\", TRIM(AP18)=\"\", TRIM(AU18)=\"\", TRIM(AZ18)=\"\", TRIM(BE18)=\"\", TRIM(BJ18)=\"\"),\"\",Q18+V18+AA18+AF18+AK18+AP18+AU18+AZ18+BE18+BJ18)","v":3065.99},null,null,null,{"$f":"IF(TRIM(BR18)=\"\", \"\", IF(VLOOKUP(BR18,#REF!,2,FALSE)=0,\"\",VLOOKUP(BR18,#REF!,2,FALSE) ) )","v":""},240.41300000000001,null,null,null,null,46.014000000000003,null,null,null,null,13.988,null,null,null,{"$f":"IF(TRIM(CG18)=\"\", \"\", IF(VLOOKUP(CG18,#REF!,2,FALSE)=0,\"\",VLOOKUP(CG18,#REF!,2,FALSE) ) )","v":""},{"$f":"IF(AND(TRIM(BY18)=\"\",TRIM(CD18)=\"\"),\"\",BY18+CD18)","v":60.002000000000002},null,null,null,{"$f":"IF(TRIM(CL18)=\"\", \"\", IF(VLOOKUP(CL18,#REF!,2,FALSE)=0,\"\",VLOOKUP(CL18,#REF!,2,FALSE) ) )","v":""},3.7749999999999999,null,null,null,null,139.47499999999999,null,null,null,null,0,null,null,null,null,378.84300000000002,null,null,null,{"$f":"IF(TRIM(DF18)=\"\", \"\", IF(VLOOKUP(DF18,#REF!,2,FALSE)=0,\"\",VLOOKUP(DF18,#REF!,2,FALSE) ) )","v":""},{"$f":"IF(AND(TRIM(G18)=\"\",TRIM(L18)=\"\",TRIM(BO18)=\"\",TRIM(BT18)=\"\",TRIM(CI18)=\"\",TRIM(CN18)=\"\",TRIM(CS18)=\"\",TRIM(CX18)=\"\",TRIM(DC18)=\"\"),\"\",SUM(G18,L18,BO18,BT18,CI18,CN18,CS18,CX18,DC18))","v":3890.348},null,null,null,{"$f":"IF(TRIM(DK18)=\"\", \"\", IF(VLOOKUP(DK18,#REF!,2,FALSE)=0,\"\",VLOOKUP(DK18,#REF!,2,FALSE) ) )","v":""}]
[null,null,"W02A",null,"HAZ_NHAZ","Total",{"$f":"IF(AND(TRIM(G17)=\"\",TRIM(G18)=\"\"),\"\",G17+G18)","v":252.18},null,null,null,null,{"$f":"IF(AND(TRIM(L17)=\"\",TRIM(L18)=\"\"),\"\",L17+L18)","v":446.69400000000002},null,null,null,null,{"$f":"IF(AND(TRIM(Q17)=\"\",TRIM(Q18)=\"\"),\"\",Q17+Q18)","v":528.26599999999996},null,null,null,null,{"$f":"IF(AND(TRIM(V17)=\"\",TRIM(V18)=\"\"),\"\",V17+V18)","v":1979.673},null,null,null,null,{"$f":"IF(AND(TRIM(AA17)=\"\",TRIM(AA18)=\"\"),\"\",AA17+AA18)","v":243.79400000000001},null,null,null,null,{"$f":"IF(AND(TRIM(AF17)=\"\",TRIM(AF18)=\"\"),\"\",AF17+AF18)","v":837.98500000000001},null,null,null,null,{"$f":"IF(AND(TRIM(AK17)=\"\",TRIM(AK18)=\"\"),\"\",AK17+AK18)","v":1678.33},null,null,null,null,{"$f":"IF(AND(TRIM(AP17)=\"\",TRIM(AP18)=\"\"),\"\",AP17+AP18)","v":1947.9570000000001},null,null,null,null,{"$f":"IF(AND(TRIM(AU17)=\"\",TRIM(AU18)=\"\"),\"\",AU17+AU18)","v":409.34199999999998},null,null,null,null,{"$f":"IF(AND(TRIM(AZ17)=\"\",TRIM(AZ18)=\"\"),\"\",AZ17+AZ18)","v":3354.6559999999999},null,null,null,null,{"$f":"IF(AND(TRIM(BE17)=\"\",TRIM(BE18)=\"\"),\"\",BE17+BE18)","v":1420.479},null,null,null,null,{"$f":"IF(AND(TRIM(BJ17)=\"\",TRIM(BJ18)=\"\"),\"\",BJ17+BJ18)","v":1152.8599999999999},null,null,null,{"$f":"IF(TRIM(BM19)=\"\", \"\", IF(VLOOKUP(BM19,#REF!,2,FALSE)=0,\"\",VLOOKUP(BM19,#REF!,2,FALSE) ) )","v":""},{"$f":"IF(AND(TRIM(BO17)=\"\", TRIM(BO18)=\"\"), \"\", (IF(ISNUMBER(BO17),BO17,0)+IF(ISNUMBER(BO18),BO18,0)))","v":13553.342000000001},null,null,null,{"$f":"IF(TRIM(BR19)=\"\", \"\", IF(VLOOKUP(BR19,#REF!,2,FALSE)=0,\"\",VLOOKUP(BR19,#REF!,2,FALSE) ) )","v":""},{"$f":"IF(AND(TRIM(BT17)=\"\",TRIM(BT18)=\"\"),\"\",BT17+BT18)","v":722.53499999999997},null,null,null,null,{"$f":"IF(AND(TRIM(BY17)=\"\",TRIM(BY18)=\"\"),\"\",BY17+BY18)","v":588.53499999999997},null,null,null,null,{"$f":"IF(AND(TRIM(CD17)=\"\",TRIM(CD18)=\"\"),\"\",CD17+CD18)","v":1467.154},null,null,null,{"$f":"IF(TRIM(CG19)=\"\", \"\", IF(VLOOKUP(CG19,#REF!,2,FALSE)=0,\"\",VLOOKUP(CG19,#REF!,2,FALSE) ) )","v":""},{"$f":"IF(AND(TRIM(CI17)=\"\", TRIM(CI18)=\"\"), \"\", (IF(ISNUMBER(CI17),CI17,0)+IF(ISNUMBER(CI18),CI18,0)))","v":2055.6889999999999},null,null,null,{"$f":"IF(TRIM(CL19)=\"\", \"\", IF(VLOOKUP(CL19,#REF!,2,FALSE)=0,\"\",VLOOKUP(CL19,#REF!,2,FALSE) ) )","v":""},{"$f":"IF(AND(TRIM(CN17)=\"\",TRIM(CN18)=\"\"),\"\",CN17+CN18)","v":1302.6210000000001},null,null,null,null,{"$f":"IF(AND(TRIM(CS17)=\"\",TRIM(CS18)=\"\"),\"\",CS17+CS18)","v":7033.1980000000003},null,null,null,null,{"$f":"IF(AND(TRIM(CX17)=\"\",TRIM(CX18)=\"\"),\"\",CX17+CX18)","v":2.5000000000000001E-2},null,null,null,null,{"$f":"IF(AND(TRIM(DC17)=\"\",TRIM(DC18)=\"\"),\"\",DC17+DC18)","v":651.298},null,null,null,{"$f":"IF(TRIM(DF19)=\"\", \"\", IF(VLOOKUP(DF19,#REF!,2,FALSE)=0,\"\",VLOOKUP(DF19,#REF!,2,FALSE) ) )","v":""},{"$f":"IF(AND(TRIM(DH17)=\"\", TRIM(DH18)=\"\"), \"\", SUM(DH17,DH18) )","v":26017.581999999999},null,null,null,{"$f":"IF(TRIM(DK19)=\"\", \"\", IF(VLOOKUP(DK19,#REF!,2,FALSE)=0,\"\",VLOOKUP(DK19,#REF!,2,FALSE) ) )","v":""}]
[null,"W032","W032","Industrial effluent sludges ","HAZ","Hazardous ",0.216,null,null,null,null,80.352000000000004,null,null,null,null,7.1740000000000004,null,null,null,null,14.411,null,null,null,null,0,null,null,null,null,0.17,null,null,null,null,81.988,null,null,null,null,128.91499999999999,null,null,null,null,11.284000000000001,null,null,null,null,137.34800000000001,null,null,null,null,909.23099999999999,null,null,null,null,4.5199999999999996,null,null,null,{"$f":"IF(TRIM(BM20)=\"\", \"\", IF(VLOOKUP(BM20,#REF!,2,FALSE)=0,\"\",VLOOKUP(BM20,#REF!,2,FALSE) ) )","v":""},{"$f":"IF(AND(TRIM(Q20)=\"\",TRIM(V20)=\"\",TRIM(AA20)=\"\", TRIM(AF20)=\"\", TRIM(AK20)=\"\", TRIM(AP20)=\"\", TRIM(AU20)=\"\", TRIM(AZ20)=\"\", TRIM(BE20)=\"\", TRIM(BJ20)=\"\"),\"\",Q20+V20+AA20+AF20+AK20+AP20+AU20+AZ20+BE20+BJ20)","v":1295.0409999999999},null,null,null,{"$f":"IF(TRIM(BR20)=\"\", \"\", IF(VLOOKUP(BR20,#REF!,2,FALSE)=0,\"\",VLOOKUP(BR20,#REF!,2,FALSE) ) )","v":""},5.165,null,null,null,null,38.204999999999998,null,null,null,null,19.408000000000001,null,null,null,{"$f":"IF(TRIM(CG20)=\"\", \"\", IF(VLOOKUP(CG20,#REF!,2,FALSE)=0,\"\",VLOOKUP(CG20,#REF!,2,FALSE) ) )","v":""},{"$f":"IF(AND(TRIM(BY20)=\"\",TRIM(CD20)=\"\"),\"\",BY20+CD20)","v":57.613},null,null,null,{"$f":"IF(TRIM(CL20)=\"\", \"\", IF(VLOOKUP(CL20,#REF!,2,FALSE)=0,\"\",VLOOKUP(CL20,#REF!,2,FALSE) ) )","v":""},4.1529999999999996,null,null,null,null,78.572000000000003,null,null,null,null,0,null,null,null,null,0,null,null,null,{"$f":"IF(TRIM(DF20)=\"\", \"\", IF(VLOOKUP(DF20,#REF!,2,FALSE)=0,\"\",VLOOKUP(DF20,#REF!,2,FALSE) ) )","v":""},{"$f":"IF(AND(TRIM(G20)=\"\",TRIM(L20)=\"\",TRIM(BO20)=\"\",TRIM(BT20)=\"\",TRIM(CI20)=\"\",TRIM(CN20)=\"\",TRIM(CS20)=\"\",TRIM(CX20)=\"\",TRIM(DC20)=\"\"),\"\",SUM(G20,L20,BO20,BT20,CI20,CN20,CS20,CX20,DC20))","v":1521.1120000000001},null,null,null,{"$f":"IF(TRIM(DK20)=\"\", \"\", IF(VLOOKUP(DK20,#REF!,2,FALSE)=0,\"\",VLOOKUP(DK20,#REF!,2,FALSE) ) )","v":""}]
[null,null,"W032",null,"NHAZ","Non-hazardous",0,null,null,null,null,95.99,null,null,null,null,173.596,null,null,null,null,93.021000000000001,null,null,null,null,0,null,null,null,null,3053.3850000000002,null,null,null,null,0,null,null,null,null,141.328,null,null,null,null,3.5760000000000001,null,null,null,null,10.353999999999999,null,null,null,null,4.7009999999999996,null,null,null,null,8.0000000000000002E-3,null,null,null,{"$f":"IF(TRIM(BM21)=\"\", \"\", IF(VLOOKUP(BM21,#REF!,2,FALSE)=0,\"\",VLOOKUP(BM21,#REF!,2,FALSE) ) )","v":""},{"$f":"IF(AND(TRIM(Q21)=\"\",TRIM(V21)=\"\",TRIM(AA21)=\"\", TRIM(AF21)=\"\", TRIM(AK21)=\"\", TRIM(AP21)=\"\", TRIM(AU21)=\"\", TRIM(AZ21)=\"\", TRIM(BE21)=\"\", TRIM(BJ21)=\"\"),\"\",Q21+V21+AA21+AF21+AK21+AP21+AU21+AZ21+BE21+BJ21)","v":3479.9690000000001},null,null,null,{"$f":"IF(TRIM(BR21)=\"\", \"\", IF(VLOOKUP(BR21,#REF!,2,FALSE)=0,\"\",VLOOKUP(BR21,#REF!,2,FALSE) ) )","v":""},91.356999999999999,null,null,null,null,48.844000000000001,null,null,null,null,0,null,null,null,{"$f":"IF(TRIM(CG21)=\"\", \"\", IF(VLOOKUP(CG21,#REF!,2,FALSE)=0,\"\",VLOOKUP(CG21,#REF!,2,FALSE) ) )","v":""},{"$f":"IF(AND(TRIM(BY21)=\"\",TRIM(CD21)=\"\"),\"\",BY21+CD21)","v":48.844000000000001},null,null,null,{"$f":"IF(TRIM(CL21)=\"\", \"\", IF(VLOOKUP(CL21,#REF!,2,FALSE)=0,\"\",VLOOKUP(CL21,#REF!,2,FALSE) ) )","v":""},2.3109999999999999,null,null,null,null,23.609000000000002,null,null,null,null,0,null,null,null,null,0,null,null,null,{"$f":"IF(TRIM(DF21)=\"\", \"\", IF(VLOOKUP(DF21,#REF!,2,FALSE)=0,\"\",VLOOKUP(DF21,#REF!,2,FALSE) ) )","v":""},{"$f":"IF(AND(TRIM(G21)=\"\",TRIM(L21)=\"\",TRIM(BO21)=\"\",TRIM(BT21)=\"\",TRIM(CI21)=\"\",TRIM(CN21)=\"\",TRIM(CS21)=\"\",TRIM(CX21)=\"\",TRIM(DC21)=\"\"),\"\",SUM(G21,L21,BO21,BT21,CI21,CN21,CS21,CX21,DC21))","v":3742.08},null,null,null,{"$f":"IF(TRIM(DK21)=\"\", \"\", IF(VLOOKUP(DK21,#REF!,2,FALSE)=0,\"\",VLOOKUP(DK21,#REF!,2,FALSE) ) )","v":""}]
[null,null,"W032",null,"HAZ_NHAZ","Total",{"$f":"IF(AND(TRIM(G20)=\"\",TRIM(G21)=\"\"),\"\",G20+G21)","v":0.216},null,null,null,null,{"$f":"IF(AND(TRIM(L20)=\"\",TRIM(L21)=\"\"),\"\",L20+L21)","v":176.34200000000001},null,null,null,null,{"$f":"IF(AND(TRIM(Q20)=\"\",TRIM(Q21)=\"\"),\"\",Q20+Q21)","v":180.77},null,null,null,null,{"$f":"IF(AND(TRIM(V20)=\"\",TRIM(V21)=\"\"),\"\",V20+V21)","v":107.432},null,null,null,null,{"$f":"IF(AND(TRIM(AA20)=\"\",TRIM(AA21)=\"\"),\"\",AA20+AA21)","v":0},null,null,null,null,{"$f":"IF(AND(TRIM(AF20)=\"\",TRIM(AF21)=\"\"),\"\",AF20+AF21)","v":3053.5549999999998},null,null,null,null,{"$f":"IF(AND(TRIM(AK20)=\"\",TRIM(AK21)=\"\"),\"\",AK20+AK21)","v":81.988},null,null,null,null,{"$f":"IF(AND(TRIM(AP20)=\"\",TRIM(AP21)=\"\"),\"\",AP20+AP21)","v":270.24299999999999},null,null,null,null,{"$f":"IF(AND(TRIM(AU20)=\"\",TRIM(AU21)=\"\"),\"\",AU20+AU21)","v":14.86},null,null,null,null,{"$f":"IF(AND(TRIM(AZ20)=\"\",TRIM(AZ21)=\"\"),\"\",AZ20+AZ21)","v":147.702},null,null,null,null,{"$f":"IF(AND(TRIM(BE20)=\"\",TRIM(BE21)=\"\"),\"\",BE20+BE21)","v":913.93200000000002},null,null,null,null,{"$f":"IF(AND(TRIM(BJ20)=\"\",TRIM(BJ21)=\"\"),\"\",BJ20+BJ21)","v":4.5279999999999996},null,null,null,{"$f":"IF(TRIM(BM22)=\"\", \"\", IF(VLOOKUP(BM22,#REF!,2,FALSE)=0,\"\",VLOOKUP(BM22,#REF!,2,FALSE) ) )","v":""},{"$f":"IF(AND(TRIM(BO20)=\"\", TRIM(BO21)=\"\"), \"\", (IF(ISNUMBER(BO20),BO20,0)+IF(ISNUMBER(BO21),BO21,0)))","v":4775.01},null,null,null,{"$f":"IF(TRIM(BR22)=\"\", \"\", IF(VLOOKUP(BR22,#REF!,2,FALSE)=0,\"\",VLOOKUP(BR22,#REF!,2,FALSE) ) )","v":""},{"$f":"IF(AND(TRIM(BT20)=\"\",TRIM(BT21)=\"\"),\"\",BT20+BT21)","v":96.522000000000006},null,null,null,null,{"$f":"IF(AND(TRIM(BY20)=\"\",TRIM(BY21)=\"\"),\"\",BY20+BY21)","v":87.049000000000007},null,null,null,null,{"$f":"IF(AND(TRIM(CD20)=\"\",TRIM(CD21)=\"\"),\"\",CD20+CD21)","v":19.408000000000001},null,null,null,{"$f":"IF(TRIM(CG22)=\"\", \"\", IF(VLOOKUP(CG22,#REF!,2,FALSE)=0,\"\",VLOOKUP(CG22,#REF!,2,FALSE) ) )","v":""},{"$f":"IF(AND(TRIM(CI20)=\"\", TRIM(CI21)=\"\"), \"\", (IF(ISNUMBER(CI20),CI20,0)+IF(ISNUMBER(CI21),CI21,0)))","v":106.45699999999999},null,null,null,{"$f":"IF(TRIM(CL22)=\"\", \"\", IF(VLOOKUP(CL22,#REF!,2,FALSE)=0,\"\",VLOOKUP(CL22,#REF!,2,FALSE) ) )","v":""},{"$f":"IF(AND(TRIM(CN20)=\"\",TRIM(CN21)=\"\"),\"\",CN20+CN21)","v":6.4640000000000004},null,null,null,null,{"$f":"IF(AND(TRIM(CS20)=\"\",TRIM(CS21)=\"\"),\"\",CS20+CS21)","v":102.181},null,null,null,null,{"$f":"IF(AND(TRIM(CX20)=\"\",TRIM(CX21)=\"\"),\"\",CX20+CX21)","v":0},null,null,null,null,{"$f":"IF(AND(TRIM(DC20)=\"\",TRIM(DC21)=\"\"),\"\",DC20+DC21)","v":0},null,null,null,{"$f":"IF(TRIM(DF22)=\"\", \"\", IF(VLOOKUP(DF22,#REF!,2,FALSE)=0,\"\",VLOOKUP(DF22,#REF!,2,FALSE) ) )","v":""},{"$f":"IF(AND(TRIM(DH20)=\"\", TRIM(DH21)=\"\"), \"\", SUM(DH20,DH21) )","v":5263.192},null,null,null,{"$f":"IF(TRIM(DK22)=\"\", \"\", IF(VLOOKUP(DK22,#REF!,2,FALSE)=0,\"\",VLOOKUP(DK22,#REF!,2,FALSE) ) )","v":""}]
[null,"W033","W033","Sludges and liquid wastes from waste treatment","HAZ","Hazardous ",0,null,null,null,null,0,null,null,null,null,0,null,null,null,null,0,null,null,null,null,0,null,null,null,null,0,null,null,null,null,0,null,null,null,null,0,null,null,null,null,0,null,null,null,null,443.459,null,null,null,null,0,null,null,null,null,0,null,null,null,{"$f":"IF(TRIM(BM23)=\"\", \"\", IF(VLOOKUP(BM23,#REF!,2,FALSE)=0,\"\",VLOOKUP(BM23,#REF!,2,FALSE) ) )","v":""},{"$f":"IF(AND(TRIM(Q23)=\"\",TRIM(V23)=\"\",TRIM(AA23)=\"\", TRIM(AF23)=\"\", TRIM(AK23)=\"\", TRIM(AP23)=\"\", TRIM(AU23)=\"\", TRIM(AZ23)=\"\", TRIM(BE23)=\"\", TRIM(BJ23)=\"\"),\"\",Q23+V23+AA23+AF23+AK23+AP23+AU23+AZ23+BE23+BJ23)","v":443.459},null,null,null,{"$f":"IF(TRIM(BR23)=\"\", \"\", IF(VLOOKUP(BR23,#REF!,2,FALSE)=0,\"\",VLOOKUP(BR23,#REF!,2,FALSE) ) )","v":""},0,null,null,null,null,1.1120000000000001,null,null,null,null,3391.7719999999999,null,null,null,{"$f":"IF(TRIM(CG23)=\"\", \"\", IF(VLOOKUP(CG23,#REF!,2,FALSE)=0,\"\",VLOOKUP(CG23,#REF!,2,FALSE) ) )","v":""},{"$f":"IF(AND(TRIM(BY23)=\"\",TRIM(CD23)=\"\"),\"\",BY23+CD23)","v":3392.884},null,null,null,{"$f":"IF(TRIM(CL23)=\"\", \"\", IF(VLOOKUP(CL23,#REF!,2,FALSE)=0,\"\",VLOOKUP(CL23,#REF!,2,FALSE) ) )","v":""},0,null,null,null,null,2.895,null,null,null,null,0,null,null,null,null,0,null,null,null,{"$f":"IF(TRIM(DF23)=\"\", \"\", IF(VLOOKUP(DF23,#REF!,2,FALSE)=0,\"\",VLOOKUP(DF23,#REF!,2,FALSE) ) )","v":""},{"$f":"IF(AND(TRIM(G23)=\"\",TRIM(L23)=\"\",TRIM(BO23)=\"\",TRIM(BT23)=\"\",TRIM(CI23)=\"\",TRIM(CN23)=\"\",TRIM(CS23)=\"\",TRIM(CX23)=\"\",TRIM(DC23)=\"\"),\"\",SUM(G23,L23,BO23,BT23,CI23,CN23,CS23,CX23,DC23))","v":3839.2379999999998},null,null,null,{"$f":"IF(TRIM(DK23)=\"\", \"\", IF(VLOOKUP(DK23,#REF!,2,FALSE)=0,\"\",VLOOKUP(DK23,#REF!,2,FALSE) ) )","v":""}]
[null,null,"W033",null,"NHAZ","Non-hazardous",0,null,null,null,null,0,null,null,null,null,6.04,null,null,null,null,0,null,null,null,null,0,null,null,null,null,0,null,null,null,null,0,null,null,null,null,8.8409999999999993,null,null,null,null,0,null,null,null,null,351.47800000000001,null,null,null,null,0,null,null,null,null,0,null,null,null,{"$f":"IF(TRIM(BM24)=\"\", \"\", IF(VLOOKUP(BM24,#REF!,2,FALSE)=0,\"\",VLOOKUP(BM24,#REF!,2,FALSE) ) )","v":""},{"$f":"IF(AND(TRIM(Q24)=\"\",TRIM(V24)=\"\",TRIM(AA24)=\"\", TRIM(AF24)=\"\", TRIM(AK24)=\"\", TRIM(AP24)=\"\", TRIM(AU24)=\"\", TRIM(AZ24)=\"\", TRIM(BE24)=\"\", TRIM(BJ24)=\"\"),\"\",Q24+V24+AA24+AF24+AK24+AP24+AU24+AZ24+BE24+BJ24)","v":366.35899999999998},null,null,null,{"$f":"IF(TRIM(BR24)=\"\", \"\", IF(VLOOKUP(BR24,#REF!,2,FALSE)=0,\"\",VLOOKUP(BR24,#REF!,2,FALSE) ) )","v":""},0,null,null,null,null,78.284000000000006,null,null,null,null,13.7,null,null,null,{"$f":"IF(TRIM(CG24)=\"\", \"\", IF(VLOOKUP(CG24,#REF!,2,FALSE)=0,\"\",VLOOKUP(CG24,#REF!,2,FALSE) ) )","v":""},{"$f":"IF(AND(TRIM(BY24)=\"\",TRIM(CD24)=\"\"),\"\",BY24+CD24)","v":91.983999999999995},null,null,null,{"$f":"IF(TRIM(CL24)=\"\", \"\", IF(VLOOKUP(CL24,#REF!,2,FALSE)=0,\"\",VLOOKUP(CL24,#REF!,2,FALSE) ) )","v":""},0,null,null,null,null,14.72,null,null,null,null,0,null,null,null,null,0,null,null,null,{"$f":"IF(TRIM(DF24)=\"\", \"\", IF(VLOOKUP(DF24,#REF!,2,FALSE)=0,\"\",VLOOKUP(DF24,#REF!,2,FALSE) ) )","v":""},{"$f":"IF(AND(TRIM(G24)=\"\",TRIM(L24)=\"\",TRIM(BO24)=\"\",TRIM(BT24)=\"\",TRIM(CI24)=\"\",TRIM(CN24)=\"\",TRIM(CS24)=\"\",TRIM(CX24)=\"\",TRIM(DC24)=\"\"),\"\",SUM(G24,L24,BO24,BT24,CI24,CN24,CS24,CX24,DC24))","v":473.06299999999999},null,null,null,{"$f":"IF(TRIM(DK24)=\"\", \"\", IF(VLOOKUP(DK24,#REF!,2,FALSE)=0,\"\",VLOOKUP(DK24,#REF!,2,FALSE) ) )","v":""}]
[null,null,"W033",null,"HAZ_NHAZ","Total",{"$f":"IF(AND(TRIM(G23)=\"\",TRIM(G24)=\"\"),\"\",G23+G24)","v":0},null,null,null,null,{"$f":"IF(AND(TRIM(L23)=\"\",TRIM(L24)=\"\"),\"\",L23+L24)","v":0},null,null,null,null,{"$f":"IF(AND(TRIM(Q23)=\"\",TRIM(Q24)=\"\"),\"\",Q23+Q24)","v":6.04},null,null,null,null,{"$f":"IF(AND(TRIM(V23)=\"\",TRIM(V24)=\"\"),\"\",V23+V24)","v":0},null,null,null,null,{"$f":"IF(AND(TRIM(AA23)=\"\",TRIM(AA24)=\"\"),\"\",AA23+AA24)","v":0},null,null,null,null,{"$f":"IF(AND(TRIM(AF23)=\"\",TRIM(AF24)=\"\"),\"\",AF23+AF24)","v":0},null,null,null,null,{"$f":"IF(AND(TRIM(AK23)=\"\",TRIM(AK24)=\"\"),\"\",AK23+AK24)","v":0},null,null,null,null,{"$f":"IF(AND(TRIM(AP23)=\"\",TRIM(AP24)=\"\"),\"\",AP23+AP24)","v":8.8409999999999993},null,null,null,null,{"$f":"IF(AND(TRIM(AU23)=\"\",TRIM(AU24)=\"\"),\"\",AU23+AU24)","v":0},null,null,null,null,{"$f":"IF(AND(TRIM(AZ23)=\"\",TRIM(AZ24)=\"\"),\"\",AZ23+AZ24)","v":794.93700000000001},null,null,null,null,{"$f":"IF(AND(TRIM(BE23)=\"\",TRIM(BE24)=\"\"),\"\",BE23+BE24)","v":0},null,null,null,null,{"$f":"IF(AND(TRIM(BJ23)=\"\",TRIM(BJ24)=\"\"),\"\",BJ23+BJ24)","v":0},null,null,null,{"$f":"IF(TRIM(BM25)=\"\", \"\", IF(VLOOKUP(BM25,#REF!,2,FALSE)=0,\"\",VLOOKUP(BM25,#REF!,2,FALSE) ) )","v":""},{"$f":"IF(AND(TRIM(BO23)=\"\", TRIM(BO24)=\"\"), \"\", (IF(ISNUMBER(BO23),BO23,0)+IF(ISNUMBER(BO24),BO24,0)))","v":809.81799999999998},null,null,null,{"$f":"IF(TRIM(BR25)=\"\", \"\", IF(VLOOKUP(BR25,#REF!,2,FALSE)=0,\"\",VLOOKUP(BR25,#REF!,2,FALSE) ) )","v":""},{"$f":"IF(AND(TRIM(BT23)=\"\",TRIM(BT24)=\"\"),\"\",BT23+BT24)","v":0},null,null,null,null,{"$f":"IF(AND(TRIM(BY23)=\"\",TRIM(BY24)=\"\"),\"\",BY23+BY24)","v":79.396000000000001},null,null,null,null,{"$f":"IF(AND(TRIM(CD23)=\"\",TRIM(CD24)=\"\"),\"\",CD23+CD24)","v":3405.4720000000002},null,null,null,{"$f":"IF(TRIM(CG25)=\"\", \"\", IF(VLOOKUP(CG25,#REF!,2,FALSE)=0,\"\",VLOOKUP(CG25,#REF!,2,FALSE) ) )","v":""},{"$f":"IF(AND(TRIM(CI23)=\"\", TRIM(CI24)=\"\"), \"\", (IF(ISNUMBER(CI23),CI23,0)+IF(ISNUMBER(CI24),CI24,0)))","v":3484.8679999999999},null,null,null,{"$f":"IF(TRIM(CL25)=\"\", \"\", IF(VLOOKUP(CL25,#REF!,2,FALSE)=0,\"\",VLOOKUP(CL25,#REF!,2,FALSE) ) )","v":""},{"$f":"IF(AND(TRIM(CN23)=\"\",TRIM(CN24)=\"\"),\"\",CN23+CN24)","v":0},null,null,null,null,{"$f":"IF(AND(TRIM(CS23)=\"\",TRIM(CS24)=\"\"),\"\",CS23+CS24)","v":17.614999999999998},null,null,null,null,{"$f":"IF(AND(TRIM(CX23)=\"\",TRIM(CX24)=\"\"),\"\",CX23+CX24)","v":0},null,null,null,null,{"$f":"IF(AND(TRIM(DC23)=\"\",TRIM(DC24)=\"\"),\"\",DC23+DC24)","v":0},null,null,null,{"$f":"IF(TRIM(DF25)=\"\", \"\", IF(VLOOKUP(DF25,#REF!,2,FALSE)=0,\"\",VLOOKUP(DF25,#REF!,2,FALSE) ) )","v":""},{"$f":"IF(AND(TRIM(DH23)=\"\", TRIM(DH24)=\"\"), \"\", SUM(DH23,DH24) )","v":4312.3010000000004},null,null,null,{"$f":"IF(TRIM(DK25)=\"\", \"\", IF(VLOOKUP(DK25,#REF!,2,FALSE)=0,\"\",VLOOKUP(DK25,#REF!,2,FALSE) ) )","v":""}]
[null,"W05","W05","Health care and biological wastes ","HAZ","Hazardous ",7.4649999999999999,null,null,null,null,0,null,null,null,null,11.042,null,null,null,null,0,null,null,null,null,0,null,null,null,null,0,null,null,null,null,0,null,null,null,null,28.774000000000001,null,null,null,null,0,null,null,null,null,0,null,null,null,null,0.04,null,null,null,null,0,null,null,null,{"$f":"IF(TRIM(BM26)=\"\", \"\", IF(VLOOKUP(BM26,#REF!,2,FALSE)=0,\"\",VLOOKUP(BM26,#REF!,2,FALSE) ) )","v":""},{"$f":"IF(AND(TRIM(Q26)=\"\",TRIM(V26)=\"\",TRIM(AA26)=\"\", TRIM(AF26)=\"\", TRIM(AK26)=\"\", TRIM(AP26)=\"\", TRIM(AU26)=\"\", TRIM(AZ26)=\"\", TRIM(BE26)=\"\", TRIM(BJ26)=\"\"),\"\",Q26+V26+AA26+AF26+AK26+AP26+AU26+AZ26+BE26+BJ26)","v":39.856000000000002},null,null,null,{"$f":"IF(TRIM(BR26)=\"\", \"\", IF(VLOOKUP(BR26,#REF!,2,FALSE)=0,\"\",VLOOKUP(BR26,#REF!,2,FALSE) ) )","v":""},0.28299999999999997,null,null,null,null,0.60799999999999998,null,null,null,null,6.0000000000000001E-3,null,null,null,{"$f":"IF(TRIM(CG26)=\"\", \"\", IF(VLOOKUP(CG26,#REF!,2,FALSE)=0,\"\",VLOOKUP(CG26,#REF!,2,FALSE) ) )","v":""},{"$f":"IF(AND(TRIM(BY26)=\"\",TRIM(CD26)=\"\"),\"\",BY26+CD26)","v":0.61399999999999999},null,null,null,{"$f":"IF(TRIM(CL26)=\"\", \"\", IF(VLOOKUP(CL26,#REF!,2,FALSE)=0,\"\",VLOOKUP(CL26,#REF!,2,FALSE) ) )","v":""},0,null,null,null,null,5920.0320000000002,null,null,null,null,0,null,null,null,null,0,null,null,null,{"$f":"IF(TRIM(DF26)=\"\", \"\", IF(VLOOKUP(DF26,#REF!,2,FALSE)=0,\"\",VLOOKUP(DF26,#REF!,2,FALSE) ) )","v":""},{"$f":"IF(AND(TRIM(G26)=\"\",TRIM(L26)=\"\",TRIM(BO26)=\"\",TRIM(BT26)=\"\",TRIM(CI26)=\"\",TRIM(CN26)=\"\",TRIM(CS26)=\"\",TRIM(CX26)=\"\",TRIM(DC26)=\"\"),\"\",SUM(G26,L26,BO26,BT26,CI26,CN26,CS26,CX26,DC26))","v":5968.25},null,null,null,{"$f":"IF(TRIM(DK26)=\"\", \"\", IF(VLOOKUP(DK26,#REF!,2,FALSE)=0,\"\",VLOOKUP(DK26,#REF!,2,FALSE) ) )","v":""}]
[null,null,"W05",null,"NHAZ","Non-hazardous",0.4,null,null,null,null,0,null,null,null,null,7.9660000000000002,null,null,null,null,0,null,null,null,null,0,null,null,null,null,0,null,null,null,null,0,null,null,null,null,11.911,null,null,null,null,0,null,null,null,null,0,null,null,null,null,4.2999999999999997E-2,null,null,null,null,0,null,null,null,{"$f":"IF(TRIM(BM27)=\"\", \"\", IF(VLOOKUP(BM27,#REF!,2,FALSE)=0,\"\",VLOOKUP(BM27,#REF!,2,FALSE) ) )","v":""},{"$f":"IF(AND(TRIM(Q27)=\"\",TRIM(V27)=\"\",TRIM(AA27)=\"\", TRIM(AF27)=\"\", TRIM(AK27)=\"\", TRIM(AP27)=\"\", TRIM(AU27)=\"\", TRIM(AZ27)=\"\", TRIM(BE27)=\"\", TRIM(BJ27)=\"\"),\"\",Q27+V27+AA27+AF27+AK27+AP27+AU27+AZ27+BE27+BJ27)","v":19.920000000000002},null,null,null,{"$f":"IF(TRIM(BR27)=\"\", \"\", IF(VLOOKUP(BR27,#REF!,2,FALSE)=0,\"\",VLOOKUP(BR27,#REF!,2,FALSE) ) )","v":""},0,null,null,null,null,0,null,null,null,null,0,null,null,null,{"$f":"IF(TRIM(CG27)=\"\", \"\", IF(VLOOKUP(CG27,#REF!,2,FALSE)=0,\"\",VLOOKUP(CG27,#REF!,2,FALSE) ) )","v":""},{"$f":"IF(AND(TRIM(BY27)=\"\",TRIM(CD27)=\"\"),\"\",BY27+CD27)","v":0},null,null,null,{"$f":"IF(TRIM(CL27)=\"\", \"\", IF(VLOOKUP(CL27,#REF!,2,FALSE)=0,\"\",VLOOKUP(CL27,#REF!,2,FALSE) ) )","v":""},0,null,null,null,null,877.4,null,null,null,null,0,null,null,null,null,2.9000000000000001E-2,null,null,null,{"$f":"IF(TRIM(DF27)=\"\", \"\", IF(VLOOKUP(DF27,#REF!,2,FALSE)=0,\"\",VLOOKUP(DF27,#REF!,2,FALSE) ) )","v":""},{"$f":"IF(AND(TRIM(G27)=\"\",TRIM(L27)=\"\",TRIM(BO27)=\"\",TRIM(BT27)=\"\",TRIM(CI27)=\"\",TRIM(CN27)=\"\",TRIM(CS27)=\"\",TRIM(CX27)=\"\",TRIM(DC27)=\"\"),\"\",SUM(G27,L27,BO27,BT27,CI27,CN27,CS27,CX27,DC27))","v":897.74900000000002},null,null,null,{"$f":"IF(TRIM(DK27)=\"\", \"\", IF(VLOOKUP(DK27,#REF!,2,FALSE)=0,\"\",VLOOKUP(DK27,#REF!,2,FALSE) ) )","v":""}]
[null,null,"W05",null,"HAZ_NHAZ","Total",{"$f":"IF(AND(TRIM(G26)=\"\",TRIM(G27)=\"\"),\"\",G26+G27)","v":7.8650000000000002},null,null,null,null,{"$f":"IF(AND(TRIM(L26)=\"\",TRIM(L27)=\"\"),\"\",L26+L27)","v":0},null,null,null,null,{"$f":"IF(AND(TRIM(Q26)=\"\",TRIM(Q27)=\"\"),\"\",Q26+Q27)","v":19.007999999999999},null,null,null,null,{"$f":"IF(AND(TRIM(V26)=\"\",TRIM(V27)=\"\"),\"\",V26+V27)","v":0},null,null,null,null,{"$f":"IF(AND(TRIM(AA26)=\"\",TRIM(AA27)=\"\"),\"\",AA26+AA27)","v":0},null,null,null,null,{"$f":"IF(AND(TRIM(AF26)=\"\",TRIM(AF27)=\"\"),\"\",AF26+AF27)","v":0},null,null,null,null,{"$f":"IF(AND(TRIM(AK26)=\"\",TRIM(AK27)=\"\"),\"\",AK26+AK27)","v":0},null,null,null,null,{"$f":"IF(AND(TRIM(AP26)=\"\",TRIM(AP27)=\"\"),\"\",AP26+AP27)","v":40.685000000000002},null,null,null,null,{"$f":"IF(AND(TRIM(AU26)=\"\",TRIM(AU27)=\"\"),\"\",AU26+AU27)","v":0},null,null,null,null,{"$f":"IF(AND(TRIM(AZ26)=\"\",TRIM(AZ27)=\"\"),\"\",AZ26+AZ27)","v":0},null,null,null,null,{"$f":"IF(AND(TRIM(BE26)=\"\",TRIM(BE27)=\"\"),\"\",BE26+BE27)","v":8.3000000000000004E-2},null,null,null,null,{"$f":"IF(AND(TRIM(BJ26)=\"\",TRIM(BJ27)=\"\"),\"\",BJ26+BJ27)","v":0},null,null,null,{"$f":"IF(TRIM(BM28)=\"\", \"\", IF(VLOOKUP(BM28,#REF!,2,FALSE)=0,\"\",VLOOKUP(BM28,#REF!,2,FALSE) ) )","v":""},{"$f":"IF(AND(TRIM(BO26)=\"\", TRIM(BO27)=\"\"), \"\", (IF(ISNUMBER(BO26),BO26,0)+IF(ISNUMBER(BO27),BO27,0)))","v":59.776000000000003},null,null,null,{"$f":"IF(TRIM(BR28)=\"\", \"\", IF(VLOOKUP(BR28,#REF!,2,FALSE)=0,\"\",VLOOKUP(BR28,#REF!,2,FALSE) ) )","v":""},{"$f":"IF(AND(TRIM(BT26)=\"\",TRIM(BT27)=\"\"),\"\",BT26+BT27)","v":0.28299999999999997},null,null,null,null,{"$f":"IF(AND(TRIM(BY26)=\"\",TRIM(BY27)=\"\"),\"\",BY26+BY27)","v":0.60799999999999998},null,null,null,null,{"$f":"IF(AND(TRIM(CD26)=\"\",TRIM(CD27)=\"\"),\"\",CD26+CD27)","v":6.0000000000000001E-3},null,null,null,{"$f":"IF(TRIM(CG28)=\"\", \"\", IF(VLOOKUP(CG28,#REF!,2,FALSE)=0,\"\",VLOOKUP(CG28,#REF!,2,FALSE) ) )","v":""},{"$f":"IF(AND(TRIM(CI26)=\"\", TRIM(CI27)=\"\"), \"\", (IF(ISNUMBER(CI26),CI26,0)+IF(ISNUMBER(CI27),CI27,0)))","v":0.61399999999999999},null,null,null,{"$f":"IF(TRIM(CL28)=\"\", \"\", IF(VLOOKUP(CL28,#REF!,2,FALSE)=0,\"\",VLOOKUP(CL28,#REF!,2,FALSE) ) )","v":""},{"$f":"IF(AND(TRIM(CN26)=\"\",TRIM(CN27)=\"\"),\"\",CN26+CN27)","v":0},null,null,null,null,{"$f":"IF(AND(TRIM(CS26)=\"\",TRIM(CS27)=\"\"),\"\",CS26+CS27)","v":6797.4319999999998},null,null,null,null,{"$f":"IF(AND(TRIM(CX26)=\"\",TRIM(CX27)=\"\"),\"\",CX26+CX27)","v":0},null,null,null,null,{"$f":"IF(AND(TRIM(DC26)=\"\",TRIM(DC27)=\"\"),\"\",DC26+DC27)","v":2.9000000000000001E-2},null,null,null,{"$f":"IF(TRIM(DF28)=\"\", \"\", IF(VLOOKUP(DF28,#REF!,2,FALSE)=0,\"\",VLOOKUP(DF28,#REF!,2,FALSE) ) )","v":""},{"$f":"IF(AND(TRIM(DH26)=\"\", TRIM(DH27)=\"\"), \"\", SUM(DH26,DH27) )","v":6865.9989999999998},null,null,null,{"$f":"IF(TRIM(DK28)=\"\", \"\", IF(VLOOKUP(DK28,#REF!,2,FALSE)=0,\"\",VLOOKUP(DK28,#REF!,2,FALSE) ) )","v":""}]
[null,"W061",null,"Metallic wastes, ferrous ",null,"Not applicable",0,null,null,null,null,0,null,null,null,null,0,null,null,null,null,0,null,null,null,null,0,null,null,null,null,0,null,null,null,null,0,null,null,null,null,0,null,null,null,null,0,null,null,null,null,0,null,null,null,null,0,null,null,null,null,0,null,null,null,null,null,null,null,null,null,0,null,null,null,null,0,null,null,null,null,0,null,null,null,null,null,null,null,null,null,0,null,null,null,null,0,null,null,null,null,0,null,null,null,null,0]
[null,null,"W061",null,"NHAZ","Non-hazardous",25.56,null,null,null,null,31.79,null,null,null,null,45.968000000000004,null,null,null,null,9.19,null,null,null,null,193.90299999999999,null,null,null,null,5.6509999999999998,null,null,null,null,0,null,null,null,null,790.89800000000002,null,null,null,null,517.86199999999997,null,null,null,null,37447.5,null,null,null,null,26536.957999999999,null,null,null,null,7496.3850000000002,null,null,null,{"$f":"IF(TRIM(BM30)=\"\", \"\", IF(VLOOKUP(BM30,#REF!,2,FALSE)=0,\"\",VLOOKUP(BM30,#REF!,2,FALSE) ) )","v":""},{"$f":"IF(AND(TRIM(Q30)=\"\",TRIM(V30)=\"\",TRIM(AA30)=\"\", TRIM(AF30)=\"\", TRIM(AK30)=\"\", TRIM(AP30)=\"\", TRIM(AU30)=\"\", TRIM(AZ30)=\"\", TRIM(BE30)=\"\", TRIM(BJ30)=\"\"),\"\",Q30+V30+AA30+AF30+AK30+AP30+AU30+AZ30+BE30+BJ30)","v":73044.315000000002},null,null,null,{"$f":"IF(TRIM(BR30)=\"\", \"\", IF(VLOOKUP(BR30,#REF!,2,FALSE)=0,\"\",VLOOKUP(BR30,#REF!,2,FALSE) ) )","v":""},0.88600000000000001,null,null,null,null,0.94699999999999995,null,null,null,null,435366.66,null,null,null,{"$f":"IF(TRIM(CG30)=\"\", \"\", IF(VLOOKUP(CG30,#REF!,2,FALSE)=0,\"\",VLOOKUP(CG30,#REF!,2,FALSE) ) )","v":""},{"$f":"IF(AND(TRIM(BY30)=\"\",TRIM(CD30)=\"\"),\"\",BY30+CD30)","v":435367.60700000002},null,null,null,{"$f":"IF(TRIM(CL30)=\"\", \"\", IF(VLOOKUP(CL30,#REF!,2,FALSE)=0,\"\",VLOOKUP(CL30,#REF!,2,FALSE) ) )","v":""},200226.3,null,null,null,null,6198.8040000000001,null,null,null,null,1913.74,null,null,null,null,1091.002,null,null,null,{"$f":"IF(TRIM(DF30)=\"\", \"\", IF(VLOOKUP(DF30,#REF!,2,FALSE)=0,\"\",VLOOKUP(DF30,#REF!,2,FALSE) ) )","v":""},{"$f":"IF(AND(TRIM(G30)=\"\",TRIM(L30)=\"\",TRIM(BO30)=\"\",TRIM(BT30)=\"\",TRIM(CI30)=\"\",TRIM(CN30)=\"\",TRIM(CS30)=\"\",TRIM(CX30)=\"\",TRIM(DC30)=\"\"),\"\",SUM(G30,L30,BO30,BT30,CI30,CN30,CS30,CX30,DC30))","v":717900.00399999996},null,null,null,{"$f":"IF(TRIM(DK30)=\"\", \"\", IF(VLOOKUP(DK30,#REF!,2,FALSE)=0,\"\",VLOOKUP(DK30,#REF!,2,FALSE) ) )","v":""}]
[null,null,"W061",null,"HAZ_NHAZ","Total",{"$f":"IF(AND(TRIM(G29)=\"\",TRIM(G30)=\"\"),\"\",G29+G30)","v":25.56},null,null,null,null,{"$f":"IF(AND(TRIM(L29)=\"\",TRIM(L30)=\"\"),\"\",L29+L30)","v":31.79},null,null,null,null,{"$f":"IF(AND(TRIM(Q29)=\"\",TRIM(Q30)=\"\"),\"\",Q29+Q30)","v":45.968000000000004},null,null,null,null,{"$f":"IF(AND(TRIM(V29)=\"\",TRIM(V30)=\"\"),\"\",V29+V30)","v":9.19},null,null,null,null,{"$f":"IF(AND(TRIM(AA29)=\"\",TRIM(AA30)=\"\"),\"\",AA29+AA30)","v":193.90299999999999},null,null,null,null,{"$f":"IF(AND(TRIM(AF29)=\"\",TRIM(AF30)=\"\"),\"\",AF29+AF30)","v":5.6509999999999998},null,null,null,null,{"$f":"IF(AND(TRIM(AK29)=\"\",TRIM(AK30)=\"\"),\"\",AK29+AK30)","v":0},null,null,null,null,{"$f":"IF(AND(TRIM(AP29)=\"\",TRIM(AP30)=\"\"),\"\",AP29+AP30)","v":790.89800000000002},null,null,null,null,{"$f":"IF(AND(TRIM(AU29)=\"\",TRIM(AU30)=\"\"),\"\",AU29+AU30)","v":517.86199999999997},null,null,null,null,{"$f":"IF(AND(TRIM(AZ29)=\"\",TRIM(AZ30)=\"\"),\"\",AZ29+AZ30)","v":37447.5},null,null,null,null,{"$f":"IF(AND(TRIM(BE29)=\"\",TRIM(BE30)=\"\"),\"\",BE29+BE30)","v":26536.957999999999},null,null,null,null,{"$f":"IF(AND(TRIM(BJ29)=\"\",TRIM(BJ30)=\"\"),\"\",BJ29+BJ30)","v":7496.3850000000002},null,null,null,{"$f":"IF(TRIM(BM31)=\"\", \"\", IF(VLOOKUP(BM31,#REF!,2,FALSE)=0,\"\",VLOOKUP(BM31,#REF!,2,FALSE) ) )","v":""},{"$f":"IF(AND(TRIM(BO29)=\"\", TRIM(BO30)=\"\"), \"\", (IF(ISNUMBER(BO29),BO29,0)+IF(ISNUMBER(BO30),BO30,0)))","v":73044.315000000002},null,null,null,{"$f":"IF(TRIM(BR31)=\"\", \"\", IF(VLOOKUP(BR31,#REF!,2,FALSE)=0,\"\",VLOOKUP(BR31,#REF!,2,FALSE) ) )","v":""},{"$f":"IF(AND(TRIM(BT29)=\"\",TRIM(BT30)=\"\"),\"\",BT29+BT30)","v":0.88600000000000001},null,null,null,null,{"$f":"IF(AND(TRIM(BY29)=\"\",TRIM(BY30)=\"\"),\"\",BY29+BY30)","v":0.94699999999999995},null,null,null,null,{"$f":"IF(AND(TRIM(CD29)=\"\",TRIM(CD30)=\"\"),\"\",CD29+CD30)","v":435366.66},null,null,null,{"$f":"IF(TRIM(CG31)=\"\", \"\", IF(VLOOKUP(CG31,#REF!,2,FALSE)=0,\"\",VLOOKUP(CG31,#REF!,2,FALSE) ) )","v":""},{"$f":"IF(AND(TRIM(CI29)=\"\", TRIM(CI30)=\"\"), \"\", (IF(ISNUMBER(CI29),CI29,0)+IF(ISNUMBER(CI30),CI30,0)))","v":435367.60700000002},null,null,null,{"$f":"IF(TRIM(CL31)=\"\", \"\", IF(VLOOKUP(CL31,#REF!,2,FALSE)=0,\"\",VLOOKUP(CL31,#REF!,2,FALSE) ) )","v":""},{"$f":"IF(AND(TRIM(CN29)=\"\",TRIM(CN30)=\"\"),\"\",CN29+CN30)","v":200226.3},null,null,null,null,{"$f":"IF(AND(TRIM(CS29)=\"\",TRIM(CS30)=\"\"),\"\",CS29+CS30)","v":6198.8040000000001},null,null,null,null,{"$f":"IF(AND(TRIM(CX29)=\"\",TRIM(CX30)=\"\"),\"\",CX29+CX30)","v":1913.74},null,null,null,null,{"$f":"IF(AND(TRIM(DC29)=\"\",TRIM(DC30)=\"\"),\"\",DC29+DC30)","v":1091.002},null,null,null,{"$f":"IF(TRIM(DF31)=\"\", \"\", IF(VLOOKUP(DF31,#REF!,2,FALSE)=0,\"\",VLOOKUP(DF31,#REF!,2,FALSE) ) )","v":""},{"$f":"IF(AND(TRIM(DH29)=\"\", TRIM(DH30)=\"\"), \"\", SUM(DH29,DH30) )","v":717900.00399999996},null,null,null,{"$f":"IF(TRIM(DK31)=\"\", \"\", IF(VLOOKUP(DK31,#REF!,2,FALSE)=0,\"\",VLOOKUP(DK31,#REF!,2,FALSE) ) )","v":""}]
[null,"W062",null,"Metallic wastes, non-ferrous ",null,"Not applicable",0,null,null,null,null,0,null,null,null,null,0,null,null,null,null,0,null,null,null,null,0,null,null,null,null,0,null,null,null,null,0,null,null,null,null,0,null,null,null,null,0,null,null,null,null,0,null,null,null,null,0,null,null,null,null,0,null,null,null,null,null,null,null,null,null,0,null,null,null,null,0,null,null,null,null,0,null,null,null,null,null,null,null,null,null,0,null,null,null,null,0,null,null,null,null,0,null,null,null,null,0]
[null,null,"W062",null,"NHAZ","Non-hazardous",0,null,null,null,null,0,null,null,null,null,2.2599999999999998,null,null,null,null,0,null,null,null,null,3.2000000000000001E-2,null,null,null,null,269.024,null,null,null,null,0,null,null,null,null,43.823999999999998,null,null,null,null,9.0259999999999998,null,null,null,null,18360.942999999999,null,null,null,null,838.86400000000003,null,null,null,null,40.548999999999999,null,null,null,{"$f":"IF(TRIM(BM33)=\"\", \"\", IF(VLOOKUP(BM33,#REF!,2,FALSE)=0,\"\",VLOOKUP(BM33,#REF!,2,FALSE) ) )","v":""},{"$f":"IF(AND(TRIM(Q33)=\"\",TRIM(V33)=\"\",TRIM(AA33)=\"\", TRIM(AF33)=\"\", TRIM(AK33)=\"\", TRIM(AP33)=\"\", TRIM(AU33)=\"\", TRIM(AZ33)=\"\", TRIM(BE33)=\"\", TRIM(BJ33)=\"\"),\"\",Q33+V33+AA33+AF33+AK33+AP33+AU33+AZ33+BE33+BJ33)","v":19564.522000000001},null,null,null,{"$f":"IF(TRIM(BR33)=\"\", \"\", IF(VLOOKUP(BR33,#REF!,2,FALSE)=0,\"\",VLOOKUP(BR33,#REF!,2,FALSE) ) )","v":""},0,null,null,null,null,0,null,null,null,null,11383.093999999999,null,null,null,{"$f":"IF(TRIM(CG33)=\"\", \"\", IF(VLOOKUP(CG33,#REF!,2,FALSE)=0,\"\",VLOOKUP(CG33,#REF!,2,FALSE) ) )","v":""},{"$f":"IF(AND(TRIM(BY33)=\"\",TRIM(CD33)=\"\"),\"\",BY33+CD33)","v":11383.093999999999},null,null,null,{"$f":"IF(TRIM(CL33)=\"\", \"\", IF(VLOOKUP(CL33,#REF!,2,FALSE)=0,\"\",VLOOKUP(CL33,#REF!,2,FALSE) ) )","v":""},18056.018,null,null,null,null,81.692999999999998,null,null,null,null,1371.7550000000001,null,null,null,null,85.837000000000003,null,null,null,{"$f":"IF(TRIM(DF33)=\"\", \"\", IF(VLOOKUP(DF33,#REF!,2,FALSE)=0,\"\",VLOOKUP(DF33,#REF!,2,FALSE) ) )","v":""},{"$f":"IF(AND(TRIM(G33)=\"\",TRIM(L33)=\"\",TRIM(BO33)=\"\",TRIM(BT33)=\"\",TRIM(CI33)=\"\",TRIM(CN33)=\"\",TRIM(CS33)=\"\",TRIM(CX33)=\"\",TRIM(DC33)=\"\"),\"\",SUM(G33,L33,BO33,BT33,CI33,CN33,CS33,CX33,DC33))","v":50542.919000000002},null,null,null,{"$f":"IF(TRIM(DK33)=\"\", \"\", IF(VLOOKUP(DK33,#REF!,2,FALSE)=0,\"\",VLOOKUP(DK33,#REF!,2,FALSE) ) )","v":""}]
[null,null,"W062",null,"HAZ_NHAZ","Total",{"$f":"IF(AND(TRIM(G32)=\"\",TRIM(G33)=\"\"),\"\",G32+G33)","v":0},null,null,null,null,{"$f":"IF(AND(TRIM(L32)=\"\",TRIM(L33)=\"\"),\"\",L32+L33)","v":0},null,null,null,null,{"$f":"IF(AND(TRIM(Q32)=\"\",TRIM(Q33)=\"\"),\"\",Q32+Q33)","v":2.2599999999999998},null,null,null,null,{"$f":"IF(AND(TRIM(V32)=\"\",TRIM(V33)=\"\"),\"\",V32+V33)","v":0},null,null,null,null,{"$f":"IF(AND(TRIM(AA32)=\"\",TRIM(AA33)=\"\"),\"\",AA32+AA33)","v":3.2000000000000001E-2},null,null,null,null,{"$f":"IF(AND(TRIM(AF32)=\"\",TRIM(AF33)=\"\"),\"\",AF32+AF33)","v":269.024},null,null,null,null,{"$f":"IF(AND(TRIM(AK32)=\"\",TRIM(AK33)=\"\"),\"\",AK32+AK33)","v":0},null,null,null,null,{"$f":"IF(AND(TRIM(AP32)=\"\",TRIM(AP33)=\"\"),\"\",AP32+AP33)","v":43.823999999999998},null,null,null,null,{"$f":"IF(AND(TRIM(AU32)=\"\",TRIM(AU33)=\"\"),\"\",AU32+AU33)","v":9.0259999999999998},null,null,null,null,{"$f":"IF(AND(TRIM(AZ32)=\"\",TRIM(AZ33)=\"\"),\"\",AZ32+AZ33)","v":18360.942999999999},null,null,null,null,{"$f":"IF(AND(TRIM(BE32)=\"\",TRIM(BE33)=\"\"),\"\",BE32+BE33)","v":838.86400000000003},null,null,null,null,{"$f":"IF(AND(TRIM(BJ32)=\"\",TRIM(BJ33)=\"\"),\"\",BJ32+BJ33)","v":40.548999999999999},null,null,null,{"$f":"IF(TRIM(BM34)=\"\", \"\", IF(VLOOKUP(BM34,#REF!,2,FALSE)=0,\"\",VLOOKUP(BM34,#REF!,2,FALSE) ) )","v":""},{"$f":"IF(AND(TRIM(BO32)=\"\", TRIM(BO33)=\"\"), \"\", (IF(ISNUMBER(BO32),BO32,0)+IF(ISNUMBER(BO33),BO33,0)))","v":19564.522000000001},null,null,null,{"$f":"IF(TRIM(BR34)=\"\", \"\", IF(VLOOKUP(BR34,#REF!,2,FALSE)=0,\"\",VLOOKUP(BR34,#REF!,2,FALSE) ) )","v":""},{"$f":"IF(AND(TRIM(BT32)=\"\",TRIM(BT33)=\"\"),\"\",BT32+BT33)","v":0},null,null,null,null,{"$f":"IF(AND(TRIM(BY32)=\"\",TRIM(BY33)=\"\"),\"\",BY32+BY33)","v":0},null,null,null,null,{"$f":"IF(AND(TRIM(CD32)=\"\",TRIM(CD33)=\"\"),\"\",CD32+CD33)","v":11383.093999999999},null,null,null,{"$f":"IF(TRIM(CG34)=\"\", \"\", IF(VLOOKUP(CG34,#REF!,2,FALSE)=0,\"\",VLOOKUP(CG34,#REF!,2,FALSE) ) )","v":""},{"$f":"IF(AND(TRIM(CI32)=\"\", TRIM(CI33)=\"\"), \"\", (IF(ISNUMBER(CI32),CI32,0)+IF(ISNUMBER(CI33),CI33,0)))","v":11383.093999999999},null,null,null,{"$f":"IF(TRIM(CL34)=\"\", \"\", IF(VLOOKUP(CL34,#REF!,2,FALSE)=0,\"\",VLOOKUP(CL34,#REF!,2,FALSE) ) )","v":""},{"$f":"IF(AND(TRIM(CN32)=\"\",TRIM(CN33)=\"\"),\"\",CN32+CN33)","v":18056.018},null,null,null,null,{"$f":"IF(AND(TRIM(CS32)=\"\",TRIM(CS33)=\"\"),\"\",CS32+CS33)","v":81.692999999999998},null,null,null,null,{"$f":"IF(AND(TRIM(CX32)=\"\",TRIM(CX33)=\"\"),\"\",CX32+CX33)","v":1371.7550000000001},null,null,null,null,{"$f":"IF(AND(TRIM(DC32)=\"\",TRIM(DC33)=\"\"),\"\",DC32+DC33)","v":85.837000000000003},null,null,null,{"$f":"IF(TRIM(DF34)=\"\", \"\", IF(VLOOKUP(DF34,#REF!,2,FALSE)=0,\"\",VLOOKUP(DF34,#REF!,2,FALSE) ) )","v":""},{"$f":"IF(AND(TRIM(DH32)=\"\", TRIM(DH33)=\"\"), \"\", SUM(DH32,DH33) )","v":50542.919000000002},null,null,null,{"$f":"IF(TRIM(DK34)=\"\", \"\", IF(VLOOKUP(DK34,#REF!,2,FALSE)=0,\"\",VLOOKUP(DK34,#REF!,2,FALSE) ) )","v":""}]
[null,"W063",null,"Metal wastes, mixed ferrous and non-ferrous",null,"Not applicable",0,null,null,null,null,0,null,null,null,null,0,null,null,null,null,0,null,null,null,null,0,null,null,null,null,0,null,null,null,null,0,null,null,null,null,0,null,null,null,null,0,null,null,null,null,0,null,null,null,null,0,null,null,null,null,0,null,null,null,null,null,null,null,null,null,0,null,null,null,null,0,null,null,null,null,0,null,null,null,null,null,null,null,null,null,0,null,null,null,null,0,null,null,null,null,0,null,null,null,null,0]
[null,null,"W063",null,"NHAZ","Non-hazardous",13.629,null,null,null,null,3265.2379999999998,null,null,null,null,405.04199999999997,null,null,null,null,60.106000000000002,null,null,null,null,5.76,null,null,null,null,5.8239999999999998,null,null,null,null,131.13999999999999,null,null,null,null,141.911,null,null,null,null,106.14,null,null,null,null,52.27,null,null,null,null,46.314999999999998,null,null,null,null,2.1440000000000001,null,null,null,{"$f":"IF(TRIM(BM36)=\"\", \"\", IF(VLOOKUP(BM36,#REF!,2,FALSE)=0,\"\",VLOOKUP(BM36,#REF!,2,FALSE) ) )","v":""},{"$f":"IF(AND(TRIM(Q36)=\"\",TRIM(V36)=\"\",TRIM(AA36)=\"\", TRIM(AF36)=\"\", TRIM(AK36)=\"\", TRIM(AP36)=\"\", TRIM(AU36)=\"\", TRIM(AZ36)=\"\", TRIM(BE36)=\"\", TRIM(BJ36)=\"\"),\"\",Q36+V36+AA36+AF36+AK36+AP36+AU36+AZ36+BE36+BJ36)","v":956.65200000000004},null,null,null,{"$f":"IF(TRIM(BR36)=\"\", \"\", IF(VLOOKUP(BR36,#REF!,2,FALSE)=0,\"\",VLOOKUP(BR36,#REF!,2,FALSE) ) )","v":""},0.08,null,null,null,null,84.34,null,null,null,null,2650.6709999999998,null,null,null,{"$f":"IF(TRIM(CG36)=\"\", \"\", IF(VLOOKUP(CG36,#REF!,2,FALSE)=0,\"\",VLOOKUP(CG36,#REF!,2,FALSE) ) )","v":""},{"$f":"IF(AND(TRIM(BY36)=\"\",TRIM(CD36)=\"\"),\"\",BY36+CD36)","v":2735.011},null,null,null,{"$f":"IF(TRIM(CL36)=\"\", \"\", IF(VLOOKUP(CL36,#REF!,2,FALSE)=0,\"\",VLOOKUP(CL36,#REF!,2,FALSE) ) )","v":""},3488.2550000000001,null,null,null,null,9299.7189999999991,null,null,null,null,40813.129999999997,null,null,null,null,29322.613000000001,null,null,null,{"$f":"IF(TRIM(DF36)=\"\", \"\", IF(VLOOKUP(DF36,#REF!,2,FALSE)=0,\"\",VLOOKUP(DF36,#REF!,2,FALSE) ) )","v":""},{"$f":"IF(AND(TRIM(G36)=\"\",TRIM(L36)=\"\",TRIM(BO36)=\"\",TRIM(BT36)=\"\",TRIM(CI36)=\"\",TRIM(CN36)=\"\",TRIM(CS36)=\"\",TRIM(CX36)=\"\",TRIM(DC36)=\"\"),\"\",SUM(G36,L36,BO36,BT36,CI36,CN36,CS36,CX36,DC36))","v":89894.327000000005},null,null,null,{"$f":"IF(TRIM(DK36)=\"\", \"\", IF(VLOOKUP(DK36,#REF!,2,FALSE)=0,\"\",VLOOKUP(DK36,#REF!,2,FALSE) ) )","v":""}]
[null,null,"W063",null,"HAZ_NHAZ","Total",{"$f":"IF(AND(TRIM(G35)=\"\",TRIM(G36)=\"\"),\"\",G35+G36)","v":13.629},null,null,null,null,{"$f":"IF(AND(TRIM(L35)=\"\",TRIM(L36)=\"\"),\"\",L35+L36)","v":3265.2379999999998},null,null,null,null,{"$f":"IF(AND(TRIM(Q35)=\"\",TRIM(Q36)=\"\"),\"\",Q35+Q36)","v":405.04199999999997},null,null,null,null,{"$f":"IF(AND(TRIM(V35)=\"\",TRIM(V36)=\"\"),\"\",V35+V36)","v":60.106000000000002},null,null,null,null,{"$f":"IF(AND(TRIM(AA35)=\"\",TRIM(AA36)=\"\"),\"\",AA35+AA36)","v":5.76},null,null,null,null,{"$f":"IF(AND(TRIM(AF35)=\"\",TRIM(AF36)=\"\"),\"\",AF35+AF36)","v":5.8239999999999998},null,null,null,null,{"$f":"IF(AND(TRIM(AK35)=\"\",TRIM(AK36)=\"\"),\"\",AK35+AK36)","v":131.13999999999999},null,null,null,null,{"$f":"IF(AND(TRIM(AP35)=\"\",TRIM(AP36)=\"\"),\"\",AP35+AP36)","v":141.911},null,null,null,null,{"$f":"IF(AND(TRIM(AU35)=\"\",TRIM(AU36)=\"\"),\"\",AU35+AU36)","v":106.14},null,null,null,null,{"$f":"IF(AND(TRIM(AZ35)=\"\",TRIM(AZ36)=\"\"),\"\",AZ35+AZ36)","v":52.27},null,null,null,null,{"$f":"IF(AND(TRIM(BE35)=\"\",TRIM(BE36)=\"\"),\"\",BE35+BE36)","v":46.314999999999998},null,null,null,null,{"$f":"IF(AND(TRIM(BJ35)=\"\",TRIM(BJ36)=\"\"),\"\",BJ35+BJ36)","v":2.1440000000000001},null,null,null,{"$f":"IF(TRIM(BM37)=\"\", \"\", IF(VLOOKUP(BM37,#REF!,2,FALSE)=0,\"\",VLOOKUP(BM37,#REF!,2,FALSE) ) )","v":""},{"$f":"IF(AND(TRIM(BO35)=\"\", TRIM(BO36)=\"\"), \"\", (IF(ISNUMBER(BO35),BO35,0)+IF(ISNUMBER(BO36),BO36,0)))","v":956.65200000000004},null,null,null,{"$f":"IF(TRIM(BR37)=\"\", \"\", IF(VLOOKUP(BR37,#REF!,2,FALSE)=0,\"\",VLOOKUP(BR37,#REF!,2,FALSE) ) )","v":""},{"$f":"IF(AND(TRIM(BT35)=\"\",TRIM(BT36)=\"\"),\"\",BT35+BT36)","v":0.08},null,null,null,null,{"$f":"IF(AND(TRIM(BY35)=\"\",TRIM(BY36)=\"\"),\"\",BY35+BY36)","v":84.34},null,null,null,null,{"$f":"IF(AND(TRIM(CD35)=\"\",TRIM(CD36)=\"\"),\"\",CD35+CD36)","v":2650.6709999999998},null,null,null,{"$f":"IF(TRIM(CG37)=\"\", \"\", IF(VLOOKUP(CG37,#REF!,2,FALSE)=0,\"\",VLOOKUP(CG37,#REF!,2,FALSE) ) )","v":""},{"$f":"IF(AND(TRIM(CI35)=\"\", TRIM(CI36)=\"\"), \"\", (IF(ISNUMBER(CI35),CI35,0)+IF(ISNUMBER(CI36),CI36,0)))","v":2735.011},null,null,null,{"$f":"IF(TRIM(CL37)=\"\", \"\", IF(VLOOKUP(CL37,#REF!,2,FALSE)=0,\"\",VLOOKUP(CL37,#REF!,2,FALSE) ) )","v":""},{"$f":"IF(AND(TRIM(CN35)=\"\",TRIM(CN36)=\"\"),\"\",CN35+CN36)","v":3488.2550000000001},null,null,null,null,{"$f":"IF(AND(TRIM(CS35)=\"\",TRIM(CS36)=\"\"),\"\",CS35+CS36)","v":9299.7189999999991},null,null,null,null,{"$f":"IF(AND(TRIM(CX35)=\"\",TRIM(CX36)=\"\"),\"\",CX35+CX36)","v":40813.129999999997},null,null,null,null,{"$f":"IF(AND(TRIM(DC35)=\"\",TRIM(DC36)=\"\"),\"\",DC35+DC36)","v":29322.613000000001},null,null,null,{"$f":"IF(TRIM(DF37)=\"\", \"\", IF(VLOOKUP(DF37,#REF!,2,FALSE)=0,\"\",VLOOKUP(DF37,#REF!,2,FALSE) ) )","v":""},{"$f":"IF(AND(TRIM(DH35)=\"\", TRIM(DH36)=\"\"), \"\", SUM(DH35,DH36) )","v":89894.327000000005},null,null,null,{"$f":"IF(TRIM(DK37)=\"\", \"\", IF(VLOOKUP(DK37,#REF!,2,FALSE)=0,\"\",VLOOKUP(DK37,#REF!,2,FALSE) ) )","v":""}]
[null,"W071","W071","Glass wastes ","HAZ","Hazardous ",0,null,null,null,null,0,null,null,null,null,0,null,null,null,null,0,null,null,null,null,0,null,null,null,null,0,null,null,null,null,0,null,null,null,null,0,null,null,null,null,0,null,null,null,null,0,null,null,null,null,0,null,null,null,null,0,null,null,null,{"$f":"IF(TRIM(BM38)=\"\", \"\", IF(VLOOKUP(BM38,#REF!,2,FALSE)=0,\"\",VLOOKUP(BM38,#REF!,2,FALSE) ) )","v":""},{"$f":"IF(AND(TRIM(Q38)=\"\",TRIM(V38)=\"\",TRIM(AA38)=\"\", TRIM(AF38)=\"\", TRIM(AK38)=\"\", TRIM(AP38)=\"\", TRIM(AU38)=\"\", TRIM(AZ38)=\"\", TRIM(BE38)=\"\", TRIM(BJ38)=\"\"),\"\",Q38+V38+AA38+AF38+AK38+AP38+AU38+AZ38+BE38+BJ38)","v":0},null,null,null,{"$f":"IF(TRIM(BR38)=\"\", \"\", IF(VLOOKUP(BR38,#REF!,2,FALSE)=0,\"\",VLOOKUP(BR38,#REF!,2,FALSE) ) )","v":""},0,null,null,null,null,0,null,null,null,null,0,null,null,null,{"$f":"IF(TRIM(CG38)=\"\", \"\", IF(VLOOKUP(CG38,#REF!,2,FALSE)=0,\"\",VLOOKUP(CG38,#REF!,2,FALSE) ) )","v":""},{"$f":"IF(AND(TRIM(BY38)=\"\",TRIM(CD38)=\"\"),\"\",BY38+CD38)","v":0},null,null,null,{"$f":"IF(TRIM(CL38)=\"\", \"\", IF(VLOOKUP(CL38,#REF!,2,FALSE)=0,\"\",VLOOKUP(CL38,#REF!,2,FALSE) ) )","v":""},0,null,null,null,null,0,null,null,null,null,0,null,null,null,null,0,null,null,null,{"$f":"IF(TRIM(DF38)=\"\", \"\", IF(VLOOKUP(DF38,#REF!,2,FALSE)=0,\"\",VLOOKUP(DF38,#REF!,2,FALSE) ) )","v":""},{"$f":"IF(AND(TRIM(G38)=\"\",TRIM(L38)=\"\",TRIM(BO38)=\"\",TRIM(BT38)=\"\",TRIM(CI38)=\"\",TRIM(CN38)=\"\",TRIM(CS38)=\"\",TRIM(CX38)=\"\",TRIM(DC38)=\"\"),\"\",SUM(G38,L38,BO38,BT38,CI38,CN38,CS38,CX38,DC38))","v":0},null,null,null,{"$f":"IF(TRIM(DK38)=\"\", \"\", IF(VLOOKUP(DK38,#REF!,2,FALSE)=0,\"\",VLOOKUP(DK38,#REF!,2,FALSE) ) )","v":""}]
[null,null,"W071",null,"NHAZ","Non-hazardous",7.0000000000000007E-2,null,null,null,null,0,null,null,null,null,3765.08,null,null,null,null,0.49,null,null,null,null,4.8,null,null,null,null,0.66,null,null,null,null,0,null,null,null,null,213.55500000000001,null,null,null,null,20362.451000000001,null,null,null,null,8.0500000000000007,null,null,null,null,18.146000000000001,null,null,null,null,12.701000000000001,null,null,null,{"$f":"IF(TRIM(BM39)=\"\", \"\", IF(VLOOKUP(BM39,#REF!,2,FALSE)=0,\"\",VLOOKUP(BM39,#REF!,2,FALSE) ) )","v":""},{"$f":"IF(AND(TRIM(Q39)=\"\",TRIM(V39)=\"\",TRIM(AA39)=\"\", TRIM(AF39)=\"\", TRIM(AK39)=\"\", TRIM(AP39)=\"\", TRIM(AU39)=\"\", TRIM(AZ39)=\"\", TRIM(BE39)=\"\", TRIM(BJ39)=\"\"),\"\",Q39+V39+AA39+AF39+AK39+AP39+AU39+AZ39+BE39+BJ39)","v":24385.933000000001},null,null,null,{"$f":"IF(TRIM(BR39)=\"\", \"\", IF(VLOOKUP(BR39,#REF!,2,FALSE)=0,\"\",VLOOKUP(BR39,#REF!,2,FALSE) ) )","v":""},0.41,null,null,null,null,6.7469999999999999,null,null,null,null,8540.4969999999994,null,null,null,{"$f":"IF(TRIM(CG39)=\"\", \"\", IF(VLOOKUP(CG39,#REF!,2,FALSE)=0,\"\",VLOOKUP(CG39,#REF!,2,FALSE) ) )","v":""},{"$f":"IF(AND(TRIM(BY39)=\"\",TRIM(CD39)=\"\"),\"\",BY39+CD39)","v":8547.2440000000006},null,null,null,{"$f":"IF(TRIM(CL39)=\"\", \"\", IF(VLOOKUP(CL39,#REF!,2,FALSE)=0,\"\",VLOOKUP(CL39,#REF!,2,FALSE) ) )","v":""},6379,null,null,null,null,32222.98,null,null,null,null,0,null,null,null,null,11515.464,null,null,null,{"$f":"IF(TRIM(DF39)=\"\", \"\", IF(VLOOKUP(DF39,#REF!,2,FALSE)=0,\"\",VLOOKUP(DF39,#REF!,2,FALSE) ) )","v":""},{"$f":"IF(AND(TRIM(G39)=\"\",TRIM(L39)=\"\",TRIM(BO39)=\"\",TRIM(BT39)=\"\",TRIM(CI39)=\"\",TRIM(CN39)=\"\",TRIM(CS39)=\"\",TRIM(CX39)=\"\",TRIM(DC39)=\"\"),\"\",SUM(G39,L39,BO39,BT39,CI39,CN39,CS39,CX39,DC39))","v":83051.100999999995},null,null,null,{"$f":"IF(TRIM(DK39)=\"\", \"\", IF(VLOOKUP(DK39,#REF!,2,FALSE)=0,\"\",VLOOKUP(DK39,#REF!,2,FALSE) ) )","v":""}]
[null,null,"W071",null,"HAZ_NHAZ","Total",{"$f":"IF(AND(TRIM(G38)=\"\",TRIM(G39)=\"\"),\"\",G38+G39)","v":7.0000000000000007E-2},null,null,null,null,{"$f":"IF(AND(TRIM(L38)=\"\",TRIM(L39)=\"\"),\"\",L38+L39)","v":0},null,null,null,null,{"$f":"IF(AND(TRIM(Q38)=\"\",TRIM(Q39)=\"\"),\"\",Q38+Q39)","v":3765.08},null,null,null,null,{"$f":"IF(AND(TRIM(V38)=\"\",TRIM(V39)=\"\"),\"\",V38+V39)","v":0.49},null,null,null,null,{"$f":"IF(AND(TRIM(AA38)=\"\",TRIM(AA39)=\"\"),\"\",AA38+AA39)","v":4.8},null,null,null,null,{"$f":"IF(AND(TRIM(AF38)=\"\",TRIM(AF39)=\"\"),\"\",AF38+AF39)","v":0.66},null,null,null,null,{"$f":"IF(AND(TRIM(AK38)=\"\",TRIM(AK39)=\"\"),\"\",AK38+AK39)","v":0},null,null,null,null,{"$f":"IF(AND(TRIM(AP38)=\"\",TRIM(AP39)=\"\"),\"\",AP38+AP39)","v":213.55500000000001},null,null,null,null,{"$f":"IF(AND(TRIM(AU38)=\"\",TRIM(AU39)=\"\"),\"\",AU38+AU39)","v":20362.451000000001},null,null,null,null,{"$f":"IF(AND(TRIM(AZ38)=\"\",TRIM(AZ39)=\"\"),\"\",AZ38+AZ39)","v":8.0500000000000007},null,null,null,null,{"$f":"IF(AND(TRIM(BE38)=\"\",TRIM(BE39)=\"\"),\"\",BE38+BE39)","v":18.146000000000001},null,null,null,null,{"$f":"IF(AND(TRIM(BJ38)=\"\",TRIM(BJ39)=\"\"),\"\",BJ38+BJ39)","v":12.701000000000001},null,null,null,{"$f":"IF(TRIM(BM40)=\"\", \"\", IF(VLOOKUP(BM40,#REF!,2,FALSE)=0,\"\",VLOOKUP(BM40,#REF!,2,FALSE) ) )","v":""},{"$f":"IF(AND(TRIM(BO38)=\"\", TRIM(BO39)=\"\"), \"\", (IF(ISNUMBER(BO38),BO38,0)+IF(ISNUMBER(BO39),BO39,0)))","v":24385.933000000001},null,null,null,{"$f":"IF(TRIM(BR40)=\"\", \"\", IF(VLOOKUP(BR40,#REF!,2,FALSE)=0,\"\",VLOOKUP(BR40,#REF!,2,FALSE) ) )","v":""},{"$f":"IF(AND(TRIM(BT38)=\"\",TRIM(BT39)=\"\"),\"\",BT38+BT39)","v":0.41},null,null,null,null,{"$f":"IF(AND(TRIM(BY38)=\"\",TRIM(BY39)=\"\"),\"\",BY38+BY39)","v":6.7469999999999999},null,null,null,null,{"$f":"IF(AND(TRIM(CD38)=\"\",TRIM(CD39)=\"\"),\"\",CD38+CD39)","v":8540.4969999999994},null,null,null,{"$f":"IF(TRIM(CG40)=\"\", \"\", IF(VLOOKUP(CG40,#REF!,2,FALSE)=0,\"\",VLOOKUP(CG40,#REF!,2,FALSE) ) )","v":""},{"$f":"IF(AND(TRIM(CI38)=\"\", TRIM(CI39)=\"\"), \"\", (IF(ISNUMBER(CI38),CI38,0)+IF(ISNUMBER(CI39),CI39,0)))","v":8547.2440000000006},null,null,null,{"$f":"IF(TRIM(CL40)=\"\", \"\", IF(VLOOKUP(CL40,#REF!,2,FALSE)=0,\"\",VLOOKUP(CL40,#REF!,2,FALSE) ) )","v":""},{"$f":"IF(AND(TRIM(CN38)=\"\",TRIM(CN39)=\"\"),\"\",CN38+CN39)","v":6379},null,null,null,null,{"$f":"IF(AND(TRIM(CS38)=\"\",TRIM(CS39)=\"\"),\"\",CS38+CS39)","v":32222.98},null,null,null,null,{"$f":"IF(AND(TRIM(CX38)=\"\",TRIM(CX39)=\"\"),\"\",CX38+CX39)","v":0},null,null,null,null,{"$f":"IF(AND(TRIM(DC38)=\"\",TRIM(DC39)=\"\"),\"\",DC38+DC39)","v":11515.464},null,null,null,{"$f":"IF(TRIM(DF40)=\"\", \"\", IF(VLOOKUP(DF40,#REF!,2,FALSE)=0,\"\",VLOOKUP(DF40,#REF!,2,FALSE) ) )","v":""},{"$f":"IF(AND(TRIM(DH38)=\"\", TRIM(DH39)=\"\"), \"\", SUM(DH38,DH39) )","v":83051.100999999995},null,null,null,{"$f":"IF(TRIM(DK40)=\"\", \"\", IF(VLOOKUP(DK40,#REF!,2,FALSE)=0,\"\",VLOOKUP(DK40,#REF!,2,FALSE) ) )","v":""}]
[null,"W072",null,"Paper and cardboard wastes ",null,"Not applicable",0,null,null,null,null,0,null,null,null,null,0,null,null,null,null,0,null,null,null,null,0,null,null,null,null,0,null,null,null,null,0,null,null,null,null,0,null,null,null,null,0,null,null,null,null,0,null,null,null,null,0,null,null,null,null,0,null,null,null,null,null,null,null,null,null,0,null,null,null,null,0,null,null,null,null,0,null,null,null,null,null,null,null,null,null,0,null,null,null,null,0,null,null,null,null,0,null,null,null,null,0]
[null,null,"W072",null,"NHAZ","Non-hazardous",750.24800000000005,null,null,null,null,30.26,null,null,null,null,9301.018,null,null,null,null,1418.3240000000001,null,null,null,null,138.66300000000001,null,null,null,null,44021.377999999997,null,null,null,null,158.08000000000001,null,null,null,null,2731.3029999999999,null,null,null,null,379.74,null,null,null,null,895.6,null,null,null,null,1835.019,null,null,null,null,582.149,null,null,null,{"$f":"IF(TRIM(BM42)=\"\", \"\", IF(VLOOKUP(BM42,#REF!,2,FALSE)=0,\"\",VLOOKUP(BM42,#REF!,2,FALSE) ) )","v":""},{"$f":"IF(AND(TRIM(Q42)=\"\",TRIM(V42)=\"\",TRIM(AA42)=\"\", TRIM(AF42)=\"\", TRIM(AK42)=\"\", TRIM(AP42)=\"\", TRIM(AU42)=\"\", TRIM(AZ42)=\"\", TRIM(BE42)=\"\", TRIM(BJ42)=\"\"),\"\",Q42+V42+AA42+AF42+AK42+AP42+AU42+AZ42+BE42+BJ42)","v":61461.273999999998},null,null,null,{"$f":"IF(TRIM(BR42)=\"\", \"\", IF(VLOOKUP(BR42,#REF!,2,FALSE)=0,\"\",VLOOKUP(BR42,#REF!,2,FALSE) ) )","v":""},96.83,null,null,null,null,35.807000000000002,null,null,null,null,99016.498999999996,null,null,null,{"$f":"IF(TRIM(CG42)=\"\", \"\", IF(VLOOKUP(CG42,#REF!,2,FALSE)=0,\"\",VLOOKUP(CG42,#REF!,2,FALSE) ) )","v":""},{"$f":"IF(AND(TRIM(BY42)=\"\",TRIM(CD42)=\"\"),\"\",BY42+CD42)","v":99052.305999999997},null,null,null,{"$f":"IF(TRIM(CL42)=\"\", \"\", IF(VLOOKUP(CL42,#REF!,2,FALSE)=0,\"\",VLOOKUP(CL42,#REF!,2,FALSE) ) )","v":""},183.934,null,null,null,null,130941.295,null,null,null,null,2764.0790000000002,null,null,null,null,68796.138000000006,null,null,null,{"$f":"IF(TRIM(DF42)=\"\", \"\", IF(VLOOKUP(DF42,#REF!,2,FALSE)=0,\"\",VLOOKUP(DF42,#REF!,2,FALSE) ) )","v":""},{"$f":"IF(AND(TRIM(G42)=\"\",TRIM(L42)=\"\",TRIM(BO42)=\"\",TRIM(BT42)=\"\",TRIM(CI42)=\"\",TRIM(CN42)=\"\",TRIM(CS42)=\"\",TRIM(CX42)=\"\",TRIM(DC42)=\"\"),\"\",SUM(G42,L42,BO42,BT42,CI42,CN42,CS42,CX42,DC42))","v":364076.364},null,null,null,{"$f":"IF(TRIM(DK42)=\"\", \"\", IF(VLOOKUP(DK42,#REF!,2,FALSE)=0,\"\",VLOOKUP(DK42,#REF!,2,FALSE) ) )","v":""}]
[null,null,"W072",null,"HAZ_NHAZ","Total",{"$f":"IF(AND(TRIM(G41)=\"\",TRIM(G42)=\"\"),\"\",G41+G42)","v":750.24800000000005},null,null,null,null,{"$f":"IF(AND(TRIM(L41)=\"\",TRIM(L42)=\"\"),\"\",L41+L42)","v":30.26},null,null,null,null,{"$f":"IF(AND(TRIM(Q41)=\"\",TRIM(Q42)=\"\"),\"\",Q41+Q42)","v":9301.018},null,null,null,null,{"$f":"IF(AND(TRIM(V41)=\"\",TRIM(V42)=\"\"),\"\",V41+V42)","v":1418.3240000000001},null,null,null,null,{"$f":"IF(AND(TRIM(AA41)=\"\",TRIM(AA42)=\"\"),\"\",AA41+AA42)","v":138.66300000000001},null,null,null,null,{"$f":"IF(AND(TRIM(AF41)=\"\",TRIM(AF42)=\"\"),\"\",AF41+AF42)","v":44021.377999999997},null,null,null,null,{"$f":"IF(AND(TRIM(AK41)=\"\",TRIM(AK42)=\"\"),\"\",AK41+AK42)","v":158.08000000000001},null,null,null,null,{"$f":"IF(AND(TRIM(AP41)=\"\",TRIM(AP42)=\"\"),\"\",AP41+AP42)","v":2731.3029999999999},null,null,null,null,{"$f":"IF(AND(TRIM(AU41)=\"\",TRIM(AU42)=\"\"),\"\",AU41+AU42)","v":379.74},null,null,null,null,{"$f":"IF(AND(TRIM(AZ41)=\"\",TRIM(AZ42)=\"\"),\"\",AZ41+AZ42)","v":895.6},null,null,null,null,{"$f":"IF(AND(TRIM(BE41)=\"\",TRIM(BE42)=\"\"),\"\",BE41+BE42)","v":1835.019},null,null,null,null,{"$f":"IF(AND(TRIM(BJ41)=\"\",TRIM(BJ42)=\"\"),\"\",BJ41+BJ42)","v":582.149},null,null,null,{"$f":"IF(TRIM(BM43)=\"\", \"\", IF(VLOOKUP(BM43,#REF!,2,FALSE)=0,\"\",VLOOKUP(BM43,#REF!,2,FALSE) ) )","v":""},{"$f":"IF(AND(TRIM(BO41)=\"\", TRIM(BO42)=\"\"), \"\", (IF(ISNUMBER(BO41),BO41,0)+IF(ISNUMBER(BO42),BO42,0)))","v":61461.273999999998},null,null,null,{"$f":"IF(TRIM(BR43)=\"\", \"\", IF(VLOOKUP(BR43,#REF!,2,FALSE)=0,\"\",VLOOKUP(BR43,#REF!,2,FALSE) ) )","v":""},{"$f":"IF(AND(TRIM(BT41)=\"\",TRIM(BT42)=\"\"),\"\",BT41+BT42)","v":96.83},null,null,null,null,{"$f":"IF(AND(TRIM(BY41)=\"\",TRIM(BY42)=\"\"),\"\",BY41+BY42)","v":35.807000000000002},null,null,null,null,{"$f":"IF(AND(TRIM(CD41)=\"\",TRIM(CD42)=\"\"),\"\",CD41+CD42)","v":99016.498999999996},null,null,null,{"$f":"IF(TRIM(CG43)=\"\", \"\", IF(VLOOKUP(CG43,#REF!,2,FALSE)=0,\"\",VLOOKUP(CG43,#REF!,2,FALSE) ) )","v":""},{"$f":"IF(AND(TRIM(CI41)=\"\", TRIM(CI42)=\"\"), \"\", (IF(ISNUMBER(CI41),CI41,0)+IF(ISNUMBER(CI42),CI42,0)))","v":99052.305999999997},null,null,null,{"$f":"IF(TRIM(CL43)=\"\", \"\", IF(VLOOKUP(CL43,#REF!,2,FALSE)=0,\"\",VLOOKUP(CL43,#REF!,2,FALSE) ) )","v":""},{"$f":"IF(AND(TRIM(CN41)=\"\",TRIM(CN42)=\"\"),\"\",CN41+CN42)","v":183.934},null,null,null,null,{"$f":"IF(AND(TRIM(CS41)=\"\",TRIM(CS42)=\"\"),\"\",CS41+CS42)","v":130941.295},null,null,null,null,{"$f":"IF(AND(TRIM(CX41)=\"\",TRIM(CX42)=\"\"),\"\",CX41+CX42)","v":2764.0790000000002},null,null,null,null,{"$f":"IF(AND(TRIM(DC41)=\"\",TRIM(DC42)=\"\"),\"\",DC41+DC42)","v":68796.138000000006},null,null,null,{"$f":"IF(TRIM(DF43)=\"\", \"\", IF(VLOOKUP(DF43,#REF!,2,FALSE)=0,\"\",VLOOKUP(DF43,#REF!,2,FALSE) ) )","v":""},{"$f":"IF(AND(TRIM(DH41)=\"\", TRIM(DH42)=\"\"), \"\", SUM(DH41,DH42) )","v":364076.364},null,null,null,{"$f":"IF(TRIM(DK43)=\"\", \"\", IF(VLOOKUP(DK43,#REF!,2,FALSE)=0,\"\",VLOOKUP(DK43,#REF!,2,FALSE) ) )","v":""}]
[null,"W073",null,"Rubber wastes ",null,"Not applicable",0,null,null,null,null,0,null,null,null,null,0,null,null,null,null,0,null,null,null,null,0,null,null,null,null,0,null,null,null,null,0,null,null,null,null,0,null,null,null,null,0,null,null,null,null,0,null,null,null,null,0,null,null,null,null,0,null,null,null,null,null,null,null,null,null,0,null,null,null,null,0,null,null,null,null,0,null,null,null,null,null,null,null,null,null,0,null,null,null,null,0,null,null,null,null,0,null,null,null,null,0]
[null,null,"W073",null,"NHAZ","Non-hazardous",22.53,null,null,null,null,26.280999999999999,null,null,null,null,24.414000000000001,null,null,null,null,1.05,null,null,null,null,19.55,null,null,null,null,0.34,null,null,null,null,0,null,null,null,null,3466.15,null,null,null,null,81.825000000000003,null,null,null,null,35.173000000000002,null,null,null,null,46.587000000000003,null,null,null,null,116.014,null,null,null,{"$f":"IF(TRIM(BM45)=\"\", \"\", IF(VLOOKUP(BM45,#REF!,2,FALSE)=0,\"\",VLOOKUP(BM45,#REF!,2,FALSE) ) )","v":""},{"$f":"IF(AND(TRIM(Q45)=\"\",TRIM(V45)=\"\",TRIM(AA45)=\"\", TRIM(AF45)=\"\", TRIM(AK45)=\"\", TRIM(AP45)=\"\", TRIM(AU45)=\"\", TRIM(AZ45)=\"\", TRIM(BE45)=\"\", TRIM(BJ45)=\"\"),\"\",Q45+V45+AA45+AF45+AK45+AP45+AU45+AZ45+BE45+BJ45)","v":3791.1030000000001},null,null,null,{"$f":"IF(TRIM(BR45)=\"\", \"\", IF(VLOOKUP(BR45,#REF!,2,FALSE)=0,\"\",VLOOKUP(BR45,#REF!,2,FALSE) ) )","v":""},12.613,null,null,null,null,6.41,null,null,null,null,1834.729,null,null,null,{"$f":"IF(TRIM(CG45)=\"\", \"\", IF(VLOOKUP(CG45,#REF!,2,FALSE)=0,\"\",VLOOKUP(CG45,#REF!,2,FALSE) ) )","v":""},{"$f":"IF(AND(TRIM(BY45)=\"\",TRIM(CD45)=\"\"),\"\",BY45+CD45)","v":1841.1389999999999},null,null,null,{"$f":"IF(TRIM(CL45)=\"\", \"\", IF(VLOOKUP(CL45,#REF!,2,FALSE)=0,\"\",VLOOKUP(CL45,#REF!,2,FALSE) ) )","v":""},146.15,null,null,null,null,18731.666000000001,null,null,null,null,0,null,null,null,null,1477.3879999999999,null,null,null,{"$f":"IF(TRIM(DF45)=\"\", \"\", IF(VLOOKUP(DF45,#REF!,2,FALSE)=0,\"\",VLOOKUP(DF45,#REF!,2,FALSE) ) )","v":""},{"$f":"IF(AND(TRIM(G45)=\"\",TRIM(L45)=\"\",TRIM(BO45)=\"\",TRIM(BT45)=\"\",TRIM(CI45)=\"\",TRIM(CN45)=\"\",TRIM(CS45)=\"\",TRIM(CX45)=\"\",TRIM(DC45)=\"\"),\"\",SUM(G45,L45,BO45,BT45,CI45,CN45,CS45,CX45,DC45))","v":26048.87},null,null,null,{"$f":"IF(TRIM(DK45)=\"\", \"\", IF(VLOOKUP(DK45,#REF!,2,FALSE)=0,\"\",VLOOKUP(DK45,#REF!,2,FALSE) ) )","v":""}]
[null,null,"W073",null,"HAZ_NHAZ","Total",{"$f":"IF(AND(TRIM(G44)=\"\",TRIM(G45)=\"\"),\"\",G44+G45)","v":22.53},null,null,null,null,{"$f":"IF(AND(TRIM(L44)=\"\",TRIM(L45)=\"\"),\"\",L44+L45)","v":26.280999999999999},null,null,null,null,{"$f":"IF(AND(TRIM(Q44)=\"\",TRIM(Q45)=\"\"),\"\",Q44+Q45)","v":24.414000000000001},null,null,null,null,{"$f":"IF(AND(TRIM(V44)=\"\",TRIM(V45)=\"\"),\"\",V44+V45)","v":1.05},null,null,null,null,{"$f":"IF(AND(TRIM(AA44)=\"\",TRIM(AA45)=\"\"),\"\",AA44+AA45)","v":19.55},null,null,null,null,{"$f":"IF(AND(TRIM(AF44)=\"\",TRIM(AF45)=\"\"),\"\",AF44+AF45)","v":0.34},null,null,null,null,{"$f":"IF(AND(TRIM(AK44)=\"\",TRIM(AK45)=\"\"),\"\",AK44+AK45)","v":0},null,null,null,null,{"$f":"IF(AND(TRIM(AP44)=\"\",TRIM(AP45)=\"\"),\"\",AP44+AP45)","v":3466.15},null,null,null,null,{"$f":"IF(AND(TRIM(AU44)=\"\",TRIM(AU45)=\"\"),\"\",AU44+AU45)","v":81.825000000000003},null,null,null,null,{"$f":"IF(AND(TRIM(AZ44)=\"\",TRIM(AZ45)=\"\"),\"\",AZ44+AZ45)","v":35.173000000000002},null,null,null,null,{"$f":"IF(AND(TRIM(BE44)=\"\",TRIM(BE45)=\"\"),\"\",BE44+BE45)","v":46.587000000000003},null,null,null,null,{"$f":"IF(AND(TRIM(BJ44)=\"\",TRIM(BJ45)=\"\"),\"\",BJ44+BJ45)","v":116.014},null,null,null,{"$f":"IF(TRIM(BM46)=\"\", \"\", IF(VLOOKUP(BM46,#REF!,2,FALSE)=0,\"\",VLOOKUP(BM46,#REF!,2,FALSE) ) )","v":""},{"$f":"IF(AND(TRIM(BO44)=\"\", TRIM(BO45)=\"\"), \"\", (IF(ISNUMBER(BO44),BO44,0)+IF(ISNUMBER(BO45),BO45,0)))","v":3791.1030000000001},null,null,null,{"$f":"IF(TRIM(BR46)=\"\", \"\", IF(VLOOKUP(BR46,#REF!,2,FALSE)=0,\"\",VLOOKUP(BR46,#REF!,2,FALSE) ) )","v":""},{"$f":"IF(AND(TRIM(BT44)=\"\",TRIM(BT45)=\"\"),\"\",BT44+BT45)","v":12.613},null,null,null,null,{"$f":"IF(AND(TRIM(BY44)=\"\",TRIM(BY45)=\"\"),\"\",BY44+BY45)","v":6.41},null,null,null,null,{"$f":"IF(AND(TRIM(CD44)=\"\",TRIM(CD45)=\"\"),\"\",CD44+CD45)","v":1834.729},null,null,null,{"$f":"IF(TRIM(CG46)=\"\", \"\", IF(VLOOKUP(CG46,#REF!,2,FALSE)=0,\"\",VLOOKUP(CG46,#REF!,2,FALSE) ) )","v":""},{"$f":"IF(AND(TRIM(CI44)=\"\", TRIM(CI45)=\"\"), \"\", (IF(ISNUMBER(CI44),CI44,0)+IF(ISNUMBER(CI45),CI45,0)))","v":1841.1389999999999},null,null,null,{"$f":"IF(TRIM(CL46)=\"\", \"\", IF(VLOOKUP(CL46,#REF!,2,FALSE)=0,\"\",VLOOKUP(CL46,#REF!,2,FALSE) ) )","v":""},{"$f":"IF(AND(TRIM(CN44)=\"\",TRIM(CN45)=\"\"),\"\",CN44+CN45)","v":146.15},null,null,null,null,{"$f":"IF(AND(TRIM(CS44)=\"\",TRIM(CS45)=\"\"),\"\",CS44+CS45)","v":18731.666000000001},null,null,null,null,{"$f":"IF(AND(TRIM(CX44)=\"\",TRIM(CX45)=\"\"),\"\",CX44+CX45)","v":0},null,null,null,null,{"$f":"IF(AND(TRIM(DC44)=\"\",TRIM(DC45)=\"\"),\"\",DC44+DC45)","v":1477.3879999999999},null,null,null,{"$f":"IF(TRIM(DF46)=\"\", \"\", IF(VLOOKUP(DF46,#REF!,2,FALSE)=0,\"\",VLOOKUP(DF46,#REF!,2,FALSE) ) )","v":""},{"$f":"IF(AND(TRIM(DH44)=\"\", TRIM(DH45)=\"\"), \"\", SUM(DH44,DH45) )","v":26048.87},null,null,null,{"$f":"IF(TRIM(DK46)=\"\", \"\", IF(VLOOKUP(DK46,#REF!,2,FALSE)=0,\"\",VLOOKUP(DK46,#REF!,2,FALSE) ) )","v":""}]
[null,"W074",null,"Plastic wastes ",null,"Not applicable",0,null,null,null,null,0,null,null,null,null,0,null,null,null,null,0,null,null,null,null,0,null,null,null,null,0,null,null,null,null,0,null,null,null,null,0,null,null,null,null,0,null,null,null,null,0,null,null,null,null,0,null,null,null,null,0,null,null,null,null,null,null,null,null,null,0,null,null,null,null,0,null,null,null,null,0,null,null,null,null,null,null,null,null,null,0,null,null,null,null,0,null,null,null,null,0,null,null,null,null,0]
[null,null,"W074",null,"NHAZ","Non-hazardous",507.80599999999998,null,null,null,null,10.547000000000001,null,null,null,null,3271.4569999999999,null,null,null,null,343.21,null,null,null,null,123.669,null,null,null,null,629.17999999999995,null,null,null,null,37.715000000000003,null,null,null,null,5529.6030000000001,null,null,null,null,342.13200000000001,null,null,null,null,1207.556,null,null,null,null,1403.433,null,null,null,null,562.31799999999998,null,null,null,{"$f":"IF(TRIM(BM48)=\"\", \"\", IF(VLOOKUP(BM48,#REF!,2,FALSE)=0,\"\",VLOOKUP(BM48,#REF!,2,FALSE) ) )","v":""},{"$f":"IF(AND(TRIM(Q48)=\"\",TRIM(V48)=\"\",TRIM(AA48)=\"\", TRIM(AF48)=\"\", TRIM(AK48)=\"\", TRIM(AP48)=\"\", TRIM(AU48)=\"\", TRIM(AZ48)=\"\", TRIM(BE48)=\"\", TRIM(BJ48)=\"\"),\"\",Q48+V48+AA48+AF48+AK48+AP48+AU48+AZ48+BE48+BJ48)","v":13450.272999999999},null,null,null,{"$f":"IF(TRIM(BR48)=\"\", \"\", IF(VLOOKUP(BR48,#REF!,2,FALSE)=0,\"\",VLOOKUP(BR48,#REF!,2,FALSE) ) )","v":""},44.603999999999999,null,null,null,null,50.942500000000003,null,null,null,null,52361.57,null,null,null,{"$f":"IF(TRIM(CG48)=\"\", \"\", IF(VLOOKUP(CG48,#REF!,2,FALSE)=0,\"\",VLOOKUP(CG48,#REF!,2,FALSE) ) )","v":""},{"$f":"IF(AND(TRIM(BY48)=\"\",TRIM(CD48)=\"\"),\"\",BY48+CD48)","v":52412.512999999999},null,null,null,{"$f":"IF(TRIM(CL48)=\"\", \"\", IF(VLOOKUP(CL48,#REF!,2,FALSE)=0,\"\",VLOOKUP(CL48,#REF!,2,FALSE) ) )","v":""},1039.432,null,null,null,null,25314.41,null,null,null,null,508.815,null,null,null,null,32934.15,null,null,null,{"$f":"IF(TRIM(DF48)=\"\", \"\", IF(VLOOKUP(DF48,#REF!,2,FALSE)=0,\"\",VLOOKUP(DF48,#REF!,2,FALSE) ) )","v":""},{"$f":"IF(AND(TRIM(G48)=\"\",TRIM(L48)=\"\",TRIM(BO48)=\"\",TRIM(BT48)=\"\",TRIM(CI48)=\"\",TRIM(CN48)=\"\",TRIM(CS48)=\"\",TRIM(CX48)=\"\",TRIM(DC48)=\"\"),\"\",SUM(G48,L48,BO48,BT48,CI48,CN48,CS48,CX48,DC48))","v":126222.55},null,null,null,{"$f":"IF(TRIM(DK48)=\"\", \"\", IF(VLOOKUP(DK48,#REF!,2,FALSE)=0,\"\",VLOOKUP(DK48,#REF!,2,FALSE) ) )","v":""}]
[null,null,"W074",null,"HAZ_NHAZ","Total",{"$f":"IF(AND(TRIM(G47)=\"\",TRIM(G48)=\"\"),\"\",G47+G48)","v":507.80599999999998},null,null,null,null,{"$f":"IF(AND(TRIM(L47)=\"\",TRIM(L48)=\"\"),\"\",L47+L48)","v":10.547000000000001},null,null,null,null,{"$f":"IF(AND(TRIM(Q47)=\"\",TRIM(Q48)=\"\"),\"\",Q47+Q48)","v":3271.4569999999999},null,null,null,null,{"$f":"IF(AND(TRIM(V47)=\"\",TRIM(V48)=\"\"),\"\",V47+V48)","v":343.21},null,null,null,null,{"$f":"IF(AND(TRIM(AA47)=\"\",TRIM(AA48)=\"\"),\"\",AA47+AA48)","v":123.669},null,null,null,null,{"$f":"IF(AND(TRIM(AF47)=\"\",TRIM(AF48)=\"\"),\"\",AF47+AF48)","v":629.17999999999995},null,null,null,null,{"$f":"IF(AND(TRIM(AK47)=\"\",TRIM(AK48)=\"\"),\"\",AK47+AK48)","v":37.715000000000003},null,null,null,null,{"$f":"IF(AND(TRIM(AP47)=\"\",TRIM(AP48)=\"\"),\"\",AP47+AP48)","v":5529.6030000000001},null,null,null,null,{"$f":"IF(AND(TRIM(AU47)=\"\",TRIM(AU48)=\"\"),\"\",AU47+AU48)","v":342.13200000000001},null,null,null,null,{"$f":"IF(AND(TRIM(AZ47)=\"\",TRIM(AZ48)=\"\"),\"\",AZ47+AZ48)","v":1207.556},null,null,null,null,{"$f":"IF(AND(TRIM(BE47)=\"\",TRIM(BE48)=\"\"),\"\",BE47+BE48)","v":1403.433},null,null,null,null,{"$f":"IF(AND(TRIM(BJ47)=\"\",TRIM(BJ48)=\"\"),\"\",BJ47+BJ48)","v":562.31799999999998},null,null,null,{"$f":"IF(TRIM(BM49)=\"\", \"\", IF(VLOOKUP(BM49,#REF!,2,FALSE)=0,\"\",VLOOKUP(BM49,#REF!,2,FALSE) ) )","v":""},{"$f":"IF(AND(TRIM(BO47)=\"\", TRIM(BO48)=\"\"), \"\", (IF(ISNUMBER(BO47),BO47,0)+IF(ISNUMBER(BO48),BO48,0)))","v":13450.272999999999},null,null,null,{"$f":"IF(TRIM(BR49)=\"\", \"\", IF(VLOOKUP(BR49,#REF!,2,FALSE)=0,\"\",VLOOKUP(BR49,#REF!,2,FALSE) ) )","v":""},{"$f":"IF(AND(TRIM(BT47)=\"\",TRIM(BT48)=\"\"),\"\",BT47+BT48)","v":44.603999999999999},null,null,null,null,{"$f":"IF(AND(TRIM(BY47)=\"\",TRIM(BY48)=\"\"),\"\",BY47+BY48)","v":50.942999999999998},null,null,null,null,{"$f":"IF(AND(TRIM(CD47)=\"\",TRIM(CD48)=\"\"),\"\",CD47+CD48)","v":52361.57},null,null,null,{"$f":"IF(TRIM(CG49)=\"\", \"\", IF(VLOOKUP(CG49,#REF!,2,FALSE)=0,\"\",VLOOKUP(CG49,#REF!,2,FALSE) ) )","v":""},{"$f":"IF(AND(TRIM(CI47)=\"\", TRIM(CI48)=\"\"), \"\", (IF(ISNUMBER(CI47),CI47,0)+IF(ISNUMBER(CI48),CI48,0)))","v":52412.512999999999},null,null,null,{"$f":"IF(TRIM(CL49)=\"\", \"\", IF(VLOOKUP(CL49,#REF!,2,FALSE)=0,\"\",VLOOKUP(CL49,#REF!,2,FALSE) ) )","v":""},{"$f":"IF(AND(TRIM(CN47)=\"\",TRIM(CN48)=\"\"),\"\",CN47+CN48)","v":1039.432},null,null,null,null,{"$f":"IF(AND(TRIM(CS47)=\"\",TRIM(CS48)=\"\"),\"\",CS47+CS48)","v":25314.41},null,null,null,null,{"$f":"IF(AND(TRIM(CX47)=\"\",TRIM(CX48)=\"\"),\"\",CX47+CX48)","v":508.815},null,null,null,null,{"$f":"IF(AND(TRIM(DC47)=\"\",TRIM(DC48)=\"\"),\"\",DC47+DC48)","v":32934.15},null,null,null,{"$f":"IF(TRIM(DF49)=\"\", \"\", IF(VLOOKUP(DF49,#REF!,2,FALSE)=0,\"\",VLOOKUP(DF49,#REF!,2,FALSE) ) )","v":""},{"$f":"IF(AND(TRIM(DH47)=\"\", TRIM(DH48)=\"\"), \"\", SUM(DH47,DH48) )","v":126222.55},null,null,null,{"$f":"IF(TRIM(DK49)=\"\", \"\", IF(VLOOKUP(DK49,#REF!,2,FALSE)=0,\"\",VLOOKUP(DK49,#REF!,2,FALSE) ) )","v":""}]
[null,"W075","W075","Wood wastes ","HAZ","Hazardous ",0,null,null,null,null,0,null,null,null,null,0,null,null,null,null,0,null,null,null,null,0.31900000000000001,null,null,null,null,0,null,null,null,null,0,null,null,null,null,6.1230000000000002,null,null,null,null,0,null,null,null,null,0,null,null,null,null,2.95,null,null,null,null,0.91500000000000004,null,null,null,{"$f":"IF(TRIM(BM50)=\"\", \"\", IF(VLOOKUP(BM50,#REF!,2,FALSE)=0,\"\",VLOOKUP(BM50,#REF!,2,FALSE) ) )","v":""},{"$f":"IF(AND(TRIM(Q50)=\"\",TRIM(V50)=\"\",TRIM(AA50)=\"\", TRIM(AF50)=\"\", TRIM(AK50)=\"\", TRIM(AP50)=\"\", TRIM(AU50)=\"\", TRIM(AZ50)=\"\", TRIM(BE50)=\"\", TRIM(BJ50)=\"\"),\"\",Q50+V50+AA50+AF50+AK50+AP50+AU50+AZ50+BE50+BJ50)","v":10.307},null,null,null,{"$f":"IF(TRIM(BR50)=\"\", \"\", IF(VLOOKUP(BR50,#REF!,2,FALSE)=0,\"\",VLOOKUP(BR50,#REF!,2,FALSE) ) )","v":""},0,null,null,null,null,0,null,null,null,null,2.9729999999999999,null,null,null,{"$f":"IF(TRIM(CG50)=\"\", \"\", IF(VLOOKUP(CG50,#REF!,2,FALSE)=0,\"\",VLOOKUP(CG50,#REF!,2,FALSE) ) )","v":""},{"$f":"IF(AND(TRIM(BY50)=\"\",TRIM(CD50)=\"\"),\"\",BY50+CD50)","v":2.9729999999999999},null,null,null,{"$f":"IF(TRIM(CL50)=\"\", \"\", IF(VLOOKUP(CL50,#REF!,2,FALSE)=0,\"\",VLOOKUP(CL50,#REF!,2,FALSE) ) )","v":""},0,null,null,null,null,0,null,null,null,null,0,null,null,null,null,1.5740000000000001,null,null,null,{"$f":"IF(TRIM(DF50)=\"\", \"\", IF(VLOOKUP(DF50,#REF!,2,FALSE)=0,\"\",VLOOKUP(DF50,#REF!,2,FALSE) ) )","v":""},{"$f":"IF(AND(TRIM(G50)=\"\",TRIM(L50)=\"\",TRIM(BO50)=\"\",TRIM(BT50)=\"\",TRIM(CI50)=\"\",TRIM(CN50)=\"\",TRIM(CS50)=\"\",TRIM(CX50)=\"\",TRIM(DC50)=\"\"),\"\",SUM(G50,L50,BO50,BT50,CI50,CN50,CS50,CX50,DC50))","v":14.853999999999999},null,null,null,{"$f":"IF(TRIM(DK50)=\"\", \"\", IF(VLOOKUP(DK50,#REF!,2,FALSE)=0,\"\",VLOOKUP(DK50,#REF!,2,FALSE) ) )","v":""}]
[null,null,"W075",null,"NHAZ","Non-hazardous",24.96,null,null,null,null,33.58,null,null,null,null,880.428,null,null,null,null,130.851,null,null,null,null,51248.671999999999,null,null,null,null,88.617000000000004,null,null,null,null,20.5,null,null,null,null,1285.5709999999999,null,null,null,null,141.69999999999999,null,null,null,null,1031.338,null,null,null,null,1820.0909999999999,null,null,null,null,7355.0770000000002,null,null,null,{"$f":"IF(TRIM(BM51)=\"\", \"\", IF(VLOOKUP(BM51,#REF!,2,FALSE)=0,\"\",VLOOKUP(BM51,#REF!,2,FALSE) ) )","v":""},{"$f":"IF(AND(TRIM(Q51)=\"\",TRIM(V51)=\"\",TRIM(AA51)=\"\", TRIM(AF51)=\"\", TRIM(AK51)=\"\", TRIM(AP51)=\"\", TRIM(AU51)=\"\", TRIM(AZ51)=\"\", TRIM(BE51)=\"\", TRIM(BJ51)=\"\"),\"\",Q51+V51+AA51+AF51+AK51+AP51+AU51+AZ51+BE51+BJ51)","v":64002.845000000001},null,null,null,{"$f":"IF(TRIM(BR51)=\"\", \"\", IF(VLOOKUP(BR51,#REF!,2,FALSE)=0,\"\",VLOOKUP(BR51,#REF!,2,FALSE) ) )","v":""},634.74699999999996,null,null,null,null,44.61,null,null,null,null,29923.472000000002,null,null,null,{"$f":"IF(TRIM(CG51)=\"\", \"\", IF(VLOOKUP(CG51,#REF!,2,FALSE)=0,\"\",VLOOKUP(CG51,#REF!,2,FALSE) ) )","v":""},{"$f":"IF(AND(TRIM(BY51)=\"\",TRIM(CD51)=\"\"),\"\",BY51+CD51)","v":29968.081999999999},null,null,null,{"$f":"IF(TRIM(CL51)=\"\", \"\", IF(VLOOKUP(CL51,#REF!,2,FALSE)=0,\"\",VLOOKUP(CL51,#REF!,2,FALSE) ) )","v":""},8204.35,null,null,null,null,8864.902,null,null,null,null,20.78,null,null,null,null,14358.311,null,null,null,{"$f":"IF(TRIM(DF51)=\"\", \"\", IF(VLOOKUP(DF51,#REF!,2,FALSE)=0,\"\",VLOOKUP(DF51,#REF!,2,FALSE) ) )","v":""},{"$f":"IF(AND(TRIM(G51)=\"\",TRIM(L51)=\"\",TRIM(BO51)=\"\",TRIM(BT51)=\"\",TRIM(CI51)=\"\",TRIM(CN51)=\"\",TRIM(CS51)=\"\",TRIM(CX51)=\"\",TRIM(DC51)=\"\"),\"\",SUM(G51,L51,BO51,BT51,CI51,CN51,CS51,CX51,DC51))","v":126112.557},null,null,null,{"$f":"IF(TRIM(DK51)=\"\", \"\", IF(VLOOKUP(DK51,#REF!,2,FALSE)=0,\"\",VLOOKUP(DK51,#REF!,2,FALSE) ) )","v":""}]
[null,null,"W075",null,"HAZ_NHAZ","Total",{"$f":"IF(AND(TRIM(G50)=\"\",TRIM(G51)=\"\"),\"\",G50+G51)","v":24.96},null,null,null,null,{"$f":"IF(AND(TRIM(L50)=\"\",TRIM(L51)=\"\"),\"\",L50+L51)","v":33.58},null,null,null,null,{"$f":"IF(AND(TRIM(Q50)=\"\",TRIM(Q51)=\"\"),\"\",Q50+Q51)","v":880.428},null,null,null,null,{"$f":"IF(AND(TRIM(V50)=\"\",TRIM(V51)=\"\"),\"\",V50+V51)","v":130.851},null,null,null,null,{"$f":"IF(AND(TRIM(AA50)=\"\",TRIM(AA51)=\"\"),\"\",AA50+AA51)","v":51248.991000000002},null,null,null,null,{"$f":"IF(AND(TRIM(AF50)=\"\",TRIM(AF51)=\"\"),\"\",AF50+AF51)","v":88.617000000000004},null,null,null,null,{"$f":"IF(AND(TRIM(AK50)=\"\",TRIM(AK51)=\"\"),\"\",AK50+AK51)","v":20.5},null,null,null,null,{"$f":"IF(AND(TRIM(AP50)=\"\",TRIM(AP51)=\"\"),\"\",AP50+AP51)","v":1291.694},null,null,null,null,{"$f":"IF(AND(TRIM(AU50)=\"\",TRIM(AU51)=\"\"),\"\",AU50+AU51)","v":141.69999999999999},null,null,null,null,{"$f":"IF(AND(TRIM(AZ50)=\"\",TRIM(AZ51)=\"\"),\"\",AZ50+AZ51)","v":1031.338},null,null,null,null,{"$f":"IF(AND(TRIM(BE50)=\"\",TRIM(BE51)=\"\"),\"\",BE50+BE51)","v":1823.0409999999999},null,null,null,null,{"$f":"IF(AND(TRIM(BJ50)=\"\",TRIM(BJ51)=\"\"),\"\",BJ50+BJ51)","v":7355.9920000000002},null,null,null,{"$f":"IF(TRIM(BM52)=\"\", \"\", IF(VLOOKUP(BM52,#REF!,2,FALSE)=0,\"\",VLOOKUP(BM52,#REF!,2,FALSE) ) )","v":""},{"$f":"IF(AND(TRIM(BO50)=\"\", TRIM(BO51)=\"\"), \"\", (IF(ISNUMBER(BO50),BO50,0)+IF(ISNUMBER(BO51),BO51,0)))","v":64013.152000000002},null,null,null,{"$f":"IF(TRIM(BR52)=\"\", \"\", IF(VLOOKUP(BR52,#REF!,2,FALSE)=0,\"\",VLOOKUP(BR52,#REF!,2,FALSE) ) )","v":""},{"$f":"IF(AND(TRIM(BT50)=\"\",TRIM(BT51)=\"\"),\"\",BT50+BT51)","v":634.74699999999996},null,null,null,null,{"$f":"IF(AND(TRIM(BY50)=\"\",TRIM(BY51)=\"\"),\"\",BY50+BY51)","v":44.61},null,null,null,null,{"$f":"IF(AND(TRIM(CD50)=\"\",TRIM(CD51)=\"\"),\"\",CD50+CD51)","v":29926.445},null,null,null,{"$f":"IF(TRIM(CG52)=\"\", \"\", IF(VLOOKUP(CG52,#REF!,2,FALSE)=0,\"\",VLOOKUP(CG52,#REF!,2,FALSE) ) )","v":""},{"$f":"IF(AND(TRIM(CI50)=\"\", TRIM(CI51)=\"\"), \"\", (IF(ISNUMBER(CI50),CI50,0)+IF(ISNUMBER(CI51),CI51,0)))","v":29971.055},null,null,null,{"$f":"IF(TRIM(CL52)=\"\", \"\", IF(VLOOKUP(CL52,#REF!,2,FALSE)=0,\"\",VLOOKUP(CL52,#REF!,2,FALSE) ) )","v":""},{"$f":"IF(AND(TRIM(CN50)=\"\",TRIM(CN51)=\"\"),\"\",CN50+CN51)","v":8204.35},null,null,null,null,{"$f":"IF(AND(TRIM(CS50)=\"\",TRIM(CS51)=\"\"),\"\",CS50+CS51)","v":8864.902},null,null,null,null,{"$f":"IF(AND(TRIM(CX50)=\"\",TRIM(CX51)=\"\"),\"\",CX50+CX51)","v":20.78},null,null,null,null,{"$f":"IF(AND(TRIM(DC50)=\"\",TRIM(DC51)=\"\"),\"\",DC50+DC51)","v":14359.885},null,null,null,{"$f":"IF(TRIM(DF52)=\"\", \"\", IF(VLOOKUP(DF52,#REF!,2,FALSE)=0,\"\",VLOOKUP(DF52,#REF!,2,FALSE) ) )","v":""},{"$f":"IF(AND(TRIM(DH50)=\"\", TRIM(DH51)=\"\"), \"\", SUM(DH50,DH51) )","v":126127.41099999999},null,null,null,{"$f":"IF(TRIM(DK52)=\"\", \"\", IF(VLOOKUP(DK52,#REF!,2,FALSE)=0,\"\",VLOOKUP(DK52,#REF!,2,FALSE) ) )","v":""}]
[null,"W076",null,"Textile wastes ",null,"Not applicable",0,null,null,null,null,0,null,null,null,null,0,null,null,null,null,0,null,null,null,null,0,null,null,null,null,0,null,null,null,null,0,null,null,null,null,0,null,null,null,null,0,null,null,null,null,0,null,null,null,null,0,null,null,null,null,0,null,null,null,null,null,null,null,null,null,0,null,null,null,null,0,null,null,null,null,0,null,null,null,null,null,null,null,null,null,0,null,null,null,null,0,null,null,null,null,0,null,null,null,null,0]
[null,null,"W076",null,"NHAZ","Non-hazardous",0,null,null,null,null,0.1,null,null,null,null,27.41,null,null,null,null,3909.4229999999998,null,null,null,null,0,null,null,null,null,1.4650000000000001,null,null,null,null,0.1,null,null,null,null,2179.0230000000001,null,null,null,null,16.82,null,null,null,null,5.3999999999999999E-2,null,null,null,null,107.369,null,null,null,null,124.47799999999999,null,null,null,{"$f":"IF(TRIM(BM54)=\"\", \"\", IF(VLOOKUP(BM54,#REF!,2,FALSE)=0,\"\",VLOOKUP(BM54,#REF!,2,FALSE) ) )","v":""},{"$f":"IF(AND(TRIM(Q54)=\"\",TRIM(V54)=\"\",TRIM(AA54)=\"\", TRIM(AF54)=\"\", TRIM(AK54)=\"\", TRIM(AP54)=\"\", TRIM(AU54)=\"\", TRIM(AZ54)=\"\", TRIM(BE54)=\"\", TRIM(BJ54)=\"\"),\"\",Q54+V54+AA54+AF54+AK54+AP54+AU54+AZ54+BE54+BJ54)","v":6366.1419999999998},null,null,null,{"$f":"IF(TRIM(BR54)=\"\", \"\", IF(VLOOKUP(BR54,#REF!,2,FALSE)=0,\"\",VLOOKUP(BR54,#REF!,2,FALSE) ) )","v":""},1.2250000000000001,null,null,null,null,0,null,null,null,null,102.67100000000001,null,null,null,{"$f":"IF(TRIM(CG54)=\"\", \"\", IF(VLOOKUP(CG54,#REF!,2,FALSE)=0,\"\",VLOOKUP(CG54,#REF!,2,FALSE) ) )","v":""},{"$f":"IF(AND(TRIM(BY54)=\"\",TRIM(CD54)=\"\"),\"\",BY54+CD54)","v":102.67100000000001},null,null,null,{"$f":"IF(TRIM(CL54)=\"\", \"\", IF(VLOOKUP(CL54,#REF!,2,FALSE)=0,\"\",VLOOKUP(CL54,#REF!,2,FALSE) ) )","v":""},0.49399999999999999,null,null,null,null,125.035,null,null,null,null,86.04,null,null,null,null,3340.9580000000001,null,null,null,{"$f":"IF(TRIM(DF54)=\"\", \"\", IF(VLOOKUP(DF54,#REF!,2,FALSE)=0,\"\",VLOOKUP(DF54,#REF!,2,FALSE) ) )","v":""},{"$f":"IF(AND(TRIM(G54)=\"\",TRIM(L54)=\"\",TRIM(BO54)=\"\",TRIM(BT54)=\"\",TRIM(CI54)=\"\",TRIM(CN54)=\"\",TRIM(CS54)=\"\",TRIM(CX54)=\"\",TRIM(DC54)=\"\"),\"\",SUM(G54,L54,BO54,BT54,CI54,CN54,CS54,CX54,DC54))","v":10022.665000000001},null,null,null,{"$f":"IF(TRIM(DK54)=\"\", \"\", IF(VLOOKUP(DK54,#REF!,2,FALSE)=0,\"\",VLOOKUP(DK54,#REF!,2,FALSE) ) )","v":""}]
[null,null,"W076",null,"HAZ_NHAZ","Total",{"$f":"IF(AND(TRIM(G53)=\"\",TRIM(G54)=\"\"),\"\",G53+G54)","v":0},null,null,null,null,{"$f":"IF(AND(TRIM(L53)=\"\",TRIM(L54)=\"\"),\"\",L53+L54)","v":0.1},null,null,null,null,{"$f":"IF(AND(TRIM(Q53)=\"\",TRIM(Q54)=\"\"),\"\",Q53+Q54)","v":27.41},null,null,null,null,{"$f":"IF(AND(TRIM(V53)=\"\",TRIM(V54)=\"\"),\"\",V53+V54)","v":3909.4229999999998},null,null,null,null,{"$f":"IF(AND(TRIM(AA53)=\"\",TRIM(AA54)=\"\"),\"\",AA53+AA54)","v":0},null,null,null,null,{"$f":"IF(AND(TRIM(AF53)=\"\",TRIM(AF54)=\"\"),\"\",AF53+AF54)","v":1.4650000000000001},null,null,null,null,{"$f":"IF(AND(TRIM(AK53)=\"\",TRIM(AK54)=\"\"),\"\",AK53+AK54)","v":0.1},null,null,null,null,{"$f":"IF(AND(TRIM(AP53)=\"\",TRIM(AP54)=\"\"),\"\",AP53+AP54)","v":2179.0230000000001},null,null,null,null,{"$f":"IF(AND(TRIM(AU53)=\"\",TRIM(AU54)=\"\"),\"\",AU53+AU54)","v":16.82},null,null,null,null,{"$f":"IF(AND(TRIM(AZ53)=\"\",TRIM(AZ54)=\"\"),\"\",AZ53+AZ54)","v":5.3999999999999999E-2},null,null,null,null,{"$f":"IF(AND(TRIM(BE53)=\"\",TRIM(BE54)=\"\"),\"\",BE53+BE54)","v":107.369},null,null,null,null,{"$f":"IF(AND(TRIM(BJ53)=\"\",TRIM(BJ54)=\"\"),\"\",BJ53+BJ54)","v":124.47799999999999},null,null,null,{"$f":"IF(TRIM(BM55)=\"\", \"\", IF(VLOOKUP(BM55,#REF!,2,FALSE)=0,\"\",VLOOKUP(BM55,#REF!,2,FALSE) ) )","v":""},{"$f":"IF(AND(TRIM(BO53)=\"\", TRIM(BO54)=\"\"), \"\", (IF(ISNUMBER(BO53),BO53,0)+IF(ISNUMBER(BO54),BO54,0)))","v":6366.1419999999998},null,null,null,{"$f":"IF(TRIM(BR55)=\"\", \"\", IF(VLOOKUP(BR55,#REF!,2,FALSE)=0,\"\",VLOOKUP(BR55,#REF!,2,FALSE) ) )","v":""},{"$f":"IF(AND(TRIM(BT53)=\"\",TRIM(BT54)=\"\"),\"\",BT53+BT54)","v":1.2250000000000001},null,null,null,null,{"$f":"IF(AND(TRIM(BY53)=\"\",TRIM(BY54)=\"\"),\"\",BY53+BY54)","v":0},null,null,null,null,{"$f":"IF(AND(TRIM(CD53)=\"\",TRIM(CD54)=\"\"),\"\",CD53+CD54)","v":102.67100000000001},null,null,null,{"$f":"IF(TRIM(CG55)=\"\", \"\", IF(VLOOKUP(CG55,#REF!,2,FALSE)=0,\"\",VLOOKUP(CG55,#REF!,2,FALSE) ) )","v":""},{"$f":"IF(AND(TRIM(CI53)=\"\", TRIM(CI54)=\"\"), \"\", (IF(ISNUMBER(CI53),CI53,0)+IF(ISNUMBER(CI54),CI54,0)))","v":102.67100000000001},null,null,null,{"$f":"IF(TRIM(CL55)=\"\", \"\", IF(VLOOKUP(CL55,#REF!,2,FALSE)=0,\"\",VLOOKUP(CL55,#REF!,2,FALSE) ) )","v":""},{"$f":"IF(AND(TRIM(CN53)=\"\",TRIM(CN54)=\"\"),\"\",CN53+CN54)","v":0.49399999999999999},null,null,null,null,{"$f":"IF(AND(TRIM(CS53)=\"\",TRIM(CS54)=\"\"),\"\",CS53+CS54)","v":125.035},null,null,null,null,{"$f":"IF(AND(TRIM(CX53)=\"\",TRIM(CX54)=\"\"),\"\",CX53+CX54)","v":86.04},null,null,null,null,{"$f":"IF(AND(TRIM(DC53)=\"\",TRIM(DC54)=\"\"),\"\",DC53+DC54)","v":3340.9580000000001},null,null,null,{"$f":"IF(TRIM(DF55)=\"\", \"\", IF(VLOOKUP(DF55,#REF!,2,FALSE)=0,\"\",VLOOKUP(DF55,#REF!,2,FALSE) ) )","v":""},{"$f":"IF(AND(TRIM(DH53)=\"\", TRIM(DH54)=\"\"), \"\", SUM(DH53,DH54) )","v":10022.665000000001},null,null,null,{"$f":"IF(TRIM(DK55)=\"\", \"\", IF(VLOOKUP(DK55,#REF!,2,FALSE)=0,\"\",VLOOKUP(DK55,#REF!,2,FALSE) ) )","v":""}]
[null,"W077","W077","Waste containing PCB ","HAZ","Hazardous ",0,null,null,null,null,0,null,null,null,null,1.22,null,null,null,null,0,null,null,null,null,2.57,null,null,null,null,0,null,null,null,null,0,null,null,null,null,0,null,null,null,null,0,null,null,null,null,0,null,null,null,null,2.72,null,null,null,null,0,null,null,null,{"$f":"IF(TRIM(BM56)=\"\", \"\", IF(VLOOKUP(BM56,#REF!,2,FALSE)=0,\"\",VLOOKUP(BM56,#REF!,2,FALSE) ) )","v":""},{"$f":"IF(AND(TRIM(Q56)=\"\",TRIM(V56)=\"\",TRIM(AA56)=\"\", TRIM(AF56)=\"\", TRIM(AK56)=\"\", TRIM(AP56)=\"\", TRIM(AU56)=\"\", TRIM(AZ56)=\"\", TRIM(BE56)=\"\", TRIM(BJ56)=\"\"),\"\",Q56+V56+AA56+AF56+AK56+AP56+AU56+AZ56+BE56+BJ56)","v":6.51},null,null,null,{"$f":"IF(TRIM(BR56)=\"\", \"\", IF(VLOOKUP(BR56,#REF!,2,FALSE)=0,\"\",VLOOKUP(BR56,#REF!,2,FALSE) ) )","v":""},0,null,null,null,null,0,null,null,null,null,0,null,null,null,{"$f":"IF(TRIM(CG56)=\"\", \"\", IF(VLOOKUP(CG56,#REF!,2,FALSE)=0,\"\",VLOOKUP(CG56,#REF!,2,FALSE) ) )","v":""},{"$f":"IF(AND(TRIM(BY56)=\"\",TRIM(CD56)=\"\"),\"\",BY56+CD56)","v":0},null,null,null,{"$f":"IF(TRIM(CL56)=\"\", \"\", IF(VLOOKUP(CL56,#REF!,2,FALSE)=0,\"\",VLOOKUP(CL56,#REF!,2,FALSE) ) )","v":""},15.336,null,null,null,null,0.30599999999999999,null,null,null,null,0,null,null,null,null,0,null,null,null,{"$f":"IF(TRIM(DF56)=\"\", \"\", IF(VLOOKUP(DF56,#REF!,2,FALSE)=0,\"\",VLOOKUP(DF56,#REF!,2,FALSE) ) )","v":""},{"$f":"IF(AND(TRIM(G56)=\"\",TRIM(L56)=\"\",TRIM(BO56)=\"\",TRIM(BT56)=\"\",TRIM(CI56)=\"\",TRIM(CN56)=\"\",TRIM(CS56)=\"\",TRIM(CX56)=\"\",TRIM(DC56)=\"\"),\"\",SUM(G56,L56,BO56,BT56,CI56,CN56,CS56,CX56,DC56))","v":22.152000000000001},null,null,null,{"$f":"IF(TRIM(DK56)=\"\", \"\", IF(VLOOKUP(DK56,#REF!,2,FALSE)=0,\"\",VLOOKUP(DK56,#REF!,2,FALSE) ) )","v":""}]
[null,null,null,null,null,"Not applicable",0,null,null,null,null,0,null,null,null,null,0,null,null,null,null,0,null,null,null,null,0,null,null,null,null,0,null,null,null,null,0,null,null,null,null,0,null,null,null,null,0,null,null,null,null,0,null,null,null,null,0,null,null,null,null,0,null,null,null,null,null,null,null,null,null,0,null,null,null,null,0,null,null,null,null,0,null,null,null,null,null,null,null,null,null,0,null,null,null,null,0,null,null,null,null,0,null,null,null,null,0]
[null,null,"W077",null,"HAZ_NHAZ","Total",{"$f":"IF(AND(TRIM(G56)=\"\",TRIM(G57)=\"\"),\"\",G56+G57)","v":0},null,null,null,null,{"$f":"IF(AND(TRIM(L56)=\"\",TRIM(L57)=\"\"),\"\",L56+L57)","v":0},null,null,null,null,{"$f":"IF(AND(TRIM(Q56)=\"\",TRIM(Q57)=\"\"),\"\",Q56+Q57)","v":1.22},null,null,null,null,{"$f":"IF(AND(TRIM(V56)=\"\",TRIM(V57)=\"\"),\"\",V56+V57)","v":0},null,null,null,null,{"$f":"IF(AND(TRIM(AA56)=\"\",TRIM(AA57)=\"\"),\"\",AA56+AA57)","v":2.57},null,null,null,null,{"$f":"IF(AND(TRIM(AF56)=\"\",TRIM(AF57)=\"\"),\"\",AF56+AF57)","v":0},null,null,null,null,{"$f":"IF(AND(TRIM(AK56)=\"\",TRIM(AK57)=\"\"),\"\",AK56+AK57)","v":0},null,null,null,null,{"$f":"IF(AND(TRIM(AP56)=\"\",TRIM(AP57)=\"\"),\"\",AP56+AP57)","v":0},null,null,null,null,{"$f":"IF(AND(TRIM(AU56)=\"\",TRIM(AU57)=\"\"),\"\",AU56+AU57)","v":0},null,null,null,null,{"$f":"IF(AND(TRIM(AZ56)=\"\",TRIM(AZ57)=\"\"),\"\",AZ56+AZ57)","v":0},null,null,null,null,{"$f":"IF(AND(TRIM(BE56)=\"\",TRIM(BE57)=\"\"),\"\",BE56+BE57)","v":2.72},null,null,null,null,{"$f":"IF(AND(TRIM(BJ56)=\"\",TRIM(BJ57)=\"\"),\"\",BJ56+BJ57)","v":0},null,null,null,{"$f":"IF(TRIM(BM58)=\"\", \"\", IF(VLOOKUP(BM58,#REF!,2,FALSE)=0,\"\",VLOOKUP(BM58,#REF!,2,FALSE) ) )","v":""},{"$f":"IF(AND(TRIM(BO56)=\"\", TRIM(BO57)=\"\"), \"\", (IF(ISNUMBER(BO56),BO56,0)+IF(ISNUMBER(BO57),BO57,0)))","v":6.51},null,null,null,{"$f":"IF(TRIM(BR58)=\"\", \"\", IF(VLOOKUP(BR58,#REF!,2,FALSE)=0,\"\",VLOOKUP(BR58,#REF!,2,FALSE) ) )","v":""},{"$f":"IF(AND(TRIM(BT56)=\"\",TRIM(BT57)=\"\"),\"\",BT56+BT57)","v":0},null,null,null,null,{"$f":"IF(AND(TRIM(BY56)=\"\",TRIM(BY57)=\"\"),\"\",BY56+BY57)","v":0},null,null,null,null,{"$f":"IF(AND(TRIM(CD56)=\"\",TRIM(CD57)=\"\"),\"\",CD56+CD57)","v":0},null,null,null,{"$f":"IF(TRIM(CG58)=\"\", \"\", IF(VLOOKUP(CG58,#REF!,2,FALSE)=0,\"\",VLOOKUP(CG58,#REF!,2,FALSE) ) )","v":""},{"$f":"IF(AND(TRIM(CI56)=\"\", TRIM(CI57)=\"\"), \"\", (IF(ISNUMBER(CI56),CI56,0)+IF(ISNUMBER(CI57),CI57,0)))","v":0},null,null,null,{"$f":"IF(TRIM(CL58)=\"\", \"\", IF(VLOOKUP(CL58,#REF!,2,FALSE)=0,\"\",VLOOKUP(CL58,#REF!,2,FALSE) ) )","v":""},{"$f":"IF(AND(TRIM(CN56)=\"\",TRIM(CN57)=\"\"),\"\",CN56+CN57)","v":15.336},null,null,null,null,{"$f":"IF(AND(TRIM(CS56)=\"\",TRIM(CS57)=\"\"),\"\",CS56+CS57)","v":0.30599999999999999},null,null,null,null,{"$f":"IF(AND(TRIM(CX56)=\"\",TRIM(CX57)=\"\"),\"\",CX56+CX57)","v":0},null,null,null,null,{"$f":"IF(AND(TRIM(DC56)=\"\",TRIM(DC57)=\"\"),\"\",DC56+DC57)","v":0},null,null,null,{"$f":"IF(TRIM(DF58)=\"\", \"\", IF(VLOOKUP(DF58,#REF!,2,FALSE)=0,\"\",VLOOKUP(DF58,#REF!,2,FALSE) ) )","v":""},{"$f":"IF(AND(TRIM(DH56)=\"\", TRIM(DH57)=\"\"), \"\", SUM(DH56,DH57) )","v":22.152000000000001},null,null,null,{"$f":"IF(TRIM(DK58)=\"\", \"\", IF(VLOOKUP(DK58,#REF!,2,FALSE)=0,\"\",VLOOKUP(DK58,#REF!,2,FALSE) ) )","v":""}]
[null,"W08A","W08A","Discarded equipment (except discarded vehicles and batteries and accumulators waste) (W08 except W081, W0841)","HAZ","Hazardous ",24.986000000000001,null,null,null,null,17.795000000000002,null,null,null,null,538.15800000000002,null,null,null,null,11.109,null,null,null,null,5.8940000000000001,null,null,null,null,8.8239999999999998,null,null,null,null,5.67,null,null,null,null,35.040999999999997,null,null,null,null,29.247,null,null,null,null,50.000999999999998,null,null,null,null,177.27,null,null,null,null,41.606000000000002,null,null,null,{"$f":"IF(TRIM(BM59)=\"\", \"\", IF(VLOOKUP(BM59,#REF!,2,FALSE)=0,\"\",VLOOKUP(BM59,#REF!,2,FALSE) ) )","v":""},{"$f":"IF(AND(TRIM(Q59)=\"\",TRIM(V59)=\"\",TRIM(AA59)=\"\", TRIM(AF59)=\"\", TRIM(AK59)=\"\", TRIM(AP59)=\"\", TRIM(AU59)=\"\", TRIM(AZ59)=\"\", TRIM(BE59)=\"\", TRIM(BJ59)=\"\"),\"\",Q59+V59+AA59+AF59+AK59+AP59+AU59+AZ59+BE59+BJ59)","v":902.82},null,null,null,{"$f":"IF(TRIM(BR59)=\"\", \"\", IF(VLOOKUP(BR59,#REF!,2,FALSE)=0,\"\",VLOOKUP(BR59,#REF!,2,FALSE) ) )","v":""},363.721,null,null,null,null,16.437999999999999,null,null,null,null,188.511,null,null,null,{"$f":"IF(TRIM(CG59)=\"\", \"\", IF(VLOOKUP(CG59,#REF!,2,FALSE)=0,\"\",VLOOKUP(CG59,#REF!,2,FALSE) ) )","v":""},{"$f":"IF(AND(TRIM(BY59)=\"\",TRIM(CD59)=\"\"),\"\",BY59+CD59)","v":204.94900000000001},null,null,null,{"$f":"IF(TRIM(CL59)=\"\", \"\", IF(VLOOKUP(CL59,#REF!,2,FALSE)=0,\"\",VLOOKUP(CL59,#REF!,2,FALSE) ) )","v":""},83.911000000000001,null,null,null,null,3066.7220000000002,null,null,null,null,0.01,null,null,null,null,24044.501,null,null,null,{"$f":"IF(TRIM(DF59)=\"\", \"\", IF(VLOOKUP(DF59,#REF!,2,FALSE)=0,\"\",VLOOKUP(DF59,#REF!,2,FALSE) ) )","v":""},{"$f":"IF(AND(TRIM(G59)=\"\",TRIM(L59)=\"\",TRIM(BO59)=\"\",TRIM(BT59)=\"\",TRIM(CI59)=\"\",TRIM(CN59)=\"\",TRIM(CS59)=\"\",TRIM(CX59)=\"\",TRIM(DC59)=\"\"),\"\",SUM(G59,L59,BO59,BT59,CI59,CN59,CS59,CX59,DC59))","v":28709.415000000001},null,null,null,{"$f":"IF(TRIM(DK59)=\"\", \"\", IF(VLOOKUP(DK59,#REF!,2,FALSE)=0,\"\",VLOOKUP(DK59,#REF!,2,FALSE) ) )","v":""}]
[null,null,"W08A",null,"NHAZ","Non-hazardous",0,null,null,null,null,20.5,null,null,null,null,19.13,null,null,null,null,0.21,null,null,null,null,0,null,null,null,null,5.3339999999999996,null,null,null,null,4.68,null,null,null,null,1.048,null,null,null,null,41.289000000000001,null,null,null,null,21.158999999999999,null,null,null,null,101.358,null,null,null,null,83.49,null,null,null,{"$f":"IF(TRIM(BM60)=\"\", \"\", IF(VLOOKUP(BM60,#REF!,2,FALSE)=0,\"\",VLOOKUP(BM60,#REF!,2,FALSE) ) )","v":""},{"$f":"IF(AND(TRIM(Q60)=\"\",TRIM(V60)=\"\",TRIM(AA60)=\"\", TRIM(AF60)=\"\", TRIM(AK60)=\"\", TRIM(AP60)=\"\", TRIM(AU60)=\"\", TRIM(AZ60)=\"\", TRIM(BE60)=\"\", TRIM(BJ60)=\"\"),\"\",Q60+V60+AA60+AF60+AK60+AP60+AU60+AZ60+BE60+BJ60)","v":277.69799999999998},null,null,null,{"$f":"IF(TRIM(BR60)=\"\", \"\", IF(VLOOKUP(BR60,#REF!,2,FALSE)=0,\"\",VLOOKUP(BR60,#REF!,2,FALSE) ) )","v":""},7.3650000000000002,null,null,null,null,6.4000000000000001E-2,null,null,null,null,9947.5789999999997,null,null,null,{"$f":"IF(TRIM(CG60)=\"\", \"\", IF(VLOOKUP(CG60,#REF!,2,FALSE)=0,\"\",VLOOKUP(CG60,#REF!,2,FALSE) ) )","v":""},{"$f":"IF(AND(TRIM(BY60)=\"\",TRIM(CD60)=\"\"),\"\",BY60+CD60)","v":9947.643},null,null,null,{"$f":"IF(TRIM(CL60)=\"\", \"\", IF(VLOOKUP(CL60,#REF!,2,FALSE)=0,\"\",VLOOKUP(CL60,#REF!,2,FALSE) ) )","v":""},1.0860000000000001,null,null,null,null,277.53100000000001,null,null,null,null,18.57,null,null,null,null,9594.9140000000007,null,null,null,{"$f":"IF(TRIM(DF60)=\"\", \"\", IF(VLOOKUP(DF60,#REF!,2,FALSE)=0,\"\",VLOOKUP(DF60,#REF!,2,FALSE) ) )","v":""},{"$f":"IF(AND(TRIM(G60)=\"\",TRIM(L60)=\"\",TRIM(BO60)=\"\",TRIM(BT60)=\"\",TRIM(CI60)=\"\",TRIM(CN60)=\"\",TRIM(CS60)=\"\",TRIM(CX60)=\"\",TRIM(DC60)=\"\"),\"\",SUM(G60,L60,BO60,BT60,CI60,CN60,CS60,CX60,DC60))","v":20145.307000000001},null,null,null,{"$f":"IF(TRIM(DK60)=\"\", \"\", IF(VLOOKUP(DK60,#REF!,2,FALSE)=0,\"\",VLOOKUP(DK60,#REF!,2,FALSE) ) )","v":""}]
[null,null,"W08A",null,"HAZ_NHAZ","Total",{"$f":"IF(AND(TRIM(G59)=\"\",TRIM(G60)=\"\"),\"\",G59+G60)","v":24.986000000000001},null,null,null,null,{"$f":"IF(AND(TRIM(L59)=\"\",TRIM(L60)=\"\"),\"\",L59+L60)","v":38.295000000000002},null,null,null,null,{"$f":"IF(AND(TRIM(Q59)=\"\",TRIM(Q60)=\"\"),\"\",Q59+Q60)","v":557.28800000000001},null,null,null,null,{"$f":"IF(AND(TRIM(V59)=\"\",TRIM(V60)=\"\"),\"\",V59+V60)","v":11.319000000000001},null,null,null,null,{"$f":"IF(AND(TRIM(AA59)=\"\",TRIM(AA60)=\"\"),\"\",AA59+AA60)","v":5.8940000000000001},null,null,null,null,{"$f":"IF(AND(TRIM(AF59)=\"\",TRIM(AF60)=\"\"),\"\",AF59+AF60)","v":14.157999999999999},null,null,null,null,{"$f":"IF(AND(TRIM(AK59)=\"\",TRIM(AK60)=\"\"),\"\",AK59+AK60)","v":10.35},null,null,null,null,{"$f":"IF(AND(TRIM(AP59)=\"\",TRIM(AP60)=\"\"),\"\",AP59+AP60)","v":36.088999999999999},null,null,null,null,{"$f":"IF(AND(TRIM(AU59)=\"\",TRIM(AU60)=\"\"),\"\",AU59+AU60)","v":70.536000000000001},null,null,null,null,{"$f":"IF(AND(TRIM(AZ59)=\"\",TRIM(AZ60)=\"\"),\"\",AZ59+AZ60)","v":71.16},null,null,null,null,{"$f":"IF(AND(TRIM(BE59)=\"\",TRIM(BE60)=\"\"),\"\",BE59+BE60)","v":278.62799999999999},null,null,null,null,{"$f":"IF(AND(TRIM(BJ59)=\"\",TRIM(BJ60)=\"\"),\"\",BJ59+BJ60)","v":125.096},null,null,null,{"$f":"IF(TRIM(BM61)=\"\", \"\", IF(VLOOKUP(BM61,#REF!,2,FALSE)=0,\"\",VLOOKUP(BM61,#REF!,2,FALSE) ) )","v":""},{"$f":"IF(AND(TRIM(BO59)=\"\", TRIM(BO60)=\"\"), \"\", (IF(ISNUMBER(BO59),BO59,0)+IF(ISNUMBER(BO60),BO60,0)))","v":1180.518},null,null,null,{"$f":"IF(TRIM(BR61)=\"\", \"\", IF(VLOOKUP(BR61,#REF!,2,FALSE)=0,\"\",VLOOKUP(BR61,#REF!,2,FALSE) ) )","v":""},{"$f":"IF(AND(TRIM(BT59)=\"\",TRIM(BT60)=\"\"),\"\",BT59+BT60)","v":371.08600000000001},null,null,null,null,{"$f":"IF(AND(TRIM(BY59)=\"\",TRIM(BY60)=\"\"),\"\",BY59+BY60)","v":16.501999999999999},null,null,null,null,{"$f":"IF(AND(TRIM(CD59)=\"\",TRIM(CD60)=\"\"),\"\",CD59+CD60)","v":10136.09},null,null,null,{"$f":"IF(TRIM(CG61)=\"\", \"\", IF(VLOOKUP(CG61,#REF!,2,FALSE)=0,\"\",VLOOKUP(CG61,#REF!,2,FALSE) ) )","v":""},{"$f":"IF(AND(TRIM(CI59)=\"\", TRIM(CI60)=\"\"), \"\", (IF(ISNUMBER(CI59),CI59,0)+IF(ISNUMBER(CI60),CI60,0)))","v":10152.592000000001},null,null,null,{"$f":"IF(TRIM(CL61)=\"\", \"\", IF(VLOOKUP(CL61,#REF!,2,FALSE)=0,\"\",VLOOKUP(CL61,#REF!,2,FALSE) ) )","v":""},{"$f":"IF(AND(TRIM(CN59)=\"\",TRIM(CN60)=\"\"),\"\",CN59+CN60)","v":84.997},null,null,null,null,{"$f":"IF(AND(TRIM(CS59)=\"\",TRIM(CS60)=\"\"),\"\",CS59+CS60)","v":3344.2530000000002},null,null,null,null,{"$f":"IF(AND(TRIM(CX59)=\"\",TRIM(CX60)=\"\"),\"\",CX59+CX60)","v":18.579999999999998},null,null,null,null,{"$f":"IF(AND(TRIM(DC59)=\"\",TRIM(DC60)=\"\"),\"\",DC59+DC60)","v":33639.415000000001},null,null,null,{"$f":"IF(TRIM(DF61)=\"\", \"\", IF(VLOOKUP(DF61,#REF!,2,FALSE)=0,\"\",VLOOKUP(DF61,#REF!,2,FALSE) ) )","v":""},{"$f":"IF(AND(TRIM(DH59)=\"\", TRIM(DH60)=\"\"), \"\", SUM(DH59,DH60) )","v":48854.722000000002},null,null,null,{"$f":"IF(TRIM(DK61)=\"\", \"\", IF(VLOOKUP(DK61,#REF!,2,FALSE)=0,\"\",VLOOKUP(DK61,#REF!,2,FALSE) ) )","v":""}]
[null,"W081","W081","Discarded vehicles ","HAZ","Hazardous ",528.41999999999996,null,null,null,null,10.88,null,null,null,null,1.075,null,null,null,null,0,null,null,null,null,0,null,null,null,null,0,null,null,null,null,0,null,null,null,null,0,null,null,null,null,0,null,null,null,null,4.58,null,null,null,null,2.44,null,null,null,null,4.88,null,null,null,{"$f":"IF(TRIM(BM62)=\"\", \"\", IF(VLOOKUP(BM62,#REF!,2,FALSE)=0,\"\",VLOOKUP(BM62,#REF!,2,FALSE) ) )","v":""},{"$f":"IF(AND(TRIM(Q62)=\"\",TRIM(V62)=\"\",TRIM(AA62)=\"\", TRIM(AF62)=\"\", TRIM(AK62)=\"\", TRIM(AP62)=\"\", TRIM(AU62)=\"\", TRIM(AZ62)=\"\", TRIM(BE62)=\"\", TRIM(BJ62)=\"\"),\"\",Q62+V62+AA62+AF62+AK62+AP62+AU62+AZ62+BE62+BJ62)","v":12.975},null,null,null,{"$f":"IF(TRIM(BR62)=\"\", \"\", IF(VLOOKUP(BR62,#REF!,2,FALSE)=0,\"\",VLOOKUP(BR62,#REF!,2,FALSE) ) )","v":""},25.4,null,null,null,null,40.01,null,null,null,null,18.78,null,null,null,{"$f":"IF(TRIM(CG62)=\"\", \"\", IF(VLOOKUP(CG62,#REF!,2,FALSE)=0,\"\",VLOOKUP(CG62,#REF!,2,FALSE) ) )","v":""},{"$f":"IF(AND(TRIM(BY62)=\"\",TRIM(CD62)=\"\"),\"\",BY62+CD62)","v":58.79},null,null,null,{"$f":"IF(TRIM(CL62)=\"\", \"\", IF(VLOOKUP(CL62,#REF!,2,FALSE)=0,\"\",VLOOKUP(CL62,#REF!,2,FALSE) ) )","v":""},16.934999999999999,null,null,null,null,4091.5140000000001,null,null,null,null,10.89,null,null,null,null,48086.39,null,null,null,{"$f":"IF(TRIM(DF62)=\"\", \"\", IF(VLOOKUP(DF62,#REF!,2,FALSE)=0,\"\",VLOOKUP(DF62,#REF!,2,FALSE) ) )","v":""},{"$f":"IF(AND(TRIM(G62)=\"\",TRIM(L62)=\"\",TRIM(BO62)=\"\",TRIM(BT62)=\"\",TRIM(CI62)=\"\",TRIM(CN62)=\"\",TRIM(CS62)=\"\",TRIM(CX62)=\"\",TRIM(DC62)=\"\"),\"\",SUM(G62,L62,BO62,BT62,CI62,CN62,CS62,CX62,DC62))","v":52842.194000000003},null,null,null,{"$f":"IF(TRIM(DK62)=\"\", \"\", IF(VLOOKUP(DK62,#REF!,2,FALSE)=0,\"\",VLOOKUP(DK62,#REF!,2,FALSE) ) )","v":""}]
[null,null,"W081",null,"NHAZ","Non-hazardous",24.18,null,null,null,null,0.98,null,null,null,null,0,null,null,null,null,0,null,null,null,null,0,null,null,null,null,0,null,null,null,null,0,null,null,null,null,0,null,null,null,null,0,null,null,null,null,0.35699999999999998,null,null,null,null,4.8,null,null,null,null,92.68,null,null,null,{"$f":"IF(TRIM(BM63)=\"\", \"\", IF(VLOOKUP(BM63,#REF!,2,FALSE)=0,\"\",VLOOKUP(BM63,#REF!,2,FALSE) ) )","v":""},{"$f":"IF(AND(TRIM(Q63)=\"\",TRIM(V63)=\"\",TRIM(AA63)=\"\", TRIM(AF63)=\"\", TRIM(AK63)=\"\", TRIM(AP63)=\"\", TRIM(AU63)=\"\", TRIM(AZ63)=\"\", TRIM(BE63)=\"\", TRIM(BJ63)=\"\"),\"\",Q63+V63+AA63+AF63+AK63+AP63+AU63+AZ63+BE63+BJ63)","v":97.837000000000003},null,null,null,{"$f":"IF(TRIM(BR63)=\"\", \"\", IF(VLOOKUP(BR63,#REF!,2,FALSE)=0,\"\",VLOOKUP(BR63,#REF!,2,FALSE) ) )","v":""},0,null,null,null,null,91.075000000000003,null,null,null,null,3.968,null,null,null,{"$f":"IF(TRIM(CG63)=\"\", \"\", IF(VLOOKUP(CG63,#REF!,2,FALSE)=0,\"\",VLOOKUP(CG63,#REF!,2,FALSE) ) )","v":""},{"$f":"IF(AND(TRIM(BY63)=\"\",TRIM(CD63)=\"\"),\"\",BY63+CD63)","v":95.043000000000006},null,null,null,{"$f":"IF(TRIM(CL63)=\"\", \"\", IF(VLOOKUP(CL63,#REF!,2,FALSE)=0,\"\",VLOOKUP(CL63,#REF!,2,FALSE) ) )","v":""},0.94,null,null,null,null,704.95,null,null,null,null,56.97,null,null,null,null,1437.23,null,null,null,{"$f":"IF(TRIM(DF63)=\"\", \"\", IF(VLOOKUP(DF63,#REF!,2,FALSE)=0,\"\",VLOOKUP(DF63,#REF!,2,FALSE) ) )","v":""},{"$f":"IF(AND(TRIM(G63)=\"\",TRIM(L63)=\"\",TRIM(BO63)=\"\",TRIM(BT63)=\"\",TRIM(CI63)=\"\",TRIM(CN63)=\"\",TRIM(CS63)=\"\",TRIM(CX63)=\"\",TRIM(DC63)=\"\"),\"\",SUM(G63,L63,BO63,BT63,CI63,CN63,CS63,CX63,DC63))","v":2418.13},null,null,null,{"$f":"IF(TRIM(DK63)=\"\", \"\", IF(VLOOKUP(DK63,#REF!,2,FALSE)=0,\"\",VLOOKUP(DK63,#REF!,2,FALSE) ) )","v":""}]
[null,null,"W081",null,"HAZ_NHAZ","Total",{"$f":"IF(AND(TRIM(G62)=\"\",TRIM(G63)=\"\"),\"\",G62+G63)","v":552.6},null,null,null,null,{"$f":"IF(AND(TRIM(L62)=\"\",TRIM(L63)=\"\"),\"\",L62+L63)","v":11.86},null,null,null,null,{"$f":"IF(AND(TRIM(Q62)=\"\",TRIM(Q63)=\"\"),\"\",Q62+Q63)","v":1.075},null,null,null,null,{"$f":"IF(AND(TRIM(V62)=\"\",TRIM(V63)=\"\"),\"\",V62+V63)","v":0},null,null,null,null,{"$f":"IF(AND(TRIM(AA62)=\"\",TRIM(AA63)=\"\"),\"\",AA62+AA63)","v":0},null,null,null,null,{"$f":"IF(AND(TRIM(AF62)=\"\",TRIM(AF63)=\"\"),\"\",AF62+AF63)","v":0},null,null,null,null,{"$f":"IF(AND(TRIM(AK62)=\"\",TRIM(AK63)=\"\"),\"\",AK62+AK63)","v":0},null,null,null,null,{"$f":"IF(AND(TRIM(AP62)=\"\",TRIM(AP63)=\"\"),\"\",AP62+AP63)","v":0},null,null,null,null,{"$f":"IF(AND(TRIM(AU62)=\"\",TRIM(AU63)=\"\"),\"\",AU62+AU63)","v":0},null,null,null,null,{"$f":"IF(AND(TRIM(AZ62)=\"\",TRIM(AZ63)=\"\"),\"\",AZ62+AZ63)","v":4.9370000000000003},null,null,null,null,{"$f":"IF(AND(TRIM(BE62)=\"\",TRIM(BE63)=\"\"),\"\",BE62+BE63)","v":7.24},null,null,null,null,{"$f":"IF(AND(TRIM(BJ62)=\"\",TRIM(BJ63)=\"\"),\"\",BJ62+BJ63)","v":97.56},null,null,null,{"$f":"IF(TRIM(BM64)=\"\", \"\", IF(VLOOKUP(BM64,#REF!,2,FALSE)=0,\"\",VLOOKUP(BM64,#REF!,2,FALSE) ) )","v":""},{"$f":"IF(AND(TRIM(BO62)=\"\", TRIM(BO63)=\"\"), \"\", (IF(ISNUMBER(BO62),BO62,0)+IF(ISNUMBER(BO63),BO63,0)))","v":110.812},null,null,null,{"$f":"IF(TRIM(BR64)=\"\", \"\", IF(VLOOKUP(BR64,#REF!,2,FALSE)=0,\"\",VLOOKUP(BR64,#REF!,2,FALSE) ) )","v":""},{"$f":"IF(AND(TRIM(BT62)=\"\",TRIM(BT63)=\"\"),\"\",BT62+BT63)","v":25.4},null,null,null,null,{"$f":"IF(AND(TRIM(BY62)=\"\",TRIM(BY63)=\"\"),\"\",BY62+BY63)","v":131.08500000000001},null,null,null,null,{"$f":"IF(AND(TRIM(CD62)=\"\",TRIM(CD63)=\"\"),\"\",CD62+CD63)","v":22.748000000000001},null,null,null,{"$f":"IF(TRIM(CG64)=\"\", \"\", IF(VLOOKUP(CG64,#REF!,2,FALSE)=0,\"\",VLOOKUP(CG64,#REF!,2,FALSE) ) )","v":""},{"$f":"IF(AND(TRIM(CI62)=\"\", TRIM(CI63)=\"\"), \"\", (IF(ISNUMBER(CI62),CI62,0)+IF(ISNUMBER(CI63),CI63,0)))","v":153.833},null,null,null,{"$f":"IF(TRIM(CL64)=\"\", \"\", IF(VLOOKUP(CL64,#REF!,2,FALSE)=0,\"\",VLOOKUP(CL64,#REF!,2,FALSE) ) )","v":""},{"$f":"IF(AND(TRIM(CN62)=\"\",TRIM(CN63)=\"\"),\"\",CN62+CN63)","v":17.875},null,null,null,null,{"$f":"IF(AND(TRIM(CS62)=\"\",TRIM(CS63)=\"\"),\"\",CS62+CS63)","v":4796.4639999999999},null,null,null,null,{"$f":"IF(AND(TRIM(CX62)=\"\",TRIM(CX63)=\"\"),\"\",CX62+CX63)","v":67.86},null,null,null,null,{"$f":"IF(AND(TRIM(DC62)=\"\",TRIM(DC63)=\"\"),\"\",DC62+DC63)","v":49523.62},null,null,null,{"$f":"IF(TRIM(DF64)=\"\", \"\", IF(VLOOKUP(DF64,#REF!,2,FALSE)=0,\"\",VLOOKUP(DF64,#REF!,2,FALSE) ) )","v":""},{"$f":"IF(AND(TRIM(DH62)=\"\", TRIM(DH63)=\"\"), \"\", SUM(DH62,DH63) )","v":55260.324000000001},null,null,null,{"$f":"IF(TRIM(DK64)=\"\", \"\", IF(VLOOKUP(DK64,#REF!,2,FALSE)=0,\"\",VLOOKUP(DK64,#REF!,2,FALSE) ) )","v":""}]
[null,"W0841","W0841","Batteries and accumulators wastes ","HAZ","Hazardous ",16.306999999999999,null,null,null,null,5.4610000000000003,null,null,null,null,25.713999999999999,null,null,null,null,1.319,null,null,null,null,2.0569999999999999,null,null,null,null,1.698,null,null,null,null,0.05,null,null,null,null,11.222,null,null,null,null,10.004,null,null,null,null,294.08600000000001,null,null,null,null,834.70699999999999,null,null,null,null,59.308,null,null,null,{"$f":"IF(TRIM(BM65)=\"\", \"\", IF(VLOOKUP(BM65,#REF!,2,FALSE)=0,\"\",VLOOKUP(BM65,#REF!,2,FALSE) ) )","v":""},{"$f":"IF(AND(TRIM(Q65)=\"\",TRIM(V65)=\"\",TRIM(AA65)=\"\", TRIM(AF65)=\"\", TRIM(AK65)=\"\", TRIM(AP65)=\"\", TRIM(AU65)=\"\", TRIM(AZ65)=\"\", TRIM(BE65)=\"\", TRIM(BJ65)=\"\"),\"\",Q65+V65+AA65+AF65+AK65+AP65+AU65+AZ65+BE65+BJ65)","v":1240.165},null,null,null,{"$f":"IF(TRIM(BR65)=\"\", \"\", IF(VLOOKUP(BR65,#REF!,2,FALSE)=0,\"\",VLOOKUP(BR65,#REF!,2,FALSE) ) )","v":""},55.494,null,null,null,null,3.246,null,null,null,null,251.36500000000001,null,null,null,{"$f":"IF(TRIM(CG65)=\"\", \"\", IF(VLOOKUP(CG65,#REF!,2,FALSE)=0,\"\",VLOOKUP(CG65,#REF!,2,FALSE) ) )","v":""},{"$f":"IF(AND(TRIM(BY65)=\"\",TRIM(CD65)=\"\"),\"\",BY65+CD65)","v":254.61099999999999},null,null,null,{"$f":"IF(TRIM(CL65)=\"\", \"\", IF(VLOOKUP(CL65,#REF!,2,FALSE)=0,\"\",VLOOKUP(CL65,#REF!,2,FALSE) ) )","v":""},35.648000000000003,null,null,null,null,9798.1039999999994,null,null,null,null,1.23,null,null,null,null,3198.65,null,null,null,{"$f":"IF(TRIM(DF65)=\"\", \"\", IF(VLOOKUP(DF65,#REF!,2,FALSE)=0,\"\",VLOOKUP(DF65,#REF!,2,FALSE) ) )","v":""},{"$f":"IF(AND(TRIM(G65)=\"\",TRIM(L65)=\"\",TRIM(BO65)=\"\",TRIM(BT65)=\"\",TRIM(CI65)=\"\",TRIM(CN65)=\"\",TRIM(CS65)=\"\",TRIM(CX65)=\"\",TRIM(DC65)=\"\"),\"\",SUM(G65,L65,BO65,BT65,CI65,CN65,CS65,CX65,DC65))","v":14605.67},null,null,null,{"$f":"IF(TRIM(DK65)=\"\", \"\", IF(VLOOKUP(DK65,#REF!,2,FALSE)=0,\"\",VLOOKUP(DK65,#REF!,2,FALSE) ) )","v":""}]
[null,null,"W0841",null,"NHAZ","Non-hazardous",0,null,null,null,null,0,null,null,null,null,0.85199999999999998,null,null,null,null,0,null,null,null,null,0,null,null,null,null,4.0000000000000001E-3,null,null,null,null,0,null,null,null,null,2.7E-2,null,null,null,null,5.6000000000000001E-2,null,null,null,null,87.332999999999998,null,null,null,null,6.9000000000000006E-2,null,null,null,null,1.7000000000000001E-2,null,null,null,{"$f":"IF(TRIM(BM66)=\"\", \"\", IF(VLOOKUP(BM66,#REF!,2,FALSE)=0,\"\",VLOOKUP(BM66,#REF!,2,FALSE) ) )","v":""},{"$f":"IF(AND(TRIM(Q66)=\"\",TRIM(V66)=\"\",TRIM(AA66)=\"\", TRIM(AF66)=\"\", TRIM(AK66)=\"\", TRIM(AP66)=\"\", TRIM(AU66)=\"\", TRIM(AZ66)=\"\", TRIM(BE66)=\"\", TRIM(BJ66)=\"\"),\"\",Q66+V66+AA66+AF66+AK66+AP66+AU66+AZ66+BE66+BJ66)","v":88.358000000000004},null,null,null,{"$f":"IF(TRIM(BR66)=\"\", \"\", IF(VLOOKUP(BR66,#REF!,2,FALSE)=0,\"\",VLOOKUP(BR66,#REF!,2,FALSE) ) )","v":""},0.04,null,null,null,null,4.3999999999999997E-2,null,null,null,null,5.7969999999999997,null,null,null,{"$f":"IF(TRIM(CG66)=\"\", \"\", IF(VLOOKUP(CG66,#REF!,2,FALSE)=0,\"\",VLOOKUP(CG66,#REF!,2,FALSE) ) )","v":""},{"$f":"IF(AND(TRIM(BY66)=\"\",TRIM(CD66)=\"\"),\"\",BY66+CD66)","v":5.8410000000000002},null,null,null,{"$f":"IF(TRIM(CL66)=\"\", \"\", IF(VLOOKUP(CL66,#REF!,2,FALSE)=0,\"\",VLOOKUP(CL66,#REF!,2,FALSE) ) )","v":""},0.31,null,null,null,null,68.995000000000005,null,null,null,null,0,null,null,null,null,48.478999999999999,null,null,null,{"$f":"IF(TRIM(DF66)=\"\", \"\", IF(VLOOKUP(DF66,#REF!,2,FALSE)=0,\"\",VLOOKUP(DF66,#REF!,2,FALSE) ) )","v":""},{"$f":"IF(AND(TRIM(G66)=\"\",TRIM(L66)=\"\",TRIM(BO66)=\"\",TRIM(BT66)=\"\",TRIM(CI66)=\"\",TRIM(CN66)=\"\",TRIM(CS66)=\"\",TRIM(CX66)=\"\",TRIM(DC66)=\"\"),\"\",SUM(G66,L66,BO66,BT66,CI66,CN66,CS66,CX66,DC66))","v":212.023},null,null,null,{"$f":"IF(TRIM(DK66)=\"\", \"\", IF(VLOOKUP(DK66,#REF!,2,FALSE)=0,\"\",VLOOKUP(DK66,#REF!,2,FALSE) ) )","v":""}]
[null,null,"W0841",null,"HAZ_NHAZ","Total",{"$f":"IF(AND(TRIM(G65)=\"\",TRIM(G66)=\"\"),\"\",G65+G66)","v":16.306999999999999},null,null,null,null,{"$f":"IF(AND(TRIM(L65)=\"\",TRIM(L66)=\"\"),\"\",L65+L66)","v":5.4610000000000003},null,null,null,null,{"$f":"IF(AND(TRIM(Q65)=\"\",TRIM(Q66)=\"\"),\"\",Q65+Q66)","v":26.565999999999999},null,null,null,null,{"$f":"IF(AND(TRIM(V65)=\"\",TRIM(V66)=\"\"),\"\",V65+V66)","v":1.319},null,null,null,null,{"$f":"IF(AND(TRIM(AA65)=\"\",TRIM(AA66)=\"\"),\"\",AA65+AA66)","v":2.0569999999999999},null,null,null,null,{"$f":"IF(AND(TRIM(AF65)=\"\",TRIM(AF66)=\"\"),\"\",AF65+AF66)","v":1.702},null,null,null,null,{"$f":"IF(AND(TRIM(AK65)=\"\",TRIM(AK66)=\"\"),\"\",AK65+AK66)","v":0.05},null,null,null,null,{"$f":"IF(AND(TRIM(AP65)=\"\",TRIM(AP66)=\"\"),\"\",AP65+AP66)","v":11.249000000000001},null,null,null,null,{"$f":"IF(AND(TRIM(AU65)=\"\",TRIM(AU66)=\"\"),\"\",AU65+AU66)","v":10.06},null,null,null,null,{"$f":"IF(AND(TRIM(AZ65)=\"\",TRIM(AZ66)=\"\"),\"\",AZ65+AZ66)","v":381.41899999999998},null,null,null,null,{"$f":"IF(AND(TRIM(BE65)=\"\",TRIM(BE66)=\"\"),\"\",BE65+BE66)","v":834.77599999999995},null,null,null,null,{"$f":"IF(AND(TRIM(BJ65)=\"\",TRIM(BJ66)=\"\"),\"\",BJ65+BJ66)","v":59.325000000000003},null,null,null,{"$f":"IF(TRIM(BM67)=\"\", \"\", IF(VLOOKUP(BM67,#REF!,2,FALSE)=0,\"\",VLOOKUP(BM67,#REF!,2,FALSE) ) )","v":""},{"$f":"IF(AND(TRIM(BO65)=\"\", TRIM(BO66)=\"\"), \"\", (IF(ISNUMBER(BO65),BO65,0)+IF(ISNUMBER(BO66),BO66,0)))","v":1328.5229999999999},null,null,null,{"$f":"IF(TRIM(BR67)=\"\", \"\", IF(VLOOKUP(BR67,#REF!,2,FALSE)=0,\"\",VLOOKUP(BR67,#REF!,2,FALSE) ) )","v":""},{"$f":"IF(AND(TRIM(BT65)=\"\",TRIM(BT66)=\"\"),\"\",BT65+BT66)","v":55.533999999999999},null,null,null,null,{"$f":"IF(AND(TRIM(BY65)=\"\",TRIM(BY66)=\"\"),\"\",BY65+BY66)","v":3.29},null,null,null,null,{"$f":"IF(AND(TRIM(CD65)=\"\",TRIM(CD66)=\"\"),\"\",CD65+CD66)","v":257.16199999999998},null,null,null,{"$f":"IF(TRIM(CG67)=\"\", \"\", IF(VLOOKUP(CG67,#REF!,2,FALSE)=0,\"\",VLOOKUP(CG67,#REF!,2,FALSE) ) )","v":""},{"$f":"IF(AND(TRIM(CI65)=\"\", TRIM(CI66)=\"\"), \"\", (IF(ISNUMBER(CI65),CI65,0)+IF(ISNUMBER(CI66),CI66,0)))","v":260.452},null,null,null,{"$f":"IF(TRIM(CL67)=\"\", \"\", IF(VLOOKUP(CL67,#REF!,2,FALSE)=0,\"\",VLOOKUP(CL67,#REF!,2,FALSE) ) )","v":""},{"$f":"IF(AND(TRIM(CN65)=\"\",TRIM(CN66)=\"\"),\"\",CN65+CN66)","v":35.957999999999998},null,null,null,null,{"$f":"IF(AND(TRIM(CS65)=\"\",TRIM(CS66)=\"\"),\"\",CS65+CS66)","v":9867.0990000000002},null,null,null,null,{"$f":"IF(AND(TRIM(CX65)=\"\",TRIM(CX66)=\"\"),\"\",CX65+CX66)","v":1.23},null,null,null,null,{"$f":"IF(AND(TRIM(DC65)=\"\",TRIM(DC66)=\"\"),\"\",DC65+DC66)","v":3247.1289999999999},null,null,null,{"$f":"IF(TRIM(DF67)=\"\", \"\", IF(VLOOKUP(DF67,#REF!,2,FALSE)=0,\"\",VLOOKUP(DF67,#REF!,2,FALSE) ) )","v":""},{"$f":"IF(AND(TRIM(DH65)=\"\", TRIM(DH66)=\"\"), \"\", SUM(DH65,DH66) )","v":14817.692999999999},null,null,null,{"$f":"IF(TRIM(DK67)=\"\", \"\", IF(VLOOKUP(DK67,#REF!,2,FALSE)=0,\"\",VLOOKUP(DK67,#REF!,2,FALSE) ) )","v":""}]
[null,"W091",null,"Animal and mixed food waste ",null,"Not applicable",0,null,null,null,null,0,null,null,null,null,0,null,null,null,null,0,null,null,null,null,0,null,null,null,null,0,null,null,null,null,0,null,null,null,null,0,null,null,null,null,0,null,null,null,null,0,null,null,null,null,0,null,null,null,null,0,null,null,null,null,null,null,null,null,null,0,null,null,null,null,0,null,null,null,null,0,null,null,null,null,null,null,null,null,null,0,null,null,null,null,0,null,null,null,null,0,null,null,null,null,0]
[null,null,"W091",null,"NHAZ","Non-hazardous",12.093,null,null,null,null,0,null,null,null,null,11082.550999999999,null,null,null,null,26.035,null,null,null,null,0.8,null,null,null,null,13.635,null,null,null,null,9.57,null,null,null,null,25.67,null,null,null,null,407.92,null,null,null,null,14.345000000000001,null,null,null,null,63.15,null,null,null,null,7.133,null,null,null,{"$f":"IF(TRIM(BM69)=\"\", \"\", IF(VLOOKUP(BM69,#REF!,2,FALSE)=0,\"\",VLOOKUP(BM69,#REF!,2,FALSE) ) )","v":""},{"$f":"IF(AND(TRIM(Q69)=\"\",TRIM(V69)=\"\",TRIM(AA69)=\"\", TRIM(AF69)=\"\", TRIM(AK69)=\"\", TRIM(AP69)=\"\", TRIM(AU69)=\"\", TRIM(AZ69)=\"\", TRIM(BE69)=\"\", TRIM(BJ69)=\"\"),\"\",Q69+V69+AA69+AF69+AK69+AP69+AU69+AZ69+BE69+BJ69)","v":11650.808999999999},null,null,null,{"$f":"IF(TRIM(BR69)=\"\", \"\", IF(VLOOKUP(BR69,#REF!,2,FALSE)=0,\"\",VLOOKUP(BR69,#REF!,2,FALSE) ) )","v":""},8396.8860000000004,null,null,null,null,603.20799999999997,null,null,null,null,4426.6710000000003,null,null,null,{"$f":"IF(TRIM(CG69)=\"\", \"\", IF(VLOOKUP(CG69,#REF!,2,FALSE)=0,\"\",VLOOKUP(CG69,#REF!,2,FALSE) ) )","v":""},{"$f":"IF(AND(TRIM(BY69)=\"\",TRIM(CD69)=\"\"),\"\",BY69+CD69)","v":5029.8789999999999},null,null,null,{"$f":"IF(TRIM(CL69)=\"\", \"\", IF(VLOOKUP(CL69,#REF!,2,FALSE)=0,\"\",VLOOKUP(CL69,#REF!,2,FALSE) ) )","v":""},7.97,null,null,null,null,18403.723000000002,null,null,null,null,1.5,null,null,null,null,33288.129999999997,null,null,null,{"$f":"IF(TRIM(DF69)=\"\", \"\", IF(VLOOKUP(DF69,#REF!,2,FALSE)=0,\"\",VLOOKUP(DF69,#REF!,2,FALSE) ) )","v":""},{"$f":"IF(AND(TRIM(G69)=\"\",TRIM(L69)=\"\",TRIM(BO69)=\"\",TRIM(BT69)=\"\",TRIM(CI69)=\"\",TRIM(CN69)=\"\",TRIM(CS69)=\"\",TRIM(CX69)=\"\",TRIM(DC69)=\"\"),\"\",SUM(G69,L69,BO69,BT69,CI69,CN69,CS69,CX69,DC69))","v":76790.990000000005},null,null,null,{"$f":"IF(TRIM(DK69)=\"\", \"\", IF(VLOOKUP(DK69,#REF!,2,FALSE)=0,\"\",VLOOKUP(DK69,#REF!,2,FALSE) ) )","v":""}]
[null,null,"W091",null,"HAZ_NHAZ","Total",{"$f":"IF(AND(TRIM(G68)=\"\",TRIM(G69)=\"\"),\"\",G68+G69)","v":12.093},null,null,null,null,{"$f":"IF(AND(TRIM(L68)=\"\",TRIM(L69)=\"\"),\"\",L68+L69)","v":0},null,null,null,null,{"$f":"IF(AND(TRIM(Q68)=\"\",TRIM(Q69)=\"\"),\"\",Q68+Q69)","v":11082.550999999999},null,null,null,null,{"$f":"IF(AND(TRIM(V68)=\"\",TRIM(V69)=\"\"),\"\",V68+V69)","v":26.035},null,null,null,null,{"$f":"IF(AND(TRIM(AA68)=\"\",TRIM(AA69)=\"\"),\"\",AA68+AA69)","v":0.8},null,null,null,null,{"$f":"IF(AND(TRIM(AF68)=\"\",TRIM(AF69)=\"\"),\"\",AF68+AF69)","v":13.635},null,null,null,null,{"$f":"IF(AND(TRIM(AK68)=\"\",TRIM(AK69)=\"\"),\"\",AK68+AK69)","v":9.57},null,null,null,null,{"$f":"IF(AND(TRIM(AP68)=\"\",TRIM(AP69)=\"\"),\"\",AP68+AP69)","v":25.67},null,null,null,null,{"$f":"IF(AND(TRIM(AU68)=\"\",TRIM(AU69)=\"\"),\"\",AU68+AU69)","v":407.92},null,null,null,null,{"$f":"IF(AND(TRIM(AZ68)=\"\",TRIM(AZ69)=\"\"),\"\",AZ68+AZ69)","v":14.345000000000001},null,null,null,null,{"$f":"IF(AND(TRIM(BE68)=\"\",TRIM(BE69)=\"\"),\"\",BE68+BE69)","v":63.15},null,null,null,null,{"$f":"IF(AND(TRIM(BJ68)=\"\",TRIM(BJ69)=\"\"),\"\",BJ68+BJ69)","v":7.133},null,null,null,{"$f":"IF(TRIM(BM70)=\"\", \"\", IF(VLOOKUP(BM70,#REF!,2,FALSE)=0,\"\",VLOOKUP(BM70,#REF!,2,FALSE) ) )","v":""},{"$f":"IF(AND(TRIM(BO68)=\"\", TRIM(BO69)=\"\"), \"\", (IF(ISNUMBER(BO68),BO68,0)+IF(ISNUMBER(BO69),BO69,0)))","v":11650.808999999999},null,null,null,{"$f":"IF(TRIM(BR70)=\"\", \"\", IF(VLOOKUP(BR70,#REF!,2,FALSE)=0,\"\",VLOOKUP(BR70,#REF!,2,FALSE) ) )","v":""},{"$f":"IF(AND(TRIM(BT68)=\"\",TRIM(BT69)=\"\"),\"\",BT68+BT69)","v":8396.8860000000004},null,null,null,null,{"$f":"IF(AND(TRIM(BY68)=\"\",TRIM(BY69)=\"\"),\"\",BY68+BY69)","v":603.20799999999997},null,null,null,null,{"$f":"IF(AND(TRIM(CD68)=\"\",TRIM(CD69)=\"\"),\"\",CD68+CD69)","v":4426.6710000000003},null,null,null,{"$f":"IF(TRIM(CG70)=\"\", \"\", IF(VLOOKUP(CG70,#REF!,2,FALSE)=0,\"\",VLOOKUP(CG70,#REF!,2,FALSE) ) )","v":""},{"$f":"IF(AND(TRIM(CI68)=\"\", TRIM(CI69)=\"\"), \"\", (IF(ISNUMBER(CI68),CI68,0)+IF(ISNUMBER(CI69),CI69,0)))","v":5029.8789999999999},null,null,null,{"$f":"IF(TRIM(CL70)=\"\", \"\", IF(VLOOKUP(CL70,#REF!,2,FALSE)=0,\"\",VLOOKUP(CL70,#REF!,2,FALSE) ) )","v":""},{"$f":"IF(AND(TRIM(CN68)=\"\",TRIM(CN69)=\"\"),\"\",CN68+CN69)","v":7.97},null,null,null,null,{"$f":"IF(AND(TRIM(CS68)=\"\",TRIM(CS69)=\"\"),\"\",CS68+CS69)","v":18403.723000000002},null,null,null,null,{"$f":"IF(AND(TRIM(CX68)=\"\",TRIM(CX69)=\"\"),\"\",CX68+CX69)","v":1.5},null,null,null,null,{"$f":"IF(AND(TRIM(DC68)=\"\",TRIM(DC69)=\"\"),\"\",DC68+DC69)","v":33288.129999999997},null,null,null,{"$f":"IF(TRIM(DF70)=\"\", \"\", IF(VLOOKUP(DF70,#REF!,2,FALSE)=0,\"\",VLOOKUP(DF70,#REF!,2,FALSE) ) )","v":""},{"$f":"IF(AND(TRIM(DH68)=\"\", TRIM(DH69)=\"\"), \"\", SUM(DH68,DH69) )","v":76790.990000000005},null,null,null,{"$f":"IF(TRIM(DK70)=\"\", \"\", IF(VLOOKUP(DK70,#REF!,2,FALSE)=0,\"\",VLOOKUP(DK70,#REF!,2,FALSE) ) )","v":""}]
[null,"W092",null,"Vegetal wastes ",null,"Not applicable",0,null,null,null,null,0,null,null,null,null,0,null,null,null,null,0,null,null,null,null,0,null,null,null,null,0,null,null,null,null,0,null,null,null,null,0,null,null,null,null,0,null,null,null,null,0,null,null,null,null,0,null,null,null,null,0,null,null,null,null,null,null,null,null,null,0,null,null,null,null,0,null,null,null,null,0,null,null,null,null,null,null,null,null,null,0,null,null,null,null,0,null,null,null,null,0,null,null,null,null,0]
[null,null,"W092",null,"NHAZ","Non-hazardous",1385.68,null,null,null,null,0,null,null,null,null,15582.067999999999,null,null,null,null,3.18,null,null,null,null,0,null,null,null,null,0,null,null,null,null,0,null,null,null,null,118.474,null,null,null,null,20.45,null,null,null,null,10.65,null,null,null,null,0,null,null,null,null,0,null,null,null,{"$f":"IF(TRIM(BM72)=\"\", \"\", IF(VLOOKUP(BM72,#REF!,2,FALSE)=0,\"\",VLOOKUP(BM72,#REF!,2,FALSE) ) )","v":""},{"$f":"IF(AND(TRIM(Q72)=\"\",TRIM(V72)=\"\",TRIM(AA72)=\"\", TRIM(AF72)=\"\", TRIM(AK72)=\"\", TRIM(AP72)=\"\", TRIM(AU72)=\"\", TRIM(AZ72)=\"\", TRIM(BE72)=\"\", TRIM(BJ72)=\"\"),\"\",Q72+V72+AA72+AF72+AK72+AP72+AU72+AZ72+BE72+BJ72)","v":15734.822},null,null,null,{"$f":"IF(TRIM(BR72)=\"\", \"\", IF(VLOOKUP(BR72,#REF!,2,FALSE)=0,\"\",VLOOKUP(BR72,#REF!,2,FALSE) ) )","v":""},194.49,null,null,null,null,33.46,null,null,null,null,12628.26,null,null,null,{"$f":"IF(TRIM(CG72)=\"\", \"\", IF(VLOOKUP(CG72,#REF!,2,FALSE)=0,\"\",VLOOKUP(CG72,#REF!,2,FALSE) ) )","v":""},{"$f":"IF(AND(TRIM(BY72)=\"\",TRIM(CD72)=\"\"),\"\",BY72+CD72)","v":12661.72},null,null,null,{"$f":"IF(TRIM(CL72)=\"\", \"\", IF(VLOOKUP(CL72,#REF!,2,FALSE)=0,\"\",VLOOKUP(CL72,#REF!,2,FALSE) ) )","v":""},118.05,null,null,null,null,44530.540999999997,null,null,null,null,0,null,null,null,null,25924.932000000001,null,null,null,{"$f":"IF(TRIM(DF72)=\"\", \"\", IF(VLOOKUP(DF72,#REF!,2,FALSE)=0,\"\",VLOOKUP(DF72,#REF!,2,FALSE) ) )","v":""},{"$f":"IF(AND(TRIM(G72)=\"\",TRIM(L72)=\"\",TRIM(BO72)=\"\",TRIM(BT72)=\"\",TRIM(CI72)=\"\",TRIM(CN72)=\"\",TRIM(CS72)=\"\",TRIM(CX72)=\"\",TRIM(DC72)=\"\"),\"\",SUM(G72,L72,BO72,BT72,CI72,CN72,CS72,CX72,DC72))","v":100550.235},null,null,null,{"$f":"IF(TRIM(DK72)=\"\", \"\", IF(VLOOKUP(DK72,#REF!,2,FALSE)=0,\"\",VLOOKUP(DK72,#REF!,2,FALSE) ) )","v":""}]
[null,null,"W092",null,"HAZ_NHAZ","Total",{"$f":"IF(AND(TRIM(G71)=\"\",TRIM(G72)=\"\"),\"\",G71+G72)","v":1385.68},null,null,null,null,{"$f":"IF(AND(TRIM(L71)=\"\",TRIM(L72)=\"\"),\"\",L71+L72)","v":0},null,null,null,null,{"$f":"IF(AND(TRIM(Q71)=\"\",TRIM(Q72)=\"\"),\"\",Q71+Q72)","v":15582.067999999999},null,null,null,null,{"$f":"IF(AND(TRIM(V71)=\"\",TRIM(V72)=\"\"),\"\",V71+V72)","v":3.18},null,null,null,null,{"$f":"IF(AND(TRIM(AA71)=\"\",TRIM(AA72)=\"\"),\"\",AA71+AA72)","v":0},null,null,null,null,{"$f":"IF(AND(TRIM(AF71)=\"\",TRIM(AF72)=\"\"),\"\",AF71+AF72)","v":0},null,null,null,null,{"$f":"IF(AND(TRIM(AK71)=\"\",TRIM(AK72)=\"\"),\"\",AK71+AK72)","v":0},null,null,null,null,{"$f":"IF(AND(TRIM(AP71)=\"\",TRIM(AP72)=\"\"),\"\",AP71+AP72)","v":118.474},null,null,null,null,{"$f":"IF(AND(TRIM(AU71)=\"\",TRIM(AU72)=\"\"),\"\",AU71+AU72)","v":20.45},null,null,null,null,{"$f":"IF(AND(TRIM(AZ71)=\"\",TRIM(AZ72)=\"\"),\"\",AZ71+AZ72)","v":10.65},null,null,null,null,{"$f":"IF(AND(TRIM(BE71)=\"\",TRIM(BE72)=\"\"),\"\",BE71+BE72)","v":0},null,null,null,null,{"$f":"IF(AND(TRIM(BJ71)=\"\",TRIM(BJ72)=\"\"),\"\",BJ71+BJ72)","v":0},null,null,null,{"$f":"IF(TRIM(BM73)=\"\", \"\", IF(VLOOKUP(BM73,#REF!,2,FALSE)=0,\"\",VLOOKUP(BM73,#REF!,2,FALSE) ) )","v":""},{"$f":"IF(AND(TRIM(BO71)=\"\", TRIM(BO72)=\"\"), \"\", (IF(ISNUMBER(BO71),BO71,0)+IF(ISNUMBER(BO72),BO72,0)))","v":15734.822},null,null,null,{"$f":"IF(TRIM(BR73)=\"\", \"\", IF(VLOOKUP(BR73,#REF!,2,FALSE)=0,\"\",VLOOKUP(BR73,#REF!,2,FALSE) ) )","v":""},{"$f":"IF(AND(TRIM(BT71)=\"\",TRIM(BT72)=\"\"),\"\",BT71+BT72)","v":194.49},null,null,null,null,{"$f":"IF(AND(TRIM(BY71)=\"\",TRIM(BY72)=\"\"),\"\",BY71+BY72)","v":33.46},null,null,null,null,{"$f":"IF(AND(TRIM(CD71)=\"\",TRIM(CD72)=\"\"),\"\",CD71+CD72)","v":12628.26},null,null,null,{"$f":"IF(TRIM(CG73)=\"\", \"\", IF(VLOOKUP(CG73,#REF!,2,FALSE)=0,\"\",VLOOKUP(CG73,#REF!,2,FALSE) ) )","v":""},{"$f":"IF(AND(TRIM(CI71)=\"\", TRIM(CI72)=\"\"), \"\", (IF(ISNUMBER(CI71),CI71,0)+IF(ISNUMBER(CI72),CI72,0)))","v":12661.72},null,null,null,{"$f":"IF(TRIM(CL73)=\"\", \"\", IF(VLOOKUP(CL73,#REF!,2,FALSE)=0,\"\",VLOOKUP(CL73,#REF!,2,FALSE) ) )","v":""},{"$f":"IF(AND(TRIM(CN71)=\"\",TRIM(CN72)=\"\"),\"\",CN71+CN72)","v":118.05},null,null,null,null,{"$f":"IF(AND(TRIM(CS71)=\"\",TRIM(CS72)=\"\"),\"\",CS71+CS72)","v":44530.540999999997},null,null,null,null,{"$f":"IF(AND(TRIM(CX71)=\"\",TRIM(CX72)=\"\"),\"\",CX71+CX72)","v":0},null,null,null,null,{"$f":"IF(AND(TRIM(DC71)=\"\",TRIM(DC72)=\"\"),\"\",DC71+DC72)","v":25924.932000000001},null,null,null,{"$f":"IF(TRIM(DF73)=\"\", \"\", IF(VLOOKUP(DF73,#REF!,2,FALSE)=0,\"\",VLOOKUP(DF73,#REF!,2,FALSE) ) )","v":""},{"$f":"IF(AND(TRIM(DH71)=\"\", TRIM(DH72)=\"\"), \"\", SUM(DH71,DH72) )","v":100550.235},null,null,null,{"$f":"IF(TRIM(DK73)=\"\", \"\", IF(VLOOKUP(DK73,#REF!,2,FALSE)=0,\"\",VLOOKUP(DK73,#REF!,2,FALSE) ) )","v":""}]
[null,"W093",null,"Animal faeces, urine and manure ",null,"Not applicable",0,null,null,null,null,0,null,null,null,null,0,null,null,null,null,0,null,null,null,null,0,null,null,null,null,0,null,null,null,null,0,null,null,null,null,0,null,null,null,null,0,null,null,null,null,0,null,null,null,null,0,null,null,null,null,0,null,null,null,null,null,null,null,null,null,0,null,null,null,null,0,null,null,null,null,0,null,null,null,null,null,null,null,null,null,0,null,null,null,null,0,null,null,null,null,0,null,null,null,null,0]
[null,null,"W093",null,"NHAZ","Non-hazardous",554615,null,null,null,null,0,null,null,null,null,0,null,null,null,null,0,null,null,null,null,0,null,null,null,null,0,null,null,null,null,0,null,null,null,null,0,null,null,null,null,0,null,null,null,null,0,null,null,null,null,0,null,null,null,null,0,null,null,null,{"$f":"IF(TRIM(BM75)=\"\", \"\", IF(VLOOKUP(BM75,#REF!,2,FALSE)=0,\"\",VLOOKUP(BM75,#REF!,2,FALSE) ) )","v":""},{"$f":"IF(AND(TRIM(Q75)=\"\",TRIM(V75)=\"\",TRIM(AA75)=\"\", TRIM(AF75)=\"\", TRIM(AK75)=\"\", TRIM(AP75)=\"\", TRIM(AU75)=\"\", TRIM(AZ75)=\"\", TRIM(BE75)=\"\", TRIM(BJ75)=\"\"),\"\",Q75+V75+AA75+AF75+AK75+AP75+AU75+AZ75+BE75+BJ75)","v":0},null,null,null,{"$f":"IF(TRIM(BR75)=\"\", \"\", IF(VLOOKUP(BR75,#REF!,2,FALSE)=0,\"\",VLOOKUP(BR75,#REF!,2,FALSE) ) )","v":""},0,null,null,null,null,0,null,null,null,null,0,null,null,null,{"$f":"IF(TRIM(CG75)=\"\", \"\", IF(VLOOKUP(CG75,#REF!,2,FALSE)=0,\"\",VLOOKUP(CG75,#REF!,2,FALSE) ) )","v":""},{"$f":"IF(AND(TRIM(BY75)=\"\",TRIM(CD75)=\"\"),\"\",BY75+CD75)","v":0},null,null,null,{"$f":"IF(TRIM(CL75)=\"\", \"\", IF(VLOOKUP(CL75,#REF!,2,FALSE)=0,\"\",VLOOKUP(CL75,#REF!,2,FALSE) ) )","v":""},0,null,null,null,null,232.04,null,null,null,null,0,null,null,null,null,0,null,null,null,{"$f":"IF(TRIM(DF75)=\"\", \"\", IF(VLOOKUP(DF75,#REF!,2,FALSE)=0,\"\",VLOOKUP(DF75,#REF!,2,FALSE) ) )","v":""},{"$f":"IF(AND(TRIM(G75)=\"\",TRIM(L75)=\"\",TRIM(BO75)=\"\",TRIM(BT75)=\"\",TRIM(CI75)=\"\",TRIM(CN75)=\"\",TRIM(CS75)=\"\",TRIM(CX75)=\"\",TRIM(DC75)=\"\"),\"\",SUM(G75,L75,BO75,BT75,CI75,CN75,CS75,CX75,DC75))","v":554847.04},null,null,null,{"$f":"IF(TRIM(DK75)=\"\", \"\", IF(VLOOKUP(DK75,#REF!,2,FALSE)=0,\"\",VLOOKUP(DK75,#REF!,2,FALSE) ) )","v":""}]
[null,null,"W093",null,"HAZ_NHAZ","Total",{"$f":"IF(AND(TRIM(G74)=\"\",TRIM(G75)=\"\"),\"\",G74+G75)","v":554615},null,null,null,null,{"$f":"IF(AND(TRIM(L74)=\"\",TRIM(L75)=\"\"),\"\",L74+L75)","v":0},null,null,null,null,{"$f":"IF(AND(TRIM(Q74)=\"\",TRIM(Q75)=\"\"),\"\",Q74+Q75)","v":0},null,null,null,null,{"$f":"IF(AND(TRIM(V74)=\"\",TRIM(V75)=\"\"),\"\",V74+V75)","v":0},null,null,null,null,{"$f":"IF(AND(TRIM(AA74)=\"\",TRIM(AA75)=\"\"),\"\",AA74+AA75)","v":0},null,null,null,null,{"$f":"IF(AND(TRIM(AF74)=\"\",TRIM(AF75)=\"\"),\"\",AF74+AF75)","v":0},null,null,null,null,{"$f":"IF(AND(TRIM(AK74)=\"\",TRIM(AK75)=\"\"),\"\",AK74+AK75)","v":0},null,null,null,null,{"$f":"IF(AND(TRIM(AP74)=\"\",TRIM(AP75)=\"\"),\"\",AP74+AP75)","v":0},null,null,null,null,{"$f":"IF(AND(TRIM(AU74)=\"\",TRIM(AU75)=\"\"),\"\",AU74+AU75)","v":0},null,null,null,null,{"$f":"IF(AND(TRIM(AZ74)=\"\",TRIM(AZ75)=\"\"),\"\",AZ74+AZ75)","v":0},null,null,null,null,{"$f":"IF(AND(TRIM(BE74)=\"\",TRIM(BE75)=\"\"),\"\",BE74+BE75)","v":0},null,null,null,null,{"$f":"IF(AND(TRIM(BJ74)=\"\",TRIM(BJ75)=\"\"),\"\",BJ74+BJ75)","v":0},null,null,null,{"$f":"IF(TRIM(BM76)=\"\", \"\", IF(VLOOKUP(BM76,#REF!,2,FALSE)=0,\"\",VLOOKUP(BM76,#REF!,2,FALSE) ) )","v":""},{"$f":"IF(AND(TRIM(BO74)=\"\", TRIM(BO75)=\"\"), \"\", (IF(ISNUMBER(BO74),BO74,0)+IF(ISNUMBER(BO75),BO75,0)))","v":0},null,null,null,{"$f":"IF(TRIM(BR76)=\"\", \"\", IF(VLOOKUP(BR76,#REF!,2,FALSE)=0,\"\",VLOOKUP(BR76,#REF!,2,FALSE) ) )","v":""},{"$f":"IF(AND(TRIM(BT74)=\"\",TRIM(BT75)=\"\"),\"\",BT74+BT75)","v":0},null,null,null,null,{"$f":"IF(AND(TRIM(BY74)=\"\",TRIM(BY75)=\"\"),\"\",BY74+BY75)","v":0},null,null,null,null,{"$f":"IF(AND(TRIM(CD74)=\"\",TRIM(CD75)=\"\"),\"\",CD74+CD75)","v":0},null,null,null,{"$f":"IF(TRIM(CG76)=\"\", \"\", IF(VLOOKUP(CG76,#REF!,2,FALSE)=0,\"\",VLOOKUP(CG76,#REF!,2,FALSE) ) )","v":""},{"$f":"IF(AND(TRIM(CI74)=\"\", TRIM(CI75)=\"\"), \"\", (IF(ISNUMBER(CI74),CI74,0)+IF(ISNUMBER(CI75),CI75,0)))","v":0},null,null,null,{"$f":"IF(TRIM(CL76)=\"\", \"\", IF(VLOOKUP(CL76,#REF!,2,FALSE)=0,\"\",VLOOKUP(CL76,#REF!,2,FALSE) ) )","v":""},{"$f":"IF(AND(TRIM(CN74)=\"\",TRIM(CN75)=\"\"),\"\",CN74+CN75)","v":0},null,null,null,null,{"$f":"IF(AND(TRIM(CS74)=\"\",TRIM(CS75)=\"\"),\"\",CS74+CS75)","v":232.04},null,null,null,null,{"$f":"IF(AND(TRIM(CX74)=\"\",TRIM(CX75)=\"\"),\"\",CX74+CX75)","v":0},null,null,null,null,{"$f":"IF(AND(TRIM(DC74)=\"\",TRIM(DC75)=\"\"),\"\",DC74+DC75)","v":0},null,null,null,{"$f":"IF(TRIM(DF76)=\"\", \"\", IF(VLOOKUP(DF76,#REF!,2,FALSE)=0,\"\",VLOOKUP(DF76,#REF!,2,FALSE) ) )","v":""},{"$f":"IF(AND(TRIM(DH74)=\"\", TRIM(DH75)=\"\"), \"\", SUM(DH74,DH75) )","v":554847.04},null,null,null,{"$f":"IF(TRIM(DK76)=\"\", \"\", IF(VLOOKUP(DK76,#REF!,2,FALSE)=0,\"\",VLOOKUP(DK76,#REF!,2,FALSE) ) )","v":""}]
[null,"W101",null,"Household and similar wastes ",null,"Not applicable",0,null,null,null,null,0,null,null,null,null,0,null,null,null,null,0,null,null,null,null,0,null,null,null,null,0,null,null,null,null,0,null,null,null,null,0,null,null,null,null,0,null,null,null,null,0,null,null,null,null,0,null,null,null,null,0,null,null,null,null,null,null,null,null,null,0,null,null,null,null,0,null,null,null,null,0,null,null,null,null,null,null,null,null,null,0,null,null,null,null,0,null,null,null,null,0,null,null,null,null,0]
[null,null,"W101",null,"NHAZ","Non-hazardous",6048.57,null,null,null,null,485.327,null,null,null,null,6452.2160000000003,null,null,null,null,3021.7289999999998,null,null,null,null,1995.3610000000001,null,null,null,null,1739.174,null,null,null,null,264.00700000000001,null,null,null,null,2986.0160000000001,null,null,null,null,1394.8879999999999,null,null,null,null,4734.2939999999999,null,null,null,null,4392.1679999999997,null,null,null,null,3870.652,null,null,null,{"$f":"IF(TRIM(BM78)=\"\", \"\", IF(VLOOKUP(BM78,#REF!,2,FALSE)=0,\"\",VLOOKUP(BM78,#REF!,2,FALSE) ) )","v":""},{"$f":"IF(AND(TRIM(Q78)=\"\",TRIM(V78)=\"\",TRIM(AA78)=\"\", TRIM(AF78)=\"\", TRIM(AK78)=\"\", TRIM(AP78)=\"\", TRIM(AU78)=\"\", TRIM(AZ78)=\"\", TRIM(BE78)=\"\", TRIM(BJ78)=\"\"),\"\",Q78+V78+AA78+AF78+AK78+AP78+AU78+AZ78+BE78+BJ78)","v":30850.505000000001},null,null,null,{"$f":"IF(TRIM(BR78)=\"\", \"\", IF(VLOOKUP(BR78,#REF!,2,FALSE)=0,\"\",VLOOKUP(BR78,#REF!,2,FALSE) ) )","v":""},1713.2819999999999,null,null,null,null,1412.8630000000001,null,null,null,null,9507.2219999999998,null,null,null,{"$f":"IF(TRIM(CG78)=\"\", \"\", IF(VLOOKUP(CG78,#REF!,2,FALSE)=0,\"\",VLOOKUP(CG78,#REF!,2,FALSE) ) )","v":""},{"$f":"IF(AND(TRIM(BY78)=\"\",TRIM(CD78)=\"\"),\"\",BY78+CD78)","v":10920.084999999999},null,null,null,{"$f":"IF(TRIM(CL78)=\"\", \"\", IF(VLOOKUP(CL78,#REF!,2,FALSE)=0,\"\",VLOOKUP(CL78,#REF!,2,FALSE) ) )","v":""},15179.450999999999,null,null,null,null,183042.701,null,null,null,null,41.417999999999999,null,null,null,null,899503.08400000003,null,null,null,{"$f":"IF(TRIM(DF78)=\"\", \"\", IF(VLOOKUP(DF78,#REF!,2,FALSE)=0,\"\",VLOOKUP(DF78,#REF!,2,FALSE) ) )","v":""},{"$f":"IF(AND(TRIM(G78)=\"\",TRIM(L78)=\"\",TRIM(BO78)=\"\",TRIM(BT78)=\"\",TRIM(CI78)=\"\",TRIM(CN78)=\"\",TRIM(CS78)=\"\",TRIM(CX78)=\"\",TRIM(DC78)=\"\"),\"\",SUM(G78,L78,BO78,BT78,CI78,CN78,CS78,CX78,DC78))","v":1147784.423},null,null,null,{"$f":"IF(TRIM(DK78)=\"\", \"\", IF(VLOOKUP(DK78,#REF!,2,FALSE)=0,\"\",VLOOKUP(DK78,#REF!,2,FALSE) ) )","v":""}]
[null,null,"W101",null,"HAZ_NHAZ","Total",{"$f":"IF(AND(TRIM(G77)=\"\",TRIM(G78)=\"\"),\"\",G77+G78)","v":6048.57},null,null,null,null,{"$f":"IF(AND(TRIM(L77)=\"\",TRIM(L78)=\"\"),\"\",L77+L78)","v":485.327},null,null,null,null,{"$f":"IF(AND(TRIM(Q77)=\"\",TRIM(Q78)=\"\"),\"\",Q77+Q78)","v":6452.2160000000003},null,null,null,null,{"$f":"IF(AND(TRIM(V77)=\"\",TRIM(V78)=\"\"),\"\",V77+V78)","v":3021.7289999999998},null,null,null,null,{"$f":"IF(AND(TRIM(AA77)=\"\",TRIM(AA78)=\"\"),\"\",AA77+AA78)","v":1995.3610000000001},null,null,null,null,{"$f":"IF(AND(TRIM(AF77)=\"\",TRIM(AF78)=\"\"),\"\",AF77+AF78)","v":1739.174},null,null,null,null,{"$f":"IF(AND(TRIM(AK77)=\"\",TRIM(AK78)=\"\"),\"\",AK77+AK78)","v":264.00700000000001},null,null,null,null,{"$f":"IF(AND(TRIM(AP77)=\"\",TRIM(AP78)=\"\"),\"\",AP77+AP78)","v":2986.0160000000001},null,null,null,null,{"$f":"IF(AND(TRIM(AU77)=\"\",TRIM(AU78)=\"\"),\"\",AU77+AU78)","v":1394.8879999999999},null,null,null,null,{"$f":"IF(AND(TRIM(AZ77)=\"\",TRIM(AZ78)=\"\"),\"\",AZ77+AZ78)","v":4734.2939999999999},null,null,null,null,{"$f":"IF(AND(TRIM(BE77)=\"\",TRIM(BE78)=\"\"),\"\",BE77+BE78)","v":4392.1679999999997},null,null,null,null,{"$f":"IF(AND(TRIM(BJ77)=\"\",TRIM(BJ78)=\"\"),\"\",BJ77+BJ78)","v":3870.652},null,null,null,{"$f":"IF(TRIM(BM79)=\"\", \"\", IF(VLOOKUP(BM79,#REF!,2,FALSE)=0,\"\",VLOOKUP(BM79,#REF!,2,FALSE) ) )","v":""},{"$f":"IF(AND(TRIM(BO77)=\"\", TRIM(BO78)=\"\"), \"\", (IF(ISNUMBER(BO77),BO77,0)+IF(ISNUMBER(BO78),BO78,0)))","v":30850.505000000001},null,null,null,{"$f":"IF(TRIM(BR79)=\"\", \"\", IF(VLOOKUP(BR79,#REF!,2,FALSE)=0,\"\",VLOOKUP(BR79,#REF!,2,FALSE) ) )","v":""},{"$f":"IF(AND(TRIM(BT77)=\"\",TRIM(BT78)=\"\"),\"\",BT77+BT78)","v":1713.2819999999999},null,null,null,null,{"$f":"IF(AND(TRIM(BY77)=\"\",TRIM(BY78)=\"\"),\"\",BY77+BY78)","v":1412.8630000000001},null,null,null,null,{"$f":"IF(AND(TRIM(CD77)=\"\",TRIM(CD78)=\"\"),\"\",CD77+CD78)","v":9507.2219999999998},null,null,null,{"$f":"IF(TRIM(CG79)=\"\", \"\", IF(VLOOKUP(CG79,#REF!,2,FALSE)=0,\"\",VLOOKUP(CG79,#REF!,2,FALSE) ) )","v":""},{"$f":"IF(AND(TRIM(CI77)=\"\", TRIM(CI78)=\"\"), \"\", (IF(ISNUMBER(CI77),CI77,0)+IF(ISNUMBER(CI78),CI78,0)))","v":10920.084999999999},null,null,null,{"$f":"IF(TRIM(CL79)=\"\", \"\", IF(VLOOKUP(CL79,#REF!,2,FALSE)=0,\"\",VLOOKUP(CL79,#REF!,2,FALSE) ) )","v":""},{"$f":"IF(AND(TRIM(CN77)=\"\",TRIM(CN78)=\"\"),\"\",CN77+CN78)","v":15179.450999999999},null,null,null,null,{"$f":"IF(AND(TRIM(CS77)=\"\",TRIM(CS78)=\"\"),\"\",CS77+CS78)","v":183042.701},null,null,null,null,{"$f":"IF(AND(TRIM(CX77)=\"\",TRIM(CX78)=\"\"),\"\",CX77+CX78)","v":41.417999999999999},null,null,null,null,{"$f":"IF(AND(TRIM(DC77)=\"\",TRIM(DC78)=\"\"),\"\",DC77+DC78)","v":899503.08400000003},null,null,null,{"$f":"IF(TRIM(DF79)=\"\", \"\", IF(VLOOKUP(DF79,#REF!,2,FALSE)=0,\"\",VLOOKUP(DF79,#REF!,2,FALSE) ) )","v":""},{"$f":"IF(AND(TRIM(DH77)=\"\", TRIM(DH78)=\"\"), \"\", SUM(DH77,DH78) )","v":1147784.423},null,null,null,{"$f":"IF(TRIM(DK79)=\"\", \"\", IF(VLOOKUP(DK79,#REF!,2,FALSE)=0,\"\",VLOOKUP(DK79,#REF!,2,FALSE) ) )","v":""}]
[null,"W102","W102","Mixed and undifferentiated materials ","HAZ","Hazardous ",0,null,null,null,null,3.0000000000000001E-3,null,null,null,null,4.173,null,null,null,null,0,null,null,null,null,0,null,null,null,null,0,null,null,null,null,0,null,null,null,null,85.135000000000005,null,null,null,null,10.509,null,null,null,null,22.18,null,null,null,null,26.908999999999999,null,null,null,null,40.450000000000003,null,null,null,{"$f":"IF(TRIM(BM80)=\"\", \"\", IF(VLOOKUP(BM80,#REF!,2,FALSE)=0,\"\",VLOOKUP(BM80,#REF!,2,FALSE) ) )","v":""},{"$f":"IF(AND(TRIM(Q80)=\"\",TRIM(V80)=\"\",TRIM(AA80)=\"\", TRIM(AF80)=\"\", TRIM(AK80)=\"\", TRIM(AP80)=\"\", TRIM(AU80)=\"\", TRIM(AZ80)=\"\", TRIM(BE80)=\"\", TRIM(BJ80)=\"\"),\"\",Q80+V80+AA80+AF80+AK80+AP80+AU80+AZ80+BE80+BJ80)","v":189.35599999999999},null,null,null,{"$f":"IF(TRIM(BR80)=\"\", \"\", IF(VLOOKUP(BR80,#REF!,2,FALSE)=0,\"\",VLOOKUP(BR80,#REF!,2,FALSE) ) )","v":""},0,null,null,null,null,0.73199999999999998,null,null,null,null,9.2999999999999999E-2,null,null,null,{"$f":"IF(TRIM(CG80)=\"\", \"\", IF(VLOOKUP(CG80,#REF!,2,FALSE)=0,\"\",VLOOKUP(CG80,#REF!,2,FALSE) ) )","v":""},{"$f":"IF(AND(TRIM(BY80)=\"\",TRIM(CD80)=\"\"),\"\",BY80+CD80)","v":0.82499999999999996},null,null,null,{"$f":"IF(TRIM(CL80)=\"\", \"\", IF(VLOOKUP(CL80,#REF!,2,FALSE)=0,\"\",VLOOKUP(CL80,#REF!,2,FALSE) ) )","v":""},1192.2,null,null,null,null,101.607,null,null,null,null,0,null,null,null,null,0,null,null,null,{"$f":"IF(TRIM(DF80)=\"\", \"\", IF(VLOOKUP(DF80,#REF!,2,FALSE)=0,\"\",VLOOKUP(DF80,#REF!,2,FALSE) ) )","v":""},{"$f":"IF(AND(TRIM(G80)=\"\",TRIM(L80)=\"\",TRIM(BO80)=\"\",TRIM(BT80)=\"\",TRIM(CI80)=\"\",TRIM(CN80)=\"\",TRIM(CS80)=\"\",TRIM(CX80)=\"\",TRIM(DC80)=\"\"),\"\",SUM(G80,L80,BO80,BT80,CI80,CN80,CS80,CX80,DC80))","v":1483.991},null,null,null,{"$f":"IF(TRIM(DK80)=\"\", \"\", IF(VLOOKUP(DK80,#REF!,2,FALSE)=0,\"\",VLOOKUP(DK80,#REF!,2,FALSE) ) )","v":""}]
[null,null,"W102",null,"NHAZ","Non-hazardous",696.89,null,null,null,null,899.33,null,null,null,null,3785.1289999999999,null,null,null,null,979.02300000000002,null,null,null,null,3.14,null,null,null,null,23776.982,null,null,null,null,4166.82,null,null,null,null,1453.2950000000001,null,null,null,null,1743.393,null,null,null,null,2867.3670000000002,null,null,null,null,1825.75,null,null,null,null,226.71,null,null,null,{"$f":"IF(TRIM(BM81)=\"\", \"\", IF(VLOOKUP(BM81,#REF!,2,FALSE)=0,\"\",VLOOKUP(BM81,#REF!,2,FALSE) ) )","v":""},{"$f":"IF(AND(TRIM(Q81)=\"\",TRIM(V81)=\"\",TRIM(AA81)=\"\", TRIM(AF81)=\"\", TRIM(AK81)=\"\", TRIM(AP81)=\"\", TRIM(AU81)=\"\", TRIM(AZ81)=\"\", TRIM(BE81)=\"\", TRIM(BJ81)=\"\"),\"\",Q81+V81+AA81+AF81+AK81+AP81+AU81+AZ81+BE81+BJ81)","v":40827.608999999997},null,null,null,{"$f":"IF(TRIM(BR81)=\"\", \"\", IF(VLOOKUP(BR81,#REF!,2,FALSE)=0,\"\",VLOOKUP(BR81,#REF!,2,FALSE) ) )","v":""},9.2899999999999991,null,null,null,null,4560.5209999999997,null,null,null,null,10040.808999999999,null,null,null,{"$f":"IF(TRIM(CG81)=\"\", \"\", IF(VLOOKUP(CG81,#REF!,2,FALSE)=0,\"\",VLOOKUP(CG81,#REF!,2,FALSE) ) )","v":""},{"$f":"IF(AND(TRIM(BY81)=\"\",TRIM(CD81)=\"\"),\"\",BY81+CD81)","v":14601.33},null,null,null,{"$f":"IF(TRIM(CL81)=\"\", \"\", IF(VLOOKUP(CL81,#REF!,2,FALSE)=0,\"\",VLOOKUP(CL81,#REF!,2,FALSE) ) )","v":""},251.66499999999999,null,null,null,null,2699.326,null,null,null,null,1,null,null,null,null,2811.3029999999999,null,null,null,{"$f":"IF(TRIM(DF81)=\"\", \"\", IF(VLOOKUP(DF81,#REF!,2,FALSE)=0,\"\",VLOOKUP(DF81,#REF!,2,FALSE) ) )","v":""},{"$f":"IF(AND(TRIM(G81)=\"\",TRIM(L81)=\"\",TRIM(BO81)=\"\",TRIM(BT81)=\"\",TRIM(CI81)=\"\",TRIM(CN81)=\"\",TRIM(CS81)=\"\",TRIM(CX81)=\"\",TRIM(DC81)=\"\"),\"\",SUM(G81,L81,BO81,BT81,CI81,CN81,CS81,CX81,DC81))","v":62797.743000000002},null,null,null,{"$f":"IF(TRIM(DK81)=\"\", \"\", IF(VLOOKUP(DK81,#REF!,2,FALSE)=0,\"\",VLOOKUP(DK81,#REF!,2,FALSE) ) )","v":""}]
[null,null,"W102",null,"HAZ_NHAZ","Total",{"$f":"IF(AND(TRIM(G80)=\"\",TRIM(G81)=\"\"),\"\",G80+G81)","v":696.89},null,null,null,null,{"$f":"IF(AND(TRIM(L80)=\"\",TRIM(L81)=\"\"),\"\",L80+L81)","v":899.33299999999997},null,null,null,null,{"$f":"IF(AND(TRIM(Q80)=\"\",TRIM(Q81)=\"\"),\"\",Q80+Q81)","v":3789.3020000000001},null,null,null,null,{"$f":"IF(AND(TRIM(V80)=\"\",TRIM(V81)=\"\"),\"\",V80+V81)","v":979.02300000000002},null,null,null,null,{"$f":"IF(AND(TRIM(AA80)=\"\",TRIM(AA81)=\"\"),\"\",AA80+AA81)","v":3.14},null,null,null,null,{"$f":"IF(AND(TRIM(AF80)=\"\",TRIM(AF81)=\"\"),\"\",AF80+AF81)","v":23776.982},null,null,null,null,{"$f":"IF(AND(TRIM(AK80)=\"\",TRIM(AK81)=\"\"),\"\",AK80+AK81)","v":4166.82},null,null,null,null,{"$f":"IF(AND(TRIM(AP80)=\"\",TRIM(AP81)=\"\"),\"\",AP80+AP81)","v":1538.43},null,null,null,null,{"$f":"IF(AND(TRIM(AU80)=\"\",TRIM(AU81)=\"\"),\"\",AU80+AU81)","v":1753.902},null,null,null,null,{"$f":"IF(AND(TRIM(AZ80)=\"\",TRIM(AZ81)=\"\"),\"\",AZ80+AZ81)","v":2889.547},null,null,null,null,{"$f":"IF(AND(TRIM(BE80)=\"\",TRIM(BE81)=\"\"),\"\",BE80+BE81)","v":1852.6590000000001},null,null,null,null,{"$f":"IF(AND(TRIM(BJ80)=\"\",TRIM(BJ81)=\"\"),\"\",BJ80+BJ81)","v":267.16000000000003},null,null,null,{"$f":"IF(TRIM(BM82)=\"\", \"\", IF(VLOOKUP(BM82,#REF!,2,FALSE)=0,\"\",VLOOKUP(BM82,#REF!,2,FALSE) ) )","v":""},{"$f":"IF(AND(TRIM(BO80)=\"\", TRIM(BO81)=\"\"), \"\", (IF(ISNUMBER(BO80),BO80,0)+IF(ISNUMBER(BO81),BO81,0)))","v":41016.964999999997},null,null,null,{"$f":"IF(TRIM(BR82)=\"\", \"\", IF(VLOOKUP(BR82,#REF!,2,FALSE)=0,\"\",VLOOKUP(BR82,#REF!,2,FALSE) ) )","v":""},{"$f":"IF(AND(TRIM(BT80)=\"\",TRIM(BT81)=\"\"),\"\",BT80+BT81)","v":9.2899999999999991},null,null,null,null,{"$f":"IF(AND(TRIM(BY80)=\"\",TRIM(BY81)=\"\"),\"\",BY80+BY81)","v":4561.2529999999997},null,null,null,null,{"$f":"IF(AND(TRIM(CD80)=\"\",TRIM(CD81)=\"\"),\"\",CD80+CD81)","v":10040.902},null,null,null,{"$f":"IF(TRIM(CG82)=\"\", \"\", IF(VLOOKUP(CG82,#REF!,2,FALSE)=0,\"\",VLOOKUP(CG82,#REF!,2,FALSE) ) )","v":""},{"$f":"IF(AND(TRIM(CI80)=\"\", TRIM(CI81)=\"\"), \"\", (IF(ISNUMBER(CI80),CI80,0)+IF(ISNUMBER(CI81),CI81,0)))","v":14602.155000000001},null,null,null,{"$f":"IF(TRIM(CL82)=\"\", \"\", IF(VLOOKUP(CL82,#REF!,2,FALSE)=0,\"\",VLOOKUP(CL82,#REF!,2,FALSE) ) )","v":""},{"$f":"IF(AND(TRIM(CN80)=\"\",TRIM(CN81)=\"\"),\"\",CN80+CN81)","v":1443.865},null,null,null,null,{"$f":"IF(AND(TRIM(CS80)=\"\",TRIM(CS81)=\"\"),\"\",CS80+CS81)","v":2800.933},null,null,null,null,{"$f":"IF(AND(TRIM(CX80)=\"\",TRIM(CX81)=\"\"),\"\",CX80+CX81)","v":1},null,null,null,null,{"$f":"IF(AND(TRIM(DC80)=\"\",TRIM(DC81)=\"\"),\"\",DC80+DC81)","v":2811.3029999999999},null,null,null,{"$f":"IF(TRIM(DF82)=\"\", \"\", IF(VLOOKUP(DF82,#REF!,2,FALSE)=0,\"\",VLOOKUP(DF82,#REF!,2,FALSE) ) )","v":""},{"$f":"IF(AND(TRIM(DH80)=\"\", TRIM(DH81)=\"\"), \"\", SUM(DH80,DH81) )","v":64281.733999999997},null,null,null,{"$f":"IF(TRIM(DK82)=\"\", \"\", IF(VLOOKUP(DK82,#REF!,2,FALSE)=0,\"\",VLOOKUP(DK82,#REF!,2,FALSE) ) )","v":""}]
[null,"W103","W103","Sorting residues ","HAZ","Hazardous ",0,null,null,null,null,0,null,null,null,null,0,null,null,null,null,0,null,null,null,null,0,null,null,null,null,0,null,null,null,null,0,null,null,null,null,0,null,null,null,null,0,null,null,null,null,12214.004000000001,null,null,null,null,0,null,null,null,null,0,null,null,null,{"$f":"IF(TRIM(BM83)=\"\", \"\", IF(VLOOKUP(BM83,#REF!,2,FALSE)=0,\"\",VLOOKUP(BM83,#REF!,2,FALSE) ) )","v":""},{"$f":"IF(AND(TRIM(Q83)=\"\",TRIM(V83)=\"\",TRIM(AA83)=\"\", TRIM(AF83)=\"\", TRIM(AK83)=\"\", TRIM(AP83)=\"\", TRIM(AU83)=\"\", TRIM(AZ83)=\"\", TRIM(BE83)=\"\", TRIM(BJ83)=\"\"),\"\",Q83+V83+AA83+AF83+AK83+AP83+AU83+AZ83+BE83+BJ83)","v":12214.004000000001},null,null,null,{"$f":"IF(TRIM(BR83)=\"\", \"\", IF(VLOOKUP(BR83,#REF!,2,FALSE)=0,\"\",VLOOKUP(BR83,#REF!,2,FALSE) ) )","v":""},0,null,null,null,null,0,null,null,null,null,572.58500000000004,null,null,null,{"$f":"IF(TRIM(CG83)=\"\", \"\", IF(VLOOKUP(CG83,#REF!,2,FALSE)=0,\"\",VLOOKUP(CG83,#REF!,2,FALSE) ) )","v":""},{"$f":"IF(AND(TRIM(BY83)=\"\",TRIM(CD83)=\"\"),\"\",BY83+CD83)","v":572.58500000000004},null,null,null,{"$f":"IF(TRIM(CL83)=\"\", \"\", IF(VLOOKUP(CL83,#REF!,2,FALSE)=0,\"\",VLOOKUP(CL83,#REF!,2,FALSE) ) )","v":""},0,null,null,null,null,815.79600000000005,null,null,null,null,0,null,null,null,null,0,null,null,null,{"$f":"IF(TRIM(DF83)=\"\", \"\", IF(VLOOKUP(DF83,#REF!,2,FALSE)=0,\"\",VLOOKUP(DF83,#REF!,2,FALSE) ) )","v":""},{"$f":"IF(AND(TRIM(G83)=\"\",TRIM(L83)=\"\",TRIM(BO83)=\"\",TRIM(BT83)=\"\",TRIM(CI83)=\"\",TRIM(CN83)=\"\",TRIM(CS83)=\"\",TRIM(CX83)=\"\",TRIM(DC83)=\"\"),\"\",SUM(G83,L83,BO83,BT83,CI83,CN83,CS83,CX83,DC83))","v":13602.385},null,null,null,{"$f":"IF(TRIM(DK83)=\"\", \"\", IF(VLOOKUP(DK83,#REF!,2,FALSE)=0,\"\",VLOOKUP(DK83,#REF!,2,FALSE) ) )","v":""}]
[null,null,"W103",null,"NHAZ","Non-hazardous",0,null,null,null,null,0,null,null,null,null,0,null,null,null,null,0,null,null,null,null,1.1200000000000001,null,null,null,null,0,null,null,null,null,0,null,null,null,null,361.23,null,null,null,null,1234.6600000000001,null,null,null,null,1513.538,null,null,null,null,0,null,null,null,null,235.08500000000001,null,null,null,{"$f":"IF(TRIM(BM84)=\"\", \"\", IF(VLOOKUP(BM84,#REF!,2,FALSE)=0,\"\",VLOOKUP(BM84,#REF!,2,FALSE) ) )","v":""},{"$f":"IF(AND(TRIM(Q84)=\"\",TRIM(V84)=\"\",TRIM(AA84)=\"\", TRIM(AF84)=\"\", TRIM(AK84)=\"\", TRIM(AP84)=\"\", TRIM(AU84)=\"\", TRIM(AZ84)=\"\", TRIM(BE84)=\"\", TRIM(BJ84)=\"\"),\"\",Q84+V84+AA84+AF84+AK84+AP84+AU84+AZ84+BE84+BJ84)","v":3345.6329999999998},null,null,null,{"$f":"IF(TRIM(BR84)=\"\", \"\", IF(VLOOKUP(BR84,#REF!,2,FALSE)=0,\"\",VLOOKUP(BR84,#REF!,2,FALSE) ) )","v":""},762.7,null,null,null,null,0,null,null,null,null,226023.283,null,null,null,{"$f":"IF(TRIM(CG84)=\"\", \"\", IF(VLOOKUP(CG84,#REF!,2,FALSE)=0,\"\",VLOOKUP(CG84,#REF!,2,FALSE) ) )","v":""},{"$f":"IF(AND(TRIM(BY84)=\"\",TRIM(CD84)=\"\"),\"\",BY84+CD84)","v":226023.283},null,null,null,{"$f":"IF(TRIM(CL84)=\"\", \"\", IF(VLOOKUP(CL84,#REF!,2,FALSE)=0,\"\",VLOOKUP(CL84,#REF!,2,FALSE) ) )","v":""},0,null,null,null,null,5192.1660000000002,null,null,null,null,642.46,null,null,null,null,385.52,null,null,null,{"$f":"IF(TRIM(DF84)=\"\", \"\", IF(VLOOKUP(DF84,#REF!,2,FALSE)=0,\"\",VLOOKUP(DF84,#REF!,2,FALSE) ) )","v":""},{"$f":"IF(AND(TRIM(G84)=\"\",TRIM(L84)=\"\",TRIM(BO84)=\"\",TRIM(BT84)=\"\",TRIM(CI84)=\"\",TRIM(CN84)=\"\",TRIM(CS84)=\"\",TRIM(CX84)=\"\",TRIM(DC84)=\"\"),\"\",SUM(G84,L84,BO84,BT84,CI84,CN84,CS84,CX84,DC84))","v":236351.76199999999},null,null,null,{"$f":"IF(TRIM(DK84)=\"\", \"\", IF(VLOOKUP(DK84,#REF!,2,FALSE)=0,\"\",VLOOKUP(DK84,#REF!,2,FALSE) ) )","v":""}]
[null,null,"W103",null,"HAZ_NHAZ","Total",{"$f":"IF(AND(TRIM(G83)=\"\",TRIM(G84)=\"\"),\"\",G83+G84)","v":0},null,null,null,null,{"$f":"IF(AND(TRIM(L83)=\"\",TRIM(L84)=\"\"),\"\",L83+L84)","v":0},null,null,null,null,{"$f":"IF(AND(TRIM(Q83)=\"\",TRIM(Q84)=\"\"),\"\",Q83+Q84)","v":0},null,null,null,null,{"$f":"IF(AND(TRIM(V83)=\"\",TRIM(V84)=\"\"),\"\",V83+V84)","v":0},null,null,null,null,{"$f":"IF(AND(TRIM(AA83)=\"\",TRIM(AA84)=\"\"),\"\",AA83+AA84)","v":1.1200000000000001},null,null,null,null,{"$f":"IF(AND(TRIM(AF83)=\"\",TRIM(AF84)=\"\"),\"\",AF83+AF84)","v":0},null,null,null,null,{"$f":"IF(AND(TRIM(AK83)=\"\",TRIM(AK84)=\"\"),\"\",AK83+AK84)","v":0},null,null,null,null,{"$f":"IF(AND(TRIM(AP83)=\"\",TRIM(AP84)=\"\"),\"\",AP83+AP84)","v":361.23},null,null,null,null,{"$f":"IF(AND(TRIM(AU83)=\"\",TRIM(AU84)=\"\"),\"\",AU83+AU84)","v":1234.6600000000001},null,null,null,null,{"$f":"IF(AND(TRIM(AZ83)=\"\",TRIM(AZ84)=\"\"),\"\",AZ83+AZ84)","v":13727.541999999999},null,null,null,null,{"$f":"IF(AND(TRIM(BE83)=\"\",TRIM(BE84)=\"\"),\"\",BE83+BE84)","v":0},null,null,null,null,{"$f":"IF(AND(TRIM(BJ83)=\"\",TRIM(BJ84)=\"\"),\"\",BJ83+BJ84)","v":235.08500000000001},null,null,null,{"$f":"IF(TRIM(BM85)=\"\", \"\", IF(VLOOKUP(BM85,#REF!,2,FALSE)=0,\"\",VLOOKUP(BM85,#REF!,2,FALSE) ) )","v":""},{"$f":"IF(AND(TRIM(BO83)=\"\", TRIM(BO84)=\"\"), \"\", (IF(ISNUMBER(BO83),BO83,0)+IF(ISNUMBER(BO84),BO84,0)))","v":15559.637000000001},null,null,null,{"$f":"IF(TRIM(BR85)=\"\", \"\", IF(VLOOKUP(BR85,#REF!,2,FALSE)=0,\"\",VLOOKUP(BR85,#REF!,2,FALSE) ) )","v":""},{"$f":"IF(AND(TRIM(BT83)=\"\",TRIM(BT84)=\"\"),\"\",BT83+BT84)","v":762.7},null,null,null,null,{"$f":"IF(AND(TRIM(BY83)=\"\",TRIM(BY84)=\"\"),\"\",BY83+BY84)","v":0},null,null,null,null,{"$f":"IF(AND(TRIM(CD83)=\"\",TRIM(CD84)=\"\"),\"\",CD83+CD84)","v":226595.86799999999},null,null,null,{"$f":"IF(TRIM(CG85)=\"\", \"\", IF(VLOOKUP(CG85,#REF!,2,FALSE)=0,\"\",VLOOKUP(CG85,#REF!,2,FALSE) ) )","v":""},{"$f":"IF(AND(TRIM(CI83)=\"\", TRIM(CI84)=\"\"), \"\", (IF(ISNUMBER(CI83),CI83,0)+IF(ISNUMBER(CI84),CI84,0)))","v":226595.86799999999},null,null,null,{"$f":"IF(TRIM(CL85)=\"\", \"\", IF(VLOOKUP(CL85,#REF!,2,FALSE)=0,\"\",VLOOKUP(CL85,#REF!,2,FALSE) ) )","v":""},{"$f":"IF(AND(TRIM(CN83)=\"\",TRIM(CN84)=\"\"),\"\",CN83+CN84)","v":0},null,null,null,null,{"$f":"IF(AND(TRIM(CS83)=\"\",TRIM(CS84)=\"\"),\"\",CS83+CS84)","v":6007.9620000000004},null,null,null,null,{"$f":"IF(AND(TRIM(CX83)=\"\",TRIM(CX84)=\"\"),\"\",CX83+CX84)","v":642.46},null,null,null,null,{"$f":"IF(AND(TRIM(DC83)=\"\",TRIM(DC84)=\"\"),\"\",DC83+DC84)","v":385.52},null,null,null,{"$f":"IF(TRIM(DF85)=\"\", \"\", IF(VLOOKUP(DF85,#REF!,2,FALSE)=0,\"\",VLOOKUP(DF85,#REF!,2,FALSE) ) )","v":""},{"$f":"IF(AND(TRIM(DH83)=\"\", TRIM(DH84)=\"\"), \"\", SUM(DH83,DH84) )","v":249954.147},null,null,null,{"$f":"IF(TRIM(DK85)=\"\", \"\", IF(VLOOKUP(DK85,#REF!,2,FALSE)=0,\"\",VLOOKUP(DK85,#REF!,2,FALSE) ) )","v":""}]
[null,"W11",null,"Common sludges ",null,"Not applicable",0,null,null,null,null,0,null,null,null,null,0,null,null,null,null,0,null,null,null,null,0,null,null,null,null,0,null,null,null,null,0,null,null,null,null,0,null,null,null,null,0,null,null,null,null,0,null,null,null,null,0,null,null,null,null,0,null,null,null,null,null,null,null,null,null,0,null,null,null,null,0,null,null,null,null,0,null,null,null,null,null,null,null,null,null,0,null,null,null,null,0,null,null,null,null,0,null,null,null,null,0]
[null,null,"W11",null,"NHAZ","Non-hazardous",174.36099999999999,null,null,null,null,0,null,null,null,null,2770.1790000000001,null,null,null,null,0,null,null,null,null,0,null,null,null,null,0,null,null,null,null,0,null,null,null,null,0,null,null,null,null,0.09,null,null,null,null,0,null,null,null,null,0.77700000000000002,null,null,null,null,0.64200000000000002,null,null,null,{"$f":"IF(TRIM(BM87)=\"\", \"\", IF(VLOOKUP(BM87,#REF!,2,FALSE)=0,\"\",VLOOKUP(BM87,#REF!,2,FALSE) ) )","v":""},{"$f":"IF(AND(TRIM(Q87)=\"\",TRIM(V87)=\"\",TRIM(AA87)=\"\", TRIM(AF87)=\"\", TRIM(AK87)=\"\", TRIM(AP87)=\"\", TRIM(AU87)=\"\", TRIM(AZ87)=\"\", TRIM(BE87)=\"\", TRIM(BJ87)=\"\"),\"\",Q87+V87+AA87+AF87+AK87+AP87+AU87+AZ87+BE87+BJ87)","v":2771.6880000000001},null,null,null,{"$f":"IF(TRIM(BR87)=\"\", \"\", IF(VLOOKUP(BR87,#REF!,2,FALSE)=0,\"\",VLOOKUP(BR87,#REF!,2,FALSE) ) )","v":""},0,null,null,null,null,22012.636999999999,null,null,null,null,72.102999999999994,null,null,null,{"$f":"IF(TRIM(CG87)=\"\", \"\", IF(VLOOKUP(CG87,#REF!,2,FALSE)=0,\"\",VLOOKUP(CG87,#REF!,2,FALSE) ) )","v":""},{"$f":"IF(AND(TRIM(BY87)=\"\",TRIM(CD87)=\"\"),\"\",BY87+CD87)","v":22084.74},null,null,null,{"$f":"IF(TRIM(CL87)=\"\", \"\", IF(VLOOKUP(CL87,#REF!,2,FALSE)=0,\"\",VLOOKUP(CL87,#REF!,2,FALSE) ) )","v":""},7.89,null,null,null,null,106.935,null,null,null,null,0,null,null,null,null,0,null,null,null,{"$f":"IF(TRIM(DF87)=\"\", \"\", IF(VLOOKUP(DF87,#REF!,2,FALSE)=0,\"\",VLOOKUP(DF87,#REF!,2,FALSE) ) )","v":""},{"$f":"IF(AND(TRIM(G87)=\"\",TRIM(L87)=\"\",TRIM(BO87)=\"\",TRIM(BT87)=\"\",TRIM(CI87)=\"\",TRIM(CN87)=\"\",TRIM(CS87)=\"\",TRIM(CX87)=\"\",TRIM(DC87)=\"\"),\"\",SUM(G87,L87,BO87,BT87,CI87,CN87,CS87,CX87,DC87))","v":25145.614000000001},null,null,null,{"$f":"IF(TRIM(DK87)=\"\", \"\", IF(VLOOKUP(DK87,#REF!,2,FALSE)=0,\"\",VLOOKUP(DK87,#REF!,2,FALSE) ) )","v":""}]
[null,null,"W11",null,"HAZ_NHAZ","Total",{"$f":"IF(AND(TRIM(G86)=\"\",TRIM(G87)=\"\"),\"\",G86+G87)","v":174.36099999999999},null,null,null,null,{"$f":"IF(AND(TRIM(L86)=\"\",TRIM(L87)=\"\"),\"\",L86+L87)","v":0},null,null,null,null,{"$f":"IF(AND(TRIM(Q86)=\"\",TRIM(Q87)=\"\"),\"\",Q86+Q87)","v":2770.1790000000001},null,null,null,null,{"$f":"IF(AND(TRIM(V86)=\"\",TRIM(V87)=\"\"),\"\",V86+V87)","v":0},null,null,null,null,{"$f":"IF(AND(TRIM(AA86)=\"\",TRIM(AA87)=\"\"),\"\",AA86+AA87)","v":0},null,null,null,null,{"$f":"IF(AND(TRIM(AF86)=\"\",TRIM(AF87)=\"\"),\"\",AF86+AF87)","v":0},null,null,null,null,{"$f":"IF(AND(TRIM(AK86)=\"\",TRIM(AK87)=\"\"),\"\",AK86+AK87)","v":0},null,null,null,null,{"$f":"IF(AND(TRIM(AP86)=\"\",TRIM(AP87)=\"\"),\"\",AP86+AP87)","v":0},null,null,null,null,{"$f":"IF(AND(TRIM(AU86)=\"\",TRIM(AU87)=\"\"),\"\",AU86+AU87)","v":0.09},null,null,null,null,{"$f":"IF(AND(TRIM(AZ86)=\"\",TRIM(AZ87)=\"\"),\"\",AZ86+AZ87)","v":0},null,null,null,null,{"$f":"IF(AND(TRIM(BE86)=\"\",TRIM(BE87)=\"\"),\"\",BE86+BE87)","v":0.77700000000000002},null,null,null,null,{"$f":"IF(AND(TRIM(BJ86)=\"\",TRIM(BJ87)=\"\"),\"\",BJ86+BJ87)","v":0.64200000000000002},null,null,null,{"$f":"IF(TRIM(BM88)=\"\", \"\", IF(VLOOKUP(BM88,#REF!,2,FALSE)=0,\"\",VLOOKUP(BM88,#REF!,2,FALSE) ) )","v":""},{"$f":"IF(AND(TRIM(BO86)=\"\", TRIM(BO87)=\"\"), \"\", (IF(ISNUMBER(BO86),BO86,0)+IF(ISNUMBER(BO87),BO87,0)))","v":2771.6880000000001},null,null,null,{"$f":"IF(TRIM(BR88)=\"\", \"\", IF(VLOOKUP(BR88,#REF!,2,FALSE)=0,\"\",VLOOKUP(BR88,#REF!,2,FALSE) ) )","v":""},{"$f":"IF(AND(TRIM(BT86)=\"\",TRIM(BT87)=\"\"),\"\",BT86+BT87)","v":0},null,null,null,null,{"$f":"IF(AND(TRIM(BY86)=\"\",TRIM(BY87)=\"\"),\"\",BY86+BY87)","v":22012.636999999999},null,null,null,null,{"$f":"IF(AND(TRIM(CD86)=\"\",TRIM(CD87)=\"\"),\"\",CD86+CD87)","v":72.102999999999994},null,null,null,{"$f":"IF(TRIM(CG88)=\"\", \"\", IF(VLOOKUP(CG88,#REF!,2,FALSE)=0,\"\",VLOOKUP(CG88,#REF!,2,FALSE) ) )","v":""},{"$f":"IF(AND(TRIM(CI86)=\"\", TRIM(CI87)=\"\"), \"\", (IF(ISNUMBER(CI86),CI86,0)+IF(ISNUMBER(CI87),CI87,0)))","v":22084.74},null,null,null,{"$f":"IF(TRIM(CL88)=\"\", \"\", IF(VLOOKUP(CL88,#REF!,2,FALSE)=0,\"\",VLOOKUP(CL88,#REF!,2,FALSE) ) )","v":""},{"$f":"IF(AND(TRIM(CN86)=\"\",TRIM(CN87)=\"\"),\"\",CN86+CN87)","v":7.89},null,null,null,null,{"$f":"IF(AND(TRIM(CS86)=\"\",TRIM(CS87)=\"\"),\"\",CS86+CS87)","v":106.935},null,null,null,null,{"$f":"IF(AND(TRIM(CX86)=\"\",TRIM(CX87)=\"\"),\"\",CX86+CX87)","v":0},null,null,null,null,{"$f":"IF(AND(TRIM(DC86)=\"\",TRIM(DC87)=\"\"),\"\",DC86+DC87)","v":0},null,null,null,{"$f":"IF(TRIM(DF88)=\"\", \"\", IF(VLOOKUP(DF88,#REF!,2,FALSE)=0,\"\",VLOOKUP(DF88,#REF!,2,FALSE) ) )","v":""},{"$f":"IF(AND(TRIM(DH86)=\"\", TRIM(DH87)=\"\"), \"\", SUM(DH86,DH87) )","v":25145.614000000001},null,null,null,{"$f":"IF(TRIM(DK88)=\"\", \"\", IF(VLOOKUP(DK88,#REF!,2,FALSE)=0,\"\",VLOOKUP(DK88,#REF!,2,FALSE) ) )","v":""}]
[null,"W121","W121","Mineral waste from construction and demolition","HAZ","Hazardous ",0,null,null,null,null,0,null,null,null,null,0,null,null,null,null,0,null,null,null,null,0,null,null,null,null,0,null,null,null,null,0,null,null,null,null,0,null,null,null,null,0,null,null,null,null,0,null,null,null,null,0,null,null,null,null,0,null,null,null,{"$f":"IF(TRIM(BM89)=\"\", \"\", IF(VLOOKUP(BM89,#REF!,2,FALSE)=0,\"\",VLOOKUP(BM89,#REF!,2,FALSE) ) )","v":""},{"$f":"IF(AND(TRIM(Q89)=\"\",TRIM(V89)=\"\",TRIM(AA89)=\"\", TRIM(AF89)=\"\", TRIM(AK89)=\"\", TRIM(AP89)=\"\", TRIM(AU89)=\"\", TRIM(AZ89)=\"\", TRIM(BE89)=\"\", TRIM(BJ89)=\"\"),\"\",Q89+V89+AA89+AF89+AK89+AP89+AU89+AZ89+BE89+BJ89)","v":0},null,null,null,{"$f":"IF(TRIM(BR89)=\"\", \"\", IF(VLOOKUP(BR89,#REF!,2,FALSE)=0,\"\",VLOOKUP(BR89,#REF!,2,FALSE) ) )","v":""},0,null,null,null,null,0,null,null,null,null,0,null,null,null,{"$f":"IF(TRIM(CG89)=\"\", \"\", IF(VLOOKUP(CG89,#REF!,2,FALSE)=0,\"\",VLOOKUP(CG89,#REF!,2,FALSE) ) )","v":""},{"$f":"IF(AND(TRIM(BY89)=\"\",TRIM(CD89)=\"\"),\"\",BY89+CD89)","v":0},null,null,null,{"$f":"IF(TRIM(CL89)=\"\", \"\", IF(VLOOKUP(CL89,#REF!,2,FALSE)=0,\"\",VLOOKUP(CL89,#REF!,2,FALSE) ) )","v":""},7160.6,null,null,null,null,0,null,null,null,null,0,null,null,null,null,0,null,null,null,{"$f":"IF(TRIM(DF89)=\"\", \"\", IF(VLOOKUP(DF89,#REF!,2,FALSE)=0,\"\",VLOOKUP(DF89,#REF!,2,FALSE) ) )","v":""},{"$f":"IF(AND(TRIM(G89)=\"\",TRIM(L89)=\"\",TRIM(BO89)=\"\",TRIM(BT89)=\"\",TRIM(CI89)=\"\",TRIM(CN89)=\"\",TRIM(CS89)=\"\",TRIM(CX89)=\"\",TRIM(DC89)=\"\"),\"\",SUM(G89,L89,BO89,BT89,CI89,CN89,CS89,CX89,DC89))","v":7160.6},null,null,null,{"$f":"IF(TRIM(DK89)=\"\", \"\", IF(VLOOKUP(DK89,#REF!,2,FALSE)=0,\"\",VLOOKUP(DK89,#REF!,2,FALSE) ) )","v":""}]
[null,null,"W121",null,"NHAZ","Non-hazardous",0,null,null,null,null,0,null,null,null,null,0,null,null,null,null,0,null,null,null,null,0,null,null,null,null,0,null,null,null,null,0,null,null,null,null,0,null,null,null,null,0,null,null,null,null,0,null,null,null,null,0,null,null,null,null,0,null,null,null,{"$f":"IF(TRIM(BM90)=\"\", \"\", IF(VLOOKUP(BM90,#REF!,2,FALSE)=0,\"\",VLOOKUP(BM90,#REF!,2,FALSE) ) )","v":""},{"$f":"IF(AND(TRIM(Q90)=\"\",TRIM(V90)=\"\",TRIM(AA90)=\"\", TRIM(AF90)=\"\", TRIM(AK90)=\"\", TRIM(AP90)=\"\", TRIM(AU90)=\"\", TRIM(AZ90)=\"\", TRIM(BE90)=\"\", TRIM(BJ90)=\"\"),\"\",Q90+V90+AA90+AF90+AK90+AP90+AU90+AZ90+BE90+BJ90)","v":0},null,null,null,{"$f":"IF(TRIM(BR90)=\"\", \"\", IF(VLOOKUP(BR90,#REF!,2,FALSE)=0,\"\",VLOOKUP(BR90,#REF!,2,FALSE) ) )","v":""},0,null,null,null,null,0,null,null,null,null,0,null,null,null,{"$f":"IF(TRIM(CG90)=\"\", \"\", IF(VLOOKUP(CG90,#REF!,2,FALSE)=0,\"\",VLOOKUP(CG90,#REF!,2,FALSE) ) )","v":""},{"$f":"IF(AND(TRIM(BY90)=\"\",TRIM(CD90)=\"\"),\"\",BY90+CD90)","v":0},null,null,null,{"$f":"IF(TRIM(CL90)=\"\", \"\", IF(VLOOKUP(CL90,#REF!,2,FALSE)=0,\"\",VLOOKUP(CL90,#REF!,2,FALSE) ) )","v":""},622978.02,null,null,null,null,0,null,null,null,null,0,null,null,null,null,0,null,null,null,{"$f":"IF(TRIM(DF90)=\"\", \"\", IF(VLOOKUP(DF90,#REF!,2,FALSE)=0,\"\",VLOOKUP(DF90,#REF!,2,FALSE) ) )","v":""},{"$f":"IF(AND(TRIM(G90)=\"\",TRIM(L90)=\"\",TRIM(BO90)=\"\",TRIM(BT90)=\"\",TRIM(CI90)=\"\",TRIM(CN90)=\"\",TRIM(CS90)=\"\",TRIM(CX90)=\"\",TRIM(DC90)=\"\"),\"\",SUM(G90,L90,BO90,BT90,CI90,CN90,CS90,CX90,DC90))","v":622978.02},null,null,null,{"$f":"IF(TRIM(DK90)=\"\", \"\", IF(VLOOKUP(DK90,#REF!,2,FALSE)=0,\"\",VLOOKUP(DK90,#REF!,2,FALSE) ) )","v":""}]
[null,null,"W121",null,"HAZ_NHAZ","Total",{"$f":"IF(AND(TRIM(G89)=\"\",TRIM(G90)=\"\"),\"\",G89+G90)","v":0},null,null,null,null,{"$f":"IF(AND(TRIM(L89)=\"\",TRIM(L90)=\"\"),\"\",L89+L90)","v":0},null,null,null,null,{"$f":"IF(AND(TRIM(Q89)=\"\",TRIM(Q90)=\"\"),\"\",Q89+Q90)","v":0},null,null,null,null,{"$f":"IF(AND(TRIM(V89)=\"\",TRIM(V90)=\"\"),\"\",V89+V90)","v":0},null,null,null,null,{"$f":"IF(AND(TRIM(AA89)=\"\",TRIM(AA90)=\"\"),\"\",AA89+AA90)","v":0},null,null,null,null,{"$f":"IF(AND(TRIM(AF89)=\"\",TRIM(AF90)=\"\"),\"\",AF89+AF90)","v":0},null,null,null,null,{"$f":"IF(AND(TRIM(AK89)=\"\",TRIM(AK90)=\"\"),\"\",AK89+AK90)","v":0},null,null,null,null,{"$f":"IF(AND(TRIM(AP89)=\"\",TRIM(AP90)=\"\"),\"\",AP89+AP90)","v":0},null,null,null,null,{"$f":"IF(AND(TRIM(AU89)=\"\",TRIM(AU90)=\"\"),\"\",AU89+AU90)","v":0},null,null,null,null,{"$f":"IF(AND(TRIM(AZ89)=\"\",TRIM(AZ90)=\"\"),\"\",AZ89+AZ90)","v":0},null,null,null,null,{"$f":"IF(AND(TRIM(BE89)=\"\",TRIM(BE90)=\"\"),\"\",BE89+BE90)","v":0},null,null,null,null,{"$f":"IF(AND(TRIM(BJ89)=\"\",TRIM(BJ90)=\"\"),\"\",BJ89+BJ90)","v":0},null,null,null,{"$f":"IF(TRIM(BM91)=\"\", \"\", IF(VLOOKUP(BM91,#REF!,2,FALSE)=0,\"\",VLOOKUP(BM91,#REF!,2,FALSE) ) )","v":""},{"$f":"IF(AND(TRIM(BO89)=\"\", TRIM(BO90)=\"\"), \"\", (IF(ISNUMBER(BO89),BO89,0)+IF(ISNUMBER(BO90),BO90,0)))","v":0},null,null,null,{"$f":"IF(TRIM(BR91)=\"\", \"\", IF(VLOOKUP(BR91,#REF!,2,FALSE)=0,\"\",VLOOKUP(BR91,#REF!,2,FALSE) ) )","v":""},{"$f":"IF(AND(TRIM(BT89)=\"\",TRIM(BT90)=\"\"),\"\",BT89+BT90)","v":0},null,null,null,null,{"$f":"IF(AND(TRIM(BY89)=\"\",TRIM(BY90)=\"\"),\"\",BY89+BY90)","v":0},null,null,null,null,{"$f":"IF(AND(TRIM(CD89)=\"\",TRIM(CD90)=\"\"),\"\",CD89+CD90)","v":0},null,null,null,{"$f":"IF(TRIM(CG91)=\"\", \"\", IF(VLOOKUP(CG91,#REF!,2,FALSE)=0,\"\",VLOOKUP(CG91,#REF!,2,FALSE) ) )","v":""},{"$f":"IF(AND(TRIM(CI89)=\"\", TRIM(CI90)=\"\"), \"\", (IF(ISNUMBER(CI89),CI89,0)+IF(ISNUMBER(CI90),CI90,0)))","v":0},null,null,null,{"$f":"IF(TRIM(CL91)=\"\", \"\", IF(VLOOKUP(CL91,#REF!,2,FALSE)=0,\"\",VLOOKUP(CL91,#REF!,2,FALSE) ) )","v":""},{"$f":"IF(AND(TRIM(CN89)=\"\",TRIM(CN90)=\"\"),\"\",CN89+CN90)","v":630138.62},null,null,null,null,{"$f":"IF(AND(TRIM(CS89)=\"\",TRIM(CS90)=\"\"),\"\",CS89+CS90)","v":0},null,null,null,null,{"$f":"IF(AND(TRIM(CX89)=\"\",TRIM(CX90)=\"\"),\"\",CX89+CX90)","v":0},null,null,null,null,{"$f":"IF(AND(TRIM(DC89)=\"\",TRIM(DC90)=\"\"),\"\",DC89+DC90)","v":0},null,null,null,{"$f":"IF(TRIM(DF91)=\"\", \"\", IF(VLOOKUP(DF91,#REF!,2,FALSE)=0,\"\",VLOOKUP(DF91,#REF!,2,FALSE) ) )","v":""},{"$f":"IF(AND(TRIM(DH89)=\"\", TRIM(DH90)=\"\"), \"\", SUM(DH89,DH90) )","v":630138.62},null,null,null,{"$f":"IF(TRIM(DK91)=\"\", \"\", IF(VLOOKUP(DK91,#REF!,2,FALSE)=0,\"\",VLOOKUP(DK91,#REF!,2,FALSE) ) )","v":""}]
[null,"W12B","W12B","Other mineral wastes (W122+W123+W125)","HAZ","Hazardous ",7.665,null,null,null,null,3011.875,null,null,null,null,1.1339999999999999,null,null,null,null,0.2,null,null,null,null,3.3940000000000001,null,null,null,null,8.4000000000000005E-2,null,null,null,null,0.38,null,null,null,null,7.0229999999999997,null,null,null,null,10.627000000000001,null,null,null,null,47.527000000000001,null,null,null,null,79.103999999999999,null,null,null,null,9.8125,null,null,null,{"$f":"IF(TRIM(BM92)=\"\", \"\", IF(VLOOKUP(BM92,#REF!,2,FALSE)=0,\"\",VLOOKUP(BM92,#REF!,2,FALSE) ) )","v":""},{"$f":"IF(AND(TRIM(Q92)=\"\",TRIM(V92)=\"\",TRIM(AA92)=\"\", TRIM(AF92)=\"\", TRIM(AK92)=\"\", TRIM(AP92)=\"\", TRIM(AU92)=\"\", TRIM(AZ92)=\"\", TRIM(BE92)=\"\", TRIM(BJ92)=\"\"),\"\",Q92+V92+AA92+AF92+AK92+AP92+AU92+AZ92+BE92+BJ92)","v":159.286},null,null,null,{"$f":"IF(TRIM(BR92)=\"\", \"\", IF(VLOOKUP(BR92,#REF!,2,FALSE)=0,\"\",VLOOKUP(BR92,#REF!,2,FALSE) ) )","v":""},1.9E-2,null,null,null,null,0,null,null,null,null,3.74,null,null,null,{"$f":"IF(TRIM(CG92)=\"\", \"\", IF(VLOOKUP(CG92,#REF!,2,FALSE)=0,\"\",VLOOKUP(CG92,#REF!,2,FALSE) ) )","v":""},{"$f":"IF(AND(TRIM(BY92)=\"\",TRIM(CD92)=\"\"),\"\",BY92+CD92)","v":3.74},null,null,null,{"$f":"IF(TRIM(CL92)=\"\", \"\", IF(VLOOKUP(CL92,#REF!,2,FALSE)=0,\"\",VLOOKUP(CL92,#REF!,2,FALSE) ) )","v":""},3564.87,null,null,null,null,16.716999999999999,null,null,null,null,0,null,null,null,null,10.721,null,null,null,{"$f":"IF(TRIM(DF92)=\"\", \"\", IF(VLOOKUP(DF92,#REF!,2,FALSE)=0,\"\",VLOOKUP(DF92,#REF!,2,FALSE) ) )","v":""},{"$f":"IF(AND(TRIM(G92)=\"\",TRIM(L92)=\"\",TRIM(BO92)=\"\",TRIM(BT92)=\"\",TRIM(CI92)=\"\",TRIM(CN92)=\"\",TRIM(CS92)=\"\",TRIM(CX92)=\"\",TRIM(DC92)=\"\"),\"\",SUM(G92,L92,BO92,BT92,CI92,CN92,CS92,CX92,DC92))","v":6774.893},null,null,null,{"$f":"IF(TRIM(DK92)=\"\", \"\", IF(VLOOKUP(DK92,#REF!,2,FALSE)=0,\"\",VLOOKUP(DK92,#REF!,2,FALSE) ) )","v":""}]
[null,null,"W12B",null,"NHAZ","Non-hazardous",53.1,null,null,null,null,681994.04,null,null,null,null,8.8550000000000004,null,null,null,null,0,null,null,null,null,0,null,null,null,null,0,null,null,null,null,78.94,null,null,null,null,199.649,null,null,null,null,365.51400000000001,null,null,null,null,8388.4140000000007,null,null,null,null,3606.92,null,null,null,null,64.676000000000002,null,null,null,{"$f":"IF(TRIM(BM93)=\"\", \"\", IF(VLOOKUP(BM93,#REF!,2,FALSE)=0,\"\",VLOOKUP(BM93,#REF!,2,FALSE) ) )","v":""},{"$f":"IF(AND(TRIM(Q93)=\"\",TRIM(V93)=\"\",TRIM(AA93)=\"\", TRIM(AF93)=\"\", TRIM(AK93)=\"\", TRIM(AP93)=\"\", TRIM(AU93)=\"\", TRIM(AZ93)=\"\", TRIM(BE93)=\"\", TRIM(BJ93)=\"\"),\"\",Q93+V93+AA93+AF93+AK93+AP93+AU93+AZ93+BE93+BJ93)","v":12712.968000000001},null,null,null,{"$f":"IF(TRIM(BR93)=\"\", \"\", IF(VLOOKUP(BR93,#REF!,2,FALSE)=0,\"\",VLOOKUP(BR93,#REF!,2,FALSE) ) )","v":""},2,null,null,null,null,2241.8670000000002,null,null,null,null,2270.759,null,null,null,{"$f":"IF(TRIM(CG93)=\"\", \"\", IF(VLOOKUP(CG93,#REF!,2,FALSE)=0,\"\",VLOOKUP(CG93,#REF!,2,FALSE) ) )","v":""},{"$f":"IF(AND(TRIM(BY93)=\"\",TRIM(CD93)=\"\"),\"\",BY93+CD93)","v":4512.6260000000002},null,null,null,{"$f":"IF(TRIM(CL93)=\"\", \"\", IF(VLOOKUP(CL93,#REF!,2,FALSE)=0,\"\",VLOOKUP(CL93,#REF!,2,FALSE) ) )","v":""},10.56,null,null,null,null,3625.6,null,null,null,null,0,null,null,null,null,53.72,null,null,null,{"$f":"IF(TRIM(DF93)=\"\", \"\", IF(VLOOKUP(DF93,#REF!,2,FALSE)=0,\"\",VLOOKUP(DF93,#REF!,2,FALSE) ) )","v":""},{"$f":"IF(AND(TRIM(G93)=\"\",TRIM(L93)=\"\",TRIM(BO93)=\"\",TRIM(BT93)=\"\",TRIM(CI93)=\"\",TRIM(CN93)=\"\",TRIM(CS93)=\"\",TRIM(CX93)=\"\",TRIM(DC93)=\"\"),\"\",SUM(G93,L93,BO93,BT93,CI93,CN93,CS93,CX93,DC93))","v":702964.61399999994},null,null,null,{"$f":"IF(TRIM(DK93)=\"\", \"\", IF(VLOOKUP(DK93,#REF!,2,FALSE)=0,\"\",VLOOKUP(DK93,#REF!,2,FALSE) ) )","v":""}]
[null,null,"W12B",null,"HAZ_NHAZ","Total",{"$f":"IF(AND(TRIM(G92)=\"\",TRIM(G93)=\"\"),\"\",G92+G93)","v":60.765000000000001},null,null,null,null,{"$f":"IF(AND(TRIM(L92)=\"\",TRIM(L93)=\"\"),\"\",L92+L93)","v":685005.91500000004},null,null,null,null,{"$f":"IF(AND(TRIM(Q92)=\"\",TRIM(Q93)=\"\"),\"\",Q92+Q93)","v":9.9890000000000008},null,null,null,null,{"$f":"IF(AND(TRIM(V92)=\"\",TRIM(V93)=\"\"),\"\",V92+V93)","v":0.2},null,null,null,null,{"$f":"IF(AND(TRIM(AA92)=\"\",TRIM(AA93)=\"\"),\"\",AA92+AA93)","v":3.3940000000000001},null,null,null,null,{"$f":"IF(AND(TRIM(AF92)=\"\",TRIM(AF93)=\"\"),\"\",AF92+AF93)","v":8.4000000000000005E-2},null,null,null,null,{"$f":"IF(AND(TRIM(AK92)=\"\",TRIM(AK93)=\"\"),\"\",AK92+AK93)","v":79.319999999999993},null,null,null,null,{"$f":"IF(AND(TRIM(AP92)=\"\",TRIM(AP93)=\"\"),\"\",AP92+AP93)","v":206.672},null,null,null,null,{"$f":"IF(AND(TRIM(AU92)=\"\",TRIM(AU93)=\"\"),\"\",AU92+AU93)","v":376.14100000000002},null,null,null,null,{"$f":"IF(AND(TRIM(AZ92)=\"\",TRIM(AZ93)=\"\"),\"\",AZ92+AZ93)","v":8435.9410000000007},null,null,null,null,{"$f":"IF(AND(TRIM(BE92)=\"\",TRIM(BE93)=\"\"),\"\",BE92+BE93)","v":3686.0239999999999},null,null,null,null,{"$f":"IF(AND(TRIM(BJ92)=\"\",TRIM(BJ93)=\"\"),\"\",BJ92+BJ93)","v":74.489000000000004},null,null,null,{"$f":"IF(TRIM(BM94)=\"\", \"\", IF(VLOOKUP(BM94,#REF!,2,FALSE)=0,\"\",VLOOKUP(BM94,#REF!,2,FALSE) ) )","v":""},{"$f":"IF(AND(TRIM(BO92)=\"\", TRIM(BO93)=\"\"), \"\", (IF(ISNUMBER(BO92),BO92,0)+IF(ISNUMBER(BO93),BO93,0)))","v":12872.254000000001},null,null,null,{"$f":"IF(TRIM(BR94)=\"\", \"\", IF(VLOOKUP(BR94,#REF!,2,FALSE)=0,\"\",VLOOKUP(BR94,#REF!,2,FALSE) ) )","v":""},{"$f":"IF(AND(TRIM(BT92)=\"\",TRIM(BT93)=\"\"),\"\",BT92+BT93)","v":2.0190000000000001},null,null,null,null,{"$f":"IF(AND(TRIM(BY92)=\"\",TRIM(BY93)=\"\"),\"\",BY92+BY93)","v":2241.8670000000002},null,null,null,null,{"$f":"IF(AND(TRIM(CD92)=\"\",TRIM(CD93)=\"\"),\"\",CD92+CD93)","v":2274.4989999999998},null,null,null,{"$f":"IF(TRIM(CG94)=\"\", \"\", IF(VLOOKUP(CG94,#REF!,2,FALSE)=0,\"\",VLOOKUP(CG94,#REF!,2,FALSE) ) )","v":""},{"$f":"IF(AND(TRIM(CI92)=\"\", TRIM(CI93)=\"\"), \"\", (IF(ISNUMBER(CI92),CI92,0)+IF(ISNUMBER(CI93),CI93,0)))","v":4516.366},null,null,null,{"$f":"IF(TRIM(CL94)=\"\", \"\", IF(VLOOKUP(CL94,#REF!,2,FALSE)=0,\"\",VLOOKUP(CL94,#REF!,2,FALSE) ) )","v":""},{"$f":"IF(AND(TRIM(CN92)=\"\",TRIM(CN93)=\"\"),\"\",CN92+CN93)","v":3575.43},null,null,null,null,{"$f":"IF(AND(TRIM(CS92)=\"\",TRIM(CS93)=\"\"),\"\",CS92+CS93)","v":3642.317},null,null,null,null,{"$f":"IF(AND(TRIM(CX92)=\"\",TRIM(CX93)=\"\"),\"\",CX92+CX93)","v":0},null,null,null,null,{"$f":"IF(AND(TRIM(DC92)=\"\",TRIM(DC93)=\"\"),\"\",DC92+DC93)","v":64.441000000000003},null,null,null,{"$f":"IF(TRIM(DF94)=\"\", \"\", IF(VLOOKUP(DF94,#REF!,2,FALSE)=0,\"\",VLOOKUP(DF94,#REF!,2,FALSE) ) )","v":""},{"$f":"IF(AND(TRIM(DH92)=\"\", TRIM(DH93)=\"\"), \"\", SUM(DH92,DH93) )","v":709739.50699999998},null,null,null,{"$f":"IF(TRIM(DK94)=\"\", \"\", IF(VLOOKUP(DK94,#REF!,2,FALSE)=0,\"\",VLOOKUP(DK94,#REF!,2,FALSE) ) )","v":""}]
[null,"W124","W124","Combustion wastes ","HAZ","Hazardous ",0,null,null,null,null,0,null,null,null,null,0,null,null,null,null,0,null,null,null,null,0,null,null,null,null,0,null,null,null,null,0,null,null,null,null,0,null,null,null,null,39.121000000000002,null,null,null,null,2126.7049999999999,null,null,null,null,0.24,null,null,null,null,0.4,null,null,null,{"$f":"IF(TRIM(BM95)=\"\", \"\", IF(VLOOKUP(BM95,#REF!,2,FALSE)=0,\"\",VLOOKUP(BM95,#REF!,2,FALSE) ) )","v":""},{"$f":"IF(AND(TRIM(Q95)=\"\",TRIM(V95)=\"\",TRIM(AA95)=\"\", TRIM(AF95)=\"\", TRIM(AK95)=\"\", TRIM(AP95)=\"\", TRIM(AU95)=\"\", TRIM(AZ95)=\"\", TRIM(BE95)=\"\", TRIM(BJ95)=\"\"),\"\",Q95+V95+AA95+AF95+AK95+AP95+AU95+AZ95+BE95+BJ95)","v":2166.4659999999999},null,null,null,{"$f":"IF(TRIM(BR95)=\"\", \"\", IF(VLOOKUP(BR95,#REF!,2,FALSE)=0,\"\",VLOOKUP(BR95,#REF!,2,FALSE) ) )","v":""},0.90600000000000003,null,null,null,null,0,null,null,null,null,28.51,null,null,null,{"$f":"IF(TRIM(CG95)=\"\", \"\", IF(VLOOKUP(CG95,#REF!,2,FALSE)=0,\"\",VLOOKUP(CG95,#REF!,2,FALSE) ) )","v":""},{"$f":"IF(AND(TRIM(BY95)=\"\",TRIM(CD95)=\"\"),\"\",BY95+CD95)","v":28.51},null,null,null,{"$f":"IF(TRIM(CL95)=\"\", \"\", IF(VLOOKUP(CL95,#REF!,2,FALSE)=0,\"\",VLOOKUP(CL95,#REF!,2,FALSE) ) )","v":""},0,null,null,null,null,3.1349999999999998,null,null,null,null,0,null,null,null,null,0,null,null,null,{"$f":"IF(TRIM(DF95)=\"\", \"\", IF(VLOOKUP(DF95,#REF!,2,FALSE)=0,\"\",VLOOKUP(DF95,#REF!,2,FALSE) ) )","v":""},{"$f":"IF(AND(TRIM(G95)=\"\",TRIM(L95)=\"\",TRIM(BO95)=\"\",TRIM(BT95)=\"\",TRIM(CI95)=\"\",TRIM(CN95)=\"\",TRIM(CS95)=\"\",TRIM(CX95)=\"\",TRIM(DC95)=\"\"),\"\",SUM(G95,L95,BO95,BT95,CI95,CN95,CS95,CX95,DC95))","v":2199.0169999999998},null,null,null,{"$f":"IF(TRIM(DK95)=\"\", \"\", IF(VLOOKUP(DK95,#REF!,2,FALSE)=0,\"\",VLOOKUP(DK95,#REF!,2,FALSE) ) )","v":""}]
[null,null,"W124",null,"NHAZ","Non-hazardous",0,null,null,null,null,91.66,null,null,null,null,522.94000000000005,null,null,null,null,0,null,null,null,null,1909.5260000000001,null,null,null,null,188.46,null,null,null,null,0,null,null,null,null,0,null,null,null,null,0,null,null,null,null,10749.43,null,null,null,null,560.29,null,null,null,null,20.324999999999999,null,null,null,{"$f":"IF(TRIM(BM96)=\"\", \"\", IF(VLOOKUP(BM96,#REF!,2,FALSE)=0,\"\",VLOOKUP(BM96,#REF!,2,FALSE) ) )","v":""},{"$f":"IF(AND(TRIM(Q96)=\"\",TRIM(V96)=\"\",TRIM(AA96)=\"\", TRIM(AF96)=\"\", TRIM(AK96)=\"\", TRIM(AP96)=\"\", TRIM(AU96)=\"\", TRIM(AZ96)=\"\", TRIM(BE96)=\"\", TRIM(BJ96)=\"\"),\"\",Q96+V96+AA96+AF96+AK96+AP96+AU96+AZ96+BE96+BJ96)","v":13950.971},null,null,null,{"$f":"IF(TRIM(BR96)=\"\", \"\", IF(VLOOKUP(BR96,#REF!,2,FALSE)=0,\"\",VLOOKUP(BR96,#REF!,2,FALSE) ) )","v":""},54818.55,null,null,null,null,0,null,null,null,null,41.085999999999999,null,null,null,{"$f":"IF(TRIM(CG96)=\"\", \"\", IF(VLOOKUP(CG96,#REF!,2,FALSE)=0,\"\",VLOOKUP(CG96,#REF!,2,FALSE) ) )","v":""},{"$f":"IF(AND(TRIM(BY96)=\"\",TRIM(CD96)=\"\"),\"\",BY96+CD96)","v":41.085999999999999},null,null,null,{"$f":"IF(TRIM(CL96)=\"\", \"\", IF(VLOOKUP(CL96,#REF!,2,FALSE)=0,\"\",VLOOKUP(CL96,#REF!,2,FALSE) ) )","v":""},0,null,null,null,null,29800.868999999999,null,null,null,null,0,null,null,null,null,2.9049999999999998,null,null,null,{"$f":"IF(TRIM(DF96)=\"\", \"\", IF(VLOOKUP(DF96,#REF!,2,FALSE)=0,\"\",VLOOKUP(DF96,#REF!,2,FALSE) ) )","v":""},{"$f":"IF(AND(TRIM(G96)=\"\",TRIM(L96)=\"\",TRIM(BO96)=\"\",TRIM(BT96)=\"\",TRIM(CI96)=\"\",TRIM(CN96)=\"\",TRIM(CS96)=\"\",TRIM(CX96)=\"\",TRIM(DC96)=\"\"),\"\",SUM(G96,L96,BO96,BT96,CI96,CN96,CS96,CX96,DC96))","v":98706.040999999997},null,null,null,{"$f":"IF(TRIM(DK96)=\"\", \"\", IF(VLOOKUP(DK96,#REF!,2,FALSE)=0,\"\",VLOOKUP(DK96,#REF!,2,FALSE) ) )","v":""}]
[null,null,"W124",null,"HAZ_NHAZ","Total",{"$f":"IF(AND(TRIM(G95)=\"\",TRIM(G96)=\"\"),\"\",G95+G96)","v":0},null,null,null,null,{"$f":"IF(AND(TRIM(L95)=\"\",TRIM(L96)=\"\"),\"\",L95+L96)","v":91.66},null,null,null,null,{"$f":"IF(AND(TRIM(Q95)=\"\",TRIM(Q96)=\"\"),\"\",Q95+Q96)","v":522.94000000000005},null,null,null,null,{"$f":"IF(AND(TRIM(V95)=\"\",TRIM(V96)=\"\"),\"\",V95+V96)","v":0},null,null,null,null,{"$f":"IF(AND(TRIM(AA95)=\"\",TRIM(AA96)=\"\"),\"\",AA95+AA96)","v":1909.5260000000001},null,null,null,null,{"$f":"IF(AND(TRIM(AF95)=\"\",TRIM(AF96)=\"\"),\"\",AF95+AF96)","v":188.46},null,null,null,null,{"$f":"IF(AND(TRIM(AK95)=\"\",TRIM(AK96)=\"\"),\"\",AK95+AK96)","v":0},null,null,null,null,{"$f":"IF(AND(TRIM(AP95)=\"\",TRIM(AP96)=\"\"),\"\",AP95+AP96)","v":0},null,null,null,null,{"$f":"IF(AND(TRIM(AU95)=\"\",TRIM(AU96)=\"\"),\"\",AU95+AU96)","v":39.121000000000002},null,null,null,null,{"$f":"IF(AND(TRIM(AZ95)=\"\",TRIM(AZ96)=\"\"),\"\",AZ95+AZ96)","v":12876.135},null,null,null,null,{"$f":"IF(AND(TRIM(BE95)=\"\",TRIM(BE96)=\"\"),\"\",BE95+BE96)","v":560.53},null,null,null,null,{"$f":"IF(AND(TRIM(BJ95)=\"\",TRIM(BJ96)=\"\"),\"\",BJ95+BJ96)","v":20.725000000000001},null,null,null,{"$f":"IF(TRIM(BM97)=\"\", \"\", IF(VLOOKUP(BM97,#REF!,2,FALSE)=0,\"\",VLOOKUP(BM97,#REF!,2,FALSE) ) )","v":""},{"$f":"IF(AND(TRIM(BO95)=\"\", TRIM(BO96)=\"\"), \"\", (IF(ISNUMBER(BO95),BO95,0)+IF(ISNUMBER(BO96),BO96,0)))","v":16117.437},null,null,null,{"$f":"IF(TRIM(BR97)=\"\", \"\", IF(VLOOKUP(BR97,#REF!,2,FALSE)=0,\"\",VLOOKUP(BR97,#REF!,2,FALSE) ) )","v":""},{"$f":"IF(AND(TRIM(BT95)=\"\",TRIM(BT96)=\"\"),\"\",BT95+BT96)","v":54819.455999999998},null,null,null,null,{"$f":"IF(AND(TRIM(BY95)=\"\",TRIM(BY96)=\"\"),\"\",BY95+BY96)","v":0},null,null,null,null,{"$f":"IF(AND(TRIM(CD95)=\"\",TRIM(CD96)=\"\"),\"\",CD95+CD96)","v":69.596000000000004},null,null,null,{"$f":"IF(TRIM(CG97)=\"\", \"\", IF(VLOOKUP(CG97,#REF!,2,FALSE)=0,\"\",VLOOKUP(CG97,#REF!,2,FALSE) ) )","v":""},{"$f":"IF(AND(TRIM(CI95)=\"\", TRIM(CI96)=\"\"), \"\", (IF(ISNUMBER(CI95),CI95,0)+IF(ISNUMBER(CI96),CI96,0)))","v":69.596000000000004},null,null,null,{"$f":"IF(TRIM(CL97)=\"\", \"\", IF(VLOOKUP(CL97,#REF!,2,FALSE)=0,\"\",VLOOKUP(CL97,#REF!,2,FALSE) ) )","v":""},{"$f":"IF(AND(TRIM(CN95)=\"\",TRIM(CN96)=\"\"),\"\",CN95+CN96)","v":0},null,null,null,null,{"$f":"IF(AND(TRIM(CS95)=\"\",TRIM(CS96)=\"\"),\"\",CS95+CS96)","v":29804.004000000001},null,null,null,null,{"$f":"IF(AND(TRIM(CX95)=\"\",TRIM(CX96)=\"\"),\"\",CX95+CX96)","v":0},null,null,null,null,{"$f":"IF(AND(TRIM(DC95)=\"\",TRIM(DC96)=\"\"),\"\",DC95+DC96)","v":2.9049999999999998},null,null,null,{"$f":"IF(TRIM(DF97)=\"\", \"\", IF(VLOOKUP(DF97,#REF!,2,FALSE)=0,\"\",VLOOKUP(DF97,#REF!,2,FALSE) ) )","v":""},{"$f":"IF(AND(TRIM(DH95)=\"\", TRIM(DH96)=\"\"), \"\", SUM(DH95,DH96) )","v":100905.058},null,null,null,{"$f":"IF(TRIM(DK97)=\"\", \"\", IF(VLOOKUP(DK97,#REF!,2,FALSE)=0,\"\",VLOOKUP(DK97,#REF!,2,FALSE) ) )","v":""}]
[null,"W126","W126","Soils ","HAZ","Hazardous ",0,null,null,null,null,136.22,null,null,null,null,0,null,null,null,null,0,null,null,null,null,0,null,null,null,null,0,null,null,null,null,0,null,null,null,null,0,null,null,null,null,0,null,null,null,null,0,null,null,null,null,0,null,null,null,null,0,null,null,null,{"$f":"IF(TRIM(BM98)=\"\", \"\", IF(VLOOKUP(BM98,#REF!,2,FALSE)=0,\"\",VLOOKUP(BM98,#REF!,2,FALSE) ) )","v":""},{"$f":"IF(AND(TRIM(Q98)=\"\",TRIM(V98)=\"\",TRIM(AA98)=\"\", TRIM(AF98)=\"\", TRIM(AK98)=\"\", TRIM(AP98)=\"\", TRIM(AU98)=\"\", TRIM(AZ98)=\"\", TRIM(BE98)=\"\", TRIM(BJ98)=\"\"),\"\",Q98+V98+AA98+AF98+AK98+AP98+AU98+AZ98+BE98+BJ98)","v":0},null,null,null,{"$f":"IF(TRIM(BR98)=\"\", \"\", IF(VLOOKUP(BR98,#REF!,2,FALSE)=0,\"\",VLOOKUP(BR98,#REF!,2,FALSE) ) )","v":""},0,null,null,null,null,0,null,null,null,null,0,null,null,null,{"$f":"IF(TRIM(CG98)=\"\", \"\", IF(VLOOKUP(CG98,#REF!,2,FALSE)=0,\"\",VLOOKUP(CG98,#REF!,2,FALSE) ) )","v":""},{"$f":"IF(AND(TRIM(BY98)=\"\",TRIM(CD98)=\"\"),\"\",BY98+CD98)","v":0},null,null,null,{"$f":"IF(TRIM(CL98)=\"\", \"\", IF(VLOOKUP(CL98,#REF!,2,FALSE)=0,\"\",VLOOKUP(CL98,#REF!,2,FALSE) ) )","v":""},4786.7,null,null,null,null,0,null,null,null,null,0,null,null,null,null,0,null,null,null,{"$f":"IF(TRIM(DF98)=\"\", \"\", IF(VLOOKUP(DF98,#REF!,2,FALSE)=0,\"\",VLOOKUP(DF98,#REF!,2,FALSE) ) )","v":""},{"$f":"IF(AND(TRIM(G98)=\"\",TRIM(L98)=\"\",TRIM(BO98)=\"\",TRIM(BT98)=\"\",TRIM(CI98)=\"\",TRIM(CN98)=\"\",TRIM(CS98)=\"\",TRIM(CX98)=\"\",TRIM(DC98)=\"\"),\"\",SUM(G98,L98,BO98,BT98,CI98,CN98,CS98,CX98,DC98))","v":4922.92},null,null,null,{"$f":"IF(TRIM(DK98)=\"\", \"\", IF(VLOOKUP(DK98,#REF!,2,FALSE)=0,\"\",VLOOKUP(DK98,#REF!,2,FALSE) ) )","v":""}]
[null,null,"W126",null,"NHAZ","Non-hazardous",0,null,null,null,null,0,null,null,null,null,0,null,null,null,null,0,null,null,null,null,0,null,null,null,null,0,null,null,null,null,0,null,null,null,null,0,null,null,null,null,0,null,null,null,null,0,null,null,null,null,0,null,null,null,null,0,null,null,null,{"$f":"IF(TRIM(BM99)=\"\", \"\", IF(VLOOKUP(BM99,#REF!,2,FALSE)=0,\"\",VLOOKUP(BM99,#REF!,2,FALSE) ) )","v":""},{"$f":"IF(AND(TRIM(Q99)=\"\",TRIM(V99)=\"\",TRIM(AA99)=\"\", TRIM(AF99)=\"\", TRIM(AK99)=\"\", TRIM(AP99)=\"\", TRIM(AU99)=\"\", TRIM(AZ99)=\"\", TRIM(BE99)=\"\", TRIM(BJ99)=\"\"),\"\",Q99+V99+AA99+AF99+AK99+AP99+AU99+AZ99+BE99+BJ99)","v":0},null,null,null,{"$f":"IF(TRIM(BR99)=\"\", \"\", IF(VLOOKUP(BR99,#REF!,2,FALSE)=0,\"\",VLOOKUP(BR99,#REF!,2,FALSE) ) )","v":""},0,null,null,null,null,0,null,null,null,null,259.09800000000001,null,null,null,{"$f":"IF(TRIM(CG99)=\"\", \"\", IF(VLOOKUP(CG99,#REF!,2,FALSE)=0,\"\",VLOOKUP(CG99,#REF!,2,FALSE) ) )","v":""},{"$f":"IF(AND(TRIM(BY99)=\"\",TRIM(CD99)=\"\"),\"\",BY99+CD99)","v":259.09800000000001},null,null,null,{"$f":"IF(TRIM(CL99)=\"\", \"\", IF(VLOOKUP(CL99,#REF!,2,FALSE)=0,\"\",VLOOKUP(CL99,#REF!,2,FALSE) ) )","v":""},501383.4,null,null,null,null,0,null,null,null,null,0,null,null,null,null,23,null,null,null,{"$f":"IF(TRIM(DF99)=\"\", \"\", IF(VLOOKUP(DF99,#REF!,2,FALSE)=0,\"\",VLOOKUP(DF99,#REF!,2,FALSE) ) )","v":""},{"$f":"IF(AND(TRIM(G99)=\"\",TRIM(L99)=\"\",TRIM(BO99)=\"\",TRIM(BT99)=\"\",TRIM(CI99)=\"\",TRIM(CN99)=\"\",TRIM(CS99)=\"\",TRIM(CX99)=\"\",TRIM(DC99)=\"\"),\"\",SUM(G99,L99,BO99,BT99,CI99,CN99,CS99,CX99,DC99))","v":501665.49800000002},null,null,null,{"$f":"IF(TRIM(DK99)=\"\", \"\", IF(VLOOKUP(DK99,#REF!,2,FALSE)=0,\"\",VLOOKUP(DK99,#REF!,2,FALSE) ) )","v":""}]
[null,null,"W126",null,"HAZ_NHAZ","Total",{"$f":"IF(AND(TRIM(G98)=\"\",TRIM(G99)=\"\"),\"\",G98+G99)","v":0},null,null,null,null,{"$f":"IF(AND(TRIM(L98)=\"\",TRIM(L99)=\"\"),\"\",L98+L99)","v":136.22},null,null,null,null,{"$f":"IF(AND(TRIM(Q98)=\"\",TRIM(Q99)=\"\"),\"\",Q98+Q99)","v":0},null,null,null,null,{"$f":"IF(AND(TRIM(V98)=\"\",TRIM(V99)=\"\"),\"\",V98+V99)","v":0},null,null,null,null,{"$f":"IF(AND(TRIM(AA98)=\"\",TRIM(AA99)=\"\"),\"\",AA98+AA99)","v":0},null,null,null,null,{"$f":"IF(AND(TRIM(AF98)=\"\",TRIM(AF99)=\"\"),\"\",AF98+AF99)","v":0},null,null,null,null,{"$f":"IF(AND(TRIM(AK98)=\"\",TRIM(AK99)=\"\"),\"\",AK98+AK99)","v":0},null,null,null,null,{"$f":"IF(AND(TRIM(AP98)=\"\",TRIM(AP99)=\"\"),\"\",AP98+AP99)","v":0},null,null,null,null,{"$f":"IF(AND(TRIM(AU98)=\"\",TRIM(AU99)=\"\"),\"\",AU98+AU99)","v":0},null,null,null,null,{"$f":"IF(AND(TRIM(AZ98)=\"\",TRIM(AZ99)=\"\"),\"\",AZ98+AZ99)","v":0},null,null,null,null,{"$f":"IF(AND(TRIM(BE98)=\"\",TRIM(BE99)=\"\"),\"\",BE98+BE99)","v":0},null,null,null,null,{"$f":"IF(AND(TRIM(BJ98)=\"\",TRIM(BJ99)=\"\"),\"\",BJ98+BJ99)","v":0},null,null,null,{"$f":"IF(TRIM(BM100)=\"\", \"\", IF(VLOOKUP(BM100,#REF!,2,FALSE)=0,\"\",VLOOKUP(BM100,#REF!,2,FALSE) ) )","v":""},{"$f":"IF(AND(TRIM(BO98)=\"\", TRIM(BO99)=\"\"), \"\", (IF(ISNUMBER(BO98),BO98,0)+IF(ISNUMBER(BO99),BO99,0)))","v":0},null,null,null,{"$f":"IF(TRIM(BR100)=\"\", \"\", IF(VLOOKUP(BR100,#REF!,2,FALSE)=0,\"\",VLOOKUP(BR100,#REF!,2,FALSE) ) )","v":""},{"$f":"IF(AND(TRIM(BT98)=\"\",TRIM(BT99)=\"\"),\"\",BT98+BT99)","v":0},null,null,null,null,{"$f":"IF(AND(TRIM(BY98)=\"\",TRIM(BY99)=\"\"),\"\",BY98+BY99)","v":0},null,null,null,null,{"$f":"IF(AND(TRIM(CD98)=\"\",TRIM(CD99)=\"\"),\"\",CD98+CD99)","v":259.09800000000001},null,null,null,{"$f":"IF(TRIM(CG100)=\"\", \"\", IF(VLOOKUP(CG100,#REF!,2,FALSE)=0,\"\",VLOOKUP(CG100,#REF!,2,FALSE) ) )","v":""},{"$f":"IF(AND(TRIM(CI98)=\"\", TRIM(CI99)=\"\"), \"\", (IF(ISNUMBER(CI98),CI98,0)+IF(ISNUMBER(CI99),CI99,0)))","v":259.09800000000001},null,null,null,{"$f":"IF(TRIM(CL100)=\"\", \"\", IF(VLOOKUP(CL100,#REF!,2,FALSE)=0,\"\",VLOOKUP(CL100,#REF!,2,FALSE) ) )","v":""},{"$f":"IF(AND(TRIM(CN98)=\"\",TRIM(CN99)=\"\"),\"\",CN98+CN99)","v":506170.1},null,null,null,null,{"$f":"IF(AND(TRIM(CS98)=\"\",TRIM(CS99)=\"\"),\"\",CS98+CS99)","v":0},null,null,null,null,{"$f":"IF(AND(TRIM(CX98)=\"\",TRIM(CX99)=\"\"),\"\",CX98+CX99)","v":0},null,null,null,null,{"$f":"IF(AND(TRIM(DC98)=\"\",TRIM(DC99)=\"\"),\"\",DC98+DC99)","v":23},null,null,null,{"$f":"IF(TRIM(DF100)=\"\", \"\", IF(VLOOKUP(DF100,#REF!,2,FALSE)=0,\"\",VLOOKUP(DF100,#REF!,2,FALSE) ) )","v":""},{"$f":"IF(AND(TRIM(DH98)=\"\", TRIM(DH99)=\"\"), \"\", SUM(DH98,DH99) )","v":506588.41800000001},null,null,null,{"$f":"IF(TRIM(DK100)=\"\", \"\", IF(VLOOKUP(DK100,#REF!,2,FALSE)=0,\"\",VLOOKUP(DK100,#REF!,2,FALSE) ) )","v":""}]
[null,"W127","W127","Dredging spoils ","HAZ","Hazardous ",0,null,null,null,null,0,null,null,null,null,0,null,null,null,null,0,null,null,null,null,0,null,null,null,null,0,null,null,null,null,0,null,null,null,null,0,null,null,null,null,0,null,null,null,null,0,null,null,null,null,0,null,null,null,null,0,null,null,null,{"$f":"IF(TRIM(BM101)=\"\", \"\", IF(VLOOKUP(BM101,#REF!,2,FALSE)=0,\"\",VLOOKUP(BM101,#REF!,2,FALSE) ) )","v":""},{"$f":"IF(AND(TRIM(Q101)=\"\",TRIM(V101)=\"\",TRIM(AA101)=\"\", TRIM(AF101)=\"\", TRIM(AK101)=\"\", TRIM(AP101)=\"\", TRIM(AU101)=\"\", TRIM(AZ101)=\"\", TRIM(BE101)=\"\", TRIM(BJ101)=\"\"),\"\",Q101+V101+AA101+AF101+AK101+AP101+AU101+AZ101+BE101+BJ101)","v":0},null,null,null,{"$f":"IF(TRIM(BR101)=\"\", \"\", IF(VLOOKUP(BR101,#REF!,2,FALSE)=0,\"\",VLOOKUP(BR101,#REF!,2,FALSE) ) )","v":""},0,null,null,null,null,0,null,null,null,null,0,null,null,null,{"$f":"IF(TRIM(CG101)=\"\", \"\", IF(VLOOKUP(CG101,#REF!,2,FALSE)=0,\"\",VLOOKUP(CG101,#REF!,2,FALSE) ) )","v":""},{"$f":"IF(AND(TRIM(BY101)=\"\",TRIM(CD101)=\"\"),\"\",BY101+CD101)","v":0},null,null,null,{"$f":"IF(TRIM(CL101)=\"\", \"\", IF(VLOOKUP(CL101,#REF!,2,FALSE)=0,\"\",VLOOKUP(CL101,#REF!,2,FALSE) ) )","v":""},1522.15,null,null,null,null,0,null,null,null,null,0,null,null,null,null,0,null,null,null,{"$f":"IF(TRIM(DF101)=\"\", \"\", IF(VLOOKUP(DF101,#REF!,2,FALSE)=0,\"\",VLOOKUP(DF101,#REF!,2,FALSE) ) )","v":""},{"$f":"IF(AND(TRIM(G101)=\"\",TRIM(L101)=\"\",TRIM(BO101)=\"\",TRIM(BT101)=\"\",TRIM(CI101)=\"\",TRIM(CN101)=\"\",TRIM(CS101)=\"\",TRIM(CX101)=\"\",TRIM(DC101)=\"\"),\"\",SUM(G101,L101,BO101,BT101,CI101,CN101,CS101,CX101,DC101))","v":1522.15},null,null,null,{"$f":"IF(TRIM(DK101)=\"\", \"\", IF(VLOOKUP(DK101,#REF!,2,FALSE)=0,\"\",VLOOKUP(DK101,#REF!,2,FALSE) ) )","v":""}]
[null,null,"W127",null,"NHAZ","Non-hazardous",0,null,null,null,null,0,null,null,null,null,0,null,null,null,null,0,null,null,null,null,0,null,null,null,null,0,null,null,null,null,0,null,null,null,null,0,null,null,null,null,0,null,null,null,null,0,null,null,null,null,0,null,null,null,null,0,null,null,null,{"$f":"IF(TRIM(BM102)=\"\", \"\", IF(VLOOKUP(BM102,#REF!,2,FALSE)=0,\"\",VLOOKUP(BM102,#REF!,2,FALSE) ) )","v":""},{"$f":"IF(AND(TRIM(Q102)=\"\",TRIM(V102)=\"\",TRIM(AA102)=\"\", TRIM(AF102)=\"\", TRIM(AK102)=\"\", TRIM(AP102)=\"\", TRIM(AU102)=\"\", TRIM(AZ102)=\"\", TRIM(BE102)=\"\", TRIM(BJ102)=\"\"),\"\",Q102+V102+AA102+AF102+AK102+AP102+AU102+AZ102+BE102+BJ102)","v":0},null,null,null,{"$f":"IF(TRIM(BR102)=\"\", \"\", IF(VLOOKUP(BR102,#REF!,2,FALSE)=0,\"\",VLOOKUP(BR102,#REF!,2,FALSE) ) )","v":""},0,null,null,null,null,0,null,null,null,null,0,null,null,null,{"$f":"IF(TRIM(CG102)=\"\", \"\", IF(VLOOKUP(CG102,#REF!,2,FALSE)=0,\"\",VLOOKUP(CG102,#REF!,2,FALSE) ) )","v":""},{"$f":"IF(AND(TRIM(BY102)=\"\",TRIM(CD102)=\"\"),\"\",BY102+CD102)","v":0},null,null,null,{"$f":"IF(TRIM(CL102)=\"\", \"\", IF(VLOOKUP(CL102,#REF!,2,FALSE)=0,\"\",VLOOKUP(CL102,#REF!,2,FALSE) ) )","v":""},9337.9500000000007,null,null,null,null,0,null,null,null,null,0,null,null,null,null,0,null,null,null,{"$f":"IF(TRIM(DF102)=\"\", \"\", IF(VLOOKUP(DF102,#REF!,2,FALSE)=0,\"\",VLOOKUP(DF102,#REF!,2,FALSE) ) )","v":""},{"$f":"IF(AND(TRIM(G102)=\"\",TRIM(L102)=\"\",TRIM(BO102)=\"\",TRIM(BT102)=\"\",TRIM(CI102)=\"\",TRIM(CN102)=\"\",TRIM(CS102)=\"\",TRIM(CX102)=\"\",TRIM(DC102)=\"\"),\"\",SUM(G102,L102,BO102,BT102,CI102,CN102,CS102,CX102,DC102))","v":9337.9500000000007},null,null,null,{"$f":"IF(TRIM(DK102)=\"\", \"\", IF(VLOOKUP(DK102,#REF!,2,FALSE)=0,\"\",VLOOKUP(DK102,#REF!,2,FALSE) ) )","v":""}]
[null,null,"W127",null,"HAZ_NHAZ","Total",{"$f":"IF(AND(TRIM(G101)=\"\",TRIM(G102)=\"\"),\"\",G101+G102)","v":0},null,null,null,null,{"$f":"IF(AND(TRIM(L101)=\"\",TRIM(L102)=\"\"),\"\",L101+L102)","v":0},null,null,null,null,{"$f":"IF(AND(TRIM(Q101)=\"\",TRIM(Q102)=\"\"),\"\",Q101+Q102)","v":0},null,null,null,null,{"$f":"IF(AND(TRIM(V101)=\"\",TRIM(V102)=\"\"),\"\",V101+V102)","v":0},null,null,null,null,{"$f":"IF(AND(TRIM(AA101)=\"\",TRIM(AA102)=\"\"),\"\",AA101+AA102)","v":0},null,null,null,null,{"$f":"IF(AND(TRIM(AF101)=\"\",TRIM(AF102)=\"\"),\"\",AF101+AF102)","v":0},null,null,null,null,{"$f":"IF(AND(TRIM(AK101)=\"\",TRIM(AK102)=\"\"),\"\",AK101+AK102)","v":0},null,null,null,null,{"$f":"IF(AND(TRIM(AP101)=\"\",TRIM(AP102)=\"\"),\"\",AP101+AP102)","v":0},null,null,null,null,{"$f":"IF(AND(TRIM(AU101)=\"\",TRIM(AU102)=\"\"),\"\",AU101+AU102)","v":0},null,null,null,null,{"$f":"IF(AND(TRIM(AZ101)=\"\",TRIM(AZ102)=\"\"),\"\",AZ101+AZ102)","v":0},null,null,null,null,{"$f":"IF(AND(TRIM(BE101)=\"\",TRIM(BE102)=\"\"),\"\",BE101+BE102)","v":0},null,null,null,null,{"$f":"IF(AND(TRIM(BJ101)=\"\",TRIM(BJ102)=\"\"),\"\",BJ101+BJ102)","v":0},null,null,null,{"$f":"IF(TRIM(BM103)=\"\", \"\", IF(VLOOKUP(BM103,#REF!,2,FALSE)=0,\"\",VLOOKUP(BM103,#REF!,2,FALSE) ) )","v":""},{"$f":"IF(AND(TRIM(BO101)=\"\", TRIM(BO102)=\"\"), \"\", (IF(ISNUMBER(BO101),BO101,0)+IF(ISNUMBER(BO102),BO102,0)))","v":0},null,null,null,{"$f":"IF(TRIM(BR103)=\"\", \"\", IF(VLOOKUP(BR103,#REF!,2,FALSE)=0,\"\",VLOOKUP(BR103,#REF!,2,FALSE) ) )","v":""},{"$f":"IF(AND(TRIM(BT101)=\"\",TRIM(BT102)=\"\"),\"\",BT101+BT102)","v":0},null,null,null,null,{"$f":"IF(AND(TRIM(BY101)=\"\",TRIM(BY102)=\"\"),\"\",BY101+BY102)","v":0},null,null,null,null,{"$f":"IF(AND(TRIM(CD101)=\"\",TRIM(CD102)=\"\"),\"\",CD101+CD102)","v":0},null,null,null,{"$f":"IF(TRIM(CG103)=\"\", \"\", IF(VLOOKUP(CG103,#REF!,2,FALSE)=0,\"\",VLOOKUP(CG103,#REF!,2,FALSE) ) )","v":""},{"$f":"IF(AND(TRIM(CI101)=\"\", TRIM(CI102)=\"\"), \"\", (IF(ISNUMBER(CI101),CI101,0)+IF(ISNUMBER(CI102),CI102,0)))","v":0},null,null,null,{"$f":"IF(TRIM(CL103)=\"\", \"\", IF(VLOOKUP(CL103,#REF!,2,FALSE)=0,\"\",VLOOKUP(CL103,#REF!,2,FALSE) ) )","v":""},{"$f":"IF(AND(TRIM(CN101)=\"\",TRIM(CN102)=\"\"),\"\",CN101+CN102)","v":10860.1},null,null,null,null,{"$f":"IF(AND(TRIM(CS101)=\"\",TRIM(CS102)=\"\"),\"\",CS101+CS102)","v":0},null,null,null,null,{"$f":"IF(AND(TRIM(CX101)=\"\",TRIM(CX102)=\"\"),\"\",CX101+CX102)","v":0},null,null,null,null,{"$f":"IF(AND(TRIM(DC101)=\"\",TRIM(DC102)=\"\"),\"\",DC101+DC102)","v":0},null,null,null,{"$f":"IF(TRIM(DF103)=\"\", \"\", IF(VLOOKUP(DF103,#REF!,2,FALSE)=0,\"\",VLOOKUP(DF103,#REF!,2,FALSE) ) )","v":""},{"$f":"IF(AND(TRIM(DH101)=\"\", TRIM(DH102)=\"\"), \"\", SUM(DH101,DH102) )","v":10860.1},null,null,null,{"$f":"IF(TRIM(DK103)=\"\", \"\", IF(VLOOKUP(DK103,#REF!,2,FALSE)=0,\"\",VLOOKUP(DK103,#REF!,2,FALSE) ) )","v":""}]
[null,"W128_13","W128_13","Mineral wastes from waste treatment and stabilised wastes","HAZ","Hazardous ",0,null,null,null,null,0,null,null,null,null,0,null,null,null,null,0,null,null,null,null,0,null,null,null,null,0,null,null,null,null,0,null,null,null,null,0,null,null,null,null,0,null,null,null,null,0,null,null,null,null,0,null,null,null,null,0.39700000000000002,null,null,null,{"$f":"IF(TRIM(BM104)=\"\", \"\", IF(VLOOKUP(BM104,#REF!,2,FALSE)=0,\"\",VLOOKUP(BM104,#REF!,2,FALSE) ) )","v":""},{"$f":"IF(AND(TRIM(Q104)=\"\",TRIM(V104)=\"\",TRIM(AA104)=\"\", TRIM(AF104)=\"\", TRIM(AK104)=\"\", TRIM(AP104)=\"\", TRIM(AU104)=\"\", TRIM(AZ104)=\"\", TRIM(BE104)=\"\", TRIM(BJ104)=\"\"),\"\",Q104+V104+AA104+AF104+AK104+AP104+AU104+AZ104+BE104+BJ104)","v":0.39700000000000002},null,null,null,{"$f":"IF(TRIM(BR104)=\"\", \"\", IF(VLOOKUP(BR104,#REF!,2,FALSE)=0,\"\",VLOOKUP(BR104,#REF!,2,FALSE) ) )","v":""},0,null,null,null,null,0,null,null,null,null,0,null,null,null,{"$f":"IF(TRIM(CG104)=\"\", \"\", IF(VLOOKUP(CG104,#REF!,2,FALSE)=0,\"\",VLOOKUP(CG104,#REF!,2,FALSE) ) )","v":""},{"$f":"IF(AND(TRIM(BY104)=\"\",TRIM(CD104)=\"\"),\"\",BY104+CD104)","v":0},null,null,null,{"$f":"IF(TRIM(CL104)=\"\", \"\", IF(VLOOKUP(CL104,#REF!,2,FALSE)=0,\"\",VLOOKUP(CL104,#REF!,2,FALSE) ) )","v":""},0,null,null,null,null,0,null,null,null,null,0,null,null,null,null,0,null,null,null,{"$f":"IF(TRIM(DF104)=\"\", \"\", IF(VLOOKUP(DF104,#REF!,2,FALSE)=0,\"\",VLOOKUP(DF104,#REF!,2,FALSE) ) )","v":""},{"$f":"IF(AND(TRIM(G104)=\"\",TRIM(L104)=\"\",TRIM(BO104)=\"\",TRIM(BT104)=\"\",TRIM(CI104)=\"\",TRIM(CN104)=\"\",TRIM(CS104)=\"\",TRIM(CX104)=\"\",TRIM(DC104)=\"\"),\"\",SUM(G104,L104,BO104,BT104,CI104,CN104,CS104,CX104,DC104))","v":0.39700000000000002},null,null,null,{"$f":"IF(TRIM(DK104)=\"\", \"\", IF(VLOOKUP(DK104,#REF!,2,FALSE)=0,\"\",VLOOKUP(DK104,#REF!,2,FALSE) ) )","v":""}]
[null,null,"W128_13",null,"NHAZ","Non-hazardous",0,null,null,null,null,0,null,null,null,null,0,null,null,null,null,0,null,null,null,null,0,null,null,null,null,0,null,null,null,null,0,null,null,null,null,0,null,null,null,null,0,null,null,null,null,3303.8229999999999,null,null,null,null,0,null,null,null,null,0,null,null,null,{"$f":"IF(TRIM(BM105)=\"\", \"\", IF(VLOOKUP(BM105,#REF!,2,FALSE)=0,\"\",VLOOKUP(BM105,#REF!,2,FALSE) ) )","v":""},{"$f":"IF(AND(TRIM(Q105)=\"\",TRIM(V105)=\"\",TRIM(AA105)=\"\", TRIM(AF105)=\"\", TRIM(AK105)=\"\", TRIM(AP105)=\"\", TRIM(AU105)=\"\", TRIM(AZ105)=\"\", TRIM(BE105)=\"\", TRIM(BJ105)=\"\"),\"\",Q105+V105+AA105+AF105+AK105+AP105+AU105+AZ105+BE105+BJ105)","v":3303.8229999999999},null,null,null,{"$f":"IF(TRIM(BR105)=\"\", \"\", IF(VLOOKUP(BR105,#REF!,2,FALSE)=0,\"\",VLOOKUP(BR105,#REF!,2,FALSE) ) )","v":""},0,null,null,null,null,796.82500000000005,null,null,null,null,21858.341,null,null,null,{"$f":"IF(TRIM(CG105)=\"\", \"\", IF(VLOOKUP(CG105,#REF!,2,FALSE)=0,\"\",VLOOKUP(CG105,#REF!,2,FALSE) ) )","v":""},{"$f":"IF(AND(TRIM(BY105)=\"\",TRIM(CD105)=\"\"),\"\",BY105+CD105)","v":22655.166000000001},null,null,null,{"$f":"IF(TRIM(CL105)=\"\", \"\", IF(VLOOKUP(CL105,#REF!,2,FALSE)=0,\"\",VLOOKUP(CL105,#REF!,2,FALSE) ) )","v":""},24847.772000000001,null,null,null,null,0,null,null,null,null,0,null,null,null,null,0,null,null,null,{"$f":"IF(TRIM(DF105)=\"\", \"\", IF(VLOOKUP(DF105,#REF!,2,FALSE)=0,\"\",VLOOKUP(DF105,#REF!,2,FALSE) ) )","v":""},{"$f":"IF(AND(TRIM(G105)=\"\",TRIM(L105)=\"\",TRIM(BO105)=\"\",TRIM(BT105)=\"\",TRIM(CI105)=\"\",TRIM(CN105)=\"\",TRIM(CS105)=\"\",TRIM(CX105)=\"\",TRIM(DC105)=\"\"),\"\",SUM(G105,L105,BO105,BT105,CI105,CN105,CS105,CX105,DC105))","v":50806.760999999999},null,null,null,{"$f":"IF(TRIM(DK105)=\"\", \"\", IF(VLOOKUP(DK105,#REF!,2,FALSE)=0,\"\",VLOOKUP(DK105,#REF!,2,FALSE) ) )","v":""}]
[null,null,"W128_13",null,"HAZ_NHAZ","Total",{"$f":"IF(AND(TRIM(G104)=\"\",TRIM(G105)=\"\"),\"\",G104+G105)","v":0},null,null,null,null,{"$f":"IF(AND(TRIM(L104)=\"\",TRIM(L105)=\"\"),\"\",L104+L105)","v":0},null,null,null,null,{"$f":"IF(AND(TRIM(Q104)=\"\",TRIM(Q105)=\"\"),\"\",Q104+Q105)","v":0},null,null,null,null,{"$f":"IF(AND(TRIM(V104)=\"\",TRIM(V105)=\"\"),\"\",V104+V105)","v":0},null,null,null,null,{"$f":"IF(AND(TRIM(AA104)=\"\",TRIM(AA105)=\"\"),\"\",AA104+AA105)","v":0},null,null,null,null,{"$f":"IF(AND(TRIM(AF104)=\"\",TRIM(AF105)=\"\"),\"\",AF104+AF105)","v":0},null,null,null,null,{"$f":"IF(AND(TRIM(AK104)=\"\",TRIM(AK105)=\"\"),\"\",AK104+AK105)","v":0},null,null,null,null,{"$f":"IF(AND(TRIM(AP104)=\"\",TRIM(AP105)=\"\"),\"\",AP104+AP105)","v":0},null,null,null,null,{"$f":"IF(AND(TRIM(AU104)=\"\",TRIM(AU105)=\"\"),\"\",AU104+AU105)","v":0},null,null,null,null,{"$f":"IF(AND(TRIM(AZ104)=\"\",TRIM(AZ105)=\"\"),\"\",AZ104+AZ105)","v":3303.8229999999999},null,null,null,null,{"$f":"IF(AND(TRIM(BE104)=\"\",TRIM(BE105)=\"\"),\"\",BE104+BE105)","v":0},null,null,null,null,{"$f":"IF(AND(TRIM(BJ104)=\"\",TRIM(BJ105)=\"\"),\"\",BJ104+BJ105)","v":0.39700000000000002},null,null,null,{"$f":"IF(TRIM(BM106)=\"\", \"\", IF(VLOOKUP(BM106,#REF!,2,FALSE)=0,\"\",VLOOKUP(BM106,#REF!,2,FALSE) ) )","v":""},{"$f":"IF(AND(TRIM(BO104)=\"\", TRIM(BO105)=\"\"), \"\", (IF(ISNUMBER(BO104),BO104,0)+IF(ISNUMBER(BO105),BO105,0)))","v":3304.22},null,null,null,{"$f":"IF(TRIM(BR106)=\"\", \"\", IF(VLOOKUP(BR106,#REF!,2,FALSE)=0,\"\",VLOOKUP(BR106,#REF!,2,FALSE) ) )","v":""},{"$f":"IF(AND(TRIM(BT104)=\"\",TRIM(BT105)=\"\"),\"\",BT104+BT105)","v":0},null,null,null,null,{"$f":"IF(AND(TRIM(BY104)=\"\",TRIM(BY105)=\"\"),\"\",BY104+BY105)","v":796.82500000000005},null,null,null,null,{"$f":"IF(AND(TRIM(CD104)=\"\",TRIM(CD105)=\"\"),\"\",CD104+CD105)","v":21858.341},null,null,null,{"$f":"IF(TRIM(CG106)=\"\", \"\", IF(VLOOKUP(CG106,#REF!,2,FALSE)=0,\"\",VLOOKUP(CG106,#REF!,2,FALSE) ) )","v":""},{"$f":"IF(AND(TRIM(CI104)=\"\", TRIM(CI105)=\"\"), \"\", (IF(ISNUMBER(CI104),CI104,0)+IF(ISNUMBER(CI105),CI105,0)))","v":22655.166000000001},null,null,null,{"$f":"IF(TRIM(CL106)=\"\", \"\", IF(VLOOKUP(CL106,#REF!,2,FALSE)=0,\"\",VLOOKUP(CL106,#REF!,2,FALSE) ) )","v":""},{"$f":"IF(AND(TRIM(CN104)=\"\",TRIM(CN105)=\"\"),\"\",CN104+CN105)","v":24847.772000000001},null,null,null,null,{"$f":"IF(AND(TRIM(CS104)=\"\",TRIM(CS105)=\"\"),\"\",CS104+CS105)","v":0},null,null,null,null,{"$f":"IF(AND(TRIM(CX104)=\"\",TRIM(CX105)=\"\"),\"\",CX104+CX105)","v":0},null,null,null,null,{"$f":"IF(AND(TRIM(DC104)=\"\",TRIM(DC105)=\"\"),\"\",DC104+DC105)","v":0},null,null,null,{"$f":"IF(TRIM(DF106)=\"\", \"\", IF(VLOOKUP(DF106,#REF!,2,FALSE)=0,\"\",VLOOKUP(DF106,#REF!,2,FALSE) ) )","v":""},{"$f":"IF(AND(TRIM(DH104)=\"\", TRIM(DH105)=\"\"), \"\", SUM(DH104,DH105) )","v":50807.158000000003},null,null,null,{"$f":"IF(TRIM(DK106)=\"\", \"\", IF(VLOOKUP(DK106,#REF!,2,FALSE)=0,\"\",VLOOKUP(DK106,#REF!,2,FALSE) ) )","v":""}]
[null,"PRIM","PRIM","Primary waste","HAZ","Hazardous ",{"$f":"SUM(G8,G11,G14,G17,G20,G26,G29,G32,G35,G38,G41,G44,G47,G50,G53,G56,G59,G62,G65,G68,G71,G74,G77,G80,G86,G89,G92,G95,G98,G101)","v":943.83299999999997},null,null,null,{"$f":"IF(TRIM(J107)=\"\", \"\", IF(VLOOKUP(J107,#REF!,2,FALSE)=0,\"\",VLOOKUP(J107,#REF!,2,FALSE) ) )","v":""},{"$f":"SUM(L8,L11,L14,L17,L20,L26,L29,L32,L35,L38,L41,L44,L47,L50,L53,L56,L59,L62,L65,L68,L71,L74,L77,L80,L86,L89,L92,L95,L98,L101)","v":6531.2380000000003},null,null,null,{"$f":"IF(TRIM(O107)=\"\", \"\", IF(VLOOKUP(O107,#REF!,2,FALSE)=0,\"\",VLOOKUP(O107,#REF!,2,FALSE) ) )","v":""},{"$f":"SUM(Q8,Q11,Q14,Q17,Q20,Q26,Q29,Q32,Q35,Q38,Q41,Q44,Q47,Q50,Q53,Q56,Q59,Q62,Q65,Q68,Q71,Q74,Q77,Q80,Q86,Q89,Q92,Q95,Q98,Q101)","v":931.06899999999996},null,null,null,{"$f":"IF(TRIM(T107)=\"\", \"\", IF(VLOOKUP(T107,#REF!,2,FALSE)=0,\"\",VLOOKUP(T107,#REF!,2,FALSE) ) )","v":""},{"$f":"SUM(V8,V11,V14,V17,V20,V26,V29,V32,V35,V38,V41,V44,V47,V50,V53,V56,V59,V62,V65,V68,V71,V74,V77,V80,V86,V89,V92,V95,V98,V101)","v":373.41399999999999},null,null,null,{"$f":"IF(TRIM(Y107)=\"\", \"\", IF(VLOOKUP(Y107,#REF!,2,FALSE)=0,\"\",VLOOKUP(Y107,#REF!,2,FALSE) ) )","v":""},{"$f":"SUM(AA8,AA11,AA14,AA17,AA20,AA26,AA29,AA32,AA35,AA38,AA41,AA44,AA47,AA50,AA53,AA56,AA59,AA62,AA65,AA68,AA71,AA74,AA77,AA80,AA86,AA89,AA92,AA95,AA98,AA101)","v":169.536},null,null,null,{"$f":"IF(TRIM(AD107)=\"\", \"\", IF(VLOOKUP(AD107,#REF!,2,FALSE)=0,\"\",VLOOKUP(AD107,#REF!,2,FALSE) ) )","v":""},{"$f":"SUM(AF8,AF11,AF14,AF17,AF20,AF26,AF29,AF32,AF35,AF38,AF41,AF44,AF47,AF50,AF53,AF56,AF59,AF62,AF65,AF68,AF71,AF74,AF77,AF80,AF86,AF89,AF92,AF95,AF98,AF101)","v":1069.0429999999999},null,null,null,{"$f":"IF(TRIM(AI107)=\"\", \"\", IF(VLOOKUP(AI107,#REF!,2,FALSE)=0,\"\",VLOOKUP(AI107,#REF!,2,FALSE) ) )","v":""},{"$f":"SUM(AK8,AK11,AK14,AK17,AK20,AK26,AK29,AK32,AK35,AK38,AK41,AK44,AK47,AK50,AK53,AK56,AK59,AK62,AK65,AK68,AK71,AK74,AK77,AK80,AK86,AK89,AK92,AK95,AK98,AK101)","v":1989.481},null,null,null,{"$f":"IF(TRIM(AN107)=\"\", \"\", IF(VLOOKUP(AN107,#REF!,2,FALSE)=0,\"\",VLOOKUP(AN107,#REF!,2,FALSE) ) )","v":""},{"$f":"SUM(AP8,AP11,AP14,AP17,AP20,AP26,AP29,AP32,AP35,AP38,AP41,AP44,AP47,AP50,AP53,AP56,AP59,AP62,AP65,AP68,AP71,AP74,AP77,AP80,AP86,AP89,AP92,AP95,AP98,AP101)","v":3357.2510000000002},null,null,null,{"$f":"IF(TRIM(AS107)=\"\", \"\", IF(VLOOKUP(AS107,#REF!,2,FALSE)=0,\"\",VLOOKUP(AS107,#REF!,2,FALSE) ) )","v":""},{"$f":"SUM(AU8,AU11,AU14,AU17,AU20,AU26,AU29,AU32,AU35,AU38,AU41,AU44,AU47,AU50,AU53,AU56,AU59,AU62,AU65,AU68,AU71,AU74,AU77,AU80,AU86,AU89,AU92,AU95,AU98,AU101)","v":625.04600000000005},null,null,null,{"$f":"IF(TRIM(AX107)=\"\", \"\", IF(VLOOKUP(AX107,#REF!,2,FALSE)=0,\"\",VLOOKUP(AX107,#REF!,2,FALSE) ) )","v":""},{"$f":"SUM(AZ8,AZ11,AZ14,AZ17,AZ20,AZ26,AZ29,AZ32,AZ35,AZ38,AZ41,AZ44,AZ47,AZ50,AZ53,AZ56,AZ59,AZ62,AZ65,AZ68,AZ71,AZ74,AZ77,AZ80,AZ86,AZ89,AZ92,AZ95,AZ98,AZ101)","v":11306.799000000001},null,null,null,{"$f":"IF(TRIM(BC107)=\"\", \"\", IF(VLOOKUP(BC107,#REF!,2,FALSE)=0,\"\",VLOOKUP(BC107,#REF!,2,FALSE) ) )","v":""},{"$f":"SUM(BE8,BE11,BE14,BE17,BE20,BE26,BE29,BE32,BE35,BE38,BE41,BE44,BE47,BE50,BE53,BE56,BE59,BE62,BE65,BE68,BE71,BE74,BE77,BE80,BE86,BE89,BE92,BE95,BE98,BE101)","v":5633.2460000000001},null,null,null,{"$f":"IF(TRIM(BH107)=\"\", \"\", IF(VLOOKUP(BH107,#REF!,2,FALSE)=0,\"\",VLOOKUP(BH107,#REF!,2,FALSE) ) )","v":""},{"$f":"SUM(BJ8,BJ11,BJ14,BJ17,BJ20,BJ26,BJ29,BJ32,BJ35,BJ38,BJ41,BJ44,BJ47,BJ50,BJ53,BJ56,BJ59,BJ62,BJ65,BJ68,BJ71,BJ74,BJ77,BJ80,BJ86,BJ89,BJ92,BJ95,BJ98,BJ101)","v":1567.3579999999999},null,null,null,{"$f":"IF(TRIM(BM107)=\"\", \"\", IF(VLOOKUP(BM107,#REF!,2,FALSE)=0,\"\",VLOOKUP(BM107,#REF!,2,FALSE) ) )","v":""},{"$f":"SUM(BO8,BO11,BO14,BO17,BO20,BO26,BO29,BO32,BO35,BO38,BO41,BO44,BO47,BO50,BO53,BO56,BO59,BO62,BO65,BO68,BO71,BO74,BO77,BO80,BO86,BO89,BO92,BO95,BO98,BO101)","v":27022.242999999999},null,null,null,{"$f":"IF(TRIM(BR107)=\"\", \"\", IF(VLOOKUP(BR107,#REF!,2,FALSE)=0,\"\",VLOOKUP(BR107,#REF!,2,FALSE) ) )","v":""},{"$f":"SUM(BT8,BT11,BT14,BT17,BT20,BT26,BT29,BT32,BT35,BT38,BT41,BT44,BT47,BT50,BT53,BT56,BT59,BT62,BT65,BT68,BT71,BT74,BT77,BT80,BT86,BT89,BT92,BT95,BT98,BT101)","v":1372.4570000000001},null,null,null,{"$f":"IF(TRIM(BW107)=\"\", \"\", IF(VLOOKUP(BW107,#REF!,2,FALSE)=0,\"\",VLOOKUP(BW107,#REF!,2,FALSE) ) )","v":""},{"$f":"SUM(BY8,BY11,BY14,BY17,BY20,BY26,BY29,BY32,BY35,BY38,BY41,BY44,BY47,BY50,BY53,BY56,BY59,BY62,BY65,BY68,BY71,BY74,BY77,BY80,BY86,BY89,BY92,BY95,BY98,BY101)","v":688.66600000000005},null,null,null,{"$f":"IF(TRIM(CB107)=\"\", \"\", IF(VLOOKUP(CB107,#REF!,2,FALSE)=0,\"\",VLOOKUP(CB107,#REF!,2,FALSE) ) )","v":""},{"$f":"SUM(CD8,CD11,CD14,CD17,CD20,CD26,CD29,CD32,CD35,CD38,CD41,CD44,CD47,CD50,CD53,CD56,CD59,CD62,CD65,CD68,CD71,CD74,CD77,CD80,CD86,CD89,CD92,CD95,CD98,CD101)","v":2218.9090000000001},null,null,null,{"$f":"IF(TRIM(CG107)=\"\", \"\", IF(VLOOKUP(CG107,#REF!,2,FALSE)=0,\"\",VLOOKUP(CG107,#REF!,2,FALSE) ) )","v":""},{"$f":"SUM(CI8,CI11,CI14,CI17,CI20,CI26,CI29,CI32,CI35,CI38,CI41,CI44,CI47,CI50,CI53,CI56,CI59,CI62,CI65,CI68,CI71,CI74,CI77,CI80,CI86,CI89,CI92,CI95,CI98,CI101)","v":2907.5749999999998},null,null,null,{"$f":"IF(TRIM(CL107)=\"\", \"\", IF(VLOOKUP(CL107,#REF!,2,FALSE)=0,\"\",VLOOKUP(CL107,#REF!,2,FALSE) ) )","v":""},{"$f":"SUM(CN8,CN11,CN14,CN17,CN20,CN26,CN29,CN32,CN35,CN38,CN41,CN44,CN47,CN50,CN53,CN56,CN59,CN62,CN65,CN68,CN71,CN74,CN77,CN80,CN86,CN89,CN92,CN95,CN98,CN101)","v":19839.105},null,null,null,{"$f":"IF(TRIM(CQ107)=\"\", \"\", IF(VLOOKUP(CQ107,#REF!,2,FALSE)=0,\"\",VLOOKUP(CQ107,#REF!,2,FALSE) ) )","v":""},{"$f":"SUM(CS8,CS11,CS14,CS17,CS20,CS26,CS29,CS32,CS35,CS38,CS41,CS44,CS47,CS50,CS53,CS56,CS59,CS62,CS65,CS68,CS71,CS74,CS77,CS80,CS86,CS89,CS92,CS95,CS98,CS101)","v":35189.285000000003},null,null,null,{"$f":"IF(TRIM(CV107)=\"\", \"\", IF(VLOOKUP(CV107,#REF!,2,FALSE)=0,\"\",VLOOKUP(CV107,#REF!,2,FALSE) ) )","v":""},{"$f":"SUM(CX8,CX11,CX14,CX17,CX20,CX26,CX29,CX32,CX35,CX38,CX41,CX44,CX47,CX50,CX53,CX56,CX59,CX62,CX65,CX68,CX71,CX74,CX77,CX80,CX86,CX89,CX92,CX95,CX98,CX101)","v":14.499000000000001},null,null,null,{"$f":"IF(TRIM(DA107)=\"\", \"\", IF(VLOOKUP(DA107,#REF!,2,FALSE)=0,\"\",VLOOKUP(DA107,#REF!,2,FALSE) ) )","v":""},{"$f":"SUM(DC8,DC11,DC14,DC17,DC20,DC26,DC29,DC32,DC35,DC38,DC41,DC44,DC47,DC50,DC53,DC56,DC59,DC62,DC65,DC68,DC71,DC74,DC77,DC80,DC86,DC89,DC92,DC95,DC98,DC101)","v":75693.831000000006},null,null,null,{"$f":"IF(TRIM(DF107)=\"\", \"\", IF(VLOOKUP(DF107,#REF!,2,FALSE)=0,\"\",VLOOKUP(DF107,#REF!,2,FALSE) ) )","v":""},{"$f":"SUM(DH8,DH11,DH14,DH17,DH20,DH26,DH29,DH32,DH35,DH38,DH41,DH44,DH47,DH50,DH53,DH56,DH59,DH62,DH65,DH68,DH71,DH74,DH77,DH80,DH86,DH89,DH92,DH95,DH98,DH101)","v":169514.06599999999},null,null,null,{"$f":"IF(TRIM(DK107)=\"\", \"\", IF(VLOOKUP(DK107,#REF!,2,FALSE)=0,\"\",VLOOKUP(DK107,#REF!,2,FALSE) ) )","v":""}]
[null,null,"PRIM",null,"NHAZ","Non-hazardous",{"$f":"SUM(G9,G12,G15,G18,G21,G27,G30,G33,G36,G39,G42,G45,G48,G51,G54,G57,G60,G63,G66,G69,G72,G75,G78,G81,G87,G90,G93,G96,G99,G102)","v":564356.54700000002},null,null,null,{"$f":"IF(TRIM(J108)=\"\", \"\", IF(VLOOKUP(J108,#REF!,2,FALSE)=0,\"\",VLOOKUP(J108,#REF!,2,FALSE) ) )","v":""},{"$f":"SUM(L9,L12,L15,L18,L21,L27,L30,L33,L36,L39,L42,L45,L48,L51,L54,L57,L60,L63,L66,L69,L72,L75,L78,L81,L87,L90,L93,L96,L99,L102)","v":686986.00300000003},null,null,null,{"$f":"IF(TRIM(O108)=\"\", \"\", IF(VLOOKUP(O108,#REF!,2,FALSE)=0,\"\",VLOOKUP(O108,#REF!,2,FALSE) ) )","v":""},{"$f":"SUM(Q9,Q12,Q15,Q18,Q21,Q27,Q30,Q33,Q36,Q39,Q42,Q45,Q48,Q51,Q54,Q57,Q60,Q63,Q66,Q69,Q72,Q75,Q78,Q81,Q87,Q90,Q93,Q96,Q99,Q102)","v":58411.993999999999},null,null,null,{"$f":"IF(TRIM(T108)=\"\", \"\", IF(VLOOKUP(T108,#REF!,2,FALSE)=0,\"\",VLOOKUP(T108,#REF!,2,FALSE) ) )","v":""},{"$f":"SUM(V9,V12,V15,V18,V21,V27,V30,V33,V36,V39,V42,V45,V48,V51,V54,V57,V60,V63,V66,V69,V72,V75,V78,V81,V87,V90,V93,V96,V99,V102)","v":11655.045},null,null,null,{"$f":"IF(TRIM(Y108)=\"\", \"\", IF(VLOOKUP(Y108,#REF!,2,FALSE)=0,\"\",VLOOKUP(Y108,#REF!,2,FALSE) ) )","v":""},{"$f":"SUM(AA9,AA12,AA15,AA18,AA21,AA27,AA30,AA33,AA36,AA39,AA42,AA45,AA48,AA51,AA54,AA57,AA60,AA63,AA66,AA69,AA72,AA75,AA78,AA81,AA87,AA90,AA93,AA96,AA99,AA102)","v":55782.699000000001},null,null,null,{"$f":"IF(TRIM(AD108)=\"\", \"\", IF(VLOOKUP(AD108,#REF!,2,FALSE)=0,\"\",VLOOKUP(AD108,#REF!,2,FALSE) ) )","v":""},{"$f":"SUM(AF9,AF12,AF15,AF18,AF21,AF27,AF30,AF33,AF36,AF39,AF42,AF45,AF48,AF51,AF54,AF57,AF60,AF63,AF66,AF69,AF72,AF75,AF78,AF81,AF87,AF90,AF93,AF96,AF99,AF102)","v":73824.062999999995},null,null,null,{"$f":"IF(TRIM(AI108)=\"\", \"\", IF(VLOOKUP(AI108,#REF!,2,FALSE)=0,\"\",VLOOKUP(AI108,#REF!,2,FALSE) ) )","v":""},{"$f":"SUM(AK9,AK12,AK15,AK18,AK21,AK27,AK30,AK33,AK36,AK39,AK42,AK45,AK48,AK51,AK54,AK57,AK60,AK63,AK66,AK69,AK72,AK75,AK78,AK81,AK87,AK90,AK93,AK96,AK99,AK102)","v":5032.8720000000003},null,null,null,{"$f":"IF(TRIM(AN108)=\"\", \"\", IF(VLOOKUP(AN108,#REF!,2,FALSE)=0,\"\",VLOOKUP(AN108,#REF!,2,FALSE) ) )","v":""},{"$f":"SUM(AP9,AP12,AP15,AP18,AP21,AP27,AP30,AP33,AP36,AP39,AP42,AP45,AP48,AP51,AP54,AP57,AP60,AP63,AP66,AP69,AP72,AP75,AP78,AP81,AP87,AP90,AP93,AP96,AP99,AP102)","v":21820.353999999999},null,null,null,{"$f":"IF(TRIM(AS108)=\"\", \"\", IF(VLOOKUP(AS108,#REF!,2,FALSE)=0,\"\",VLOOKUP(AS108,#REF!,2,FALSE) ) )","v":""},{"$f":"SUM(AU9,AU12,AU15,AU18,AU21,AU27,AU30,AU33,AU36,AU39,AU42,AU45,AU48,AU51,AU54,AU57,AU60,AU63,AU66,AU69,AU72,AU75,AU78,AU81,AU87,AU90,AU93,AU96,AU99,AU102)","v":25961.596000000001},null,null,null,{"$f":"IF(TRIM(AX108)=\"\", \"\", IF(VLOOKUP(AX108,#REF!,2,FALSE)=0,\"\",VLOOKUP(AX108,#REF!,2,FALSE) ) )","v":""},{"$f":"SUM(AZ9,AZ12,AZ15,AZ18,AZ21,AZ27,AZ30,AZ33,AZ36,AZ39,AZ42,AZ45,AZ48,AZ51,AZ54,AZ57,AZ60,AZ63,AZ66,AZ69,AZ72,AZ75,AZ78,AZ81,AZ87,AZ90,AZ93,AZ96,AZ99,AZ102)","v":86438.422000000006},null,null,null,{"$f":"IF(TRIM(BC108)=\"\", \"\", IF(VLOOKUP(BC108,#REF!,2,FALSE)=0,\"\",VLOOKUP(BC108,#REF!,2,FALSE) ) )","v":""},{"$f":"SUM(BE9,BE12,BE15,BE18,BE21,BE27,BE30,BE33,BE36,BE39,BE42,BE45,BE48,BE51,BE54,BE57,BE60,BE63,BE66,BE69,BE72,BE75,BE78,BE81,BE87,BE90,BE93,BE96,BE99,BE102)","v":43307.048999999999},null,null,null,{"$f":"IF(TRIM(BH108)=\"\", \"\", IF(VLOOKUP(BH108,#REF!,2,FALSE)=0,\"\",VLOOKUP(BH108,#REF!,2,FALSE) ) )","v":""},{"$f":"SUM(BJ9,BJ12,BJ15,BJ18,BJ21,BJ27,BJ30,BJ33,BJ36,BJ39,BJ42,BJ45,BJ48,BJ51,BJ54,BJ57,BJ60,BJ63,BJ66,BJ69,BJ72,BJ75,BJ78,BJ81,BJ87,BJ90,BJ93,BJ96,BJ99,BJ102)","v":20745.355},null,null,null,{"$f":"IF(TRIM(BM108)=\"\", \"\", IF(VLOOKUP(BM108,#REF!,2,FALSE)=0,\"\",VLOOKUP(BM108,#REF!,2,FALSE) ) )","v":""},{"$f":"SUM(BO9,BO12,BO15,BO18,BO21,BO27,BO30,BO33,BO36,BO39,BO42,BO45,BO48,BO51,BO54,BO57,BO60,BO63,BO66,BO69,BO72,BO75,BO78,BO81,BO87,BO90,BO93,BO96,BO99,BO102)","v":402979.44900000002},null,null,null,{"$f":"IF(TRIM(BR108)=\"\", \"\", IF(VLOOKUP(BR108,#REF!,2,FALSE)=0,\"\",VLOOKUP(BR108,#REF!,2,FALSE) ) )","v":""},{"$f":"SUM(BT9,BT12,BT15,BT18,BT21,BT27,BT30,BT33,BT36,BT39,BT42,BT45,BT48,BT51,BT54,BT57,BT60,BT63,BT66,BT69,BT72,BT75,BT78,BT81,BT87,BT90,BT93,BT96,BT99,BT102)","v":66265.067999999999},null,null,null,{"$f":"IF(TRIM(BW108)=\"\", \"\", IF(VLOOKUP(BW108,#REF!,2,FALSE)=0,\"\",VLOOKUP(BW108,#REF!,2,FALSE) ) )","v":""},{"$f":"SUM(BY9,BY12,BY15,BY18,BY21,BY27,BY30,BY33,BY36,BY39,BY42,BY45,BY48,BY51,BY54,BY57,BY60,BY63,BY66,BY69,BY72,BY75,BY78,BY81,BY87,BY90,BY93,BY96,BY99,BY102)","v":31280.401000000002},null,null,null,{"$f":"IF(TRIM(CB108)=\"\", \"\", IF(VLOOKUP(CB108,#REF!,2,FALSE)=0,\"\",VLOOKUP(CB108,#REF!,2,FALSE) ) )","v":""},{"$f":"SUM(CD9,CD12,CD15,CD18,CD21,CD27,CD30,CD33,CD36,CD39,CD42,CD45,CD48,CD51,CD54,CD57,CD60,CD63,CD66,CD69,CD72,CD75,CD78,CD81,CD87,CD90,CD93,CD96,CD99,CD102)","v":690397.20299999998},null,null,null,{"$f":"IF(TRIM(CG108)=\"\", \"\", IF(VLOOKUP(CG108,#REF!,2,FALSE)=0,\"\",VLOOKUP(CG108,#REF!,2,FALSE) ) )","v":""},{"$f":"SUM(CI9,CI12,CI15,CI18,CI21,CI27,CI30,CI33,CI36,CI39,CI42,CI45,CI48,CI51,CI54,CI57,CI60,CI63,CI66,CI69,CI72,CI75,CI78,CI81,CI87,CI90,CI93,CI96,CI99,CI102)","v":721677.60400000005},null,null,null,{"$f":"IF(TRIM(CL108)=\"\", \"\", IF(VLOOKUP(CL108,#REF!,2,FALSE)=0,\"\",VLOOKUP(CL108,#REF!,2,FALSE) ) )","v":""},{"$f":"SUM(CN9,CN12,CN15,CN18,CN21,CN27,CN30,CN33,CN36,CN39,CN42,CN45,CN48,CN51,CN54,CN57,CN60,CN63,CN66,CN69,CN72,CN75,CN78,CN81,CN87,CN90,CN93,CN96,CN99,CN102)","v":1387007.311},null,null,null,{"$f":"IF(TRIM(CQ108)=\"\", \"\", IF(VLOOKUP(CQ108,#REF!,2,FALSE)=0,\"\",VLOOKUP(CQ108,#REF!,2,FALSE) ) )","v":""},{"$f":"SUM(CS9,CS12,CS15,CS18,CS21,CS27,CS30,CS33,CS36,CS39,CS42,CS45,CS48,CS51,CS54,CS57,CS60,CS63,CS66,CS69,CS72,CS75,CS78,CS81,CS87,CS90,CS93,CS96,CS99,CS102)","v":516314.19900000002},null,null,null,{"$f":"IF(TRIM(CV108)=\"\", \"\", IF(VLOOKUP(CV108,#REF!,2,FALSE)=0,\"\",VLOOKUP(CV108,#REF!,2,FALSE) ) )","v":""},{"$f":"SUM(CX9,CX12,CX15,CX18,CX21,CX27,CX30,CX33,CX36,CX39,CX42,CX45,CX48,CX51,CX54,CX57,CX60,CX63,CX66,CX69,CX72,CX75,CX78,CX81,CX87,CX90,CX93,CX96,CX99,CX102)","v":47597.796999999999},null,null,null,{"$f":"IF(TRIM(DA108)=\"\", \"\", IF(VLOOKUP(DA108,#REF!,2,FALSE)=0,\"\",VLOOKUP(DA108,#REF!,2,FALSE) ) )","v":""},{"$f":"SUM(DC9,DC12,DC15,DC18,DC21,DC27,DC30,DC33,DC36,DC39,DC42,DC45,DC48,DC51,DC54,DC57,DC60,DC63,DC66,DC69,DC72,DC75,DC78,DC81,DC87,DC90,DC93,DC96,DC99,DC102)","v":1135988.43},null,null,null,{"$f":"IF(TRIM(DF108)=\"\", \"\", IF(VLOOKUP(DF108,#REF!,2,FALSE)=0,\"\",VLOOKUP(DF108,#REF!,2,FALSE) ) )","v":""},{"$f":"SUM(DH9,DH12,DH15,DH18,DH21,DH27,DH30,DH33,DH36,DH39,DH42,DH45,DH48,DH51,DH54,DH57,DH60,DH63,DH66,DH69,DH72,DH75,DH78,DH81,DH87,DH90,DH93,DH96,DH99,DH102)","v":5529172.4079999998},null,null,null,{"$f":"IF(TRIM(DK108)=\"\", \"\", IF(VLOOKUP(DK108,#REF!,2,FALSE)=0,\"\",VLOOKUP(DK108,#REF!,2,FALSE) ) )","v":""}]
[null,null,"PRIM",null,"HAZ_NHAZ","Total",565300.38,null,null,null,{"$f":"IF(TRIM(J109)=\"\", \"\", IF(VLOOKUP(J109,#REF!,2,FALSE)=0,\"\",VLOOKUP(J109,#REF!,2,FALSE) ) )","v":""},693517.24100000004,null,null,null,{"$f":"IF(TRIM(O109)=\"\", \"\", IF(VLOOKUP(O109,#REF!,2,FALSE)=0,\"\",VLOOKUP(O109,#REF!,2,FALSE) ) )","v":""},59343.063000000002,null,null,null,{"$f":"IF(TRIM(T109)=\"\", \"\", IF(VLOOKUP(T109,#REF!,2,FALSE)=0,\"\",VLOOKUP(T109,#REF!,2,FALSE) ) )","v":""},12028.459000000001,null,null,null,{"$f":"IF(TRIM(Y109)=\"\", \"\", IF(VLOOKUP(Y109,#REF!,2,FALSE)=0,\"\",VLOOKUP(Y109,#REF!,2,FALSE) ) )","v":""},55952.235000000001,null,null,null,{"$f":"IF(TRIM(AD109)=\"\", \"\", IF(VLOOKUP(AD109,#REF!,2,FALSE)=0,\"\",VLOOKUP(AD109,#REF!,2,FALSE) ) )","v":""},74893.106,null,null,null,{"$f":"IF(TRIM(AI109)=\"\", \"\", IF(VLOOKUP(AI109,#REF!,2,FALSE)=0,\"\",VLOOKUP(AI109,#REF!,2,FALSE) ) )","v":""},7022.3530000000001,null,null,null,{"$f":"IF(TRIM(AN109)=\"\", \"\", IF(VLOOKUP(AN109,#REF!,2,FALSE)=0,\"\",VLOOKUP(AN109,#REF!,2,FALSE) ) )","v":""},25177.605,null,null,null,{"$f":"IF(TRIM(AS109)=\"\", \"\", IF(VLOOKUP(AS109,#REF!,2,FALSE)=0,\"\",VLOOKUP(AS109,#REF!,2,FALSE) ) )","v":""},26586.642,null,null,null,{"$f":"IF(TRIM(AX109)=\"\", \"\", IF(VLOOKUP(AX109,#REF!,2,FALSE)=0,\"\",VLOOKUP(AX109,#REF!,2,FALSE) ) )","v":""},97745.221000000005,null,null,null,{"$f":"IF(TRIM(BC109)=\"\", \"\", IF(VLOOKUP(BC109,#REF!,2,FALSE)=0,\"\",VLOOKUP(BC109,#REF!,2,FALSE) ) )","v":""},48940.294999999998,null,null,null,{"$f":"IF(TRIM(BH109)=\"\", \"\", IF(VLOOKUP(BH109,#REF!,2,FALSE)=0,\"\",VLOOKUP(BH109,#REF!,2,FALSE) ) )","v":""},22312.713,null,null,null,{"$f":"IF(TRIM(BM109)=\"\", \"\", IF(VLOOKUP(BM109,#REF!,2,FALSE)=0,\"\",VLOOKUP(BM109,#REF!,2,FALSE) ) )","v":""},430001.69199999998,null,null,null,{"$f":"IF(TRIM(BR109)=\"\", \"\", IF(VLOOKUP(BR109,#REF!,2,FALSE)=0,\"\",VLOOKUP(BR109,#REF!,2,FALSE) ) )","v":""},67637.524999999994,null,null,null,{"$f":"IF(TRIM(BW109)=\"\", \"\", IF(VLOOKUP(BW109,#REF!,2,FALSE)=0,\"\",VLOOKUP(BW109,#REF!,2,FALSE) ) )","v":""},31969.066999999999,null,null,null,{"$f":"IF(TRIM(CB109)=\"\", \"\", IF(VLOOKUP(CB109,#REF!,2,FALSE)=0,\"\",VLOOKUP(CB109,#REF!,2,FALSE) ) )","v":""},692616.11199999996,null,null,null,{"$f":"IF(TRIM(CG109)=\"\", \"\", IF(VLOOKUP(CG109,#REF!,2,FALSE)=0,\"\",VLOOKUP(CG109,#REF!,2,FALSE) ) )","v":""},724585.179,null,null,null,{"$f":"IF(TRIM(CL109)=\"\", \"\", IF(VLOOKUP(CL109,#REF!,2,FALSE)=0,\"\",VLOOKUP(CL109,#REF!,2,FALSE) ) )","v":""},1406846.416,null,null,null,{"$f":"IF(TRIM(CQ109)=\"\", \"\", IF(VLOOKUP(CQ109,#REF!,2,FALSE)=0,\"\",VLOOKUP(CQ109,#REF!,2,FALSE) ) )","v":""},551503.48400000005,null,null,null,{"$f":"IF(TRIM(CV109)=\"\", \"\", IF(VLOOKUP(CV109,#REF!,2,FALSE)=0,\"\",VLOOKUP(CV109,#REF!,2,FALSE) ) )","v":""},47612.296000000002,null,null,null,{"$f":"IF(TRIM(DA109)=\"\", \"\", IF(VLOOKUP(DA109,#REF!,2,FALSE)=0,\"\",VLOOKUP(DA109,#REF!,2,FALSE) ) )","v":""},1211682.2609999999,null,null,null,{"$f":"IF(TRIM(DF109)=\"\", \"\", IF(VLOOKUP(DF109,#REF!,2,FALSE)=0,\"\",VLOOKUP(DF109,#REF!,2,FALSE) ) )","v":""},5698686.4740000004,null,null,null,{"$f":"IF(TRIM(DK109)=\"\", \"\", IF(VLOOKUP(DK109,#REF!,2,FALSE)=0,\"\",VLOOKUP(DK109,#REF!,2,FALSE) ) )","v":""}]
[null,"SEC","SEC","Secondary Waste ","HAZ","Hazardous ",{"$f":"SUM(G23,G83,G104)","v":0},null,null,null,{"$f":"IF(TRIM(J110)=\"\", \"\", IF(VLOOKUP(J110,#REF!,2,FALSE)=0,\"\",VLOOKUP(J110,#REF!,2,FALSE) ) )","v":""},{"$f":"SUM(L23,L83,L104)","v":0},null,null,null,{"$f":"IF(TRIM(O110)=\"\", \"\", IF(VLOOKUP(O110,#REF!,2,FALSE)=0,\"\",VLOOKUP(O110,#REF!,2,FALSE) ) )","v":""},{"$f":"SUM(Q23,Q83,Q104)","v":0},null,null,null,{"$f":"IF(TRIM(T110)=\"\", \"\", IF(VLOOKUP(T110,#REF!,2,FALSE)=0,\"\",VLOOKUP(T110,#REF!,2,FALSE) ) )","v":""},{"$f":"SUM(V23,V83,V104)","v":0},null,null,null,{"$f":"IF(TRIM(Y110)=\"\", \"\", IF(VLOOKUP(Y110,#REF!,2,FALSE)=0,\"\",VLOOKUP(Y110,#REF!,2,FALSE) ) )","v":""},{"$f":"SUM(AA23,AA83,AA104)","v":0},null,null,null,{"$f":"IF(TRIM(AD110)=\"\", \"\", IF(VLOOKUP(AD110,#REF!,2,FALSE)=0,\"\",VLOOKUP(AD110,#REF!,2,FALSE) ) )","v":""},{"$f":"SUM(AF23,AF83,AF104)","v":0},null,null,null,{"$f":"IF(TRIM(AI110)=\"\", \"\", IF(VLOOKUP(AI110,#REF!,2,FALSE)=0,\"\",VLOOKUP(AI110,#REF!,2,FALSE) ) )","v":""},{"$f":"SUM(AK23,AK83,AK104)","v":0},null,null,null,{"$f":"IF(TRIM(AN110)=\"\", \"\", IF(VLOOKUP(AN110,#REF!,2,FALSE)=0,\"\",VLOOKUP(AN110,#REF!,2,FALSE) ) )","v":""},{"$f":"SUM(AP23,AP83,AP104)","v":0},null,null,null,{"$f":"IF(TRIM(AS110)=\"\", \"\", IF(VLOOKUP(AS110,#REF!,2,FALSE)=0,\"\",VLOOKUP(AS110,#REF!,2,FALSE) ) )","v":""},{"$f":"SUM(AU23,AU83,AU104)","v":0},null,null,null,{"$f":"IF(TRIM(AX110)=\"\", \"\", IF(VLOOKUP(AX110,#REF!,2,FALSE)=0,\"\",VLOOKUP(AX110,#REF!,2,FALSE) ) )","v":""},{"$f":"SUM(AZ23,AZ83,AZ104)","v":12657.463},null,null,null,{"$f":"IF(TRIM(BC110)=\"\", \"\", IF(VLOOKUP(BC110,#REF!,2,FALSE)=0,\"\",VLOOKUP(BC110,#REF!,2,FALSE) ) )","v":""},{"$f":"SUM(BE23,BE83,BE104)","v":0},null,null,null,{"$f":"IF(TRIM(BH110)=\"\", \"\", IF(VLOOKUP(BH110,#REF!,2,FALSE)=0,\"\",VLOOKUP(BH110,#REF!,2,FALSE) ) )","v":""},{"$f":"SUM(BJ23,BJ83,BJ104)","v":0.39700000000000002},null,null,null,{"$f":"IF(TRIM(BM110)=\"\", \"\", IF(VLOOKUP(BM110,#REF!,2,FALSE)=0,\"\",VLOOKUP(BM110,#REF!,2,FALSE) ) )","v":""},{"$f":"SUM(BO23,BO83,BO104)","v":12657.86},null,null,null,{"$f":"IF(TRIM(BR110)=\"\", \"\", IF(VLOOKUP(BR110,#REF!,2,FALSE)=0,\"\",VLOOKUP(BR110,#REF!,2,FALSE) ) )","v":""},{"$f":"SUM(BT23,BT83,BT104)","v":0},null,null,null,{"$f":"IF(TRIM(BW110)=\"\", \"\", IF(VLOOKUP(BW110,#REF!,2,FALSE)=0,\"\",VLOOKUP(BW110,#REF!,2,FALSE) ) )","v":""},{"$f":"SUM(BY23,BY83,BY104)","v":1.1120000000000001},null,null,null,{"$f":"IF(TRIM(CB110)=\"\", \"\", IF(VLOOKUP(CB110,#REF!,2,FALSE)=0,\"\",VLOOKUP(CB110,#REF!,2,FALSE) ) )","v":""},{"$f":"SUM(CD23,CD83,CD104)","v":3964.357},null,null,null,{"$f":"IF(TRIM(CG110)=\"\", \"\", IF(VLOOKUP(CG110,#REF!,2,FALSE)=0,\"\",VLOOKUP(CG110,#REF!,2,FALSE) ) )","v":""},{"$f":"SUM(CI23,CI83,CI104)","v":3965.4690000000001},null,null,null,{"$f":"IF(TRIM(CL110)=\"\", \"\", IF(VLOOKUP(CL110,#REF!,2,FALSE)=0,\"\",VLOOKUP(CL110,#REF!,2,FALSE) ) )","v":""},{"$f":"SUM(CN23,CN83,CN104)","v":0},null,null,null,{"$f":"IF(TRIM(CQ110)=\"\", \"\", IF(VLOOKUP(CQ110,#REF!,2,FALSE)=0,\"\",VLOOKUP(CQ110,#REF!,2,FALSE) ) )","v":""},{"$f":"SUM(CS23,CS83,CS104)","v":818.69100000000003},null,null,null,{"$f":"IF(TRIM(CV110)=\"\", \"\", IF(VLOOKUP(CV110,#REF!,2,FALSE)=0,\"\",VLOOKUP(CV110,#REF!,2,FALSE) ) )","v":""},{"$f":"SUM(CX23,CX83,CX104)","v":0},null,null,null,{"$f":"IF(TRIM(DA110)=\"\", \"\", IF(VLOOKUP(DA110,#REF!,2,FALSE)=0,\"\",VLOOKUP(DA110,#REF!,2,FALSE) ) )","v":""},{"$f":"SUM(DC23,DC83,DC104)","v":0},null,null,null,{"$f":"IF(TRIM(DF110)=\"\", \"\", IF(VLOOKUP(DF110,#REF!,2,FALSE)=0,\"\",VLOOKUP(DF110,#REF!,2,FALSE) ) )","v":""},{"$f":"SUM(DH23,DH83,DH104)","v":17442.02},null,null,null,{"$f":"IF(TRIM(DK110)=\"\", \"\", IF(VLOOKUP(DK110,#REF!,2,FALSE)=0,\"\",VLOOKUP(DK110,#REF!,2,FALSE) ) )","v":""}]
[null,null,"SEC",null,"NHAZ","Non-hazardous",{"$f":"SUM(G24,G84,G105)","v":0},null,null,null,{"$f":"IF(TRIM(J111)=\"\", \"\", IF(VLOOKUP(J111,#REF!,2,FALSE)=0,\"\",VLOOKUP(J111,#REF!,2,FALSE) ) )","v":""},{"$f":"SUM(L24,L84,L105)","v":0},null,null,null,{"$f":"IF(TRIM(O111)=\"\", \"\", IF(VLOOKUP(O111,#REF!,2,FALSE)=0,\"\",VLOOKUP(O111,#REF!,2,FALSE) ) )","v":""},{"$f":"SUM(Q24,Q84,Q105)","v":6.04},null,null,null,{"$f":"IF(TRIM(T111)=\"\", \"\", IF(VLOOKUP(T111,#REF!,2,FALSE)=0,\"\",VLOOKUP(T111,#REF!,2,FALSE) ) )","v":""},{"$f":"SUM(V24,V84,V105)","v":0},null,null,null,{"$f":"IF(TRIM(Y111)=\"\", \"\", IF(VLOOKUP(Y111,#REF!,2,FALSE)=0,\"\",VLOOKUP(Y111,#REF!,2,FALSE) ) )","v":""},{"$f":"SUM(AA24,AA84,AA105)","v":1.1200000000000001},null,null,null,{"$f":"IF(TRIM(AD111)=\"\", \"\", IF(VLOOKUP(AD111,#REF!,2,FALSE)=0,\"\",VLOOKUP(AD111,#REF!,2,FALSE) ) )","v":""},{"$f":"SUM(AF24,AF84,AF105)","v":0},null,null,null,{"$f":"IF(TRIM(AI111)=\"\", \"\", IF(VLOOKUP(AI111,#REF!,2,FALSE)=0,\"\",VLOOKUP(AI111,#REF!,2,FALSE) ) )","v":""},{"$f":"SUM(AK24,AK84,AK105)","v":0},null,null,null,{"$f":"IF(TRIM(AN111)=\"\", \"\", IF(VLOOKUP(AN111,#REF!,2,FALSE)=0,\"\",VLOOKUP(AN111,#REF!,2,FALSE) ) )","v":""},{"$f":"SUM(AP24,AP84,AP105)","v":370.07100000000003},null,null,null,{"$f":"IF(TRIM(AS111)=\"\", \"\", IF(VLOOKUP(AS111,#REF!,2,FALSE)=0,\"\",VLOOKUP(AS111,#REF!,2,FALSE) ) )","v":""},{"$f":"SUM(AU24,AU84,AU105)","v":1234.6600000000001},null,null,null,{"$f":"IF(TRIM(AX111)=\"\", \"\", IF(VLOOKUP(AX111,#REF!,2,FALSE)=0,\"\",VLOOKUP(AX111,#REF!,2,FALSE) ) )","v":""},{"$f":"SUM(AZ24,AZ84,AZ105)","v":5168.8389999999999},null,null,null,{"$f":"IF(TRIM(BC111)=\"\", \"\", IF(VLOOKUP(BC111,#REF!,2,FALSE)=0,\"\",VLOOKUP(BC111,#REF!,2,FALSE) ) )","v":""},{"$f":"SUM(BE24,BE84,BE105)","v":0},null,null,null,{"$f":"IF(TRIM(BH111)=\"\", \"\", IF(VLOOKUP(BH111,#REF!,2,FALSE)=0,\"\",VLOOKUP(BH111,#REF!,2,FALSE) ) )","v":""},{"$f":"SUM(BJ24,BJ84,BJ105)","v":235.08500000000001},null,null,null,{"$f":"IF(TRIM(BM111)=\"\", \"\", IF(VLOOKUP(BM111,#REF!,2,FALSE)=0,\"\",VLOOKUP(BM111,#REF!,2,FALSE) ) )","v":""},{"$f":"SUM(BO24,BO84,BO105)","v":7015.8149999999996},null,null,null,{"$f":"IF(TRIM(BR111)=\"\", \"\", IF(VLOOKUP(BR111,#REF!,2,FALSE)=0,\"\",VLOOKUP(BR111,#REF!,2,FALSE) ) )","v":""},{"$f":"SUM(BT24,BT84,BT105)","v":762.7},null,null,null,{"$f":"IF(TRIM(BW111)=\"\", \"\", IF(VLOOKUP(BW111,#REF!,2,FALSE)=0,\"\",VLOOKUP(BW111,#REF!,2,FALSE) ) )","v":""},{"$f":"SUM(BY24,BY84,BY105)","v":875.10900000000004},null,null,null,{"$f":"IF(TRIM(CB111)=\"\", \"\", IF(VLOOKUP(CB111,#REF!,2,FALSE)=0,\"\",VLOOKUP(CB111,#REF!,2,FALSE) ) )","v":""},{"$f":"SUM(CD24,CD84,CD105)","v":247895.32399999999},null,null,null,{"$f":"IF(TRIM(CG111)=\"\", \"\", IF(VLOOKUP(CG111,#REF!,2,FALSE)=0,\"\",VLOOKUP(CG111,#REF!,2,FALSE) ) )","v":""},{"$f":"SUM(CI24,CI84,CI105)","v":248770.43299999999},null,null,null,{"$f":"IF(TRIM(CL111)=\"\", \"\", IF(VLOOKUP(CL111,#REF!,2,FALSE)=0,\"\",VLOOKUP(CL111,#REF!,2,FALSE) ) )","v":""},{"$f":"SUM(CN24,CN84,CN105)","v":24847.772000000001},null,null,null,{"$f":"IF(TRIM(CQ111)=\"\", \"\", IF(VLOOKUP(CQ111,#REF!,2,FALSE)=0,\"\",VLOOKUP(CQ111,#REF!,2,FALSE) ) )","v":""},{"$f":"SUM(CS24,CS84,CS105)","v":5206.8860000000004},null,null,null,{"$f":"IF(TRIM(CV111)=\"\", \"\", IF(VLOOKUP(CV111,#REF!,2,FALSE)=0,\"\",VLOOKUP(CV111,#REF!,2,FALSE) ) )","v":""},{"$f":"SUM(CX24,CX84,CX105)","v":642.46},null,null,null,{"$f":"IF(TRIM(DA111)=\"\", \"\", IF(VLOOKUP(DA111,#REF!,2,FALSE)=0,\"\",VLOOKUP(DA111,#REF!,2,FALSE) ) )","v":""},{"$f":"SUM(DC24,DC84,DC105)","v":385.52},null,null,null,{"$f":"IF(TRIM(DF111)=\"\", \"\", IF(VLOOKUP(DF111,#REF!,2,FALSE)=0,\"\",VLOOKUP(DF111,#REF!,2,FALSE) ) )","v":""},{"$f":"SUM(DH24,DH84,DH105)","v":287631.58600000001},null,null,null,{"$f":"IF(TRIM(DK111)=\"\", \"\", IF(VLOOKUP(DK111,#REF!,2,FALSE)=0,\"\",VLOOKUP(DK111,#REF!,2,FALSE) ) )","v":""}]
[null,null,"SEC",null,"HAZ_NHAZ","Total",0,null,null,null,{"$f":"IF(TRIM(J112)=\"\", \"\", IF(VLOOKUP(J112,#REF!,2,FALSE)=0,\"\",VLOOKUP(J112,#REF!,2,FALSE) ) )","v":""},0,null,null,null,{"$f":"IF(TRIM(O112)=\"\", \"\", IF(VLOOKUP(O112,#REF!,2,FALSE)=0,\"\",VLOOKUP(O112,#REF!,2,FALSE) ) )","v":""},6.04,null,null,null,{"$f":"IF(TRIM(T112)=\"\", \"\", IF(VLOOKUP(T112,#REF!,2,FALSE)=0,\"\",VLOOKUP(T112,#REF!,2,FALSE) ) )","v":""},0,null,null,null,{"$f":"IF(TRIM(Y112)=\"\", \"\", IF(VLOOKUP(Y112,#REF!,2,FALSE)=0,\"\",VLOOKUP(Y112,#REF!,2,FALSE) ) )","v":""},1.1200000000000001,null,null,null,{"$f":"IF(TRIM(AD112)=\"\", \"\", IF(VLOOKUP(AD112,#REF!,2,FALSE)=0,\"\",VLOOKUP(AD112,#REF!,2,FALSE) ) )","v":""},0,null,null,null,{"$f":"IF(TRIM(AI112)=\"\", \"\", IF(VLOOKUP(AI112,#REF!,2,FALSE)=0,\"\",VLOOKUP(AI112,#REF!,2,FALSE) ) )","v":""},0,null,null,null,{"$f":"IF(TRIM(AN112)=\"\", \"\", IF(VLOOKUP(AN112,#REF!,2,FALSE)=0,\"\",VLOOKUP(AN112,#REF!,2,FALSE) ) )","v":""},370.07100000000003,null,null,null,{"$f":"IF(TRIM(AS112)=\"\", \"\", IF(VLOOKUP(AS112,#REF!,2,FALSE)=0,\"\",VLOOKUP(AS112,#REF!,2,FALSE) ) )","v":""},1234.6600000000001,null,null,null,{"$f":"IF(TRIM(AX112)=\"\", \"\", IF(VLOOKUP(AX112,#REF!,2,FALSE)=0,\"\",VLOOKUP(AX112,#REF!,2,FALSE) ) )","v":""},17826.302,null,null,null,{"$f":"IF(TRIM(BC112)=\"\", \"\", IF(VLOOKUP(BC112,#REF!,2,FALSE)=0,\"\",VLOOKUP(BC112,#REF!,2,FALSE) ) )","v":""},0,null,null,null,{"$f":"IF(TRIM(BH112)=\"\", \"\", IF(VLOOKUP(BH112,#REF!,2,FALSE)=0,\"\",VLOOKUP(BH112,#REF!,2,FALSE) ) )","v":""},235.482,null,null,null,{"$f":"IF(TRIM(BM112)=\"\", \"\", IF(VLOOKUP(BM112,#REF!,2,FALSE)=0,\"\",VLOOKUP(BM112,#REF!,2,FALSE) ) )","v":""},19673.674999999999,null,null,null,{"$f":"IF(TRIM(BR112)=\"\", \"\", IF(VLOOKUP(BR112,#REF!,2,FALSE)=0,\"\",VLOOKUP(BR112,#REF!,2,FALSE) ) )","v":""},762.7,null,null,null,{"$f":"IF(TRIM(BW112)=\"\", \"\", IF(VLOOKUP(BW112,#REF!,2,FALSE)=0,\"\",VLOOKUP(BW112,#REF!,2,FALSE) ) )","v":""},876.221,null,null,null,{"$f":"IF(TRIM(CB112)=\"\", \"\", IF(VLOOKUP(CB112,#REF!,2,FALSE)=0,\"\",VLOOKUP(CB112,#REF!,2,FALSE) ) )","v":""},251859.68100000001,null,null,null,{"$f":"IF(TRIM(CG112)=\"\", \"\", IF(VLOOKUP(CG112,#REF!,2,FALSE)=0,\"\",VLOOKUP(CG112,#REF!,2,FALSE) ) )","v":""},252735.902,null,null,null,{"$f":"IF(TRIM(CL112)=\"\", \"\", IF(VLOOKUP(CL112,#REF!,2,FALSE)=0,\"\",VLOOKUP(CL112,#REF!,2,FALSE) ) )","v":""},24847.772000000001,null,null,null,{"$f":"IF(TRIM(CQ112)=\"\", \"\", IF(VLOOKUP(CQ112,#REF!,2,FALSE)=0,\"\",VLOOKUP(CQ112,#REF!,2,FALSE) ) )","v":""},6025.5770000000002,null,null,null,{"$f":"IF(TRIM(CV112)=\"\", \"\", IF(VLOOKUP(CV112,#REF!,2,FALSE)=0,\"\",VLOOKUP(CV112,#REF!,2,FALSE) ) )","v":""},642.46,null,null,null,{"$f":"IF(TRIM(DA112)=\"\", \"\", IF(VLOOKUP(DA112,#REF!,2,FALSE)=0,\"\",VLOOKUP(DA112,#REF!,2,FALSE) ) )","v":""},385.52,null,null,null,{"$f":"IF(TRIM(DF112)=\"\", \"\", IF(VLOOKUP(DF112,#REF!,2,FALSE)=0,\"\",VLOOKUP(DF112,#REF!,2,FALSE) ) )","v":""},305073.60600000003,null,null,null,{"$f":"IF(TRIM(DK112)=\"\", \"\", IF(VLOOKUP(DK112,#REF!,2,FALSE)=0,\"\",VLOOKUP(DK112,#REF!,2,FALSE) ) )","v":""}]
[null,"TOT_X_MIN","TOT_X_MIN","Total Waste (excluding mineral waste)","HAZ","Hazardous ",{"$f":"SUM(G8,G11,G14,G17,G20,G23,G26,G29,G32,G35,G38,G41,G44,G47,G50,G53,G56,G59,G62,G65,G68,G71,G74,G77,G80,G83,G86,G95,G104)","v":936.16800000000001},null,null,null,{"$f":"IF(TRIM(J113)=\"\", \"\", IF(VLOOKUP(J113,#REF!,2,FALSE)=0,\"\",VLOOKUP(J113,#REF!,2,FALSE) ) )","v":""},{"$f":"SUM(L8,L11,L14,L17,L20,L23,L26,L29,L32,L35,L38,L41,L44,L47,L50,L53,L56,L59,L62,L65,L68,L71,L74,L77,L80,L83,L86,L95,L104)","v":3383.143},null,null,null,{"$f":"IF(TRIM(O113)=\"\", \"\", IF(VLOOKUP(O113,#REF!,2,FALSE)=0,\"\",VLOOKUP(O113,#REF!,2,FALSE) ) )","v":""},{"$f":"SUM(Q8,Q11,Q14,Q17,Q20,Q23,Q26,Q29,Q32,Q35,Q38,Q41,Q44,Q47,Q50,Q53,Q56,Q59,Q62,Q65,Q68,Q71,Q74,Q77,Q80,Q83,Q86,Q95,Q104)","v":929.93499999999995},null,null,null,{"$f":"IF(TRIM(T113)=\"\", \"\", IF(VLOOKUP(T113,#REF!,2,FALSE)=0,\"\",VLOOKUP(T113,#REF!,2,FALSE) ) )","v":""},{"$f":"SUM(V8,V11,V14,V17,V20,V23,V26,V29,V32,V35,V38,V41,V44,V47,V50,V53,V56,V59,V62,V65,V68,V71,V74,V77,V80,V83,V86,V95,V104)","v":373.214},null,null,null,{"$f":"IF(TRIM(Y113)=\"\", \"\", IF(VLOOKUP(Y113,#REF!,2,FALSE)=0,\"\",VLOOKUP(Y113,#REF!,2,FALSE) ) )","v":""},{"$f":"SUM(AA8,AA11,AA14,AA17,AA20,AA23,AA26,AA29,AA32,AA35,AA38,AA41,AA44,AA47,AA50,AA53,AA56,AA59,AA62,AA65,AA68,AA71,AA74,AA77,AA80,AA83,AA86,AA95,AA104)","v":166.142},null,null,null,{"$f":"IF(TRIM(AD113)=\"\", \"\", IF(VLOOKUP(AD113,#REF!,2,FALSE)=0,\"\",VLOOKUP(AD113,#REF!,2,FALSE) ) )","v":""},{"$f":"SUM(AF8,AF11,AF14,AF17,AF20,AF23,AF26,AF29,AF32,AF35,AF38,AF41,AF44,AF47,AF50,AF53,AF56,AF59,AF62,AF65,AF68,AF71,AF74,AF77,AF80,AF83,AF86,AF95,AF104)","v":1068.9590000000001},null,null,null,{"$f":"IF(TRIM(AI113)=\"\", \"\", IF(VLOOKUP(AI113,#REF!,2,FALSE)=0,\"\",VLOOKUP(AI113,#REF!,2,FALSE) ) )","v":""},{"$f":"SUM(AK8,AK11,AK14,AK17,AK20,AK23,AK26,AK29,AK32,AK35,AK38,AK41,AK44,AK47,AK50,AK53,AK56,AK59,AK62,AK65,AK68,AK71,AK74,AK77,AK80,AK83,AK86,AK95,AK104)","v":1989.1010000000001},null,null,null,{"$f":"IF(TRIM(AN113)=\"\", \"\", IF(VLOOKUP(AN113,#REF!,2,FALSE)=0,\"\",VLOOKUP(AN113,#REF!,2,FALSE) ) )","v":""},{"$f":"SUM(AP8,AP11,AP14,AP17,AP20,AP23,AP26,AP29,AP32,AP35,AP38,AP41,AP44,AP47,AP50,AP53,AP56,AP59,AP62,AP65,AP68,AP71,AP74,AP77,AP80,AP83,AP86,AP95,AP104)","v":3350.2280000000001},null,null,null,{"$f":"IF(TRIM(AS113)=\"\", \"\", IF(VLOOKUP(AS113,#REF!,2,FALSE)=0,\"\",VLOOKUP(AS113,#REF!,2,FALSE) ) )","v":""},{"$f":"SUM(AU8,AU11,AU14,AU17,AU20,AU23,AU26,AU29,AU32,AU35,AU38,AU41,AU44,AU47,AU50,AU53,AU56,AU59,AU62,AU65,AU68,AU71,AU74,AU77,AU80,AU83,AU86,AU95,AU104)","v":614.41899999999998},null,null,null,{"$f":"IF(TRIM(AX113)=\"\", \"\", IF(VLOOKUP(AX113,#REF!,2,FALSE)=0,\"\",VLOOKUP(AX113,#REF!,2,FALSE) ) )","v":""},{"$f":"SUM(AZ8,AZ11,AZ14,AZ17,AZ20,AZ23,AZ26,AZ29,AZ32,AZ35,AZ38,AZ41,AZ44,AZ47,AZ50,AZ53,AZ56,AZ59,AZ62,AZ65,AZ68,AZ71,AZ74,AZ77,AZ80,AZ83,AZ86,AZ95,AZ104)","v":23916.735000000001},null,null,null,{"$f":"IF(TRIM(BC113)=\"\", \"\", IF(VLOOKUP(BC113,#REF!,2,FALSE)=0,\"\",VLOOKUP(BC113,#REF!,2,FALSE) ) )","v":""},{"$f":"SUM(BE8,BE11,BE14,BE17,BE20,BE23,BE26,BE29,BE32,BE35,BE38,BE41,BE44,BE47,BE50,BE53,BE56,BE59,BE62,BE65,BE68,BE71,BE74,BE77,BE80,BE83,BE86,BE95,BE104)","v":5554.1419999999998},null,null,null,{"$f":"IF(TRIM(BH113)=\"\", \"\", IF(VLOOKUP(BH113,#REF!,2,FALSE)=0,\"\",VLOOKUP(BH113,#REF!,2,FALSE) ) )","v":""},{"$f":"SUM(BJ8,BJ11,BJ14,BJ17,BJ20,BJ23,BJ26,BJ29,BJ32,BJ35,BJ38,BJ41,BJ44,BJ47,BJ50,BJ53,BJ56,BJ59,BJ62,BJ65,BJ68,BJ71,BJ74,BJ77,BJ80,BJ83,BJ86,BJ95,BJ104)","v":1557.942},null,null,null,{"$f":"IF(TRIM(BM113)=\"\", \"\", IF(VLOOKUP(BM113,#REF!,2,FALSE)=0,\"\",VLOOKUP(BM113,#REF!,2,FALSE) ) )","v":""},{"$f":"SUM(BO8,BO11,BO14,BO17,BO20,BO23,BO26,BO29,BO32,BO35,BO38,BO41,BO44,BO47,BO50,BO53,BO56,BO59,BO62,BO65,BO68,BO71,BO74,BO77,BO80,BO83,BO86,BO95,BO104)","v":39520.817000000003},null,null,null,{"$f":"IF(TRIM(BR113)=\"\", \"\", IF(VLOOKUP(BR113,#REF!,2,FALSE)=0,\"\",VLOOKUP(BR113,#REF!,2,FALSE) ) )","v":""},{"$f":"SUM(BT8,BT11,BT14,BT17,BT20,BT23,BT26,BT29,BT32,BT35,BT38,BT41,BT44,BT47,BT50,BT53,BT56,BT59,BT62,BT65,BT68,BT71,BT74,BT77,BT80,BT83,BT86,BT95,BT104)","v":1372.4380000000001},null,null,null,{"$f":"IF(TRIM(BW113)=\"\", \"\", IF(VLOOKUP(BW113,#REF!,2,FALSE)=0,\"\",VLOOKUP(BW113,#REF!,2,FALSE) ) )","v":""},{"$f":"SUM(BY8,BY11,BY14,BY17,BY20,BY23,BY26,BY29,BY32,BY35,BY38,BY41,BY44,BY47,BY50,BY53,BY56,BY59,BY62,BY65,BY68,BY71,BY74,BY77,BY80,BY83,BY86,BY95,BY104)","v":689.77800000000002},null,null,null,{"$f":"IF(TRIM(CB113)=\"\", \"\", IF(VLOOKUP(CB113,#REF!,2,FALSE)=0,\"\",VLOOKUP(CB113,#REF!,2,FALSE) ) )","v":""},{"$f":"SUM(CD8,CD11,CD14,CD17,CD20,CD23,CD26,CD29,CD32,CD35,CD38,CD41,CD44,CD47,CD50,CD53,CD56,CD59,CD62,CD65,CD68,CD71,CD74,CD77,CD80,CD83,CD86,CD95,CD104)","v":6179.5259999999998},null,null,null,{"$f":"IF(TRIM(CG113)=\"\", \"\", IF(VLOOKUP(CG113,#REF!,2,FALSE)=0,\"\",VLOOKUP(CG113,#REF!,2,FALSE) ) )","v":""},{"$f":"SUM(CI8,CI11,CI14,CI17,CI20,CI23,CI26,CI29,CI32,CI35,CI38,CI41,CI44,CI47,CI50,CI53,CI56,CI59,CI62,CI65,CI68,CI71,CI74,CI77,CI80,CI83,CI86,CI95,CI104)","v":6869.3040000000001},null,null,null,{"$f":"IF(TRIM(CL113)=\"\", \"\", IF(VLOOKUP(CL113,#REF!,2,FALSE)=0,\"\",VLOOKUP(CL113,#REF!,2,FALSE) ) )","v":""},{"$f":"SUM(CN8,CN11,CN14,CN17,CN20,CN23,CN26,CN29,CN32,CN35,CN38,CN41,CN44,CN47,CN50,CN53,CN56,CN59,CN62,CN65,CN68,CN71,CN74,CN77,CN80,CN83,CN86,CN95,CN104)","v":2804.7849999999999},null,null,null,{"$f":"IF(TRIM(CQ113)=\"\", \"\", IF(VLOOKUP(CQ113,#REF!,2,FALSE)=0,\"\",VLOOKUP(CQ113,#REF!,2,FALSE) ) )","v":""},{"$f":"SUM(CS8,CS11,CS14,CS17,CS20,CS23,CS26,CS29,CS32,CS35,CS38,CS41,CS44,CS47,CS50,CS53,CS56,CS59,CS62,CS65,CS68,CS71,CS74,CS77,CS80,CS83,CS86,CS95,CS104)","v":35991.258999999998},null,null,null,{"$f":"IF(TRIM(CV113)=\"\", \"\", IF(VLOOKUP(CV113,#REF!,2,FALSE)=0,\"\",VLOOKUP(CV113,#REF!,2,FALSE) ) )","v":""},{"$f":"SUM(CX8,CX11,CX14,CX17,CX20,CX23,CX26,CX29,CX32,CX35,CX38,CX41,CX44,CX47,CX50,CX53,CX56,CX59,CX62,CX65,CX68,CX71,CX74,CX77,CX80,CX83,CX86,CX95,CX104)","v":14.499000000000001},null,null,null,{"$f":"IF(TRIM(DA113)=\"\", \"\", IF(VLOOKUP(DA113,#REF!,2,FALSE)=0,\"\",VLOOKUP(DA113,#REF!,2,FALSE) ) )","v":""},{"$f":"SUM(DC8,DC11,DC14,DC17,DC20,DC23,DC26,DC29,DC32,DC35,DC38,DC41,DC44,DC47,DC50,DC53,DC56,DC59,DC62,DC65,DC68,DC71,DC74,DC77,DC80,DC83,DC86,DC95,DC104)","v":75683.11},null,null,null,{"$f":"IF(TRIM(DF113)=\"\", \"\", IF(VLOOKUP(DF113,#REF!,2,FALSE)=0,\"\",VLOOKUP(DF113,#REF!,2,FALSE) ) )","v":""},{"$f":"SUM(DH8,DH11,DH14,DH17,DH20,DH23,DH26,DH29,DH32,DH35,DH38,DH41,DH44,DH47,DH50,DH53,DH56,DH59,DH62,DH65,DH68,DH71,DH74,DH77,DH80,DH83,DH86,DH95,DH104)","v":166575.52299999999},null,null,null,{"$f":"IF(TRIM(DK113)=\"\", \"\", IF(VLOOKUP(DK113,#REF!,2,FALSE)=0,\"\",VLOOKUP(DK113,#REF!,2,FALSE) ) )","v":""}]
[null,null,"TOT_X_MIN",null,"NHAZ","Non-hazardous",{"$f":"SUM(G9,G12,G15,G18,G21,G24,G27,G30,G33,G36,G39,G42,G45,G48,G51,G54,G57,G60,G63,G66,G69,G72,G75,G78,G81,G84,G87,G96,G105)","v":564303.44700000004},null,null,null,{"$f":"IF(TRIM(J114)=\"\", \"\", IF(VLOOKUP(J114,#REF!,2,FALSE)=0,\"\",VLOOKUP(J114,#REF!,2,FALSE) ) )","v":""},{"$f":"SUM(L9,L12,L15,L18,L21,L24,L27,L30,L33,L36,L39,L42,L45,L48,L51,L54,L57,L60,L63,L66,L69,L72,L75,L78,L81,L84,L87,L96,L105)","v":4991.9629999999997},null,null,null,{"$f":"IF(TRIM(O114)=\"\", \"\", IF(VLOOKUP(O114,#REF!,2,FALSE)=0,\"\",VLOOKUP(O114,#REF!,2,FALSE) ) )","v":""},{"$f":"SUM(Q9,Q12,Q15,Q18,Q21,Q24,Q27,Q30,Q33,Q36,Q39,Q42,Q45,Q48,Q51,Q54,Q57,Q60,Q63,Q66,Q69,Q72,Q75,Q78,Q81,Q84,Q87,Q96,Q105)","v":58409.178999999996},null,null,null,{"$f":"IF(TRIM(T114)=\"\", \"\", IF(VLOOKUP(T114,#REF!,2,FALSE)=0,\"\",VLOOKUP(T114,#REF!,2,FALSE) ) )","v":""},{"$f":"SUM(V9,V12,V15,V18,V21,V24,V27,V30,V33,V36,V39,V42,V45,V48,V51,V54,V57,V60,V63,V66,V69,V72,V75,V78,V81,V84,V87,V96,V105)","v":11655.045},null,null,null,{"$f":"IF(TRIM(Y114)=\"\", \"\", IF(VLOOKUP(Y114,#REF!,2,FALSE)=0,\"\",VLOOKUP(Y114,#REF!,2,FALSE) ) )","v":""},{"$f":"SUM(AA9,AA12,AA15,AA18,AA21,AA24,AA27,AA30,AA33,AA36,AA39,AA42,AA45,AA48,AA51,AA54,AA57,AA60,AA63,AA66,AA69,AA72,AA75,AA78,AA81,AA84,AA87,AA96,AA105)","v":55783.819000000003},null,null,null,{"$f":"IF(TRIM(AD114)=\"\", \"\", IF(VLOOKUP(AD114,#REF!,2,FALSE)=0,\"\",VLOOKUP(AD114,#REF!,2,FALSE) ) )","v":""},{"$f":"SUM(AF9,AF12,AF15,AF18,AF21,AF24,AF27,AF30,AF33,AF36,AF39,AF42,AF45,AF48,AF51,AF54,AF57,AF60,AF63,AF66,AF69,AF72,AF75,AF78,AF81,AF84,AF87,AF96,AF105)","v":73824.062999999995},null,null,null,{"$f":"IF(TRIM(AI114)=\"\", \"\", IF(VLOOKUP(AI114,#REF!,2,FALSE)=0,\"\",VLOOKUP(AI114,#REF!,2,FALSE) ) )","v":""},{"$f":"SUM(AK9,AK12,AK15,AK18,AK21,AK24,AK27,AK30,AK33,AK36,AK39,AK42,AK45,AK48,AK51,AK54,AK57,AK60,AK63,AK66,AK69,AK72,AK75,AK78,AK81,AK84,AK87,AK96,AK105)","v":4953.9319999999998},null,null,null,{"$f":"IF(TRIM(AN114)=\"\", \"\", IF(VLOOKUP(AN114,#REF!,2,FALSE)=0,\"\",VLOOKUP(AN114,#REF!,2,FALSE) ) )","v":""},{"$f":"SUM(AP9,AP12,AP15,AP18,AP21,AP24,AP27,AP30,AP33,AP36,AP39,AP42,AP45,AP48,AP51,AP54,AP57,AP60,AP63,AP66,AP69,AP72,AP75,AP78,AP81,AP84,AP87,AP96,AP105)","v":21990.776000000002},null,null,null,{"$f":"IF(TRIM(AS114)=\"\", \"\", IF(VLOOKUP(AS114,#REF!,2,FALSE)=0,\"\",VLOOKUP(AS114,#REF!,2,FALSE) ) )","v":""},{"$f":"SUM(AU9,AU12,AU15,AU18,AU21,AU24,AU27,AU30,AU33,AU36,AU39,AU42,AU45,AU48,AU51,AU54,AU57,AU60,AU63,AU66,AU69,AU72,AU75,AU78,AU81,AU84,AU87,AU96,AU105)","v":26830.741999999998},null,null,null,{"$f":"IF(TRIM(AX114)=\"\", \"\", IF(VLOOKUP(AX114,#REF!,2,FALSE)=0,\"\",VLOOKUP(AX114,#REF!,2,FALSE) ) )","v":""},{"$f":"SUM(AZ9,AZ12,AZ15,AZ18,AZ21,AZ24,AZ27,AZ30,AZ33,AZ36,AZ39,AZ42,AZ45,AZ48,AZ51,AZ54,AZ57,AZ60,AZ63,AZ66,AZ69,AZ72,AZ75,AZ78,AZ81,AZ84,AZ87,AZ96,AZ105)","v":83218.846999999994},null,null,null,{"$f":"IF(TRIM(BC114)=\"\", \"\", IF(VLOOKUP(BC114,#REF!,2,FALSE)=0,\"\",VLOOKUP(BC114,#REF!,2,FALSE) ) )","v":""},{"$f":"SUM(BE9,BE12,BE15,BE18,BE21,BE24,BE27,BE30,BE33,BE36,BE39,BE42,BE45,BE48,BE51,BE54,BE57,BE60,BE63,BE66,BE69,BE72,BE75,BE78,BE81,BE84,BE87,BE96,BE105)","v":39700.129000000001},null,null,null,{"$f":"IF(TRIM(BH114)=\"\", \"\", IF(VLOOKUP(BH114,#REF!,2,FALSE)=0,\"\",VLOOKUP(BH114,#REF!,2,FALSE) ) )","v":""},{"$f":"SUM(BJ9,BJ12,BJ15,BJ18,BJ21,BJ24,BJ27,BJ30,BJ33,BJ36,BJ39,BJ42,BJ45,BJ48,BJ51,BJ54,BJ57,BJ60,BJ63,BJ66,BJ69,BJ72,BJ75,BJ78,BJ81,BJ84,BJ87,BJ96,BJ105)","v":20915.763999999999},null,null,null,{"$f":"IF(TRIM(BM114)=\"\", \"\", IF(VLOOKUP(BM114,#REF!,2,FALSE)=0,\"\",VLOOKUP(BM114,#REF!,2,FALSE) ) )","v":""},{"$f":"SUM(BO9,BO12,BO15,BO18,BO21,BO24,BO27,BO30,BO33,BO36,BO39,BO42,BO45,BO48,BO51,BO54,BO57,BO60,BO63,BO66,BO69,BO72,BO75,BO78,BO81,BO84,BO87,BO96,BO105)","v":397282.29599999997},null,null,null,{"$f":"IF(TRIM(BR114)=\"\", \"\", IF(VLOOKUP(BR114,#REF!,2,FALSE)=0,\"\",VLOOKUP(BR114,#REF!,2,FALSE) ) )","v":""},{"$f":"SUM(BT9,BT12,BT15,BT18,BT21,BT24,BT27,BT30,BT33,BT36,BT39,BT42,BT45,BT48,BT51,BT54,BT57,BT60,BT63,BT66,BT69,BT72,BT75,BT78,BT81,BT84,BT87,BT96,BT105)","v":67025.767999999996},null,null,null,{"$f":"IF(TRIM(BW114)=\"\", \"\", IF(VLOOKUP(BW114,#REF!,2,FALSE)=0,\"\",VLOOKUP(BW114,#REF!,2,FALSE) ) )","v":""},{"$f":"SUM(BY9,BY12,BY15,BY18,BY21,BY24,BY27,BY30,BY33,BY36,BY39,BY42,BY45,BY48,BY51,BY54,BY57,BY60,BY63,BY66,BY69,BY72,BY75,BY78,BY81,BY84,BY87,BY96,BY105)","v":29913.643},null,null,null,{"$f":"IF(TRIM(CB114)=\"\", \"\", IF(VLOOKUP(CB114,#REF!,2,FALSE)=0,\"\",VLOOKUP(CB114,#REF!,2,FALSE) ) )","v":""},{"$f":"SUM(CD9,CD12,CD15,CD18,CD21,CD24,CD27,CD30,CD33,CD36,CD39,CD42,CD45,CD48,CD51,CD54,CD57,CD60,CD63,CD66,CD69,CD72,CD75,CD78,CD81,CD84,CD87,CD96,CD105)","v":935762.67},null,null,null,{"$f":"IF(TRIM(CG114)=\"\", \"\", IF(VLOOKUP(CG114,#REF!,2,FALSE)=0,\"\",VLOOKUP(CG114,#REF!,2,FALSE) ) )","v":""},{"$f":"SUM(CI9,CI12,CI15,CI18,CI21,CI24,CI27,CI30,CI33,CI36,CI39,CI42,CI45,CI48,CI51,CI54,CI57,CI60,CI63,CI66,CI69,CI72,CI75,CI78,CI81,CI84,CI87,CI96,CI105)","v":965676.31299999997},null,null,null,{"$f":"IF(TRIM(CL114)=\"\", \"\", IF(VLOOKUP(CL114,#REF!,2,FALSE)=0,\"\",VLOOKUP(CL114,#REF!,2,FALSE) ) )","v":""},{"$f":"SUM(CN9,CN12,CN15,CN18,CN21,CN24,CN27,CN30,CN33,CN36,CN39,CN42,CN45,CN48,CN51,CN54,CN57,CN60,CN63,CN66,CN69,CN72,CN75,CN78,CN81,CN84,CN87,CN96,CN105)","v":278145.15299999999},null,null,null,{"$f":"IF(TRIM(CQ114)=\"\", \"\", IF(VLOOKUP(CQ114,#REF!,2,FALSE)=0,\"\",VLOOKUP(CQ114,#REF!,2,FALSE) ) )","v":""},{"$f":"SUM(CS9,CS12,CS15,CS18,CS21,CS24,CS27,CS30,CS33,CS36,CS39,CS42,CS45,CS48,CS51,CS54,CS57,CS60,CS63,CS66,CS69,CS72,CS75,CS78,CS81,CS84,CS87,CS96,CS105)","v":517895.48499999999},null,null,null,{"$f":"IF(TRIM(CV114)=\"\", \"\", IF(VLOOKUP(CV114,#REF!,2,FALSE)=0,\"\",VLOOKUP(CV114,#REF!,2,FALSE) ) )","v":""},{"$f":"SUM(CX9,CX12,CX15,CX18,CX21,CX24,CX27,CX30,CX33,CX36,CX39,CX42,CX45,CX48,CX51,CX54,CX57,CX60,CX63,CX66,CX69,CX72,CX75,CX78,CX81,CX84,CX87,CX96,CX105)","v":48240.256999999998},null,null,null,{"$f":"IF(TRIM(DA114)=\"\", \"\", IF(VLOOKUP(DA114,#REF!,2,FALSE)=0,\"\",VLOOKUP(DA114,#REF!,2,FALSE) ) )","v":""},{"$f":"SUM(DC9,DC12,DC15,DC18,DC21,DC24,DC27,DC30,DC33,DC36,DC39,DC42,DC45,DC48,DC51,DC54,DC57,DC60,DC63,DC66,DC69,DC72,DC75,DC78,DC81,DC84,DC87,DC96,DC105)","v":1136297.23},null,null,null,{"$f":"IF(TRIM(DF114)=\"\", \"\", IF(VLOOKUP(DF114,#REF!,2,FALSE)=0,\"\",VLOOKUP(DF114,#REF!,2,FALSE) ) )","v":""},{"$f":"SUM(DH9,DH12,DH15,DH18,DH21,DH24,DH27,DH30,DH33,DH36,DH39,DH42,DH45,DH48,DH51,DH54,DH57,DH60,DH63,DH66,DH69,DH72,DH75,DH78,DH81,DH84,DH87,DH96,DH105)","v":3979857.912},null,null,null,{"$f":"IF(TRIM(DK114)=\"\", \"\", IF(VLOOKUP(DK114,#REF!,2,FALSE)=0,\"\",VLOOKUP(DK114,#REF!,2,FALSE) ) )","v":""}]
[null,null,"TOT_X_MIN",null,"HAZ_NHAZ","Total",565239.61499999999,null,null,null,{"$f":"IF(TRIM(J115)=\"\", \"\", IF(VLOOKUP(J115,#REF!,2,FALSE)=0,\"\",VLOOKUP(J115,#REF!,2,FALSE) ) )","v":""},8375.1059999999998,null,null,null,{"$f":"IF(TRIM(O115)=\"\", \"\", IF(VLOOKUP(O115,#REF!,2,FALSE)=0,\"\",VLOOKUP(O115,#REF!,2,FALSE) ) )","v":""},59339.114000000001,null,null,null,{"$f":"IF(TRIM(T115)=\"\", \"\", IF(VLOOKUP(T115,#REF!,2,FALSE)=0,\"\",VLOOKUP(T115,#REF!,2,FALSE) ) )","v":""},12028.259,null,null,null,{"$f":"IF(TRIM(Y115)=\"\", \"\", IF(VLOOKUP(Y115,#REF!,2,FALSE)=0,\"\",VLOOKUP(Y115,#REF!,2,FALSE) ) )","v":""},55949.961000000003,null,null,null,{"$f":"IF(TRIM(AD115)=\"\", \"\", IF(VLOOKUP(AD115,#REF!,2,FALSE)=0,\"\",VLOOKUP(AD115,#REF!,2,FALSE) ) )","v":""},74893.021999999997,null,null,null,{"$f":"IF(TRIM(AI115)=\"\", \"\", IF(VLOOKUP(AI115,#REF!,2,FALSE)=0,\"\",VLOOKUP(AI115,#REF!,2,FALSE) ) )","v":""},6943.0330000000004,null,null,null,{"$f":"IF(TRIM(AN115)=\"\", \"\", IF(VLOOKUP(AN115,#REF!,2,FALSE)=0,\"\",VLOOKUP(AN115,#REF!,2,FALSE) ) )","v":""},25341.004000000001,null,null,null,{"$f":"IF(TRIM(AS115)=\"\", \"\", IF(VLOOKUP(AS115,#REF!,2,FALSE)=0,\"\",VLOOKUP(AS115,#REF!,2,FALSE) ) )","v":""},27445.161,null,null,null,{"$f":"IF(TRIM(AX115)=\"\", \"\", IF(VLOOKUP(AX115,#REF!,2,FALSE)=0,\"\",VLOOKUP(AX115,#REF!,2,FALSE) ) )","v":""},107135.58199999999,null,null,null,{"$f":"IF(TRIM(BC115)=\"\", \"\", IF(VLOOKUP(BC115,#REF!,2,FALSE)=0,\"\",VLOOKUP(BC115,#REF!,2,FALSE) ) )","v":""},45254.271000000001,null,null,null,{"$f":"IF(TRIM(BH115)=\"\", \"\", IF(VLOOKUP(BH115,#REF!,2,FALSE)=0,\"\",VLOOKUP(BH115,#REF!,2,FALSE) ) )","v":""},22473.705999999998,null,null,null,{"$f":"IF(TRIM(BM115)=\"\", \"\", IF(VLOOKUP(BM115,#REF!,2,FALSE)=0,\"\",VLOOKUP(BM115,#REF!,2,FALSE) ) )","v":""},436803.11300000001,null,null,null,{"$f":"IF(TRIM(BR115)=\"\", \"\", IF(VLOOKUP(BR115,#REF!,2,FALSE)=0,\"\",VLOOKUP(BR115,#REF!,2,FALSE) ) )","v":""},68398.206000000006,null,null,null,{"$f":"IF(TRIM(BW115)=\"\", \"\", IF(VLOOKUP(BW115,#REF!,2,FALSE)=0,\"\",VLOOKUP(BW115,#REF!,2,FALSE) ) )","v":""},30603.420999999998,null,null,null,{"$f":"IF(TRIM(CB115)=\"\", \"\", IF(VLOOKUP(CB115,#REF!,2,FALSE)=0,\"\",VLOOKUP(CB115,#REF!,2,FALSE) ) )","v":""},941942.196,null,null,null,{"$f":"IF(TRIM(CG115)=\"\", \"\", IF(VLOOKUP(CG115,#REF!,2,FALSE)=0,\"\",VLOOKUP(CG115,#REF!,2,FALSE) ) )","v":""},972545.61699999997,null,null,null,{"$f":"IF(TRIM(CL115)=\"\", \"\", IF(VLOOKUP(CL115,#REF!,2,FALSE)=0,\"\",VLOOKUP(CL115,#REF!,2,FALSE) ) )","v":""},280949.93800000002,null,null,null,{"$f":"IF(TRIM(CQ115)=\"\", \"\", IF(VLOOKUP(CQ115,#REF!,2,FALSE)=0,\"\",VLOOKUP(CQ115,#REF!,2,FALSE) ) )","v":""},553886.74399999995,null,null,null,{"$f":"IF(TRIM(CV115)=\"\", \"\", IF(VLOOKUP(CV115,#REF!,2,FALSE)=0,\"\",VLOOKUP(CV115,#REF!,2,FALSE) ) )","v":""},48254.756000000001,null,null,null,{"$f":"IF(TRIM(DA115)=\"\", \"\", IF(VLOOKUP(DA115,#REF!,2,FALSE)=0,\"\",VLOOKUP(DA115,#REF!,2,FALSE) ) )","v":""},1211980.3400000001,null,null,null,{"$f":"IF(TRIM(DF115)=\"\", \"\", IF(VLOOKUP(DF115,#REF!,2,FALSE)=0,\"\",VLOOKUP(DF115,#REF!,2,FALSE) ) )","v":""},4146433.4350000001,null,null,null,{"$f":"IF(TRIM(DK115)=\"\", \"\", IF(VLOOKUP(DK115,#REF!,2,FALSE)=0,\"\",VLOOKUP(DK115,#REF!,2,FALSE) ) )","v":""}]
[null,"TOTAL","TOTAL","Total Waste ","HAZ","Hazardous ",{"$f":"SUM(G8,G11,G14,G17,G20,G23,G26,G29,G32,G35,G38,G41,G44,G47,G50,G53,G56,G59,G62,G65,G68,G71,G74,G77,G80,G83,G86,G89,G92,G95,G98,G101,G104)","v":943.83299999999997},null,null,null,{"$f":"IF(TRIM(J116)=\"\", \"\", IF(VLOOKUP(J116,#REF!,2,FALSE)=0,\"\",VLOOKUP(J116,#REF!,2,FALSE) ) )","v":""},{"$f":"SUM(L8,L11,L14,L17,L20,L23,L26,L29,L32,L35,L38,L41,L44,L47,L50,L53,L56,L59,L62,L65,L68,L71,L74,L77,L80,L83,L86,L89,L92,L95,L98,L101,L104)","v":6531.2380000000003},null,null,null,{"$f":"IF(TRIM(O116)=\"\", \"\", IF(VLOOKUP(O116,#REF!,2,FALSE)=0,\"\",VLOOKUP(O116,#REF!,2,FALSE) ) )","v":""},{"$f":"SUM(Q8,Q11,Q14,Q17,Q20,Q23,Q26,Q29,Q32,Q35,Q38,Q41,Q44,Q47,Q50,Q53,Q56,Q59,Q62,Q65,Q68,Q71,Q74,Q77,Q80,Q83,Q86,Q89,Q92,Q95,Q98,Q101,Q104)","v":931.06899999999996},null,null,null,{"$f":"IF(TRIM(T116)=\"\", \"\", IF(VLOOKUP(T116,#REF!,2,FALSE)=0,\"\",VLOOKUP(T116,#REF!,2,FALSE) ) )","v":""},{"$f":"SUM(V8,V11,V14,V17,V20,V23,V26,V29,V32,V35,V38,V41,V44,V47,V50,V53,V56,V59,V62,V65,V68,V71,V74,V77,V80,V83,V86,V89,V92,V95,V98,V101,V104)","v":373.41399999999999},null,null,null,{"$f":"IF(TRIM(Y116)=\"\", \"\", IF(VLOOKUP(Y116,#REF!,2,FALSE)=0,\"\",VLOOKUP(Y116,#REF!,2,FALSE) ) )","v":""},{"$f":"SUM(AA8,AA11,AA14,AA17,AA20,AA23,AA26,AA29,AA32,AA35,AA38,AA41,AA44,AA47,AA50,AA53,AA56,AA59,AA62,AA65,AA68,AA71,AA74,AA77,AA80,AA83,AA86,AA89,AA92,AA95,AA98,AA101,AA104)","v":169.536},null,null,null,{"$f":"IF(TRIM(AD116)=\"\", \"\", IF(VLOOKUP(AD116,#REF!,2,FALSE)=0,\"\",VLOOKUP(AD116,#REF!,2,FALSE) ) )","v":""},{"$f":"SUM(AF8,AF11,AF14,AF17,AF20,AF23,AF26,AF29,AF32,AF35,AF38,AF41,AF44,AF47,AF50,AF53,AF56,AF59,AF62,AF65,AF68,AF71,AF74,AF77,AF80,AF83,AF86,AF89,AF92,AF95,AF98,AF101,AF104)","v":1069.0429999999999},null,null,null,{"$f":"IF(TRIM(AI116)=\"\", \"\", IF(VLOOKUP(AI116,#REF!,2,FALSE)=0,\"\",VLOOKUP(AI116,#REF!,2,FALSE) ) )","v":""},{"$f":"SUM(AK8,AK11,AK14,AK17,AK20,AK23,AK26,AK29,AK32,AK35,AK38,AK41,AK44,AK47,AK50,AK53,AK56,AK59,AK62,AK65,AK68,AK71,AK74,AK77,AK80,AK83,AK86,AK89,AK92,AK95,AK98,AK101,AK104)","v":1989.481},null,null,null,{"$f":"IF(TRIM(AN116)=\"\", \"\", IF(VLOOKUP(AN116,#REF!,2,FALSE)=0,\"\",VLOOKUP(AN116,#REF!,2,FALSE) ) )","v":""},{"$f":"SUM(AP8,AP11,AP14,AP17,AP20,AP23,AP26,AP29,AP32,AP35,AP38,AP41,AP44,AP47,AP50,AP53,AP56,AP59,AP62,AP65,AP68,AP71,AP74,AP77,AP80,AP83,AP86,AP89,AP92,AP95,AP98,AP101,AP104)","v":3357.2510000000002},null,null,null,{"$f":"IF(TRIM(AS116)=\"\", \"\", IF(VLOOKUP(AS116,#REF!,2,FALSE)=0,\"\",VLOOKUP(AS116,#REF!,2,FALSE) ) )","v":""},{"$f":"SUM(AU8,AU11,AU14,AU17,AU20,AU23,AU26,AU29,AU32,AU35,AU38,AU41,AU44,AU47,AU50,AU53,AU56,AU59,AU62,AU65,AU68,AU71,AU74,AU77,AU80,AU83,AU86,AU89,AU92,AU95,AU98,AU101,AU104)","v":625.04600000000005},null,null,null,{"$f":"IF(TRIM(AX116)=\"\", \"\", IF(VLOOKUP(AX116,#REF!,2,FALSE)=0,\"\",VLOOKUP(AX116,#REF!,2,FALSE) ) )","v":""},{"$f":"SUM(AZ8,AZ11,AZ14,AZ17,AZ20,AZ23,AZ26,AZ29,AZ32,AZ35,AZ38,AZ41,AZ44,AZ47,AZ50,AZ53,AZ56,AZ59,AZ62,AZ65,AZ68,AZ71,AZ74,AZ77,AZ80,AZ83,AZ86,AZ89,AZ92,AZ95,AZ98,AZ101,AZ104)","v":23964.261999999999},null,null,null,{"$f":"IF(TRIM(BC116)=\"\", \"\", IF(VLOOKUP(BC116,#REF!,2,FALSE)=0,\"\",VLOOKUP(BC116,#REF!,2,FALSE) ) )","v":""},{"$f":"SUM(BE8,BE11,BE14,BE17,BE20,BE23,BE26,BE29,BE32,BE35,BE38,BE41,BE44,BE47,BE50,BE53,BE56,BE59,BE62,BE65,BE68,BE71,BE74,BE77,BE80,BE83,BE86,BE89,BE92,BE95,BE98,BE101,BE104)","v":5633.2460000000001},null,null,null,{"$f":"IF(TRIM(BH116)=\"\", \"\", IF(VLOOKUP(BH116,#REF!,2,FALSE)=0,\"\",VLOOKUP(BH116,#REF!,2,FALSE) ) )","v":""},{"$f":"SUM(BJ8,BJ11,BJ14,BJ17,BJ20,BJ23,BJ26,BJ29,BJ32,BJ35,BJ38,BJ41,BJ44,BJ47,BJ50,BJ53,BJ56,BJ59,BJ62,BJ65,BJ68,BJ71,BJ74,BJ77,BJ80,BJ83,BJ86,BJ89,BJ92,BJ95,BJ98,BJ101,BJ104)","v":1567.7550000000001},null,null,null,{"$f":"IF(TRIM(BM116)=\"\", \"\", IF(VLOOKUP(BM116,#REF!,2,FALSE)=0,\"\",VLOOKUP(BM116,#REF!,2,FALSE) ) )","v":""},{"$f":"SUM(BO8,BO11,BO14,BO17,BO20,BO23,BO26,BO29,BO32,BO35,BO38,BO41,BO44,BO47,BO50,BO53,BO56,BO59,BO62,BO65,BO68,BO71,BO74,BO77,BO80,BO83,BO86,BO89,BO92,BO95,BO98,BO101,BO104)","v":39680.103000000003},null,null,null,{"$f":"IF(TRIM(BR116)=\"\", \"\", IF(VLOOKUP(BR116,#REF!,2,FALSE)=0,\"\",VLOOKUP(BR116,#REF!,2,FALSE) ) )","v":""},{"$f":"SUM(BT8,BT11,BT14,BT17,BT20,BT23,BT26,BT29,BT32,BT35,BT38,BT41,BT44,BT47,BT50,BT53,BT56,BT59,BT62,BT65,BT68,BT71,BT74,BT77,BT80,BT83,BT86,BT89,BT92,BT95,BT98,BT101,BT104)","v":1372.4570000000001},null,null,null,{"$f":"IF(TRIM(BW116)=\"\", \"\", IF(VLOOKUP(BW116,#REF!,2,FALSE)=0,\"\",VLOOKUP(BW116,#REF!,2,FALSE) ) )","v":""},{"$f":"SUM(BY8,BY11,BY14,BY17,BY20,BY23,BY26,BY29,BY32,BY35,BY38,BY41,BY44,BY47,BY50,BY53,BY56,BY59,BY62,BY65,BY68,BY71,BY74,BY77,BY80,BY83,BY86,BY89,BY92,BY95,BY98,BY101,BY104)","v":689.77800000000002},null,null,null,{"$f":"IF(TRIM(CB116)=\"\", \"\", IF(VLOOKUP(CB116,#REF!,2,FALSE)=0,\"\",VLOOKUP(CB116,#REF!,2,FALSE) ) )","v":""},{"$f":"SUM(CD8,CD11,CD14,CD17,CD20,CD23,CD26,CD29,CD32,CD35,CD38,CD41,CD44,CD47,CD50,CD53,CD56,CD59,CD62,CD65,CD68,CD71,CD74,CD77,CD80,CD83,CD86,CD89,CD92,CD95,CD98,CD101,CD104)","v":6183.2659999999996},null,null,null,{"$f":"IF(TRIM(CG116)=\"\", \"\", IF(VLOOKUP(CG116,#REF!,2,FALSE)=0,\"\",VLOOKUP(CG116,#REF!,2,FALSE) ) )","v":""},{"$f":"SUM(CI8,CI11,CI14,CI17,CI20,CI23,CI26,CI29,CI32,CI35,CI38,CI41,CI44,CI47,CI50,CI53,CI56,CI59,CI62,CI65,CI68,CI71,CI74,CI77,CI80,CI83,CI86,CI89,CI92,CI95,CI98,CI101,CI104)","v":6873.0439999999999},null,null,null,{"$f":"IF(TRIM(CL116)=\"\", \"\", IF(VLOOKUP(CL116,#REF!,2,FALSE)=0,\"\",VLOOKUP(CL116,#REF!,2,FALSE) ) )","v":""},{"$f":"SUM(CN8,CN11,CN14,CN17,CN20,CN23,CN26,CN29,CN32,CN35,CN38,CN41,CN44,CN47,CN50,CN53,CN56,CN59,CN62,CN65,CN68,CN71,CN74,CN77,CN80,CN83,CN86,CN89,CN92,CN95,CN98,CN101,CN104)","v":19839.105},null,null,null,{"$f":"IF(TRIM(CQ116)=\"\", \"\", IF(VLOOKUP(CQ116,#REF!,2,FALSE)=0,\"\",VLOOKUP(CQ116,#REF!,2,FALSE) ) )","v":""},{"$f":"SUM(CS8,CS11,CS14,CS17,CS20,CS23,CS26,CS29,CS32,CS35,CS38,CS41,CS44,CS47,CS50,CS53,CS56,CS59,CS62,CS65,CS68,CS71,CS74,CS77,CS80,CS83,CS86,CS89,CS92,CS95,CS98,CS101,CS104)","v":36007.976000000002},null,null,null,{"$f":"IF(TRIM(CV116)=\"\", \"\", IF(VLOOKUP(CV116,#REF!,2,FALSE)=0,\"\",VLOOKUP(CV116,#REF!,2,FALSE) ) )","v":""},{"$f":"SUM(CX8,CX11,CX14,CX17,CX20,CX23,CX26,CX29,CX32,CX35,CX38,CX41,CX44,CX47,CX50,CX53,CX56,CX59,CX62,CX65,CX68,CX71,CX74,CX77,CX80,CX83,CX86,CX89,CX92,CX95,CX98,CX101,CX104)","v":14.499000000000001},null,null,null,{"$f":"IF(TRIM(DA116)=\"\", \"\", IF(VLOOKUP(DA116,#REF!,2,FALSE)=0,\"\",VLOOKUP(DA116,#REF!,2,FALSE) ) )","v":""},{"$f":"SUM(DC8,DC11,DC14,DC17,DC20,DC23,DC26,DC29,DC32,DC35,DC38,DC41,DC44,DC47,DC50,DC53,DC56,DC59,DC62,DC65,DC68,DC71,DC74,DC77,DC80,DC83,DC86,DC89,DC92,DC95,DC98,DC101,DC104)","v":75693.831000000006},null,null,null,{"$f":"IF(TRIM(DF116)=\"\", \"\", IF(VLOOKUP(DF116,#REF!,2,FALSE)=0,\"\",VLOOKUP(DF116,#REF!,2,FALSE) ) )","v":""},{"$f":"SUM(DH8,DH11,DH14,DH17,DH20,DH23,DH26,DH29,DH32,DH35,DH38,DH41,DH44,DH47,DH50,DH53,DH56,DH59,DH62,DH65,DH68,DH71,DH74,DH77,DH80,DH83,DH86,DH89,DH92,DH95,DH98,DH101,DH104)","v":186956.08600000001},null,null,null,{"$f":"IF(TRIM(DK116)=\"\", \"\", IF(VLOOKUP(DK116,#REF!,2,FALSE)=0,\"\",VLOOKUP(DK116,#REF!,2,FALSE) ) )","v":""}]
[null,null,"TOTAL",null,"NHAZ","Non-hazardous",{"$f":"SUM(G9,G12,G15,G18,G21,G24,G27,G30,G33,G36,G39,G42,G45,G48,G51,G54,G57,G60,G63,G66,G69,G72,G75,G78,G81,G84,G87,G90,G93,G96,G99,G102,G105)","v":564356.54700000002},null,null,null,{"$f":"IF(TRIM(J117)=\"\", \"\", IF(VLOOKUP(J117,#REF!,2,FALSE)=0,\"\",VLOOKUP(J117,#REF!,2,FALSE) ) )","v":""},{"$f":"SUM(L9,L12,L15,L18,L21,L24,L27,L30,L33,L36,L39,L42,L45,L48,L51,L54,L57,L60,L63,L66,L69,L72,L75,L78,L81,L84,L87,L90,L93,L96,L99,L102,L105)","v":686986.00300000003},null,null,null,{"$f":"IF(TRIM(O117)=\"\", \"\", IF(VLOOKUP(O117,#REF!,2,FALSE)=0,\"\",VLOOKUP(O117,#REF!,2,FALSE) ) )","v":""},{"$f":"SUM(Q9,Q12,Q15,Q18,Q21,Q24,Q27,Q30,Q33,Q36,Q39,Q42,Q45,Q48,Q51,Q54,Q57,Q60,Q63,Q66,Q69,Q72,Q75,Q78,Q81,Q84,Q87,Q90,Q93,Q96,Q99,Q102,Q105)","v":58418.034},null,null,null,{"$f":"IF(TRIM(T117)=\"\", \"\", IF(VLOOKUP(T117,#REF!,2,FALSE)=0,\"\",VLOOKUP(T117,#REF!,2,FALSE) ) )","v":""},{"$f":"SUM(V9,V12,V15,V18,V21,V24,V27,V30,V33,V36,V39,V42,V45,V48,V51,V54,V57,V60,V63,V66,V69,V72,V75,V78,V81,V84,V87,V90,V93,V96,V99,V102,V105)","v":11655.045},null,null,null,{"$f":"IF(TRIM(Y117)=\"\", \"\", IF(VLOOKUP(Y117,#REF!,2,FALSE)=0,\"\",VLOOKUP(Y117,#REF!,2,FALSE) ) )","v":""},{"$f":"SUM(AA9,AA12,AA15,AA18,AA21,AA24,AA27,AA30,AA33,AA36,AA39,AA42,AA45,AA48,AA51,AA54,AA57,AA60,AA63,AA66,AA69,AA72,AA75,AA78,AA81,AA84,AA87,AA90,AA93,AA96,AA99,AA102,AA105)","v":55783.819000000003},null,null,null,{"$f":"IF(TRIM(AD117)=\"\", \"\", IF(VLOOKUP(AD117,#REF!,2,FALSE)=0,\"\",VLOOKUP(AD117,#REF!,2,FALSE) ) )","v":""},{"$f":"SUM(AF9,AF12,AF15,AF18,AF21,AF24,AF27,AF30,AF33,AF36,AF39,AF42,AF45,AF48,AF51,AF54,AF57,AF60,AF63,AF66,AF69,AF72,AF75,AF78,AF81,AF84,AF87,AF90,AF93,AF96,AF99,AF102,AF105)","v":73824.062999999995},null,null,null,{"$f":"IF(TRIM(AI117)=\"\", \"\", IF(VLOOKUP(AI117,#REF!,2,FALSE)=0,\"\",VLOOKUP(AI117,#REF!,2,FALSE) ) )","v":""},{"$f":"SUM(AK9,AK12,AK15,AK18,AK21,AK24,AK27,AK30,AK33,AK36,AK39,AK42,AK45,AK48,AK51,AK54,AK57,AK60,AK63,AK66,AK69,AK72,AK75,AK78,AK81,AK84,AK87,AK90,AK93,AK96,AK99,AK102,AK105)","v":5032.8720000000003},null,null,null,{"$f":"IF(TRIM(AN117)=\"\", \"\", IF(VLOOKUP(AN117,#REF!,2,FALSE)=0,\"\",VLOOKUP(AN117,#REF!,2,FALSE) ) )","v":""},{"$f":"SUM(AP9,AP12,AP15,AP18,AP21,AP24,AP27,AP30,AP33,AP36,AP39,AP42,AP45,AP48,AP51,AP54,AP57,AP60,AP63,AP66,AP69,AP72,AP75,AP78,AP81,AP84,AP87,AP90,AP93,AP96,AP99,AP102,AP105)","v":22190.424999999999},null,null,null,{"$f":"IF(TRIM(AS117)=\"\", \"\", IF(VLOOKUP(AS117,#REF!,2,FALSE)=0,\"\",VLOOKUP(AS117,#REF!,2,FALSE) ) )","v":""},{"$f":"SUM(AU9,AU12,AU15,AU18,AU21,AU24,AU27,AU30,AU33,AU36,AU39,AU42,AU45,AU48,AU51,AU54,AU57,AU60,AU63,AU66,AU69,AU72,AU75,AU78,AU81,AU84,AU87,AU90,AU93,AU96,AU99,AU102,AU105)","v":27196.256000000001},null,null,null,{"$f":"IF(TRIM(AX117)=\"\", \"\", IF(VLOOKUP(AX117,#REF!,2,FALSE)=0,\"\",VLOOKUP(AX117,#REF!,2,FALSE) ) )","v":""},{"$f":"SUM(AZ9,AZ12,AZ15,AZ18,AZ21,AZ24,AZ27,AZ30,AZ33,AZ36,AZ39,AZ42,AZ45,AZ48,AZ51,AZ54,AZ57,AZ60,AZ63,AZ66,AZ69,AZ72,AZ75,AZ78,AZ81,AZ84,AZ87,AZ90,AZ93,AZ96,AZ99,AZ102,AZ105)","v":91607.260999999999},null,null,null,{"$f":"IF(TRIM(BC117)=\"\", \"\", IF(VLOOKUP(BC117,#REF!,2,FALSE)=0,\"\",VLOOKUP(BC117,#REF!,2,FALSE) ) )","v":""},{"$f":"SUM(BE9,BE12,BE15,BE18,BE21,BE24,BE27,BE30,BE33,BE36,BE39,BE42,BE45,BE48,BE51,BE54,BE57,BE60,BE63,BE66,BE69,BE72,BE75,BE78,BE81,BE84,BE87,BE90,BE93,BE96,BE99,BE102,BE105)","v":43307.048999999999},null,null,null,{"$f":"IF(TRIM(BH117)=\"\", \"\", IF(VLOOKUP(BH117,#REF!,2,FALSE)=0,\"\",VLOOKUP(BH117,#REF!,2,FALSE) ) )","v":""},{"$f":"SUM(BJ9,BJ12,BJ15,BJ18,BJ21,BJ24,BJ27,BJ30,BJ33,BJ36,BJ39,BJ42,BJ45,BJ48,BJ51,BJ54,BJ57,BJ60,BJ63,BJ66,BJ69,BJ72,BJ75,BJ78,BJ81,BJ84,BJ87,BJ90,BJ93,BJ96,BJ99,BJ102,BJ105)","v":20980.44},null,null,null,{"$f":"IF(TRIM(BM117)=\"\", \"\", IF(VLOOKUP(BM117,#REF!,2,FALSE)=0,\"\",VLOOKUP(BM117,#REF!,2,FALSE) ) )","v":""},{"$f":"SUM(BO9,BO12,BO15,BO18,BO21,BO24,BO27,BO30,BO33,BO36,BO39,BO42,BO45,BO48,BO51,BO54,BO57,BO60,BO63,BO66,BO69,BO72,BO75,BO78,BO81,BO84,BO87,BO90,BO93,BO96,BO99,BO102,BO105)","v":409995.26400000002},null,null,null,{"$f":"IF(TRIM(BR117)=\"\", \"\", IF(VLOOKUP(BR117,#REF!,2,FALSE)=0,\"\",VLOOKUP(BR117,#REF!,2,FALSE) ) )","v":""},{"$f":"SUM(BT9,BT12,BT15,BT18,BT21,BT24,BT27,BT30,BT33,BT36,BT39,BT42,BT45,BT48,BT51,BT54,BT57,BT60,BT63,BT66,BT69,BT72,BT75,BT78,BT81,BT84,BT87,BT90,BT93,BT96,BT99,BT102,BT105)","v":67027.767999999996},null,null,null,{"$f":"IF(TRIM(BW117)=\"\", \"\", IF(VLOOKUP(BW117,#REF!,2,FALSE)=0,\"\",VLOOKUP(BW117,#REF!,2,FALSE) ) )","v":""},{"$f":"SUM(BY9,BY12,BY15,BY18,BY21,BY24,BY27,BY30,BY33,BY36,BY39,BY42,BY45,BY48,BY51,BY54,BY57,BY60,BY63,BY66,BY69,BY72,BY75,BY78,BY81,BY84,BY87,BY90,BY93,BY96,BY99,BY102,BY105)","v":32155.51},null,null,null,{"$f":"IF(TRIM(CB117)=\"\", \"\", IF(VLOOKUP(CB117,#REF!,2,FALSE)=0,\"\",VLOOKUP(CB117,#REF!,2,FALSE) ) )","v":""},{"$f":"SUM(CD9,CD12,CD15,CD18,CD21,CD24,CD27,CD30,CD33,CD36,CD39,CD42,CD45,CD48,CD51,CD54,CD57,CD60,CD63,CD66,CD69,CD72,CD75,CD78,CD81,CD84,CD87,CD90,CD93,CD96,CD99,CD102,CD105)","v":938292.527},null,null,null,{"$f":"IF(TRIM(CG117)=\"\", \"\", IF(VLOOKUP(CG117,#REF!,2,FALSE)=0,\"\",VLOOKUP(CG117,#REF!,2,FALSE) ) )","v":""},{"$f":"SUM(CI9,CI12,CI15,CI18,CI21,CI24,CI27,CI30,CI33,CI36,CI39,CI42,CI45,CI48,CI51,CI54,CI57,CI60,CI63,CI66,CI69,CI72,CI75,CI78,CI81,CI84,CI87,CI90,CI93,CI96,CI99,CI102,CI105)","v":970448.03700000001},null,null,null,{"$f":"IF(TRIM(CL117)=\"\", \"\", IF(VLOOKUP(CL117,#REF!,2,FALSE)=0,\"\",VLOOKUP(CL117,#REF!,2,FALSE) ) )","v":""},{"$f":"SUM(CN9,CN12,CN15,CN18,CN21,CN24,CN27,CN30,CN33,CN36,CN39,CN42,CN45,CN48,CN51,CN54,CN57,CN60,CN63,CN66,CN69,CN72,CN75,CN78,CN81,CN84,CN87,CN90,CN93,CN96,CN99,CN102,CN105)","v":1411855.0830000001},null,null,null,{"$f":"IF(TRIM(CQ117)=\"\", \"\", IF(VLOOKUP(CQ117,#REF!,2,FALSE)=0,\"\",VLOOKUP(CQ117,#REF!,2,FALSE) ) )","v":""},{"$f":"SUM(CS9,CS12,CS15,CS18,CS21,CS24,CS27,CS30,CS33,CS36,CS39,CS42,CS45,CS48,CS51,CS54,CS57,CS60,CS63,CS66,CS69,CS72,CS75,CS78,CS81,CS84,CS87,CS90,CS93,CS96,CS99,CS102,CS105)","v":521521.08500000002},null,null,null,{"$f":"IF(TRIM(CV117)=\"\", \"\", IF(VLOOKUP(CV117,#REF!,2,FALSE)=0,\"\",VLOOKUP(CV117,#REF!,2,FALSE) ) )","v":""},{"$f":"SUM(CX9,CX12,CX15,CX18,CX21,CX24,CX27,CX30,CX33,CX36,CX39,CX42,CX45,CX48,CX51,CX54,CX57,CX60,CX63,CX66,CX69,CX72,CX75,CX78,CX81,CX84,CX87,CX90,CX93,CX96,CX99,CX102,CX105)","v":48240.256999999998},null,null,null,{"$f":"IF(TRIM(DA117)=\"\", \"\", IF(VLOOKUP(DA117,#REF!,2,FALSE)=0,\"\",VLOOKUP(DA117,#REF!,2,FALSE) ) )","v":""},{"$f":"SUM(DC9,DC12,DC15,DC18,DC21,DC24,DC27,DC30,DC33,DC36,DC39,DC42,DC45,DC48,DC51,DC54,DC57,DC60,DC63,DC66,DC69,DC72,DC75,DC78,DC81,DC84,DC87,DC90,DC93,DC96,DC99,DC102,DC105)","v":1136373.95},null,null,null,{"$f":"IF(TRIM(DF117)=\"\", \"\", IF(VLOOKUP(DF117,#REF!,2,FALSE)=0,\"\",VLOOKUP(DF117,#REF!,2,FALSE) ) )","v":""},{"$f":"SUM(DH9,DH12,DH15,DH18,DH21,DH24,DH27,DH30,DH33,DH36,DH39,DH42,DH45,DH48,DH51,DH54,DH57,DH60,DH63,DH66,DH69,DH72,DH75,DH78,DH81,DH84,DH87,DH90,DH93,DH96,DH99,DH102,DH105)","v":5816803.9939999999},null,null,null,{"$f":"IF(TRIM(DK117)=\"\", \"\", IF(VLOOKUP(DK117,#REF!,2,FALSE)=0,\"\",VLOOKUP(DK117,#REF!,2,FALSE) ) )","v":""}]
[null,null,"TOTAL",null,"HAZ_NHAZ","Total",565300.38,null,null,null,{"$f":"IF(TRIM(J118)=\"\", \"\", IF(VLOOKUP(J118,#REF!,2,FALSE)=0,\"\",VLOOKUP(J118,#REF!,2,FALSE) ) )","v":""},693517.24100000004,null,null,null,{"$f":"IF(TRIM(O118)=\"\", \"\", IF(VLOOKUP(O118,#REF!,2,FALSE)=0,\"\",VLOOKUP(O118,#REF!,2,FALSE) ) )","v":""},59349.103000000003,null,null,null,{"$f":"IF(TRIM(T118)=\"\", \"\", IF(VLOOKUP(T118,#REF!,2,FALSE)=0,\"\",VLOOKUP(T118,#REF!,2,FALSE) ) )","v":""},12028.459000000001,null,null,null,{"$f":"IF(TRIM(Y118)=\"\", \"\", IF(VLOOKUP(Y118,#REF!,2,FALSE)=0,\"\",VLOOKUP(Y118,#REF!,2,FALSE) ) )","v":""},55953.355000000003,null,null,null,{"$f":"IF(TRIM(AD118)=\"\", \"\", IF(VLOOKUP(AD118,#REF!,2,FALSE)=0,\"\",VLOOKUP(AD118,#REF!,2,FALSE) ) )","v":""},74893.106,null,null,null,{"$f":"IF(TRIM(AI118)=\"\", \"\", IF(VLOOKUP(AI118,#REF!,2,FALSE)=0,\"\",VLOOKUP(AI118,#REF!,2,FALSE) ) )","v":""},7022.3530000000001,null,null,null,{"$f":"IF(TRIM(AN118)=\"\", \"\", IF(VLOOKUP(AN118,#REF!,2,FALSE)=0,\"\",VLOOKUP(AN118,#REF!,2,FALSE) ) )","v":""},25547.675999999999,null,null,null,{"$f":"IF(TRIM(AS118)=\"\", \"\", IF(VLOOKUP(AS118,#REF!,2,FALSE)=0,\"\",VLOOKUP(AS118,#REF!,2,FALSE) ) )","v":""},27821.302,null,null,null,{"$f":"IF(TRIM(AX118)=\"\", \"\", IF(VLOOKUP(AX118,#REF!,2,FALSE)=0,\"\",VLOOKUP(AX118,#REF!,2,FALSE) ) )","v":""},115571.523,null,null,null,{"$f":"IF(TRIM(BC118)=\"\", \"\", IF(VLOOKUP(BC118,#REF!,2,FALSE)=0,\"\",VLOOKUP(BC118,#REF!,2,FALSE) ) )","v":""},48940.294999999998,null,null,null,{"$f":"IF(TRIM(BH118)=\"\", \"\", IF(VLOOKUP(BH118,#REF!,2,FALSE)=0,\"\",VLOOKUP(BH118,#REF!,2,FALSE) ) )","v":""},22548.195,null,null,null,{"$f":"IF(TRIM(BM118)=\"\", \"\", IF(VLOOKUP(BM118,#REF!,2,FALSE)=0,\"\",VLOOKUP(BM118,#REF!,2,FALSE) ) )","v":""},449675.36700000003,null,null,null,{"$f":"IF(TRIM(BR118)=\"\", \"\", IF(VLOOKUP(BR118,#REF!,2,FALSE)=0,\"\",VLOOKUP(BR118,#REF!,2,FALSE) ) )","v":""},68400.225000000006,null,null,null,{"$f":"IF(TRIM(BW118)=\"\", \"\", IF(VLOOKUP(BW118,#REF!,2,FALSE)=0,\"\",VLOOKUP(BW118,#REF!,2,FALSE) ) )","v":""},32845.288,null,null,null,{"$f":"IF(TRIM(CB118)=\"\", \"\", IF(VLOOKUP(CB118,#REF!,2,FALSE)=0,\"\",VLOOKUP(CB118,#REF!,2,FALSE) ) )","v":""},944475.79299999995,null,null,null,{"$f":"IF(TRIM(CG118)=\"\", \"\", IF(VLOOKUP(CG118,#REF!,2,FALSE)=0,\"\",VLOOKUP(CG118,#REF!,2,FALSE) ) )","v":""},977321.08100000001,null,null,null,{"$f":"IF(TRIM(CL118)=\"\", \"\", IF(VLOOKUP(CL118,#REF!,2,FALSE)=0,\"\",VLOOKUP(CL118,#REF!,2,FALSE) ) )","v":""},1431694.1880000001,null,null,null,{"$f":"IF(TRIM(CQ118)=\"\", \"\", IF(VLOOKUP(CQ118,#REF!,2,FALSE)=0,\"\",VLOOKUP(CQ118,#REF!,2,FALSE) ) )","v":""},557529.06099999999,null,null,null,{"$f":"IF(TRIM(CV118)=\"\", \"\", IF(VLOOKUP(CV118,#REF!,2,FALSE)=0,\"\",VLOOKUP(CV118,#REF!,2,FALSE) ) )","v":""},48254.756000000001,null,null,null,{"$f":"IF(TRIM(DA118)=\"\", \"\", IF(VLOOKUP(DA118,#REF!,2,FALSE)=0,\"\",VLOOKUP(DA118,#REF!,2,FALSE) ) )","v":""},1212067.781,null,null,null,{"$f":"IF(TRIM(DF118)=\"\", \"\", IF(VLOOKUP(DF118,#REF!,2,FALSE)=0,\"\",VLOOKUP(DF118,#REF!,2,FALSE) ) )","v":""},6003760.0800000001,null,null,null,{"$f":"IF(TRIM(DK118)=\"\", \"\", IF(VLOOKUP(DK118,#REF!,2,FALSE)=0,\"\",VLOOKUP(DK118,#REF!,2,FALSE) ) )","v":""}]
[]
[null,"Notes:"]
[]
[null,"Cell shading:"]
[null,"White: Data provision is mandatory."]
[null,"Light grey: Automatic calculation. Formula can exceptionally be changed by a value"]
[null,"Light orange: Footnotes (only to be filled-in when relevant)"]
[null,"Black: Not applicable"]
[]
[]
[null,"Valid standard footnotes:"]
[null,"     B -  Break in time series"]
[null,"     E -  Estimate"]
[null,"     P -  Provisional"]
[]
[null,"Valid confidentiality footnotes:"]
[null,"     C -  Confidential"]
[null,"     D -  Secondary confidentiality set by the sender, not for publication"]

{"sheet":"Validation rules","index":4,"n_rows":29,"n_cols":5,"rows_kept":29,"cut":false,"hidden":false,"merged":[]}
[]
[null,null,"Preliminary checks:","ESTAT technical instructions for VB rules development","ESTAT technical instructions for CONVAL rules development"]
[]
["COUNTRYCODE",null,"The reporting country name must be filled in the sheet \"Basic Instructions\".","See hidden sheet \"Country code\"","This looks more like a STRUVAL rule (country code must not be empty)"]
[]
[null,null,"Mandatory Data:"]
[]
["MANDATORY",null,"All the mandatory cells (white cells) in table 1 must be filled-in.","See hidden sheet \"Mandatory\"","E2 to provide list of mandatory primary keys. Notice it is allowed a null (NaN) obs_value if a footnote (obs_comment) is provided"]
[null,null,"If mandatory cells are left empty, an explanation why the data is missing has to be provided by means of the \"Explanatory footnote\" next to the missing value. ","This is controlled in the VB rule by the parameter \"EmptyIsValidIfFootnoteExists\". This parameter is defined in the hidden sheet \"Mandatory\". Notice we check the footnote in the hidden column copying the footnote text, and not for the visible column with the footnote call. This is in case the user set as footnote a number (call) with no text associated in the \"Footnote List\" sheet."]
[]
[null,null,"Arithmetic rules"]
[]
["ZEROORBIGGER",null,"All reported values must be numbers equal or greater than 0","See hidden sheet \"ZeroOrBiggerOrNull\". Null values are accepted but not strings. ISNUMBER(cell) is needed (a string is considered as zero)","Every obs_value must be null, zero or positive."]
[]
["TOTALVSADDENDUMS",null,"Hazardous plus non-hazardous waste must be equal to the total for each waste category.","HAZ_NHAZ = HAZ + NHAZ","See formula on the column on the left (dim: waste)"]
[]
[null,null,"Total waste (coded as TOTAL) must equal to the sum of all EWCstat. categories","TOTAL = W011 + W012 + W013 + W02A + W032 + W033 + W05 + W061 + W062 + W063 + W071 + W072 + W073 + W074 + W075 + W076 + W077 + W08A + W081 + W0841 + W091 + W092 + W093 + W101 + W102 + W103 + W11 + W121 + W12B + W124 + W126 + W127 + W128_13","See formula on the column on the left (dim: waste)"]
[]
[null,null,"Total Waste (excluding mineral waste) coded as TOT_X_MIN must be equal to the sum of all EWCstat. minus the following categories:\n  - 12.1 Mineral waste from construction and demolition (coded W121)\n  - 12.2,12.3 and 12.5 Other mineral wastes (Coded W12B)\n  - 12.6 Soils (coded W126)\n  - 12.7 Dredging spoils (coded W127)","TOT_X_MIN = W011 + W012 + W013 + W02A + W032 + W033 + W05 + W061 + W062 + W063 + W071 + W072 + W073 + W074 + W075 + W076 + W077 + W08A + W081 + W0841 + W091 + W092 + W093 + W101 + W102 + W103 + W11 + W124 + W128_13","See formula on the column on the left (dim: waste)"]
[]
[null,null,"Primary waste, coded as PRIM, must be equal to the sum of all EWCstat. categories minus\n  - 03.3 Sludges and liquid waste from waste treatment (Coded W033)\n  - 10.3 Sorting residues (Coded W103)\n  - 128_13 Mineral waste from waste treatment and stabilised waste (Coded W128_13)","PRIM = W011 + W012 + W013 + W02A + W032 + W05 + W061 + W062 + W063 + W071 + W072 + W073 + W074 + W075 + W076 + W077 + W08A + W081 + W0841 + W091 + W092 + W093 + W101 + W102 + W103 + W11 + W121 + W12B + W124 + W126 + W127 + W128_13","See formula on the column on the left (dim: waste)"]
[]
[null,null,"Secondary waste, coded as SEC, must be equal to the sum of the following EWCstat. categories                                                \n- 03.3 Sludges and liquid waste from waste treatment (Coded W033)\n  - 10.3 Sorting residues (Coded W103)\n  - 128_13 Mineral waste from waste treatment and stabilised waste (Coded W128_13)","SEC = W033 + W103 + W128_13","See formula on the column on the left (dim: waste)"]
[]
[null,null,"All NACE activities plus households, coded as TOTAL_HH, must equal the sum of the all NACE classes plus households.","TOTAL_HH = A + B + C10-C12 + C13-C15 + C16 + C17_C18 + C19 + C20-C22 + C23 + C24_C25 + C26-C30 + C31-C33 + D + E36_E37_E39 + E38 + F + G-U_X_G4677 + G4677 + HH","See formula on the column on the left (dim: nace_r2)"]
[]
["FOOTNOTECONTENT",null,"Explanatory footnotes"]
[]
[null,null,"When an explanatory footnote is referenced (by means of a number selected from the drop-down list), the referenced footnote in the sheet \"Footnotes list\" must not be empty.","See hidden sheet FootnoteContent","length (obs_comment) must be > 6 characters"]

{"sheet":"Lists","index":5,"n_rows":42,"n_cols":8,"rows_kept":42,"cut":false,"hidden":true,"merged":[]}
["Country label","Country code",null,"Valid flags","Label",null,"Code","Description"]
["Belgium","BE",null,"B","Break in time series",null,"C","confidential"]
["Bulgaria","BG",null,"E","Estimated data",null,"D","secondary confidentiality set by the sender"]
["Czechia","CZ",null,"P","Provisional"]
["Denmark","DK",null,"BE","Break in time series, estimated"]
["Germany","DE",null,"BP","Break in time series, provisional"]
["Estonia","EE",null,"EP","Estimated, provisional"]
["Ireland","IE",null,"BEP","Break in time series, estimated, provisional"]
["Greece","EL"]
["Spain","ES"]
["France","FR"]
["Croatia","HR"]
["Italy","IT"]
["Cyprus","CY"]
["Latvia","LV"]
["Lithuania","LT"]
["Luxembourg","LU"]
["Hungary","HU"]
["Malta","MT"]
["Netherlands","NL"]
["Austria","AT"]
["Poland","PL"]
["Portugal","PT"]
["Romania","RO"]
["Slovenia","SI"]
["Slovakia","SK"]
["Finland","FI"]
["Sweden","SE"]
["United Kingdom","UK"]
["Iceland","IS"]
["Liechtenstein","LI"]
["Norway","NO"]
["Switzerland","CH"]
["Montenegro","ME"]
["North Macedonia","MK"]
["Albania","AL"]
["Serbia","RS"]
["Turkey","TR"]
["Bosnia and Herzegovina","BA"]
["Kosovo (UNSCR 1244)","XK"]
[]
["ESTAT-E2-WASTE-2020","CDD"]

{"sheet":"Locks","index":6,"n_rows":37,"n_cols":8,"rows_kept":37,"cut":false,"hidden":true,"merged":[]}
["SheetName","Top Left Cell","Bottom Right Cell","Row Step","Column Step","Lock Type","Focus Back To","IMPORTANT: The same cell must not be included in two ranges. In such a case the switch will operate twice, leaving the cell in the same original state"]
["Table_1","G10","BJ106",3,5,"Formulas","G8","Hazardous + non hazardous (left block, until NACE C)"]
["Table_1","BT10","CD106",3,5,"Formulas","G8","Hazardous + non hazardous (Middle block, between NACE C and E)"]
["Table_1","CN10","DC106",3,5,"Formulas","G8","Hazardous + non hazardous (Right block, between NACE E and Total NACE)"]
["Table_1","G107","DH118",1,5,"Formulas","G8","Bottom grand totals"]
["Table_1","BO8","CI8",999,20,"Formulas","G8","NACE C and NACE E"]
["Table_1","BO10","CI14",1,20,"Formulas","G8","NACE C and NACE E"]
["Table_1","BO16","CI28",1,20,"Formulas","G8","NACE C and NACE E"]
["Table_1","BO30","CI31",1,20,"Formulas","G8","NACE C and NACE E"]
["Table_1","BO33","CI34",1,20,"Formulas","G8","NACE C and NACE E"]
["Table_1","BO36","CI40",1,20,"Formulas","G8","NACE C and NACE E"]
["Table_1","BO42","CI43",1,20,"Formulas","G8","NACE C and NACE E"]
["Table_1","BO45","CI46",1,20,"Formulas","G8","NACE C and NACE E"]
["Table_1","BO48","CI52",1,20,"Formulas","G8","NACE C and NACE E"]
["Table_1","BO54","CI56",1,20,"Formulas","G8","NACE C and NACE E"]
["Table_1","BO58","CI67",1,20,"Formulas","G8","NACE C and NACE E"]
["Table_1","BO69","CI70",1,20,"Formulas","G8","NACE C and NACE E"]
["Table_1","BO72","CI73",1,20,"Formulas","G8","NACE C and NACE E"]
["Table_1","BO75","CI76",1,20,"Formulas","G8","NACE C and NACE E"]
["Table_1","BO78","CI85",1,20,"Formulas","G8","NACE C and NACE E"]
["Table_1","BO87","CI106",1,20,"Formulas","G8","NACE C and NACE E"]
["Table_1","DH8","DH8",999,999,"Formulas","G8","TOTAL NACE"]
["Table_1","DH10","DH14",1,999,"Formulas","G8","TOTAL NACE"]
["Table_1","DH16","DH28",1,999,"Formulas","G8","TOTAL NACE"]
["Table_1","DH30","DH31",1,999,"Formulas","G8","TOTAL NACE"]
["Table_1","DH33","DH34",1,999,"Formulas","G8","TOTAL NACE"]
["Table_1","DH36","DH40",1,999,"Formulas","G8","TOTAL NACE"]
["Table_1","DH42","DH43",1,999,"Formulas","G8","TOTAL NACE"]
["Table_1","DH45","DH46",1,999,"Formulas","G8","TOTAL NACE"]
["Table_1","DH48","DH52",1,999,"Formulas","G8","TOTAL NACE"]
["Table_1","DH54","DH56",1,999,"Formulas","G8","TOTAL NACE"]
["Table_1","DH58","DH67",1,999,"Formulas","G8","TOTAL NACE"]
["Table_1","DH69","DH70",1,999,"Formulas","G8","TOTAL NACE"]
["Table_1","DH72","DH73",1,999,"Formulas","G8","TOTAL NACE"]
["Table_1","DH75","DH76",1,999,"Formulas","G8","TOTAL NACE"]
["Table_1","DH78","DH85",1,999,"Formulas","G8","TOTAL NACE"]
["Table_1","DH87","DH106",1,999,"Formulas","G8","TOTAL NACE"]

{"sheet":"CountryName","index":7,"n_rows":16,"n_cols":6,"rows_kept":16,"cut":false,"hidden":true,"merged":[]}
["Severity","SheetName","TopLeftCell","BottomRightCell","RowStep","ColumnStep"]
["Error","Basic instructions","G11","G11",1,1]
[]
[]
[]
["DESCRIPTION"]
["Spot the position where the reporting country is defined"]
[]
["PARAMETERS"]
[{"$f":"B1","v":"SheetName"},"Name of the sheet to be validated (e.g. Table 1)"]
[{"$f":"C1","v":"TopLeftCell"},"Cell where the country name must be selected"]
[{"$f":"D1","v":"BottomRightCell"},"Same as TopLeftCell (*)  "]
[{"$f":"E1","v":"RowStep"},"Must be \"1\"  (*)  "]
[{"$f":"F1","v":"ColumnStep"},"Must be \"1\"  (*)  "]
[]
["(*) These parameters, apparently useless, are kept to make this validation compatible with other standard validation structures"]

{"sheet":"Summations","index":8,"n_rows":110,"n_cols":11,"rows_kept":110,"cut":false,"hidden":true,"merged":[[11,5,11,6]]}
["Severity","Sheet Name","List of Cells\n (first block)","First Total Cell (first block)","Last Total Cell\n(Last block)","Row Block Repetition Step","Column Block Repetition Step","Greater or Equal","Valid Threshold","Only if all data is available","Display text in error"]
["Error","Table_1","G8,G11,G14,G17,G20,G26,G29,G32,G35,G38,G41,G44,G47,G50,G53,G56,G59,G62,G65,G68,G71,G74,G77,G80,G86,G89,G92,G95,G98,G101","G107","DH109",1,5,"EQ",0.1,"NO","Primary Waste"]
["Error","Table_1","G23,G83,G104","G110","DH112",1,5,"EQ",0.1,"NO","Secondary Waste"]
["Error","Table_1","G8,G11,G14,G17,G20,G23,G26,G29,G32,G35,G38,G41,G44,G47,G50,G53,G56,G59,G62,G65,G68,G71,G74,G77,G80,G83,G86,G95,G104","G113","DH115",1,5,"EQ",0.1,"NO","Total Waste (excluding mineral waste)"]
["Error","Table_1","G8,G11,G14,G17,G20,G23,G26,G29,G32,G35,G38,G41,G44,G47,G50,G53,G56,G59,G62,G65,G68,G71,G74,G77,G80,G83,G86,G89,G92,G95,G98,G101,G104","G116","DH118",1,5,"EQ",0.1,"NO","Waste total"]
["Error","Table_1","G8,G9","G10","DH118",3,5,"EQ",0.1,"NO","Total = Haz. + Non-Haz."]
["Error","Table_1","Q8,V8,AA8,AF8,AK8,AP8,AU8,AZ8,BE8,BJ8","BO8","BO118",1,9999,"EQ",0.1,"NO","NACE C"]
["Error","Table_1","BY8,CD8","CI8","CI118",1,9999,"EQ",0.1,"NO","NACE E"]
["Error","Table_1","G8,L8,BO8,BT8,CI8,CN8,CS8,CX8,DC8","DH8","DH118",1,9999,"EQ",0.1,"NO","Total NACE + Households"]
[]
[]
[null,null,null,null,null,"Must be > 0 for a not relevant dimension. Else you get an infinite loop",null,"EQ or GE or GT","GT does not admit threshold","NO or YES"]
[]
["DESCRIPTION"]
["This sheet is meant to define the validation for summations in a row or in a column."]
["- A block is defined as a sequence of addendums in the same row or column"]
["- Only the first block must be explicitly defined"]
["- The block can be repeated at regular patterns through rows and columns at the same time"]
[]
[]
["PARAMETRES"]
["SheetName",null,"Name of the sheet to be validated (e.g. Table 1)"]
["List of Cells\n (first block)",null,"First cell in the first block to be validated"]
["First TotalCell (first block)"]
["Last TotalCell (Last block)"]
["Row Block Repetition Step"]
["Column Block Repetition Step"]
["Greater or Equal"]
["Valid Threshold"]
["Only if all data is available"]
["Display text in error",null,"Valid values: EQ (Strictly equal); GE (Greater or Equal); GT (Strictly greater - No threshold will be considered)"]
[]
[]
[]
[]
[]
[]
[]
[]
[]
[]
[]
[]
[]
[]
[]
[]
[]
[]
[]
[]
[]
[]
[]
[]
[]
[]
[]
[]
[]
[]
[]
[]
[]
[]
[]
[]
[]
[]
[]
[]
[]
[]
[]
[]
[]
[]
[]
[]
[]
[]
[]
[]
[]
[]
[]
[]
[]
[]
[]
[]
[]
[]
[]
[]
[]
[]
[]
[]
[]
[]
[]
[]
[]
[]
[]
[]
[]
[]
[null,null,null,{"$f":"SUM(Summations!B3º)","v":{"$error":"#NAME?"}}]

{"sheet":"Mandatory","index":9,"n_rows":18,"n_cols":8,"rows_kept":18,"cut":false,"hidden":true,"merged":[]}
["Severity","SheetName","Top Left Cell","Bottom Right Cell","Row Step","Column Step","Empty Is Valid If Footnote Exists","Footnote Shift From Value"]
["Error","Table_1","G8","DC8",1,5,"YES",4]
["Error","Table_1","G10","DC14",1,5,"YES",4]
["Error","Table_1","G16","DC28",1,5,"YES",4]
["Error","Table_1","G30","DC31",1,5,"YES",4]
["Error","Table_1","G33","DC34",1,5,"YES",4]
["Error","Table_1","G36","DC40",1,5,"YES",4]
["Error","Table_1","G42","DC43",1,5,"YES",4]
["Error","Table_1","G45","DC46",1,5,"YES",4]
["Error","Table_1","G48","DC52",1,5,"YES",4]
["Error","Table_1","G54","DC56",1,5,"YES",4]
["Error","Table_1","G56","DC56",1,5,"YES",4]
["Error","Table_1","G58","DC67",1,5,"YES",4]
["Error","Table_1","G69","DC70",1,5,"YES",4]
["Error","Table_1","G72","DC73",1,5,"YES",4]
["Error","Table_1","G75","DC76",1,5,"YES",4]
["Error","Table_1","G78","DC85",1,5,"YES",4]
["Error","Table_1","G87","DC118",1,5,"YES",4]

{"sheet":"SimpleRatios","index":10,"n_rows":6,"n_cols":15,"rows_kept":6,"cut":false,"hidden":true,"merged":[[5,6,5,7]]}
["Severity","Sheet Name","Numerator\n (first block)","Denominator (first block)","First result\n(First block)","Last result\n(Last block)","Row Block Repetition Step","Column Block Repetition Step","Numerator multiplied by ","Ratio Greater or Equal than result cell","Valid Tolerance","If denominator = 0","Display text in error","Accept error If Footnote Exists","Column shift from value to footnote"]
[]
[]
[]
[]
[null,null,null,null,null,null,"Must be > 0 for a not relevant dimension. Else you get an infinite loop"]

{"sheet":"Thresholds","index":11,"n_rows":1,"n_cols":8,"rows_kept":1,"cut":false,"hidden":true,"merged":[]}
["Severity","SheetName","Top Left Cell","Bottom Right Cell","Row Step","Column Step","Lower value","Upper value"]

{"sheet":"IsFormula","index":12,"n_rows":37,"n_cols":7,"rows_kept":37,"cut":false,"hidden":true,"merged":[]}
["Severity","Sheet Name","Top Left Cell","Bottom Right Cell","Row Step","Column Step"]
["Info","Table_1","G10","BJ106",3,5,"Hazardous + non hazardous (left block, until NACE C)"]
["Info","Table_1","BT10","CD106",3,5,"Hazardous + non hazardous (Middle block, between NACE C and E)"]
["Info","Table_1","CN10","DC106",3,5,"Hazardous + non hazardous (Right block, between NACE E and Total NACE)"]
["Info","Table_1","G107","DH118",1,5,"Bottom grand totals"]
["Info","Table_1","BO8","CI8",999,20,"NACE C and NACE E"]
["Info","Table_1","BO10","CI14",1,20,"NACE C and NACE E"]
["Info","Table_1","BO16","CI28",1,20,"NACE C and NACE E"]
["Info","Table_1","BO30","CI31",1,20,"NACE C and NACE E"]
["Info","Table_1","BO33","CI34",1,20,"NACE C and NACE E"]
["Info","Table_1","BO36","CI40",1,20,"NACE C and NACE E"]
["Info","Table_1","BO42","CI43",1,20,"NACE C and NACE E"]
["Info","Table_1","BO45","CI46",1,20,"NACE C and NACE E"]
["Info","Table_1","BO48","CI52",1,20,"NACE C and NACE E"]
["Info","Table_1","BO54","CI56",1,20,"NACE C and NACE E"]
["Info","Table_1","BO58","CI67",1,20,"NACE C and NACE E"]
["Info","Table_1","BO69","CI70",1,20,"NACE C and NACE E"]
["Info","Table_1","BO72","CI73",1,20,"NACE C and NACE E"]
["Info","Table_1","BO75","CI76",1,20,"NACE C and NACE E"]
["Info","Table_1","BO78","CI85",1,20,"NACE C and NACE E"]
["Info","Table_1","BO87","CI106",1,20,"NACE C and NACE E"]
["Info","Table_1","DH8","DH8",999,999,"TOTAL NACE"]
["Info","Table_1","DH10","DH14",1,999,"TOTAL NACE"]
["Info","Table_1","DH16","DH28",1,999,"TOTAL NACE"]
["Info","Table_1","DH30","DH31",1,999,"TOTAL NACE"]
["Info","Table_1","DH33","DH34",1,999,"TOTAL NACE"]
["Info","Table_1","DH36","DH40",1,999,"TOTAL NACE"]
["Info","Table_1","DH42","DH43",1,999,"TOTAL NACE"]
["Info","Table_1","DH45","DH46",1,999,"TOTAL NACE"]
["Info","Table_1","DH48","DH52",1,999,"TOTAL NACE"]
["Info","Table_1","DH54","DH56",1,999,"TOTAL NACE"]
["Info","Table_1","DH58","DH67",1,999,"TOTAL NACE"]
["Info","Table_1","DH69","DH70",1,999,"TOTAL NACE"]
["Info","Table_1","DH72","DH73",1,999,"TOTAL NACE"]
["Info","Table_1","DH75","DH76",1,999,"TOTAL NACE"]
["Info","Table_1","DH78","DH85",1,999,"TOTAL NACE"]
["Info","Table_1","DH87","DH106",1,999,"TOTAL NACE"]

{"sheet":"MustNotBeNegative","index":13,"n_rows":2,"n_cols":6,"rows_kept":2,"cut":false,"hidden":true,"merged":[]}
["Severity","SheetName","TopLeftCell","BottomRightCell","RowStep","ColumnStep"]
["Error","Table_1","G8","DC118",1,5]

{"sheet":"FootnoteContent","index":14,"n_rows":2,"n_cols":7,"rows_kept":2,"cut":false,"hidden":true,"merged":[]}
["Severity","SheetName","TopLeftCell","BottomRightCell","RowStep","ColumnStep","DistanceFromReferenceToText"]
["Error","Table_1","J8","DK118",1,5,1]

{"sheet":"IsNumeric","index":15,"n_rows":2,"n_cols":6,"rows_kept":2,"cut":false,"hidden":true,"merged":[]}
["Severity","SheetName","TopLeftCell","BottomRightCell","RowStep","ColumnStep"]
["Error","Table_1","G8","DC118",1,5]