{"text_format":"1","workbook":"xlsx","n_sheets":20,"sheets":["COVER","Index","Basic instructions","Methodology","Footnotes list","Table_1","Table_2","Validation rules","ErrorLog","Lists","Locks","CountryName","Summations","IsFormula","Mandatory","FootnoteContent","MustNotBeNegative","IsNumeric","SimpleRatios","Thresholds"],"not_rendered":{"charts":0,"images":5,"macros":1,"external_links":0,"defined_names":13,"comments":0,"pivot_tables":0},"unopened":[],"bounds":{"document_bytes":16777216,"sheet_cells":100000,"rows_first":2000,"rows_last":500,"rows_between":2000,"halvings":0,"cell_chars":16384,"cell_head_chars":4096},"cells_cut":0,"cells_raw":0,"read":"whole","date_system":"1900"}

{"sheet":"COVER","index":0,"n_rows":17,"n_cols":3,"rows_kept":17,"cut":false,"hidden":false,"merged":[[18,1,23,3],[1,1,1,3],[8,1,8,3],[9,1,9,3],[10,1,11,3],[16,1,16,3]]}
[]
[null,"Statistical Office of the European Union"]
[]
[]
[]
[]
[]
[]
[]
[null,"Directorate E: Sectoral and regional statistics"]
[null,"Unit E-2: Environmental statistics and accounts; sustainable development"]
[]
[]
[]
[]
[null,null,"QUESTIONNAIRE"]
[null,"Biennial Waste Statistics Regulation - Number and capacity of recovery and disposal facilities by NUTS 2 regions\n2020 DATA COLLECTION\n\n"]

{"sheet":"Index","index":1,"n_rows":15,"n_cols":5,"rows_kept":15,"cut":false,"hidden":false,"merged":[[15,3,15,4],[2,1,2,3],[4,1,4,4],[5,1,5,4],[6,1,6,2],[7,1,7,4],[8,1,8,2],[9,1,9,2],[10,1,10,2],[11,1,11,2],[12,1,12,4],[14,1,14,2],[13,1,13,2]]}
[]
[]
[]
[]
[null,"Biennial Waste Statistics Regulation - Number and capacity of recovery and disposal facilities by NUTS 2 regions\n2020 DATA COLLECTION"]
[null,"STRUCTURE OF THE QUESTIONNAIRE"]
[null,"TITLE",null,"DESCRIPTION","TYPE"]
[null,"I. Yellow tabbed sheets in the questionnaire"]
[null,"Index",null,"Structure of the questionnaire","for information"]
[null,"Basic instructions ",null,"Basic instructions","for reading before filling in the questionnaire"]
[null,"Methodology",null,"Detailed instructions and summary of the methodology","for reading before filling in the questionnaire"]
[null,"Footnotes list",null,"List of country-specific footnotes","for filling in"]
[null,"II. Green tabbed sheets in the questionnaire"]
[null,"Table 1",null,"WASTE Facilities: Number and capacities of recovery and disposal facilities","for filling in"]
[null,"Table 2",null,"WASTE Facilities: Number and rest-capacities of landfill facilities","for filling in"]

{"sheet":"Basic instructions","index":2,"n_rows":75,"n_cols":10,"rows_kept":75,"cut":false,"hidden":false,"merged":[[2,2,2,15],[36,6,36,8],[24,3,24,15],[3,2,3,15],[4,2,4,15],[6,2,6,15],[7,2,7,15],[9,2,9,15],[11,2,11,4],[11,6,11,8],[14,2,14,15],[16,3,16,15],[18,3,18,15],[20,3,20,15],[22,3,22,15],[39,2,39,15],[25,2,25,15],[27,2,27,15],[28,2,28,15],[29,2,29,15],[30,2,30,15],[31,2,31,15],[33,2,33,15],[34,2,34,3],[35,2,35,3],[36,2,36,3],[38,2,38,14],[57,2,57,15],[44,2,44,15],[46,2,46,13],[47,2,47,15],[48,2,48,15],[49,2,49,15],[50,2,50,15],[51,2,51,15],[52,2,52,15],[53,2,53,15],[54,2,54,15],[56,2,56,3],[45,2,45,15],[64,2,64,15],[65,2,65,15],[66,1,66,16],[67,2,67,15],[68,1,68,16],[59,2,59,15],[60,2,60,15],[61,2,61,15],[62,2,62,15],[63,2,63,15],[73,3,73,15],[74,3,74,15],[75,1,75,16],[69,3,69,15],[70,3,70,15],[71,3,71,15],[72,3,72,15]]}
[]
[]
[null,null,"Biennial Waste Statistics Regulation - Number and capacity of recovery and disposal facilities by NUTS 2 regions"]
[null,null,"\n2020 DATA COLLECTION\n"]
[null,null,"Basic instructions"]
[]
[null,null,"Before filling in the questionnaire please read carefully the instructions below. This EXCEL workbook is the questionnaire. Please do not  delete or add rows in the questionnaire. This EXCEL workbook contains macros. In order to make them work you need to save the file in your computer and then reopen it and enable macros resp. make it a trusted document. After you completely filled in the table and before sending it, please, validate the questionnaire with the button \"validate questionnaire\" above. You find the results of this immediate validation in the table \"ErrorLog\"."]
[]
[]
[null,null,"1. Getting started "]
[null,null,"Enter the data without changing the format of the questionnaire (i.e. do not add/delete rows or columns) since Eurostat uses automated routines for data validation.\n"]
[null,null,"Please select your country (click on the white cell):    ",null,null,null,"Croatia",null,null,{"$f":"IF(G12=\"\",\"\",VLOOKUP(G12,Lists!A2:B40,2,FALSE))","v":"HR"}]
[null,null,"Reference year:    ",null,null,null,2018,null," "]
[null,null,"The due date for reporting is 30 June 2020                                        ",null,null,null," "]
[null,null,"Who is the primary contact point for biennial reporting of number and capacity of recovery and disposal facilities in your country?"]
[]
[null,null,"Name:","Antonija Šemanjski"]
[]
[null,null,"Institution:","Ministry of Environment and Energy"]
[]
[null,null,"Unit:","Institute for Environment and Nature"]
[]
[null,null,"Telephone:",38515581667]
[]
[null,null,"Email adress:","antonija.semanjski@mzoe.hr"]
[null,null,"Eurostat would be grateful if you could send us the completed questionnaire ahead of the deadline. "]
[]
[null,null,"2. Data transmission:"]
[null,null,"The standard tool for the transmission of statistical data is the eDAMIS system. The system creates a secure environment for the transmission of data, it records all data submissions and acknowledges the data delivery. The eDAMIS system has been installed in the National Statistical Institutes.\n   "]
[null,null,"Please submit this questionnaire to Eurostat using the eDAMIS reporting system. Use the following details: \nDomain name: WASTE\nData set name: WASTE_FAC"]
[null,null,"Should you have any questions regarding data transmission do not hesitate to contact your local eDAMIS coordinator or the Eurostat eDAMIS helpdesk at: https://webgate.ec.europa.eu/edamis/helpcenter/website/index.htm, this e-mail address: estat-support-edamis@ec.europa.eu or call (+352) 4301 33213"]
[null,null,"For methodological questions contact Eurostat's waste team: ESTAT-WASTE-STATISTICS@EC.EUROPA.EU"]
[null,null," "]
[null,null,"3. Reporting conventions\n\n"]
[null,null,"Description",null,"Symbol"]
[null,null,"Real zero",null,0]
[null,null,"Not available",null," ",null,"(Empty cell means \"not available\")"]
[]
[null,null,"1. White shaded (uncoloured) boxes: Provision of data is mandatory"]
[null,null,"2. Black shaded boxes: reporting is not applicable"]
[null,null,"3. Grey shaded boxes: calculation is automatic; do not input any data into these cells"]
[]
[]
[]
[null,null,"4. Metadata:\nPlease provide data by the Metadatahandler: "]
[null,null,"https://webgate.ec.europa.eu/estat/spe/metaconv/home.htm"]
[]
[null,null,"5. Footnotes: \nYou are asked to report data that follow as closely as possible the Waste Statistics Regulation waste definitions and reporting rules (see paragraphs below). Please report problems with the coverage or data quality in the Metadatahandler."]
[null,null,"Flags (footnote symbols) should be entered in the reporting tables in the footnote columns, next to the value cell. There are two types of footnotes: \n- Letters for standard footnotes (as defined by Eurostat) and \n- Numbers for country-specific footnotes (to be defined by the data compilers). "]
[null,null,"Standard footnotes"]
[null,null,"The following footnotes will be used for the automatic data processing and data dissemination. Hence, they cannot be changed:"]
[null,null,"B) break in series"]
[null,null,"E) estimated data"]
[null,null,"P) provisional"]
[null,null,"To include standard footnotes use the drop-down menu. The drop-down menue includes as well combinations of footnotes. If you need to put more than one footnote in a field, please, use these combinations in the drop-down menue."]
[]
[null,null,"Country-specific footnotes"]
[null,null,"The specific footnotes can be used for any meaning beyond the pre-defined footnotes.\nTo include the specific footnotes, insert the text in the footnote column corresponding to the value cell. Please report the footnote text in the worksheet 'Footnotes list' starting from number 1. You can select the number of the specific footnote from the drop-down menu. \nPlease do not report footnotes that elaborate on e.g. source data and compilation methods; these are to be described in the quality report and the metadata sheets. \n"]
[]
[null,null,"6. Methodology and questions:\n    Guidance and the Manual on waste statistics are available on Eurostat website:"]
[null,null,"https://ec.europa.eu/eurostat/web/waste/methodology"]
[null,null,"The guidelines contain definitions, examples and recommendations to ensure that data are compiled and maintained on a consistent basis. They explain the scope and the reasoning behind the terms of the tables, and provide extra information necessary to allow a consistent collection and interpretation of the data to be reported by countries."]
[null,null,"A summary methodology is presented in this questionnaire, in the sheet named 'Methodology'. It is essential to read this sheet before filling in the questionnaire as it contains, beside the summary methodology, important information on priorities for filling in the tables, data sources and hints for establishing a methodology at national level."]
[]
[null,null,"If you have questions, please send them to the following email addresses:"]
[null,null,"ESTAT-WASTE-STATISTICS@EC.EUROPA.EU"]
[null,"Annex: How to fill in the data sheets of the questionnaire"]
[null,null,"You are kindly requested to:"]
[]
[null,null,"1)","To fill in all the uncoloured cells with a value. "]
[null,null,"2)","Cells, which contain sums, are filled in automatically, unless there are empty fields in one of the summands. In this case, the field containing the sum has to be filled as well. In case, you  assume that a formula should be added in a cell, please, send us an email with this formula. Please, do not add the formula yourself. The formula may be helpful all countries."]
[null,null,"3)","Flags (footnote symbols) can be entered in the reporting tables in the footnote columns."]
[null,null,"4)","To include standard footnotes use the drop-down menu."]
[null,null,"5)","The text of specific footnotes can be entered in the worksheet 'Footnotes list'. "]
[null,null,"6)","Empty fields are a breach of the Regulation 2150/2002. An explanation, why the value is not available, has to be entered."]

{"sheet":"Methodology","index":3,"n_rows":19,"n_cols":2,"rows_kept":19,"cut":false,"hidden":false,"merged":[[8,1,8,2],[1,1,1,2],[4,1,4,2],[5,1,5,2],[6,1,6,2],[7,1,7,2],[16,1,16,2],[17,1,17,2],[18,1,18,2],[9,1,9,2],[10,1,10,2],[11,1,11,2],[13,1,13,2],[14,1,14,2],[15,1,15,2]]}
[]
[null,"DETAILED EXPLANATORY NOTES AND METHODOLOGY"]
[]
[]
[null,"Table of contents"]
[null,"1. Background"]
[null,"2. Legal acts"]
[null,"3. Data reporting - questionnaire"]
[]
[null,"1. Background"]
[null,"Regular Community statistics on the production and management of waste from businesses and private households are required by the Community for monitoring the implementation of waste policy. Regulation (EC) No 2150/2002 of the European Parliament and of the Council of 25 November 2002 on waste statistics creates the basis for monitoring compliance with the principles of maximisation of recovery and safe disposal.\n\nThis reporting template allows Member States to report number and capacity of waste recovery and disposal facilities pursuant to the requirements of this Regulation and the amending Commission Regulation (EU) No 849/2010.\nThe guidelines are available here:\n"]
[null,"https://ec.europa.eu/eurostat/web/waste/methodology"]
[]
[null,"2. Legal acts"]
[null,"European Parliament and Council Regulation 2002/2150 was last amended by amending Commission Regulation (EU) No 849/2010.\n\nDefinitions and classifications in these Regulations are based on the Waste Framework Directive - Directive 2008/98/EC of the European Parliament and the Council  (https://eur-lex.europa.eu/legal-content/EN/TXT/?uri=CELEX:02008L0098-20180705)\n\nThe legislation is available here:"]
[null,"https://ec.europa.eu/eurostat/web/waste/legislation"]
[null,"https://eur-lex.europa.eu/legal-content/EN/TXT/?uri=CELEX:02008L0098-20180705"]
[null,"3. Data reporting - questionnaire"]
[null,"This document assists Member States to report high quality, harmonised and efficient waste statistics.\n\nThe reporting shall cover a full calendar year.\n\nThe basic instructions sheet consists of some information necessary for filling in this questionnaire correctly.\n\n\n"]

{"sheet":"Footnotes list","index":4,"n_rows":103,"n_cols":3,"rows_kept":103,"cut":false,"hidden":false,"merged":[[1,1,1,2]]}
[]
[null,"ANNUAL REPORTING OF NUMBER AND CAPACITY OF RECOVERY AND DISPOSAL FACILITIES\nFOOTNOTES LIST"]
[null,"Country:",{"$f":"IF('Basic instructions'!G12=\"\",\"\",'Basic instructions'!G12)","v":"Croatia"}]
[null,"Number","Country-specific explanatory footnotes"]
[null,1]
[null,2]
[null,3]
[null,4]
[null,5]
[null,6]
[null,7]
[null,8]
[null,9]
[null,10]
[null,11]
[null,12]
[null,13]
[null,14]
[null,15]
[null,16]
[null,17]
[null,18]
[null,19]
[null,20]
[null,21]
[null,22]
[null,23]
[null,24]
[null,25]
[null,26]
[null,27]
[null,28]
[null,29]
[null,30]
[null,31]
[null,32]
[null,33]
[null,34]
[null,35]
[null,36]
[null,37]
[null,38]
[null,39]
[null,40]
[null,41]
[null,42]
[null,43]
[null,44]
[null,45]
[null,46]
[null,47]
[null,48]
[null,49]
[null,50]
[null,51]
[null,52]
[null,53]
[null,54]
[null,55]
[null,56]
[null,57]
[null,58]
[null,59]
[null,60]
[null,61]
[null,62]
[null,63]
[null,64]
[null,65]
[null,66]
[null,67]
[null,68]
[null,69]
[null,70]
[null,71]
[null,72]
[null,73]
[null,74]
[null,75]
[null,76]
[null,77]
[null,78]
[null,79]
[null,80]
[null,81]
[null,82]
[null,83]
[null,84]
[null,85]
[null,86]
[null,87]
[null,88]
[null,89]
[null,90]
[null,91]
[null,92]
[null,93]
[null,94]
[null,95]
[null,96]
[null,97]
[null,98]
[null,99]

{"sheet":"Table_1","index":5,"n_rows":472,"n_cols":36,"rows_kept":472,"cut":false,"hidden":false,"merged":[[2,26,2,30],[3,26,3,30],[2,31,2,35],[3,31,3,35],[6,34,6,35],[6,29,6,30],[2,3,6,5],[3,6,3,15],[3,16,3,25],[2,6,2,15],[2,16,2,25],[6,9,6,10],[6,14,6,15],[6,19,6,20],[6,24,6,25]]}
[null,null,null,"Country:",{"$f":"IF('Basic instructions'!$J$12=\"\",\"\",'Basic instructions'!$J$12)","v":"HR"},{"$f":"IF('Basic instructions'!$G$12=\"\",\"\",'Basic instructions'!$G$12)","v":"Croatia"}]
[null,null,null,"Reference year:",{"$f":"IF('Basic instructions'!$G$13=\"\",\"\",'Basic instructions'!$G$13)","v":2018}]
[null,null,null,"WASTE \nNumber and capacity of recovery and disposal facilities\n\nRecovery & Incineration",null,null,"RCV_E",null,null,null,null,null,null,null,null,null,"DSP_I",null,null,null,null,null,null,null,null,null,"RCV_R",null,null,null,null,"RCV_B"]
[null,null,null,null,null,null,"Recovery - energy recovery\n(R1)",null,null,null,null,null,null,null,null,null,"Disposal - incineration\n(D10)",null,null,null,null,null,null,null,null,null,"Recovery - recycling",null,null,null,null,"Recovery - backfilling"]
[null,null,null,null,null,null,"RCV_E",null,null,null,null,"RCV_E",null,null,null,null,"DSP_I",null,null,null,null,"DSP_I",null,null,null,null,"RCV_R",null,null,null,null,"RCV_B"]
[null,null,null,null,null,null,"FAC",null,null,null,null,"CAP",null,null,null,null,"FAC",null,null,null,null,"CAP",null,null,null,null,"FAC",null,null,null,null,"FAC"]
[null,null,null,null,null,null,"Facilities (number)","Standard footnote","Confidentiality footnote","Explanatory footnote",null,"Capacity\n(tonnes per year)","Standard footnote","Confidentiality footnote","Explanatory footnote",null,"Facilities (number)","Standard footnote","Confidentiality footnote","Explanatory footnote",null,"Capacity\n(tonnes per year)","Standard footnote","Confidentiality footnote","Explanatory footnote",null,"Facilities (number)","Standard footnote","Confidentiality footnote","Explanatory footnote",null,"Facilities (number)","Standard footnote","Confidentiality footnote","Explanatory footnote"]
[null,null,null,null,"BE","BELGIQUE-BELGIË",null,null,null,null,{"$f":"IF(TRIM(J8)=\"\", \"\", IF(VLOOKUP(J8,'Footnotes list'!$B$5:$C$103,2,FALSE)=0,\"\",VLOOKUP(J8,'Footnotes list'!$B$5:$C$103,2,FALSE) ) )","v":""},null,null,null,null,{"$f":"IF(TRIM(O8)=\"\", \"\", IF(VLOOKUP(O8,'Footnotes list'!$B$5:$C$103,2,FALSE)=0,\"\",VLOOKUP(O8,'Footnotes list'!$B$5:$C$103,2,FALSE) ) )","v":""},null,null,null,null,{"$f":"IF(TRIM(T8)=\"\", \"\", IF(VLOOKUP(T8,'Footnotes list'!$B$5:$C$103,2,FALSE)=0,\"\",VLOOKUP(T8,'Footnotes list'!$B$5:$C$103,2,FALSE) ) )","v":""},null,null,null,null,{"$f":"IF(TRIM(Y8)=\"\", \"\", IF(VLOOKUP(Y8,'Footnotes list'!$B$5:$C$103,2,FALSE)=0,\"\",VLOOKUP(Y8,'Footnotes list'!$B$5:$C$103,2,FALSE) ) )","v":""},null,null,null,null,{"$f":"IF(TRIM(AD8)=\"\", \"\", IF(VLOOKUP(AD8,'Footnotes list'!$B$5:$C$103,2,FALSE)=0,\"\",VLOOKUP(AD8,'Footnotes list'!$B$5:$C$103,2,FALSE) ) )","v":""},null,null,null,null,{"$f":"IF(TRIM(AI8)=\"\", \"\", IF(VLOOKUP(AI8,'Footnotes list'!$B$5:$C$103,2,FALSE)=0,\"\",VLOOKUP(AI8,'Footnotes list'!$B$5:$C$103,2,FALSE) ) )","v":""}]
[null,null,null,null,"BE1","    RÉGION DE BRUXELLES-CAPITALE / BRUSSELS HOOFDSTEDELIJK GEWEST",null,null,null,null,{"$f":"IF(TRIM(J9)=\"\", \"\", IF(VLOOKUP(J9,'Footnotes list'!$B$5:$C$103,2,FALSE)=0,\"\",VLOOKUP(J9,'Footnotes list'!$B$5:$C$103,2,FALSE) ) )","v":""},null,null,null,null,{"$f":"IF(TRIM(O9)=\"\", \"\", IF(VLOOKUP(O9,'Footnotes list'!$B$5:$C$103,2,FALSE)=0,\"\",VLOOKUP(O9,'Footnotes list'!$B$5:$C$103,2,FALSE) ) )","v":""},null,null,null,null,{"$f":"IF(TRIM(T9)=\"\", \"\", IF(VLOOKUP(T9,'Footnotes list'!$B$5:$C$103,2,FALSE)=0,\"\",VLOOKUP(T9,'Footnotes list'!$B$5:$C$103,2,FALSE) ) )","v":""},null,null,null,null,{"$f":"IF(TRIM(Y9)=\"\", \"\", IF(VLOOKUP(Y9,'Footnotes list'!$B$5:$C$103,2,FALSE)=0,\"\",VLOOKUP(Y9,'Footnotes list'!$B$5:$C$103,2,FALSE) ) )","v":""},null,null,null,null,{"$f":"IF(TRIM(AD9)=\"\", \"\", IF(VLOOKUP(AD9,'Footnotes list'!$B$5:$C$103,2,FALSE)=0,\"\",VLOOKUP(AD9,'Footnotes list'!$B$5:$C$103,2,FALSE) ) )","v":""},null,null,null,null,{"$f":"IF(TRIM(AI9)=\"\", \"\", IF(VLOOKUP(AI9,'Footnotes list'!$B$5:$C$103,2,FALSE)=0,\"\",VLOOKUP(AI9,'Footnotes list'!$B$5:$C$103,2,FALSE) ) )","v":""}]
[null,null,null,null,"BE2","    VLAAMS GEWEST",null,null,null,null,{"$f":"IF(TRIM(J10)=\"\", \"\", IF(VLOOKUP(J10,'Footnotes list'!$B$5:$C$103,2,FALSE)=0,\"\",VLOOKUP(J10,'Footnotes list'!$B$5:$C$103,2,FALSE) ) )","v":""},null,null,null,null,{"$f":"IF(TRIM(O10)=\"\", \"\", IF(VLOOKUP(O10,'Footnotes list'!$B$5:$C$103,2,FALSE)=0,\"\",VLOOKUP(O10,'Footnotes list'!$B$5:$C$103,2,FALSE) ) )","v":""},null,null,null,null,{"$f":"IF(TRIM(T10)=\"\", \"\", IF(VLOOKUP(T10,'Footnotes list'!$B$5:$C$103,2,FALSE)=0,\"\",VLOOKUP(T10,'Footnotes list'!$B$5:$C$103,2,FALSE) ) )","v":""},null,null,null,null,{"$f":"IF(TRIM(Y10)=\"\", \"\", IF(VLOOKUP(Y10,'Footnotes list'!$B$5:$C$103,2,FALSE)=0,\"\",VLOOKUP(Y10,'Footnotes list'!$B$5:$C$103,2,FALSE) ) )","v":""},null,null,null,null,{"$f":"IF(TRIM(AD10)=\"\", \"\", IF(VLOOKUP(AD10,'Footnotes list'!$B$5:$C$103,2,FALSE)=0,\"\",VLOOKUP(AD10,'Footnotes list'!$B$5:$C$103,2,FALSE) ) )","v":""},null,null,null,null,{"$f":"IF(TRIM(AI10)=\"\", \"\", IF(VLOOKUP(AI10,'Footnotes list'!$B$5:$C$103,2,FALSE)=0,\"\",VLOOKUP(AI10,'Footnotes list'!$B$5:$C$103,2,FALSE) ) )","v":""}]
[null,null,null,null,"BE21","        Prov. Antwerpen",null,null,null,null,{"$f":"IF(TRIM(J11)=\"\", \"\", IF(VLOOKUP(J11,'Footnotes list'!$B$5:$C$103,2,FALSE)=0,\"\",VLOOKUP(J11,'Footnotes list'!$B$5:$C$103,2,FALSE) ) )","v":""},null,null,null,null,{"$f":"IF(TRIM(O11)=\"\", \"\", IF(VLOOKUP(O11,'Footnotes list'!$B$5:$C$103,2,FALSE)=0,\"\",VLOOKUP(O11,'Footnotes list'!$B$5:$C$103,2,FALSE) ) )","v":""},null,null,null,null,{"$f":"IF(TRIM(T11)=\"\", \"\", IF(VLOOKUP(T11,'Footnotes list'!$B$5:$C$103,2,FALSE)=0,\"\",VLOOKUP(T11,'Footnotes list'!$B$5:$C$103,2,FALSE) ) )","v":""},null,null,null,null,{"$f":"IF(TRIM(Y11)=\"\", \"\", IF(VLOOKUP(Y11,'Footnotes list'!$B$5:$C$103,2,FALSE)=0,\"\",VLOOKUP(Y11,'Footnotes list'!$B$5:$C$103,2,FALSE) ) )","v":""},null,null,null,null,{"$f":"IF(TRIM(AD11)=\"\", \"\", IF(VLOOKUP(AD11,'Footnotes list'!$B$5:$C$103,2,FALSE)=0,\"\",VLOOKUP(AD11,'Footnotes list'!$B$5:$C$103,2,FALSE) ) )","v":""},null,null,null,null,{"$f":"IF(TRIM(AI11)=\"\", \"\", IF(VLOOKUP(AI11,'Footnotes list'!$B$5:$C$103,2,FALSE)=0,\"\",VLOOKUP(AI11,'Footnotes list'!$B$5:$C$103,2,FALSE) ) )","v":""}]
[null,null,null,null,"BE22","        Prov. Limburg (BE)",null,null,null,null,{"$f":"IF(TRIM(J12)=\"\", \"\", IF(VLOOKUP(J12,'Footnotes list'!$B$5:$C$103,2,FALSE)=0,\"\",VLOOKUP(J12,'Footnotes list'!$B$5:$C$103,2,FALSE) ) )","v":""},null,null,null,null,{"$f":"IF(TRIM(O12)=\"\", \"\", IF(VLOOKUP(O12,'Footnotes list'!$B$5:$C$103,2,FALSE)=0,\"\",VLOOKUP(O12,'Footnotes list'!$B$5:$C$103,2,FALSE) ) )","v":""},null,null,null,null,{"$f":"IF(TRIM(T12)=\"\", \"\", IF(VLOOKUP(T12,'Footnotes list'!$B$5:$C$103,2,FALSE)=0,\"\",VLOOKUP(T12,'Footnotes list'!$B$5:$C$103,2,FALSE) ) )","v":""},null,null,null,null,{"$f":"IF(TRIM(Y12)=\"\", \"\", IF(VLOOKUP(Y12,'Footnotes list'!$B$5:$C$103,2,FALSE)=0,\"\",VLOOKUP(Y12,'Footnotes list'!$B$5:$C$103,2,FALSE) ) )","v":""},null,null,null,null,{"$f":"IF(TRIM(AD12)=\"\", \"\", IF(VLOOKUP(AD12,'Footnotes list'!$B$5:$C$103,2,FALSE)=0,\"\",VLOOKUP(AD12,'Footnotes list'!$B$5:$C$103,2,FALSE) ) )","v":""},null,null,null,null,{"$f":"IF(TRIM(AI12)=\"\", \"\", IF(VLOOKUP(AI12,'Footnotes list'!$B$5:$C$103,2,FALSE)=0,\"\",VLOOKUP(AI12,'Footnotes list'!$B$5:$C$103,2,FALSE) ) )","v":""}]
[null,null,null,null,"BE23","        Prov. Oost-Vlaanderen",null,null,null,null,{"$f":"IF(TRIM(J13)=\"\", \"\", IF(VLOOKUP(J13,'Footnotes list'!$B$5:$C$103,2,FALSE)=0,\"\",VLOOKUP(J13,'Footnotes list'!$B$5:$C$103,2,FALSE) ) )","v":""},null,null,null,null,{"$f":"IF(TRIM(O13)=\"\", \"\", IF(VLOOKUP(O13,'Footnotes list'!$B$5:$C$103,2,FALSE)=0,\"\",VLOOKUP(O13,'Footnotes list'!$B$5:$C$103,2,FALSE) ) )","v":""},null,null,null,null,{"$f":"IF(TRIM(T13)=\"\", \"\", IF(VLOOKUP(T13,'Footnotes list'!$B$5:$C$103,2,FALSE)=0,\"\",VLOOKUP(T13,'Footnotes list'!$B$5:$C$103,2,FALSE) ) )","v":""},null,null,null,null,{"$f":"IF(TRIM(Y13)=\"\", \"\", IF(VLOOKUP(Y13,'Footnotes list'!$B$5:$C$103,2,FALSE)=0,\"\",VLOOKUP(Y13,'Footnotes list'!$B$5:$C$103,2,FALSE) ) )","v":""},null,null,null,null,{"$f":"IF(TRIM(AD13)=\"\", \"\", IF(VLOOKUP(AD13,'Footnotes list'!$B$5:$C$103,2,FALSE)=0,\"\",VLOOKUP(AD13,'Footnotes list'!$B$5:$C$103,2,FALSE) ) )","v":""},null,null,null,null,{"$f":"IF(TRIM(AI13)=\"\", \"\", IF(VLOOKUP(AI13,'Footnotes list'!$B$5:$C$103,2,FALSE)=0,\"\",VLOOKUP(AI13,'Footnotes list'!$B$5:$C$103,2,FALSE) ) )","v":""}]
[null,null,null,"BELGIUM","BE24","        Prov. Vlaams-Brabant",null,null,null,null,{"$f":"IF(TRIM(J14)=\"\", \"\", IF(VLOOKUP(J14,'Footnotes list'!$B$5:$C$103,2,FALSE)=0,\"\",VLOOKUP(J14,'Footnotes list'!$B$5:$C$103,2,FALSE) ) )","v":""},null,null,null,null,{"$f":"IF(TRIM(O14)=\"\", \"\", IF(VLOOKUP(O14,'Footnotes list'!$B$5:$C$103,2,FALSE)=0,\"\",VLOOKUP(O14,'Footnotes list'!$B$5:$C$103,2,FALSE) ) )","v":""},null,null,null,null,{"$f":"IF(TRIM(T14)=\"\", \"\", IF(VLOOKUP(T14,'Footnotes list'!$B$5:$C$103,2,FALSE)=0,\"\",VLOOKUP(T14,'Footnotes list'!$B$5:$C$103,2,FALSE) ) )","v":""},null,null,null,null,{"$f":"IF(TRIM(Y14)=\"\", \"\", IF(VLOOKUP(Y14,'Footnotes list'!$B$5:$C$103,2,FALSE)=0,\"\",VLOOKUP(Y14,'Footnotes list'!$B$5:$C$103,2,FALSE) ) )","v":""},null,null,null,null,{"$f":"IF(TRIM(AD14)=\"\", \"\", IF(VLOOKUP(AD14,'Footnotes list'!$B$5:$C$103,2,FALSE)=0,\"\",VLOOKUP(AD14,'Footnotes list'!$B$5:$C$103,2,FALSE) ) )","v":""},null,null,null,null,{"$f":"IF(TRIM(AI14)=\"\", \"\", IF(VLOOKUP(AI14,'Footnotes list'!$B$5:$C$103,2,FALSE)=0,\"\",VLOOKUP(AI14,'Footnotes list'!$B$5:$C$103,2,FALSE) ) )","v":""}]
[null,null,null,null,"BE25","        Prov. West-Vlaanderen",null,null,null,null,{"$f":"IF(TRIM(J15)=\"\", \"\", IF(VLOOKUP(J15,'Footnotes list'!$B$5:$C$103,2,FALSE)=0,\"\",VLOOKUP(J15,'Footnotes list'!$B$5:$C$103,2,FALSE) ) )","v":""},null,null,null,null,{"$f":"IF(TRIM(O15)=\"\", \"\", IF(VLOOKUP(O15,'Footnotes list'!$B$5:$C$103,2,FALSE)=0,\"\",VLOOKUP(O15,'Footnotes list'!$B$5:$C$103,2,FALSE) ) )","v":""},null,null,null,null,{"$f":"IF(TRIM(T15)=\"\", \"\", IF(VLOOKUP(T15,'Footnotes list'!$B$5:$C$103,2,FALSE)=0,\"\",VLOOKUP(T15,'Footnotes list'!$B$5:$C$103,2,FALSE) ) )","v":""},null,null,null,null,{"$f":"IF(TRIM(Y15)=\"\", \"\", IF(VLOOKUP(Y15,'Footnotes list'!$B$5:$C$103,2,FALSE)=0,\"\",VLOOKUP(Y15,'Footnotes list'!$B$5:$C$103,2,FALSE) ) )","v":""},null,null,null,null,{"$f":"IF(TRIM(AD15)=\"\", \"\", IF(VLOOKUP(AD15,'Footnotes list'!$B$5:$C$103,2,FALSE)=0,\"\",VLOOKUP(AD15,'Footnotes list'!$B$5:$C$103,2,FALSE) ) )","v":""},null,null,null,null,{"$f":"IF(TRIM(AI15)=\"\", \"\", IF(VLOOKUP(AI15,'Footnotes list'!$B$5:$C$103,2,FALSE)=0,\"\",VLOOKUP(AI15,'Footnotes list'!$B$5:$C$103,2,FALSE) ) )","v":""}]
[null,null,null,null,"BE3","    RÉGION WALLONNE",null,null,null,null,{"$f":"IF(TRIM(J16)=\"\", \"\", IF(VLOOKUP(J16,'Footnotes list'!$B$5:$C$103,2,FALSE)=0,\"\",VLOOKUP(J16,'Footnotes list'!$B$5:$C$103,2,FALSE) ) )","v":""},null,null,null,null,{"$f":"IF(TRIM(O16)=\"\", \"\", IF(VLOOKUP(O16,'Footnotes list'!$B$5:$C$103,2,FALSE)=0,\"\",VLOOKUP(O16,'Footnotes list'!$B$5:$C$103,2,FALSE) ) )","v":""},null,null,null,null,{"$f":"IF(TRIM(T16)=\"\", \"\", IF(VLOOKUP(T16,'Footnotes list'!$B$5:$C$103,2,FALSE)=0,\"\",VLOOKUP(T16,'Footnotes list'!$B$5:$C$103,2,FALSE) ) )","v":""},null,null,null,null,{"$f":"IF(TRIM(Y16)=\"\", \"\", IF(VLOOKUP(Y16,'Footnotes list'!$B$5:$C$103,2,FALSE)=0,\"\",VLOOKUP(Y16,'Footnotes list'!$B$5:$C$103,2,FALSE) ) )","v":""},null,null,null,null,{"$f":"IF(TRIM(AD16)=\"\", \"\", IF(VLOOKUP(AD16,'Footnotes list'!$B$5:$C$103,2,FALSE)=0,\"\",VLOOKUP(AD16,'Footnotes list'!$B$5:$C$103,2,FALSE) ) )","v":""},null,null,null,null,{"$f":"IF(TRIM(AI16)=\"\", \"\", IF(VLOOKUP(AI16,'Footnotes list'!$B$5:$C$103,2,FALSE)=0,\"\",VLOOKUP(AI16,'Footnotes list'!$B$5:$C$103,2,FALSE) ) )","v":""}]
[null,null,null,null,"BE31","        Prov. Brabant Wallon",null,null,null,null,{"$f":"IF(TRIM(J17)=\"\", \"\", IF(VLOOKUP(J17,'Footnotes list'!$B$5:$C$103,2,FALSE)=0,\"\",VLOOKUP(J17,'Footnotes list'!$B$5:$C$103,2,FALSE) ) )","v":""},null,null,null,null,{"$f":"IF(TRIM(O17)=\"\", \"\", IF(VLOOKUP(O17,'Footnotes list'!$B$5:$C$103,2,FALSE)=0,\"\",VLOOKUP(O17,'Footnotes list'!$B$5:$C$103,2,FALSE) ) )","v":""},null,null,null,null,{"$f":"IF(TRIM(T17)=\"\", \"\", IF(VLOOKUP(T17,'Footnotes list'!$B$5:$C$103,2,FALSE)=0,\"\",VLOOKUP(T17,'Footnotes list'!$B$5:$C$103,2,FALSE) ) )","v":""},null,null,null,null,{"$f":"IF(TRIM(Y17)=\"\", \"\", IF(VLOOKUP(Y17,'Footnotes list'!$B$5:$C$103,2,FALSE)=0,\"\",VLOOKUP(Y17,'Footnotes list'!$B$5:$C$103,2,FALSE) ) )","v":""},null,null,null,null,{"$f":"IF(TRIM(AD17)=\"\", \"\", IF(VLOOKUP(AD17,'Footnotes list'!$B$5:$C$103,2,FALSE)=0,\"\",VLOOKUP(AD17,'Footnotes list'!$B$5:$C$103,2,FALSE) ) )","v":""},null,null,null,null,{"$f":"IF(TRIM(AI17)=\"\", \"\", IF(VLOOKUP(AI17,'Footnotes list'!$B$5:$C$103,2,FALSE)=0,\"\",VLOOKUP(AI17,'Footnotes list'!$B$5:$C$103,2,FALSE) ) )","v":""}]
[null,null,null,null,"BE32","        Prov. Hainaut",null,null,null,null,{"$f":"IF(TRIM(J18)=\"\", \"\", IF(VLOOKUP(J18,'Footnotes list'!$B$5:$C$103,2,FALSE)=0,\"\",VLOOKUP(J18,'Footnotes list'!$B$5:$C$103,2,FALSE) ) )","v":""},null,null,null,null,{"$f":"IF(TRIM(O18)=\"\", \"\", IF(VLOOKUP(O18,'Footnotes list'!$B$5:$C$103,2,FALSE)=0,\"\",VLOOKUP(O18,'Footnotes list'!$B$5:$C$103,2,FALSE) ) )","v":""},null,null,null,null,{"$f":"IF(TRIM(T18)=\"\", \"\", IF(VLOOKUP(T18,'Footnotes list'!$B$5:$C$103,2,FALSE)=0,\"\",VLOOKUP(T18,'Footnotes list'!$B$5:$C$103,2,FALSE) ) )","v":""},null,null,null,null,{"$f":"IF(TRIM(Y18)=\"\", \"\", IF(VLOOKUP(Y18,'Footnotes list'!$B$5:$C$103,2,FALSE)=0,\"\",VLOOKUP(Y18,'Footnotes list'!$B$5:$C$103,2,FALSE) ) )","v":""},null,null,null,null,{"$f":"IF(TRIM(AD18)=\"\", \"\", IF(VLOOKUP(AD18,'Footnotes list'!$B$5:$C$103,2,FALSE)=0,\"\",VLOOKUP(AD18,'Footnotes list'!$B$5:$C$103,2,FALSE) ) )","v":""},null,null,null,null,{"$f":"IF(TRIM(AI18)=\"\", \"\", IF(VLOOKUP(AI18,'Footnotes list'!$B$5:$C$103,2,FALSE)=0,\"\",VLOOKUP(AI18,'Footnotes list'!$B$5:$C$103,2,FALSE) ) )","v":""}]
[null,null,null,null,"BE33","        Prov. Liège",null,null,null,null,{"$f":"IF(TRIM(J19)=\"\", \"\", IF(VLOOKUP(J19,'Footnotes list'!$B$5:$C$103,2,FALSE)=0,\"\",VLOOKUP(J19,'Footnotes list'!$B$5:$C$103,2,FALSE) ) )","v":""},null,null,null,null,{"$f":"IF(TRIM(O19)=\"\", \"\", IF(VLOOKUP(O19,'Footnotes list'!$B$5:$C$103,2,FALSE)=0,\"\",VLOOKUP(O19,'Footnotes list'!$B$5:$C$103,2,FALSE) ) )","v":""},null,null,null,null,{"$f":"IF(TRIM(T19)=\"\", \"\", IF(VLOOKUP(T19,'Footnotes list'!$B$5:$C$103,2,FALSE)=0,\"\",VLOOKUP(T19,'Footnotes list'!$B$5:$C$103,2,FALSE) ) )","v":""},null,null,null,null,{"$f":"IF(TRIM(Y19)=\"\", \"\", IF(VLOOKUP(Y19,'Footnotes list'!$B$5:$C$103,2,FALSE)=0,\"\",VLOOKUP(Y19,'Footnotes list'!$B$5:$C$103,2,FALSE) ) )","v":""},null,null,null,null,{"$f":"IF(TRIM(AD19)=\"\", \"\", IF(VLOOKUP(AD19,'Footnotes list'!$B$5:$C$103,2,FALSE)=0,\"\",VLOOKUP(AD19,'Footnotes list'!$B$5:$C$103,2,FALSE) ) )","v":""},null,null,null,null,{"$f":"IF(TRIM(AI19)=\"\", \"\", IF(VLOOKUP(AI19,'Footnotes list'!$B$5:$C$103,2,FALSE)=0,\"\",VLOOKUP(AI19,'Footnotes list'!$B$5:$C$103,2,FALSE) ) )","v":""}]
[null,null,null,null,"BE34","        Prov. Luxembourg (BE)",null,null,null,null,{"$f":"IF(TRIM(J20)=\"\", \"\", IF(VLOOKUP(J20,'Footnotes list'!$B$5:$C$103,2,FALSE)=0,\"\",VLOOKUP(J20,'Footnotes list'!$B$5:$C$103,2,FALSE) ) )","v":""},null,null,null,null,{"$f":"IF(TRIM(O20)=\"\", \"\", IF(VLOOKUP(O20,'Footnotes list'!$B$5:$C$103,2,FALSE)=0,\"\",VLOOKUP(O20,'Footnotes list'!$B$5:$C$103,2,FALSE) ) )","v":""},null,null,null,null,{"$f":"IF(TRIM(T20)=\"\", \"\", IF(VLOOKUP(T20,'Footnotes list'!$B$5:$C$103,2,FALSE)=0,\"\",VLOOKUP(T20,'Footnotes list'!$B$5:$C$103,2,FALSE) ) )","v":""},null,null,null,null,{"$f":"IF(TRIM(Y20)=\"\", \"\", IF(VLOOKUP(Y20,'Footnotes list'!$B$5:$C$103,2,FALSE)=0,\"\",VLOOKUP(Y20,'Footnotes list'!$B$5:$C$103,2,FALSE) ) )","v":""},null,null,null,null,{"$f":"IF(TRIM(AD20)=\"\", \"\", IF(VLOOKUP(AD20,'Footnotes list'!$B$5:$C$103,2,FALSE)=0,\"\",VLOOKUP(AD20,'Footnotes list'!$B$5:$C$103,2,FALSE) ) )","v":""},null,null,null,null,{"$f":"IF(TRIM(AI20)=\"\", \"\", IF(VLOOKUP(AI20,'Footnotes list'!$B$5:$C$103,2,FALSE)=0,\"\",VLOOKUP(AI20,'Footnotes list'!$B$5:$C$103,2,FALSE) ) )","v":""}]
[null,null,null,null,"BE35","        Prov. Namur",null,null,null,null,{"$f":"IF(TRIM(J21)=\"\", \"\", IF(VLOOKUP(J21,'Footnotes list'!$B$5:$C$103,2,FALSE)=0,\"\",VLOOKUP(J21,'Footnotes list'!$B$5:$C$103,2,FALSE) ) )","v":""},null,null,null,null,{"$f":"IF(TRIM(O21)=\"\", \"\", IF(VLOOKUP(O21,'Footnotes list'!$B$5:$C$103,2,FALSE)=0,\"\",VLOOKUP(O21,'Footnotes list'!$B$5:$C$103,2,FALSE) ) )","v":""},null,null,null,null,{"$f":"IF(TRIM(T21)=\"\", \"\", IF(VLOOKUP(T21,'Footnotes list'!$B$5:$C$103,2,FALSE)=0,\"\",VLOOKUP(T21,'Footnotes list'!$B$5:$C$103,2,FALSE) ) )","v":""},null,null,null,null,{"$f":"IF(TRIM(Y21)=\"\", \"\", IF(VLOOKUP(Y21,'Footnotes list'!$B$5:$C$103,2,FALSE)=0,\"\",VLOOKUP(Y21,'Footnotes list'!$B$5:$C$103,2,FALSE) ) )","v":""},null,null,null,null,{"$f":"IF(TRIM(AD21)=\"\", \"\", IF(VLOOKUP(AD21,'Footnotes list'!$B$5:$C$103,2,FALSE)=0,\"\",VLOOKUP(AD21,'Footnotes list'!$B$5:$C$103,2,FALSE) ) )","v":""},null,null,null,null,{"$f":"IF(TRIM(AI21)=\"\", \"\", IF(VLOOKUP(AI21,'Footnotes list'!$B$5:$C$103,2,FALSE)=0,\"\",VLOOKUP(AI21,'Footnotes list'!$B$5:$C$103,2,FALSE) ) )","v":""}]
[null,null,null,null,"BG","БЪЛГАРИЯ",null,null,null,null,{"$f":"IF(TRIM(J22)=\"\", \"\", IF(VLOOKUP(J22,'Footnotes list'!$B$5:$C$103,2,FALSE)=0,\"\",VLOOKUP(J22,'Footnotes list'!$B$5:$C$103,2,FALSE) ) )","v":""},null,null,null,null,{"$f":"IF(TRIM(O22)=\"\", \"\", IF(VLOOKUP(O22,'Footnotes list'!$B$5:$C$103,2,FALSE)=0,\"\",VLOOKUP(O22,'Footnotes list'!$B$5:$C$103,2,FALSE) ) )","v":""},null,null,null,null,{"$f":"IF(TRIM(T22)=\"\", \"\", IF(VLOOKUP(T22,'Footnotes list'!$B$5:$C$103,2,FALSE)=0,\"\",VLOOKUP(T22,'Footnotes list'!$B$5:$C$103,2,FALSE) ) )","v":""},null,null,null,null,{"$f":"IF(TRIM(Y22)=\"\", \"\", IF(VLOOKUP(Y22,'Footnotes list'!$B$5:$C$103,2,FALSE)=0,\"\",VLOOKUP(Y22,'Footnotes list'!$B$5:$C$103,2,FALSE) ) )","v":""},null,null,null,null,{"$f":"IF(TRIM(AD22)=\"\", \"\", IF(VLOOKUP(AD22,'Footnotes list'!$B$5:$C$103,2,FALSE)=0,\"\",VLOOKUP(AD22,'Footnotes list'!$B$5:$C$103,2,FALSE) ) )","v":""},null,null,null,null,{"$f":"IF(TRIM(AI22)=\"\", \"\", IF(VLOOKUP(AI22,'Footnotes list'!$B$5:$C$103,2,FALSE)=0,\"\",VLOOKUP(AI22,'Footnotes list'!$B$5:$C$103,2,FALSE) ) )","v":""}]
[null,null,null,null,"BG3","    СЕВЕРНА И ЮГОИЗТОЧНА БЪЛГАРИЯ",null,null,null,null,{"$f":"IF(TRIM(J23)=\"\", \"\", IF(VLOOKUP(J23,'Footnotes list'!$B$5:$C$103,2,FALSE)=0,\"\",VLOOKUP(J23,'Footnotes list'!$B$5:$C$103,2,FALSE) ) )","v":""},null,null,null,null,{"$f":"IF(TRIM(O23)=\"\", \"\", IF(VLOOKUP(O23,'Footnotes list'!$B$5:$C$103,2,FALSE)=0,\"\",VLOOKUP(O23,'Footnotes list'!$B$5:$C$103,2,FALSE) ) )","v":""},null,null,null,null,{"$f":"IF(TRIM(T23)=\"\", \"\", IF(VLOOKUP(T23,'Footnotes list'!$B$5:$C$103,2,FALSE)=0,\"\",VLOOKUP(T23,'Footnotes list'!$B$5:$C$103,2,FALSE) ) )","v":""},null,null,null,null,{"$f":"IF(TRIM(Y23)=\"\", \"\", IF(VLOOKUP(Y23,'Footnotes list'!$B$5:$C$103,2,FALSE)=0,\"\",VLOOKUP(Y23,'Footnotes list'!$B$5:$C$103,2,FALSE) ) )","v":""},null,null,null,null,{"$f":"IF(TRIM(AD23)=\"\", \"\", IF(VLOOKUP(AD23,'Footnotes list'!$B$5:$C$103,2,FALSE)=0,\"\",VLOOKUP(AD23,'Footnotes list'!$B$5:$C$103,2,FALSE) ) )","v":""},null,null,null,null,{"$f":"IF(TRIM(AI23)=\"\", \"\", IF(VLOOKUP(AI23,'Footnotes list'!$B$5:$C$103,2,FALSE)=0,\"\",VLOOKUP(AI23,'Footnotes list'!$B$5:$C$103,2,FALSE) ) )","v":""}]
[null,null,null,null,"BG31","        Северозападен",null,null,null,null,{"$f":"IF(TRIM(J24)=\"\", \"\", IF(VLOOKUP(J24,'Footnotes list'!$B$5:$C$103,2,FALSE)=0,\"\",VLOOKUP(J24,'Footnotes list'!$B$5:$C$103,2,FALSE) ) )","v":""},null,null,null,null,{"$f":"IF(TRIM(O24)=\"\", \"\", IF(VLOOKUP(O24,'Footnotes list'!$B$5:$C$103,2,FALSE)=0,\"\",VLOOKUP(O24,'Footnotes list'!$B$5:$C$103,2,FALSE) ) )","v":""},null,null,null,null,{"$f":"IF(TRIM(T24)=\"\", \"\", IF(VLOOKUP(T24,'Footnotes list'!$B$5:$C$103,2,FALSE)=0,\"\",VLOOKUP(T24,'Footnotes list'!$B$5:$C$103,2,FALSE) ) )","v":""},null,null,null,null,{"$f":"IF(TRIM(Y24)=\"\", \"\", IF(VLOOKUP(Y24,'Footnotes list'!$B$5:$C$103,2,FALSE)=0,\"\",VLOOKUP(Y24,'Footnotes list'!$B$5:$C$103,2,FALSE) ) )","v":""},null,null,null,null,{"$f":"IF(TRIM(AD24)=\"\", \"\", IF(VLOOKUP(AD24,'Footnotes list'!$B$5:$C$103,2,FALSE)=0,\"\",VLOOKUP(AD24,'Footnotes list'!$B$5:$C$103,2,FALSE) ) )","v":""},null,null,null,null,{"$f":"IF(TRIM(AI24)=\"\", \"\", IF(VLOOKUP(AI24,'Footnotes list'!$B$5:$C$103,2,FALSE)=0,\"\",VLOOKUP(AI24,'Footnotes list'!$B$5:$C$103,2,FALSE) ) )","v":""}]
[null,null,null,null,"BG32","        Северен централен",null,null,null,null,{"$f":"IF(TRIM(J25)=\"\", \"\", IF(VLOOKUP(J25,'Footnotes list'!$B$5:$C$103,2,FALSE)=0,\"\",VLOOKUP(J25,'Footnotes list'!$B$5:$C$103,2,FALSE) ) )","v":""},null,null,null,null,{"$f":"IF(TRIM(O25)=\"\", \"\", IF(VLOOKUP(O25,'Footnotes list'!$B$5:$C$103,2,FALSE)=0,\"\",VLOOKUP(O25,'Footnotes list'!$B$5:$C$103,2,FALSE) ) )","v":""},null,null,null,null,{"$f":"IF(TRIM(T25)=\"\", \"\", IF(VLOOKUP(T25,'Footnotes list'!$B$5:$C$103,2,FALSE)=0,\"\",VLOOKUP(T25,'Footnotes list'!$B$5:$C$103,2,FALSE) ) )","v":""},null,null,null,null,{"$f":"IF(TRIM(Y25)=\"\", \"\", IF(VLOOKUP(Y25,'Footnotes list'!$B$5:$C$103,2,FALSE)=0,\"\",VLOOKUP(Y25,'Footnotes list'!$B$5:$C$103,2,FALSE) ) )","v":""},null,null,null,null,{"$f":"IF(TRIM(AD25)=\"\", \"\", IF(VLOOKUP(AD25,'Footnotes list'!$B$5:$C$103,2,FALSE)=0,\"\",VLOOKUP(AD25,'Footnotes list'!$B$5:$C$103,2,FALSE) ) )","v":""},null,null,null,null,{"$f":"IF(TRIM(AI25)=\"\", \"\", IF(VLOOKUP(AI25,'Footnotes list'!$B$5:$C$103,2,FALSE)=0,\"\",VLOOKUP(AI25,'Footnotes list'!$B$5:$C$103,2,FALSE) ) )","v":""}]
[null,null,null,"BULGARIA","BG33","        Североизточен",null,null,null,null,{"$f":"IF(TRIM(J26)=\"\", \"\", IF(VLOOKUP(J26,'Footnotes list'!$B$5:$C$103,2,FALSE)=0,\"\",VLOOKUP(J26,'Footnotes list'!$B$5:$C$103,2,FALSE) ) )","v":""},null,null,null,null,{"$f":"IF(TRIM(O26)=\"\", \"\", IF(VLOOKUP(O26,'Footnotes list'!$B$5:$C$103,2,FALSE)=0,\"\",VLOOKUP(O26,'Footnotes list'!$B$5:$C$103,2,FALSE) ) )","v":""},null,null,null,null,{"$f":"IF(TRIM(T26)=\"\", \"\", IF(VLOOKUP(T26,'Footnotes list'!$B$5:$C$103,2,FALSE)=0,\"\",VLOOKUP(T26,'Footnotes list'!$B$5:$C$103,2,FALSE) ) )","v":""},null,null,null,null,{"$f":"IF(TRIM(Y26)=\"\", \"\", IF(VLOOKUP(Y26,'Footnotes list'!$B$5:$C$103,2,FALSE)=0,\"\",VLOOKUP(Y26,'Footnotes list'!$B$5:$C$103,2,FALSE) ) )","v":""},null,null,null,null,{"$f":"IF(TRIM(AD26)=\"\", \"\", IF(VLOOKUP(AD26,'Footnotes list'!$B$5:$C$103,2,FALSE)=0,\"\",VLOOKUP(AD26,'Footnotes list'!$B$5:$C$103,2,FALSE) ) )","v":""},null,null,null,null,{"$f":"IF(TRIM(AI26)=\"\", \"\", IF(VLOOKUP(AI26,'Footnotes list'!$B$5:$C$103,2,FALSE)=0,\"\",VLOOKUP(AI26,'Footnotes list'!$B$5:$C$103,2,FALSE) ) )","v":""}]
[null,null,null,null,"BG34","        Югоизточен",null,null,null,null,{"$f":"IF(TRIM(J27)=\"\", \"\", IF(VLOOKUP(J27,'Footnotes list'!$B$5:$C$103,2,FALSE)=0,\"\",VLOOKUP(J27,'Footnotes list'!$B$5:$C$103,2,FALSE) ) )","v":""},null,null,null,null,{"$f":"IF(TRIM(O27)=\"\", \"\", IF(VLOOKUP(O27,'Footnotes list'!$B$5:$C$103,2,FALSE)=0,\"\",VLOOKUP(O27,'Footnotes list'!$B$5:$C$103,2,FALSE) ) )","v":""},null,null,null,null,{"$f":"IF(TRIM(T27)=\"\", \"\", IF(VLOOKUP(T27,'Footnotes list'!$B$5:$C$103,2,FALSE)=0,\"\",VLOOKUP(T27,'Footnotes list'!$B$5:$C$103,2,FALSE) ) )","v":""},null,null,null,null,{"$f":"IF(TRIM(Y27)=\"\", \"\", IF(VLOOKUP(Y27,'Footnotes list'!$B$5:$C$103,2,FALSE)=0,\"\",VLOOKUP(Y27,'Footnotes list'!$B$5:$C$103,2,FALSE) ) )","v":""},null,null,null,null,{"$f":"IF(TRIM(AD27)=\"\", \"\", IF(VLOOKUP(AD27,'Footnotes list'!$B$5:$C$103,2,FALSE)=0,\"\",VLOOKUP(AD27,'Footnotes list'!$B$5:$C$103,2,FALSE) ) )","v":""},null,null,null,null,{"$f":"IF(TRIM(AI27)=\"\", \"\", IF(VLOOKUP(AI27,'Footnotes list'!$B$5:$C$103,2,FALSE)=0,\"\",VLOOKUP(AI27,'Footnotes list'!$B$5:$C$103,2,FALSE) ) )","v":""}]
[null,null,null,null,"BG4","    ЮГОЗАПАДНА И ЮЖНА ЦЕНТРАЛНА БЪЛГАРИЯ",null,null,null,null,{"$f":"IF(TRIM(J28)=\"\", \"\", IF(VLOOKUP(J28,'Footnotes list'!$B$5:$C$103,2,FALSE)=0,\"\",VLOOKUP(J28,'Footnotes list'!$B$5:$C$103,2,FALSE) ) )","v":""},null,null,null,null,{"$f":"IF(TRIM(O28)=\"\", \"\", IF(VLOOKUP(O28,'Footnotes list'!$B$5:$C$103,2,FALSE)=0,\"\",VLOOKUP(O28,'Footnotes list'!$B$5:$C$103,2,FALSE) ) )","v":""},null,null,null,null,{"$f":"IF(TRIM(T28)=\"\", \"\", IF(VLOOKUP(T28,'Footnotes list'!$B$5:$C$103,2,FALSE)=0,\"\",VLOOKUP(T28,'Footnotes list'!$B$5:$C$103,2,FALSE) ) )","v":""},null,null,null,null,{"$f":"IF(TRIM(Y28)=\"\", \"\", IF(VLOOKUP(Y28,'Footnotes list'!$B$5:$C$103,2,FALSE)=0,\"\",VLOOKUP(Y28,'Footnotes list'!$B$5:$C$103,2,FALSE) ) )","v":""},null,null,null,null,{"$f":"IF(TRIM(AD28)=\"\", \"\", IF(VLOOKUP(AD28,'Footnotes list'!$B$5:$C$103,2,FALSE)=0,\"\",VLOOKUP(AD28,'Footnotes list'!$B$5:$C$103,2,FALSE) ) )","v":""},null,null,null,null,{"$f":"IF(TRIM(AI28)=\"\", \"\", IF(VLOOKUP(AI28,'Footnotes list'!$B$5:$C$103,2,FALSE)=0,\"\",VLOOKUP(AI28,'Footnotes list'!$B$5:$C$103,2,FALSE) ) )","v":""}]
[null,null,null,null,"BG41","        Югозападен",null,null,null,null,{"$f":"IF(TRIM(J29)=\"\", \"\", IF(VLOOKUP(J29,'Footnotes list'!$B$5:$C$103,2,FALSE)=0,\"\",VLOOKUP(J29,'Footnotes list'!$B$5:$C$103,2,FALSE) ) )","v":""},null,null,null,null,{"$f":"IF(TRIM(O29)=\"\", \"\", IF(VLOOKUP(O29,'Footnotes list'!$B$5:$C$103,2,FALSE)=0,\"\",VLOOKUP(O29,'Footnotes list'!$B$5:$C$103,2,FALSE) ) )","v":""},null,null,null,null,{"$f":"IF(TRIM(T29)=\"\", \"\", IF(VLOOKUP(T29,'Footnotes list'!$B$5:$C$103,2,FALSE)=0,\"\",VLOOKUP(T29,'Footnotes list'!$B$5:$C$103,2,FALSE) ) )","v":""},null,null,null,null,{"$f":"IF(TRIM(Y29)=\"\", \"\", IF(VLOOKUP(Y29,'Footnotes list'!$B$5:$C$103,2,FALSE)=0,\"\",VLOOKUP(Y29,'Footnotes list'!$B$5:$C$103,2,FALSE) ) )","v":""},null,null,null,null,{"$f":"IF(TRIM(AD29)=\"\", \"\", IF(VLOOKUP(AD29,'Footnotes list'!$B$5:$C$103,2,FALSE)=0,\"\",VLOOKUP(AD29,'Footnotes list'!$B$5:$C$103,2,FALSE) ) )","v":""},null,null,null,null,{"$f":"IF(TRIM(AI29)=\"\", \"\", IF(VLOOKUP(AI29,'Footnotes list'!$B$5:$C$103,2,FALSE)=0,\"\",VLOOKUP(AI29,'Footnotes list'!$B$5:$C$103,2,FALSE) ) )","v":""}]
[null,null,null,null,"BG42","        Южен централен",null,null,null,null,{"$f":"IF(TRIM(J30)=\"\", \"\", IF(VLOOKUP(J30,'Footnotes list'!$B$5:$C$103,2,FALSE)=0,\"\",VLOOKUP(J30,'Footnotes list'!$B$5:$C$103,2,FALSE) ) )","v":""},null,null,null,null,{"$f":"IF(TRIM(O30)=\"\", \"\", IF(VLOOKUP(O30,'Footnotes list'!$B$5:$C$103,2,FALSE)=0,\"\",VLOOKUP(O30,'Footnotes list'!$B$5:$C$103,2,FALSE) ) )","v":""},null,null,null,null,{"$f":"IF(TRIM(T30)=\"\", \"\", IF(VLOOKUP(T30,'Footnotes list'!$B$5:$C$103,2,FALSE)=0,\"\",VLOOKUP(T30,'Footnotes list'!$B$5:$C$103,2,FALSE) ) )","v":""},null,null,null,null,{"$f":"IF(TRIM(Y30)=\"\", \"\", IF(VLOOKUP(Y30,'Footnotes list'!$B$5:$C$103,2,FALSE)=0,\"\",VLOOKUP(Y30,'Footnotes list'!$B$5:$C$103,2,FALSE) ) )","v":""},null,null,null,null,{"$f":"IF(TRIM(AD30)=\"\", \"\", IF(VLOOKUP(AD30,'Footnotes list'!$B$5:$C$103,2,FALSE)=0,\"\",VLOOKUP(AD30,'Footnotes list'!$B$5:$C$103,2,FALSE) ) )","v":""},null,null,null,null,{"$f":"IF(TRIM(AI30)=\"\", \"\", IF(VLOOKUP(AI30,'Footnotes list'!$B$5:$C$103,2,FALSE)=0,\"\",VLOOKUP(AI30,'Footnotes list'!$B$5:$C$103,2,FALSE) ) )","v":""}]
[null,null,null,null,"CZ","ČESKÁ REPUBLIKA",null,null,null,null,{"$f":"IF(TRIM(J31)=\"\", \"\", IF(VLOOKUP(J31,'Footnotes list'!$B$5:$C$103,2,FALSE)=0,\"\",VLOOKUP(J31,'Footnotes list'!$B$5:$C$103,2,FALSE) ) )","v":""},null,null,null,null,{"$f":"IF(TRIM(O31)=\"\", \"\", IF(VLOOKUP(O31,'Footnotes list'!$B$5:$C$103,2,FALSE)=0,\"\",VLOOKUP(O31,'Footnotes list'!$B$5:$C$103,2,FALSE) ) )","v":""},null,null,null,null,{"$f":"IF(TRIM(T31)=\"\", \"\", IF(VLOOKUP(T31,'Footnotes list'!$B$5:$C$103,2,FALSE)=0,\"\",VLOOKUP(T31,'Footnotes list'!$B$5:$C$103,2,FALSE) ) )","v":""},null,null,null,null,{"$f":"IF(TRIM(Y31)=\"\", \"\", IF(VLOOKUP(Y31,'Footnotes list'!$B$5:$C$103,2,FALSE)=0,\"\",VLOOKUP(Y31,'Footnotes list'!$B$5:$C$103,2,FALSE) ) )","v":""},null,null,null,null,{"$f":"IF(TRIM(AD31)=\"\", \"\", IF(VLOOKUP(AD31,'Footnotes list'!$B$5:$C$103,2,FALSE)=0,\"\",VLOOKUP(AD31,'Footnotes list'!$B$5:$C$103,2,FALSE) ) )","v":""},null,null,null,null,{"$f":"IF(TRIM(AI31)=\"\", \"\", IF(VLOOKUP(AI31,'Footnotes list'!$B$5:$C$103,2,FALSE)=0,\"\",VLOOKUP(AI31,'Footnotes list'!$B$5:$C$103,2,FALSE) ) )","v":""}]
[null,null,null,null,"CZ01","    Praha",null,null,null,null,{"$f":"IF(TRIM(J32)=\"\", \"\", IF(VLOOKUP(J32,'Footnotes list'!$B$5:$C$103,2,FALSE)=0,\"\",VLOOKUP(J32,'Footnotes list'!$B$5:$C$103,2,FALSE) ) )","v":""},null,null,null,null,{"$f":"IF(TRIM(O32)=\"\", \"\", IF(VLOOKUP(O32,'Footnotes list'!$B$5:$C$103,2,FALSE)=0,\"\",VLOOKUP(O32,'Footnotes list'!$B$5:$C$103,2,FALSE) ) )","v":""},null,null,null,null,{"$f":"IF(TRIM(T32)=\"\", \"\", IF(VLOOKUP(T32,'Footnotes list'!$B$5:$C$103,2,FALSE)=0,\"\",VLOOKUP(T32,'Footnotes list'!$B$5:$C$103,2,FALSE) ) )","v":""},null,null,null,null,{"$f":"IF(TRIM(Y32)=\"\", \"\", IF(VLOOKUP(Y32,'Footnotes list'!$B$5:$C$103,2,FALSE)=0,\"\",VLOOKUP(Y32,'Footnotes list'!$B$5:$C$103,2,FALSE) ) )","v":""},null,null,null,null,{"$f":"IF(TRIM(AD32)=\"\", \"\", IF(VLOOKUP(AD32,'Footnotes list'!$B$5:$C$103,2,FALSE)=0,\"\",VLOOKUP(AD32,'Footnotes list'!$B$5:$C$103,2,FALSE) ) )","v":""},null,null,null,null,{"$f":"IF(TRIM(AI32)=\"\", \"\", IF(VLOOKUP(AI32,'Footnotes list'!$B$5:$C$103,2,FALSE)=0,\"\",VLOOKUP(AI32,'Footnotes list'!$B$5:$C$103,2,FALSE) ) )","v":""}]
[null,null,null,null,"CZ02","    Střední Čechy",null,null,null,null,{"$f":"IF(TRIM(J33)=\"\", \"\", IF(VLOOKUP(J33,'Footnotes list'!$B$5:$C$103,2,FALSE)=0,\"\",VLOOKUP(J33,'Footnotes list'!$B$5:$C$103,2,FALSE) ) )","v":""},null,null,null,null,{"$f":"IF(TRIM(O33)=\"\", \"\", IF(VLOOKUP(O33,'Footnotes list'!$B$5:$C$103,2,FALSE)=0,\"\",VLOOKUP(O33,'Footnotes list'!$B$5:$C$103,2,FALSE) ) )","v":""},null,null,null,null,{"$f":"IF(TRIM(T33)=\"\", \"\", IF(VLOOKUP(T33,'Footnotes list'!$B$5:$C$103,2,FALSE)=0,\"\",VLOOKUP(T33,'Footnotes list'!$B$5:$C$103,2,FALSE) ) )","v":""},null,null,null,null,{"$f":"IF(TRIM(Y33)=\"\", \"\", IF(VLOOKUP(Y33,'Footnotes list'!$B$5:$C$103,2,FALSE)=0,\"\",VLOOKUP(Y33,'Footnotes list'!$B$5:$C$103,2,FALSE) ) )","v":""},null,null,null,null,{"$f":"IF(TRIM(AD33)=\"\", \"\", IF(VLOOKUP(AD33,'Footnotes list'!$B$5:$C$103,2,FALSE)=0,\"\",VLOOKUP(AD33,'Footnotes list'!$B$5:$C$103,2,FALSE) ) )","v":""},null,null,null,null,{"$f":"IF(TRIM(AI33)=\"\", \"\", IF(VLOOKUP(AI33,'Footnotes list'!$B$5:$C$103,2,FALSE)=0,\"\",VLOOKUP(AI33,'Footnotes list'!$B$5:$C$103,2,FALSE) ) )","v":""}]
[null,null,null,null,"CZ03","    Jihozápad",null,null,null,null,{"$f":"IF(TRIM(J34)=\"\", \"\", IF(VLOOKUP(J34,'Footnotes list'!$B$5:$C$103,2,FALSE)=0,\"\",VLOOKUP(J34,'Footnotes list'!$B$5:$C$103,2,FALSE) ) )","v":""},null,null,null,null,{"$f":"IF(TRIM(O34)=\"\", \"\", IF(VLOOKUP(O34,'Footnotes list'!$B$5:$C$103,2,FALSE)=0,\"\",VLOOKUP(O34,'Footnotes list'!$B$5:$C$103,2,FALSE) ) )","v":""},null,null,null,null,{"$f":"IF(TRIM(T34)=\"\", \"\", IF(VLOOKUP(T34,'Footnotes list'!$B$5:$C$103,2,FALSE)=0,\"\",VLOOKUP(T34,'Footnotes list'!$B$5:$C$103,2,FALSE) ) )","v":""},null,null,null,null,{"$f":"IF(TRIM(Y34)=\"\", \"\", IF(VLOOKUP(Y34,'Footnotes list'!$B$5:$C$103,2,FALSE)=0,\"\",VLOOKUP(Y34,'Footnotes list'!$B$5:$C$103,2,FALSE) ) )","v":""},null,null,null,null,{"$f":"IF(TRIM(AD34)=\"\", \"\", IF(VLOOKUP(AD34,'Footnotes list'!$B$5:$C$103,2,FALSE)=0,\"\",VLOOKUP(AD34,'Footnotes list'!$B$5:$C$103,2,FALSE) ) )","v":""},null,null,null,null,{"$f":"IF(TRIM(AI34)=\"\", \"\", IF(VLOOKUP(AI34,'Footnotes list'!$B$5:$C$103,2,FALSE)=0,\"\",VLOOKUP(AI34,'Footnotes list'!$B$5:$C$103,2,FALSE) ) )","v":""}]
[null,null,null,"CZECHIA","CZ04","    Severozápad",null,null,null,null,{"$f":"IF(TRIM(J35)=\"\", \"\", IF(VLOOKUP(J35,'Footnotes list'!$B$5:$C$103,2,FALSE)=0,\"\",VLOOKUP(J35,'Footnotes list'!$B$5:$C$103,2,FALSE) ) )","v":""},null,null,null,null,{"$f":"IF(TRIM(O35)=\"\", \"\", IF(VLOOKUP(O35,'Footnotes list'!$B$5:$C$103,2,FALSE)=0,\"\",VLOOKUP(O35,'Footnotes list'!$B$5:$C$103,2,FALSE) ) )","v":""},null,null,null,null,{"$f":"IF(TRIM(T35)=\"\", \"\", IF(VLOOKUP(T35,'Footnotes list'!$B$5:$C$103,2,FALSE)=0,\"\",VLOOKUP(T35,'Footnotes list'!$B$5:$C$103,2,FALSE) ) )","v":""},null,null,null,null,{"$f":"IF(TRIM(Y35)=\"\", \"\", IF(VLOOKUP(Y35,'Footnotes list'!$B$5:$C$103,2,FALSE)=0,\"\",VLOOKUP(Y35,'Footnotes list'!$B$5:$C$103,2,FALSE) ) )","v":""},null,null,null,null,{"$f":"IF(TRIM(AD35)=\"\", \"\", IF(VLOOKUP(AD35,'Footnotes list'!$B$5:$C$103,2,FALSE)=0,\"\",VLOOKUP(AD35,'Footnotes list'!$B$5:$C$103,2,FALSE) ) )","v":""},null,null,null,null,{"$f":"IF(TRIM(AI35)=\"\", \"\", IF(VLOOKUP(AI35,'Footnotes list'!$B$5:$C$103,2,FALSE)=0,\"\",VLOOKUP(AI35,'Footnotes list'!$B$5:$C$103,2,FALSE) ) )","v":""}]
[null,null,null,null,"CZ05","    Severovýchod",null,null,null,null,{"$f":"IF(TRIM(J36)=\"\", \"\", IF(VLOOKUP(J36,'Footnotes list'!$B$5:$C$103,2,FALSE)=0,\"\",VLOOKUP(J36,'Footnotes list'!$B$5:$C$103,2,FALSE) ) )","v":""},null,null,null,null,{"$f":"IF(TRIM(O36)=\"\", \"\", IF(VLOOKUP(O36,'Footnotes list'!$B$5:$C$103,2,FALSE)=0,\"\",VLOOKUP(O36,'Footnotes list'!$B$5:$C$103,2,FALSE) ) )","v":""},null,null,null,null,{"$f":"IF(TRIM(T36)=\"\", \"\", IF(VLOOKUP(T36,'Footnotes list'!$B$5:$C$103,2,FALSE)=0,\"\",VLOOKUP(T36,'Footnotes list'!$B$5:$C$103,2,FALSE) ) )","v":""},null,null,null,null,{"$f":"IF(TRIM(Y36)=\"\", \"\", IF(VLOOKUP(Y36,'Footnotes list'!$B$5:$C$103,2,FALSE)=0,\"\",VLOOKUP(Y36,'Footnotes list'!$B$5:$C$103,2,FALSE) ) )","v":""},null,null,null,null,{"$f":"IF(TRIM(AD36)=\"\", \"\", IF(VLOOKUP(AD36,'Footnotes list'!$B$5:$C$103,2,FALSE)=0,\"\",VLOOKUP(AD36,'Footnotes list'!$B$5:$C$103,2,FALSE) ) )","v":""},null,null,null,null,{"$f":"IF(TRIM(AI36)=\"\", \"\", IF(VLOOKUP(AI36,'Footnotes list'!$B$5:$C$103,2,FALSE)=0,\"\",VLOOKUP(AI36,'Footnotes list'!$B$5:$C$103,2,FALSE) ) )","v":""}]
[null,null,null,null,"CZ06","    Jihovýchod",null,null,null,null,{"$f":"IF(TRIM(J37)=\"\", \"\", IF(VLOOKUP(J37,'Footnotes list'!$B$5:$C$103,2,FALSE)=0,\"\",VLOOKUP(J37,'Footnotes list'!$B$5:$C$103,2,FALSE) ) )","v":""},null,null,null,null,{"$f":"IF(TRIM(O37)=\"\", \"\", IF(VLOOKUP(O37,'Footnotes list'!$B$5:$C$103,2,FALSE)=0,\"\",VLOOKUP(O37,'Footnotes list'!$B$5:$C$103,2,FALSE) ) )","v":""},null,null,null,null,{"$f":"IF(TRIM(T37)=\"\", \"\", IF(VLOOKUP(T37,'Footnotes list'!$B$5:$C$103,2,FALSE)=0,\"\",VLOOKUP(T37,'Footnotes list'!$B$5:$C$103,2,FALSE) ) )","v":""},null,null,null,null,{"$f":"IF(TRIM(Y37)=\"\", \"\", IF(VLOOKUP(Y37,'Footnotes list'!$B$5:$C$103,2,FALSE)=0,\"\",VLOOKUP(Y37,'Footnotes list'!$B$5:$C$103,2,FALSE) ) )","v":""},null,null,null,null,{"$f":"IF(TRIM(AD37)=\"\", \"\", IF(VLOOKUP(AD37,'Footnotes list'!$B$5:$C$103,2,FALSE)=0,\"\",VLOOKUP(AD37,'Footnotes list'!$B$5:$C$103,2,FALSE) ) )","v":""},null,null,null,null,{"$f":"IF(TRIM(AI37)=\"\", \"\", IF(VLOOKUP(AI37,'Footnotes list'!$B$5:$C$103,2,FALSE)=0,\"\",VLOOKUP(AI37,'Footnotes list'!$B$5:$C$103,2,FALSE) ) )","v":""}]
[null,null,null,null,"CZ07","    Střední Morava",null,null,null,null,{"$f":"IF(TRIM(J38)=\"\", \"\", IF(VLOOKUP(J38,'Footnotes list'!$B$5:$C$103,2,FALSE)=0,\"\",VLOOKUP(J38,'Footnotes list'!$B$5:$C$103,2,FALSE) ) )","v":""},null,null,null,null,{"$f":"IF(TRIM(O38)=\"\", \"\", IF(VLOOKUP(O38,'Footnotes list'!$B$5:$C$103,2,FALSE)=0,\"\",VLOOKUP(O38,'Footnotes list'!$B$5:$C$103,2,FALSE) ) )","v":""},null,null,null,null,{"$f":"IF(TRIM(T38)=\"\", \"\", IF(VLOOKUP(T38,'Footnotes list'!$B$5:$C$103,2,FALSE)=0,\"\",VLOOKUP(T38,'Footnotes list'!$B$5:$C$103,2,FALSE) ) )","v":""},null,null,null,null,{"$f":"IF(TRIM(Y38)=\"\", \"\", IF(VLOOKUP(Y38,'Footnotes list'!$B$5:$C$103,2,FALSE)=0,\"\",VLOOKUP(Y38,'Footnotes list'!$B$5:$C$103,2,FALSE) ) )","v":""},null,null,null,null,{"$f":"IF(TRIM(AD38)=\"\", \"\", IF(VLOOKUP(AD38,'Footnotes list'!$B$5:$C$103,2,FALSE)=0,\"\",VLOOKUP(AD38,'Footnotes list'!$B$5:$C$103,2,FALSE) ) )","v":""},null,null,null,null,{"$f":"IF(TRIM(AI38)=\"\", \"\", IF(VLOOKUP(AI38,'Footnotes list'!$B$5:$C$103,2,FALSE)=0,\"\",VLOOKUP(AI38,'Footnotes list'!$B$5:$C$103,2,FALSE) ) )","v":""}]
[null,null,null,null,"CZ08","    Moravskoslezsko",null,null,null,null,{"$f":"IF(TRIM(J39)=\"\", \"\", IF(VLOOKUP(J39,'Footnotes list'!$B$5:$C$103,2,FALSE)=0,\"\",VLOOKUP(J39,'Footnotes list'!$B$5:$C$103,2,FALSE) ) )","v":""},null,null,null,null,{"$f":"IF(TRIM(O39)=\"\", \"\", IF(VLOOKUP(O39,'Footnotes list'!$B$5:$C$103,2,FALSE)=0,\"\",VLOOKUP(O39,'Footnotes list'!$B$5:$C$103,2,FALSE) ) )","v":""},null,null,null,null,{"$f":"IF(TRIM(T39)=\"\", \"\", IF(VLOOKUP(T39,'Footnotes list'!$B$5:$C$103,2,FALSE)=0,\"\",VLOOKUP(T39,'Footnotes list'!$B$5:$C$103,2,FALSE) ) )","v":""},null,null,null,null,{"$f":"IF(TRIM(Y39)=\"\", \"\", IF(VLOOKUP(Y39,'Footnotes list'!$B$5:$C$103,2,FALSE)=0,\"\",VLOOKUP(Y39,'Footnotes list'!$B$5:$C$103,2,FALSE) ) )","v":""},null,null,null,null,{"$f":"IF(TRIM(AD39)=\"\", \"\", IF(VLOOKUP(AD39,'Footnotes list'!$B$5:$C$103,2,FALSE)=0,\"\",VLOOKUP(AD39,'Footnotes list'!$B$5:$C$103,2,FALSE) ) )","v":""},null,null,null,null,{"$f":"IF(TRIM(AI39)=\"\", \"\", IF(VLOOKUP(AI39,'Footnotes list'!$B$5:$C$103,2,FALSE)=0,\"\",VLOOKUP(AI39,'Footnotes list'!$B$5:$C$103,2,FALSE) ) )","v":""}]
[null,null,null,null,"DK","DANMARK",null,null,null,null,{"$f":"IF(TRIM(J40)=\"\", \"\", IF(VLOOKUP(J40,'Footnotes list'!$B$5:$C$103,2,FALSE)=0,\"\",VLOOKUP(J40,'Footnotes list'!$B$5:$C$103,2,FALSE) ) )","v":""},null,null,null,null,{"$f":"IF(TRIM(O40)=\"\", \"\", IF(VLOOKUP(O40,'Footnotes list'!$B$5:$C$103,2,FALSE)=0,\"\",VLOOKUP(O40,'Footnotes list'!$B$5:$C$103,2,FALSE) ) )","v":""},null,null,null,null,{"$f":"IF(TRIM(T40)=\"\", \"\", IF(VLOOKUP(T40,'Footnotes list'!$B$5:$C$103,2,FALSE)=0,\"\",VLOOKUP(T40,'Footnotes list'!$B$5:$C$103,2,FALSE) ) )","v":""},null,null,null,null,{"$f":"IF(TRIM(Y40)=\"\", \"\", IF(VLOOKUP(Y40,'Footnotes list'!$B$5:$C$103,2,FALSE)=0,\"\",VLOOKUP(Y40,'Footnotes list'!$B$5:$C$103,2,FALSE) ) )","v":""},null,null,null,null,{"$f":"IF(TRIM(AD40)=\"\", \"\", IF(VLOOKUP(AD40,'Footnotes list'!$B$5:$C$103,2,FALSE)=0,\"\",VLOOKUP(AD40,'Footnotes list'!$B$5:$C$103,2,FALSE) ) )","v":""},null,null,null,null,{"$f":"IF(TRIM(AI40)=\"\", \"\", IF(VLOOKUP(AI40,'Footnotes list'!$B$5:$C$103,2,FALSE)=0,\"\",VLOOKUP(AI40,'Footnotes list'!$B$5:$C$103,2,FALSE) ) )","v":""}]
[null,null,null,null,"DK01","    Hovedstaden",null,null,null,null,{"$f":"IF(TRIM(J41)=\"\", \"\", IF(VLOOKUP(J41,'Footnotes list'!$B$5:$C$103,2,FALSE)=0,\"\",VLOOKUP(J41,'Footnotes list'!$B$5:$C$103,2,FALSE) ) )","v":""},null,null,null,null,{"$f":"IF(TRIM(O41)=\"\", \"\", IF(VLOOKUP(O41,'Footnotes list'!$B$5:$C$103,2,FALSE)=0,\"\",VLOOKUP(O41,'Footnotes list'!$B$5:$C$103,2,FALSE) ) )","v":""},null,null,null,null,{"$f":"IF(TRIM(T41)=\"\", \"\", IF(VLOOKUP(T41,'Footnotes list'!$B$5:$C$103,2,FALSE)=0,\"\",VLOOKUP(T41,'Footnotes list'!$B$5:$C$103,2,FALSE) ) )","v":""},null,null,null,null,{"$f":"IF(TRIM(Y41)=\"\", \"\", IF(VLOOKUP(Y41,'Footnotes list'!$B$5:$C$103,2,FALSE)=0,\"\",VLOOKUP(Y41,'Footnotes list'!$B$5:$C$103,2,FALSE) ) )","v":""},null,null,null,null,{"$f":"IF(TRIM(AD41)=\"\", \"\", IF(VLOOKUP(AD41,'Footnotes list'!$B$5:$C$103,2,FALSE)=0,\"\",VLOOKUP(AD41,'Footnotes list'!$B$5:$C$103,2,FALSE) ) )","v":""},null,null,null,null,{"$f":"IF(TRIM(AI41)=\"\", \"\", IF(VLOOKUP(AI41,'Footnotes list'!$B$5:$C$103,2,FALSE)=0,\"\",VLOOKUP(AI41,'Footnotes list'!$B$5:$C$103,2,FALSE) ) )","v":""}]
[null,null,null,"DENMARK","DK02","    Sjælland",null,null,null,null,{"$f":"IF(TRIM(J42)=\"\", \"\", IF(VLOOKUP(J42,'Footnotes list'!$B$5:$C$103,2,FALSE)=0,\"\",VLOOKUP(J42,'Footnotes list'!$B$5:$C$103,2,FALSE) ) )","v":""},null,null,null,null,{"$f":"IF(TRIM(O42)=\"\", \"\", IF(VLOOKUP(O42,'Footnotes list'!$B$5:$C$103,2,FALSE)=0,\"\",VLOOKUP(O42,'Footnotes list'!$B$5:$C$103,2,FALSE) ) )","v":""},null,null,null,null,{"$f":"IF(TRIM(T42)=\"\", \"\", IF(VLOOKUP(T42,'Footnotes list'!$B$5:$C$103,2,FALSE)=0,\"\",VLOOKUP(T42,'Footnotes list'!$B$5:$C$103,2,FALSE) ) )","v":""},null,null,null,null,{"$f":"IF(TRIM(Y42)=\"\", \"\", IF(VLOOKUP(Y42,'Footnotes list'!$B$5:$C$103,2,FALSE)=0,\"\",VLOOKUP(Y42,'Footnotes list'!$B$5:$C$103,2,FALSE) ) )","v":""},null,null,null,null,{"$f":"IF(TRIM(AD42)=\"\", \"\", IF(VLOOKUP(AD42,'Footnotes list'!$B$5:$C$103,2,FALSE)=0,\"\",VLOOKUP(AD42,'Footnotes list'!$B$5:$C$103,2,FALSE) ) )","v":""},null,null,null,null,{"$f":"IF(TRIM(AI42)=\"\", \"\", IF(VLOOKUP(AI42,'Footnotes list'!$B$5:$C$103,2,FALSE)=0,\"\",VLOOKUP(AI42,'Footnotes list'!$B$5:$C$103,2,FALSE) ) )","v":""}]
[null,null,null,null,"DK03","    Syddanmark",null,null,null,null,{"$f":"IF(TRIM(J43)=\"\", \"\", IF(VLOOKUP(J43,'Footnotes list'!$B$5:$C$103,2,FALSE)=0,\"\",VLOOKUP(J43,'Footnotes list'!$B$5:$C$103,2,FALSE) ) )","v":""},null,null,null,null,{"$f":"IF(TRIM(O43)=\"\", \"\", IF(VLOOKUP(O43,'Footnotes list'!$B$5:$C$103,2,FALSE)=0,\"\",VLOOKUP(O43,'Footnotes list'!$B$5:$C$103,2,FALSE) ) )","v":""},null,null,null,null,{"$f":"IF(TRIM(T43)=\"\", \"\", IF(VLOOKUP(T43,'Footnotes list'!$B$5:$C$103,2,FALSE)=0,\"\",VLOOKUP(T43,'Footnotes list'!$B$5:$C$103,2,FALSE) ) )","v":""},null,null,null,null,{"$f":"IF(TRIM(Y43)=\"\", \"\", IF(VLOOKUP(Y43,'Footnotes list'!$B$5:$C$103,2,FALSE)=0,\"\",VLOOKUP(Y43,'Footnotes list'!$B$5:$C$103,2,FALSE) ) )","v":""},null,null,null,null,{"$f":"IF(TRIM(AD43)=\"\", \"\", IF(VLOOKUP(AD43,'Footnotes list'!$B$5:$C$103,2,FALSE)=0,\"\",VLOOKUP(AD43,'Footnotes list'!$B$5:$C$103,2,FALSE) ) )","v":""},null,null,null,null,{"$f":"IF(TRIM(AI43)=\"\", \"\", IF(VLOOKUP(AI43,'Footnotes list'!$B$5:$C$103,2,FALSE)=0,\"\",VLOOKUP(AI43,'Footnotes list'!$B$5:$C$103,2,FALSE) ) )","v":""}]
[null,null,null,null,"DK04","    Midtjylland",null,null,null,null,{"$f":"IF(TRIM(J44)=\"\", \"\", IF(VLOOKUP(J44,'Footnotes list'!$B$5:$C$103,2,FALSE)=0,\"\",VLOOKUP(J44,'Footnotes list'!$B$5:$C$103,2,FALSE) ) )","v":""},null,null,null,null,{"$f":"IF(TRIM(O44)=\"\", \"\", IF(VLOOKUP(O44,'Footnotes list'!$B$5:$C$103,2,FALSE)=0,\"\",VLOOKUP(O44,'Footnotes list'!$B$5:$C$103,2,FALSE) ) )","v":""},null,null,null,null,{"$f":"IF(TRIM(T44)=\"\", \"\", IF(VLOOKUP(T44,'Footnotes list'!$B$5:$C$103,2,FALSE)=0,\"\",VLOOKUP(T44,'Footnotes list'!$B$5:$C$103,2,FALSE) ) )","v":""},null,null,null,null,{"$f":"IF(TRIM(Y44)=\"\", \"\", IF(VLOOKUP(Y44,'Footnotes list'!$B$5:$C$103,2,FALSE)=0,\"\",VLOOKUP(Y44,'Footnotes list'!$B$5:$C$103,2,FALSE) ) )","v":""},null,null,null,null,{"$f":"IF(TRIM(AD44)=\"\", \"\", IF(VLOOKUP(AD44,'Footnotes list'!$B$5:$C$103,2,FALSE)=0,\"\",VLOOKUP(AD44,'Footnotes list'!$B$5:$C$103,2,FALSE) ) )","v":""},null,null,null,null,{"$f":"IF(TRIM(AI44)=\"\", \"\", IF(VLOOKUP(AI44,'Footnotes list'!$B$5:$C$103,2,FALSE)=0,\"\",VLOOKUP(AI44,'Footnotes list'!$B$5:$C$103,2,FALSE) ) )","v":""}]
[null,null,null,null,"DK05","    Nordjylland",null,null,null,null,{"$f":"IF(TRIM(J45)=\"\", \"\", IF(VLOOKUP(J45,'Footnotes list'!$B$5:$C$103,2,FALSE)=0,\"\",VLOOKUP(J45,'Footnotes list'!$B$5:$C$103,2,FALSE) ) )","v":""},null,null,null,null,{"$f":"IF(TRIM(O45)=\"\", \"\", IF(VLOOKUP(O45,'Footnotes list'!$B$5:$C$103,2,FALSE)=0,\"\",VLOOKUP(O45,'Footnotes list'!$B$5:$C$103,2,FALSE) ) )","v":""},null,null,null,null,{"$f":"IF(TRIM(T45)=\"\", \"\", IF(VLOOKUP(T45,'Footnotes list'!$B$5:$C$103,2,FALSE)=0,\"\",VLOOKUP(T45,'Footnotes list'!$B$5:$C$103,2,FALSE) ) )","v":""},null,null,null,null,{"$f":"IF(TRIM(Y45)=\"\", \"\", IF(VLOOKUP(Y45,'Footnotes list'!$B$5:$C$103,2,FALSE)=0,\"\",VLOOKUP(Y45,'Footnotes list'!$B$5:$C$103,2,FALSE) ) )","v":""},null,null,null,null,{"$f":"IF(TRIM(AD45)=\"\", \"\", IF(VLOOKUP(AD45,'Footnotes list'!$B$5:$C$103,2,FALSE)=0,\"\",VLOOKUP(AD45,'Footnotes list'!$B$5:$C$103,2,FALSE) ) )","v":""},null,null,null,null,{"$f":"IF(TRIM(AI45)=\"\", \"\", IF(VLOOKUP(AI45,'Footnotes list'!$B$5:$C$103,2,FALSE)=0,\"\",VLOOKUP(AI45,'Footnotes list'!$B$5:$C$103,2,FALSE) ) )","v":""}]
[null,null,null,null,"DE","DEUTSCHLAND",null,null,null,null,{"$f":"IF(TRIM(J46)=\"\", \"\", IF(VLOOKUP(J46,'Footnotes list'!$B$5:$C$103,2,FALSE)=0,\"\",VLOOKUP(J46,'Footnotes list'!$B$5:$C$103,2,FALSE) ) )","v":""},null,null,null,null,{"$f":"IF(TRIM(O46)=\"\", \"\", IF(VLOOKUP(O46,'Footnotes list'!$B$5:$C$103,2,FALSE)=0,\"\",VLOOKUP(O46,'Footnotes list'!$B$5:$C$103,2,FALSE) ) )","v":""},null,null,null,null,{"$f":"IF(TRIM(T46)=\"\", \"\", IF(VLOOKUP(T46,'Footnotes list'!$B$5:$C$103,2,FALSE)=0,\"\",VLOOKUP(T46,'Footnotes list'!$B$5:$C$103,2,FALSE) ) )","v":""},null,null,null,null,{"$f":"IF(TRIM(Y46)=\"\", \"\", IF(VLOOKUP(Y46,'Footnotes list'!$B$5:$C$103,2,FALSE)=0,\"\",VLOOKUP(Y46,'Footnotes list'!$B$5:$C$103,2,FALSE) ) )","v":""},null,null,null,null,{"$f":"IF(TRIM(AD46)=\"\", \"\", IF(VLOOKUP(AD46,'Footnotes list'!$B$5:$C$103,2,FALSE)=0,\"\",VLOOKUP(AD46,'Footnotes list'!$B$5:$C$103,2,FALSE) ) )","v":""},null,null,null,null,{"$f":"IF(TRIM(AI46)=\"\", \"\", IF(VLOOKUP(AI46,'Footnotes list'!$B$5:$C$103,2,FALSE)=0,\"\",VLOOKUP(AI46,'Footnotes list'!$B$5:$C$103,2,FALSE) ) )","v":""}]
[null,null,null,null,"DE1","    BADEN-WÜRTTEMBERG",null,null,null,null,{"$f":"IF(TRIM(J47)=\"\", \"\", IF(VLOOKUP(J47,'Footnotes list'!$B$5:$C$103,2,FALSE)=0,\"\",VLOOKUP(J47,'Footnotes list'!$B$5:$C$103,2,FALSE) ) )","v":""},null,null,null,null,{"$f":"IF(TRIM(O47)=\"\", \"\", IF(VLOOKUP(O47,'Footnotes list'!$B$5:$C$103,2,FALSE)=0,\"\",VLOOKUP(O47,'Footnotes list'!$B$5:$C$103,2,FALSE) ) )","v":""},null,null,null,null,{"$f":"IF(TRIM(T47)=\"\", \"\", IF(VLOOKUP(T47,'Footnotes list'!$B$5:$C$103,2,FALSE)=0,\"\",VLOOKUP(T47,'Footnotes list'!$B$5:$C$103,2,FALSE) ) )","v":""},null,null,null,null,{"$f":"IF(TRIM(Y47)=\"\", \"\", IF(VLOOKUP(Y47,'Footnotes list'!$B$5:$C$103,2,FALSE)=0,\"\",VLOOKUP(Y47,'Footnotes list'!$B$5:$C$103,2,FALSE) ) )","v":""},null,null,null,null,{"$f":"IF(TRIM(AD47)=\"\", \"\", IF(VLOOKUP(AD47,'Footnotes list'!$B$5:$C$103,2,FALSE)=0,\"\",VLOOKUP(AD47,'Footnotes list'!$B$5:$C$103,2,FALSE) ) )","v":""},null,null,null,null,{"$f":"IF(TRIM(AI47)=\"\", \"\", IF(VLOOKUP(AI47,'Footnotes list'!$B$5:$C$103,2,FALSE)=0,\"\",VLOOKUP(AI47,'Footnotes list'!$B$5:$C$103,2,FALSE) ) )","v":""}]
[null,null,null,null,"DE11","        Stuttgart",null,null,null,null,{"$f":"IF(TRIM(J48)=\"\", \"\", IF(VLOOKUP(J48,'Footnotes list'!$B$5:$C$103,2,FALSE)=0,\"\",VLOOKUP(J48,'Footnotes list'!$B$5:$C$103,2,FALSE) ) )","v":""},null,null,null,null,{"$f":"IF(TRIM(O48)=\"\", \"\", IF(VLOOKUP(O48,'Footnotes list'!$B$5:$C$103,2,FALSE)=0,\"\",VLOOKUP(O48,'Footnotes list'!$B$5:$C$103,2,FALSE) ) )","v":""},null,null,null,null,{"$f":"IF(TRIM(T48)=\"\", \"\", IF(VLOOKUP(T48,'Footnotes list'!$B$5:$C$103,2,FALSE)=0,\"\",VLOOKUP(T48,'Footnotes list'!$B$5:$C$103,2,FALSE) ) )","v":""},null,null,null,null,{"$f":"IF(TRIM(Y48)=\"\", \"\", IF(VLOOKUP(Y48,'Footnotes list'!$B$5:$C$103,2,FALSE)=0,\"\",VLOOKUP(Y48,'Footnotes list'!$B$5:$C$103,2,FALSE) ) )","v":""},null,null,null,null,{"$f":"IF(TRIM(AD48)=\"\", \"\", IF(VLOOKUP(AD48,'Footnotes list'!$B$5:$C$103,2,FALSE)=0,\"\",VLOOKUP(AD48,'Footnotes list'!$B$5:$C$103,2,FALSE) ) )","v":""},null,null,null,null,{"$f":"IF(TRIM(AI48)=\"\", \"\", IF(VLOOKUP(AI48,'Footnotes list'!$B$5:$C$103,2,FALSE)=0,\"\",VLOOKUP(AI48,'Footnotes list'!$B$5:$C$103,2,FALSE) ) )","v":""}]
[null,null,null,null,"DE12","        Karlsruhe",null,null,null,null,{"$f":"IF(TRIM(J49)=\"\", \"\", IF(VLOOKUP(J49,'Footnotes list'!$B$5:$C$103,2,FALSE)=0,\"\",VLOOKUP(J49,'Footnotes list'!$B$5:$C$103,2,FALSE) ) )","v":""},null,null,null,null,{"$f":"IF(TRIM(O49)=\"\", \"\", IF(VLOOKUP(O49,'Footnotes list'!$B$5:$C$103,2,FALSE)=0,\"\",VLOOKUP(O49,'Footnotes list'!$B$5:$C$103,2,FALSE) ) )","v":""},null,null,null,null,{"$f":"IF(TRIM(T49)=\"\", \"\", IF(VLOOKUP(T49,'Footnotes list'!$B$5:$C$103,2,FALSE)=0,\"\",VLOOKUP(T49,'Footnotes list'!$B$5:$C$103,2,FALSE) ) )","v":""},null,null,null,null,{"$f":"IF(TRIM(Y49)=\"\", \"\", IF(VLOOKUP(Y49,'Footnotes list'!$B$5:$C$103,2,FALSE)=0,\"\",VLOOKUP(Y49,'Footnotes list'!$B$5:$C$103,2,FALSE) ) )","v":""},null,null,null,null,{"$f":"IF(TRIM(AD49)=\"\", \"\", IF(VLOOKUP(AD49,'Footnotes list'!$B$5:$C$103,2,FALSE)=0,\"\",VLOOKUP(AD49,'Footnotes list'!$B$5:$C$103,2,FALSE) ) )","v":""},null,null,null,null,{"$f":"IF(TRIM(AI49)=\"\", \"\", IF(VLOOKUP(AI49,'Footnotes list'!$B$5:$C$103,2,FALSE)=0,\"\",VLOOKUP(AI49,'Footnotes list'!$B$5:$C$103,2,FALSE) ) )","v":""}]
[null,null,null,null,"DE13","        Freiburg",null,null,null,null,{"$f":"IF(TRIM(J50)=\"\", \"\", IF(VLOOKUP(J50,'Footnotes list'!$B$5:$C$103,2,FALSE)=0,\"\",VLOOKUP(J50,'Footnotes list'!$B$5:$C$103,2,FALSE) ) )","v":""},null,null,null,null,{"$f":"IF(TRIM(O50)=\"\", \"\", IF(VLOOKUP(O50,'Footnotes list'!$B$5:$C$103,2,FALSE)=0,\"\",VLOOKUP(O50,'Footnotes list'!$B$5:$C$103,2,FALSE) ) )","v":""},null,null,null,null,{"$f":"IF(TRIM(T50)=\"\", \"\", IF(VLOOKUP(T50,'Footnotes list'!$B$5:$C$103,2,FALSE)=0,\"\",VLOOKUP(T50,'Footnotes list'!$B$5:$C$103,2,FALSE) ) )","v":""},null,null,null,null,{"$f":"IF(TRIM(Y50)=\"\", \"\", IF(VLOOKUP(Y50,'Footnotes list'!$B$5:$C$103,2,FALSE)=0,\"\",VLOOKUP(Y50,'Footnotes list'!$B$5:$C$103,2,FALSE) ) )","v":""},null,null,null,null,{"$f":"IF(TRIM(AD50)=\"\", \"\", IF(VLOOKUP(AD50,'Footnotes list'!$B$5:$C$103,2,FALSE)=0,\"\",VLOOKUP(AD50,'Footnotes list'!$B$5:$C$103,2,FALSE) ) )","v":""},null,null,null,null,{"$f":"IF(TRIM(AI50)=\"\", \"\", IF(VLOOKUP(AI50,'Footnotes list'!$B$5:$C$103,2,FALSE)=0,\"\",VLOOKUP(AI50,'Footnotes list'!$B$5:$C$103,2,FALSE) ) )","v":""}]
[null,null,null,null,"DE14","        Tübingen",null,null,null,null,{"$f":"IF(TRIM(J51)=\"\", \"\", IF(VLOOKUP(J51,'Footnotes list'!$B$5:$C$103,2,FALSE)=0,\"\",VLOOKUP(J51,'Footnotes list'!$B$5:$C$103,2,FALSE) ) )","v":""},null,null,null,null,{"$f":"IF(TRIM(O51)=\"\", \"\", IF(VLOOKUP(O51,'Footnotes list'!$B$5:$C$103,2,FALSE)=0,\"\",VLOOKUP(O51,'Footnotes list'!$B$5:$C$103,2,FALSE) ) )","v":""},null,null,null,null,{"$f":"IF(TRIM(T51)=\"\", \"\", IF(VLOOKUP(T51,'Footnotes list'!$B$5:$C$103,2,FALSE)=0,\"\",VLOOKUP(T51,'Footnotes list'!$B$5:$C$103,2,FALSE) ) )","v":""},null,null,null,null,{"$f":"IF(TRIM(Y51)=\"\", \"\", IF(VLOOKUP(Y51,'Footnotes list'!$B$5:$C$103,2,FALSE)=0,\"\",VLOOKUP(Y51,'Footnotes list'!$B$5:$C$103,2,FALSE) ) )","v":""},null,null,null,null,{"$f":"IF(TRIM(AD51)=\"\", \"\", IF(VLOOKUP(AD51,'Footnotes list'!$B$5:$C$103,2,FALSE)=0,\"\",VLOOKUP(AD51,'Footnotes list'!$B$5:$C$103,2,FALSE) ) )","v":""},null,null,null,null,{"$f":"IF(TRIM(AI51)=\"\", \"\", IF(VLOOKUP(AI51,'Footnotes list'!$B$5:$C$103,2,FALSE)=0,\"\",VLOOKUP(AI51,'Footnotes list'!$B$5:$C$103,2,FALSE) ) )","v":""}]
[null,null,null,null,"DE2","    BAYERN",null,null,null,null,{"$f":"IF(TRIM(J52)=\"\", \"\", IF(VLOOKUP(J52,'Footnotes list'!$B$5:$C$103,2,FALSE)=0,\"\",VLOOKUP(J52,'Footnotes list'!$B$5:$C$103,2,FALSE) ) )","v":""},null,null,null,null,{"$f":"IF(TRIM(O52)=\"\", \"\", IF(VLOOKUP(O52,'Footnotes list'!$B$5:$C$103,2,FALSE)=0,\"\",VLOOKUP(O52,'Footnotes list'!$B$5:$C$103,2,FALSE) ) )","v":""},null,null,null,null,{"$f":"IF(TRIM(T52)=\"\", \"\", IF(VLOOKUP(T52,'Footnotes list'!$B$5:$C$103,2,FALSE)=0,\"\",VLOOKUP(T52,'Footnotes list'!$B$5:$C$103,2,FALSE) ) )","v":""},null,null,null,null,{"$f":"IF(TRIM(Y52)=\"\", \"\", IF(VLOOKUP(Y52,'Footnotes list'!$B$5:$C$103,2,FALSE)=0,\"\",VLOOKUP(Y52,'Footnotes list'!$B$5:$C$103,2,FALSE) ) )","v":""},null,null,null,null,{"$f":"IF(TRIM(AD52)=\"\", \"\", IF(VLOOKUP(AD52,'Footnotes list'!$B$5:$C$103,2,FALSE)=0,\"\",VLOOKUP(AD52,'Footnotes list'!$B$5:$C$103,2,FALSE) ) )","v":""},null,null,null,null,{"$f":"IF(TRIM(AI52)=\"\", \"\", IF(VLOOKUP(AI52,'Footnotes list'!$B$5:$C$103,2,FALSE)=0,\"\",VLOOKUP(AI52,'Footnotes list'!$B$5:$C$103,2,FALSE) ) )","v":""}]
[null,null,null,null,"DE21","        Oberbayern",null,null,null,null,{"$f":"IF(TRIM(J53)=\"\", \"\", IF(VLOOKUP(J53,'Footnotes list'!$B$5:$C$103,2,FALSE)=0,\"\",VLOOKUP(J53,'Footnotes list'!$B$5:$C$103,2,FALSE) ) )","v":""},null,null,null,null,{"$f":"IF(TRIM(O53)=\"\", \"\", IF(VLOOKUP(O53,'Footnotes list'!$B$5:$C$103,2,FALSE)=0,\"\",VLOOKUP(O53,'Footnotes list'!$B$5:$C$103,2,FALSE) ) )","v":""},null,null,null,null,{"$f":"IF(TRIM(T53)=\"\", \"\", IF(VLOOKUP(T53,'Footnotes list'!$B$5:$C$103,2,FALSE)=0,\"\",VLOOKUP(T53,'Footnotes list'!$B$5:$C$103,2,FALSE) ) )","v":""},null,null,null,null,{"$f":"IF(TRIM(Y53)=\"\", \"\", IF(VLOOKUP(Y53,'Footnotes list'!$B$5:$C$103,2,FALSE)=0,\"\",VLOOKUP(Y53,'Footnotes list'!$B$5:$C$103,2,FALSE) ) )","v":""},null,null,null,null,{"$f":"IF(TRIM(AD53)=\"\", \"\", IF(VLOOKUP(AD53,'Footnotes list'!$B$5:$C$103,2,FALSE)=0,\"\",VLOOKUP(AD53,'Footnotes list'!$B$5:$C$103,2,FALSE) ) )","v":""},null,null,null,null,{"$f":"IF(TRIM(AI53)=\"\", \"\", IF(VLOOKUP(AI53,'Footnotes list'!$B$5:$C$103,2,FALSE)=0,\"\",VLOOKUP(AI53,'Footnotes list'!$B$5:$C$103,2,FALSE) ) )","v":""}]
[null,null,null,null,"DE22","        Niederbayern",null,null,null,null,{"$f":"IF(TRIM(J54)=\"\", \"\", IF(VLOOKUP(J54,'Footnotes list'!$B$5:$C$103,2,FALSE)=0,\"\",VLOOKUP(J54,'Footnotes list'!$B$5:$C$103,2,FALSE) ) )","v":""},null,null,null,null,{"$f":"IF(TRIM(O54)=\"\", \"\", IF(VLOOKUP(O54,'Footnotes list'!$B$5:$C$103,2,FALSE)=0,\"\",VLOOKUP(O54,'Footnotes list'!$B$5:$C$103,2,FALSE) ) )","v":""},null,null,null,null,{"$f":"IF(TRIM(T54)=\"\", \"\", IF(VLOOKUP(T54,'Footnotes list'!$B$5:$C$103,2,FALSE)=0,\"\",VLOOKUP(T54,'Footnotes list'!$B$5:$C$103,2,FALSE) ) )","v":""},null,null,null,null,{"$f":"IF(TRIM(Y54)=\"\", \"\", IF(VLOOKUP(Y54,'Footnotes list'!$B$5:$C$103,2,FALSE)=0,\"\",VLOOKUP(Y54,'Footnotes list'!$B$5:$C$103,2,FALSE) ) )","v":""},null,null,null,null,{"$f":"IF(TRIM(AD54)=\"\", \"\", IF(VLOOKUP(AD54,'Footnotes list'!$B$5:$C$103,2,FALSE)=0,\"\",VLOOKUP(AD54,'Footnotes list'!$B$5:$C$103,2,FALSE) ) )","v":""},null,null,null,null,{"$f":"IF(TRIM(AI54)=\"\", \"\", IF(VLOOKUP(AI54,'Footnotes list'!$B$5:$C$103,2,FALSE)=0,\"\",VLOOKUP(AI54,'Footnotes list'!$B$5:$C$103,2,FALSE) ) )","v":""}]
[null,null,null,null,"DE23","        Oberpfalz",null,null,null,null,{"$f":"IF(TRIM(J55)=\"\", \"\", IF(VLOOKUP(J55,'Footnotes list'!$B$5:$C$103,2,FALSE)=0,\"\",VLOOKUP(J55,'Footnotes list'!$B$5:$C$103,2,FALSE) ) )","v":""},null,null,null,null,{"$f":"IF(TRIM(O55)=\"\", \"\", IF(VLOOKUP(O55,'Footnotes list'!$B$5:$C$103,2,FALSE)=0,\"\",VLOOKUP(O55,'Footnotes list'!$B$5:$C$103,2,FALSE) ) )","v":""},null,null,null,null,{"$f":"IF(TRIM(T55)=\"\", \"\", IF(VLOOKUP(T55,'Footnotes list'!$B$5:$C$103,2,FALSE)=0,\"\",VLOOKUP(T55,'Footnotes list'!$B$5:$C$103,2,FALSE) ) )","v":""},null,null,null,null,{"$f":"IF(TRIM(Y55)=\"\", \"\", IF(VLOOKUP(Y55,'Footnotes list'!$B$5:$C$103,2,FALSE)=0,\"\",VLOOKUP(Y55,'Footnotes list'!$B$5:$C$103,2,FALSE) ) )","v":""},null,null,null,null,{"$f":"IF(TRIM(AD55)=\"\", \"\", IF(VLOOKUP(AD55,'Footnotes list'!$B$5:$C$103,2,FALSE)=0,\"\",VLOOKUP(AD55,'Footnotes list'!$B$5:$C$103,2,FALSE) ) )","v":""},null,null,null,null,{"$f":"IF(TRIM(AI55)=\"\", \"\", IF(VLOOKUP(AI55,'Footnotes list'!$B$5:$C$103,2,FALSE)=0,\"\",VLOOKUP(AI55,'Footnotes list'!$B$5:$C$103,2,FALSE) ) )","v":""}]
[null,null,null,null,"DE24","        Oberfranken",null,null,null,null,{"$f":"IF(TRIM(J56)=\"\", \"\", IF(VLOOKUP(J56,'Footnotes list'!$B$5:$C$103,2,FALSE)=0,\"\",VLOOKUP(J56,'Footnotes list'!$B$5:$C$103,2,FALSE) ) )","v":""},null,null,null,null,{"$f":"IF(TRIM(O56)=\"\", \"\", IF(VLOOKUP(O56,'Footnotes list'!$B$5:$C$103,2,FALSE)=0,\"\",VLOOKUP(O56,'Footnotes list'!$B$5:$C$103,2,FALSE) ) )","v":""},null,null,null,null,{"$f":"IF(TRIM(T56)=\"\", \"\", IF(VLOOKUP(T56,'Footnotes list'!$B$5:$C$103,2,FALSE)=0,\"\",VLOOKUP(T56,'Footnotes list'!$B$5:$C$103,2,FALSE) ) )","v":""},null,null,null,null,{"$f":"IF(TRIM(Y56)=\"\", \"\", IF(VLOOKUP(Y56,'Footnotes list'!$B$5:$C$103,2,FALSE)=0,\"\",VLOOKUP(Y56,'Footnotes list'!$B$5:$C$103,2,FALSE) ) )","v":""},null,null,null,null,{"$f":"IF(TRIM(AD56)=\"\", \"\", IF(VLOOKUP(AD56,'Footnotes list'!$B$5:$C$103,2,FALSE)=0,\"\",VLOOKUP(AD56,'Footnotes list'!$B$5:$C$103,2,FALSE) ) )","v":""},null,null,null,null,{"$f":"IF(TRIM(AI56)=\"\", \"\", IF(VLOOKUP(AI56,'Footnotes list'!$B$5:$C$103,2,FALSE)=0,\"\",VLOOKUP(AI56,'Footnotes list'!$B$5:$C$103,2,FALSE) ) )","v":""}]
[null,null,null,null,"DE25","        Mittelfranken",null,null,null,null,{"$f":"IF(TRIM(J57)=\"\", \"\", IF(VLOOKUP(J57,'Footnotes list'!$B$5:$C$103,2,FALSE)=0,\"\",VLOOKUP(J57,'Footnotes list'!$B$5:$C$103,2,FALSE) ) )","v":""},null,null,null,null,{"$f":"IF(TRIM(O57)=\"\", \"\", IF(VLOOKUP(O57,'Footnotes list'!$B$5:$C$103,2,FALSE)=0,\"\",VLOOKUP(O57,'Footnotes list'!$B$5:$C$103,2,FALSE) ) )","v":""},null,null,null,null,{"$f":"IF(TRIM(T57)=\"\", \"\", IF(VLOOKUP(T57,'Footnotes list'!$B$5:$C$103,2,FALSE)=0,\"\",VLOOKUP(T57,'Footnotes list'!$B$5:$C$103,2,FALSE) ) )","v":""},null,null,null,null,{"$f":"IF(TRIM(Y57)=\"\", \"\", IF(VLOOKUP(Y57,'Footnotes list'!$B$5:$C$103,2,FALSE)=0,\"\",VLOOKUP(Y57,'Footnotes list'!$B$5:$C$103,2,FALSE) ) )","v":""},null,null,null,null,{"$f":"IF(TRIM(AD57)=\"\", \"\", IF(VLOOKUP(AD57,'Footnotes list'!$B$5:$C$103,2,FALSE)=0,\"\",VLOOKUP(AD57,'Footnotes list'!$B$5:$C$103,2,FALSE) ) )","v":""},null,null,null,null,{"$f":"IF(TRIM(AI57)=\"\", \"\", IF(VLOOKUP(AI57,'Footnotes list'!$B$5:$C$103,2,FALSE)=0,\"\",VLOOKUP(AI57,'Footnotes list'!$B$5:$C$103,2,FALSE) ) )","v":""}]
[null,null,null,null,"DE26","        Unterfranken",null,null,null,null,{"$f":"IF(TRIM(J58)=\"\", \"\", IF(VLOOKUP(J58,'Footnotes list'!$B$5:$C$103,2,FALSE)=0,\"\",VLOOKUP(J58,'Footnotes list'!$B$5:$C$103,2,FALSE) ) )","v":""},null,null,null,null,{"$f":"IF(TRIM(O58)=\"\", \"\", IF(VLOOKUP(O58,'Footnotes list'!$B$5:$C$103,2,FALSE)=0,\"\",VLOOKUP(O58,'Footnotes list'!$B$5:$C$103,2,FALSE) ) )","v":""},null,null,null,null,{"$f":"IF(TRIM(T58)=\"\", \"\", IF(VLOOKUP(T58,'Footnotes list'!$B$5:$C$103,2,FALSE)=0,\"\",VLOOKUP(T58,'Footnotes list'!$B$5:$C$103,2,FALSE) ) )","v":""},null,null,null,null,{"$f":"IF(TRIM(Y58)=\"\", \"\", IF(VLOOKUP(Y58,'Footnotes list'!$B$5:$C$103,2,FALSE)=0,\"\",VLOOKUP(Y58,'Footnotes list'!$B$5:$C$103,2,FALSE) ) )","v":""},null,null,null,null,{"$f":"IF(TRIM(AD58)=\"\", \"\", IF(VLOOKUP(AD58,'Footnotes list'!$B$5:$C$103,2,FALSE)=0,\"\",VLOOKUP(AD58,'Footnotes list'!$B$5:$C$103,2,FALSE) ) )","v":""},null,null,null,null,{"$f":"IF(TRIM(AI58)=\"\", \"\", IF(VLOOKUP(AI58,'Footnotes list'!$B$5:$C$103,2,FALSE)=0,\"\",VLOOKUP(AI58,'Footnotes list'!$B$5:$C$103,2,FALSE) ) )","v":""}]
[null,null,null,null,"DE27","        Schwaben",null,null,null,null,{"$f":"IF(TRIM(J59)=\"\", \"\", IF(VLOOKUP(J59,'Footnotes list'!$B$5:$C$103,2,FALSE)=0,\"\",VLOOKUP(J59,'Footnotes list'!$B$5:$C$103,2,FALSE) ) )","v":""},null,null,null,null,{"$f":"IF(TRIM(O59)=\"\", \"\", IF(VLOOKUP(O59,'Footnotes list'!$B$5:$C$103,2,FALSE)=0,\"\",VLOOKUP(O59,'Footnotes list'!$B$5:$C$103,2,FALSE) ) )","v":""},null,null,null,null,{"$f":"IF(TRIM(T59)=\"\", \"\", IF(VLOOKUP(T59,'Footnotes list'!$B$5:$C$103,2,FALSE)=0,\"\",VLOOKUP(T59,'Footnotes list'!$B$5:$C$103,2,FALSE) ) )","v":""},null,null,null,null,{"$f":"IF(TRIM(Y59)=\"\", \"\", IF(VLOOKUP(Y59,'Footnotes list'!$B$5:$C$103,2,FALSE)=0,\"\",VLOOKUP(Y59,'Footnotes list'!$B$5:$C$103,2,FALSE) ) )","v":""},null,null,null,null,{"$f":"IF(TRIM(AD59)=\"\", \"\", IF(VLOOKUP(AD59,'Footnotes list'!$B$5:$C$103,2,FALSE)=0,\"\",VLOOKUP(AD59,'Footnotes list'!$B$5:$C$103,2,FALSE) ) )","v":""},null,null,null,null,{"$f":"IF(TRIM(AI59)=\"\", \"\", IF(VLOOKUP(AI59,'Footnotes list'!$B$5:$C$103,2,FALSE)=0,\"\",VLOOKUP(AI59,'Footnotes list'!$B$5:$C$103,2,FALSE) ) )","v":""}]
[null,null,null,null,"DE3","    BERLIN",null,null,null,null,{"$f":"IF(TRIM(J60)=\"\", \"\", IF(VLOOKUP(J60,'Footnotes list'!$B$5:$C$103,2,FALSE)=0,\"\",VLOOKUP(J60,'Footnotes list'!$B$5:$C$103,2,FALSE) ) )","v":""},null,null,null,null,{"$f":"IF(TRIM(O60)=\"\", \"\", IF(VLOOKUP(O60,'Footnotes list'!$B$5:$C$103,2,FALSE)=0,\"\",VLOOKUP(O60,'Footnotes list'!$B$5:$C$103,2,FALSE) ) )","v":""},null,null,null,null,{"$f":"IF(TRIM(T60)=\"\", \"\", IF(VLOOKUP(T60,'Footnotes list'!$B$5:$C$103,2,FALSE)=0,\"\",VLOOKUP(T60,'Footnotes list'!$B$5:$C$103,2,FALSE) ) )","v":""},null,null,null,null,{"$f":"IF(TRIM(Y60)=\"\", \"\", IF(VLOOKUP(Y60,'Footnotes list'!$B$5:$C$103,2,FALSE)=0,\"\",VLOOKUP(Y60,'Footnotes list'!$B$5:$C$103,2,FALSE) ) )","v":""},null,null,null,null,{"$f":"IF(TRIM(AD60)=\"\", \"\", IF(VLOOKUP(AD60,'Footnotes list'!$B$5:$C$103,2,FALSE)=0,\"\",VLOOKUP(AD60,'Footnotes list'!$B$5:$C$103,2,FALSE) ) )","v":""},null,null,null,null,{"$f":"IF(TRIM(AI60)=\"\", \"\", IF(VLOOKUP(AI60,'Footnotes list'!$B$5:$C$103,2,FALSE)=0,\"\",VLOOKUP(AI60,'Footnotes list'!$B$5:$C$103,2,FALSE) ) )","v":""}]
[null,null,null,null,"DE4","    BRANDENBURG",null,null,null,null,{"$f":"IF(TRIM(J61)=\"\", \"\", IF(VLOOKUP(J61,'Footnotes list'!$B$5:$C$103,2,FALSE)=0,\"\",VLOOKUP(J61,'Footnotes list'!$B$5:$C$103,2,FALSE) ) )","v":""},null,null,null,null,{"$f":"IF(TRIM(O61)=\"\", \"\", IF(VLOOKUP(O61,'Footnotes list'!$B$5:$C$103,2,FALSE)=0,\"\",VLOOKUP(O61,'Footnotes list'!$B$5:$C$103,2,FALSE) ) )","v":""},null,null,null,null,{"$f":"IF(TRIM(T61)=\"\", \"\", IF(VLOOKUP(T61,'Footnotes list'!$B$5:$C$103,2,FALSE)=0,\"\",VLOOKUP(T61,'Footnotes list'!$B$5:$C$103,2,FALSE) ) )","v":""},null,null,null,null,{"$f":"IF(TRIM(Y61)=\"\", \"\", IF(VLOOKUP(Y61,'Footnotes list'!$B$5:$C$103,2,FALSE)=0,\"\",VLOOKUP(Y61,'Footnotes list'!$B$5:$C$103,2,FALSE) ) )","v":""},null,null,null,null,{"$f":"IF(TRIM(AD61)=\"\", \"\", IF(VLOOKUP(AD61,'Footnotes list'!$B$5:$C$103,2,FALSE)=0,\"\",VLOOKUP(AD61,'Footnotes list'!$B$5:$C$103,2,FALSE) ) )","v":""},null,null,null,null,{"$f":"IF(TRIM(AI61)=\"\", \"\", IF(VLOOKUP(AI61,'Footnotes list'!$B$5:$C$103,2,FALSE)=0,\"\",VLOOKUP(AI61,'Footnotes list'!$B$5:$C$103,2,FALSE) ) )","v":""}]
[null,null,null,null,"DE5","    BREMEN",null,null,null,null,{"$f":"IF(TRIM(J62)=\"\", \"\", IF(VLOOKUP(J62,'Footnotes list'!$B$5:$C$103,2,FALSE)=0,\"\",VLOOKUP(J62,'Footnotes list'!$B$5:$C$103,2,FALSE) ) )","v":""},null,null,null,null,{"$f":"IF(TRIM(O62)=\"\", \"\", IF(VLOOKUP(O62,'Footnotes list'!$B$5:$C$103,2,FALSE)=0,\"\",VLOOKUP(O62,'Footnotes list'!$B$5:$C$103,2,FALSE) ) )","v":""},null,null,null,null,{"$f":"IF(TRIM(T62)=\"\", \"\", IF(VLOOKUP(T62,'Footnotes list'!$B$5:$C$103,2,FALSE)=0,\"\",VLOOKUP(T62,'Footnotes list'!$B$5:$C$103,2,FALSE) ) )","v":""},null,null,null,null,{"$f":"IF(TRIM(Y62)=\"\", \"\", IF(VLOOKUP(Y62,'Footnotes list'!$B$5:$C$103,2,FALSE)=0,\"\",VLOOKUP(Y62,'Footnotes list'!$B$5:$C$103,2,FALSE) ) )","v":""},null,null,null,null,{"$f":"IF(TRIM(AD62)=\"\", \"\", IF(VLOOKUP(AD62,'Footnotes list'!$B$5:$C$103,2,FALSE)=0,\"\",VLOOKUP(AD62,'Footnotes list'!$B$5:$C$103,2,FALSE) ) )","v":""},null,null,null,null,{"$f":"IF(TRIM(AI62)=\"\", \"\", IF(VLOOKUP(AI62,'Footnotes list'!$B$5:$C$103,2,FALSE)=0,\"\",VLOOKUP(AI62,'Footnotes list'!$B$5:$C$103,2,FALSE) ) )","v":""}]
[null,null,null,null,"DE6","    HAMBURG",null,null,null,null,{"$f":"IF(TRIM(J63)=\"\", \"\", IF(VLOOKUP(J63,'Footnotes list'!$B$5:$C$103,2,FALSE)=0,\"\",VLOOKUP(J63,'Footnotes list'!$B$5:$C$103,2,FALSE) ) )","v":""},null,null,null,null,{"$f":"IF(TRIM(O63)=\"\", \"\", IF(VLOOKUP(O63,'Footnotes list'!$B$5:$C$103,2,FALSE)=0,\"\",VLOOKUP(O63,'Footnotes list'!$B$5:$C$103,2,FALSE) ) )","v":""},null,null,null,null,{"$f":"IF(TRIM(T63)=\"\", \"\", IF(VLOOKUP(T63,'Footnotes list'!$B$5:$C$103,2,FALSE)=0,\"\",VLOOKUP(T63,'Footnotes list'!$B$5:$C$103,2,FALSE) ) )","v":""},null,null,null,null,{"$f":"IF(TRIM(Y63)=\"\", \"\", IF(VLOOKUP(Y63,'Footnotes list'!$B$5:$C$103,2,FALSE)=0,\"\",VLOOKUP(Y63,'Footnotes list'!$B$5:$C$103,2,FALSE) ) )","v":""},null,null,null,null,{"$f":"IF(TRIM(AD63)=\"\", \"\", IF(VLOOKUP(AD63,'Footnotes list'!$B$5:$C$103,2,FALSE)=0,\"\",VLOOKUP(AD63,'Footnotes list'!$B$5:$C$103,2,FALSE) ) )","v":""},null,null,null,null,{"$f":"IF(TRIM(AI63)=\"\", \"\", IF(VLOOKUP(AI63,'Footnotes list'!$B$5:$C$103,2,FALSE)=0,\"\",VLOOKUP(AI63,'Footnotes list'!$B$5:$C$103,2,FALSE) ) )","v":""}]
[null,null,null,"GERMANY","DE7","    HESSEN",null,null,null,null,{"$f":"IF(TRIM(J64)=\"\", \"\", IF(VLOOKUP(J64,'Footnotes list'!$B$5:$C$103,2,FALSE)=0,\"\",VLOOKUP(J64,'Footnotes list'!$B$5:$C$103,2,FALSE) ) )","v":""},null,null,null,null,{"$f":"IF(TRIM(O64)=\"\", \"\", IF(VLOOKUP(O64,'Footnotes list'!$B$5:$C$103,2,FALSE)=0,\"\",VLOOKUP(O64,'Footnotes list'!$B$5:$C$103,2,FALSE) ) )","v":""},null,null,null,null,{"$f":"IF(TRIM(T64)=\"\", \"\", IF(VLOOKUP(T64,'Footnotes list'!$B$5:$C$103,2,FALSE)=0,\"\",VLOOKUP(T64,'Footnotes list'!$B$5:$C$103,2,FALSE) ) )","v":""},null,null,null,null,{"$f":"IF(TRIM(Y64)=\"\", \"\", IF(VLOOKUP(Y64,'Footnotes list'!$B$5:$C$103,2,FALSE)=0,\"\",VLOOKUP(Y64,'Footnotes list'!$B$5:$C$103,2,FALSE) ) )","v":""},null,null,null,null,{"$f":"IF(TRIM(AD64)=\"\", \"\", IF(VLOOKUP(AD64,'Footnotes list'!$B$5:$C$103,2,FALSE)=0,\"\",VLOOKUP(AD64,'Footnotes list'!$B$5:$C$103,2,FALSE) ) )","v":""},null,null,null,null,{"$f":"IF(TRIM(AI64)=\"\", \"\", IF(VLOOKUP(AI64,'Footnotes list'!$B$5:$C$103,2,FALSE)=0,\"\",VLOOKUP(AI64,'Footnotes list'!$B$5:$C$103,2,FALSE) ) )","v":""}]
[null,null,null,null,"DE71","        Darmstadt",null,null,null,null,{"$f":"IF(TRIM(J65)=\"\", \"\", IF(VLOOKUP(J65,'Footnotes list'!$B$5:$C$103,2,FALSE)=0,\"\",VLOOKUP(J65,'Footnotes list'!$B$5:$C$103,2,FALSE) ) )","v":""},null,null,null,null,{"$f":"IF(TRIM(O65)=\"\", \"\", IF(VLOOKUP(O65,'Footnotes list'!$B$5:$C$103,2,FALSE)=0,\"\",VLOOKUP(O65,'Footnotes list'!$B$5:$C$103,2,FALSE) ) )","v":""},null,null,null,null,{"$f":"IF(TRIM(T65)=\"\", \"\", IF(VLOOKUP(T65,'Footnotes list'!$B$5:$C$103,2,FALSE)=0,\"\",VLOOKUP(T65,'Footnotes list'!$B$5:$C$103,2,FALSE) ) )","v":""},null,null,null,null,{"$f":"IF(TRIM(Y65)=\"\", \"\", IF(VLOOKUP(Y65,'Footnotes list'!$B$5:$C$103,2,FALSE)=0,\"\",VLOOKUP(Y65,'Footnotes list'!$B$5:$C$103,2,FALSE) ) )","v":""},null,null,null,null,{"$f":"IF(TRIM(AD65)=\"\", \"\", IF(VLOOKUP(AD65,'Footnotes list'!$B$5:$C$103,2,FALSE)=0,\"\",VLOOKUP(AD65,'Footnotes list'!$B$5:$C$103,2,FALSE) ) )","v":""},null,null,null,null,{"$f":"IF(TRIM(AI65)=\"\", \"\", IF(VLOOKUP(AI65,'Footnotes list'!$B$5:$C$103,2,FALSE)=0,\"\",VLOOKUP(AI65,'Footnotes list'!$B$5:$C$103,2,FALSE) ) )","v":""}]
[null,null,null,null,"DE72","        Gießen",null,null,null,null,{"$f":"IF(TRIM(J66)=\"\", \"\", IF(VLOOKUP(J66,'Footnotes list'!$B$5:$C$103,2,FALSE)=0,\"\",VLOOKUP(J66,'Footnotes list'!$B$5:$C$103,2,FALSE) ) )","v":""},null,null,null,null,{"$f":"IF(TRIM(O66)=\"\", \"\", IF(VLOOKUP(O66,'Footnotes list'!$B$5:$C$103,2,FALSE)=0,\"\",VLOOKUP(O66,'Footnotes list'!$B$5:$C$103,2,FALSE) ) )","v":""},null,null,null,null,{"$f":"IF(TRIM(T66)=\"\", \"\", IF(VLOOKUP(T66,'Footnotes list'!$B$5:$C$103,2,FALSE)=0,\"\",VLOOKUP(T66,'Footnotes list'!$B$5:$C$103,2,FALSE) ) )","v":""},null,null,null,null,{"$f":"IF(TRIM(Y66)=\"\", \"\", IF(VLOOKUP(Y66,'Footnotes list'!$B$5:$C$103,2,FALSE)=0,\"\",VLOOKUP(Y66,'Footnotes list'!$B$5:$C$103,2,FALSE) ) )","v":""},null,null,null,null,{"$f":"IF(TRIM(AD66)=\"\", \"\", IF(VLOOKUP(AD66,'Footnotes list'!$B$5:$C$103,2,FALSE)=0,\"\",VLOOKUP(AD66,'Footnotes list'!$B$5:$C$103,2,FALSE) ) )","v":""},null,null,null,null,{"$f":"IF(TRIM(AI66)=\"\", \"\", IF(VLOOKUP(AI66,'Footnotes list'!$B$5:$C$103,2,FALSE)=0,\"\",VLOOKUP(AI66,'Footnotes list'!$B$5:$C$103,2,FALSE) ) )","v":""}]
[null,null,null,null,"DE73","        Kassel",null,null,null,null,{"$f":"IF(TRIM(J67)=\"\", \"\", IF(VLOOKUP(J67,'Footnotes list'!$B$5:$C$103,2,FALSE)=0,\"\",VLOOKUP(J67,'Footnotes list'!$B$5:$C$103,2,FALSE) ) )","v":""},null,null,null,null,{"$f":"IF(TRIM(O67)=\"\", \"\", IF(VLOOKUP(O67,'Footnotes list'!$B$5:$C$103,2,FALSE)=0,\"\",VLOOKUP(O67,'Footnotes list'!$B$5:$C$103,2,FALSE) ) )","v":""},null,null,null,null,{"$f":"IF(TRIM(T67)=\"\", \"\", IF(VLOOKUP(T67,'Footnotes list'!$B$5:$C$103,2,FALSE)=0,\"\",VLOOKUP(T67,'Footnotes list'!$B$5:$C$103,2,FALSE) ) )","v":""},null,null,null,null,{"$f":"IF(TRIM(Y67)=\"\", \"\", IF(VLOOKUP(Y67,'Footnotes list'!$B$5:$C$103,2,FALSE)=0,\"\",VLOOKUP(Y67,'Footnotes list'!$B$5:$C$103,2,FALSE) ) )","v":""},null,null,null,null,{"$f":"IF(TRIM(AD67)=\"\", \"\", IF(VLOOKUP(AD67,'Footnotes list'!$B$5:$C$103,2,FALSE)=0,\"\",VLOOKUP(AD67,'Footnotes list'!$B$5:$C$103,2,FALSE) ) )","v":""},null,null,null,null,{"$f":"IF(TRIM(AI67)=\"\", \"\", IF(VLOOKUP(AI67,'Footnotes list'!$B$5:$C$103,2,FALSE)=0,\"\",VLOOKUP(AI67,'Footnotes list'!$B$5:$C$103,2,FALSE) ) )","v":""}]
[null,null,null,null,"DE8","    MECKLENBURG-VORPOMMERN",null,null,null,null,{"$f":"IF(TRIM(J68)=\"\", \"\", IF(VLOOKUP(J68,'Footnotes list'!$B$5:$C$103,2,FALSE)=0,\"\",VLOOKUP(J68,'Footnotes list'!$B$5:$C$103,2,FALSE) ) )","v":""},null,null,null,null,{"$f":"IF(TRIM(O68)=\"\", \"\", IF(VLOOKUP(O68,'Footnotes list'!$B$5:$C$103,2,FALSE)=0,\"\",VLOOKUP(O68,'Footnotes list'!$B$5:$C$103,2,FALSE) ) )","v":""},null,null,null,null,{"$f":"IF(TRIM(T68)=\"\", \"\", IF(VLOOKUP(T68,'Footnotes list'!$B$5:$C$103,2,FALSE)=0,\"\",VLOOKUP(T68,'Footnotes list'!$B$5:$C$103,2,FALSE) ) )","v":""},null,null,null,null,{"$f":"IF(TRIM(Y68)=\"\", \"\", IF(VLOOKUP(Y68,'Footnotes list'!$B$5:$C$103,2,FALSE)=0,\"\",VLOOKUP(Y68,'Footnotes list'!$B$5:$C$103,2,FALSE) ) )","v":""},null,null,null,null,{"$f":"IF(TRIM(AD68)=\"\", \"\", IF(VLOOKUP(AD68,'Footnotes list'!$B$5:$C$103,2,FALSE)=0,\"\",VLOOKUP(AD68,'Footnotes list'!$B$5:$C$103,2,FALSE) ) )","v":""},null,null,null,null,{"$f":"IF(TRIM(AI68)=\"\", \"\", IF(VLOOKUP(AI68,'Footnotes list'!$B$5:$C$103,2,FALSE)=0,\"\",VLOOKUP(AI68,'Footnotes list'!$B$5:$C$103,2,FALSE) ) )","v":""}]
[null,null,null,null,"DE9","    NIEDERSACHSEN",null,null,null,null,{"$f":"IF(TRIM(J69)=\"\", \"\", IF(VLOOKUP(J69,'Footnotes list'!$B$5:$C$103,2,FALSE)=0,\"\",VLOOKUP(J69,'Footnotes list'!$B$5:$C$103,2,FALSE) ) )","v":""},null,null,null,null,{"$f":"IF(TRIM(O69)=\"\", \"\", IF(VLOOKUP(O69,'Footnotes list'!$B$5:$C$103,2,FALSE)=0,\"\",VLOOKUP(O69,'Footnotes list'!$B$5:$C$103,2,FALSE) ) )","v":""},null,null,null,null,{"$f":"IF(TRIM(T69)=\"\", \"\", IF(VLOOKUP(T69,'Footnotes list'!$B$5:$C$103,2,FALSE)=0,\"\",VLOOKUP(T69,'Footnotes list'!$B$5:$C$103,2,FALSE) ) )","v":""},null,null,null,null,{"$f":"IF(TRIM(Y69)=\"\", \"\", IF(VLOOKUP(Y69,'Footnotes list'!$B$5:$C$103,2,FALSE)=0,\"\",VLOOKUP(Y69,'Footnotes list'!$B$5:$C$103,2,FALSE) ) )","v":""},null,null,null,null,{"$f":"IF(TRIM(AD69)=\"\", \"\", IF(VLOOKUP(AD69,'Footnotes list'!$B$5:$C$103,2,FALSE)=0,\"\",VLOOKUP(AD69,'Footnotes list'!$B$5:$C$103,2,FALSE) ) )","v":""},null,null,null,null,{"$f":"IF(TRIM(AI69)=\"\", \"\", IF(VLOOKUP(AI69,'Footnotes list'!$B$5:$C$103,2,FALSE)=0,\"\",VLOOKUP(AI69,'Footnotes list'!$B$5:$C$103,2,FALSE) ) )","v":""}]
[null,null,null,null,"DE91","        Braunschweig",null,null,null,null,{"$f":"IF(TRIM(J70)=\"\", \"\", IF(VLOOKUP(J70,'Footnotes list'!$B$5:$C$103,2,FALSE)=0,\"\",VLOOKUP(J70,'Footnotes list'!$B$5:$C$103,2,FALSE) ) )","v":""},null,null,null,null,{"$f":"IF(TRIM(O70)=\"\", \"\", IF(VLOOKUP(O70,'Footnotes list'!$B$5:$C$103,2,FALSE)=0,\"\",VLOOKUP(O70,'Footnotes list'!$B$5:$C$103,2,FALSE) ) )","v":""},null,null,null,null,{"$f":"IF(TRIM(T70)=\"\", \"\", IF(VLOOKUP(T70,'Footnotes list'!$B$5:$C$103,2,FALSE)=0,\"\",VLOOKUP(T70,'Footnotes list'!$B$5:$C$103,2,FALSE) ) )","v":""},null,null,null,null,{"$f":"IF(TRIM(Y70)=\"\", \"\", IF(VLOOKUP(Y70,'Footnotes list'!$B$5:$C$103,2,FALSE)=0,\"\",VLOOKUP(Y70,'Footnotes list'!$B$5:$C$103,2,FALSE) ) )","v":""},null,null,null,null,{"$f":"IF(TRIM(AD70)=\"\", \"\", IF(VLOOKUP(AD70,'Footnotes list'!$B$5:$C$103,2,FALSE)=0,\"\",VLOOKUP(AD70,'Footnotes list'!$B$5:$C$103,2,FALSE) ) )","v":""},null,null,null,null,{"$f":"IF(TRIM(AI70)=\"\", \"\", IF(VLOOKUP(AI70,'Footnotes list'!$B$5:$C$103,2,FALSE)=0,\"\",VLOOKUP(AI70,'Footnotes list'!$B$5:$C$103,2,FALSE) ) )","v":""}]
[null,null,null,null,"DE92","        Hannover",null,null,null,null,{"$f":"IF(TRIM(J71)=\"\", \"\", IF(VLOOKUP(J71,'Footnotes list'!$B$5:$C$103,2,FALSE)=0,\"\",VLOOKUP(J71,'Footnotes list'!$B$5:$C$103,2,FALSE) ) )","v":""},null,null,null,null,{"$f":"IF(TRIM(O71)=\"\", \"\", IF(VLOOKUP(O71,'Footnotes list'!$B$5:$C$103,2,FALSE)=0,\"\",VLOOKUP(O71,'Footnotes list'!$B$5:$C$103,2,FALSE) ) )","v":""},null,null,null,null,{"$f":"IF(TRIM(T71)=\"\", \"\", IF(VLOOKUP(T71,'Footnotes list'!$B$5:$C$103,2,FALSE)=0,\"\",VLOOKUP(T71,'Footnotes list'!$B$5:$C$103,2,FALSE) ) )","v":""},null,null,null,null,{"$f":"IF(TRIM(Y71)=\"\", \"\", IF(VLOOKUP(Y71,'Footnotes list'!$B$5:$C$103,2,FALSE)=0,\"\",VLOOKUP(Y71,'Footnotes list'!$B$5:$C$103,2,FALSE) ) )","v":""},null,null,null,null,{"$f":"IF(TRIM(AD71)=\"\", \"\", IF(VLOOKUP(AD71,'Footnotes list'!$B$5:$C$103,2,FALSE)=0,\"\",VLOOKUP(AD71,'Footnotes list'!$B$5:$C$103,2,FALSE) ) )","v":""},null,null,null,null,{"$f":"IF(TRIM(AI71)=\"\", \"\", IF(VLOOKUP(AI71,'Footnotes list'!$B$5:$C$103,2,FALSE)=0,\"\",VLOOKUP(AI71,'Footnotes list'!$B$5:$C$103,2,FALSE) ) )","v":""}]
[null,null,null,null,"DE93","        Lüneburg",null,null,null,null,{"$f":"IF(TRIM(J72)=\"\", \"\", IF(VLOOKUP(J72,'Footnotes list'!$B$5:$C$103,2,FALSE)=0,\"\",VLOOKUP(J72,'Footnotes list'!$B$5:$C$103,2,FALSE) ) )","v":""},null,null,null,null,{"$f":"IF(TRIM(O72)=\"\", \"\", IF(VLOOKUP(O72,'Footnotes list'!$B$5:$C$103,2,FALSE)=0,\"\",VLOOKUP(O72,'Footnotes list'!$B$5:$C$103,2,FALSE) ) )","v":""},null,null,null,null,{"$f":"IF(TRIM(T72)=\"\", \"\", IF(VLOOKUP(T72,'Footnotes list'!$B$5:$C$103,2,FALSE)=0,\"\",VLOOKUP(T72,'Footnotes list'!$B$5:$C$103,2,FALSE) ) )","v":""},null,null,null,null,{"$f":"IF(TRIM(Y72)=\"\", \"\", IF(VLOOKUP(Y72,'Footnotes list'!$B$5:$C$103,2,FALSE)=0,\"\",VLOOKUP(Y72,'Footnotes list'!$B$5:$C$103,2,FALSE) ) )","v":""},null,null,null,null,{"$f":"IF(TRIM(AD72)=\"\", \"\", IF(VLOOKUP(AD72,'Footnotes list'!$B$5:$C$103,2,FALSE)=0,\"\",VLOOKUP(AD72,'Footnotes list'!$B$5:$C$103,2,FALSE) ) )","v":""},null,null,null,null,{"$f":"IF(TRIM(AI72)=\"\", \"\", IF(VLOOKUP(AI72,'Footnotes list'!$B$5:$C$103,2,FALSE)=0,\"\",VLOOKUP(AI72,'Footnotes list'!$B$5:$C$103,2,FALSE) ) )","v":""}]
[null,null,null,null,"DE94","        Weser-Ems",null,null,null,null,{"$f":"IF(TRIM(J73)=\"\", \"\", IF(VLOOKUP(J73,'Footnotes list'!$B$5:$C$103,2,FALSE)=0,\"\",VLOOKUP(J73,'Footnotes list'!$B$5:$C$103,2,FALSE) ) )","v":""},null,null,null,null,{"$f":"IF(TRIM(O73)=\"\", \"\", IF(VLOOKUP(O73,'Footnotes list'!$B$5:$C$103,2,FALSE)=0,\"\",VLOOKUP(O73,'Footnotes list'!$B$5:$C$103,2,FALSE) ) )","v":""},null,null,null,null,{"$f":"IF(TRIM(T73)=\"\", \"\", IF(VLOOKUP(T73,'Footnotes list'!$B$5:$C$103,2,FALSE)=0,\"\",VLOOKUP(T73,'Footnotes list'!$B$5:$C$103,2,FALSE) ) )","v":""},null,null,null,null,{"$f":"IF(TRIM(Y73)=\"\", \"\", IF(VLOOKUP(Y73,'Footnotes list'!$B$5:$C$103,2,FALSE)=0,\"\",VLOOKUP(Y73,'Footnotes list'!$B$5:$C$103,2,FALSE) ) )","v":""},null,null,null,null,{"$f":"IF(TRIM(AD73)=\"\", \"\", IF(VLOOKUP(AD73,'Footnotes list'!$B$5:$C$103,2,FALSE)=0,\"\",VLOOKUP(AD73,'Footnotes list'!$B$5:$C$103,2,FALSE) ) )","v":""},null,null,null,null,{"$f":"IF(TRIM(AI73)=\"\", \"\", IF(VLOOKUP(AI73,'Footnotes list'!$B$5:$C$103,2,FALSE)=0,\"\",VLOOKUP(AI73,'Footnotes list'!$B$5:$C$103,2,FALSE) ) )","v":""}]
[null,null,null,null,"DEA","    NORDRHEIN-WESTFALEN",null,null,null,null,{"$f":"IF(TRIM(J74)=\"\", \"\", IF(VLOOKUP(J74,'Footnotes list'!$B$5:$C$103,2,FALSE)=0,\"\",VLOOKUP(J74,'Footnotes list'!$B$5:$C$103,2,FALSE) ) )","v":""},null,null,null,null,{"$f":"IF(TRIM(O74)=\"\", \"\", IF(VLOOKUP(O74,'Footnotes list'!$B$5:$C$103,2,FALSE)=0,\"\",VLOOKUP(O74,'Footnotes list'!$B$5:$C$103,2,FALSE) ) )","v":""},null,null,null,null,{"$f":"IF(TRIM(T74)=\"\", \"\", IF(VLOOKUP(T74,'Footnotes list'!$B$5:$C$103,2,FALSE)=0,\"\",VLOOKUP(T74,'Footnotes list'!$B$5:$C$103,2,FALSE) ) )","v":""},null,null,null,null,{"$f":"IF(TRIM(Y74)=\"\", \"\", IF(VLOOKUP(Y74,'Footnotes list'!$B$5:$C$103,2,FALSE)=0,\"\",VLOOKUP(Y74,'Footnotes list'!$B$5:$C$103,2,FALSE) ) )","v":""},null,null,null,null,{"$f":"IF(TRIM(AD74)=\"\", \"\", IF(VLOOKUP(AD74,'Footnotes list'!$B$5:$C$103,2,FALSE)=0,\"\",VLOOKUP(AD74,'Footnotes list'!$B$5:$C$103,2,FALSE) ) )","v":""},null,null,null,null,{"$f":"IF(TRIM(AI74)=\"\", \"\", IF(VLOOKUP(AI74,'Footnotes list'!$B$5:$C$103,2,FALSE)=0,\"\",VLOOKUP(AI74,'Footnotes list'!$B$5:$C$103,2,FALSE) ) )","v":""}]
[null,null,null,null,"DEA1","        Düsseldorf",null,null,null,null,{"$f":"IF(TRIM(J75)=\"\", \"\", IF(VLOOKUP(J75,'Footnotes list'!$B$5:$C$103,2,FALSE)=0,\"\",VLOOKUP(J75,'Footnotes list'!$B$5:$C$103,2,FALSE) ) )","v":""},null,null,null,null,{"$f":"IF(TRIM(O75)=\"\", \"\", IF(VLOOKUP(O75,'Footnotes list'!$B$5:$C$103,2,FALSE)=0,\"\",VLOOKUP(O75,'Footnotes list'!$B$5:$C$103,2,FALSE) ) )","v":""},null,null,null,null,{"$f":"IF(TRIM(T75)=\"\", \"\", IF(VLOOKUP(T75,'Footnotes list'!$B$5:$C$103,2,FALSE)=0,\"\",VLOOKUP(T75,'Footnotes list'!$B$5:$C$103,2,FALSE) ) )","v":""},null,null,null,null,{"$f":"IF(TRIM(Y75)=\"\", \"\", IF(VLOOKUP(Y75,'Footnotes list'!$B$5:$C$103,2,FALSE)=0,\"\",VLOOKUP(Y75,'Footnotes list'!$B$5:$C$103,2,FALSE) ) )","v":""},null,null,null,null,{"$f":"IF(TRIM(AD75)=\"\", \"\", IF(VLOOKUP(AD75,'Footnotes list'!$B$5:$C$103,2,FALSE)=0,\"\",VLOOKUP(AD75,'Footnotes list'!$B$5:$C$103,2,FALSE) ) )","v":""},null,null,null,null,{"$f":"IF(TRIM(AI75)=\"\", \"\", IF(VLOOKUP(AI75,'Footnotes list'!$B$5:$C$103,2,FALSE)=0,\"\",VLOOKUP(AI75,'Footnotes list'!$B$5:$C$103,2,FALSE) ) )","v":""}]
[null,null,null,null,"DEA2","        Köln",null,null,null,null,{"$f":"IF(TRIM(J76)=\"\", \"\", IF(VLOOKUP(J76,'Footnotes list'!$B$5:$C$103,2,FALSE)=0,\"\",VLOOKUP(J76,'Footnotes list'!$B$5:$C$103,2,FALSE) ) )","v":""},null,null,null,null,{"$f":"IF(TRIM(O76)=\"\", \"\", IF(VLOOKUP(O76,'Footnotes list'!$B$5:$C$103,2,FALSE)=0,\"\",VLOOKUP(O76,'Footnotes list'!$B$5:$C$103,2,FALSE) ) )","v":""},null,null,null,null,{"$f":"IF(TRIM(T76)=\"\", \"\", IF(VLOOKUP(T76,'Footnotes list'!$B$5:$C$103,2,FALSE)=0,\"\",VLOOKUP(T76,'Footnotes list'!$B$5:$C$103,2,FALSE) ) )","v":""},null,null,null,null,{"$f":"IF(TRIM(Y76)=\"\", \"\", IF(VLOOKUP(Y76,'Footnotes list'!$B$5:$C$103,2,FALSE)=0,\"\",VLOOKUP(Y76,'Footnotes list'!$B$5:$C$103,2,FALSE) ) )","v":""},null,null,null,null,{"$f":"IF(TRIM(AD76)=\"\", \"\", IF(VLOOKUP(AD76,'Footnotes list'!$B$5:$C$103,2,FALSE)=0,\"\",VLOOKUP(AD76,'Footnotes list'!$B$5:$C$103,2,FALSE) ) )","v":""},null,null,null,null,{"$f":"IF(TRIM(AI76)=\"\", \"\", IF(VLOOKUP(AI76,'Footnotes list'!$B$5:$C$103,2,FALSE)=0,\"\",VLOOKUP(AI76,'Footnotes list'!$B$5:$C$103,2,FALSE) ) )","v":""}]
[null,null,null,null,"DEA3","        Münster",null,null,null,null,{"$f":"IF(TRIM(J77)=\"\", \"\", IF(VLOOKUP(J77,'Footnotes list'!$B$5:$C$103,2,FALSE)=0,\"\",VLOOKUP(J77,'Footnotes list'!$B$5:$C$103,2,FALSE) ) )","v":""},null,null,null,null,{"$f":"IF(TRIM(O77)=\"\", \"\", IF(VLOOKUP(O77,'Footnotes list'!$B$5:$C$103,2,FALSE)=0,\"\",VLOOKUP(O77,'Footnotes list'!$B$5:$C$103,2,FALSE) ) )","v":""},null,null,null,null,{"$f":"IF(TRIM(T77)=\"\", \"\", IF(VLOOKUP(T77,'Footnotes list'!$B$5:$C$103,2,FALSE)=0,\"\",VLOOKUP(T77,'Footnotes list'!$B$5:$C$103,2,FALSE) ) )","v":""},null,null,null,null,{"$f":"IF(TRIM(Y77)=\"\", \"\", IF(VLOOKUP(Y77,'Footnotes list'!$B$5:$C$103,2,FALSE)=0,\"\",VLOOKUP(Y77,'Footnotes list'!$B$5:$C$103,2,FALSE) ) )","v":""},null,null,null,null,{"$f":"IF(TRIM(AD77)=\"\", \"\", IF(VLOOKUP(AD77,'Footnotes list'!$B$5:$C$103,2,FALSE)=0,\"\",VLOOKUP(AD77,'Footnotes list'!$B$5:$C$103,2,FALSE) ) )","v":""},null,null,null,null,{"$f":"IF(TRIM(AI77)=\"\", \"\", IF(VLOOKUP(AI77,'Footnotes list'!$B$5:$C$103,2,FALSE)=0,\"\",VLOOKUP(AI77,'Footnotes list'!$B$5:$C$103,2,FALSE) ) )","v":""}]
[null,null,null,null,"DEA4","        Detmold",null,null,null,null,{"$f":"IF(TRIM(J78)=\"\", \"\", IF(VLOOKUP(J78,'Footnotes list'!$B$5:$C$103,2,FALSE)=0,\"\",VLOOKUP(J78,'Footnotes list'!$B$5:$C$103,2,FALSE) ) )","v":""},null,null,null,null,{"$f":"IF(TRIM(O78)=\"\", \"\", IF(VLOOKUP(O78,'Footnotes list'!$B$5:$C$103,2,FALSE)=0,\"\",VLOOKUP(O78,'Footnotes list'!$B$5:$C$103,2,FALSE) ) )","v":""},null,null,null,null,{"$f":"IF(TRIM(T78)=\"\", \"\", IF(VLOOKUP(T78,'Footnotes list'!$B$5:$C$103,2,FALSE)=0,\"\",VLOOKUP(T78,'Footnotes list'!$B$5:$C$103,2,FALSE) ) )","v":""},null,null,null,null,{"$f":"IF(TRIM(Y78)=\"\", \"\", IF(VLOOKUP(Y78,'Footnotes list'!$B$5:$C$103,2,FALSE)=0,\"\",VLOOKUP(Y78,'Footnotes list'!$B$5:$C$103,2,FALSE) ) )","v":""},null,null,null,null,{"$f":"IF(TRIM(AD78)=\"\", \"\", IF(VLOOKUP(AD78,'Footnotes list'!$B$5:$C$103,2,FALSE)=0,\"\",VLOOKUP(AD78,'Footnotes list'!$B$5:$C$103,2,FALSE) ) )","v":""},null,null,null,null,{"$f":"IF(TRIM(AI78)=\"\", \"\", IF(VLOOKUP(AI78,'Footnotes list'!$B$5:$C$103,2,FALSE)=0,\"\",VLOOKUP(AI78,'Footnotes list'!$B$5:$C$103,2,FALSE) ) )","v":""}]
[null,null,null,null,"DEA5","        Arnsberg",null,null,null,null,{"$f":"IF(TRIM(J79)=\"\", \"\", IF(VLOOKUP(J79,'Footnotes list'!$B$5:$C$103,2,FALSE)=0,\"\",VLOOKUP(J79,'Footnotes list'!$B$5:$C$103,2,FALSE) ) )","v":""},null,null,null,null,{"$f":"IF(TRIM(O79)=\"\", \"\", IF(VLOOKUP(O79,'Footnotes list'!$B$5:$C$103,2,FALSE)=0,\"\",VLOOKUP(O79,'Footnotes list'!$B$5:$C$103,2,FALSE) ) )","v":""},null,null,null,null,{"$f":"IF(TRIM(T79)=\"\", \"\", IF(VLOOKUP(T79,'Footnotes list'!$B$5:$C$103,2,FALSE)=0,\"\",VLOOKUP(T79,'Footnotes list'!$B$5:$C$103,2,FALSE) ) )","v":""},null,null,null,null,{"$f":"IF(TRIM(Y79)=\"\", \"\", IF(VLOOKUP(Y79,'Footnotes list'!$B$5:$C$103,2,FALSE)=0,\"\",VLOOKUP(Y79,'Footnotes list'!$B$5:$C$103,2,FALSE) ) )","v":""},null,null,null,null,{"$f":"IF(TRIM(AD79)=\"\", \"\", IF(VLOOKUP(AD79,'Footnotes list'!$B$5:$C$103,2,FALSE)=0,\"\",VLOOKUP(AD79,'Footnotes list'!$B$5:$C$103,2,FALSE) ) )","v":""},null,null,null,null,{"$f":"IF(TRIM(AI79)=\"\", \"\", IF(VLOOKUP(AI79,'Footnotes list'!$B$5:$C$103,2,FALSE)=0,\"\",VLOOKUP(AI79,'Footnotes list'!$B$5:$C$103,2,FALSE) ) )","v":""}]
[null,null,null,null,"DEB","    RHEINLAND-PFALZ",null,null,null,null,{"$f":"IF(TRIM(J80)=\"\", \"\", IF(VLOOKUP(J80,'Footnotes list'!$B$5:$C$103,2,FALSE)=0,\"\",VLOOKUP(J80,'Footnotes list'!$B$5:$C$103,2,FALSE) ) )","v":""},null,null,null,null,{"$f":"IF(TRIM(O80)=\"\", \"\", IF(VLOOKUP(O80,'Footnotes list'!$B$5:$C$103,2,FALSE)=0,\"\",VLOOKUP(O80,'Footnotes list'!$B$5:$C$103,2,FALSE) ) )","v":""},null,null,null,null,{"$f":"IF(TRIM(T80)=\"\", \"\", IF(VLOOKUP(T80,'Footnotes list'!$B$5:$C$103,2,FALSE)=0,\"\",VLOOKUP(T80,'Footnotes list'!$B$5:$C$103,2,FALSE) ) )","v":""},null,null,null,null,{"$f":"IF(TRIM(Y80)=\"\", \"\", IF(VLOOKUP(Y80,'Footnotes list'!$B$5:$C$103,2,FALSE)=0,\"\",VLOOKUP(Y80,'Footnotes list'!$B$5:$C$103,2,FALSE) ) )","v":""},null,null,null,null,{"$f":"IF(TRIM(AD80)=\"\", \"\", IF(VLOOKUP(AD80,'Footnotes list'!$B$5:$C$103,2,FALSE)=0,\"\",VLOOKUP(AD80,'Footnotes list'!$B$5:$C$103,2,FALSE) ) )","v":""},null,null,null,null,{"$f":"IF(TRIM(AI80)=\"\", \"\", IF(VLOOKUP(AI80,'Footnotes list'!$B$5:$C$103,2,FALSE)=0,\"\",VLOOKUP(AI80,'Footnotes list'!$B$5:$C$103,2,FALSE) ) )","v":""}]
[null,null,null,null,"DEB1","        Koblenz",null,null,null,null,{"$f":"IF(TRIM(J81)=\"\", \"\", IF(VLOOKUP(J81,'Footnotes list'!$B$5:$C$103,2,FALSE)=0,\"\",VLOOKUP(J81,'Footnotes list'!$B$5:$C$103,2,FALSE) ) )","v":""},null,null,null,null,{"$f":"IF(TRIM(O81)=\"\", \"\", IF(VLOOKUP(O81,'Footnotes list'!$B$5:$C$103,2,FALSE)=0,\"\",VLOOKUP(O81,'Footnotes list'!$B$5:$C$103,2,FALSE) ) )","v":""},null,null,null,null,{"$f":"IF(TRIM(T81)=\"\", \"\", IF(VLOOKUP(T81,'Footnotes list'!$B$5:$C$103,2,FALSE)=0,\"\",VLOOKUP(T81,'Footnotes list'!$B$5:$C$103,2,FALSE) ) )","v":""},null,null,null,null,{"$f":"IF(TRIM(Y81)=\"\", \"\", IF(VLOOKUP(Y81,'Footnotes list'!$B$5:$C$103,2,FALSE)=0,\"\",VLOOKUP(Y81,'Footnotes list'!$B$5:$C$103,2,FALSE) ) )","v":""},null,null,null,null,{"$f":"IF(TRIM(AD81)=\"\", \"\", IF(VLOOKUP(AD81,'Footnotes list'!$B$5:$C$103,2,FALSE)=0,\"\",VLOOKUP(AD81,'Footnotes list'!$B$5:$C$103,2,FALSE) ) )","v":""},null,null,null,null,{"$f":"IF(TRIM(AI81)=\"\", \"\", IF(VLOOKUP(AI81,'Footnotes list'!$B$5:$C$103,2,FALSE)=0,\"\",VLOOKUP(AI81,'Footnotes list'!$B$5:$C$103,2,FALSE) ) )","v":""}]
[null,null,null,null,"DEB2","        Trier",null,null,null,null,{"$f":"IF(TRIM(J82)=\"\", \"\", IF(VLOOKUP(J82,'Footnotes list'!$B$5:$C$103,2,FALSE)=0,\"\",VLOOKUP(J82,'Footnotes list'!$B$5:$C$103,2,FALSE) ) )","v":""},null,null,null,null,{"$f":"IF(TRIM(O82)=\"\", \"\", IF(VLOOKUP(O82,'Footnotes list'!$B$5:$C$103,2,FALSE)=0,\"\",VLOOKUP(O82,'Footnotes list'!$B$5:$C$103,2,FALSE) ) )","v":""},null,null,null,null,{"$f":"IF(TRIM(T82)=\"\", \"\", IF(VLOOKUP(T82,'Footnotes list'!$B$5:$C$103,2,FALSE)=0,\"\",VLOOKUP(T82,'Footnotes list'!$B$5:$C$103,2,FALSE) ) )","v":""},null,null,null,null,{"$f":"IF(TRIM(Y82)=\"\", \"\", IF(VLOOKUP(Y82,'Footnotes list'!$B$5:$C$103,2,FALSE)=0,\"\",VLOOKUP(Y82,'Footnotes list'!$B$5:$C$103,2,FALSE) ) )","v":""},null,null,null,null,{"$f":"IF(TRIM(AD82)=\"\", \"\", IF(VLOOKUP(AD82,'Footnotes list'!$B$5:$C$103,2,FALSE)=0,\"\",VLOOKUP(AD82,'Footnotes list'!$B$5:$C$103,2,FALSE) ) )","v":""},null,null,null,null,{"$f":"IF(TRIM(AI82)=\"\", \"\", IF(VLOOKUP(AI82,'Footnotes list'!$B$5:$C$103,2,FALSE)=0,\"\",VLOOKUP(AI82,'Footnotes list'!$B$5:$C$103,2,FALSE) ) )","v":""}]
[null,null,null,null,"DEB3","        Rheinhessen-Pfalz",null,null,null,null,{"$f":"IF(TRIM(J83)=\"\", \"\", IF(VLOOKUP(J83,'Footnotes list'!$B$5:$C$103,2,FALSE)=0,\"\",VLOOKUP(J83,'Footnotes list'!$B$5:$C$103,2,FALSE) ) )","v":""},null,null,null,null,{"$f":"IF(TRIM(O83)=\"\", \"\", IF(VLOOKUP(O83,'Footnotes list'!$B$5:$C$103,2,FALSE)=0,\"\",VLOOKUP(O83,'Footnotes list'!$B$5:$C$103,2,FALSE) ) )","v":""},null,null,null,null,{"$f":"IF(TRIM(T83)=\"\", \"\", IF(VLOOKUP(T83,'Footnotes list'!$B$5:$C$103,2,FALSE)=0,\"\",VLOOKUP(T83,'Footnotes list'!$B$5:$C$103,2,FALSE) ) )","v":""},null,null,null,null,{"$f":"IF(TRIM(Y83)=\"\", \"\", IF(VLOOKUP(Y83,'Footnotes list'!$B$5:$C$103,2,FALSE)=0,\"\",VLOOKUP(Y83,'Footnotes list'!$B$5:$C$103,2,FALSE) ) )","v":""},null,null,null,null,{"$f":"IF(TRIM(AD83)=\"\", \"\", IF(VLOOKUP(AD83,'Footnotes list'!$B$5:$C$103,2,FALSE)=0,\"\",VLOOKUP(AD83,'Footnotes list'!$B$5:$C$103,2,FALSE) ) )","v":""},null,null,null,null,{"$f":"IF(TRIM(AI83)=\"\", \"\", IF(VLOOKUP(AI83,'Footnotes list'!$B$5:$C$103,2,FALSE)=0,\"\",VLOOKUP(AI83,'Footnotes list'!$B$5:$C$103,2,FALSE) ) )","v":""}]
[null,null,null,null,"DEC","    SAARLAND",null,null,null,null,{"$f":"IF(TRIM(J84)=\"\", \"\", IF(VLOOKUP(J84,'Footnotes list'!$B$5:$C$103,2,FALSE)=0,\"\",VLOOKUP(J84,'Footnotes list'!$B$5:$C$103,2,FALSE) ) )","v":""},null,null,null,null,{"$f":"IF(TRIM(O84)=\"\", \"\", IF(VLOOKUP(O84,'Footnotes list'!$B$5:$C$103,2,FALSE)=0,\"\",VLOOKUP(O84,'Footnotes list'!$B$5:$C$103,2,FALSE) ) )","v":""},null,null,null,null,{"$f":"IF(TRIM(T84)=\"\", \"\", IF(VLOOKUP(T84,'Footnotes list'!$B$5:$C$103,2,FALSE)=0,\"\",VLOOKUP(T84,'Footnotes list'!$B$5:$C$103,2,FALSE) ) )","v":""},null,null,null,null,{"$f":"IF(TRIM(Y84)=\"\", \"\", IF(VLOOKUP(Y84,'Footnotes list'!$B$5:$C$103,2,FALSE)=0,\"\",VLOOKUP(Y84,'Footnotes list'!$B$5:$C$103,2,FALSE) ) )","v":""},null,null,null,null,{"$f":"IF(TRIM(AD84)=\"\", \"\", IF(VLOOKUP(AD84,'Footnotes list'!$B$5:$C$103,2,FALSE)=0,\"\",VLOOKUP(AD84,'Footnotes list'!$B$5:$C$103,2,FALSE) ) )","v":""},null,null,null,null,{"$f":"IF(TRIM(AI84)=\"\", \"\", IF(VLOOKUP(AI84,'Footnotes list'!$B$5:$C$103,2,FALSE)=0,\"\",VLOOKUP(AI84,'Footnotes list'!$B$5:$C$103,2,FALSE) ) )","v":""}]
[null,null,null,null,"DED","    SACHSEN",null,null,null,null,{"$f":"IF(TRIM(J85)=\"\", \"\", IF(VLOOKUP(J85,'Footnotes list'!$B$5:$C$103,2,FALSE)=0,\"\",VLOOKUP(J85,'Footnotes list'!$B$5:$C$103,2,FALSE) ) )","v":""},null,null,null,null,{"$f":"IF(TRIM(O85)=\"\", \"\", IF(VLOOKUP(O85,'Footnotes list'!$B$5:$C$103,2,FALSE)=0,\"\",VLOOKUP(O85,'Footnotes list'!$B$5:$C$103,2,FALSE) ) )","v":""},null,null,null,null,{"$f":"IF(TRIM(T85)=\"\", \"\", IF(VLOOKUP(T85,'Footnotes list'!$B$5:$C$103,2,FALSE)=0,\"\",VLOOKUP(T85,'Footnotes list'!$B$5:$C$103,2,FALSE) ) )","v":""},null,null,null,null,{"$f":"IF(TRIM(Y85)=\"\", \"\", IF(VLOOKUP(Y85,'Footnotes list'!$B$5:$C$103,2,FALSE)=0,\"\",VLOOKUP(Y85,'Footnotes list'!$B$5:$C$103,2,FALSE) ) )","v":""},null,null,null,null,{"$f":"IF(TRIM(AD85)=\"\", \"\", IF(VLOOKUP(AD85,'Footnotes list'!$B$5:$C$103,2,FALSE)=0,\"\",VLOOKUP(AD85,'Footnotes list'!$B$5:$C$103,2,FALSE) ) )","v":""},null,null,null,null,{"$f":"IF(TRIM(AI85)=\"\", \"\", IF(VLOOKUP(AI85,'Footnotes list'!$B$5:$C$103,2,FALSE)=0,\"\",VLOOKUP(AI85,'Footnotes list'!$B$5:$C$103,2,FALSE) ) )","v":""}]
[null,null,null,null,"DED2","        Dresden",null,null,null,null,{"$f":"IF(TRIM(J86)=\"\", \"\", IF(VLOOKUP(J86,'Footnotes list'!$B$5:$C$103,2,FALSE)=0,\"\",VLOOKUP(J86,'Footnotes list'!$B$5:$C$103,2,FALSE) ) )","v":""},null,null,null,null,{"$f":"IF(TRIM(O86)=\"\", \"\", IF(VLOOKUP(O86,'Footnotes list'!$B$5:$C$103,2,FALSE)=0,\"\",VLOOKUP(O86,'Footnotes list'!$B$5:$C$103,2,FALSE) ) )","v":""},null,null,null,null,{"$f":"IF(TRIM(T86)=\"\", \"\", IF(VLOOKUP(T86,'Footnotes list'!$B$5:$C$103,2,FALSE)=0,\"\",VLOOKUP(T86,'Footnotes list'!$B$5:$C$103,2,FALSE) ) )","v":""},null,null,null,null,{"$f":"IF(TRIM(Y86)=\"\", \"\", IF(VLOOKUP(Y86,'Footnotes list'!$B$5:$C$103,2,FALSE)=0,\"\",VLOOKUP(Y86,'Footnotes list'!$B$5:$C$103,2,FALSE) ) )","v":""},null,null,null,null,{"$f":"IF(TRIM(AD86)=\"\", \"\", IF(VLOOKUP(AD86,'Footnotes list'!$B$5:$C$103,2,FALSE)=0,\"\",VLOOKUP(AD86,'Footnotes list'!$B$5:$C$103,2,FALSE) ) )","v":""},null,null,null,null,{"$f":"IF(TRIM(AI86)=\"\", \"\", IF(VLOOKUP(AI86,'Footnotes list'!$B$5:$C$103,2,FALSE)=0,\"\",VLOOKUP(AI86,'Footnotes list'!$B$5:$C$103,2,FALSE) ) )","v":""}]
[null,null,null,null,"DED4","        Chemnitz",null,null,null,null,{"$f":"IF(TRIM(J87)=\"\", \"\", IF(VLOOKUP(J87,'Footnotes list'!$B$5:$C$103,2,FALSE)=0,\"\",VLOOKUP(J87,'Footnotes list'!$B$5:$C$103,2,FALSE) ) )","v":""},null,null,null,null,{"$f":"IF(TRIM(O87)=\"\", \"\", IF(VLOOKUP(O87,'Footnotes list'!$B$5:$C$103,2,FALSE)=0,\"\",VLOOKUP(O87,'Footnotes list'!$B$5:$C$103,2,FALSE) ) )","v":""},null,null,null,null,{"$f":"IF(TRIM(T87)=\"\", \"\", IF(VLOOKUP(T87,'Footnotes list'!$B$5:$C$103,2,FALSE)=0,\"\",VLOOKUP(T87,'Footnotes list'!$B$5:$C$103,2,FALSE) ) )","v":""},null,null,null,null,{"$f":"IF(TRIM(Y87)=\"\", \"\", IF(VLOOKUP(Y87,'Footnotes list'!$B$5:$C$103,2,FALSE)=0,\"\",VLOOKUP(Y87,'Footnotes list'!$B$5:$C$103,2,FALSE) ) )","v":""},null,null,null,null,{"$f":"IF(TRIM(AD87)=\"\", \"\", IF(VLOOKUP(AD87,'Footnotes list'!$B$5:$C$103,2,FALSE)=0,\"\",VLOOKUP(AD87,'Footnotes list'!$B$5:$C$103,2,FALSE) ) )","v":""},null,null,null,null,{"$f":"IF(TRIM(AI87)=\"\", \"\", IF(VLOOKUP(AI87,'Footnotes list'!$B$5:$C$103,2,FALSE)=0,\"\",VLOOKUP(AI87,'Footnotes list'!$B$5:$C$103,2,FALSE) ) )","v":""}]
[null,null,null,null,"DED5","        Leipzig",null,null,null,null,{"$f":"IF(TRIM(J88)=\"\", \"\", IF(VLOOKUP(J88,'Footnotes list'!$B$5:$C$103,2,FALSE)=0,\"\",VLOOKUP(J88,'Footnotes list'!$B$5:$C$103,2,FALSE) ) )","v":""},null,null,null,null,{"$f":"IF(TRIM(O88)=\"\", \"\", IF(VLOOKUP(O88,'Footnotes list'!$B$5:$C$103,2,FALSE)=0,\"\",VLOOKUP(O88,'Footnotes list'!$B$5:$C$103,2,FALSE) ) )","v":""},null,null,null,null,{"$f":"IF(TRIM(T88)=\"\", \"\", IF(VLOOKUP(T88,'Footnotes list'!$B$5:$C$103,2,FALSE)=0,\"\",VLOOKUP(T88,'Footnotes list'!$B$5:$C$103,2,FALSE) ) )","v":""},null,null,null,null,{"$f":"IF(TRIM(Y88)=\"\", \"\", IF(VLOOKUP(Y88,'Footnotes list'!$B$5:$C$103,2,FALSE)=0,\"\",VLOOKUP(Y88,'Footnotes list'!$B$5:$C$103,2,FALSE) ) )","v":""},null,null,null,null,{"$f":"IF(TRIM(AD88)=\"\", \"\", IF(VLOOKUP(AD88,'Footnotes list'!$B$5:$C$103,2,FALSE)=0,\"\",VLOOKUP(AD88,'Footnotes list'!$B$5:$C$103,2,FALSE) ) )","v":""},null,null,null,null,{"$f":"IF(TRIM(AI88)=\"\", \"\", IF(VLOOKUP(AI88,'Footnotes list'!$B$5:$C$103,2,FALSE)=0,\"\",VLOOKUP(AI88,'Footnotes list'!$B$5:$C$103,2,FALSE) ) )","v":""}]
[null,null,null,null,"DEE","    SACHSEN-ANHALT",null,null,null,null,{"$f":"IF(TRIM(J89)=\"\", \"\", IF(VLOOKUP(J89,'Footnotes list'!$B$5:$C$103,2,FALSE)=0,\"\",VLOOKUP(J89,'Footnotes list'!$B$5:$C$103,2,FALSE) ) )","v":""},null,null,null,null,{"$f":"IF(TRIM(O89)=\"\", \"\", IF(VLOOKUP(O89,'Footnotes list'!$B$5:$C$103,2,FALSE)=0,\"\",VLOOKUP(O89,'Footnotes list'!$B$5:$C$103,2,FALSE) ) )","v":""},null,null,null,null,{"$f":"IF(TRIM(T89)=\"\", \"\", IF(VLOOKUP(T89,'Footnotes list'!$B$5:$C$103,2,FALSE)=0,\"\",VLOOKUP(T89,'Footnotes list'!$B$5:$C$103,2,FALSE) ) )","v":""},null,null,null,null,{"$f":"IF(TRIM(Y89)=\"\", \"\", IF(VLOOKUP(Y89,'Footnotes list'!$B$5:$C$103,2,FALSE)=0,\"\",VLOOKUP(Y89,'Footnotes list'!$B$5:$C$103,2,FALSE) ) )","v":""},null,null,null,null,{"$f":"IF(TRIM(AD89)=\"\", \"\", IF(VLOOKUP(AD89,'Footnotes list'!$B$5:$C$103,2,FALSE)=0,\"\",VLOOKUP(AD89,'Footnotes list'!$B$5:$C$103,2,FALSE) ) )","v":""},null,null,null,null,{"$f":"IF(TRIM(AI89)=\"\", \"\", IF(VLOOKUP(AI89,'Footnotes list'!$B$5:$C$103,2,FALSE)=0,\"\",VLOOKUP(AI89,'Footnotes list'!$B$5:$C$103,2,FALSE) ) )","v":""}]
[null,null,null,null,"DEF","    SCHLESWIG-HOLSTEIN",null,null,null,null,{"$f":"IF(TRIM(J90)=\"\", \"\", IF(VLOOKUP(J90,'Footnotes list'!$B$5:$C$103,2,FALSE)=0,\"\",VLOOKUP(J90,'Footnotes list'!$B$5:$C$103,2,FALSE) ) )","v":""},null,null,null,null,{"$f":"IF(TRIM(O90)=\"\", \"\", IF(VLOOKUP(O90,'Footnotes list'!$B$5:$C$103,2,FALSE)=0,\"\",VLOOKUP(O90,'Footnotes list'!$B$5:$C$103,2,FALSE) ) )","v":""},null,null,null,null,{"$f":"IF(TRIM(T90)=\"\", \"\", IF(VLOOKUP(T90,'Footnotes list'!$B$5:$C$103,2,FALSE)=0,\"\",VLOOKUP(T90,'Footnotes list'!$B$5:$C$103,2,FALSE) ) )","v":""},null,null,null,null,{"$f":"IF(TRIM(Y90)=\"\", \"\", IF(VLOOKUP(Y90,'Footnotes list'!$B$5:$C$103,2,FALSE)=0,\"\",VLOOKUP(Y90,'Footnotes list'!$B$5:$C$103,2,FALSE) ) )","v":""},null,null,null,null,{"$f":"IF(TRIM(AD90)=\"\", \"\", IF(VLOOKUP(AD90,'Footnotes list'!$B$5:$C$103,2,FALSE)=0,\"\",VLOOKUP(AD90,'Footnotes list'!$B$5:$C$103,2,FALSE) ) )","v":""},null,null,null,null,{"$f":"IF(TRIM(AI90)=\"\", \"\", IF(VLOOKUP(AI90,'Footnotes list'!$B$5:$C$103,2,FALSE)=0,\"\",VLOOKUP(AI90,'Footnotes list'!$B$5:$C$103,2,FALSE) ) )","v":""}]
[null,null,null,null,"DEG","    THÜRINGEN",null,null,null,null,{"$f":"IF(TRIM(J91)=\"\", \"\", IF(VLOOKUP(J91,'Footnotes list'!$B$5:$C$103,2,FALSE)=0,\"\",VLOOKUP(J91,'Footnotes list'!$B$5:$C$103,2,FALSE) ) )","v":""},null,null,null,null,{"$f":"IF(TRIM(O91)=\"\", \"\", IF(VLOOKUP(O91,'Footnotes list'!$B$5:$C$103,2,FALSE)=0,\"\",VLOOKUP(O91,'Footnotes list'!$B$5:$C$103,2,FALSE) ) )","v":""},null,null,null,null,{"$f":"IF(TRIM(T91)=\"\", \"\", IF(VLOOKUP(T91,'Footnotes list'!$B$5:$C$103,2,FALSE)=0,\"\",VLOOKUP(T91,'Footnotes list'!$B$5:$C$103,2,FALSE) ) )","v":""},null,null,null,null,{"$f":"IF(TRIM(Y91)=\"\", \"\", IF(VLOOKUP(Y91,'Footnotes list'!$B$5:$C$103,2,FALSE)=0,\"\",VLOOKUP(Y91,'Footnotes list'!$B$5:$C$103,2,FALSE) ) )","v":""},null,null,null,null,{"$f":"IF(TRIM(AD91)=\"\", \"\", IF(VLOOKUP(AD91,'Footnotes list'!$B$5:$C$103,2,FALSE)=0,\"\",VLOOKUP(AD91,'Footnotes list'!$B$5:$C$103,2,FALSE) ) )","v":""},null,null,null,null,{"$f":"IF(TRIM(AI91)=\"\", \"\", IF(VLOOKUP(AI91,'Footnotes list'!$B$5:$C$103,2,FALSE)=0,\"\",VLOOKUP(AI91,'Footnotes list'!$B$5:$C$103,2,FALSE) ) )","v":""}]
[null,null,null,"ESTONIA","EE","EESTI",null,null,null,null,{"$f":"IF(TRIM(J92)=\"\", \"\", IF(VLOOKUP(J92,'Footnotes list'!$B$5:$C$103,2,FALSE)=0,\"\",VLOOKUP(J92,'Footnotes list'!$B$5:$C$103,2,FALSE) ) )","v":""},null,null,null,null,{"$f":"IF(TRIM(O92)=\"\", \"\", IF(VLOOKUP(O92,'Footnotes list'!$B$5:$C$103,2,FALSE)=0,\"\",VLOOKUP(O92,'Footnotes list'!$B$5:$C$103,2,FALSE) ) )","v":""},null,null,null,null,{"$f":"IF(TRIM(T92)=\"\", \"\", IF(VLOOKUP(T92,'Footnotes list'!$B$5:$C$103,2,FALSE)=0,\"\",VLOOKUP(T92,'Footnotes list'!$B$5:$C$103,2,FALSE) ) )","v":""},null,null,null,null,{"$f":"IF(TRIM(Y92)=\"\", \"\", IF(VLOOKUP(Y92,'Footnotes list'!$B$5:$C$103,2,FALSE)=0,\"\",VLOOKUP(Y92,'Footnotes list'!$B$5:$C$103,2,FALSE) ) )","v":""},null,null,null,null,{"$f":"IF(TRIM(AD92)=\"\", \"\", IF(VLOOKUP(AD92,'Footnotes list'!$B$5:$C$103,2,FALSE)=0,\"\",VLOOKUP(AD92,'Footnotes list'!$B$5:$C$103,2,FALSE) ) )","v":""},null,null,null,null,{"$f":"IF(TRIM(AI92)=\"\", \"\", IF(VLOOKUP(AI92,'Footnotes list'!$B$5:$C$103,2,FALSE)=0,\"\",VLOOKUP(AI92,'Footnotes list'!$B$5:$C$103,2,FALSE) ) )","v":""}]
[null,null,null,null,"IE","ÉIRE / IRELAND",null,null,null,null,{"$f":"IF(TRIM(J93)=\"\", \"\", IF(VLOOKUP(J93,'Footnotes list'!$B$5:$C$103,2,FALSE)=0,\"\",VLOOKUP(J93,'Footnotes list'!$B$5:$C$103,2,FALSE) ) )","v":""},null,null,null,null,{"$f":"IF(TRIM(O93)=\"\", \"\", IF(VLOOKUP(O93,'Footnotes list'!$B$5:$C$103,2,FALSE)=0,\"\",VLOOKUP(O93,'Footnotes list'!$B$5:$C$103,2,FALSE) ) )","v":""},null,null,null,null,{"$f":"IF(TRIM(T93)=\"\", \"\", IF(VLOOKUP(T93,'Footnotes list'!$B$5:$C$103,2,FALSE)=0,\"\",VLOOKUP(T93,'Footnotes list'!$B$5:$C$103,2,FALSE) ) )","v":""},null,null,null,null,{"$f":"IF(TRIM(Y93)=\"\", \"\", IF(VLOOKUP(Y93,'Footnotes list'!$B$5:$C$103,2,FALSE)=0,\"\",VLOOKUP(Y93,'Footnotes list'!$B$5:$C$103,2,FALSE) ) )","v":""},null,null,null,null,{"$f":"IF(TRIM(AD93)=\"\", \"\", IF(VLOOKUP(AD93,'Footnotes list'!$B$5:$C$103,2,FALSE)=0,\"\",VLOOKUP(AD93,'Footnotes list'!$B$5:$C$103,2,FALSE) ) )","v":""},null,null,null,null,{"$f":"IF(TRIM(AI93)=\"\", \"\", IF(VLOOKUP(AI93,'Footnotes list'!$B$5:$C$103,2,FALSE)=0,\"\",VLOOKUP(AI93,'Footnotes list'!$B$5:$C$103,2,FALSE) ) )","v":""}]
[null,null,null,"IRELAND","IE04","    Northern and Western",null,null,null,null,{"$f":"IF(TRIM(J94)=\"\", \"\", IF(VLOOKUP(J94,'Footnotes list'!$B$5:$C$103,2,FALSE)=0,\"\",VLOOKUP(J94,'Footnotes list'!$B$5:$C$103,2,FALSE) ) )","v":""},null,null,null,null,{"$f":"IF(TRIM(O94)=\"\", \"\", IF(VLOOKUP(O94,'Footnotes list'!$B$5:$C$103,2,FALSE)=0,\"\",VLOOKUP(O94,'Footnotes list'!$B$5:$C$103,2,FALSE) ) )","v":""},null,null,null,null,{"$f":"IF(TRIM(T94)=\"\", \"\", IF(VLOOKUP(T94,'Footnotes list'!$B$5:$C$103,2,FALSE)=0,\"\",VLOOKUP(T94,'Footnotes list'!$B$5:$C$103,2,FALSE) ) )","v":""},null,null,null,null,{"$f":"IF(TRIM(Y94)=\"\", \"\", IF(VLOOKUP(Y94,'Footnotes list'!$B$5:$C$103,2,FALSE)=0,\"\",VLOOKUP(Y94,'Footnotes list'!$B$5:$C$103,2,FALSE) ) )","v":""},null,null,null,null,{"$f":"IF(TRIM(AD94)=\"\", \"\", IF(VLOOKUP(AD94,'Footnotes list'!$B$5:$C$103,2,FALSE)=0,\"\",VLOOKUP(AD94,'Footnotes list'!$B$5:$C$103,2,FALSE) ) )","v":""},null,null,null,null,{"$f":"IF(TRIM(AI94)=\"\", \"\", IF(VLOOKUP(AI94,'Footnotes list'!$B$5:$C$103,2,FALSE)=0,\"\",VLOOKUP(AI94,'Footnotes list'!$B$5:$C$103,2,FALSE) ) )","v":""}]
[null,null,null,null,"IE05","    Southern",null,null,null,null,{"$f":"IF(TRIM(J95)=\"\", \"\", IF(VLOOKUP(J95,'Footnotes list'!$B$5:$C$103,2,FALSE)=0,\"\",VLOOKUP(J95,'Footnotes list'!$B$5:$C$103,2,FALSE) ) )","v":""},null,null,null,null,{"$f":"IF(TRIM(O95)=\"\", \"\", IF(VLOOKUP(O95,'Footnotes list'!$B$5:$C$103,2,FALSE)=0,\"\",VLOOKUP(O95,'Footnotes list'!$B$5:$C$103,2,FALSE) ) )","v":""},null,null,null,null,{"$f":"IF(TRIM(T95)=\"\", \"\", IF(VLOOKUP(T95,'Footnotes list'!$B$5:$C$103,2,FALSE)=0,\"\",VLOOKUP(T95,'Footnotes list'!$B$5:$C$103,2,FALSE) ) )","v":""},null,null,null,null,{"$f":"IF(TRIM(Y95)=\"\", \"\", IF(VLOOKUP(Y95,'Footnotes list'!$B$5:$C$103,2,FALSE)=0,\"\",VLOOKUP(Y95,'Footnotes list'!$B$5:$C$103,2,FALSE) ) )","v":""},null,null,null,null,{"$f":"IF(TRIM(AD95)=\"\", \"\", IF(VLOOKUP(AD95,'Footnotes list'!$B$5:$C$103,2,FALSE)=0,\"\",VLOOKUP(AD95,'Footnotes list'!$B$5:$C$103,2,FALSE) ) )","v":""},null,null,null,null,{"$f":"IF(TRIM(AI95)=\"\", \"\", IF(VLOOKUP(AI95,'Footnotes list'!$B$5:$C$103,2,FALSE)=0,\"\",VLOOKUP(AI95,'Footnotes list'!$B$5:$C$103,2,FALSE) ) )","v":""}]
[null,null,null,null,"IE06","    Eastern and Midland",null,null,null,null,{"$f":"IF(TRIM(J96)=\"\", \"\", IF(VLOOKUP(J96,'Footnotes list'!$B$5:$C$103,2,FALSE)=0,\"\",VLOOKUP(J96,'Footnotes list'!$B$5:$C$103,2,FALSE) ) )","v":""},null,null,null,null,{"$f":"IF(TRIM(O96)=\"\", \"\", IF(VLOOKUP(O96,'Footnotes list'!$B$5:$C$103,2,FALSE)=0,\"\",VLOOKUP(O96,'Footnotes list'!$B$5:$C$103,2,FALSE) ) )","v":""},null,null,null,null,{"$f":"IF(TRIM(T96)=\"\", \"\", IF(VLOOKUP(T96,'Footnotes list'!$B$5:$C$103,2,FALSE)=0,\"\",VLOOKUP(T96,'Footnotes list'!$B$5:$C$103,2,FALSE) ) )","v":""},null,null,null,null,{"$f":"IF(TRIM(Y96)=\"\", \"\", IF(VLOOKUP(Y96,'Footnotes list'!$B$5:$C$103,2,FALSE)=0,\"\",VLOOKUP(Y96,'Footnotes list'!$B$5:$C$103,2,FALSE) ) )","v":""},null,null,null,null,{"$f":"IF(TRIM(AD96)=\"\", \"\", IF(VLOOKUP(AD96,'Footnotes list'!$B$5:$C$103,2,FALSE)=0,\"\",VLOOKUP(AD96,'Footnotes list'!$B$5:$C$103,2,FALSE) ) )","v":""},null,null,null,null,{"$f":"IF(TRIM(AI96)=\"\", \"\", IF(VLOOKUP(AI96,'Footnotes list'!$B$5:$C$103,2,FALSE)=0,\"\",VLOOKUP(AI96,'Footnotes list'!$B$5:$C$103,2,FALSE) ) )","v":""}]
[null,null,null,null,"EL","ΕΛΛΑΔΑ",null,null,null,null,{"$f":"IF(TRIM(J97)=\"\", \"\", IF(VLOOKUP(J97,'Footnotes list'!$B$5:$C$103,2,FALSE)=0,\"\",VLOOKUP(J97,'Footnotes list'!$B$5:$C$103,2,FALSE) ) )","v":""},null,null,null,null,{"$f":"IF(TRIM(O97)=\"\", \"\", IF(VLOOKUP(O97,'Footnotes list'!$B$5:$C$103,2,FALSE)=0,\"\",VLOOKUP(O97,'Footnotes list'!$B$5:$C$103,2,FALSE) ) )","v":""},null,null,null,null,{"$f":"IF(TRIM(T97)=\"\", \"\", IF(VLOOKUP(T97,'Footnotes list'!$B$5:$C$103,2,FALSE)=0,\"\",VLOOKUP(T97,'Footnotes list'!$B$5:$C$103,2,FALSE) ) )","v":""},null,null,null,null,{"$f":"IF(TRIM(Y97)=\"\", \"\", IF(VLOOKUP(Y97,'Footnotes list'!$B$5:$C$103,2,FALSE)=0,\"\",VLOOKUP(Y97,'Footnotes list'!$B$5:$C$103,2,FALSE) ) )","v":""},null,null,null,null,{"$f":"IF(TRIM(AD97)=\"\", \"\", IF(VLOOKUP(AD97,'Footnotes list'!$B$5:$C$103,2,FALSE)=0,\"\",VLOOKUP(AD97,'Footnotes list'!$B$5:$C$103,2,FALSE) ) )","v":""},null,null,null,null,{"$f":"IF(TRIM(AI97)=\"\", \"\", IF(VLOOKUP(AI97,'Footnotes list'!$B$5:$C$103,2,FALSE)=0,\"\",VLOOKUP(AI97,'Footnotes list'!$B$5:$C$103,2,FALSE) ) )","v":""}]
[null,null,null,null,"EL3","    ATTIKΗ",null,null,null,null,{"$f":"IF(TRIM(J98)=\"\", \"\", IF(VLOOKUP(J98,'Footnotes list'!$B$5:$C$103,2,FALSE)=0,\"\",VLOOKUP(J98,'Footnotes list'!$B$5:$C$103,2,FALSE) ) )","v":""},null,null,null,null,{"$f":"IF(TRIM(O98)=\"\", \"\", IF(VLOOKUP(O98,'Footnotes list'!$B$5:$C$103,2,FALSE)=0,\"\",VLOOKUP(O98,'Footnotes list'!$B$5:$C$103,2,FALSE) ) )","v":""},null,null,null,null,{"$f":"IF(TRIM(T98)=\"\", \"\", IF(VLOOKUP(T98,'Footnotes list'!$B$5:$C$103,2,FALSE)=0,\"\",VLOOKUP(T98,'Footnotes list'!$B$5:$C$103,2,FALSE) ) )","v":""},null,null,null,null,{"$f":"IF(TRIM(Y98)=\"\", \"\", IF(VLOOKUP(Y98,'Footnotes list'!$B$5:$C$103,2,FALSE)=0,\"\",VLOOKUP(Y98,'Footnotes list'!$B$5:$C$103,2,FALSE) ) )","v":""},null,null,null,null,{"$f":"IF(TRIM(AD98)=\"\", \"\", IF(VLOOKUP(AD98,'Footnotes list'!$B$5:$C$103,2,FALSE)=0,\"\",VLOOKUP(AD98,'Footnotes list'!$B$5:$C$103,2,FALSE) ) )","v":""},null,null,null,null,{"$f":"IF(TRIM(AI98)=\"\", \"\", IF(VLOOKUP(AI98,'Footnotes list'!$B$5:$C$103,2,FALSE)=0,\"\",VLOOKUP(AI98,'Footnotes list'!$B$5:$C$103,2,FALSE) ) )","v":""}]
[null,null,null,null,"EL4","    NΗΣΙΑ ΑΙΓΑΙΟΥ, KΡΗΤΗ",null,null,null,null,{"$f":"IF(TRIM(J99)=\"\", \"\", IF(VLOOKUP(J99,'Footnotes list'!$B$5:$C$103,2,FALSE)=0,\"\",VLOOKUP(J99,'Footnotes list'!$B$5:$C$103,2,FALSE) ) )","v":""},null,null,null,null,{"$f":"IF(TRIM(O99)=\"\", \"\", IF(VLOOKUP(O99,'Footnotes list'!$B$5:$C$103,2,FALSE)=0,\"\",VLOOKUP(O99,'Footnotes list'!$B$5:$C$103,2,FALSE) ) )","v":""},null,null,null,null,{"$f":"IF(TRIM(T99)=\"\", \"\", IF(VLOOKUP(T99,'Footnotes list'!$B$5:$C$103,2,FALSE)=0,\"\",VLOOKUP(T99,'Footnotes list'!$B$5:$C$103,2,FALSE) ) )","v":""},null,null,null,null,{"$f":"IF(TRIM(Y99)=\"\", \"\", IF(VLOOKUP(Y99,'Footnotes list'!$B$5:$C$103,2,FALSE)=0,\"\",VLOOKUP(Y99,'Footnotes list'!$B$5:$C$103,2,FALSE) ) )","v":""},null,null,null,null,{"$f":"IF(TRIM(AD99)=\"\", \"\", IF(VLOOKUP(AD99,'Footnotes list'!$B$5:$C$103,2,FALSE)=0,\"\",VLOOKUP(AD99,'Footnotes list'!$B$5:$C$103,2,FALSE) ) )","v":""},null,null,null,null,{"$f":"IF(TRIM(AI99)=\"\", \"\", IF(VLOOKUP(AI99,'Footnotes list'!$B$5:$C$103,2,FALSE)=0,\"\",VLOOKUP(AI99,'Footnotes list'!$B$5:$C$103,2,FALSE) ) )","v":""}]
[null,null,null,null,"EL41","        Βόρειο Αιγαίο",null,null,null,null,{"$f":"IF(TRIM(J100)=\"\", \"\", IF(VLOOKUP(J100,'Footnotes list'!$B$5:$C$103,2,FALSE)=0,\"\",VLOOKUP(J100,'Footnotes list'!$B$5:$C$103,2,FALSE) ) )","v":""},null,null,null,null,{"$f":"IF(TRIM(O100)=\"\", \"\", IF(VLOOKUP(O100,'Footnotes list'!$B$5:$C$103,2,FALSE)=0,\"\",VLOOKUP(O100,'Footnotes list'!$B$5:$C$103,2,FALSE) ) )","v":""},null,null,null,null,{"$f":"IF(TRIM(T100)=\"\", \"\", IF(VLOOKUP(T100,'Footnotes list'!$B$5:$C$103,2,FALSE)=0,\"\",VLOOKUP(T100,'Footnotes list'!$B$5:$C$103,2,FALSE) ) )","v":""},null,null,null,null,{"$f":"IF(TRIM(Y100)=\"\", \"\", IF(VLOOKUP(Y100,'Footnotes list'!$B$5:$C$103,2,FALSE)=0,\"\",VLOOKUP(Y100,'Footnotes list'!$B$5:$C$103,2,FALSE) ) )","v":""},null,null,null,null,{"$f":"IF(TRIM(AD100)=\"\", \"\", IF(VLOOKUP(AD100,'Footnotes list'!$B$5:$C$103,2,FALSE)=0,\"\",VLOOKUP(AD100,'Footnotes list'!$B$5:$C$103,2,FALSE) ) )","v":""},null,null,null,null,{"$f":"IF(TRIM(AI100)=\"\", \"\", IF(VLOOKUP(AI100,'Footnotes list'!$B$5:$C$103,2,FALSE)=0,\"\",VLOOKUP(AI100,'Footnotes list'!$B$5:$C$103,2,FALSE) ) )","v":""}]
[null,null,null,null,"EL42","        Νότιο Αιγαίο",null,null,null,null,{"$f":"IF(TRIM(J101)=\"\", \"\", IF(VLOOKUP(J101,'Footnotes list'!$B$5:$C$103,2,FALSE)=0,\"\",VLOOKUP(J101,'Footnotes list'!$B$5:$C$103,2,FALSE) ) )","v":""},null,null,null,null,{"$f":"IF(TRIM(O101)=\"\", \"\", IF(VLOOKUP(O101,'Footnotes list'!$B$5:$C$103,2,FALSE)=0,\"\",VLOOKUP(O101,'Footnotes list'!$B$5:$C$103,2,FALSE) ) )","v":""},null,null,null,null,{"$f":"IF(TRIM(T101)=\"\", \"\", IF(VLOOKUP(T101,'Footnotes list'!$B$5:$C$103,2,FALSE)=0,\"\",VLOOKUP(T101,'Footnotes list'!$B$5:$C$103,2,FALSE) ) )","v":""},null,null,null,null,{"$f":"IF(TRIM(Y101)=\"\", \"\", IF(VLOOKUP(Y101,'Footnotes list'!$B$5:$C$103,2,FALSE)=0,\"\",VLOOKUP(Y101,'Footnotes list'!$B$5:$C$103,2,FALSE) ) )","v":""},null,null,null,null,{"$f":"IF(TRIM(AD101)=\"\", \"\", IF(VLOOKUP(AD101,'Footnotes list'!$B$5:$C$103,2,FALSE)=0,\"\",VLOOKUP(AD101,'Footnotes list'!$B$5:$C$103,2,FALSE) ) )","v":""},null,null,null,null,{"$f":"IF(TRIM(AI101)=\"\", \"\", IF(VLOOKUP(AI101,'Footnotes list'!$B$5:$C$103,2,FALSE)=0,\"\",VLOOKUP(AI101,'Footnotes list'!$B$5:$C$103,2,FALSE) ) )","v":""}]
[null,null,null,null,"EL43","        Κρήτη",null,null,null,null,{"$f":"IF(TRIM(J102)=\"\", \"\", IF(VLOOKUP(J102,'Footnotes list'!$B$5:$C$103,2,FALSE)=0,\"\",VLOOKUP(J102,'Footnotes list'!$B$5:$C$103,2,FALSE) ) )","v":""},null,null,null,null,{"$f":"IF(TRIM(O102)=\"\", \"\", IF(VLOOKUP(O102,'Footnotes list'!$B$5:$C$103,2,FALSE)=0,\"\",VLOOKUP(O102,'Footnotes list'!$B$5:$C$103,2,FALSE) ) )","v":""},null,null,null,null,{"$f":"IF(TRIM(T102)=\"\", \"\", IF(VLOOKUP(T102,'Footnotes list'!$B$5:$C$103,2,FALSE)=0,\"\",VLOOKUP(T102,'Footnotes list'!$B$5:$C$103,2,FALSE) ) )","v":""},null,null,null,null,{"$f":"IF(TRIM(Y102)=\"\", \"\", IF(VLOOKUP(Y102,'Footnotes list'!$B$5:$C$103,2,FALSE)=0,\"\",VLOOKUP(Y102,'Footnotes list'!$B$5:$C$103,2,FALSE) ) )","v":""},null,null,null,null,{"$f":"IF(TRIM(AD102)=\"\", \"\", IF(VLOOKUP(AD102,'Footnotes list'!$B$5:$C$103,2,FALSE)=0,\"\",VLOOKUP(AD102,'Footnotes list'!$B$5:$C$103,2,FALSE) ) )","v":""},null,null,null,null,{"$f":"IF(TRIM(AI102)=\"\", \"\", IF(VLOOKUP(AI102,'Footnotes list'!$B$5:$C$103,2,FALSE)=0,\"\",VLOOKUP(AI102,'Footnotes list'!$B$5:$C$103,2,FALSE) ) )","v":""}]
[null,null,null,null,"EL5","    ΒΟΡΕΙΑ ΕΛΛΑΔΑ",null,null,null,null,{"$f":"IF(TRIM(J103)=\"\", \"\", IF(VLOOKUP(J103,'Footnotes list'!$B$5:$C$103,2,FALSE)=0,\"\",VLOOKUP(J103,'Footnotes list'!$B$5:$C$103,2,FALSE) ) )","v":""},null,null,null,null,{"$f":"IF(TRIM(O103)=\"\", \"\", IF(VLOOKUP(O103,'Footnotes list'!$B$5:$C$103,2,FALSE)=0,\"\",VLOOKUP(O103,'Footnotes list'!$B$5:$C$103,2,FALSE) ) )","v":""},null,null,null,null,{"$f":"IF(TRIM(T103)=\"\", \"\", IF(VLOOKUP(T103,'Footnotes list'!$B$5:$C$103,2,FALSE)=0,\"\",VLOOKUP(T103,'Footnotes list'!$B$5:$C$103,2,FALSE) ) )","v":""},null,null,null,null,{"$f":"IF(TRIM(Y103)=\"\", \"\", IF(VLOOKUP(Y103,'Footnotes list'!$B$5:$C$103,2,FALSE)=0,\"\",VLOOKUP(Y103,'Footnotes list'!$B$5:$C$103,2,FALSE) ) )","v":""},null,null,null,null,{"$f":"IF(TRIM(AD103)=\"\", \"\", IF(VLOOKUP(AD103,'Footnotes list'!$B$5:$C$103,2,FALSE)=0,\"\",VLOOKUP(AD103,'Footnotes list'!$B$5:$C$103,2,FALSE) ) )","v":""},null,null,null,null,{"$f":"IF(TRIM(AI103)=\"\", \"\", IF(VLOOKUP(AI103,'Footnotes list'!$B$5:$C$103,2,FALSE)=0,\"\",VLOOKUP(AI103,'Footnotes list'!$B$5:$C$103,2,FALSE) ) )","v":""}]
[null,null,null,null,"EL51","        Aνατολική Μακεδονία, Θράκη",null,null,null,null,{"$f":"IF(TRIM(J104)=\"\", \"\", IF(VLOOKUP(J104,'Footnotes list'!$B$5:$C$103,2,FALSE)=0,\"\",VLOOKUP(J104,'Footnotes list'!$B$5:$C$103,2,FALSE) ) )","v":""},null,null,null,null,{"$f":"IF(TRIM(O104)=\"\", \"\", IF(VLOOKUP(O104,'Footnotes list'!$B$5:$C$103,2,FALSE)=0,\"\",VLOOKUP(O104,'Footnotes list'!$B$5:$C$103,2,FALSE) ) )","v":""},null,null,null,null,{"$f":"IF(TRIM(T104)=\"\", \"\", IF(VLOOKUP(T104,'Footnotes list'!$B$5:$C$103,2,FALSE)=0,\"\",VLOOKUP(T104,'Footnotes list'!$B$5:$C$103,2,FALSE) ) )","v":""},null,null,null,null,{"$f":"IF(TRIM(Y104)=\"\", \"\", IF(VLOOKUP(Y104,'Footnotes list'!$B$5:$C$103,2,FALSE)=0,\"\",VLOOKUP(Y104,'Footnotes list'!$B$5:$C$103,2,FALSE) ) )","v":""},null,null,null,null,{"$f":"IF(TRIM(AD104)=\"\", \"\", IF(VLOOKUP(AD104,'Footnotes list'!$B$5:$C$103,2,FALSE)=0,\"\",VLOOKUP(AD104,'Footnotes list'!$B$5:$C$103,2,FALSE) ) )","v":""},null,null,null,null,{"$f":"IF(TRIM(AI104)=\"\", \"\", IF(VLOOKUP(AI104,'Footnotes list'!$B$5:$C$103,2,FALSE)=0,\"\",VLOOKUP(AI104,'Footnotes list'!$B$5:$C$103,2,FALSE) ) )","v":""}]
[null,null,null,"GREECE","EL52","        Κεντρική Μακεδονία",null,null,null,null,{"$f":"IF(TRIM(J105)=\"\", \"\", IF(VLOOKUP(J105,'Footnotes list'!$B$5:$C$103,2,FALSE)=0,\"\",VLOOKUP(J105,'Footnotes list'!$B$5:$C$103,2,FALSE) ) )","v":""},null,null,null,null,{"$f":"IF(TRIM(O105)=\"\", \"\", IF(VLOOKUP(O105,'Footnotes list'!$B$5:$C$103,2,FALSE)=0,\"\",VLOOKUP(O105,'Footnotes list'!$B$5:$C$103,2,FALSE) ) )","v":""},null,null,null,null,{"$f":"IF(TRIM(T105)=\"\", \"\", IF(VLOOKUP(T105,'Footnotes list'!$B$5:$C$103,2,FALSE)=0,\"\",VLOOKUP(T105,'Footnotes list'!$B$5:$C$103,2,FALSE) ) )","v":""},null,null,null,null,{"$f":"IF(TRIM(Y105)=\"\", \"\", IF(VLOOKUP(Y105,'Footnotes list'!$B$5:$C$103,2,FALSE)=0,\"\",VLOOKUP(Y105,'Footnotes list'!$B$5:$C$103,2,FALSE) ) )","v":""},null,null,null,null,{"$f":"IF(TRIM(AD105)=\"\", \"\", IF(VLOOKUP(AD105,'Footnotes list'!$B$5:$C$103,2,FALSE)=0,\"\",VLOOKUP(AD105,'Footnotes list'!$B$5:$C$103,2,FALSE) ) )","v":""},null,null,null,null,{"$f":"IF(TRIM(AI105)=\"\", \"\", IF(VLOOKUP(AI105,'Footnotes list'!$B$5:$C$103,2,FALSE)=0,\"\",VLOOKUP(AI105,'Footnotes list'!$B$5:$C$103,2,FALSE) ) )","v":""}]
[null,null,null,null,"EL53","        Δυτική Μακεδονία",null,null,null,null,{"$f":"IF(TRIM(J106)=\"\", \"\", IF(VLOOKUP(J106,'Footnotes list'!$B$5:$C$103,2,FALSE)=0,\"\",VLOOKUP(J106,'Footnotes list'!$B$5:$C$103,2,FALSE) ) )","v":""},null,null,null,null,{"$f":"IF(TRIM(O106)=\"\", \"\", IF(VLOOKUP(O106,'Footnotes list'!$B$5:$C$103,2,FALSE)=0,\"\",VLOOKUP(O106,'Footnotes list'!$B$5:$C$103,2,FALSE) ) )","v":""},null,null,null,null,{"$f":"IF(TRIM(T106)=\"\", \"\", IF(VLOOKUP(T106,'Footnotes list'!$B$5:$C$103,2,FALSE)=0,\"\",VLOOKUP(T106,'Footnotes list'!$B$5:$C$103,2,FALSE) ) )","v":""},null,null,null,null,{"$f":"IF(TRIM(Y106)=\"\", \"\", IF(VLOOKUP(Y106,'Footnotes list'!$B$5:$C$103,2,FALSE)=0,\"\",VLOOKUP(Y106,'Footnotes list'!$B$5:$C$103,2,FALSE) ) )","v":""},null,null,null,null,{"$f":"IF(TRIM(AD106)=\"\", \"\", IF(VLOOKUP(AD106,'Footnotes list'!$B$5:$C$103,2,FALSE)=0,\"\",VLOOKUP(AD106,'Footnotes list'!$B$5:$C$103,2,FALSE) ) )","v":""},null,null,null,null,{"$f":"IF(TRIM(AI106)=\"\", \"\", IF(VLOOKUP(AI106,'Footnotes list'!$B$5:$C$103,2,FALSE)=0,\"\",VLOOKUP(AI106,'Footnotes list'!$B$5:$C$103,2,FALSE) ) )","v":""}]
[null,null,null,null,"EL54","        Ήπειρος",null,null,null,null,{"$f":"IF(TRIM(J107)=\"\", \"\", IF(VLOOKUP(J107,'Footnotes list'!$B$5:$C$103,2,FALSE)=0,\"\",VLOOKUP(J107,'Footnotes list'!$B$5:$C$103,2,FALSE) ) )","v":""},null,null,null,null,{"$f":"IF(TRIM(O107)=\"\", \"\", IF(VLOOKUP(O107,'Footnotes list'!$B$5:$C$103,2,FALSE)=0,\"\",VLOOKUP(O107,'Footnotes list'!$B$5:$C$103,2,FALSE) ) )","v":""},null,null,null,null,{"$f":"IF(TRIM(T107)=\"\", \"\", IF(VLOOKUP(T107,'Footnotes list'!$B$5:$C$103,2,FALSE)=0,\"\",VLOOKUP(T107,'Footnotes list'!$B$5:$C$103,2,FALSE) ) )","v":""},null,null,null,null,{"$f":"IF(TRIM(Y107)=\"\", \"\", IF(VLOOKUP(Y107,'Footnotes list'!$B$5:$C$103,2,FALSE)=0,\"\",VLOOKUP(Y107,'Footnotes list'!$B$5:$C$103,2,FALSE) ) )","v":""},null,null,null,null,{"$f":"IF(TRIM(AD107)=\"\", \"\", IF(VLOOKUP(AD107,'Footnotes list'!$B$5:$C$103,2,FALSE)=0,\"\",VLOOKUP(AD107,'Footnotes list'!$B$5:$C$103,2,FALSE) ) )","v":""},null,null,null,null,{"$f":"IF(TRIM(AI107)=\"\", \"\", IF(VLOOKUP(AI107,'Footnotes list'!$B$5:$C$103,2,FALSE)=0,\"\",VLOOKUP(AI107,'Footnotes list'!$B$5:$C$103,2,FALSE) ) )","v":""}]
[null,null,null,null,"EL6","    ΚΕΝΤΡΙΚΗ ΕΛΛΑΔΑ",null,null,null,null,{"$f":"IF(TRIM(J108)=\"\", \"\", IF(VLOOKUP(J108,'Footnotes list'!$B$5:$C$103,2,FALSE)=0,\"\",VLOOKUP(J108,'Footnotes list'!$B$5:$C$103,2,FALSE) ) )","v":""},null,null,null,null,{"$f":"IF(TRIM(O108)=\"\", \"\", IF(VLOOKUP(O108,'Footnotes list'!$B$5:$C$103,2,FALSE)=0,\"\",VLOOKUP(O108,'Footnotes list'!$B$5:$C$103,2,FALSE) ) )","v":""},null,null,null,null,{"$f":"IF(TRIM(T108)=\"\", \"\", IF(VLOOKUP(T108,'Footnotes list'!$B$5:$C$103,2,FALSE)=0,\"\",VLOOKUP(T108,'Footnotes list'!$B$5:$C$103,2,FALSE) ) )","v":""},null,null,null,null,{"$f":"IF(TRIM(Y108)=\"\", \"\", IF(VLOOKUP(Y108,'Footnotes list'!$B$5:$C$103,2,FALSE)=0,\"\",VLOOKUP(Y108,'Footnotes list'!$B$5:$C$103,2,FALSE) ) )","v":""},null,null,null,null,{"$f":"IF(TRIM(AD108)=\"\", \"\", IF(VLOOKUP(AD108,'Footnotes list'!$B$5:$C$103,2,FALSE)=0,\"\",VLOOKUP(AD108,'Footnotes list'!$B$5:$C$103,2,FALSE) ) )","v":""},null,null,null,null,{"$f":"IF(TRIM(AI108)=\"\", \"\", IF(VLOOKUP(AI108,'Footnotes list'!$B$5:$C$103,2,FALSE)=0,\"\",VLOOKUP(AI108,'Footnotes list'!$B$5:$C$103,2,FALSE) ) )","v":""}]
[null,null,null,null,"EL61","        Θεσσαλία",null,null,null,null,{"$f":"IF(TRIM(J109)=\"\", \"\", IF(VLOOKUP(J109,'Footnotes list'!$B$5:$C$103,2,FALSE)=0,\"\",VLOOKUP(J109,'Footnotes list'!$B$5:$C$103,2,FALSE) ) )","v":""},null,null,null,null,{"$f":"IF(TRIM(O109)=\"\", \"\", IF(VLOOKUP(O109,'Footnotes list'!$B$5:$C$103,2,FALSE)=0,\"\",VLOOKUP(O109,'Footnotes list'!$B$5:$C$103,2,FALSE) ) )","v":""},null,null,null,null,{"$f":"IF(TRIM(T109)=\"\", \"\", IF(VLOOKUP(T109,'Footnotes list'!$B$5:$C$103,2,FALSE)=0,\"\",VLOOKUP(T109,'Footnotes list'!$B$5:$C$103,2,FALSE) ) )","v":""},null,null,null,null,{"$f":"IF(TRIM(Y109)=\"\", \"\", IF(VLOOKUP(Y109,'Footnotes list'!$B$5:$C$103,2,FALSE)=0,\"\",VLOOKUP(Y109,'Footnotes list'!$B$5:$C$103,2,FALSE) ) )","v":""},null,null,null,null,{"$f":"IF(TRIM(AD109)=\"\", \"\", IF(VLOOKUP(AD109,'Footnotes list'!$B$5:$C$103,2,FALSE)=0,\"\",VLOOKUP(AD109,'Footnotes list'!$B$5:$C$103,2,FALSE) ) )","v":""},null,null,null,null,{"$f":"IF(TRIM(AI109)=\"\", \"\", IF(VLOOKUP(AI109,'Footnotes list'!$B$5:$C$103,2,FALSE)=0,\"\",VLOOKUP(AI109,'Footnotes list'!$B$5:$C$103,2,FALSE) ) )","v":""}]
[null,null,null,null,"EL62","        Ιόνια Νησιά",null,null,null,null,{"$f":"IF(TRIM(J110)=\"\", \"\", IF(VLOOKUP(J110,'Footnotes list'!$B$5:$C$103,2,FALSE)=0,\"\",VLOOKUP(J110,'Footnotes list'!$B$5:$C$103,2,FALSE) ) )","v":""},null,null,null,null,{"$f":"IF(TRIM(O110)=\"\", \"\", IF(VLOOKUP(O110,'Footnotes list'!$B$5:$C$103,2,FALSE)=0,\"\",VLOOKUP(O110,'Footnotes list'!$B$5:$C$103,2,FALSE) ) )","v":""},null,null,null,null,{"$f":"IF(TRIM(T110)=\"\", \"\", IF(VLOOKUP(T110,'Footnotes list'!$B$5:$C$103,2,FALSE)=0,\"\",VLOOKUP(T110,'Footnotes list'!$B$5:$C$103,2,FALSE) ) )","v":""},null,null,null,null,{"$f":"IF(TRIM(Y110)=\"\", \"\", IF(VLOOKUP(Y110,'Footnotes list'!$B$5:$C$103,2,FALSE)=0,\"\",VLOOKUP(Y110,'Footnotes list'!$B$5:$C$103,2,FALSE) ) )","v":""},null,null,null,null,{"$f":"IF(TRIM(AD110)=\"\", \"\", IF(VLOOKUP(AD110,'Footnotes list'!$B$5:$C$103,2,FALSE)=0,\"\",VLOOKUP(AD110,'Footnotes list'!$B$5:$C$103,2,FALSE) ) )","v":""},null,null,null,null,{"$f":"IF(TRIM(AI110)=\"\", \"\", IF(VLOOKUP(AI110,'Footnotes list'!$B$5:$C$103,2,FALSE)=0,\"\",VLOOKUP(AI110,'Footnotes list'!$B$5:$C$103,2,FALSE) ) )","v":""}]
[null,null,null,null,"EL63","        Δυτική Ελλάδα",null,null,null,null,{"$f":"IF(TRIM(J111)=\"\", \"\", IF(VLOOKUP(J111,'Footnotes list'!$B$5:$C$103,2,FALSE)=0,\"\",VLOOKUP(J111,'Footnotes list'!$B$5:$C$103,2,FALSE) ) )","v":""},null,null,null,null,{"$f":"IF(TRIM(O111)=\"\", \"\", IF(VLOOKUP(O111,'Footnotes list'!$B$5:$C$103,2,FALSE)=0,\"\",VLOOKUP(O111,'Footnotes list'!$B$5:$C$103,2,FALSE) ) )","v":""},null,null,null,null,{"$f":"IF(TRIM(T111)=\"\", \"\", IF(VLOOKUP(T111,'Footnotes list'!$B$5:$C$103,2,FALSE)=0,\"\",VLOOKUP(T111,'Footnotes list'!$B$5:$C$103,2,FALSE) ) )","v":""},null,null,null,null,{"$f":"IF(TRIM(Y111)=\"\", \"\", IF(VLOOKUP(Y111,'Footnotes list'!$B$5:$C$103,2,FALSE)=0,\"\",VLOOKUP(Y111,'Footnotes list'!$B$5:$C$103,2,FALSE) ) )","v":""},null,null,null,null,{"$f":"IF(TRIM(AD111)=\"\", \"\", IF(VLOOKUP(AD111,'Footnotes list'!$B$5:$C$103,2,FALSE)=0,\"\",VLOOKUP(AD111,'Footnotes list'!$B$5:$C$103,2,FALSE) ) )","v":""},null,null,null,null,{"$f":"IF(TRIM(AI111)=\"\", \"\", IF(VLOOKUP(AI111,'Footnotes list'!$B$5:$C$103,2,FALSE)=0,\"\",VLOOKUP(AI111,'Footnotes list'!$B$5:$C$103,2,FALSE) ) )","v":""}]
[null,null,null,null,"EL64","        Στερεά Ελλάδα",null,null,null,null,{"$f":"IF(TRIM(J112)=\"\", \"\", IF(VLOOKUP(J112,'Footnotes list'!$B$5:$C$103,2,FALSE)=0,\"\",VLOOKUP(J112,'Footnotes list'!$B$5:$C$103,2,FALSE) ) )","v":""},null,null,null,null,{"$f":"IF(TRIM(O112)=\"\", \"\", IF(VLOOKUP(O112,'Footnotes list'!$B$5:$C$103,2,FALSE)=0,\"\",VLOOKUP(O112,'Footnotes list'!$B$5:$C$103,2,FALSE) ) )","v":""},null,null,null,null,{"$f":"IF(TRIM(T112)=\"\", \"\", IF(VLOOKUP(T112,'Footnotes list'!$B$5:$C$103,2,FALSE)=0,\"\",VLOOKUP(T112,'Footnotes list'!$B$5:$C$103,2,FALSE) ) )","v":""},null,null,null,null,{"$f":"IF(TRIM(Y112)=\"\", \"\", IF(VLOOKUP(Y112,'Footnotes list'!$B$5:$C$103,2,FALSE)=0,\"\",VLOOKUP(Y112,'Footnotes list'!$B$5:$C$103,2,FALSE) ) )","v":""},null,null,null,null,{"$f":"IF(TRIM(AD112)=\"\", \"\", IF(VLOOKUP(AD112,'Footnotes list'!$B$5:$C$103,2,FALSE)=0,\"\",VLOOKUP(AD112,'Footnotes list'!$B$5:$C$103,2,FALSE) ) )","v":""},null,null,null,null,{"$f":"IF(TRIM(AI112)=\"\", \"\", IF(VLOOKUP(AI112,'Footnotes list'!$B$5:$C$103,2,FALSE)=0,\"\",VLOOKUP(AI112,'Footnotes list'!$B$5:$C$103,2,FALSE) ) )","v":""}]
[null,null,null,null,"EL65","        Πελοπόννησος",null,null,null,null,{"$f":"IF(TRIM(J113)=\"\", \"\", IF(VLOOKUP(J113,'Footnotes list'!$B$5:$C$103,2,FALSE)=0,\"\",VLOOKUP(J113,'Footnotes list'!$B$5:$C$103,2,FALSE) ) )","v":""},null,null,null,null,{"$f":"IF(TRIM(O113)=\"\", \"\", IF(VLOOKUP(O113,'Footnotes list'!$B$5:$C$103,2,FALSE)=0,\"\",VLOOKUP(O113,'Footnotes list'!$B$5:$C$103,2,FALSE) ) )","v":""},null,null,null,null,{"$f":"IF(TRIM(T113)=\"\", \"\", IF(VLOOKUP(T113,'Footnotes list'!$B$5:$C$103,2,FALSE)=0,\"\",VLOOKUP(T113,'Footnotes list'!$B$5:$C$103,2,FALSE) ) )","v":""},null,null,null,null,{"$f":"IF(TRIM(Y113)=\"\", \"\", IF(VLOOKUP(Y113,'Footnotes list'!$B$5:$C$103,2,FALSE)=0,\"\",VLOOKUP(Y113,'Footnotes list'!$B$5:$C$103,2,FALSE) ) )","v":""},null,null,null,null,{"$f":"IF(TRIM(AD113)=\"\", \"\", IF(VLOOKUP(AD113,'Footnotes list'!$B$5:$C$103,2,FALSE)=0,\"\",VLOOKUP(AD113,'Footnotes list'!$B$5:$C$103,2,FALSE) ) )","v":""},null,null,null,null,{"$f":"IF(TRIM(AI113)=\"\", \"\", IF(VLOOKUP(AI113,'Footnotes list'!$B$5:$C$103,2,FALSE)=0,\"\",VLOOKUP(AI113,'Footnotes list'!$B$5:$C$103,2,FALSE) ) )","v":""}]
[null,null,null,null,"ES","ESPAÑA",null,null,null,null,{"$f":"IF(TRIM(J114)=\"\", \"\", IF(VLOOKUP(J114,'Footnotes list'!$B$5:$C$103,2,FALSE)=0,\"\",VLOOKUP(J114,'Footnotes list'!$B$5:$C$103,2,FALSE) ) )","v":""},null,null,null,null,{"$f":"IF(TRIM(O114)=\"\", \"\", IF(VLOOKUP(O114,'Footnotes list'!$B$5:$C$103,2,FALSE)=0,\"\",VLOOKUP(O114,'Footnotes list'!$B$5:$C$103,2,FALSE) ) )","v":""},null,null,null,null,{"$f":"IF(TRIM(T114)=\"\", \"\", IF(VLOOKUP(T114,'Footnotes list'!$B$5:$C$103,2,FALSE)=0,\"\",VLOOKUP(T114,'Footnotes list'!$B$5:$C$103,2,FALSE) ) )","v":""},null,null,null,null,{"$f":"IF(TRIM(Y114)=\"\", \"\", IF(VLOOKUP(Y114,'Footnotes list'!$B$5:$C$103,2,FALSE)=0,\"\",VLOOKUP(Y114,'Footnotes list'!$B$5:$C$103,2,FALSE) ) )","v":""},null,null,null,null,{"$f":"IF(TRIM(AD114)=\"\", \"\", IF(VLOOKUP(AD114,'Footnotes list'!$B$5:$C$103,2,FALSE)=0,\"\",VLOOKUP(AD114,'Footnotes list'!$B$5:$C$103,2,FALSE) ) )","v":""},null,null,null,null,{"$f":"IF(TRIM(AI114)=\"\", \"\", IF(VLOOKUP(AI114,'Footnotes list'!$B$5:$C$103,2,FALSE)=0,\"\",VLOOKUP(AI114,'Footnotes list'!$B$5:$C$103,2,FALSE) ) )","v":""}]
[null,null,null,null,"ES1","    NOROESTE",null,null,null,null,{"$f":"IF(TRIM(J115)=\"\", \"\", IF(VLOOKUP(J115,'Footnotes list'!$B$5:$C$103,2,FALSE)=0,\"\",VLOOKUP(J115,'Footnotes list'!$B$5:$C$103,2,FALSE) ) )","v":""},null,null,null,null,{"$f":"IF(TRIM(O115)=\"\", \"\", IF(VLOOKUP(O115,'Footnotes list'!$B$5:$C$103,2,FALSE)=0,\"\",VLOOKUP(O115,'Footnotes list'!$B$5:$C$103,2,FALSE) ) )","v":""},null,null,null,null,{"$f":"IF(TRIM(T115)=\"\", \"\", IF(VLOOKUP(T115,'Footnotes list'!$B$5:$C$103,2,FALSE)=0,\"\",VLOOKUP(T115,'Footnotes list'!$B$5:$C$103,2,FALSE) ) )","v":""},null,null,null,null,{"$f":"IF(TRIM(Y115)=\"\", \"\", IF(VLOOKUP(Y115,'Footnotes list'!$B$5:$C$103,2,FALSE)=0,\"\",VLOOKUP(Y115,'Footnotes list'!$B$5:$C$103,2,FALSE) ) )","v":""},null,null,null,null,{"$f":"IF(TRIM(AD115)=\"\", \"\", IF(VLOOKUP(AD115,'Footnotes list'!$B$5:$C$103,2,FALSE)=0,\"\",VLOOKUP(AD115,'Footnotes list'!$B$5:$C$103,2,FALSE) ) )","v":""},null,null,null,null,{"$f":"IF(TRIM(AI115)=\"\", \"\", IF(VLOOKUP(AI115,'Footnotes list'!$B$5:$C$103,2,FALSE)=0,\"\",VLOOKUP(AI115,'Footnotes list'!$B$5:$C$103,2,FALSE) ) )","v":""}]
[null,null,null,null,"ES11","        Galicia",null,null,null,null,{"$f":"IF(TRIM(J116)=\"\", \"\", IF(VLOOKUP(J116,'Footnotes list'!$B$5:$C$103,2,FALSE)=0,\"\",VLOOKUP(J116,'Footnotes list'!$B$5:$C$103,2,FALSE) ) )","v":""},null,null,null,null,{"$f":"IF(TRIM(O116)=\"\", \"\", IF(VLOOKUP(O116,'Footnotes list'!$B$5:$C$103,2,FALSE)=0,\"\",VLOOKUP(O116,'Footnotes list'!$B$5:$C$103,2,FALSE) ) )","v":""},null,null,null,null,{"$f":"IF(TRIM(T116)=\"\", \"\", IF(VLOOKUP(T116,'Footnotes list'!$B$5:$C$103,2,FALSE)=0,\"\",VLOOKUP(T116,'Footnotes list'!$B$5:$C$103,2,FALSE) ) )","v":""},null,null,null,null,{"$f":"IF(TRIM(Y116)=\"\", \"\", IF(VLOOKUP(Y116,'Footnotes list'!$B$5:$C$103,2,FALSE)=0,\"\",VLOOKUP(Y116,'Footnotes list'!$B$5:$C$103,2,FALSE) ) )","v":""},null,null,null,null,{"$f":"IF(TRIM(AD116)=\"\", \"\", IF(VLOOKUP(AD116,'Footnotes list'!$B$5:$C$103,2,FALSE)=0,\"\",VLOOKUP(AD116,'Footnotes list'!$B$5:$C$103,2,FALSE) ) )","v":""},null,null,null,null,{"$f":"IF(TRIM(AI116)=\"\", \"\", IF(VLOOKUP(AI116,'Footnotes list'!$B$5:$C$103,2,FALSE)=0,\"\",VLOOKUP(AI116,'Footnotes list'!$B$5:$C$103,2,FALSE) ) )","v":""}]
[null,null,null,null,"ES12","        Principado de Asturias",null,null,null,null,{"$f":"IF(TRIM(J117)=\"\", \"\", IF(VLOOKUP(J117,'Footnotes list'!$B$5:$C$103,2,FALSE)=0,\"\",VLOOKUP(J117,'Footnotes list'!$B$5:$C$103,2,FALSE) ) )","v":""},null,null,null,null,{"$f":"IF(TRIM(O117)=\"\", \"\", IF(VLOOKUP(O117,'Footnotes list'!$B$5:$C$103,2,FALSE)=0,\"\",VLOOKUP(O117,'Footnotes list'!$B$5:$C$103,2,FALSE) ) )","v":""},null,null,null,null,{"$f":"IF(TRIM(T117)=\"\", \"\", IF(VLOOKUP(T117,'Footnotes list'!$B$5:$C$103,2,FALSE)=0,\"\",VLOOKUP(T117,'Footnotes list'!$B$5:$C$103,2,FALSE) ) )","v":""},null,null,null,null,{"$f":"IF(TRIM(Y117)=\"\", \"\", IF(VLOOKUP(Y117,'Footnotes list'!$B$5:$C$103,2,FALSE)=0,\"\",VLOOKUP(Y117,'Footnotes list'!$B$5:$C$103,2,FALSE) ) )","v":""},null,null,null,null,{"$f":"IF(TRIM(AD117)=\"\", \"\", IF(VLOOKUP(AD117,'Footnotes list'!$B$5:$C$103,2,FALSE)=0,\"\",VLOOKUP(AD117,'Footnotes list'!$B$5:$C$103,2,FALSE) ) )","v":""},null,null,null,null,{"$f":"IF(TRIM(AI117)=\"\", \"\", IF(VLOOKUP(AI117,'Footnotes list'!$B$5:$C$103,2,FALSE)=0,\"\",VLOOKUP(AI117,'Footnotes list'!$B$5:$C$103,2,FALSE) ) )","v":""}]
[null,null,null,null,"ES13","        Cantabria",null,null,null,null,{"$f":"IF(TRIM(J118)=\"\", \"\", IF(VLOOKUP(J118,'Footnotes list'!$B$5:$C$103,2,FALSE)=0,\"\",VLOOKUP(J118,'Footnotes list'!$B$5:$C$103,2,FALSE) ) )","v":""},null,null,null,null,{"$f":"IF(TRIM(O118)=\"\", \"\", IF(VLOOKUP(O118,'Footnotes list'!$B$5:$C$103,2,FALSE)=0,\"\",VLOOKUP(O118,'Footnotes list'!$B$5:$C$103,2,FALSE) ) )","v":""},null,null,null,null,{"$f":"IF(TRIM(T118)=\"\", \"\", IF(VLOOKUP(T118,'Footnotes list'!$B$5:$C$103,2,FALSE)=0,\"\",VLOOKUP(T118,'Footnotes list'!$B$5:$C$103,2,FALSE) ) )","v":""},null,null,null,null,{"$f":"IF(TRIM(Y118)=\"\", \"\", IF(VLOOKUP(Y118,'Footnotes list'!$B$5:$C$103,2,FALSE)=0,\"\",VLOOKUP(Y118,'Footnotes list'!$B$5:$C$103,2,FALSE) ) )","v":""},null,null,null,null,{"$f":"IF(TRIM(AD118)=\"\", \"\", IF(VLOOKUP(AD118,'Footnotes list'!$B$5:$C$103,2,FALSE)=0,\"\",VLOOKUP(AD118,'Footnotes list'!$B$5:$C$103,2,FALSE) ) )","v":""},null,null,null,null,{"$f":"IF(TRIM(AI118)=\"\", \"\", IF(VLOOKUP(AI118,'Footnotes list'!$B$5:$C$103,2,FALSE)=0,\"\",VLOOKUP(AI118,'Footnotes list'!$B$5:$C$103,2,FALSE) ) )","v":""}]
[null,null,null,null,"ES2","    NORESTE",null,null,null,null,{"$f":"IF(TRIM(J119)=\"\", \"\", IF(VLOOKUP(J119,'Footnotes list'!$B$5:$C$103,2,FALSE)=0,\"\",VLOOKUP(J119,'Footnotes list'!$B$5:$C$103,2,FALSE) ) )","v":""},null,null,null,null,{"$f":"IF(TRIM(O119)=\"\", \"\", IF(VLOOKUP(O119,'Footnotes list'!$B$5:$C$103,2,FALSE)=0,\"\",VLOOKUP(O119,'Footnotes list'!$B$5:$C$103,2,FALSE) ) )","v":""},null,null,null,null,{"$f":"IF(TRIM(T119)=\"\", \"\", IF(VLOOKUP(T119,'Footnotes list'!$B$5:$C$103,2,FALSE)=0,\"\",VLOOKUP(T119,'Footnotes list'!$B$5:$C$103,2,FALSE) ) )","v":""},null,null,null,null,{"$f":"IF(TRIM(Y119)=\"\", \"\", IF(VLOOKUP(Y119,'Footnotes list'!$B$5:$C$103,2,FALSE)=0,\"\",VLOOKUP(Y119,'Footnotes list'!$B$5:$C$103,2,FALSE) ) )","v":""},null,null,null,null,{"$f":"IF(TRIM(AD119)=\"\", \"\", IF(VLOOKUP(AD119,'Footnotes list'!$B$5:$C$103,2,FALSE)=0,\"\",VLOOKUP(AD119,'Footnotes list'!$B$5:$C$103,2,FALSE) ) )","v":""},null,null,null,null,{"$f":"IF(TRIM(AI119)=\"\", \"\", IF(VLOOKUP(AI119,'Footnotes list'!$B$5:$C$103,2,FALSE)=0,\"\",VLOOKUP(AI119,'Footnotes list'!$B$5:$C$103,2,FALSE) ) )","v":""}]
[null,null,null,null,"ES21","        País Vasco",null,null,null,null,{"$f":"IF(TRIM(J120)=\"\", \"\", IF(VLOOKUP(J120,'Footnotes list'!$B$5:$C$103,2,FALSE)=0,\"\",VLOOKUP(J120,'Footnotes list'!$B$5:$C$103,2,FALSE) ) )","v":""},null,null,null,null,{"$f":"IF(TRIM(O120)=\"\", \"\", IF(VLOOKUP(O120,'Footnotes list'!$B$5:$C$103,2,FALSE)=0,\"\",VLOOKUP(O120,'Footnotes list'!$B$5:$C$103,2,FALSE) ) )","v":""},null,null,null,null,{"$f":"IF(TRIM(T120)=\"\", \"\", IF(VLOOKUP(T120,'Footnotes list'!$B$5:$C$103,2,FALSE)=0,\"\",VLOOKUP(T120,'Footnotes list'!$B$5:$C$103,2,FALSE) ) )","v":""},null,null,null,null,{"$f":"IF(TRIM(Y120)=\"\", \"\", IF(VLOOKUP(Y120,'Footnotes list'!$B$5:$C$103,2,FALSE)=0,\"\",VLOOKUP(Y120,'Footnotes list'!$B$5:$C$103,2,FALSE) ) )","v":""},null,null,null,null,{"$f":"IF(TRIM(AD120)=\"\", \"\", IF(VLOOKUP(AD120,'Footnotes list'!$B$5:$C$103,2,FALSE)=0,\"\",VLOOKUP(AD120,'Footnotes list'!$B$5:$C$103,2,FALSE) ) )","v":""},null,null,null,null,{"$f":"IF(TRIM(AI120)=\"\", \"\", IF(VLOOKUP(AI120,'Footnotes list'!$B$5:$C$103,2,FALSE)=0,\"\",VLOOKUP(AI120,'Footnotes list'!$B$5:$C$103,2,FALSE) ) )","v":""}]
[null,null,null,null,"ES22","        Comunidad Foral de Navarra",null,null,null,null,{"$f":"IF(TRIM(J121)=\"\", \"\", IF(VLOOKUP(J121,'Footnotes list'!$B$5:$C$103,2,FALSE)=0,\"\",VLOOKUP(J121,'Footnotes list'!$B$5:$C$103,2,FALSE) ) )","v":""},null,null,null,null,{"$f":"IF(TRIM(O121)=\"\", \"\", IF(VLOOKUP(O121,'Footnotes list'!$B$5:$C$103,2,FALSE)=0,\"\",VLOOKUP(O121,'Footnotes list'!$B$5:$C$103,2,FALSE) ) )","v":""},null,null,null,null,{"$f":"IF(TRIM(T121)=\"\", \"\", IF(VLOOKUP(T121,'Footnotes list'!$B$5:$C$103,2,FALSE)=0,\"\",VLOOKUP(T121,'Footnotes list'!$B$5:$C$103,2,FALSE) ) )","v":""},null,null,null,null,{"$f":"IF(TRIM(Y121)=\"\", \"\", IF(VLOOKUP(Y121,'Footnotes list'!$B$5:$C$103,2,FALSE)=0,\"\",VLOOKUP(Y121,'Footnotes list'!$B$5:$C$103,2,FALSE) ) )","v":""},null,null,null,null,{"$f":"IF(TRIM(AD121)=\"\", \"\", IF(VLOOKUP(AD121,'Footnotes list'!$B$5:$C$103,2,FALSE)=0,\"\",VLOOKUP(AD121,'Footnotes list'!$B$5:$C$103,2,FALSE) ) )","v":""},null,null,null,null,{"$f":"IF(TRIM(AI121)=\"\", \"\", IF(VLOOKUP(AI121,'Footnotes list'!$B$5:$C$103,2,FALSE)=0,\"\",VLOOKUP(AI121,'Footnotes list'!$B$5:$C$103,2,FALSE) ) )","v":""}]
[null,null,null,null,"ES23","        La Rioja",null,null,null,null,{"$f":"IF(TRIM(J122)=\"\", \"\", IF(VLOOKUP(J122,'Footnotes list'!$B$5:$C$103,2,FALSE)=0,\"\",VLOOKUP(J122,'Footnotes list'!$B$5:$C$103,2,FALSE) ) )","v":""},null,null,null,null,{"$f":"IF(TRIM(O122)=\"\", \"\", IF(VLOOKUP(O122,'Footnotes list'!$B$5:$C$103,2,FALSE)=0,\"\",VLOOKUP(O122,'Footnotes list'!$B$5:$C$103,2,FALSE) ) )","v":""},null,null,null,null,{"$f":"IF(TRIM(T122)=\"\", \"\", IF(VLOOKUP(T122,'Footnotes list'!$B$5:$C$103,2,FALSE)=0,\"\",VLOOKUP(T122,'Footnotes list'!$B$5:$C$103,2,FALSE) ) )","v":""},null,null,null,null,{"$f":"IF(TRIM(Y122)=\"\", \"\", IF(VLOOKUP(Y122,'Footnotes list'!$B$5:$C$103,2,FALSE)=0,\"\",VLOOKUP(Y122,'Footnotes list'!$B$5:$C$103,2,FALSE) ) )","v":""},null,null,null,null,{"$f":"IF(TRIM(AD122)=\"\", \"\", IF(VLOOKUP(AD122,'Footnotes list'!$B$5:$C$103,2,FALSE)=0,\"\",VLOOKUP(AD122,'Footnotes list'!$B$5:$C$103,2,FALSE) ) )","v":""},null,null,null,null,{"$f":"IF(TRIM(AI122)=\"\", \"\", IF(VLOOKUP(AI122,'Footnotes list'!$B$5:$C$103,2,FALSE)=0,\"\",VLOOKUP(AI122,'Footnotes list'!$B$5:$C$103,2,FALSE) ) )","v":""}]
[null,null,null,null,"ES24","        Aragón",null,null,null,null,{"$f":"IF(TRIM(J123)=\"\", \"\", IF(VLOOKUP(J123,'Footnotes list'!$B$5:$C$103,2,FALSE)=0,\"\",VLOOKUP(J123,'Footnotes list'!$B$5:$C$103,2,FALSE) ) )","v":""},null,null,null,null,{"$f":"IF(TRIM(O123)=\"\", \"\", IF(VLOOKUP(O123,'Footnotes list'!$B$5:$C$103,2,FALSE)=0,\"\",VLOOKUP(O123,'Footnotes list'!$B$5:$C$103,2,FALSE) ) )","v":""},null,null,null,null,{"$f":"IF(TRIM(T123)=\"\", \"\", IF(VLOOKUP(T123,'Footnotes list'!$B$5:$C$103,2,FALSE)=0,\"\",VLOOKUP(T123,'Footnotes list'!$B$5:$C$103,2,FALSE) ) )","v":""},null,null,null,null,{"$f":"IF(TRIM(Y123)=\"\", \"\", IF(VLOOKUP(Y123,'Footnotes list'!$B$5:$C$103,2,FALSE)=0,\"\",VLOOKUP(Y123,'Footnotes list'!$B$5:$C$103,2,FALSE) ) )","v":""},null,null,null,null,{"$f":"IF(TRIM(AD123)=\"\", \"\", IF(VLOOKUP(AD123,'Footnotes list'!$B$5:$C$103,2,FALSE)=0,\"\",VLOOKUP(AD123,'Footnotes list'!$B$5:$C$103,2,FALSE) ) )","v":""},null,null,null,null,{"$f":"IF(TRIM(AI123)=\"\", \"\", IF(VLOOKUP(AI123,'Footnotes list'!$B$5:$C$103,2,FALSE)=0,\"\",VLOOKUP(AI123,'Footnotes list'!$B$5:$C$103,2,FALSE) ) )","v":""}]
[null,null,null,null,"ES3","    COMUNIDAD DE MADRID",null,null,null,null,{"$f":"IF(TRIM(J124)=\"\", \"\", IF(VLOOKUP(J124,'Footnotes list'!$B$5:$C$103,2,FALSE)=0,\"\",VLOOKUP(J124,'Footnotes list'!$B$5:$C$103,2,FALSE) ) )","v":""},null,null,null,null,{"$f":"IF(TRIM(O124)=\"\", \"\", IF(VLOOKUP(O124,'Footnotes list'!$B$5:$C$103,2,FALSE)=0,\"\",VLOOKUP(O124,'Footnotes list'!$B$5:$C$103,2,FALSE) ) )","v":""},null,null,null,null,{"$f":"IF(TRIM(T124)=\"\", \"\", IF(VLOOKUP(T124,'Footnotes list'!$B$5:$C$103,2,FALSE)=0,\"\",VLOOKUP(T124,'Footnotes list'!$B$5:$C$103,2,FALSE) ) )","v":""},null,null,null,null,{"$f":"IF(TRIM(Y124)=\"\", \"\", IF(VLOOKUP(Y124,'Footnotes list'!$B$5:$C$103,2,FALSE)=0,\"\",VLOOKUP(Y124,'Footnotes list'!$B$5:$C$103,2,FALSE) ) )","v":""},null,null,null,null,{"$f":"IF(TRIM(AD124)=\"\", \"\", IF(VLOOKUP(AD124,'Footnotes list'!$B$5:$C$103,2,FALSE)=0,\"\",VLOOKUP(AD124,'Footnotes list'!$B$5:$C$103,2,FALSE) ) )","v":""},null,null,null,null,{"$f":"IF(TRIM(AI124)=\"\", \"\", IF(VLOOKUP(AI124,'Footnotes list'!$B$5:$C$103,2,FALSE)=0,\"\",VLOOKUP(AI124,'Footnotes list'!$B$5:$C$103,2,FALSE) ) )","v":""}]
[null,null,null,"SPAIN","ES4","    CENTRO (ES)",null,null,null,null,{"$f":"IF(TRIM(J125)=\"\", \"\", IF(VLOOKUP(J125,'Footnotes list'!$B$5:$C$103,2,FALSE)=0,\"\",VLOOKUP(J125,'Footnotes list'!$B$5:$C$103,2,FALSE) ) )","v":""},null,null,null,null,{"$f":"IF(TRIM(O125)=\"\", \"\", IF(VLOOKUP(O125,'Footnotes list'!$B$5:$C$103,2,FALSE)=0,\"\",VLOOKUP(O125,'Footnotes list'!$B$5:$C$103,2,FALSE) ) )","v":""},null,null,null,null,{"$f":"IF(TRIM(T125)=\"\", \"\", IF(VLOOKUP(T125,'Footnotes list'!$B$5:$C$103,2,FALSE)=0,\"\",VLOOKUP(T125,'Footnotes list'!$B$5:$C$103,2,FALSE) ) )","v":""},null,null,null,null,{"$f":"IF(TRIM(Y125)=\"\", \"\", IF(VLOOKUP(Y125,'Footnotes list'!$B$5:$C$103,2,FALSE)=0,\"\",VLOOKUP(Y125,'Footnotes list'!$B$5:$C$103,2,FALSE) ) )","v":""},null,null,null,null,{"$f":"IF(TRIM(AD125)=\"\", \"\", IF(VLOOKUP(AD125,'Footnotes list'!$B$5:$C$103,2,FALSE)=0,\"\",VLOOKUP(AD125,'Footnotes list'!$B$5:$C$103,2,FALSE) ) )","v":""},null,null,null,null,{"$f":"IF(TRIM(AI125)=\"\", \"\", IF(VLOOKUP(AI125,'Footnotes list'!$B$5:$C$103,2,FALSE)=0,\"\",VLOOKUP(AI125,'Footnotes list'!$B$5:$C$103,2,FALSE) ) )","v":""}]
[null,null,null,null,"ES41","        Castilla y León",null,null,null,null,{"$f":"IF(TRIM(J126)=\"\", \"\", IF(VLOOKUP(J126,'Footnotes list'!$B$5:$C$103,2,FALSE)=0,\"\",VLOOKUP(J126,'Footnotes list'!$B$5:$C$103,2,FALSE) ) )","v":""},null,null,null,null,{"$f":"IF(TRIM(O126)=\"\", \"\", IF(VLOOKUP(O126,'Footnotes list'!$B$5:$C$103,2,FALSE)=0,\"\",VLOOKUP(O126,'Footnotes list'!$B$5:$C$103,2,FALSE) ) )","v":""},null,null,null,null,{"$f":"IF(TRIM(T126)=\"\", \"\", IF(VLOOKUP(T126,'Footnotes list'!$B$5:$C$103,2,FALSE)=0,\"\",VLOOKUP(T126,'Footnotes list'!$B$5:$C$103,2,FALSE) ) )","v":""},null,null,null,null,{"$f":"IF(TRIM(Y126)=\"\", \"\", IF(VLOOKUP(Y126,'Footnotes list'!$B$5:$C$103,2,FALSE)=0,\"\",VLOOKUP(Y126,'Footnotes list'!$B$5:$C$103,2,FALSE) ) )","v":""},null,null,null,null,{"$f":"IF(TRIM(AD126)=\"\", \"\", IF(VLOOKUP(AD126,'Footnotes list'!$B$5:$C$103,2,FALSE)=0,\"\",VLOOKUP(AD126,'Footnotes list'!$B$5:$C$103,2,FALSE) ) )","v":""},null,null,null,null,{"$f":"IF(TRIM(AI126)=\"\", \"\", IF(VLOOKUP(AI126,'Footnotes list'!$B$5:$C$103,2,FALSE)=0,\"\",VLOOKUP(AI126,'Footnotes list'!$B$5:$C$103,2,FALSE) ) )","v":""}]
[null,null,null,null,"ES42","        Castilla-La Mancha",null,null,null,null,{"$f":"IF(TRIM(J127)=\"\", \"\", IF(VLOOKUP(J127,'Footnotes list'!$B$5:$C$103,2,FALSE)=0,\"\",VLOOKUP(J127,'Footnotes list'!$B$5:$C$103,2,FALSE) ) )","v":""},null,null,null,null,{"$f":"IF(TRIM(O127)=\"\", \"\", IF(VLOOKUP(O127,'Footnotes list'!$B$5:$C$103,2,FALSE)=0,\"\",VLOOKUP(O127,'Footnotes list'!$B$5:$C$103,2,FALSE) ) )","v":""},null,null,null,null,{"$f":"IF(TRIM(T127)=\"\", \"\", IF(VLOOKUP(T127,'Footnotes list'!$B$5:$C$103,2,FALSE)=0,\"\",VLOOKUP(T127,'Footnotes list'!$B$5:$C$103,2,FALSE) ) )","v":""},null,null,null,null,{"$f":"IF(TRIM(Y127)=\"\", \"\", IF(VLOOKUP(Y127,'Footnotes list'!$B$5:$C$103,2,FALSE)=0,\"\",VLOOKUP(Y127,'Footnotes list'!$B$5:$C$103,2,FALSE) ) )","v":""},null,null,null,null,{"$f":"IF(TRIM(AD127)=\"\", \"\", IF(VLOOKUP(AD127,'Footnotes list'!$B$5:$C$103,2,FALSE)=0,\"\",VLOOKUP(AD127,'Footnotes list'!$B$5:$C$103,2,FALSE) ) )","v":""},null,null,null,null,{"$f":"IF(TRIM(AI127)=\"\", \"\", IF(VLOOKUP(AI127,'Footnotes list'!$B$5:$C$103,2,FALSE)=0,\"\",VLOOKUP(AI127,'Footnotes list'!$B$5:$C$103,2,FALSE) ) )","v":""}]
[null,null,null,null,"ES43","        Extremadura",null,null,null,null,{"$f":"IF(TRIM(J128)=\"\", \"\", IF(VLOOKUP(J128,'Footnotes list'!$B$5:$C$103,2,FALSE)=0,\"\",VLOOKUP(J128,'Footnotes list'!$B$5:$C$103,2,FALSE) ) )","v":""},null,null,null,null,{"$f":"IF(TRIM(O128)=\"\", \"\", IF(VLOOKUP(O128,'Footnotes list'!$B$5:$C$103,2,FALSE)=0,\"\",VLOOKUP(O128,'Footnotes list'!$B$5:$C$103,2,FALSE) ) )","v":""},null,null,null,null,{"$f":"IF(TRIM(T128)=\"\", \"\", IF(VLOOKUP(T128,'Footnotes list'!$B$5:$C$103,2,FALSE)=0,\"\",VLOOKUP(T128,'Footnotes list'!$B$5:$C$103,2,FALSE) ) )","v":""},null,null,null,null,{"$f":"IF(TRIM(Y128)=\"\", \"\", IF(VLOOKUP(Y128,'Footnotes list'!$B$5:$C$103,2,FALSE)=0,\"\",VLOOKUP(Y128,'Footnotes list'!$B$5:$C$103,2,FALSE) ) )","v":""},null,null,null,null,{"$f":"IF(TRIM(AD128)=\"\", \"\", IF(VLOOKUP(AD128,'Footnotes list'!$B$5:$C$103,2,FALSE)=0,\"\",VLOOKUP(AD128,'Footnotes list'!$B$5:$C$103,2,FALSE) ) )","v":""},null,null,null,null,{"$f":"IF(TRIM(AI128)=\"\", \"\", IF(VLOOKUP(AI128,'Footnotes list'!$B$5:$C$103,2,FALSE)=0,\"\",VLOOKUP(AI128,'Footnotes list'!$B$5:$C$103,2,FALSE) ) )","v":""}]
[null,null,null,null,"ES5","    ESTE",null,null,null,null,{"$f":"IF(TRIM(J129)=\"\", \"\", IF(VLOOKUP(J129,'Footnotes list'!$B$5:$C$103,2,FALSE)=0,\"\",VLOOKUP(J129,'Footnotes list'!$B$5:$C$103,2,FALSE) ) )","v":""},null,null,null,null,{"$f":"IF(TRIM(O129)=\"\", \"\", IF(VLOOKUP(O129,'Footnotes list'!$B$5:$C$103,2,FALSE)=0,\"\",VLOOKUP(O129,'Footnotes list'!$B$5:$C$103,2,FALSE) ) )","v":""},null,null,null,null,{"$f":"IF(TRIM(T129)=\"\", \"\", IF(VLOOKUP(T129,'Footnotes list'!$B$5:$C$103,2,FALSE)=0,\"\",VLOOKUP(T129,'Footnotes list'!$B$5:$C$103,2,FALSE) ) )","v":""},null,null,null,null,{"$f":"IF(TRIM(Y129)=\"\", \"\", IF(VLOOKUP(Y129,'Footnotes list'!$B$5:$C$103,2,FALSE)=0,\"\",VLOOKUP(Y129,'Footnotes list'!$B$5:$C$103,2,FALSE) ) )","v":""},null,null,null,null,{"$f":"IF(TRIM(AD129)=\"\", \"\", IF(VLOOKUP(AD129,'Footnotes list'!$B$5:$C$103,2,FALSE)=0,\"\",VLOOKUP(AD129,'Footnotes list'!$B$5:$C$103,2,FALSE) ) )","v":""},null,null,null,null,{"$f":"IF(TRIM(AI129)=\"\", \"\", IF(VLOOKUP(AI129,'Footnotes list'!$B$5:$C$103,2,FALSE)=0,\"\",VLOOKUP(AI129,'Footnotes list'!$B$5:$C$103,2,FALSE) ) )","v":""}]
[null,null,null,null,"ES51","        Cataluña",null,null,null,null,{"$f":"IF(TRIM(J130)=\"\", \"\", IF(VLOOKUP(J130,'Footnotes list'!$B$5:$C$103,2,FALSE)=0,\"\",VLOOKUP(J130,'Footnotes list'!$B$5:$C$103,2,FALSE) ) )","v":""},null,null,null,null,{"$f":"IF(TRIM(O130)=\"\", \"\", IF(VLOOKUP(O130,'Footnotes list'!$B$5:$C$103,2,FALSE)=0,\"\",VLOOKUP(O130,'Footnotes list'!$B$5:$C$103,2,FALSE) ) )","v":""},null,null,null,null,{"$f":"IF(TRIM(T130)=\"\", \"\", IF(VLOOKUP(T130,'Footnotes list'!$B$5:$C$103,2,FALSE)=0,\"\",VLOOKUP(T130,'Footnotes list'!$B$5:$C$103,2,FALSE) ) )","v":""},null,null,null,null,{"$f":"IF(TRIM(Y130)=\"\", \"\", IF(VLOOKUP(Y130,'Footnotes list'!$B$5:$C$103,2,FALSE)=0,\"\",VLOOKUP(Y130,'Footnotes list'!$B$5:$C$103,2,FALSE) ) )","v":""},null,null,null,null,{"$f":"IF(TRIM(AD130)=\"\", \"\", IF(VLOOKUP(AD130,'Footnotes list'!$B$5:$C$103,2,FALSE)=0,\"\",VLOOKUP(AD130,'Footnotes list'!$B$5:$C$103,2,FALSE) ) )","v":""},null,null,null,null,{"$f":"IF(TRIM(AI130)=\"\", \"\", IF(VLOOKUP(AI130,'Footnotes list'!$B$5:$C$103,2,FALSE)=0,\"\",VLOOKUP(AI130,'Footnotes list'!$B$5:$C$103,2,FALSE) ) )","v":""}]
[null,null,null,null,"ES52","        Comunidad Valenciana",null,null,null,null,{"$f":"IF(TRIM(J131)=\"\", \"\", IF(VLOOKUP(J131,'Footnotes list'!$B$5:$C$103,2,FALSE)=0,\"\",VLOOKUP(J131,'Footnotes list'!$B$5:$C$103,2,FALSE) ) )","v":""},null,null,null,null,{"$f":"IF(TRIM(O131)=\"\", \"\", IF(VLOOKUP(O131,'Footnotes list'!$B$5:$C$103,2,FALSE)=0,\"\",VLOOKUP(O131,'Footnotes list'!$B$5:$C$103,2,FALSE) ) )","v":""},null,null,null,null,{"$f":"IF(TRIM(T131)=\"\", \"\", IF(VLOOKUP(T131,'Footnotes list'!$B$5:$C$103,2,FALSE)=0,\"\",VLOOKUP(T131,'Footnotes list'!$B$5:$C$103,2,FALSE) ) )","v":""},null,null,null,null,{"$f":"IF(TRIM(Y131)=\"\", \"\", IF(VLOOKUP(Y131,'Footnotes list'!$B$5:$C$103,2,FALSE)=0,\"\",VLOOKUP(Y131,'Footnotes list'!$B$5:$C$103,2,FALSE) ) )","v":""},null,null,null,null,{"$f":"IF(TRIM(AD131)=\"\", \"\", IF(VLOOKUP(AD131,'Footnotes list'!$B$5:$C$103,2,FALSE)=0,\"\",VLOOKUP(AD131,'Footnotes list'!$B$5:$C$103,2,FALSE) ) )","v":""},null,null,null,null,{"$f":"IF(TRIM(AI131)=\"\", \"\", IF(VLOOKUP(AI131,'Footnotes list'!$B$5:$C$103,2,FALSE)=0,\"\",VLOOKUP(AI131,'Footnotes list'!$B$5:$C$103,2,FALSE) ) )","v":""}]
[null,null,null,null,"ES53","        Illes Balears",null,null,null,null,{"$f":"IF(TRIM(J132)=\"\", \"\", IF(VLOOKUP(J132,'Footnotes list'!$B$5:$C$103,2,FALSE)=0,\"\",VLOOKUP(J132,'Footnotes list'!$B$5:$C$103,2,FALSE) ) )","v":""},null,null,null,null,{"$f":"IF(TRIM(O132)=\"\", \"\", IF(VLOOKUP(O132,'Footnotes list'!$B$5:$C$103,2,FALSE)=0,\"\",VLOOKUP(O132,'Footnotes list'!$B$5:$C$103,2,FALSE) ) )","v":""},null,null,null,null,{"$f":"IF(TRIM(T132)=\"\", \"\", IF(VLOOKUP(T132,'Footnotes list'!$B$5:$C$103,2,FALSE)=0,\"\",VLOOKUP(T132,'Footnotes list'!$B$5:$C$103,2,FALSE) ) )","v":""},null,null,null,null,{"$f":"IF(TRIM(Y132)=\"\", \"\", IF(VLOOKUP(Y132,'Footnotes list'!$B$5:$C$103,2,FALSE)=0,\"\",VLOOKUP(Y132,'Footnotes list'!$B$5:$C$103,2,FALSE) ) )","v":""},null,null,null,null,{"$f":"IF(TRIM(AD132)=\"\", \"\", IF(VLOOKUP(AD132,'Footnotes list'!$B$5:$C$103,2,FALSE)=0,\"\",VLOOKUP(AD132,'Footnotes list'!$B$5:$C$103,2,FALSE) ) )","v":""},null,null,null,null,{"$f":"IF(TRIM(AI132)=\"\", \"\", IF(VLOOKUP(AI132,'Footnotes list'!$B$5:$C$103,2,FALSE)=0,\"\",VLOOKUP(AI132,'Footnotes list'!$B$5:$C$103,2,FALSE) ) )","v":""}]
[null,null,null,null,"ES6","    SUR",null,null,null,null,{"$f":"IF(TRIM(J133)=\"\", \"\", IF(VLOOKUP(J133,'Footnotes list'!$B$5:$C$103,2,FALSE)=0,\"\",VLOOKUP(J133,'Footnotes list'!$B$5:$C$103,2,FALSE) ) )","v":""},null,null,null,null,{"$f":"IF(TRIM(O133)=\"\", \"\", IF(VLOOKUP(O133,'Footnotes list'!$B$5:$C$103,2,FALSE)=0,\"\",VLOOKUP(O133,'Footnotes list'!$B$5:$C$103,2,FALSE) ) )","v":""},null,null,null,null,{"$f":"IF(TRIM(T133)=\"\", \"\", IF(VLOOKUP(T133,'Footnotes list'!$B$5:$C$103,2,FALSE)=0,\"\",VLOOKUP(T133,'Footnotes list'!$B$5:$C$103,2,FALSE) ) )","v":""},null,null,null,null,{"$f":"IF(TRIM(Y133)=\"\", \"\", IF(VLOOKUP(Y133,'Footnotes list'!$B$5:$C$103,2,FALSE)=0,\"\",VLOOKUP(Y133,'Footnotes list'!$B$5:$C$103,2,FALSE) ) )","v":""},null,null,null,null,{"$f":"IF(TRIM(AD133)=\"\", \"\", IF(VLOOKUP(AD133,'Footnotes list'!$B$5:$C$103,2,FALSE)=0,\"\",VLOOKUP(AD133,'Footnotes list'!$B$5:$C$103,2,FALSE) ) )","v":""},null,null,null,null,{"$f":"IF(TRIM(AI133)=\"\", \"\", IF(VLOOKUP(AI133,'Footnotes list'!$B$5:$C$103,2,FALSE)=0,\"\",VLOOKUP(AI133,'Footnotes list'!$B$5:$C$103,2,FALSE) ) )","v":""}]
[null,null,null,null,"ES61","        Andalucía",null,null,null,null,{"$f":"IF(TRIM(J134)=\"\", \"\", IF(VLOOKUP(J134,'Footnotes list'!$B$5:$C$103,2,FALSE)=0,\"\",VLOOKUP(J134,'Footnotes list'!$B$5:$C$103,2,FALSE) ) )","v":""},null,null,null,null,{"$f":"IF(TRIM(O134)=\"\", \"\", IF(VLOOKUP(O134,'Footnotes list'!$B$5:$C$103,2,FALSE)=0,\"\",VLOOKUP(O134,'Footnotes list'!$B$5:$C$103,2,FALSE) ) )","v":""},null,null,null,null,{"$f":"IF(TRIM(T134)=\"\", \"\", IF(VLOOKUP(T134,'Footnotes list'!$B$5:$C$103,2,FALSE)=0,\"\",VLOOKUP(T134,'Footnotes list'!$B$5:$C$103,2,FALSE) ) )","v":""},null,null,null,null,{"$f":"IF(TRIM(Y134)=\"\", \"\", IF(VLOOKUP(Y134,'Footnotes list'!$B$5:$C$103,2,FALSE)=0,\"\",VLOOKUP(Y134,'Footnotes list'!$B$5:$C$103,2,FALSE) ) )","v":""},null,null,null,null,{"$f":"IF(TRIM(AD134)=\"\", \"\", IF(VLOOKUP(AD134,'Footnotes list'!$B$5:$C$103,2,FALSE)=0,\"\",VLOOKUP(AD134,'Footnotes list'!$B$5:$C$103,2,FALSE) ) )","v":""},null,null,null,null,{"$f":"IF(TRIM(AI134)=\"\", \"\", IF(VLOOKUP(AI134,'Footnotes list'!$B$5:$C$103,2,FALSE)=0,\"\",VLOOKUP(AI134,'Footnotes list'!$B$5:$C$103,2,FALSE) ) )","v":""}]
[null,null,null,null,"ES62","        Región de Murcia",null,null,null,null,{"$f":"IF(TRIM(J135)=\"\", \"\", IF(VLOOKUP(J135,'Footnotes list'!$B$5:$C$103,2,FALSE)=0,\"\",VLOOKUP(J135,'Footnotes list'!$B$5:$C$103,2,FALSE) ) )","v":""},null,null,null,null,{"$f":"IF(TRIM(O135)=\"\", \"\", IF(VLOOKUP(O135,'Footnotes list'!$B$5:$C$103,2,FALSE)=0,\"\",VLOOKUP(O135,'Footnotes list'!$B$5:$C$103,2,FALSE) ) )","v":""},null,null,null,null,{"$f":"IF(TRIM(T135)=\"\", \"\", IF(VLOOKUP(T135,'Footnotes list'!$B$5:$C$103,2,FALSE)=0,\"\",VLOOKUP(T135,'Footnotes list'!$B$5:$C$103,2,FALSE) ) )","v":""},null,null,null,null,{"$f":"IF(TRIM(Y135)=\"\", \"\", IF(VLOOKUP(Y135,'Footnotes list'!$B$5:$C$103,2,FALSE)=0,\"\",VLOOKUP(Y135,'Footnotes list'!$B$5:$C$103,2,FALSE) ) )","v":""},null,null,null,null,{"$f":"IF(TRIM(AD135)=\"\", \"\", IF(VLOOKUP(AD135,'Footnotes list'!$B$5:$C$103,2,FALSE)=0,\"\",VLOOKUP(AD135,'Footnotes list'!$B$5:$C$103,2,FALSE) ) )","v":""},null,null,null,null,{"$f":"IF(TRIM(AI135)=\"\", \"\", IF(VLOOKUP(AI135,'Footnotes list'!$B$5:$C$103,2,FALSE)=0,\"\",VLOOKUP(AI135,'Footnotes list'!$B$5:$C$103,2,FALSE) ) )","v":""}]
[null,null,null,null,"ES63","        Ciudad Autónoma de Ceuta",null,null,null,null,{"$f":"IF(TRIM(J136)=\"\", \"\", IF(VLOOKUP(J136,'Footnotes list'!$B$5:$C$103,2,FALSE)=0,\"\",VLOOKUP(J136,'Footnotes list'!$B$5:$C$103,2,FALSE) ) )","v":""},null,null,null,null,{"$f":"IF(TRIM(O136)=\"\", \"\", IF(VLOOKUP(O136,'Footnotes list'!$B$5:$C$103,2,FALSE)=0,\"\",VLOOKUP(O136,'Footnotes list'!$B$5:$C$103,2,FALSE) ) )","v":""},null,null,null,null,{"$f":"IF(TRIM(T136)=\"\", \"\", IF(VLOOKUP(T136,'Footnotes list'!$B$5:$C$103,2,FALSE)=0,\"\",VLOOKUP(T136,'Footnotes list'!$B$5:$C$103,2,FALSE) ) )","v":""},null,null,null,null,{"$f":"IF(TRIM(Y136)=\"\", \"\", IF(VLOOKUP(Y136,'Footnotes list'!$B$5:$C$103,2,FALSE)=0,\"\",VLOOKUP(Y136,'Footnotes list'!$B$5:$C$103,2,FALSE) ) )","v":""},null,null,null,null,{"$f":"IF(TRIM(AD136)=\"\", \"\", IF(VLOOKUP(AD136,'Footnotes list'!$B$5:$C$103,2,FALSE)=0,\"\",VLOOKUP(AD136,'Footnotes list'!$B$5:$C$103,2,FALSE) ) )","v":""},null,null,null,null,{"$f":"IF(TRIM(AI136)=\"\", \"\", IF(VLOOKUP(AI136,'Footnotes list'!$B$5:$C$103,2,FALSE)=0,\"\",VLOOKUP(AI136,'Footnotes list'!$B$5:$C$103,2,FALSE) ) )","v":""}]
[null,null,null,null,"ES64","        Ciudad Autónoma de Melilla",null,null,null,null,{"$f":"IF(TRIM(J137)=\"\", \"\", IF(VLOOKUP(J137,'Footnotes list'!$B$5:$C$103,2,FALSE)=0,\"\",VLOOKUP(J137,'Footnotes list'!$B$5:$C$103,2,FALSE) ) )","v":""},null,null,null,null,{"$f":"IF(TRIM(O137)=\"\", \"\", IF(VLOOKUP(O137,'Footnotes list'!$B$5:$C$103,2,FALSE)=0,\"\",VLOOKUP(O137,'Footnotes list'!$B$5:$C$103,2,FALSE) ) )","v":""},null,null,null,null,{"$f":"IF(TRIM(T137)=\"\", \"\", IF(VLOOKUP(T137,'Footnotes list'!$B$5:$C$103,2,FALSE)=0,\"\",VLOOKUP(T137,'Footnotes list'!$B$5:$C$103,2,FALSE) ) )","v":""},null,null,null,null,{"$f":"IF(TRIM(Y137)=\"\", \"\", IF(VLOOKUP(Y137,'Footnotes list'!$B$5:$C$103,2,FALSE)=0,\"\",VLOOKUP(Y137,'Footnotes list'!$B$5:$C$103,2,FALSE) ) )","v":""},null,null,null,null,{"$f":"IF(TRIM(AD137)=\"\", \"\", IF(VLOOKUP(AD137,'Footnotes list'!$B$5:$C$103,2,FALSE)=0,\"\",VLOOKUP(AD137,'Footnotes list'!$B$5:$C$103,2,FALSE) ) )","v":""},null,null,null,null,{"$f":"IF(TRIM(AI137)=\"\", \"\", IF(VLOOKUP(AI137,'Footnotes list'!$B$5:$C$103,2,FALSE)=0,\"\",VLOOKUP(AI137,'Footnotes list'!$B$5:$C$103,2,FALSE) ) )","v":""}]
[null,null,null,null,"ES7","    CANARIAS",null,null,null,null,{"$f":"IF(TRIM(J138)=\"\", \"\", IF(VLOOKUP(J138,'Footnotes list'!$B$5:$C$103,2,FALSE)=0,\"\",VLOOKUP(J138,'Footnotes list'!$B$5:$C$103,2,FALSE) ) )","v":""},null,null,null,null,{"$f":"IF(TRIM(O138)=\"\", \"\", IF(VLOOKUP(O138,'Footnotes list'!$B$5:$C$103,2,FALSE)=0,\"\",VLOOKUP(O138,'Footnotes list'!$B$5:$C$103,2,FALSE) ) )","v":""},null,null,null,null,{"$f":"IF(TRIM(T138)=\"\", \"\", IF(VLOOKUP(T138,'Footnotes list'!$B$5:$C$103,2,FALSE)=0,\"\",VLOOKUP(T138,'Footnotes list'!$B$5:$C$103,2,FALSE) ) )","v":""},null,null,null,null,{"$f":"IF(TRIM(Y138)=\"\", \"\", IF(VLOOKUP(Y138,'Footnotes list'!$B$5:$C$103,2,FALSE)=0,\"\",VLOOKUP(Y138,'Footnotes list'!$B$5:$C$103,2,FALSE) ) )","v":""},null,null,null,null,{"$f":"IF(TRIM(AD138)=\"\", \"\", IF(VLOOKUP(AD138,'Footnotes list'!$B$5:$C$103,2,FALSE)=0,\"\",VLOOKUP(AD138,'Footnotes list'!$B$5:$C$103,2,FALSE) ) )","v":""},null,null,null,null,{"$f":"IF(TRIM(AI138)=\"\", \"\", IF(VLOOKUP(AI138,'Footnotes list'!$B$5:$C$103,2,FALSE)=0,\"\",VLOOKUP(AI138,'Footnotes list'!$B$5:$C$103,2,FALSE) ) )","v":""}]
[null,null,null,null,"FR","FRANCE",null,null,null,null,{"$f":"IF(TRIM(J139)=\"\", \"\", IF(VLOOKUP(J139,'Footnotes list'!$B$5:$C$103,2,FALSE)=0,\"\",VLOOKUP(J139,'Footnotes list'!$B$5:$C$103,2,FALSE) ) )","v":""},null,null,null,null,{"$f":"IF(TRIM(O139)=\"\", \"\", IF(VLOOKUP(O139,'Footnotes list'!$B$5:$C$103,2,FALSE)=0,\"\",VLOOKUP(O139,'Footnotes list'!$B$5:$C$103,2,FALSE) ) )","v":""},null,null,null,null,{"$f":"IF(TRIM(T139)=\"\", \"\", IF(VLOOKUP(T139,'Footnotes list'!$B$5:$C$103,2,FALSE)=0,\"\",VLOOKUP(T139,'Footnotes list'!$B$5:$C$103,2,FALSE) ) )","v":""},null,null,null,null,{"$f":"IF(TRIM(Y139)=\"\", \"\", IF(VLOOKUP(Y139,'Footnotes list'!$B$5:$C$103,2,FALSE)=0,\"\",VLOOKUP(Y139,'Footnotes list'!$B$5:$C$103,2,FALSE) ) )","v":""},null,null,null,null,{"$f":"IF(TRIM(AD139)=\"\", \"\", IF(VLOOKUP(AD139,'Footnotes list'!$B$5:$C$103,2,FALSE)=0,\"\",VLOOKUP(AD139,'Footnotes list'!$B$5:$C$103,2,FALSE) ) )","v":""},null,null,null,null,{"$f":"IF(TRIM(AI139)=\"\", \"\", IF(VLOOKUP(AI139,'Footnotes list'!$B$5:$C$103,2,FALSE)=0,\"\",VLOOKUP(AI139,'Footnotes list'!$B$5:$C$103,2,FALSE) ) )","v":""}]
[null,null,null,null,"FR1","    ILE-DE-FRANCE",null,null,null,null,{"$f":"IF(TRIM(J140)=\"\", \"\", IF(VLOOKUP(J140,'Footnotes list'!$B$5:$C$103,2,FALSE)=0,\"\",VLOOKUP(J140,'Footnotes list'!$B$5:$C$103,2,FALSE) ) )","v":""},null,null,null,null,{"$f":"IF(TRIM(O140)=\"\", \"\", IF(VLOOKUP(O140,'Footnotes list'!$B$5:$C$103,2,FALSE)=0,\"\",VLOOKUP(O140,'Footnotes list'!$B$5:$C$103,2,FALSE) ) )","v":""},null,null,null,null,{"$f":"IF(TRIM(T140)=\"\", \"\", IF(VLOOKUP(T140,'Footnotes list'!$B$5:$C$103,2,FALSE)=0,\"\",VLOOKUP(T140,'Footnotes list'!$B$5:$C$103,2,FALSE) ) )","v":""},null,null,null,null,{"$f":"IF(TRIM(Y140)=\"\", \"\", IF(VLOOKUP(Y140,'Footnotes list'!$B$5:$C$103,2,FALSE)=0,\"\",VLOOKUP(Y140,'Footnotes list'!$B$5:$C$103,2,FALSE) ) )","v":""},null,null,null,null,{"$f":"IF(TRIM(AD140)=\"\", \"\", IF(VLOOKUP(AD140,'Footnotes list'!$B$5:$C$103,2,FALSE)=0,\"\",VLOOKUP(AD140,'Footnotes list'!$B$5:$C$103,2,FALSE) ) )","v":""},null,null,null,null,{"$f":"IF(TRIM(AI140)=\"\", \"\", IF(VLOOKUP(AI140,'Footnotes list'!$B$5:$C$103,2,FALSE)=0,\"\",VLOOKUP(AI140,'Footnotes list'!$B$5:$C$103,2,FALSE) ) )","v":""}]
[null,null,null,null,"FRB","    CENTRE — VAL DE LOIRE",null,null,null,null,{"$f":"IF(TRIM(J141)=\"\", \"\", IF(VLOOKUP(J141,'Footnotes list'!$B$5:$C$103,2,FALSE)=0,\"\",VLOOKUP(J141,'Footnotes list'!$B$5:$C$103,2,FALSE) ) )","v":""},null,null,null,null,{"$f":"IF(TRIM(O141)=\"\", \"\", IF(VLOOKUP(O141,'Footnotes list'!$B$5:$C$103,2,FALSE)=0,\"\",VLOOKUP(O141,'Footnotes list'!$B$5:$C$103,2,FALSE) ) )","v":""},null,null,null,null,{"$f":"IF(TRIM(T141)=\"\", \"\", IF(VLOOKUP(T141,'Footnotes list'!$B$5:$C$103,2,FALSE)=0,\"\",VLOOKUP(T141,'Footnotes list'!$B$5:$C$103,2,FALSE) ) )","v":""},null,null,null,null,{"$f":"IF(TRIM(Y141)=\"\", \"\", IF(VLOOKUP(Y141,'Footnotes list'!$B$5:$C$103,2,FALSE)=0,\"\",VLOOKUP(Y141,'Footnotes list'!$B$5:$C$103,2,FALSE) ) )","v":""},null,null,null,null,{"$f":"IF(TRIM(AD141)=\"\", \"\", IF(VLOOKUP(AD141,'Footnotes list'!$B$5:$C$103,2,FALSE)=0,\"\",VLOOKUP(AD141,'Footnotes list'!$B$5:$C$103,2,FALSE) ) )","v":""},null,null,null,null,{"$f":"IF(TRIM(AI141)=\"\", \"\", IF(VLOOKUP(AI141,'Footnotes list'!$B$5:$C$103,2,FALSE)=0,\"\",VLOOKUP(AI141,'Footnotes list'!$B$5:$C$103,2,FALSE) ) )","v":""}]
[null,null,null,null,"FRC","    BOURGOGNE-FRANCHE-COMTÉ",null,null,null,null,{"$f":"IF(TRIM(J142)=\"\", \"\", IF(VLOOKUP(J142,'Footnotes list'!$B$5:$C$103,2,FALSE)=0,\"\",VLOOKUP(J142,'Footnotes list'!$B$5:$C$103,2,FALSE) ) )","v":""},null,null,null,null,{"$f":"IF(TRIM(O142)=\"\", \"\", IF(VLOOKUP(O142,'Footnotes list'!$B$5:$C$103,2,FALSE)=0,\"\",VLOOKUP(O142,'Footnotes list'!$B$5:$C$103,2,FALSE) ) )","v":""},null,null,null,null,{"$f":"IF(TRIM(T142)=\"\", \"\", IF(VLOOKUP(T142,'Footnotes list'!$B$5:$C$103,2,FALSE)=0,\"\",VLOOKUP(T142,'Footnotes list'!$B$5:$C$103,2,FALSE) ) )","v":""},null,null,null,null,{"$f":"IF(TRIM(Y142)=\"\", \"\", IF(VLOOKUP(Y142,'Footnotes list'!$B$5:$C$103,2,FALSE)=0,\"\",VLOOKUP(Y142,'Footnotes list'!$B$5:$C$103,2,FALSE) ) )","v":""},null,null,null,null,{"$f":"IF(TRIM(AD142)=\"\", \"\", IF(VLOOKUP(AD142,'Footnotes list'!$B$5:$C$103,2,FALSE)=0,\"\",VLOOKUP(AD142,'Footnotes list'!$B$5:$C$103,2,FALSE) ) )","v":""},null,null,null,null,{"$f":"IF(TRIM(AI142)=\"\", \"\", IF(VLOOKUP(AI142,'Footnotes list'!$B$5:$C$103,2,FALSE)=0,\"\",VLOOKUP(AI142,'Footnotes list'!$B$5:$C$103,2,FALSE) ) )","v":""}]
[null,null,null,null,"FRC1","        Bourgogne",null,null,null,null,{"$f":"IF(TRIM(J143)=\"\", \"\", IF(VLOOKUP(J143,'Footnotes list'!$B$5:$C$103,2,FALSE)=0,\"\",VLOOKUP(J143,'Footnotes list'!$B$5:$C$103,2,FALSE) ) )","v":""},null,null,null,null,{"$f":"IF(TRIM(O143)=\"\", \"\", IF(VLOOKUP(O143,'Footnotes list'!$B$5:$C$103,2,FALSE)=0,\"\",VLOOKUP(O143,'Footnotes list'!$B$5:$C$103,2,FALSE) ) )","v":""},null,null,null,null,{"$f":"IF(TRIM(T143)=\"\", \"\", IF(VLOOKUP(T143,'Footnotes list'!$B$5:$C$103,2,FALSE)=0,\"\",VLOOKUP(T143,'Footnotes list'!$B$5:$C$103,2,FALSE) ) )","v":""},null,null,null,null,{"$f":"IF(TRIM(Y143)=\"\", \"\", IF(VLOOKUP(Y143,'Footnotes list'!$B$5:$C$103,2,FALSE)=0,\"\",VLOOKUP(Y143,'Footnotes list'!$B$5:$C$103,2,FALSE) ) )","v":""},null,null,null,null,{"$f":"IF(TRIM(AD143)=\"\", \"\", IF(VLOOKUP(AD143,'Footnotes list'!$B$5:$C$103,2,FALSE)=0,\"\",VLOOKUP(AD143,'Footnotes list'!$B$5:$C$103,2,FALSE) ) )","v":""},null,null,null,null,{"$f":"IF(TRIM(AI143)=\"\", \"\", IF(VLOOKUP(AI143,'Footnotes list'!$B$5:$C$103,2,FALSE)=0,\"\",VLOOKUP(AI143,'Footnotes list'!$B$5:$C$103,2,FALSE) ) )","v":""}]
[null,null,null,null,"FRC2","        Franche-Comté",null,null,null,null,{"$f":"IF(TRIM(J144)=\"\", \"\", IF(VLOOKUP(J144,'Footnotes list'!$B$5:$C$103,2,FALSE)=0,\"\",VLOOKUP(J144,'Footnotes list'!$B$5:$C$103,2,FALSE) ) )","v":""},null,null,null,null,{"$f":"IF(TRIM(O144)=\"\", \"\", IF(VLOOKUP(O144,'Footnotes list'!$B$5:$C$103,2,FALSE)=0,\"\",VLOOKUP(O144,'Footnotes list'!$B$5:$C$103,2,FALSE) ) )","v":""},null,null,null,null,{"$f":"IF(TRIM(T144)=\"\", \"\", IF(VLOOKUP(T144,'Footnotes list'!$B$5:$C$103,2,FALSE)=0,\"\",VLOOKUP(T144,'Footnotes list'!$B$5:$C$103,2,FALSE) ) )","v":""},null,null,null,null,{"$f":"IF(TRIM(Y144)=\"\", \"\", IF(VLOOKUP(Y144,'Footnotes list'!$B$5:$C$103,2,FALSE)=0,\"\",VLOOKUP(Y144,'Footnotes list'!$B$5:$C$103,2,FALSE) ) )","v":""},null,null,null,null,{"$f":"IF(TRIM(AD144)=\"\", \"\", IF(VLOOKUP(AD144,'Footnotes list'!$B$5:$C$103,2,FALSE)=0,\"\",VLOOKUP(AD144,'Footnotes list'!$B$5:$C$103,2,FALSE) ) )","v":""},null,null,null,null,{"$f":"IF(TRIM(AI144)=\"\", \"\", IF(VLOOKUP(AI144,'Footnotes list'!$B$5:$C$103,2,FALSE)=0,\"\",VLOOKUP(AI144,'Footnotes list'!$B$5:$C$103,2,FALSE) ) )","v":""}]
[null,null,null,null,"FRD","    NORMANDIE",null,null,null,null,{"$f":"IF(TRIM(J145)=\"\", \"\", IF(VLOOKUP(J145,'Footnotes list'!$B$5:$C$103,2,FALSE)=0,\"\",VLOOKUP(J145,'Footnotes list'!$B$5:$C$103,2,FALSE) ) )","v":""},null,null,null,null,{"$f":"IF(TRIM(O145)=\"\", \"\", IF(VLOOKUP(O145,'Footnotes list'!$B$5:$C$103,2,FALSE)=0,\"\",VLOOKUP(O145,'Footnotes list'!$B$5:$C$103,2,FALSE) ) )","v":""},null,null,null,null,{"$f":"IF(TRIM(T145)=\"\", \"\", IF(VLOOKUP(T145,'Footnotes list'!$B$5:$C$103,2,FALSE)=0,\"\",VLOOKUP(T145,'Footnotes list'!$B$5:$C$103,2,FALSE) ) )","v":""},null,null,null,null,{"$f":"IF(TRIM(Y145)=\"\", \"\", IF(VLOOKUP(Y145,'Footnotes list'!$B$5:$C$103,2,FALSE)=0,\"\",VLOOKUP(Y145,'Footnotes list'!$B$5:$C$103,2,FALSE) ) )","v":""},null,null,null,null,{"$f":"IF(TRIM(AD145)=\"\", \"\", IF(VLOOKUP(AD145,'Footnotes list'!$B$5:$C$103,2,FALSE)=0,\"\",VLOOKUP(AD145,'Footnotes list'!$B$5:$C$103,2,FALSE) ) )","v":""},null,null,null,null,{"$f":"IF(TRIM(AI145)=\"\", \"\", IF(VLOOKUP(AI145,'Footnotes list'!$B$5:$C$103,2,FALSE)=0,\"\",VLOOKUP(AI145,'Footnotes list'!$B$5:$C$103,2,FALSE) ) )","v":""}]
[null,null,null,null,"FRD1","        Basse-Normandie",null,null,null,null,{"$f":"IF(TRIM(J146)=\"\", \"\", IF(VLOOKUP(J146,'Footnotes list'!$B$5:$C$103,2,FALSE)=0,\"\",VLOOKUP(J146,'Footnotes list'!$B$5:$C$103,2,FALSE) ) )","v":""},null,null,null,null,{"$f":"IF(TRIM(O146)=\"\", \"\", IF(VLOOKUP(O146,'Footnotes list'!$B$5:$C$103,2,FALSE)=0,\"\",VLOOKUP(O146,'Footnotes list'!$B$5:$C$103,2,FALSE) ) )","v":""},null,null,null,null,{"$f":"IF(TRIM(T146)=\"\", \"\", IF(VLOOKUP(T146,'Footnotes list'!$B$5:$C$103,2,FALSE)=0,\"\",VLOOKUP(T146,'Footnotes list'!$B$5:$C$103,2,FALSE) ) )","v":""},null,null,null,null,{"$f":"IF(TRIM(Y146)=\"\", \"\", IF(VLOOKUP(Y146,'Footnotes list'!$B$5:$C$103,2,FALSE)=0,\"\",VLOOKUP(Y146,'Footnotes list'!$B$5:$C$103,2,FALSE) ) )","v":""},null,null,null,null,{"$f":"IF(TRIM(AD146)=\"\", \"\", IF(VLOOKUP(AD146,'Footnotes list'!$B$5:$C$103,2,FALSE)=0,\"\",VLOOKUP(AD146,'Footnotes list'!$B$5:$C$103,2,FALSE) ) )","v":""},null,null,null,null,{"$f":"IF(TRIM(AI146)=\"\", \"\", IF(VLOOKUP(AI146,'Footnotes list'!$B$5:$C$103,2,FALSE)=0,\"\",VLOOKUP(AI146,'Footnotes list'!$B$5:$C$103,2,FALSE) ) )","v":""}]
[null,null,null,null,"FRD2","        Haute-Normandie",null,null,null,null,{"$f":"IF(TRIM(J147)=\"\", \"\", IF(VLOOKUP(J147,'Footnotes list'!$B$5:$C$103,2,FALSE)=0,\"\",VLOOKUP(J147,'Footnotes list'!$B$5:$C$103,2,FALSE) ) )","v":""},null,null,null,null,{"$f":"IF(TRIM(O147)=\"\", \"\", IF(VLOOKUP(O147,'Footnotes list'!$B$5:$C$103,2,FALSE)=0,\"\",VLOOKUP(O147,'Footnotes list'!$B$5:$C$103,2,FALSE) ) )","v":""},null,null,null,null,{"$f":"IF(TRIM(T147)=\"\", \"\", IF(VLOOKUP(T147,'Footnotes list'!$B$5:$C$103,2,FALSE)=0,\"\",VLOOKUP(T147,'Footnotes list'!$B$5:$C$103,2,FALSE) ) )","v":""},null,null,null,null,{"$f":"IF(TRIM(Y147)=\"\", \"\", IF(VLOOKUP(Y147,'Footnotes list'!$B$5:$C$103,2,FALSE)=0,\"\",VLOOKUP(Y147,'Footnotes list'!$B$5:$C$103,2,FALSE) ) )","v":""},null,null,null,null,{"$f":"IF(TRIM(AD147)=\"\", \"\", IF(VLOOKUP(AD147,'Footnotes list'!$B$5:$C$103,2,FALSE)=0,\"\",VLOOKUP(AD147,'Footnotes list'!$B$5:$C$103,2,FALSE) ) )","v":""},null,null,null,null,{"$f":"IF(TRIM(AI147)=\"\", \"\", IF(VLOOKUP(AI147,'Footnotes list'!$B$5:$C$103,2,FALSE)=0,\"\",VLOOKUP(AI147,'Footnotes list'!$B$5:$C$103,2,FALSE) ) )","v":""}]
[null,null,null,null,"FRE","    NORD-PAS DE CALAIS-PICARDIE",null,null,null,null,{"$f":"IF(TRIM(J148)=\"\", \"\", IF(VLOOKUP(J148,'Footnotes list'!$B$5:$C$103,2,FALSE)=0,\"\",VLOOKUP(J148,'Footnotes list'!$B$5:$C$103,2,FALSE) ) )","v":""},null,null,null,null,{"$f":"IF(TRIM(O148)=\"\", \"\", IF(VLOOKUP(O148,'Footnotes list'!$B$5:$C$103,2,FALSE)=0,\"\",VLOOKUP(O148,'Footnotes list'!$B$5:$C$103,2,FALSE) ) )","v":""},null,null,null,null,{"$f":"IF(TRIM(T148)=\"\", \"\", IF(VLOOKUP(T148,'Footnotes list'!$B$5:$C$103,2,FALSE)=0,\"\",VLOOKUP(T148,'Footnotes list'!$B$5:$C$103,2,FALSE) ) )","v":""},null,null,null,null,{"$f":"IF(TRIM(Y148)=\"\", \"\", IF(VLOOKUP(Y148,'Footnotes list'!$B$5:$C$103,2,FALSE)=0,\"\",VLOOKUP(Y148,'Footnotes list'!$B$5:$C$103,2,FALSE) ) )","v":""},null,null,null,null,{"$f":"IF(TRIM(AD148)=\"\", \"\", IF(VLOOKUP(AD148,'Footnotes list'!$B$5:$C$103,2,FALSE)=0,\"\",VLOOKUP(AD148,'Footnotes list'!$B$5:$C$103,2,FALSE) ) )","v":""},null,null,null,null,{"$f":"IF(TRIM(AI148)=\"\", \"\", IF(VLOOKUP(AI148,'Footnotes list'!$B$5:$C$103,2,FALSE)=0,\"\",VLOOKUP(AI148,'Footnotes list'!$B$5:$C$103,2,FALSE) ) )","v":""}]
[null,null,null,null,"FRE1","        Nord-Pas de Calais",null,null,null,null,{"$f":"IF(TRIM(J149)=\"\", \"\", IF(VLOOKUP(J149,'Footnotes list'!$B$5:$C$103,2,FALSE)=0,\"\",VLOOKUP(J149,'Footnotes list'!$B$5:$C$103,2,FALSE) ) )","v":""},null,null,null,null,{"$f":"IF(TRIM(O149)=\"\", \"\", IF(VLOOKUP(O149,'Footnotes list'!$B$5:$C$103,2,FALSE)=0,\"\",VLOOKUP(O149,'Footnotes list'!$B$5:$C$103,2,FALSE) ) )","v":""},null,null,null,null,{"$f":"IF(TRIM(T149)=\"\", \"\", IF(VLOOKUP(T149,'Footnotes list'!$B$5:$C$103,2,FALSE)=0,\"\",VLOOKUP(T149,'Footnotes list'!$B$5:$C$103,2,FALSE) ) )","v":""},null,null,null,null,{"$f":"IF(TRIM(Y149)=\"\", \"\", IF(VLOOKUP(Y149,'Footnotes list'!$B$5:$C$103,2,FALSE)=0,\"\",VLOOKUP(Y149,'Footnotes list'!$B$5:$C$103,2,FALSE) ) )","v":""},null,null,null,null,{"$f":"IF(TRIM(AD149)=\"\", \"\", IF(VLOOKUP(AD149,'Footnotes list'!$B$5:$C$103,2,FALSE)=0,\"\",VLOOKUP(AD149,'Footnotes list'!$B$5:$C$103,2,FALSE) ) )","v":""},null,null,null,null,{"$f":"IF(TRIM(AI149)=\"\", \"\", IF(VLOOKUP(AI149,'Footnotes list'!$B$5:$C$103,2,FALSE)=0,\"\",VLOOKUP(AI149,'Footnotes list'!$B$5:$C$103,2,FALSE) ) )","v":""}]
[null,null,null,null,"FRE2","        Picardie",null,null,null,null,{"$f":"IF(TRIM(J150)=\"\", \"\", IF(VLOOKUP(J150,'Footnotes list'!$B$5:$C$103,2,FALSE)=0,\"\",VLOOKUP(J150,'Footnotes list'!$B$5:$C$103,2,FALSE) ) )","v":""},null,null,null,null,{"$f":"IF(TRIM(O150)=\"\", \"\", IF(VLOOKUP(O150,'Footnotes list'!$B$5:$C$103,2,FALSE)=0,\"\",VLOOKUP(O150,'Footnotes list'!$B$5:$C$103,2,FALSE) ) )","v":""},null,null,null,null,{"$f":"IF(TRIM(T150)=\"\", \"\", IF(VLOOKUP(T150,'Footnotes list'!$B$5:$C$103,2,FALSE)=0,\"\",VLOOKUP(T150,'Footnotes list'!$B$5:$C$103,2,FALSE) ) )","v":""},null,null,null,null,{"$f":"IF(TRIM(Y150)=\"\", \"\", IF(VLOOKUP(Y150,'Footnotes list'!$B$5:$C$103,2,FALSE)=0,\"\",VLOOKUP(Y150,'Footnotes list'!$B$5:$C$103,2,FALSE) ) )","v":""},null,null,null,null,{"$f":"IF(TRIM(AD150)=\"\", \"\", IF(VLOOKUP(AD150,'Footnotes list'!$B$5:$C$103,2,FALSE)=0,\"\",VLOOKUP(AD150,'Footnotes list'!$B$5:$C$103,2,FALSE) ) )","v":""},null,null,null,null,{"$f":"IF(TRIM(AI150)=\"\", \"\", IF(VLOOKUP(AI150,'Footnotes list'!$B$5:$C$103,2,FALSE)=0,\"\",VLOOKUP(AI150,'Footnotes list'!$B$5:$C$103,2,FALSE) ) )","v":""}]
[null,null,null,null,"FRF","    ALSACE-CHAMPAGNE-ARDENNE-LORRAINE",null,null,null,null,{"$f":"IF(TRIM(J151)=\"\", \"\", IF(VLOOKUP(J151,'Footnotes list'!$B$5:$C$103,2,FALSE)=0,\"\",VLOOKUP(J151,'Footnotes list'!$B$5:$C$103,2,FALSE) ) )","v":""},null,null,null,null,{"$f":"IF(TRIM(O151)=\"\", \"\", IF(VLOOKUP(O151,'Footnotes list'!$B$5:$C$103,2,FALSE)=0,\"\",VLOOKUP(O151,'Footnotes list'!$B$5:$C$103,2,FALSE) ) )","v":""},null,null,null,null,{"$f":"IF(TRIM(T151)=\"\", \"\", IF(VLOOKUP(T151,'Footnotes list'!$B$5:$C$103,2,FALSE)=0,\"\",VLOOKUP(T151,'Footnotes list'!$B$5:$C$103,2,FALSE) ) )","v":""},null,null,null,null,{"$f":"IF(TRIM(Y151)=\"\", \"\", IF(VLOOKUP(Y151,'Footnotes list'!$B$5:$C$103,2,FALSE)=0,\"\",VLOOKUP(Y151,'Footnotes list'!$B$5:$C$103,2,FALSE) ) )","v":""},null,null,null,null,{"$f":"IF(TRIM(AD151)=\"\", \"\", IF(VLOOKUP(AD151,'Footnotes list'!$B$5:$C$103,2,FALSE)=0,\"\",VLOOKUP(AD151,'Footnotes list'!$B$5:$C$103,2,FALSE) ) )","v":""},null,null,null,null,{"$f":"IF(TRIM(AI151)=\"\", \"\", IF(VLOOKUP(AI151,'Footnotes list'!$B$5:$C$103,2,FALSE)=0,\"\",VLOOKUP(AI151,'Footnotes list'!$B$5:$C$103,2,FALSE) ) )","v":""}]
[null,null,null,null,"FRF1","        Alsace",null,null,null,null,{"$f":"IF(TRIM(J152)=\"\", \"\", IF(VLOOKUP(J152,'Footnotes list'!$B$5:$C$103,2,FALSE)=0,\"\",VLOOKUP(J152,'Footnotes list'!$B$5:$C$103,2,FALSE) ) )","v":""},null,null,null,null,{"$f":"IF(TRIM(O152)=\"\", \"\", IF(VLOOKUP(O152,'Footnotes list'!$B$5:$C$103,2,FALSE)=0,\"\",VLOOKUP(O152,'Footnotes list'!$B$5:$C$103,2,FALSE) ) )","v":""},null,null,null,null,{"$f":"IF(TRIM(T152)=\"\", \"\", IF(VLOOKUP(T152,'Footnotes list'!$B$5:$C$103,2,FALSE)=0,\"\",VLOOKUP(T152,'Footnotes list'!$B$5:$C$103,2,FALSE) ) )","v":""},null,null,null,null,{"$f":"IF(TRIM(Y152)=\"\", \"\", IF(VLOOKUP(Y152,'Footnotes list'!$B$5:$C$103,2,FALSE)=0,\"\",VLOOKUP(Y152,'Footnotes list'!$B$5:$C$103,2,FALSE) ) )","v":""},null,null,null,null,{"$f":"IF(TRIM(AD152)=\"\", \"\", IF(VLOOKUP(AD152,'Footnotes list'!$B$5:$C$103,2,FALSE)=0,\"\",VLOOKUP(AD152,'Footnotes list'!$B$5:$C$103,2,FALSE) ) )","v":""},null,null,null,null,{"$f":"IF(TRIM(AI152)=\"\", \"\", IF(VLOOKUP(AI152,'Footnotes list'!$B$5:$C$103,2,FALSE)=0,\"\",VLOOKUP(AI152,'Footnotes list'!$B$5:$C$103,2,FALSE) ) )","v":""}]
[null,null,null,null,"FRF2","        Champagne-Ardenne",null,null,null,null,{"$f":"IF(TRIM(J153)=\"\", \"\", IF(VLOOKUP(J153,'Footnotes list'!$B$5:$C$103,2,FALSE)=0,\"\",VLOOKUP(J153,'Footnotes list'!$B$5:$C$103,2,FALSE) ) )","v":""},null,null,null,null,{"$f":"IF(TRIM(O153)=\"\", \"\", IF(VLOOKUP(O153,'Footnotes list'!$B$5:$C$103,2,FALSE)=0,\"\",VLOOKUP(O153,'Footnotes list'!$B$5:$C$103,2,FALSE) ) )","v":""},null,null,null,null,{"$f":"IF(TRIM(T153)=\"\", \"\", IF(VLOOKUP(T153,'Footnotes list'!$B$5:$C$103,2,FALSE)=0,\"\",VLOOKUP(T153,'Footnotes list'!$B$5:$C$103,2,FALSE) ) )","v":""},null,null,null,null,{"$f":"IF(TRIM(Y153)=\"\", \"\", IF(VLOOKUP(Y153,'Footnotes list'!$B$5:$C$103,2,FALSE)=0,\"\",VLOOKUP(Y153,'Footnotes list'!$B$5:$C$103,2,FALSE) ) )","v":""},null,null,null,null,{"$f":"IF(TRIM(AD153)=\"\", \"\", IF(VLOOKUP(AD153,'Footnotes list'!$B$5:$C$103,2,FALSE)=0,\"\",VLOOKUP(AD153,'Footnotes list'!$B$5:$C$103,2,FALSE) ) )","v":""},null,null,null,null,{"$f":"IF(TRIM(AI153)=\"\", \"\", IF(VLOOKUP(AI153,'Footnotes list'!$B$5:$C$103,2,FALSE)=0,\"\",VLOOKUP(AI153,'Footnotes list'!$B$5:$C$103,2,FALSE) ) )","v":""}]
[null,null,null,null,"FRF3","        Lorraine",null,null,null,null,{"$f":"IF(TRIM(J154)=\"\", \"\", IF(VLOOKUP(J154,'Footnotes list'!$B$5:$C$103,2,FALSE)=0,\"\",VLOOKUP(J154,'Footnotes list'!$B$5:$C$103,2,FALSE) ) )","v":""},null,null,null,null,{"$f":"IF(TRIM(O154)=\"\", \"\", IF(VLOOKUP(O154,'Footnotes list'!$B$5:$C$103,2,FALSE)=0,\"\",VLOOKUP(O154,'Footnotes list'!$B$5:$C$103,2,FALSE) ) )","v":""},null,null,null,null,{"$f":"IF(TRIM(T154)=\"\", \"\", IF(VLOOKUP(T154,'Footnotes list'!$B$5:$C$103,2,FALSE)=0,\"\",VLOOKUP(T154,'Footnotes list'!$B$5:$C$103,2,FALSE) ) )","v":""},null,null,null,null,{"$f":"IF(TRIM(Y154)=\"\", \"\", IF(VLOOKUP(Y154,'Footnotes list'!$B$5:$C$103,2,FALSE)=0,\"\",VLOOKUP(Y154,'Footnotes list'!$B$5:$C$103,2,FALSE) ) )","v":""},null,null,null,null,{"$f":"IF(TRIM(AD154)=\"\", \"\", IF(VLOOKUP(AD154,'Footnotes list'!$B$5:$C$103,2,FALSE)=0,\"\",VLOOKUP(AD154,'Footnotes list'!$B$5:$C$103,2,FALSE) ) )","v":""},null,null,null,null,{"$f":"IF(TRIM(AI154)=\"\", \"\", IF(VLOOKUP(AI154,'Footnotes list'!$B$5:$C$103,2,FALSE)=0,\"\",VLOOKUP(AI154,'Footnotes list'!$B$5:$C$103,2,FALSE) ) )","v":""}]
[null,null,null,null,"FRG","    PAYS DE LA LOIRE",null,null,null,null,{"$f":"IF(TRIM(J155)=\"\", \"\", IF(VLOOKUP(J155,'Footnotes list'!$B$5:$C$103,2,FALSE)=0,\"\",VLOOKUP(J155,'Footnotes list'!$B$5:$C$103,2,FALSE) ) )","v":""},null,null,null,null,{"$f":"IF(TRIM(O155)=\"\", \"\", IF(VLOOKUP(O155,'Footnotes list'!$B$5:$C$103,2,FALSE)=0,\"\",VLOOKUP(O155,'Footnotes list'!$B$5:$C$103,2,FALSE) ) )","v":""},null,null,null,null,{"$f":"IF(TRIM(T155)=\"\", \"\", IF(VLOOKUP(T155,'Footnotes list'!$B$5:$C$103,2,FALSE)=0,\"\",VLOOKUP(T155,'Footnotes list'!$B$5:$C$103,2,FALSE) ) )","v":""},null,null,null,null,{"$f":"IF(TRIM(Y155)=\"\", \"\", IF(VLOOKUP(Y155,'Footnotes list'!$B$5:$C$103,2,FALSE)=0,\"\",VLOOKUP(Y155,'Footnotes list'!$B$5:$C$103,2,FALSE) ) )","v":""},null,null,null,null,{"$f":"IF(TRIM(AD155)=\"\", \"\", IF(VLOOKUP(AD155,'Footnotes list'!$B$5:$C$103,2,FALSE)=0,\"\",VLOOKUP(AD155,'Footnotes list'!$B$5:$C$103,2,FALSE) ) )","v":""},null,null,null,null,{"$f":"IF(TRIM(AI155)=\"\", \"\", IF(VLOOKUP(AI155,'Footnotes list'!$B$5:$C$103,2,FALSE)=0,\"\",VLOOKUP(AI155,'Footnotes list'!$B$5:$C$103,2,FALSE) ) )","v":""}]
[null,null,null,null,"FRH","    BRETAGNE",null,null,null,null,{"$f":"IF(TRIM(J156)=\"\", \"\", IF(VLOOKUP(J156,'Footnotes list'!$B$5:$C$103,2,FALSE)=0,\"\",VLOOKUP(J156,'Footnotes list'!$B$5:$C$103,2,FALSE) ) )","v":""},null,null,null,null,{"$f":"IF(TRIM(O156)=\"\", \"\", IF(VLOOKUP(O156,'Footnotes list'!$B$5:$C$103,2,FALSE)=0,\"\",VLOOKUP(O156,'Footnotes list'!$B$5:$C$103,2,FALSE) ) )","v":""},null,null,null,null,{"$f":"IF(TRIM(T156)=\"\", \"\", IF(VLOOKUP(T156,'Footnotes list'!$B$5:$C$103,2,FALSE)=0,\"\",VLOOKUP(T156,'Footnotes list'!$B$5:$C$103,2,FALSE) ) )","v":""},null,null,null,null,{"$f":"IF(TRIM(Y156)=\"\", \"\", IF(VLOOKUP(Y156,'Footnotes list'!$B$5:$C$103,2,FALSE)=0,\"\",VLOOKUP(Y156,'Footnotes list'!$B$5:$C$103,2,FALSE) ) )","v":""},null,null,null,null,{"$f":"IF(TRIM(AD156)=\"\", \"\", IF(VLOOKUP(AD156,'Footnotes list'!$B$5:$C$103,2,FALSE)=0,\"\",VLOOKUP(AD156,'Footnotes list'!$B$5:$C$103,2,FALSE) ) )","v":""},null,null,null,null,{"$f":"IF(TRIM(AI156)=\"\", \"\", IF(VLOOKUP(AI156,'Footnotes list'!$B$5:$C$103,2,FALSE)=0,\"\",VLOOKUP(AI156,'Footnotes list'!$B$5:$C$103,2,FALSE) ) )","v":""}]
[null,null,null,"FRANCE","FRI","    AQUITAINE-LIMOUSIN-POITOU-CHARENTES",null,null,null,null,{"$f":"IF(TRIM(J157)=\"\", \"\", IF(VLOOKUP(J157,'Footnotes list'!$B$5:$C$103,2,FALSE)=0,\"\",VLOOKUP(J157,'Footnotes list'!$B$5:$C$103,2,FALSE) ) )","v":""},null,null,null,null,{"$f":"IF(TRIM(O157)=\"\", \"\", IF(VLOOKUP(O157,'Footnotes list'!$B$5:$C$103,2,FALSE)=0,\"\",VLOOKUP(O157,'Footnotes list'!$B$5:$C$103,2,FALSE) ) )","v":""},null,null,null,null,{"$f":"IF(TRIM(T157)=\"\", \"\", IF(VLOOKUP(T157,'Footnotes list'!$B$5:$C$103,2,FALSE)=0,\"\",VLOOKUP(T157,'Footnotes list'!$B$5:$C$103,2,FALSE) ) )","v":""},null,null,null,null,{"$f":"IF(TRIM(Y157)=\"\", \"\", IF(VLOOKUP(Y157,'Footnotes list'!$B$5:$C$103,2,FALSE)=0,\"\",VLOOKUP(Y157,'Footnotes list'!$B$5:$C$103,2,FALSE) ) )","v":""},null,null,null,null,{"$f":"IF(TRIM(AD157)=\"\", \"\", IF(VLOOKUP(AD157,'Footnotes list'!$B$5:$C$103,2,FALSE)=0,\"\",VLOOKUP(AD157,'Footnotes list'!$B$5:$C$103,2,FALSE) ) )","v":""},null,null,null,null,{"$f":"IF(TRIM(AI157)=\"\", \"\", IF(VLOOKUP(AI157,'Footnotes list'!$B$5:$C$103,2,FALSE)=0,\"\",VLOOKUP(AI157,'Footnotes list'!$B$5:$C$103,2,FALSE) ) )","v":""}]
[null,null,null,null,"FRI1","        Aquitaine",null,null,null,null,{"$f":"IF(TRIM(J158)=\"\", \"\", IF(VLOOKUP(J158,'Footnotes list'!$B$5:$C$103,2,FALSE)=0,\"\",VLOOKUP(J158,'Footnotes list'!$B$5:$C$103,2,FALSE) ) )","v":""},null,null,null,null,{"$f":"IF(TRIM(O158)=\"\", \"\", IF(VLOOKUP(O158,'Footnotes list'!$B$5:$C$103,2,FALSE)=0,\"\",VLOOKUP(O158,'Footnotes list'!$B$5:$C$103,2,FALSE) ) )","v":""},null,null,null,null,{"$f":"IF(TRIM(T158)=\"\", \"\", IF(VLOOKUP(T158,'Footnotes list'!$B$5:$C$103,2,FALSE)=0,\"\",VLOOKUP(T158,'Footnotes list'!$B$5:$C$103,2,FALSE) ) )","v":""},null,null,null,null,{"$f":"IF(TRIM(Y158)=\"\", \"\", IF(VLOOKUP(Y158,'Footnotes list'!$B$5:$C$103,2,FALSE)=0,\"\",VLOOKUP(Y158,'Footnotes list'!$B$5:$C$103,2,FALSE) ) )","v":""},null,null,null,null,{"$f":"IF(TRIM(AD158)=\"\", \"\", IF(VLOOKUP(AD158,'Footnotes list'!$B$5:$C$103,2,FALSE)=0,\"\",VLOOKUP(AD158,'Footnotes list'!$B$5:$C$103,2,FALSE) ) )","v":""},null,null,null,null,{"$f":"IF(TRIM(AI158)=\"\", \"\", IF(VLOOKUP(AI158,'Footnotes list'!$B$5:$C$103,2,FALSE)=0,\"\",VLOOKUP(AI158,'Footnotes list'!$B$5:$C$103,2,FALSE) ) )","v":""}]
[null,null,null,null,"FRI2","        Limousin",null,null,null,null,{"$f":"IF(TRIM(J159)=\"\", \"\", IF(VLOOKUP(J159,'Footnotes list'!$B$5:$C$103,2,FALSE)=0,\"\",VLOOKUP(J159,'Footnotes list'!$B$5:$C$103,2,FALSE) ) )","v":""},null,null,null,null,{"$f":"IF(TRIM(O159)=\"\", \"\", IF(VLOOKUP(O159,'Footnotes list'!$B$5:$C$103,2,FALSE)=0,\"\",VLOOKUP(O159,'Footnotes list'!$B$5:$C$103,2,FALSE) ) )","v":""},null,null,null,null,{"$f":"IF(TRIM(T159)=\"\", \"\", IF(VLOOKUP(T159,'Footnotes list'!$B$5:$C$103,2,FALSE)=0,\"\",VLOOKUP(T159,'Footnotes list'!$B$5:$C$103,2,FALSE) ) )","v":""},null,null,null,null,{"$f":"IF(TRIM(Y159)=\"\", \"\", IF(VLOOKUP(Y159,'Footnotes list'!$B$5:$C$103,2,FALSE)=0,\"\",VLOOKUP(Y159,'Footnotes list'!$B$5:$C$103,2,FALSE) ) )","v":""},null,null,null,null,{"$f":"IF(TRIM(AD159)=\"\", \"\", IF(VLOOKUP(AD159,'Footnotes list'!$B$5:$C$103,2,FALSE)=0,\"\",VLOOKUP(AD159,'Footnotes list'!$B$5:$C$103,2,FALSE) ) )","v":""},null,null,null,null,{"$f":"IF(TRIM(AI159)=\"\", \"\", IF(VLOOKUP(AI159,'Footnotes list'!$B$5:$C$103,2,FALSE)=0,\"\",VLOOKUP(AI159,'Footnotes list'!$B$5:$C$103,2,FALSE) ) )","v":""}]
[null,null,null,null,"FRI3","        Poitou-Charentes",null,null,null,null,{"$f":"IF(TRIM(J160)=\"\", \"\", IF(VLOOKUP(J160,'Footnotes list'!$B$5:$C$103,2,FALSE)=0,\"\",VLOOKUP(J160,'Footnotes list'!$B$5:$C$103,2,FALSE) ) )","v":""},null,null,null,null,{"$f":"IF(TRIM(O160)=\"\", \"\", IF(VLOOKUP(O160,'Footnotes list'!$B$5:$C$103,2,FALSE)=0,\"\",VLOOKUP(O160,'Footnotes list'!$B$5:$C$103,2,FALSE) ) )","v":""},null,null,null,null,{"$f":"IF(TRIM(T160)=\"\", \"\", IF(VLOOKUP(T160,'Footnotes list'!$B$5:$C$103,2,FALSE)=0,\"\",VLOOKUP(T160,'Footnotes list'!$B$5:$C$103,2,FALSE) ) )","v":""},null,null,null,null,{"$f":"IF(TRIM(Y160)=\"\", \"\", IF(VLOOKUP(Y160,'Footnotes list'!$B$5:$C$103,2,FALSE)=0,\"\",VLOOKUP(Y160,'Footnotes list'!$B$5:$C$103,2,FALSE) ) )","v":""},null,null,null,null,{"$f":"IF(TRIM(AD160)=\"\", \"\", IF(VLOOKUP(AD160,'Footnotes list'!$B$5:$C$103,2,FALSE)=0,\"\",VLOOKUP(AD160,'Footnotes list'!$B$5:$C$103,2,FALSE) ) )","v":""},null,null,null,null,{"$f":"IF(TRIM(AI160)=\"\", \"\", IF(VLOOKUP(AI160,'Footnotes list'!$B$5:$C$103,2,FALSE)=0,\"\",VLOOKUP(AI160,'Footnotes list'!$B$5:$C$103,2,FALSE) ) )","v":""}]
[null,null,null,null,"FRJ","    LANGUEDOC-ROUSSILLON-MIDI-PYRÉNÉES",null,null,null,null,{"$f":"IF(TRIM(J161)=\"\", \"\", IF(VLOOKUP(J161,'Footnotes list'!$B$5:$C$103,2,FALSE)=0,\"\",VLOOKUP(J161,'Footnotes list'!$B$5:$C$103,2,FALSE) ) )","v":""},null,null,null,null,{"$f":"IF(TRIM(O161)=\"\", \"\", IF(VLOOKUP(O161,'Footnotes list'!$B$5:$C$103,2,FALSE)=0,\"\",VLOOKUP(O161,'Footnotes list'!$B$5:$C$103,2,FALSE) ) )","v":""},null,null,null,null,{"$f":"IF(TRIM(T161)=\"\", \"\", IF(VLOOKUP(T161,'Footnotes list'!$B$5:$C$103,2,FALSE)=0,\"\",VLOOKUP(T161,'Footnotes list'!$B$5:$C$103,2,FALSE) ) )","v":""},null,null,null,null,{"$f":"IF(TRIM(Y161)=\"\", \"\", IF(VLOOKUP(Y161,'Footnotes list'!$B$5:$C$103,2,FALSE)=0,\"\",VLOOKUP(Y161,'Footnotes list'!$B$5:$C$103,2,FALSE) ) )","v":""},null,null,null,null,{"$f":"IF(TRIM(AD161)=\"\", \"\", IF(VLOOKUP(AD161,'Footnotes list'!$B$5:$C$103,2,FALSE)=0,\"\",VLOOKUP(AD161,'Footnotes list'!$B$5:$C$103,2,FALSE) ) )","v":""},null,null,null,null,{"$f":"IF(TRIM(AI161)=\"\", \"\", IF(VLOOKUP(AI161,'Footnotes list'!$B$5:$C$103,2,FALSE)=0,\"\",VLOOKUP(AI161,'Footnotes list'!$B$5:$C$103,2,FALSE) ) )","v":""}]
[null,null,null,null,"FRJ1","        Languedoc-Roussillon",null,null,null,null,{"$f":"IF(TRIM(J162)=\"\", \"\", IF(VLOOKUP(J162,'Footnotes list'!$B$5:$C$103,2,FALSE)=0,\"\",VLOOKUP(J162,'Footnotes list'!$B$5:$C$103,2,FALSE) ) )","v":""},null,null,null,null,{"$f":"IF(TRIM(O162)=\"\", \"\", IF(VLOOKUP(O162,'Footnotes list'!$B$5:$C$103,2,FALSE)=0,\"\",VLOOKUP(O162,'Footnotes list'!$B$5:$C$103,2,FALSE) ) )","v":""},null,null,null,null,{"$f":"IF(TRIM(T162)=\"\", \"\", IF(VLOOKUP(T162,'Footnotes list'!$B$5:$C$103,2,FALSE)=0,\"\",VLOOKUP(T162,'Footnotes list'!$B$5:$C$103,2,FALSE) ) )","v":""},null,null,null,null,{"$f":"IF(TRIM(Y162)=\"\", \"\", IF(VLOOKUP(Y162,'Footnotes list'!$B$5:$C$103,2,FALSE)=0,\"\",VLOOKUP(Y162,'Footnotes list'!$B$5:$C$103,2,FALSE) ) )","v":""},null,null,null,null,{"$f":"IF(TRIM(AD162)=\"\", \"\", IF(VLOOKUP(AD162,'Footnotes list'!$B$5:$C$103,2,FALSE)=0,\"\",VLOOKUP(AD162,'Footnotes list'!$B$5:$C$103,2,FALSE) ) )","v":""},null,null,null,null,{"$f":"IF(TRIM(AI162)=\"\", \"\", IF(VLOOKUP(AI162,'Footnotes list'!$B$5:$C$103,2,FALSE)=0,\"\",VLOOKUP(AI162,'Footnotes list'!$B$5:$C$103,2,FALSE) ) )","v":""}]
[null,null,null,null,"FRJ2","        Midi-Pyrénées",null,null,null,null,{"$f":"IF(TRIM(J163)=\"\", \"\", IF(VLOOKUP(J163,'Footnotes list'!$B$5:$C$103,2,FALSE)=0,\"\",VLOOKUP(J163,'Footnotes list'!$B$5:$C$103,2,FALSE) ) )","v":""},null,null,null,null,{"$f":"IF(TRIM(O163)=\"\", \"\", IF(VLOOKUP(O163,'Footnotes list'!$B$5:$C$103,2,FALSE)=0,\"\",VLOOKUP(O163,'Footnotes list'!$B$5:$C$103,2,FALSE) ) )","v":""},null,null,null,null,{"$f":"IF(TRIM(T163)=\"\", \"\", IF(VLOOKUP(T163,'Footnotes list'!$B$5:$C$103,2,FALSE)=0,\"\",VLOOKUP(T163,'Footnotes list'!$B$5:$C$103,2,FALSE) ) )","v":""},null,null,null,null,{"$f":"IF(TRIM(Y163)=\"\", \"\", IF(VLOOKUP(Y163,'Footnotes list'!$B$5:$C$103,2,FALSE)=0,\"\",VLOOKUP(Y163,'Footnotes list'!$B$5:$C$103,2,FALSE) ) )","v":""},null,null,null,null,{"$f":"IF(TRIM(AD163)=\"\", \"\", IF(VLOOKUP(AD163,'Footnotes list'!$B$5:$C$103,2,FALSE)=0,\"\",VLOOKUP(AD163,'Footnotes list'!$B$5:$C$103,2,FALSE) ) )","v":""},null,null,null,null,{"$f":"IF(TRIM(AI163)=\"\", \"\", IF(VLOOKUP(AI163,'Footnotes list'!$B$5:$C$103,2,FALSE)=0,\"\",VLOOKUP(AI163,'Footnotes list'!$B$5:$C$103,2,FALSE) ) )","v":""}]
[null,null,null,null,"FRK","    AUVERGNE-RHÔNE-ALPES",null,null,null,null,{"$f":"IF(TRIM(J164)=\"\", \"\", IF(VLOOKUP(J164,'Footnotes list'!$B$5:$C$103,2,FALSE)=0,\"\",VLOOKUP(J164,'Footnotes list'!$B$5:$C$103,2,FALSE) ) )","v":""},null,null,null,null,{"$f":"IF(TRIM(O164)=\"\", \"\", IF(VLOOKUP(O164,'Footnotes list'!$B$5:$C$103,2,FALSE)=0,\"\",VLOOKUP(O164,'Footnotes list'!$B$5:$C$103,2,FALSE) ) )","v":""},null,null,null,null,{"$f":"IF(TRIM(T164)=\"\", \"\", IF(VLOOKUP(T164,'Footnotes list'!$B$5:$C$103,2,FALSE)=0,\"\",VLOOKUP(T164,'Footnotes list'!$B$5:$C$103,2,FALSE) ) )","v":""},null,null,null,null,{"$f":"IF(TRIM(Y164)=\"\", \"\", IF(VLOOKUP(Y164,'Footnotes list'!$B$5:$C$103,2,FALSE)=0,\"\",VLOOKUP(Y164,'Footnotes list'!$B$5:$C$103,2,FALSE) ) )","v":""},null,null,null,null,{"$f":"IF(TRIM(AD164)=\"\", \"\", IF(VLOOKUP(AD164,'Footnotes list'!$B$5:$C$103,2,FALSE)=0,\"\",VLOOKUP(AD164,'Footnotes list'!$B$5:$C$103,2,FALSE) ) )","v":""},null,null,null,null,{"$f":"IF(TRIM(AI164)=\"\", \"\", IF(VLOOKUP(AI164,'Footnotes list'!$B$5:$C$103,2,FALSE)=0,\"\",VLOOKUP(AI164,'Footnotes list'!$B$5:$C$103,2,FALSE) ) )","v":""}]
[null,null,null,null,"FRK1","        Auvergne",null,null,null,null,{"$f":"IF(TRIM(J165)=\"\", \"\", IF(VLOOKUP(J165,'Footnotes list'!$B$5:$C$103,2,FALSE)=0,\"\",VLOOKUP(J165,'Footnotes list'!$B$5:$C$103,2,FALSE) ) )","v":""},null,null,null,null,{"$f":"IF(TRIM(O165)=\"\", \"\", IF(VLOOKUP(O165,'Footnotes list'!$B$5:$C$103,2,FALSE)=0,\"\",VLOOKUP(O165,'Footnotes list'!$B$5:$C$103,2,FALSE) ) )","v":""},null,null,null,null,{"$f":"IF(TRIM(T165)=\"\", \"\", IF(VLOOKUP(T165,'Footnotes list'!$B$5:$C$103,2,FALSE)=0,\"\",VLOOKUP(T165,'Footnotes list'!$B$5:$C$103,2,FALSE) ) )","v":""},null,null,null,null,{"$f":"IF(TRIM(Y165)=\"\", \"\", IF(VLOOKUP(Y165,'Footnotes list'!$B$5:$C$103,2,FALSE)=0,\"\",VLOOKUP(Y165,'Footnotes list'!$B$5:$C$103,2,FALSE) ) )","v":""},null,null,null,null,{"$f":"IF(TRIM(AD165)=\"\", \"\", IF(VLOOKUP(AD165,'Footnotes list'!$B$5:$C$103,2,FALSE)=0,\"\",VLOOKUP(AD165,'Footnotes list'!$B$5:$C$103,2,FALSE) ) )","v":""},null,null,null,null,{"$f":"IF(TRIM(AI165)=\"\", \"\", IF(VLOOKUP(AI165,'Footnotes list'!$B$5:$C$103,2,FALSE)=0,\"\",VLOOKUP(AI165,'Footnotes list'!$B$5:$C$103,2,FALSE) ) )","v":""}]
[null,null,null,null,"FRK2","        Rhône-Alpes",null,null,null,null,{"$f":"IF(TRIM(J166)=\"\", \"\", IF(VLOOKUP(J166,'Footnotes list'!$B$5:$C$103,2,FALSE)=0,\"\",VLOOKUP(J166,'Footnotes list'!$B$5:$C$103,2,FALSE) ) )","v":""},null,null,null,null,{"$f":"IF(TRIM(O166)=\"\", \"\", IF(VLOOKUP(O166,'Footnotes list'!$B$5:$C$103,2,FALSE)=0,\"\",VLOOKUP(O166,'Footnotes list'!$B$5:$C$103,2,FALSE) ) )","v":""},null,null,null,null,{"$f":"IF(TRIM(T166)=\"\", \"\", IF(VLOOKUP(T166,'Footnotes list'!$B$5:$C$103,2,FALSE)=0,\"\",VLOOKUP(T166,'Footnotes list'!$B$5:$C$103,2,FALSE) ) )","v":""},null,null,null,null,{"$f":"IF(TRIM(Y166)=\"\", \"\", IF(VLOOKUP(Y166,'Footnotes list'!$B$5:$C$103,2,FALSE)=0,\"\",VLOOKUP(Y166,'Footnotes list'!$B$5:$C$103,2,FALSE) ) )","v":""},null,null,null,null,{"$f":"IF(TRIM(AD166)=\"\", \"\", IF(VLOOKUP(AD166,'Footnotes list'!$B$5:$C$103,2,FALSE)=0,\"\",VLOOKUP(AD166,'Footnotes list'!$B$5:$C$103,2,FALSE) ) )","v":""},null,null,null,null,{"$f":"IF(TRIM(AI166)=\"\", \"\", IF(VLOOKUP(AI166,'Footnotes list'!$B$5:$C$103,2,FALSE)=0,\"\",VLOOKUP(AI166,'Footnotes list'!$B$5:$C$103,2,FALSE) ) )","v":""}]
[null,null,null,null,"FRL","    PROVENCE-ALPES-CÔTE D’AZUR",null,null,null,null,{"$f":"IF(TRIM(J167)=\"\", \"\", IF(VLOOKUP(J167,'Footnotes list'!$B$5:$C$103,2,FALSE)=0,\"\",VLOOKUP(J167,'Footnotes list'!$B$5:$C$103,2,FALSE) ) )","v":""},null,null,null,null,{"$f":"IF(TRIM(O167)=\"\", \"\", IF(VLOOKUP(O167,'Footnotes list'!$B$5:$C$103,2,FALSE)=0,\"\",VLOOKUP(O167,'Footnotes list'!$B$5:$C$103,2,FALSE) ) )","v":""},null,null,null,null,{"$f":"IF(TRIM(T167)=\"\", \"\", IF(VLOOKUP(T167,'Footnotes list'!$B$5:$C$103,2,FALSE)=0,\"\",VLOOKUP(T167,'Footnotes list'!$B$5:$C$103,2,FALSE) ) )","v":""},null,null,null,null,{"$f":"IF(TRIM(Y167)=\"\", \"\", IF(VLOOKUP(Y167,'Footnotes list'!$B$5:$C$103,2,FALSE)=0,\"\",VLOOKUP(Y167,'Footnotes list'!$B$5:$C$103,2,FALSE) ) )","v":""},null,null,null,null,{"$f":"IF(TRIM(AD167)=\"\", \"\", IF(VLOOKUP(AD167,'Footnotes list'!$B$5:$C$103,2,FALSE)=0,\"\",VLOOKUP(AD167,'Footnotes list'!$B$5:$C$103,2,FALSE) ) )","v":""},null,null,null,null,{"$f":"IF(TRIM(AI167)=\"\", \"\", IF(VLOOKUP(AI167,'Footnotes list'!$B$5:$C$103,2,FALSE)=0,\"\",VLOOKUP(AI167,'Footnotes list'!$B$5:$C$103,2,FALSE) ) )","v":""}]
[null,null,null,null,"FRM","    CORSE",null,null,null,null,{"$f":"IF(TRIM(J168)=\"\", \"\", IF(VLOOKUP(J168,'Footnotes list'!$B$5:$C$103,2,FALSE)=0,\"\",VLOOKUP(J168,'Footnotes list'!$B$5:$C$103,2,FALSE) ) )","v":""},null,null,null,null,{"$f":"IF(TRIM(O168)=\"\", \"\", IF(VLOOKUP(O168,'Footnotes list'!$B$5:$C$103,2,FALSE)=0,\"\",VLOOKUP(O168,'Footnotes list'!$B$5:$C$103,2,FALSE) ) )","v":""},null,null,null,null,{"$f":"IF(TRIM(T168)=\"\", \"\", IF(VLOOKUP(T168,'Footnotes list'!$B$5:$C$103,2,FALSE)=0,\"\",VLOOKUP(T168,'Footnotes list'!$B$5:$C$103,2,FALSE) ) )","v":""},null,null,null,null,{"$f":"IF(TRIM(Y168)=\"\", \"\", IF(VLOOKUP(Y168,'Footnotes list'!$B$5:$C$103,2,FALSE)=0,\"\",VLOOKUP(Y168,'Footnotes list'!$B$5:$C$103,2,FALSE) ) )","v":""},null,null,null,null,{"$f":"IF(TRIM(AD168)=\"\", \"\", IF(VLOOKUP(AD168,'Footnotes list'!$B$5:$C$103,2,FALSE)=0,\"\",VLOOKUP(AD168,'Footnotes list'!$B$5:$C$103,2,FALSE) ) )","v":""},null,null,null,null,{"$f":"IF(TRIM(AI168)=\"\", \"\", IF(VLOOKUP(AI168,'Footnotes list'!$B$5:$C$103,2,FALSE)=0,\"\",VLOOKUP(AI168,'Footnotes list'!$B$5:$C$103,2,FALSE) ) )","v":""}]
[null,null,null,null,"FRY","    RUP FR — RÉGIONS ULTRAPÉRIPHÉRIQUES FRANÇAISES",null,null,null,null,{"$f":"IF(TRIM(J169)=\"\", \"\", IF(VLOOKUP(J169,'Footnotes list'!$B$5:$C$103,2,FALSE)=0,\"\",VLOOKUP(J169,'Footnotes list'!$B$5:$C$103,2,FALSE) ) )","v":""},null,null,null,null,{"$f":"IF(TRIM(O169)=\"\", \"\", IF(VLOOKUP(O169,'Footnotes list'!$B$5:$C$103,2,FALSE)=0,\"\",VLOOKUP(O169,'Footnotes list'!$B$5:$C$103,2,FALSE) ) )","v":""},null,null,null,null,{"$f":"IF(TRIM(T169)=\"\", \"\", IF(VLOOKUP(T169,'Footnotes list'!$B$5:$C$103,2,FALSE)=0,\"\",VLOOKUP(T169,'Footnotes list'!$B$5:$C$103,2,FALSE) ) )","v":""},null,null,null,null,{"$f":"IF(TRIM(Y169)=\"\", \"\", IF(VLOOKUP(Y169,'Footnotes list'!$B$5:$C$103,2,FALSE)=0,\"\",VLOOKUP(Y169,'Footnotes list'!$B$5:$C$103,2,FALSE) ) )","v":""},null,null,null,null,{"$f":"IF(TRIM(AD169)=\"\", \"\", IF(VLOOKUP(AD169,'Footnotes list'!$B$5:$C$103,2,FALSE)=0,\"\",VLOOKUP(AD169,'Footnotes list'!$B$5:$C$103,2,FALSE) ) )","v":""},null,null,null,null,{"$f":"IF(TRIM(AI169)=\"\", \"\", IF(VLOOKUP(AI169,'Footnotes list'!$B$5:$C$103,2,FALSE)=0,\"\",VLOOKUP(AI169,'Footnotes list'!$B$5:$C$103,2,FALSE) ) )","v":""}]
[null,null,null,null,"FRY1","        Guadeloupe",null,null,null,null,{"$f":"IF(TRIM(J170)=\"\", \"\", IF(VLOOKUP(J170,'Footnotes list'!$B$5:$C$103,2,FALSE)=0,\"\",VLOOKUP(J170,'Footnotes list'!$B$5:$C$103,2,FALSE) ) )","v":""},null,null,null,null,{"$f":"IF(TRIM(O170)=\"\", \"\", IF(VLOOKUP(O170,'Footnotes list'!$B$5:$C$103,2,FALSE)=0,\"\",VLOOKUP(O170,'Footnotes list'!$B$5:$C$103,2,FALSE) ) )","v":""},null,null,null,null,{"$f":"IF(TRIM(T170)=\"\", \"\", IF(VLOOKUP(T170,'Footnotes list'!$B$5:$C$103,2,FALSE)=0,\"\",VLOOKUP(T170,'Footnotes list'!$B$5:$C$103,2,FALSE) ) )","v":""},null,null,null,null,{"$f":"IF(TRIM(Y170)=\"\", \"\", IF(VLOOKUP(Y170,'Footnotes list'!$B$5:$C$103,2,FALSE)=0,\"\",VLOOKUP(Y170,'Footnotes list'!$B$5:$C$103,2,FALSE) ) )","v":""},null,null,null,null,{"$f":"IF(TRIM(AD170)=\"\", \"\", IF(VLOOKUP(AD170,'Footnotes list'!$B$5:$C$103,2,FALSE)=0,\"\",VLOOKUP(AD170,'Footnotes list'!$B$5:$C$103,2,FALSE) ) )","v":""},null,null,null,null,{"$f":"IF(TRIM(AI170)=\"\", \"\", IF(VLOOKUP(AI170,'Footnotes list'!$B$5:$C$103,2,FALSE)=0,\"\",VLOOKUP(AI170,'Footnotes list'!$B$5:$C$103,2,FALSE) ) )","v":""}]
[null,null,null,null,"FRY2","        Martinique",null,null,null,null,{"$f":"IF(TRIM(J171)=\"\", \"\", IF(VLOOKUP(J171,'Footnotes list'!$B$5:$C$103,2,FALSE)=0,\"\",VLOOKUP(J171,'Footnotes list'!$B$5:$C$103,2,FALSE) ) )","v":""},null,null,null,null,{"$f":"IF(TRIM(O171)=\"\", \"\", IF(VLOOKUP(O171,'Footnotes list'!$B$5:$C$103,2,FALSE)=0,\"\",VLOOKUP(O171,'Footnotes list'!$B$5:$C$103,2,FALSE) ) )","v":""},null,null,null,null,{"$f":"IF(TRIM(T171)=\"\", \"\", IF(VLOOKUP(T171,'Footnotes list'!$B$5:$C$103,2,FALSE)=0,\"\",VLOOKUP(T171,'Footnotes list'!$B$5:$C$103,2,FALSE) ) )","v":""},null,null,null,null,{"$f":"IF(TRIM(Y171)=\"\", \"\", IF(VLOOKUP(Y171,'Footnotes list'!$B$5:$C$103,2,FALSE)=0,\"\",VLOOKUP(Y171,'Footnotes list'!$B$5:$C$103,2,FALSE) ) )","v":""},null,null,null,null,{"$f":"IF(TRIM(AD171)=\"\", \"\", IF(VLOOKUP(AD171,'Footnotes list'!$B$5:$C$103,2,FALSE)=0,\"\",VLOOKUP(AD171,'Footnotes list'!$B$5:$C$103,2,FALSE) ) )","v":""},null,null,null,null,{"$f":"IF(TRIM(AI171)=\"\", \"\", IF(VLOOKUP(AI171,'Footnotes list'!$B$5:$C$103,2,FALSE)=0,\"\",VLOOKUP(AI171,'Footnotes list'!$B$5:$C$103,2,FALSE) ) )","v":""}]
[null,null,null,null,"FRY3","        Guyane",null,null,null,null,{"$f":"IF(TRIM(J172)=\"\", \"\", IF(VLOOKUP(J172,'Footnotes list'!$B$5:$C$103,2,FALSE)=0,\"\",VLOOKUP(J172,'Footnotes list'!$B$5:$C$103,2,FALSE) ) )","v":""},null,null,null,null,{"$f":"IF(TRIM(O172)=\"\", \"\", IF(VLOOKUP(O172,'Footnotes list'!$B$5:$C$103,2,FALSE)=0,\"\",VLOOKUP(O172,'Footnotes list'!$B$5:$C$103,2,FALSE) ) )","v":""},null,null,null,null,{"$f":"IF(TRIM(T172)=\"\", \"\", IF(VLOOKUP(T172,'Footnotes list'!$B$5:$C$103,2,FALSE)=0,\"\",VLOOKUP(T172,'Footnotes list'!$B$5:$C$103,2,FALSE) ) )","v":""},null,null,null,null,{"$f":"IF(TRIM(Y172)=\"\", \"\", IF(VLOOKUP(Y172,'Footnotes list'!$B$5:$C$103,2,FALSE)=0,\"\",VLOOKUP(Y172,'Footnotes list'!$B$5:$C$103,2,FALSE) ) )","v":""},null,null,null,null,{"$f":"IF(TRIM(AD172)=\"\", \"\", IF(VLOOKUP(AD172,'Footnotes list'!$B$5:$C$103,2,FALSE)=0,\"\",VLOOKUP(AD172,'Footnotes list'!$B$5:$C$103,2,FALSE) ) )","v":""},null,null,null,null,{"$f":"IF(TRIM(AI172)=\"\", \"\", IF(VLOOKUP(AI172,'Footnotes list'!$B$5:$C$103,2,FALSE)=0,\"\",VLOOKUP(AI172,'Footnotes list'!$B$5:$C$103,2,FALSE) ) )","v":""}]
[null,null,null,null,"FRY4","        La Réunion",null,null,null,null,{"$f":"IF(TRIM(J173)=\"\", \"\", IF(VLOOKUP(J173,'Footnotes list'!$B$5:$C$103,2,FALSE)=0,\"\",VLOOKUP(J173,'Footnotes list'!$B$5:$C$103,2,FALSE) ) )","v":""},null,null,null,null,{"$f":"IF(TRIM(O173)=\"\", \"\", IF(VLOOKUP(O173,'Footnotes list'!$B$5:$C$103,2,FALSE)=0,\"\",VLOOKUP(O173,'Footnotes list'!$B$5:$C$103,2,FALSE) ) )","v":""},null,null,null,null,{"$f":"IF(TRIM(T173)=\"\", \"\", IF(VLOOKUP(T173,'Footnotes list'!$B$5:$C$103,2,FALSE)=0,\"\",VLOOKUP(T173,'Footnotes list'!$B$5:$C$103,2,FALSE) ) )","v":""},null,null,null,null,{"$f":"IF(TRIM(Y173)=\"\", \"\", IF(VLOOKUP(Y173,'Footnotes list'!$B$5:$C$103,2,FALSE)=0,\"\",VLOOKUP(Y173,'Footnotes list'!$B$5:$C$103,2,FALSE) ) )","v":""},null,null,null,null,{"$f":"IF(TRIM(AD173)=\"\", \"\", IF(VLOOKUP(AD173,'Footnotes list'!$B$5:$C$103,2,FALSE)=0,\"\",VLOOKUP(AD173,'Footnotes list'!$B$5:$C$103,2,FALSE) ) )","v":""},null,null,null,null,{"$f":"IF(TRIM(AI173)=\"\", \"\", IF(VLOOKUP(AI173,'Footnotes list'!$B$5:$C$103,2,FALSE)=0,\"\",VLOOKUP(AI173,'Footnotes list'!$B$5:$C$103,2,FALSE) ) )","v":""}]
[null,null,null,null,"FRY5","        Mayotte",null,null,null,null,{"$f":"IF(TRIM(J174)=\"\", \"\", IF(VLOOKUP(J174,'Footnotes list'!$B$5:$C$103,2,FALSE)=0,\"\",VLOOKUP(J174,'Footnotes list'!$B$5:$C$103,2,FALSE) ) )","v":""},null,null,null,null,{"$f":"IF(TRIM(O174)=\"\", \"\", IF(VLOOKUP(O174,'Footnotes list'!$B$5:$C$103,2,FALSE)=0,\"\",VLOOKUP(O174,'Footnotes list'!$B$5:$C$103,2,FALSE) ) )","v":""},null,null,null,null,{"$f":"IF(TRIM(T174)=\"\", \"\", IF(VLOOKUP(T174,'Footnotes list'!$B$5:$C$103,2,FALSE)=0,\"\",VLOOKUP(T174,'Footnotes list'!$B$5:$C$103,2,FALSE) ) )","v":""},null,null,null,null,{"$f":"IF(TRIM(Y174)=\"\", \"\", IF(VLOOKUP(Y174,'Footnotes list'!$B$5:$C$103,2,FALSE)=0,\"\",VLOOKUP(Y174,'Footnotes list'!$B$5:$C$103,2,FALSE) ) )","v":""},null,null,null,null,{"$f":"IF(TRIM(AD174)=\"\", \"\", IF(VLOOKUP(AD174,'Footnotes list'!$B$5:$C$103,2,FALSE)=0,\"\",VLOOKUP(AD174,'Footnotes list'!$B$5:$C$103,2,FALSE) ) )","v":""},null,null,null,null,{"$f":"IF(TRIM(AI174)=\"\", \"\", IF(VLOOKUP(AI174,'Footnotes list'!$B$5:$C$103,2,FALSE)=0,\"\",VLOOKUP(AI174,'Footnotes list'!$B$5:$C$103,2,FALSE) ) )","v":""}]
[null,null,null,null,"HR","HRVATSKA",36,null,null,null,{"$f":"IF(TRIM(J175)=\"\", \"\", IF(VLOOKUP(J175,'Footnotes list'!$B$5:$C$103,2,FALSE)=0,\"\",VLOOKUP(J175,'Footnotes list'!$B$5:$C$103,2,FALSE) ) )","v":""},714310.5,null,null,null,{"$f":"IF(TRIM(O175)=\"\", \"\", IF(VLOOKUP(O175,'Footnotes list'!$B$5:$C$103,2,FALSE)=0,\"\",VLOOKUP(O175,'Footnotes list'!$B$5:$C$103,2,FALSE) ) )","v":""},0,null,null,null,{"$f":"IF(TRIM(T175)=\"\", \"\", IF(VLOOKUP(T175,'Footnotes list'!$B$5:$C$103,2,FALSE)=0,\"\",VLOOKUP(T175,'Footnotes list'!$B$5:$C$103,2,FALSE) ) )","v":""},0,null,null,null,{"$f":"IF(TRIM(Y175)=\"\", \"\", IF(VLOOKUP(Y175,'Footnotes list'!$B$5:$C$103,2,FALSE)=0,\"\",VLOOKUP(Y175,'Footnotes list'!$B$5:$C$103,2,FALSE) ) )","v":""},196,null,null,null,{"$f":"IF(TRIM(AD175)=\"\", \"\", IF(VLOOKUP(AD175,'Footnotes list'!$B$5:$C$103,2,FALSE)=0,\"\",VLOOKUP(AD175,'Footnotes list'!$B$5:$C$103,2,FALSE) ) )","v":""},5,null,null,null,{"$f":"IF(TRIM(AI175)=\"\", \"\", IF(VLOOKUP(AI175,'Footnotes list'!$B$5:$C$103,2,FALSE)=0,\"\",VLOOKUP(AI175,'Footnotes list'!$B$5:$C$103,2,FALSE) ) )","v":""}]
[null,null,null,"CROATIA","HR03","    Jadranska Hrvatska",6,null,null,null,{"$f":"IF(TRIM(J176)=\"\", \"\", IF(VLOOKUP(J176,'Footnotes list'!$B$5:$C$103,2,FALSE)=0,\"\",VLOOKUP(J176,'Footnotes list'!$B$5:$C$103,2,FALSE) ) )","v":""},473701,null,null,null,{"$f":"IF(TRIM(O176)=\"\", \"\", IF(VLOOKUP(O176,'Footnotes list'!$B$5:$C$103,2,FALSE)=0,\"\",VLOOKUP(O176,'Footnotes list'!$B$5:$C$103,2,FALSE) ) )","v":""},0,null,null,null,{"$f":"IF(TRIM(T176)=\"\", \"\", IF(VLOOKUP(T176,'Footnotes list'!$B$5:$C$103,2,FALSE)=0,\"\",VLOOKUP(T176,'Footnotes list'!$B$5:$C$103,2,FALSE) ) )","v":""},0,null,null,null,{"$f":"IF(TRIM(Y176)=\"\", \"\", IF(VLOOKUP(Y176,'Footnotes list'!$B$5:$C$103,2,FALSE)=0,\"\",VLOOKUP(Y176,'Footnotes list'!$B$5:$C$103,2,FALSE) ) )","v":""},36,null,null,null,{"$f":"IF(TRIM(AD176)=\"\", \"\", IF(VLOOKUP(AD176,'Footnotes list'!$B$5:$C$103,2,FALSE)=0,\"\",VLOOKUP(AD176,'Footnotes list'!$B$5:$C$103,2,FALSE) ) )","v":""},2,null,null,null,{"$f":"IF(TRIM(AI176)=\"\", \"\", IF(VLOOKUP(AI176,'Footnotes list'!$B$5:$C$103,2,FALSE)=0,\"\",VLOOKUP(AI176,'Footnotes list'!$B$5:$C$103,2,FALSE) ) )","v":""}]
[null,null,null,null,"HR04","    Kontinentalna Hrvatska",30,null,null,null,{"$f":"IF(TRIM(J177)=\"\", \"\", IF(VLOOKUP(J177,'Footnotes list'!$B$5:$C$103,2,FALSE)=0,\"\",VLOOKUP(J177,'Footnotes list'!$B$5:$C$103,2,FALSE) ) )","v":""},240609.5,null,null,null,{"$f":"IF(TRIM(O177)=\"\", \"\", IF(VLOOKUP(O177,'Footnotes list'!$B$5:$C$103,2,FALSE)=0,\"\",VLOOKUP(O177,'Footnotes list'!$B$5:$C$103,2,FALSE) ) )","v":""},0,null,null,null,{"$f":"IF(TRIM(T177)=\"\", \"\", IF(VLOOKUP(T177,'Footnotes list'!$B$5:$C$103,2,FALSE)=0,\"\",VLOOKUP(T177,'Footnotes list'!$B$5:$C$103,2,FALSE) ) )","v":""},0,null,null,null,{"$f":"IF(TRIM(Y177)=\"\", \"\", IF(VLOOKUP(Y177,'Footnotes list'!$B$5:$C$103,2,FALSE)=0,\"\",VLOOKUP(Y177,'Footnotes list'!$B$5:$C$103,2,FALSE) ) )","v":""},160,null,null,null,{"$f":"IF(TRIM(AD177)=\"\", \"\", IF(VLOOKUP(AD177,'Footnotes list'!$B$5:$C$103,2,FALSE)=0,\"\",VLOOKUP(AD177,'Footnotes list'!$B$5:$C$103,2,FALSE) ) )","v":""},3,null,null,null,{"$f":"IF(TRIM(AI177)=\"\", \"\", IF(VLOOKUP(AI177,'Footnotes list'!$B$5:$C$103,2,FALSE)=0,\"\",VLOOKUP(AI177,'Footnotes list'!$B$5:$C$103,2,FALSE) ) )","v":""}]
[null,null,null,null,"IT","ITALIA",null,null,null,null,{"$f":"IF(TRIM(J178)=\"\", \"\", IF(VLOOKUP(J178,'Footnotes list'!$B$5:$C$103,2,FALSE)=0,\"\",VLOOKUP(J178,'Footnotes list'!$B$5:$C$103,2,FALSE) ) )","v":""},null,null,null,null,{"$f":"IF(TRIM(O178)=\"\", \"\", IF(VLOOKUP(O178,'Footnotes list'!$B$5:$C$103,2,FALSE)=0,\"\",VLOOKUP(O178,'Footnotes list'!$B$5:$C$103,2,FALSE) ) )","v":""},null,null,null,null,{"$f":"IF(TRIM(T178)=\"\", \"\", IF(VLOOKUP(T178,'Footnotes list'!$B$5:$C$103,2,FALSE)=0,\"\",VLOOKUP(T178,'Footnotes list'!$B$5:$C$103,2,FALSE) ) )","v":""},null,null,null,null,{"$f":"IF(TRIM(Y178)=\"\", \"\", IF(VLOOKUP(Y178,'Footnotes list'!$B$5:$C$103,2,FALSE)=0,\"\",VLOOKUP(Y178,'Footnotes list'!$B$5:$C$103,2,FALSE) ) )","v":""},null,null,null,null,{"$f":"IF(TRIM(AD178)=\"\", \"\", IF(VLOOKUP(AD178,'Footnotes list'!$B$5:$C$103,2,FALSE)=0,\"\",VLOOKUP(AD178,'Footnotes list'!$B$5:$C$103,2,FALSE) ) )","v":""},null,null,null,null,{"$f":"IF(TRIM(AI178)=\"\", \"\", IF(VLOOKUP(AI178,'Footnotes list'!$B$5:$C$103,2,FALSE)=0,\"\",VLOOKUP(AI178,'Footnotes list'!$B$5:$C$103,2,FALSE) ) )","v":""}]
[null,null,null,null,"ITC","    NORD-OVEST",null,null,null,null,{"$f":"IF(TRIM(J179)=\"\", \"\", IF(VLOOKUP(J179,'Footnotes list'!$B$5:$C$103,2,FALSE)=0,\"\",VLOOKUP(J179,'Footnotes list'!$B$5:$C$103,2,FALSE) ) )","v":""},null,null,null,null,{"$f":"IF(TRIM(O179)=\"\", \"\", IF(VLOOKUP(O179,'Footnotes list'!$B$5:$C$103,2,FALSE)=0,\"\",VLOOKUP(O179,'Footnotes list'!$B$5:$C$103,2,FALSE) ) )","v":""},null,null,null,null,{"$f":"IF(TRIM(T179)=\"\", \"\", IF(VLOOKUP(T179,'Footnotes list'!$B$5:$C$103,2,FALSE)=0,\"\",VLOOKUP(T179,'Footnotes list'!$B$5:$C$103,2,FALSE) ) )","v":""},null,null,null,null,{"$f":"IF(TRIM(Y179)=\"\", \"\", IF(VLOOKUP(Y179,'Footnotes list'!$B$5:$C$103,2,FALSE)=0,\"\",VLOOKUP(Y179,'Footnotes list'!$B$5:$C$103,2,FALSE) ) )","v":""},null,null,null,null,{"$f":"IF(TRIM(AD179)=\"\", \"\", IF(VLOOKUP(AD179,'Footnotes list'!$B$5:$C$103,2,FALSE)=0,\"\",VLOOKUP(AD179,'Footnotes list'!$B$5:$C$103,2,FALSE) ) )","v":""},null,null,null,null,{"$f":"IF(TRIM(AI179)=\"\", \"\", IF(VLOOKUP(AI179,'Footnotes list'!$B$5:$C$103,2,FALSE)=0,\"\",VLOOKUP(AI179,'Footnotes list'!$B$5:$C$103,2,FALSE) ) )","v":""}]
[null,null,null,null,"ITC1","        Piemonte",null,null,null,null,{"$f":"IF(TRIM(J180)=\"\", \"\", IF(VLOOKUP(J180,'Footnotes list'!$B$5:$C$103,2,FALSE)=0,\"\",VLOOKUP(J180,'Footnotes list'!$B$5:$C$103,2,FALSE) ) )","v":""},null,null,null,null,{"$f":"IF(TRIM(O180)=\"\", \"\", IF(VLOOKUP(O180,'Footnotes list'!$B$5:$C$103,2,FALSE)=0,\"\",VLOOKUP(O180,'Footnotes list'!$B$5:$C$103,2,FALSE) ) )","v":""},null,null,null,null,{"$f":"IF(TRIM(T180)=\"\", \"\", IF(VLOOKUP(T180,'Footnotes list'!$B$5:$C$103,2,FALSE)=0,\"\",VLOOKUP(T180,'Footnotes list'!$B$5:$C$103,2,FALSE) ) )","v":""},null,null,null,null,{"$f":"IF(TRIM(Y180)=\"\", \"\", IF(VLOOKUP(Y180,'Footnotes list'!$B$5:$C$103,2,FALSE)=0,\"\",VLOOKUP(Y180,'Footnotes list'!$B$5:$C$103,2,FALSE) ) )","v":""},null,null,null,null,{"$f":"IF(TRIM(AD180)=\"\", \"\", IF(VLOOKUP(AD180,'Footnotes list'!$B$5:$C$103,2,FALSE)=0,\"\",VLOOKUP(AD180,'Footnotes list'!$B$5:$C$103,2,FALSE) ) )","v":""},null,null,null,null,{"$f":"IF(TRIM(AI180)=\"\", \"\", IF(VLOOKUP(AI180,'Footnotes list'!$B$5:$C$103,2,FALSE)=0,\"\",VLOOKUP(AI180,'Footnotes list'!$B$5:$C$103,2,FALSE) ) )","v":""}]
[null,null,null,null,"ITC2","        Valle d’Aosta/Vallée d’Aoste",null,null,null,null,{"$f":"IF(TRIM(J181)=\"\", \"\", IF(VLOOKUP(J181,'Footnotes list'!$B$5:$C$103,2,FALSE)=0,\"\",VLOOKUP(J181,'Footnotes list'!$B$5:$C$103,2,FALSE) ) )","v":""},null,null,null,null,{"$f":"IF(TRIM(O181)=\"\", \"\", IF(VLOOKUP(O181,'Footnotes list'!$B$5:$C$103,2,FALSE)=0,\"\",VLOOKUP(O181,'Footnotes list'!$B$5:$C$103,2,FALSE) ) )","v":""},null,null,null,null,{"$f":"IF(TRIM(T181)=\"\", \"\", IF(VLOOKUP(T181,'Footnotes list'!$B$5:$C$103,2,FALSE)=0,\"\",VLOOKUP(T181,'Footnotes list'!$B$5:$C$103,2,FALSE) ) )","v":""},null,null,null,null,{"$f":"IF(TRIM(Y181)=\"\", \"\", IF(VLOOKUP(Y181,'Footnotes list'!$B$5:$C$103,2,FALSE)=0,\"\",VLOOKUP(Y181,'Footnotes list'!$B$5:$C$103,2,FALSE) ) )","v":""},null,null,null,null,{"$f":"IF(TRIM(AD181)=\"\", \"\", IF(VLOOKUP(AD181,'Footnotes list'!$B$5:$C$103,2,FALSE)=0,\"\",VLOOKUP(AD181,'Footnotes list'!$B$5:$C$103,2,FALSE) ) )","v":""},null,null,null,null,{"$f":"IF(TRIM(AI181)=\"\", \"\", IF(VLOOKUP(AI181,'Footnotes list'!$B$5:$C$103,2,FALSE)=0,\"\",VLOOKUP(AI181,'Footnotes list'!$B$5:$C$103,2,FALSE) ) )","v":""}]
[null,null,null,null,"ITC3","        Liguria",null,null,null,null,{"$f":"IF(TRIM(J182)=\"\", \"\", IF(VLOOKUP(J182,'Footnotes list'!$B$5:$C$103,2,FALSE)=0,\"\",VLOOKUP(J182,'Footnotes list'!$B$5:$C$103,2,FALSE) ) )","v":""},null,null,null,null,{"$f":"IF(TRIM(O182)=\"\", \"\", IF(VLOOKUP(O182,'Footnotes list'!$B$5:$C$103,2,FALSE)=0,\"\",VLOOKUP(O182,'Footnotes list'!$B$5:$C$103,2,FALSE) ) )","v":""},null,null,null,null,{"$f":"IF(TRIM(T182)=\"\", \"\", IF(VLOOKUP(T182,'Footnotes list'!$B$5:$C$103,2,FALSE)=0,\"\",VLOOKUP(T182,'Footnotes list'!$B$5:$C$103,2,FALSE) ) )","v":""},null,null,null,null,{"$f":"IF(TRIM(Y182)=\"\", \"\", IF(VLOOKUP(Y182,'Footnotes list'!$B$5:$C$103,2,FALSE)=0,\"\",VLOOKUP(Y182,'Footnotes list'!$B$5:$C$103,2,FALSE) ) )","v":""},null,null,null,null,{"$f":"IF(TRIM(AD182)=\"\", \"\", IF(VLOOKUP(AD182,'Footnotes list'!$B$5:$C$103,2,FALSE)=0,\"\",VLOOKUP(AD182,'Footnotes list'!$B$5:$C$103,2,FALSE) ) )","v":""},null,null,null,null,{"$f":"IF(TRIM(AI182)=\"\", \"\", IF(VLOOKUP(AI182,'Footnotes list'!$B$5:$C$103,2,FALSE)=0,\"\",VLOOKUP(AI182,'Footnotes list'!$B$5:$C$103,2,FALSE) ) )","v":""}]
[null,null,null,null,"ITC4","        Lombardia",null,null,null,null,{"$f":"IF(TRIM(J183)=\"\", \"\", IF(VLOOKUP(J183,'Footnotes list'!$B$5:$C$103,2,FALSE)=0,\"\",VLOOKUP(J183,'Footnotes list'!$B$5:$C$103,2,FALSE) ) )","v":""},null,null,null,null,{"$f":"IF(TRIM(O183)=\"\", \"\", IF(VLOOKUP(O183,'Footnotes list'!$B$5:$C$103,2,FALSE)=0,\"\",VLOOKUP(O183,'Footnotes list'!$B$5:$C$103,2,FALSE) ) )","v":""},null,null,null,null,{"$f":"IF(TRIM(T183)=\"\", \"\", IF(VLOOKUP(T183,'Footnotes list'!$B$5:$C$103,2,FALSE)=0,\"\",VLOOKUP(T183,'Footnotes list'!$B$5:$C$103,2,FALSE) ) )","v":""},null,null,null,null,{"$f":"IF(TRIM(Y183)=\"\", \"\", IF(VLOOKUP(Y183,'Footnotes list'!$B$5:$C$103,2,FALSE)=0,\"\",VLOOKUP(Y183,'Footnotes list'!$B$5:$C$103,2,FALSE) ) )","v":""},null,null,null,null,{"$f":"IF(TRIM(AD183)=\"\", \"\", IF(VLOOKUP(AD183,'Footnotes list'!$B$5:$C$103,2,FALSE)=0,\"\",VLOOKUP(AD183,'Footnotes list'!$B$5:$C$103,2,FALSE) ) )","v":""},null,null,null,null,{"$f":"IF(TRIM(AI183)=\"\", \"\", IF(VLOOKUP(AI183,'Footnotes list'!$B$5:$C$103,2,FALSE)=0,\"\",VLOOKUP(AI183,'Footnotes list'!$B$5:$C$103,2,FALSE) ) )","v":""}]
[null,null,null,null,"ITF","    SUD",null,null,null,null,{"$f":"IF(TRIM(J184)=\"\", \"\", IF(VLOOKUP(J184,'Footnotes list'!$B$5:$C$103,2,FALSE)=0,\"\",VLOOKUP(J184,'Footnotes list'!$B$5:$C$103,2,FALSE) ) )","v":""},null,null,null,null,{"$f":"IF(TRIM(O184)=\"\", \"\", IF(VLOOKUP(O184,'Footnotes list'!$B$5:$C$103,2,FALSE)=0,\"\",VLOOKUP(O184,'Footnotes list'!$B$5:$C$103,2,FALSE) ) )","v":""},null,null,null,null,{"$f":"IF(TRIM(T184)=\"\", \"\", IF(VLOOKUP(T184,'Footnotes list'!$B$5:$C$103,2,FALSE)=0,\"\",VLOOKUP(T184,'Footnotes list'!$B$5:$C$103,2,FALSE) ) )","v":""},null,null,null,null,{"$f":"IF(TRIM(Y184)=\"\", \"\", IF(VLOOKUP(Y184,'Footnotes list'!$B$5:$C$103,2,FALSE)=0,\"\",VLOOKUP(Y184,'Footnotes list'!$B$5:$C$103,2,FALSE) ) )","v":""},null,null,null,null,{"$f":"IF(TRIM(AD184)=\"\", \"\", IF(VLOOKUP(AD184,'Footnotes list'!$B$5:$C$103,2,FALSE)=0,\"\",VLOOKUP(AD184,'Footnotes list'!$B$5:$C$103,2,FALSE) ) )","v":""},null,null,null,null,{"$f":"IF(TRIM(AI184)=\"\", \"\", IF(VLOOKUP(AI184,'Footnotes list'!$B$5:$C$103,2,FALSE)=0,\"\",VLOOKUP(AI184,'Footnotes list'!$B$5:$C$103,2,FALSE) ) )","v":""}]
[null,null,null,null,"ITF1","        Abruzzo",null,null,null,null,{"$f":"IF(TRIM(J185)=\"\", \"\", IF(VLOOKUP(J185,'Footnotes list'!$B$5:$C$103,2,FALSE)=0,\"\",VLOOKUP(J185,'Footnotes list'!$B$5:$C$103,2,FALSE) ) )","v":""},null,null,null,null,{"$f":"IF(TRIM(O185)=\"\", \"\", IF(VLOOKUP(O185,'Footnotes list'!$B$5:$C$103,2,FALSE)=0,\"\",VLOOKUP(O185,'Footnotes list'!$B$5:$C$103,2,FALSE) ) )","v":""},null,null,null,null,{"$f":"IF(TRIM(T185)=\"\", \"\", IF(VLOOKUP(T185,'Footnotes list'!$B$5:$C$103,2,FALSE)=0,\"\",VLOOKUP(T185,'Footnotes list'!$B$5:$C$103,2,FALSE) ) )","v":""},null,null,null,null,{"$f":"IF(TRIM(Y185)=\"\", \"\", IF(VLOOKUP(Y185,'Footnotes list'!$B$5:$C$103,2,FALSE)=0,\"\",VLOOKUP(Y185,'Footnotes list'!$B$5:$C$103,2,FALSE) ) )","v":""},null,null,null,null,{"$f":"IF(TRIM(AD185)=\"\", \"\", IF(VLOOKUP(AD185,'Footnotes list'!$B$5:$C$103,2,FALSE)=0,\"\",VLOOKUP(AD185,'Footnotes list'!$B$5:$C$103,2,FALSE) ) )","v":""},null,null,null,null,{"$f":"IF(TRIM(AI185)=\"\", \"\", IF(VLOOKUP(AI185,'Footnotes list'!$B$5:$C$103,2,FALSE)=0,\"\",VLOOKUP(AI185,'Footnotes list'!$B$5:$C$103,2,FALSE) ) )","v":""}]
[null,null,null,null,"ITF2","        Molise",null,null,null,null,{"$f":"IF(TRIM(J186)=\"\", \"\", IF(VLOOKUP(J186,'Footnotes list'!$B$5:$C$103,2,FALSE)=0,\"\",VLOOKUP(J186,'Footnotes list'!$B$5:$C$103,2,FALSE) ) )","v":""},null,null,null,null,{"$f":"IF(TRIM(O186)=\"\", \"\", IF(VLOOKUP(O186,'Footnotes list'!$B$5:$C$103,2,FALSE)=0,\"\",VLOOKUP(O186,'Footnotes list'!$B$5:$C$103,2,FALSE) ) )","v":""},null,null,null,null,{"$f":"IF(TRIM(T186)=\"\", \"\", IF(VLOOKUP(T186,'Footnotes list'!$B$5:$C$103,2,FALSE)=0,\"\",VLOOKUP(T186,'Footnotes list'!$B$5:$C$103,2,FALSE) ) )","v":""},null,null,null,null,{"$f":"IF(TRIM(Y186)=\"\", \"\", IF(VLOOKUP(Y186,'Footnotes list'!$B$5:$C$103,2,FALSE)=0,\"\",VLOOKUP(Y186,'Footnotes list'!$B$5:$C$103,2,FALSE) ) )","v":""},null,null,null,null,{"$f":"IF(TRIM(AD186)=\"\", \"\", IF(VLOOKUP(AD186,'Footnotes list'!$B$5:$C$103,2,FALSE)=0,\"\",VLOOKUP(AD186,'Footnotes list'!$B$5:$C$103,2,FALSE) ) )","v":""},null,null,null,null,{"$f":"IF(TRIM(AI186)=\"\", \"\", IF(VLOOKUP(AI186,'Footnotes list'!$B$5:$C$103,2,FALSE)=0,\"\",VLOOKUP(AI186,'Footnotes list'!$B$5:$C$103,2,FALSE) ) )","v":""}]
[null,null,null,null,"ITF3","        Campania",null,null,null,null,{"$f":"IF(TRIM(J187)=\"\", \"\", IF(VLOOKUP(J187,'Footnotes list'!$B$5:$C$103,2,FALSE)=0,\"\",VLOOKUP(J187,'Footnotes list'!$B$5:$C$103,2,FALSE) ) )","v":""},null,null,null,null,{"$f":"IF(TRIM(O187)=\"\", \"\", IF(VLOOKUP(O187,'Footnotes list'!$B$5:$C$103,2,FALSE)=0,\"\",VLOOKUP(O187,'Footnotes list'!$B$5:$C$103,2,FALSE) ) )","v":""},null,null,null,null,{"$f":"IF(TRIM(T187)=\"\", \"\", IF(VLOOKUP(T187,'Footnotes list'!$B$5:$C$103,2,FALSE)=0,\"\",VLOOKUP(T187,'Footnotes list'!$B$5:$C$103,2,FALSE) ) )","v":""},null,null,null,null,{"$f":"IF(TRIM(Y187)=\"\", \"\", IF(VLOOKUP(Y187,'Footnotes list'!$B$5:$C$103,2,FALSE)=0,\"\",VLOOKUP(Y187,'Footnotes list'!$B$5:$C$103,2,FALSE) ) )","v":""},null,null,null,null,{"$f":"IF(TRIM(AD187)=\"\", \"\", IF(VLOOKUP(AD187,'Footnotes list'!$B$5:$C$103,2,FALSE)=0,\"\",VLOOKUP(AD187,'Footnotes list'!$B$5:$C$103,2,FALSE) ) )","v":""},null,null,null,null,{"$f":"IF(TRIM(AI187)=\"\", \"\", IF(VLOOKUP(AI187,'Footnotes list'!$B$5:$C$103,2,FALSE)=0,\"\",VLOOKUP(AI187,'Footnotes list'!$B$5:$C$103,2,FALSE) ) )","v":""}]
[null,null,null,null,"ITF4","        Puglia",null,null,null,null,{"$f":"IF(TRIM(J188)=\"\", \"\", IF(VLOOKUP(J188,'Footnotes list'!$B$5:$C$103,2,FALSE)=0,\"\",VLOOKUP(J188,'Footnotes list'!$B$5:$C$103,2,FALSE) ) )","v":""},null,null,null,null,{"$f":"IF(TRIM(O188)=\"\", \"\", IF(VLOOKUP(O188,'Footnotes list'!$B$5:$C$103,2,FALSE)=0,\"\",VLOOKUP(O188,'Footnotes list'!$B$5:$C$103,2,FALSE) ) )","v":""},null,null,null,null,{"$f":"IF(TRIM(T188)=\"\", \"\", IF(VLOOKUP(T188,'Footnotes list'!$B$5:$C$103,2,FALSE)=0,\"\",VLOOKUP(T188,'Footnotes list'!$B$5:$C$103,2,FALSE) ) )","v":""},null,null,null,null,{"$f":"IF(TRIM(Y188)=\"\", \"\", IF(VLOOKUP(Y188,'Footnotes list'!$B$5:$C$103,2,FALSE)=0,\"\",VLOOKUP(Y188,'Footnotes list'!$B$5:$C$103,2,FALSE) ) )","v":""},null,null,null,null,{"$f":"IF(TRIM(AD188)=\"\", \"\", IF(VLOOKUP(AD188,'Footnotes list'!$B$5:$C$103,2,FALSE)=0,\"\",VLOOKUP(AD188,'Footnotes list'!$B$5:$C$103,2,FALSE) ) )","v":""},null,null,null,null,{"$f":"IF(TRIM(AI188)=\"\", \"\", IF(VLOOKUP(AI188,'Footnotes list'!$B$5:$C$103,2,FALSE)=0,\"\",VLOOKUP(AI188,'Footnotes list'!$B$5:$C$103,2,FALSE) ) )","v":""}]
[null,null,null,null,"ITF5","        Basilicata",null,null,null,null,{"$f":"IF(TRIM(J189)=\"\", \"\", IF(VLOOKUP(J189,'Footnotes list'!$B$5:$C$103,2,FALSE)=0,\"\",VLOOKUP(J189,'Footnotes list'!$B$5:$C$103,2,FALSE) ) )","v":""},null,null,null,null,{"$f":"IF(TRIM(O189)=\"\", \"\", IF(VLOOKUP(O189,'Footnotes list'!$B$5:$C$103,2,FALSE)=0,\"\",VLOOKUP(O189,'Footnotes list'!$B$5:$C$103,2,FALSE) ) )","v":""},null,null,null,null,{"$f":"IF(TRIM(T189)=\"\", \"\", IF(VLOOKUP(T189,'Footnotes list'!$B$5:$C$103,2,FALSE)=0,\"\",VLOOKUP(T189,'Footnotes list'!$B$5:$C$103,2,FALSE) ) )","v":""},null,null,null,null,{"$f":"IF(TRIM(Y189)=\"\", \"\", IF(VLOOKUP(Y189,'Footnotes list'!$B$5:$C$103,2,FALSE)=0,\"\",VLOOKUP(Y189,'Footnotes list'!$B$5:$C$103,2,FALSE) ) )","v":""},null,null,null,null,{"$f":"IF(TRIM(AD189)=\"\", \"\", IF(VLOOKUP(AD189,'Footnotes list'!$B$5:$C$103,2,FALSE)=0,\"\",VLOOKUP(AD189,'Footnotes list'!$B$5:$C$103,2,FALSE) ) )","v":""},null,null,null,null,{"$f":"IF(TRIM(AI189)=\"\", \"\", IF(VLOOKUP(AI189,'Footnotes list'!$B$5:$C$103,2,FALSE)=0,\"\",VLOOKUP(AI189,'Footnotes list'!$B$5:$C$103,2,FALSE) ) )","v":""}]
[null,null,null,null,"ITF6","        Calabria",null,null,null,null,{"$f":"IF(TRIM(J190)=\"\", \"\", IF(VLOOKUP(J190,'Footnotes list'!$B$5:$C$103,2,FALSE)=0,\"\",VLOOKUP(J190,'Footnotes list'!$B$5:$C$103,2,FALSE) ) )","v":""},null,null,null,null,{"$f":"IF(TRIM(O190)=\"\", \"\", IF(VLOOKUP(O190,'Footnotes list'!$B$5:$C$103,2,FALSE)=0,\"\",VLOOKUP(O190,'Footnotes list'!$B$5:$C$103,2,FALSE) ) )","v":""},null,null,null,null,{"$f":"IF(TRIM(T190)=\"\", \"\", IF(VLOOKUP(T190,'Footnotes list'!$B$5:$C$103,2,FALSE)=0,\"\",VLOOKUP(T190,'Footnotes list'!$B$5:$C$103,2,FALSE) ) )","v":""},null,null,null,null,{"$f":"IF(TRIM(Y190)=\"\", \"\", IF(VLOOKUP(Y190,'Footnotes list'!$B$5:$C$103,2,FALSE)=0,\"\",VLOOKUP(Y190,'Footnotes list'!$B$5:$C$103,2,FALSE) ) )","v":""},null,null,null,null,{"$f":"IF(TRIM(AD190)=\"\", \"\", IF(VLOOKUP(AD190,'Footnotes list'!$B$5:$C$103,2,FALSE)=0,\"\",VLOOKUP(AD190,'Footnotes list'!$B$5:$C$103,2,FALSE) ) )","v":""},null,null,null,null,{"$f":"IF(TRIM(AI190)=\"\", \"\", IF(VLOOKUP(AI190,'Footnotes list'!$B$5:$C$103,2,FALSE)=0,\"\",VLOOKUP(AI190,'Footnotes list'!$B$5:$C$103,2,FALSE) ) )","v":""}]
[null,null,null,"ITALY","ITG","    ISOLE",null,null,null,null,{"$f":"IF(TRIM(J191)=\"\", \"\", IF(VLOOKUP(J191,'Footnotes list'!$B$5:$C$103,2,FALSE)=0,\"\",VLOOKUP(J191,'Footnotes list'!$B$5:$C$103,2,FALSE) ) )","v":""},null,null,null,null,{"$f":"IF(TRIM(O191)=\"\", \"\", IF(VLOOKUP(O191,'Footnotes list'!$B$5:$C$103,2,FALSE)=0,\"\",VLOOKUP(O191,'Footnotes list'!$B$5:$C$103,2,FALSE) ) )","v":""},null,null,null,null,{"$f":"IF(TRIM(T191)=\"\", \"\", IF(VLOOKUP(T191,'Footnotes list'!$B$5:$C$103,2,FALSE)=0,\"\",VLOOKUP(T191,'Footnotes list'!$B$5:$C$103,2,FALSE) ) )","v":""},null,null,null,null,{"$f":"IF(TRIM(Y191)=\"\", \"\", IF(VLOOKUP(Y191,'Footnotes list'!$B$5:$C$103,2,FALSE)=0,\"\",VLOOKUP(Y191,'Footnotes list'!$B$5:$C$103,2,FALSE) ) )","v":""},null,null,null,null,{"$f":"IF(TRIM(AD191)=\"\", \"\", IF(VLOOKUP(AD191,'Footnotes list'!$B$5:$C$103,2,FALSE)=0,\"\",VLOOKUP(AD191,'Footnotes list'!$B$5:$C$103,2,FALSE) ) )","v":""},null,null,null,null,{"$f":"IF(TRIM(AI191)=\"\", \"\", IF(VLOOKUP(AI191,'Footnotes list'!$B$5:$C$103,2,FALSE)=0,\"\",VLOOKUP(AI191,'Footnotes list'!$B$5:$C$103,2,FALSE) ) )","v":""}]
[null,null,null,null,"ITG1","        Sicilia",null,null,null,null,{"$f":"IF(TRIM(J192)=\"\", \"\", IF(VLOOKUP(J192,'Footnotes list'!$B$5:$C$103,2,FALSE)=0,\"\",VLOOKUP(J192,'Footnotes list'!$B$5:$C$103,2,FALSE) ) )","v":""},null,null,null,null,{"$f":"IF(TRIM(O192)=\"\", \"\", IF(VLOOKUP(O192,'Footnotes list'!$B$5:$C$103,2,FALSE)=0,\"\",VLOOKUP(O192,'Footnotes list'!$B$5:$C$103,2,FALSE) ) )","v":""},null,null,null,null,{"$f":"IF(TRIM(T192)=\"\", \"\", IF(VLOOKUP(T192,'Footnotes list'!$B$5:$C$103,2,FALSE)=0,\"\",VLOOKUP(T192,'Footnotes list'!$B$5:$C$103,2,FALSE) ) )","v":""},null,null,null,null,{"$f":"IF(TRIM(Y192)=\"\", \"\", IF(VLOOKUP(Y192,'Footnotes list'!$B$5:$C$103,2,FALSE)=0,\"\",VLOOKUP(Y192,'Footnotes list'!$B$5:$C$103,2,FALSE) ) )","v":""},null,null,null,null,{"$f":"IF(TRIM(AD192)=\"\", \"\", IF(VLOOKUP(AD192,'Footnotes list'!$B$5:$C$103,2,FALSE)=0,\"\",VLOOKUP(AD192,'Footnotes list'!$B$5:$C$103,2,FALSE) ) )","v":""},null,null,null,null,{"$f":"IF(TRIM(AI192)=\"\", \"\", IF(VLOOKUP(AI192,'Footnotes list'!$B$5:$C$103,2,FALSE)=0,\"\",VLOOKUP(AI192,'Footnotes list'!$B$5:$C$103,2,FALSE) ) )","v":""}]
[null,null,null,null,"ITG2","        Sardegna",null,null,null,null,{"$f":"IF(TRIM(J193)=\"\", \"\", IF(VLOOKUP(J193,'Footnotes list'!$B$5:$C$103,2,FALSE)=0,\"\",VLOOKUP(J193,'Footnotes list'!$B$5:$C$103,2,FALSE) ) )","v":""},null,null,null,null,{"$f":"IF(TRIM(O193)=\"\", \"\", IF(VLOOKUP(O193,'Footnotes list'!$B$5:$C$103,2,FALSE)=0,\"\",VLOOKUP(O193,'Footnotes list'!$B$5:$C$103,2,FALSE) ) )","v":""},null,null,null,null,{"$f":"IF(TRIM(T193)=\"\", \"\", IF(VLOOKUP(T193,'Footnotes list'!$B$5:$C$103,2,FALSE)=0,\"\",VLOOKUP(T193,'Footnotes list'!$B$5:$C$103,2,FALSE) ) )","v":""},null,null,null,null,{"$f":"IF(TRIM(Y193)=\"\", \"\", IF(VLOOKUP(Y193,'Footnotes list'!$B$5:$C$103,2,FALSE)=0,\"\",VLOOKUP(Y193,'Footnotes list'!$B$5:$C$103,2,FALSE) ) )","v":""},null,null,null,null,{"$f":"IF(TRIM(AD193)=\"\", \"\", IF(VLOOKUP(AD193,'Footnotes list'!$B$5:$C$103,2,FALSE)=0,\"\",VLOOKUP(AD193,'Footnotes list'!$B$5:$C$103,2,FALSE) ) )","v":""},null,null,null,null,{"$f":"IF(TRIM(AI193)=\"\", \"\", IF(VLOOKUP(AI193,'Footnotes list'!$B$5:$C$103,2,FALSE)=0,\"\",VLOOKUP(AI193,'Footnotes list'!$B$5:$C$103,2,FALSE) ) )","v":""}]
[null,null,null,null,"ITH","    NORD-EST",null,null,null,null,{"$f":"IF(TRIM(J194)=\"\", \"\", IF(VLOOKUP(J194,'Footnotes list'!$B$5:$C$103,2,FALSE)=0,\"\",VLOOKUP(J194,'Footnotes list'!$B$5:$C$103,2,FALSE) ) )","v":""},null,null,null,null,{"$f":"IF(TRIM(O194)=\"\", \"\", IF(VLOOKUP(O194,'Footnotes list'!$B$5:$C$103,2,FALSE)=0,\"\",VLOOKUP(O194,'Footnotes list'!$B$5:$C$103,2,FALSE) ) )","v":""},null,null,null,null,{"$f":"IF(TRIM(T194)=\"\", \"\", IF(VLOOKUP(T194,'Footnotes list'!$B$5:$C$103,2,FALSE)=0,\"\",VLOOKUP(T194,'Footnotes list'!$B$5:$C$103,2,FALSE) ) )","v":""},null,null,null,null,{"$f":"IF(TRIM(Y194)=\"\", \"\", IF(VLOOKUP(Y194,'Footnotes list'!$B$5:$C$103,2,FALSE)=0,\"\",VLOOKUP(Y194,'Footnotes list'!$B$5:$C$103,2,FALSE) ) )","v":""},null,null,null,null,{"$f":"IF(TRIM(AD194)=\"\", \"\", IF(VLOOKUP(AD194,'Footnotes list'!$B$5:$C$103,2,FALSE)=0,\"\",VLOOKUP(AD194,'Footnotes list'!$B$5:$C$103,2,FALSE) ) )","v":""},null,null,null,null,{"$f":"IF(TRIM(AI194)=\"\", \"\", IF(VLOOKUP(AI194,'Footnotes list'!$B$5:$C$103,2,FALSE)=0,\"\",VLOOKUP(AI194,'Footnotes list'!$B$5:$C$103,2,FALSE) ) )","v":""}]
[null,null,null,null,"ITH1","        Provincia Autonoma di Bolzano/Bozen",null,null,null,null,{"$f":"IF(TRIM(J195)=\"\", \"\", IF(VLOOKUP(J195,'Footnotes list'!$B$5:$C$103,2,FALSE)=0,\"\",VLOOKUP(J195,'Footnotes list'!$B$5:$C$103,2,FALSE) ) )","v":""},null,null,null,null,{"$f":"IF(TRIM(O195)=\"\", \"\", IF(VLOOKUP(O195,'Footnotes list'!$B$5:$C$103,2,FALSE)=0,\"\",VLOOKUP(O195,'Footnotes list'!$B$5:$C$103,2,FALSE) ) )","v":""},null,null,null,null,{"$f":"IF(TRIM(T195)=\"\", \"\", IF(VLOOKUP(T195,'Footnotes list'!$B$5:$C$103,2,FALSE)=0,\"\",VLOOKUP(T195,'Footnotes list'!$B$5:$C$103,2,FALSE) ) )","v":""},null,null,null,null,{"$f":"IF(TRIM(Y195)=\"\", \"\", IF(VLOOKUP(Y195,'Footnotes list'!$B$5:$C$103,2,FALSE)=0,\"\",VLOOKUP(Y195,'Footnotes list'!$B$5:$C$103,2,FALSE) ) )","v":""},null,null,null,null,{"$f":"IF(TRIM(AD195)=\"\", \"\", IF(VLOOKUP(AD195,'Footnotes list'!$B$5:$C$103,2,FALSE)=0,\"\",VLOOKUP(AD195,'Footnotes list'!$B$5:$C$103,2,FALSE) ) )","v":""},null,null,null,null,{"$f":"IF(TRIM(AI195)=\"\", \"\", IF(VLOOKUP(AI195,'Footnotes list'!$B$5:$C$103,2,FALSE)=0,\"\",VLOOKUP(AI195,'Footnotes list'!$B$5:$C$103,2,FALSE) ) )","v":""}]
[null,null,null,null,"ITH2","        Provincia Autonoma di Trento",null,null,null,null,{"$f":"IF(TRIM(J196)=\"\", \"\", IF(VLOOKUP(J196,'Footnotes list'!$B$5:$C$103,2,FALSE)=0,\"\",VLOOKUP(J196,'Footnotes list'!$B$5:$C$103,2,FALSE) ) )","v":""},null,null,null,null,{"$f":"IF(TRIM(O196)=\"\", \"\", IF(VLOOKUP(O196,'Footnotes list'!$B$5:$C$103,2,FALSE)=0,\"\",VLOOKUP(O196,'Footnotes list'!$B$5:$C$103,2,FALSE) ) )","v":""},null,null,null,null,{"$f":"IF(TRIM(T196)=\"\", \"\", IF(VLOOKUP(T196,'Footnotes list'!$B$5:$C$103,2,FALSE)=0,\"\",VLOOKUP(T196,'Footnotes list'!$B$5:$C$103,2,FALSE) ) )","v":""},null,null,null,null,{"$f":"IF(TRIM(Y196)=\"\", \"\", IF(VLOOKUP(Y196,'Footnotes list'!$B$5:$C$103,2,FALSE)=0,\"\",VLOOKUP(Y196,'Footnotes list'!$B$5:$C$103,2,FALSE) ) )","v":""},null,null,null,null,{"$f":"IF(TRIM(AD196)=\"\", \"\", IF(VLOOKUP(AD196,'Footnotes list'!$B$5:$C$103,2,FALSE)=0,\"\",VLOOKUP(AD196,'Footnotes list'!$B$5:$C$103,2,FALSE) ) )","v":""},null,null,null,null,{"$f":"IF(TRIM(AI196)=\"\", \"\", IF(VLOOKUP(AI196,'Footnotes list'!$B$5:$C$103,2,FALSE)=0,\"\",VLOOKUP(AI196,'Footnotes list'!$B$5:$C$103,2,FALSE) ) )","v":""}]
[null,null,null,null,"ITH3","        Veneto",null,null,null,null,{"$f":"IF(TRIM(J197)=\"\", \"\", IF(VLOOKUP(J197,'Footnotes list'!$B$5:$C$103,2,FALSE)=0,\"\",VLOOKUP(J197,'Footnotes list'!$B$5:$C$103,2,FALSE) ) )","v":""},null,null,null,null,{"$f":"IF(TRIM(O197)=\"\", \"\", IF(VLOOKUP(O197,'Footnotes list'!$B$5:$C$103,2,FALSE)=0,\"\",VLOOKUP(O197,'Footnotes list'!$B$5:$C$103,2,FALSE) ) )","v":""},null,null,null,null,{"$f":"IF(TRIM(T197)=\"\", \"\", IF(VLOOKUP(T197,'Footnotes list'!$B$5:$C$103,2,FALSE)=0,\"\",VLOOKUP(T197,'Footnotes list'!$B$5:$C$103,2,FALSE) ) )","v":""},null,null,null,null,{"$f":"IF(TRIM(Y197)=\"\", \"\", IF(VLOOKUP(Y197,'Footnotes list'!$B$5:$C$103,2,FALSE)=0,\"\",VLOOKUP(Y197,'Footnotes list'!$B$5:$C$103,2,FALSE) ) )","v":""},null,null,null,null,{"$f":"IF(TRIM(AD197)=\"\", \"\", IF(VLOOKUP(AD197,'Footnotes list'!$B$5:$C$103,2,FALSE)=0,\"\",VLOOKUP(AD197,'Footnotes list'!$B$5:$C$103,2,FALSE) ) )","v":""},null,null,null,null,{"$f":"IF(TRIM(AI197)=\"\", \"\", IF(VLOOKUP(AI197,'Footnotes list'!$B$5:$C$103,2,FALSE)=0,\"\",VLOOKUP(AI197,'Footnotes list'!$B$5:$C$103,2,FALSE) ) )","v":""}]
[null,null,null,null,"ITH4","        Friuli-Venezia Giulia",null,null,null,null,{"$f":"IF(TRIM(J198)=\"\", \"\", IF(VLOOKUP(J198,'Footnotes list'!$B$5:$C$103,2,FALSE)=0,\"\",VLOOKUP(J198,'Footnotes list'!$B$5:$C$103,2,FALSE) ) )","v":""},null,null,null,null,{"$f":"IF(TRIM(O198)=\"\", \"\", IF(VLOOKUP(O198,'Footnotes list'!$B$5:$C$103,2,FALSE)=0,\"\",VLOOKUP(O198,'Footnotes list'!$B$5:$C$103,2,FALSE) ) )","v":""},null,null,null,null,{"$f":"IF(TRIM(T198)=\"\", \"\", IF(VLOOKUP(T198,'Footnotes list'!$B$5:$C$103,2,FALSE)=0,\"\",VLOOKUP(T198,'Footnotes list'!$B$5:$C$103,2,FALSE) ) )","v":""},null,null,null,null,{"$f":"IF(TRIM(Y198)=\"\", \"\", IF(VLOOKUP(Y198,'Footnotes list'!$B$5:$C$103,2,FALSE)=0,\"\",VLOOKUP(Y198,'Footnotes list'!$B$5:$C$103,2,FALSE) ) )","v":""},null,null,null,null,{"$f":"IF(TRIM(AD198)=\"\", \"\", IF(VLOOKUP(AD198,'Footnotes list'!$B$5:$C$103,2,FALSE)=0,\"\",VLOOKUP(AD198,'Footnotes list'!$B$5:$C$103,2,FALSE) ) )","v":""},null,null,null,null,{"$f":"IF(TRIM(AI198)=\"\", \"\", IF(VLOOKUP(AI198,'Footnotes list'!$B$5:$C$103,2,FALSE)=0,\"\",VLOOKUP(AI198,'Footnotes list'!$B$5:$C$103,2,FALSE) ) )","v":""}]
[null,null,null,null,"ITH5","        Emilia-Romagna",null,null,null,null,{"$f":"IF(TRIM(J199)=\"\", \"\", IF(VLOOKUP(J199,'Footnotes list'!$B$5:$C$103,2,FALSE)=0,\"\",VLOOKUP(J199,'Footnotes list'!$B$5:$C$103,2,FALSE) ) )","v":""},null,null,null,null,{"$f":"IF(TRIM(O199)=\"\", \"\", IF(VLOOKUP(O199,'Footnotes list'!$B$5:$C$103,2,FALSE)=0,\"\",VLOOKUP(O199,'Footnotes list'!$B$5:$C$103,2,FALSE) ) )","v":""},null,null,null,null,{"$f":"IF(TRIM(T199)=\"\", \"\", IF(VLOOKUP(T199,'Footnotes list'!$B$5:$C$103,2,FALSE)=0,\"\",VLOOKUP(T199,'Footnotes list'!$B$5:$C$103,2,FALSE) ) )","v":""},null,null,null,null,{"$f":"IF(TRIM(Y199)=\"\", \"\", IF(VLOOKUP(Y199,'Footnotes list'!$B$5:$C$103,2,FALSE)=0,\"\",VLOOKUP(Y199,'Footnotes list'!$B$5:$C$103,2,FALSE) ) )","v":""},null,null,null,null,{"$f":"IF(TRIM(AD199)=\"\", \"\", IF(VLOOKUP(AD199,'Footnotes list'!$B$5:$C$103,2,FALSE)=0,\"\",VLOOKUP(AD199,'Footnotes list'!$B$5:$C$103,2,FALSE) ) )","v":""},null,null,null,null,{"$f":"IF(TRIM(AI199)=\"\", \"\", IF(VLOOKUP(AI199,'Footnotes list'!$B$5:$C$103,2,FALSE)=0,\"\",VLOOKUP(AI199,'Footnotes list'!$B$5:$C$103,2,FALSE) ) )","v":""}]
[null,null,null,null,"ITI","    CENTRO (IT)",null,null,null,null,{"$f":"IF(TRIM(J200)=\"\", \"\", IF(VLOOKUP(J200,'Footnotes list'!$B$5:$C$103,2,FALSE)=0,\"\",VLOOKUP(J200,'Footnotes list'!$B$5:$C$103,2,FALSE) ) )","v":""},null,null,null,null,{"$f":"IF(TRIM(O200)=\"\", \"\", IF(VLOOKUP(O200,'Footnotes list'!$B$5:$C$103,2,FALSE)=0,\"\",VLOOKUP(O200,'Footnotes list'!$B$5:$C$103,2,FALSE) ) )","v":""},null,null,null,null,{"$f":"IF(TRIM(T200)=\"\", \"\", IF(VLOOKUP(T200,'Footnotes list'!$B$5:$C$103,2,FALSE)=0,\"\",VLOOKUP(T200,'Footnotes list'!$B$5:$C$103,2,FALSE) ) )","v":""},null,null,null,null,{"$f":"IF(TRIM(Y200)=\"\", \"\", IF(VLOOKUP(Y200,'Footnotes list'!$B$5:$C$103,2,FALSE)=0,\"\",VLOOKUP(Y200,'Footnotes list'!$B$5:$C$103,2,FALSE) ) )","v":""},null,null,null,null,{"$f":"IF(TRIM(AD200)=\"\", \"\", IF(VLOOKUP(AD200,'Footnotes list'!$B$5:$C$103,2,FALSE)=0,\"\",VLOOKUP(AD200,'Footnotes list'!$B$5:$C$103,2,FALSE) ) )","v":""},null,null,null,null,{"$f":"IF(TRIM(AI200)=\"\", \"\", IF(VLOOKUP(AI200,'Footnotes list'!$B$5:$C$103,2,FALSE)=0,\"\",VLOOKUP(AI200,'Footnotes list'!$B$5:$C$103,2,FALSE) ) )","v":""}]
[null,null,null,null,"ITI1","        Toscana",null,null,null,null,{"$f":"IF(TRIM(J201)=\"\", \"\", IF(VLOOKUP(J201,'Footnotes list'!$B$5:$C$103,2,FALSE)=0,\"\",VLOOKUP(J201,'Footnotes list'!$B$5:$C$103,2,FALSE) ) )","v":""},null,null,null,null,{"$f":"IF(TRIM(O201)=\"\", \"\", IF(VLOOKUP(O201,'Footnotes list'!$B$5:$C$103,2,FALSE)=0,\"\",VLOOKUP(O201,'Footnotes list'!$B$5:$C$103,2,FALSE) ) )","v":""},null,null,null,null,{"$f":"IF(TRIM(T201)=\"\", \"\", IF(VLOOKUP(T201,'Footnotes list'!$B$5:$C$103,2,FALSE)=0,\"\",VLOOKUP(T201,'Footnotes list'!$B$5:$C$103,2,FALSE) ) )","v":""},null,null,null,null,{"$f":"IF(TRIM(Y201)=\"\", \"\", IF(VLOOKUP(Y201,'Footnotes list'!$B$5:$C$103,2,FALSE)=0,\"\",VLOOKUP(Y201,'Footnotes list'!$B$5:$C$103,2,FALSE) ) )","v":""},null,null,null,null,{"$f":"IF(TRIM(AD201)=\"\", \"\", IF(VLOOKUP(AD201,'Footnotes list'!$B$5:$C$103,2,FALSE)=0,\"\",VLOOKUP(AD201,'Footnotes list'!$B$5:$C$103,2,FALSE) ) )","v":""},null,null,null,null,{"$f":"IF(TRIM(AI201)=\"\", \"\", IF(VLOOKUP(AI201,'Footnotes list'!$B$5:$C$103,2,FALSE)=0,\"\",VLOOKUP(AI201,'Footnotes list'!$B$5:$C$103,2,FALSE) ) )","v":""}]
[null,null,null,null,"ITI2","        Umbria",null,null,null,null,{"$f":"IF(TRIM(J202)=\"\", \"\", IF(VLOOKUP(J202,'Footnotes list'!$B$5:$C$103,2,FALSE)=0,\"\",VLOOKUP(J202,'Footnotes list'!$B$5:$C$103,2,FALSE) ) )","v":""},null,null,null,null,{"$f":"IF(TRIM(O202)=\"\", \"\", IF(VLOOKUP(O202,'Footnotes list'!$B$5:$C$103,2,FALSE)=0,\"\",VLOOKUP(O202,'Footnotes list'!$B$5:$C$103,2,FALSE) ) )","v":""},null,null,null,null,{"$f":"IF(TRIM(T202)=\"\", \"\", IF(VLOOKUP(T202,'Footnotes list'!$B$5:$C$103,2,FALSE)=0,\"\",VLOOKUP(T202,'Footnotes list'!$B$5:$C$103,2,FALSE) ) )","v":""},null,null,null,null,{"$f":"IF(TRIM(Y202)=\"\", \"\", IF(VLOOKUP(Y202,'Footnotes list'!$B$5:$C$103,2,FALSE)=0,\"\",VLOOKUP(Y202,'Footnotes list'!$B$5:$C$103,2,FALSE) ) )","v":""},null,null,null,null,{"$f":"IF(TRIM(AD202)=\"\", \"\", IF(VLOOKUP(AD202,'Footnotes list'!$B$5:$C$103,2,FALSE)=0,\"\",VLOOKUP(AD202,'Footnotes list'!$B$5:$C$103,2,FALSE) ) )","v":""},null,null,null,null,{"$f":"IF(TRIM(AI202)=\"\", \"\", IF(VLOOKUP(AI202,'Footnotes list'!$B$5:$C$103,2,FALSE)=0,\"\",VLOOKUP(AI202,'Footnotes list'!$B$5:$C$103,2,FALSE) ) )","v":""}]
[null,null,null,null,"ITI3","        Marche",null,null,null,null,{"$f":"IF(TRIM(J203)=\"\", \"\", IF(VLOOKUP(J203,'Footnotes list'!$B$5:$C$103,2,FALSE)=0,\"\",VLOOKUP(J203,'Footnotes list'!$B$5:$C$103,2,FALSE) ) )","v":""},null,null,null,null,{"$f":"IF(TRIM(O203)=\"\", \"\", IF(VLOOKUP(O203,'Footnotes list'!$B$5:$C$103,2,FALSE)=0,\"\",VLOOKUP(O203,'Footnotes list'!$B$5:$C$103,2,FALSE) ) )","v":""},null,null,null,null,{"$f":"IF(TRIM(T203)=\"\", \"\", IF(VLOOKUP(T203,'Footnotes list'!$B$5:$C$103,2,FALSE)=0,\"\",VLOOKUP(T203,'Footnotes list'!$B$5:$C$103,2,FALSE) ) )","v":""},null,null,null,null,{"$f":"IF(TRIM(Y203)=\"\", \"\", IF(VLOOKUP(Y203,'Footnotes list'!$B$5:$C$103,2,FALSE)=0,\"\",VLOOKUP(Y203,'Footnotes list'!$B$5:$C$103,2,FALSE) ) )","v":""},null,null,null,null,{"$f":"IF(TRIM(AD203)=\"\", \"\", IF(VLOOKUP(AD203,'Footnotes list'!$B$5:$C$103,2,FALSE)=0,\"\",VLOOKUP(AD203,'Footnotes list'!$B$5:$C$103,2,FALSE) ) )","v":""},null,null,null,null,{"$f":"IF(TRIM(AI203)=\"\", \"\", IF(VLOOKUP(AI203,'Footnotes list'!$B$5:$C$103,2,FALSE)=0,\"\",VLOOKUP(AI203,'Footnotes list'!$B$5:$C$103,2,FALSE) ) )","v":""}]
[null,null,null,null,"ITI4","        Lazio",null,null,null,null,{"$f":"IF(TRIM(J204)=\"\", \"\", IF(VLOOKUP(J204,'Footnotes list'!$B$5:$C$103,2,FALSE)=0,\"\",VLOOKUP(J204,'Footnotes list'!$B$5:$C$103,2,FALSE) ) )","v":""},null,null,null,null,{"$f":"IF(TRIM(O204)=\"\", \"\", IF(VLOOKUP(O204,'Footnotes list'!$B$5:$C$103,2,FALSE)=0,\"\",VLOOKUP(O204,'Footnotes list'!$B$5:$C$103,2,FALSE) ) )","v":""},null,null,null,null,{"$f":"IF(TRIM(T204)=\"\", \"\", IF(VLOOKUP(T204,'Footnotes list'!$B$5:$C$103,2,FALSE)=0,\"\",VLOOKUP(T204,'Footnotes list'!$B$5:$C$103,2,FALSE) ) )","v":""},null,null,null,null,{"$f":"IF(TRIM(Y204)=\"\", \"\", IF(VLOOKUP(Y204,'Footnotes list'!$B$5:$C$103,2,FALSE)=0,\"\",VLOOKUP(Y204,'Footnotes list'!$B$5:$C$103,2,FALSE) ) )","v":""},null,null,null,null,{"$f":"IF(TRIM(AD204)=\"\", \"\", IF(VLOOKUP(AD204,'Footnotes list'!$B$5:$C$103,2,FALSE)=0,\"\",VLOOKUP(AD204,'Footnotes list'!$B$5:$C$103,2,FALSE) ) )","v":""},null,null,null,null,{"$f":"IF(TRIM(AI204)=\"\", \"\", IF(VLOOKUP(AI204,'Footnotes list'!$B$5:$C$103,2,FALSE)=0,\"\",VLOOKUP(AI204,'Footnotes list'!$B$5:$C$103,2,FALSE) ) )","v":""}]
[null,null,null,"CYPRUS","CY","ΚΥΠΡΟΣ",null,null,null,null,{"$f":"IF(TRIM(J205)=\"\", \"\", IF(VLOOKUP(J205,'Footnotes list'!$B$5:$C$103,2,FALSE)=0,\"\",VLOOKUP(J205,'Footnotes list'!$B$5:$C$103,2,FALSE) ) )","v":""},null,null,null,null,{"$f":"IF(TRIM(O205)=\"\", \"\", IF(VLOOKUP(O205,'Footnotes list'!$B$5:$C$103,2,FALSE)=0,\"\",VLOOKUP(O205,'Footnotes list'!$B$5:$C$103,2,FALSE) ) )","v":""},null,null,null,null,{"$f":"IF(TRIM(T205)=\"\", \"\", IF(VLOOKUP(T205,'Footnotes list'!$B$5:$C$103,2,FALSE)=0,\"\",VLOOKUP(T205,'Footnotes list'!$B$5:$C$103,2,FALSE) ) )","v":""},null,null,null,null,{"$f":"IF(TRIM(Y205)=\"\", \"\", IF(VLOOKUP(Y205,'Footnotes list'!$B$5:$C$103,2,FALSE)=0,\"\",VLOOKUP(Y205,'Footnotes list'!$B$5:$C$103,2,FALSE) ) )","v":""},null,null,null,null,{"$f":"IF(TRIM(AD205)=\"\", \"\", IF(VLOOKUP(AD205,'Footnotes list'!$B$5:$C$103,2,FALSE)=0,\"\",VLOOKUP(AD205,'Footnotes list'!$B$5:$C$103,2,FALSE) ) )","v":""},null,null,null,null,{"$f":"IF(TRIM(AI205)=\"\", \"\", IF(VLOOKUP(AI205,'Footnotes list'!$B$5:$C$103,2,FALSE)=0,\"\",VLOOKUP(AI205,'Footnotes list'!$B$5:$C$103,2,FALSE) ) )","v":""}]
[null,null,null,"LATVIA","LV","LATVIJA",null,null,null,null,{"$f":"IF(TRIM(J206)=\"\", \"\", IF(VLOOKUP(J206,'Footnotes list'!$B$5:$C$103,2,FALSE)=0,\"\",VLOOKUP(J206,'Footnotes list'!$B$5:$C$103,2,FALSE) ) )","v":""},null,null,null,null,{"$f":"IF(TRIM(O206)=\"\", \"\", IF(VLOOKUP(O206,'Footnotes list'!$B$5:$C$103,2,FALSE)=0,\"\",VLOOKUP(O206,'Footnotes list'!$B$5:$C$103,2,FALSE) ) )","v":""},null,null,null,null,{"$f":"IF(TRIM(T206)=\"\", \"\", IF(VLOOKUP(T206,'Footnotes list'!$B$5:$C$103,2,FALSE)=0,\"\",VLOOKUP(T206,'Footnotes list'!$B$5:$C$103,2,FALSE) ) )","v":""},null,null,null,null,{"$f":"IF(TRIM(Y206)=\"\", \"\", IF(VLOOKUP(Y206,'Footnotes list'!$B$5:$C$103,2,FALSE)=0,\"\",VLOOKUP(Y206,'Footnotes list'!$B$5:$C$103,2,FALSE) ) )","v":""},null,null,null,null,{"$f":"IF(TRIM(AD206)=\"\", \"\", IF(VLOOKUP(AD206,'Footnotes list'!$B$5:$C$103,2,FALSE)=0,\"\",VLOOKUP(AD206,'Footnotes list'!$B$5:$C$103,2,FALSE) ) )","v":""},null,null,null,null,{"$f":"IF(TRIM(AI206)=\"\", \"\", IF(VLOOKUP(AI206,'Footnotes list'!$B$5:$C$103,2,FALSE)=0,\"\",VLOOKUP(AI206,'Footnotes list'!$B$5:$C$103,2,FALSE) ) )","v":""}]
[null,null,null,null,"LT","LIETUVA",null,null,null,null,{"$f":"IF(TRIM(J207)=\"\", \"\", IF(VLOOKUP(J207,'Footnotes list'!$B$5:$C$103,2,FALSE)=0,\"\",VLOOKUP(J207,'Footnotes list'!$B$5:$C$103,2,FALSE) ) )","v":""},null,null,null,null,{"$f":"IF(TRIM(O207)=\"\", \"\", IF(VLOOKUP(O207,'Footnotes list'!$B$5:$C$103,2,FALSE)=0,\"\",VLOOKUP(O207,'Footnotes list'!$B$5:$C$103,2,FALSE) ) )","v":""},null,null,null,null,{"$f":"IF(TRIM(T207)=\"\", \"\", IF(VLOOKUP(T207,'Footnotes list'!$B$5:$C$103,2,FALSE)=0,\"\",VLOOKUP(T207,'Footnotes list'!$B$5:$C$103,2,FALSE) ) )","v":""},null,null,null,null,{"$f":"IF(TRIM(Y207)=\"\", \"\", IF(VLOOKUP(Y207,'Footnotes list'!$B$5:$C$103,2,FALSE)=0,\"\",VLOOKUP(Y207,'Footnotes list'!$B$5:$C$103,2,FALSE) ) )","v":""},null,null,null,null,{"$f":"IF(TRIM(AD207)=\"\", \"\", IF(VLOOKUP(AD207,'Footnotes list'!$B$5:$C$103,2,FALSE)=0,\"\",VLOOKUP(AD207,'Footnotes list'!$B$5:$C$103,2,FALSE) ) )","v":""},null,null,null,null,{"$f":"IF(TRIM(AI207)=\"\", \"\", IF(VLOOKUP(AI207,'Footnotes list'!$B$5:$C$103,2,FALSE)=0,\"\",VLOOKUP(AI207,'Footnotes list'!$B$5:$C$103,2,FALSE) ) )","v":""}]
[null,null,null,"LITHUANIA","LT01","    Sostinės regionas",null,null,null,null,{"$f":"IF(TRIM(J208)=\"\", \"\", IF(VLOOKUP(J208,'Footnotes list'!$B$5:$C$103,2,FALSE)=0,\"\",VLOOKUP(J208,'Footnotes list'!$B$5:$C$103,2,FALSE) ) )","v":""},null,null,null,null,{"$f":"IF(TRIM(O208)=\"\", \"\", IF(VLOOKUP(O208,'Footnotes list'!$B$5:$C$103,2,FALSE)=0,\"\",VLOOKUP(O208,'Footnotes list'!$B$5:$C$103,2,FALSE) ) )","v":""},null,null,null,null,{"$f":"IF(TRIM(T208)=\"\", \"\", IF(VLOOKUP(T208,'Footnotes list'!$B$5:$C$103,2,FALSE)=0,\"\",VLOOKUP(T208,'Footnotes list'!$B$5:$C$103,2,FALSE) ) )","v":""},null,null,null,null,{"$f":"IF(TRIM(Y208)=\"\", \"\", IF(VLOOKUP(Y208,'Footnotes list'!$B$5:$C$103,2,FALSE)=0,\"\",VLOOKUP(Y208,'Footnotes list'!$B$5:$C$103,2,FALSE) ) )","v":""},null,null,null,null,{"$f":"IF(TRIM(AD208)=\"\", \"\", IF(VLOOKUP(AD208,'Footnotes list'!$B$5:$C$103,2,FALSE)=0,\"\",VLOOKUP(AD208,'Footnotes list'!$B$5:$C$103,2,FALSE) ) )","v":""},null,null,null,null,{"$f":"IF(TRIM(AI208)=\"\", \"\", IF(VLOOKUP(AI208,'Footnotes list'!$B$5:$C$103,2,FALSE)=0,\"\",VLOOKUP(AI208,'Footnotes list'!$B$5:$C$103,2,FALSE) ) )","v":""}]
[null,null,null,null,"LT02","    Vidurio ir vakarų Lietuvos regionas",null,null,null,null,{"$f":"IF(TRIM(J209)=\"\", \"\", IF(VLOOKUP(J209,'Footnotes list'!$B$5:$C$103,2,FALSE)=0,\"\",VLOOKUP(J209,'Footnotes list'!$B$5:$C$103,2,FALSE) ) )","v":""},null,null,null,null,{"$f":"IF(TRIM(O209)=\"\", \"\", IF(VLOOKUP(O209,'Footnotes list'!$B$5:$C$103,2,FALSE)=0,\"\",VLOOKUP(O209,'Footnotes list'!$B$5:$C$103,2,FALSE) ) )","v":""},null,null,null,null,{"$f":"IF(TRIM(T209)=\"\", \"\", IF(VLOOKUP(T209,'Footnotes list'!$B$5:$C$103,2,FALSE)=0,\"\",VLOOKUP(T209,'Footnotes list'!$B$5:$C$103,2,FALSE) ) )","v":""},null,null,null,null,{"$f":"IF(TRIM(Y209)=\"\", \"\", IF(VLOOKUP(Y209,'Footnotes list'!$B$5:$C$103,2,FALSE)=0,\"\",VLOOKUP(Y209,'Footnotes list'!$B$5:$C$103,2,FALSE) ) )","v":""},null,null,null,null,{"$f":"IF(TRIM(AD209)=\"\", \"\", IF(VLOOKUP(AD209,'Footnotes list'!$B$5:$C$103,2,FALSE)=0,\"\",VLOOKUP(AD209,'Footnotes list'!$B$5:$C$103,2,FALSE) ) )","v":""},null,null,null,null,{"$f":"IF(TRIM(AI209)=\"\", \"\", IF(VLOOKUP(AI209,'Footnotes list'!$B$5:$C$103,2,FALSE)=0,\"\",VLOOKUP(AI209,'Footnotes list'!$B$5:$C$103,2,FALSE) ) )","v":""}]
[null,null,null,"LUXEMBOURG","LU","LUXEMBOURG",null,null,null,null,{"$f":"IF(TRIM(J210)=\"\", \"\", IF(VLOOKUP(J210,'Footnotes list'!$B$5:$C$103,2,FALSE)=0,\"\",VLOOKUP(J210,'Footnotes list'!$B$5:$C$103,2,FALSE) ) )","v":""},null,null,null,null,{"$f":"IF(TRIM(O210)=\"\", \"\", IF(VLOOKUP(O210,'Footnotes list'!$B$5:$C$103,2,FALSE)=0,\"\",VLOOKUP(O210,'Footnotes list'!$B$5:$C$103,2,FALSE) ) )","v":""},null,null,null,null,{"$f":"IF(TRIM(T210)=\"\", \"\", IF(VLOOKUP(T210,'Footnotes list'!$B$5:$C$103,2,FALSE)=0,\"\",VLOOKUP(T210,'Footnotes list'!$B$5:$C$103,2,FALSE) ) )","v":""},null,null,null,null,{"$f":"IF(TRIM(Y210)=\"\", \"\", IF(VLOOKUP(Y210,'Footnotes list'!$B$5:$C$103,2,FALSE)=0,\"\",VLOOKUP(Y210,'Footnotes list'!$B$5:$C$103,2,FALSE) ) )","v":""},null,null,null,null,{"$f":"IF(TRIM(AD210)=\"\", \"\", IF(VLOOKUP(AD210,'Footnotes list'!$B$5:$C$103,2,FALSE)=0,\"\",VLOOKUP(AD210,'Footnotes list'!$B$5:$C$103,2,FALSE) ) )","v":""},null,null,null,null,{"$f":"IF(TRIM(AI210)=\"\", \"\", IF(VLOOKUP(AI210,'Footnotes list'!$B$5:$C$103,2,FALSE)=0,\"\",VLOOKUP(AI210,'Footnotes list'!$B$5:$C$103,2,FALSE) ) )","v":""}]
[null,null,null,null,"HU","MAGYARORSZÁG",null,null,null,null,{"$f":"IF(TRIM(J211)=\"\", \"\", IF(VLOOKUP(J211,'Footnotes list'!$B$5:$C$103,2,FALSE)=0,\"\",VLOOKUP(J211,'Footnotes list'!$B$5:$C$103,2,FALSE) ) )","v":""},null,null,null,null,{"$f":"IF(TRIM(O211)=\"\", \"\", IF(VLOOKUP(O211,'Footnotes list'!$B$5:$C$103,2,FALSE)=0,\"\",VLOOKUP(O211,'Footnotes list'!$B$5:$C$103,2,FALSE) ) )","v":""},null,null,null,null,{"$f":"IF(TRIM(T211)=\"\", \"\", IF(VLOOKUP(T211,'Footnotes list'!$B$5:$C$103,2,FALSE)=0,\"\",VLOOKUP(T211,'Footnotes list'!$B$5:$C$103,2,FALSE) ) )","v":""},null,null,null,null,{"$f":"IF(TRIM(Y211)=\"\", \"\", IF(VLOOKUP(Y211,'Footnotes list'!$B$5:$C$103,2,FALSE)=0,\"\",VLOOKUP(Y211,'Footnotes list'!$B$5:$C$103,2,FALSE) ) )","v":""},null,null,null,null,{"$f":"IF(TRIM(AD211)=\"\", \"\", IF(VLOOKUP(AD211,'Footnotes list'!$B$5:$C$103,2,FALSE)=0,\"\",VLOOKUP(AD211,'Footnotes list'!$B$5:$C$103,2,FALSE) ) )","v":""},null,null,null,null,{"$f":"IF(TRIM(AI211)=\"\", \"\", IF(VLOOKUP(AI211,'Footnotes list'!$B$5:$C$103,2,FALSE)=0,\"\",VLOOKUP(AI211,'Footnotes list'!$B$5:$C$103,2,FALSE) ) )","v":""}]
[null,null,null,null,"HU1","    KÖZÉP-MAGYARORSZÁG",null,null,null,null,{"$f":"IF(TRIM(J212)=\"\", \"\", IF(VLOOKUP(J212,'Footnotes list'!$B$5:$C$103,2,FALSE)=0,\"\",VLOOKUP(J212,'Footnotes list'!$B$5:$C$103,2,FALSE) ) )","v":""},null,null,null,null,{"$f":"IF(TRIM(O212)=\"\", \"\", IF(VLOOKUP(O212,'Footnotes list'!$B$5:$C$103,2,FALSE)=0,\"\",VLOOKUP(O212,'Footnotes list'!$B$5:$C$103,2,FALSE) ) )","v":""},null,null,null,null,{"$f":"IF(TRIM(T212)=\"\", \"\", IF(VLOOKUP(T212,'Footnotes list'!$B$5:$C$103,2,FALSE)=0,\"\",VLOOKUP(T212,'Footnotes list'!$B$5:$C$103,2,FALSE) ) )","v":""},null,null,null,null,{"$f":"IF(TRIM(Y212)=\"\", \"\", IF(VLOOKUP(Y212,'Footnotes list'!$B$5:$C$103,2,FALSE)=0,\"\",VLOOKUP(Y212,'Footnotes list'!$B$5:$C$103,2,FALSE) ) )","v":""},null,null,null,null,{"$f":"IF(TRIM(AD212)=\"\", \"\", IF(VLOOKUP(AD212,'Footnotes list'!$B$5:$C$103,2,FALSE)=0,\"\",VLOOKUP(AD212,'Footnotes list'!$B$5:$C$103,2,FALSE) ) )","v":""},null,null,null,null,{"$f":"IF(TRIM(AI212)=\"\", \"\", IF(VLOOKUP(AI212,'Footnotes list'!$B$5:$C$103,2,FALSE)=0,\"\",VLOOKUP(AI212,'Footnotes list'!$B$5:$C$103,2,FALSE) ) )","v":""}]
[null,null,null,null,"HU11","        Budapest",null,null,null,null,{"$f":"IF(TRIM(J213)=\"\", \"\", IF(VLOOKUP(J213,'Footnotes list'!$B$5:$C$103,2,FALSE)=0,\"\",VLOOKUP(J213,'Footnotes list'!$B$5:$C$103,2,FALSE) ) )","v":""},null,null,null,null,{"$f":"IF(TRIM(O213)=\"\", \"\", IF(VLOOKUP(O213,'Footnotes list'!$B$5:$C$103,2,FALSE)=0,\"\",VLOOKUP(O213,'Footnotes list'!$B$5:$C$103,2,FALSE) ) )","v":""},null,null,null,null,{"$f":"IF(TRIM(T213)=\"\", \"\", IF(VLOOKUP(T213,'Footnotes list'!$B$5:$C$103,2,FALSE)=0,\"\",VLOOKUP(T213,'Footnotes list'!$B$5:$C$103,2,FALSE) ) )","v":""},null,null,null,null,{"$f":"IF(TRIM(Y213)=\"\", \"\", IF(VLOOKUP(Y213,'Footnotes list'!$B$5:$C$103,2,FALSE)=0,\"\",VLOOKUP(Y213,'Footnotes list'!$B$5:$C$103,2,FALSE) ) )","v":""},null,null,null,null,{"$f":"IF(TRIM(AD213)=\"\", \"\", IF(VLOOKUP(AD213,'Footnotes list'!$B$5:$C$103,2,FALSE)=0,\"\",VLOOKUP(AD213,'Footnotes list'!$B$5:$C$103,2,FALSE) ) )","v":""},null,null,null,null,{"$f":"IF(TRIM(AI213)=\"\", \"\", IF(VLOOKUP(AI213,'Footnotes list'!$B$5:$C$103,2,FALSE)=0,\"\",VLOOKUP(AI213,'Footnotes list'!$B$5:$C$103,2,FALSE) ) )","v":""}]
[null,null,null,null,"HU12","        Pest",null,null,null,null,{"$f":"IF(TRIM(J214)=\"\", \"\", IF(VLOOKUP(J214,'Footnotes list'!$B$5:$C$103,2,FALSE)=0,\"\",VLOOKUP(J214,'Footnotes list'!$B$5:$C$103,2,FALSE) ) )","v":""},null,null,null,null,{"$f":"IF(TRIM(O214)=\"\", \"\", IF(VLOOKUP(O214,'Footnotes list'!$B$5:$C$103,2,FALSE)=0,\"\",VLOOKUP(O214,'Footnotes list'!$B$5:$C$103,2,FALSE) ) )","v":""},null,null,null,null,{"$f":"IF(TRIM(T214)=\"\", \"\", IF(VLOOKUP(T214,'Footnotes list'!$B$5:$C$103,2,FALSE)=0,\"\",VLOOKUP(T214,'Footnotes list'!$B$5:$C$103,2,FALSE) ) )","v":""},null,null,null,null,{"$f":"IF(TRIM(Y214)=\"\", \"\", IF(VLOOKUP(Y214,'Footnotes list'!$B$5:$C$103,2,FALSE)=0,\"\",VLOOKUP(Y214,'Footnotes list'!$B$5:$C$103,2,FALSE) ) )","v":""},null,null,null,null,{"$f":"IF(TRIM(AD214)=\"\", \"\", IF(VLOOKUP(AD214,'Footnotes list'!$B$5:$C$103,2,FALSE)=0,\"\",VLOOKUP(AD214,'Footnotes list'!$B$5:$C$103,2,FALSE) ) )","v":""},null,null,null,null,{"$f":"IF(TRIM(AI214)=\"\", \"\", IF(VLOOKUP(AI214,'Footnotes list'!$B$5:$C$103,2,FALSE)=0,\"\",VLOOKUP(AI214,'Footnotes list'!$B$5:$C$103,2,FALSE) ) )","v":""}]
[null,null,null,null,"HU2","    DUNÁNTÚL",null,null,null,null,{"$f":"IF(TRIM(J215)=\"\", \"\", IF(VLOOKUP(J215,'Footnotes list'!$B$5:$C$103,2,FALSE)=0,\"\",VLOOKUP(J215,'Footnotes list'!$B$5:$C$103,2,FALSE) ) )","v":""},null,null,null,null,{"$f":"IF(TRIM(O215)=\"\", \"\", IF(VLOOKUP(O215,'Footnotes list'!$B$5:$C$103,2,FALSE)=0,\"\",VLOOKUP(O215,'Footnotes list'!$B$5:$C$103,2,FALSE) ) )","v":""},null,null,null,null,{"$f":"IF(TRIM(T215)=\"\", \"\", IF(VLOOKUP(T215,'Footnotes list'!$B$5:$C$103,2,FALSE)=0,\"\",VLOOKUP(T215,'Footnotes list'!$B$5:$C$103,2,FALSE) ) )","v":""},null,null,null,null,{"$f":"IF(TRIM(Y215)=\"\", \"\", IF(VLOOKUP(Y215,'Footnotes list'!$B$5:$C$103,2,FALSE)=0,\"\",VLOOKUP(Y215,'Footnotes list'!$B$5:$C$103,2,FALSE) ) )","v":""},null,null,null,null,{"$f":"IF(TRIM(AD215)=\"\", \"\", IF(VLOOKUP(AD215,'Footnotes list'!$B$5:$C$103,2,FALSE)=0,\"\",VLOOKUP(AD215,'Footnotes list'!$B$5:$C$103,2,FALSE) ) )","v":""},null,null,null,null,{"$f":"IF(TRIM(AI215)=\"\", \"\", IF(VLOOKUP(AI215,'Footnotes list'!$B$5:$C$103,2,FALSE)=0,\"\",VLOOKUP(AI215,'Footnotes list'!$B$5:$C$103,2,FALSE) ) )","v":""}]
[null,null,null,"HUNGARY","HU21","        Közép-Dunántúl",null,null,null,null,{"$f":"IF(TRIM(J216)=\"\", \"\", IF(VLOOKUP(J216,'Footnotes list'!$B$5:$C$103,2,FALSE)=0,\"\",VLOOKUP(J216,'Footnotes list'!$B$5:$C$103,2,FALSE) ) )","v":""},null,null,null,null,{"$f":"IF(TRIM(O216)=\"\", \"\", IF(VLOOKUP(O216,'Footnotes list'!$B$5:$C$103,2,FALSE)=0,\"\",VLOOKUP(O216,'Footnotes list'!$B$5:$C$103,2,FALSE) ) )","v":""},null,null,null,null,{"$f":"IF(TRIM(T216)=\"\", \"\", IF(VLOOKUP(T216,'Footnotes list'!$B$5:$C$103,2,FALSE)=0,\"\",VLOOKUP(T216,'Footnotes list'!$B$5:$C$103,2,FALSE) ) )","v":""},null,null,null,null,{"$f":"IF(TRIM(Y216)=\"\", \"\", IF(VLOOKUP(Y216,'Footnotes list'!$B$5:$C$103,2,FALSE)=0,\"\",VLOOKUP(Y216,'Footnotes list'!$B$5:$C$103,2,FALSE) ) )","v":""},null,null,null,null,{"$f":"IF(TRIM(AD216)=\"\", \"\", IF(VLOOKUP(AD216,'Footnotes list'!$B$5:$C$103,2,FALSE)=0,\"\",VLOOKUP(AD216,'Footnotes list'!$B$5:$C$103,2,FALSE) ) )","v":""},null,null,null,null,{"$f":"IF(TRIM(AI216)=\"\", \"\", IF(VLOOKUP(AI216,'Footnotes list'!$B$5:$C$103,2,FALSE)=0,\"\",VLOOKUP(AI216,'Footnotes list'!$B$5:$C$103,2,FALSE) ) )","v":""}]
[null,null,null,null,"HU22","        Nyugat-Dunántúl",null,null,null,null,{"$f":"IF(TRIM(J217)=\"\", \"\", IF(VLOOKUP(J217,'Footnotes list'!$B$5:$C$103,2,FALSE)=0,\"\",VLOOKUP(J217,'Footnotes list'!$B$5:$C$103,2,FALSE) ) )","v":""},null,null,null,null,{"$f":"IF(TRIM(O217)=\"\", \"\", IF(VLOOKUP(O217,'Footnotes list'!$B$5:$C$103,2,FALSE)=0,\"\",VLOOKUP(O217,'Footnotes list'!$B$5:$C$103,2,FALSE) ) )","v":""},null,null,null,null,{"$f":"IF(TRIM(T217)=\"\", \"\", IF(VLOOKUP(T217,'Footnotes list'!$B$5:$C$103,2,FALSE)=0,\"\",VLOOKUP(T217,'Footnotes list'!$B$5:$C$103,2,FALSE) ) )","v":""},null,null,null,null,{"$f":"IF(TRIM(Y217)=\"\", \"\", IF(VLOOKUP(Y217,'Footnotes list'!$B$5:$C$103,2,FALSE)=0,\"\",VLOOKUP(Y217,'Footnotes list'!$B$5:$C$103,2,FALSE) ) )","v":""},null,null,null,null,{"$f":"IF(TRIM(AD217)=\"\", \"\", IF(VLOOKUP(AD217,'Footnotes list'!$B$5:$C$103,2,FALSE)=0,\"\",VLOOKUP(AD217,'Footnotes list'!$B$5:$C$103,2,FALSE) ) )","v":""},null,null,null,null,{"$f":"IF(TRIM(AI217)=\"\", \"\", IF(VLOOKUP(AI217,'Footnotes list'!$B$5:$C$103,2,FALSE)=0,\"\",VLOOKUP(AI217,'Footnotes list'!$B$5:$C$103,2,FALSE) ) )","v":""}]
[null,null,null,null,"HU23","        Dél-Dunántúl",null,null,null,null,{"$f":"IF(TRIM(J218)=\"\", \"\", IF(VLOOKUP(J218,'Footnotes list'!$B$5:$C$103,2,FALSE)=0,\"\",VLOOKUP(J218,'Footnotes list'!$B$5:$C$103,2,FALSE) ) )","v":""},null,null,null,null,{"$f":"IF(TRIM(O218)=\"\", \"\", IF(VLOOKUP(O218,'Footnotes list'!$B$5:$C$103,2,FALSE)=0,\"\",VLOOKUP(O218,'Footnotes list'!$B$5:$C$103,2,FALSE) ) )","v":""},null,null,null,null,{"$f":"IF(TRIM(T218)=\"\", \"\", IF(VLOOKUP(T218,'Footnotes list'!$B$5:$C$103,2,FALSE)=0,\"\",VLOOKUP(T218,'Footnotes list'!$B$5:$C$103,2,FALSE) ) )","v":""},null,null,null,null,{"$f":"IF(TRIM(Y218)=\"\", \"\", IF(VLOOKUP(Y218,'Footnotes list'!$B$5:$C$103,2,FALSE)=0,\"\",VLOOKUP(Y218,'Footnotes list'!$B$5:$C$103,2,FALSE) ) )","v":""},null,null,null,null,{"$f":"IF(TRIM(AD218)=\"\", \"\", IF(VLOOKUP(AD218,'Footnotes list'!$B$5:$C$103,2,FALSE)=0,\"\",VLOOKUP(AD218,'Footnotes list'!$B$5:$C$103,2,FALSE) ) )","v":""},null,null,null,null,{"$f":"IF(TRIM(AI218)=\"\", \"\", IF(VLOOKUP(AI218,'Footnotes list'!$B$5:$C$103,2,FALSE)=0,\"\",VLOOKUP(AI218,'Footnotes list'!$B$5:$C$103,2,FALSE) ) )","v":""}]
[null,null,null,null,"HU3","    ALFÖLD ÉS ÉSZAK",null,null,null,null,{"$f":"IF(TRIM(J219)=\"\", \"\", IF(VLOOKUP(J219,'Footnotes list'!$B$5:$C$103,2,FALSE)=0,\"\",VLOOKUP(J219,'Footnotes list'!$B$5:$C$103,2,FALSE) ) )","v":""},null,null,null,null,{"$f":"IF(TRIM(O219)=\"\", \"\", IF(VLOOKUP(O219,'Footnotes list'!$B$5:$C$103,2,FALSE)=0,\"\",VLOOKUP(O219,'Footnotes list'!$B$5:$C$103,2,FALSE) ) )","v":""},null,null,null,null,{"$f":"IF(TRIM(T219)=\"\", \"\", IF(VLOOKUP(T219,'Footnotes list'!$B$5:$C$103,2,FALSE)=0,\"\",VLOOKUP(T219,'Footnotes list'!$B$5:$C$103,2,FALSE) ) )","v":""},null,null,null,null,{"$f":"IF(TRIM(Y219)=\"\", \"\", IF(VLOOKUP(Y219,'Footnotes list'!$B$5:$C$103,2,FALSE)=0,\"\",VLOOKUP(Y219,'Footnotes list'!$B$5:$C$103,2,FALSE) ) )","v":""},null,null,null,null,{"$f":"IF(TRIM(AD219)=\"\", \"\", IF(VLOOKUP(AD219,'Footnotes list'!$B$5:$C$103,2,FALSE)=0,\"\",VLOOKUP(AD219,'Footnotes list'!$B$5:$C$103,2,FALSE) ) )","v":""},null,null,null,null,{"$f":"IF(TRIM(AI219)=\"\", \"\", IF(VLOOKUP(AI219,'Footnotes list'!$B$5:$C$103,2,FALSE)=0,\"\",VLOOKUP(AI219,'Footnotes list'!$B$5:$C$103,2,FALSE) ) )","v":""}]
[null,null,null,null,"HU31","        Észak-Magyarország",null,null,null,null,{"$f":"IF(TRIM(J220)=\"\", \"\", IF(VLOOKUP(J220,'Footnotes list'!$B$5:$C$103,2,FALSE)=0,\"\",VLOOKUP(J220,'Footnotes list'!$B$5:$C$103,2,FALSE) ) )","v":""},null,null,null,null,{"$f":"IF(TRIM(O220)=\"\", \"\", IF(VLOOKUP(O220,'Footnotes list'!$B$5:$C$103,2,FALSE)=0,\"\",VLOOKUP(O220,'Footnotes list'!$B$5:$C$103,2,FALSE) ) )","v":""},null,null,null,null,{"$f":"IF(TRIM(T220)=\"\", \"\", IF(VLOOKUP(T220,'Footnotes list'!$B$5:$C$103,2,FALSE)=0,\"\",VLOOKUP(T220,'Footnotes list'!$B$5:$C$103,2,FALSE) ) )","v":""},null,null,null,null,{"$f":"IF(TRIM(Y220)=\"\", \"\", IF(VLOOKUP(Y220,'Footnotes list'!$B$5:$C$103,2,FALSE)=0,\"\",VLOOKUP(Y220,'Footnotes list'!$B$5:$C$103,2,FALSE) ) )","v":""},null,null,null,null,{"$f":"IF(TRIM(AD220)=\"\", \"\", IF(VLOOKUP(AD220,'Footnotes list'!$B$5:$C$103,2,FALSE)=0,\"\",VLOOKUP(AD220,'Footnotes list'!$B$5:$C$103,2,FALSE) ) )","v":""},null,null,null,null,{"$f":"IF(TRIM(AI220)=\"\", \"\", IF(VLOOKUP(AI220,'Footnotes list'!$B$5:$C$103,2,FALSE)=0,\"\",VLOOKUP(AI220,'Footnotes list'!$B$5:$C$103,2,FALSE) ) )","v":""}]
[null,null,null,null,"HU32","        Észak-Alföld",null,null,null,null,{"$f":"IF(TRIM(J221)=\"\", \"\", IF(VLOOKUP(J221,'Footnotes list'!$B$5:$C$103,2,FALSE)=0,\"\",VLOOKUP(J221,'Footnotes list'!$B$5:$C$103,2,FALSE) ) )","v":""},null,null,null,null,{"$f":"IF(TRIM(O221)=\"\", \"\", IF(VLOOKUP(O221,'Footnotes list'!$B$5:$C$103,2,FALSE)=0,\"\",VLOOKUP(O221,'Footnotes list'!$B$5:$C$103,2,FALSE) ) )","v":""},null,null,null,null,{"$f":"IF(TRIM(T221)=\"\", \"\", IF(VLOOKUP(T221,'Footnotes list'!$B$5:$C$103,2,FALSE)=0,\"\",VLOOKUP(T221,'Footnotes list'!$B$5:$C$103,2,FALSE) ) )","v":""},null,null,null,null,{"$f":"IF(TRIM(Y221)=\"\", \"\", IF(VLOOKUP(Y221,'Footnotes list'!$B$5:$C$103,2,FALSE)=0,\"\",VLOOKUP(Y221,'Footnotes list'!$B$5:$C$103,2,FALSE) ) )","v":""},null,null,null,null,{"$f":"IF(TRIM(AD221)=\"\", \"\", IF(VLOOKUP(AD221,'Footnotes list'!$B$5:$C$103,2,FALSE)=0,\"\",VLOOKUP(AD221,'Footnotes list'!$B$5:$C$103,2,FALSE) ) )","v":""},null,null,null,null,{"$f":"IF(TRIM(AI221)=\"\", \"\", IF(VLOOKUP(AI221,'Footnotes list'!$B$5:$C$103,2,FALSE)=0,\"\",VLOOKUP(AI221,'Footnotes list'!$B$5:$C$103,2,FALSE) ) )","v":""}]
[null,null,null,null,"HU33","        Dél-Alföld",null,null,null,null,{"$f":"IF(TRIM(J222)=\"\", \"\", IF(VLOOKUP(J222,'Footnotes list'!$B$5:$C$103,2,FALSE)=0,\"\",VLOOKUP(J222,'Footnotes list'!$B$5:$C$103,2,FALSE) ) )","v":""},null,null,null,null,{"$f":"IF(TRIM(O222)=\"\", \"\", IF(VLOOKUP(O222,'Footnotes list'!$B$5:$C$103,2,FALSE)=0,\"\",VLOOKUP(O222,'Footnotes list'!$B$5:$C$103,2,FALSE) ) )","v":""},null,null,null,null,{"$f":"IF(TRIM(T222)=\"\", \"\", IF(VLOOKUP(T222,'Footnotes list'!$B$5:$C$103,2,FALSE)=0,\"\",VLOOKUP(T222,'Footnotes list'!$B$5:$C$103,2,FALSE) ) )","v":""},null,null,null,null,{"$f":"IF(TRIM(Y222)=\"\", \"\", IF(VLOOKUP(Y222,'Footnotes list'!$B$5:$C$103,2,FALSE)=0,\"\",VLOOKUP(Y222,'Footnotes list'!$B$5:$C$103,2,FALSE) ) )","v":""},null,null,null,null,{"$f":"IF(TRIM(AD222)=\"\", \"\", IF(VLOOKUP(AD222,'Footnotes list'!$B$5:$C$103,2,FALSE)=0,\"\",VLOOKUP(AD222,'Footnotes list'!$B$5:$C$103,2,FALSE) ) )","v":""},null,null,null,null,{"$f":"IF(TRIM(AI222)=\"\", \"\", IF(VLOOKUP(AI222,'Footnotes list'!$B$5:$C$103,2,FALSE)=0,\"\",VLOOKUP(AI222,'Footnotes list'!$B$5:$C$103,2,FALSE) ) )","v":""}]
[null,null,null,"MALTA","MT","MALTA",null,null,null,null,{"$f":"IF(TRIM(J223)=\"\", \"\", IF(VLOOKUP(J223,'Footnotes list'!$B$5:$C$103,2,FALSE)=0,\"\",VLOOKUP(J223,'Footnotes list'!$B$5:$C$103,2,FALSE) ) )","v":""},null,null,null,null,{"$f":"IF(TRIM(O223)=\"\", \"\", IF(VLOOKUP(O223,'Footnotes list'!$B$5:$C$103,2,FALSE)=0,\"\",VLOOKUP(O223,'Footnotes list'!$B$5:$C$103,2,FALSE) ) )","v":""},null,null,null,null,{"$f":"IF(TRIM(T223)=\"\", \"\", IF(VLOOKUP(T223,'Footnotes list'!$B$5:$C$103,2,FALSE)=0,\"\",VLOOKUP(T223,'Footnotes list'!$B$5:$C$103,2,FALSE) ) )","v":""},null,null,null,null,{"$f":"IF(TRIM(Y223)=\"\", \"\", IF(VLOOKUP(Y223,'Footnotes list'!$B$5:$C$103,2,FALSE)=0,\"\",VLOOKUP(Y223,'Footnotes list'!$B$5:$C$103,2,FALSE) ) )","v":""},null,null,null,null,{"$f":"IF(TRIM(AD223)=\"\", \"\", IF(VLOOKUP(AD223,'Footnotes list'!$B$5:$C$103,2,FALSE)=0,\"\",VLOOKUP(AD223,'Footnotes list'!$B$5:$C$103,2,FALSE) ) )","v":""},null,null,null,null,{"$f":"IF(TRIM(AI223)=\"\", \"\", IF(VLOOKUP(AI223,'Footnotes list'!$B$5:$C$103,2,FALSE)=0,\"\",VLOOKUP(AI223,'Footnotes list'!$B$5:$C$103,2,FALSE) ) )","v":""}]
[null,null,null,null,"NL","NEDERLAND",null,null,null,null,{"$f":"IF(TRIM(J224)=\"\", \"\", IF(VLOOKUP(J224,'Footnotes list'!$B$5:$C$103,2,FALSE)=0,\"\",VLOOKUP(J224,'Footnotes list'!$B$5:$C$103,2,FALSE) ) )","v":""},null,null,null,null,{"$f":"IF(TRIM(O224)=\"\", \"\", IF(VLOOKUP(O224,'Footnotes list'!$B$5:$C$103,2,FALSE)=0,\"\",VLOOKUP(O224,'Footnotes list'!$B$5:$C$103,2,FALSE) ) )","v":""},null,null,null,null,{"$f":"IF(TRIM(T224)=\"\", \"\", IF(VLOOKUP(T224,'Footnotes list'!$B$5:$C$103,2,FALSE)=0,\"\",VLOOKUP(T224,'Footnotes list'!$B$5:$C$103,2,FALSE) ) )","v":""},null,null,null,null,{"$f":"IF(TRIM(Y224)=\"\", \"\", IF(VLOOKUP(Y224,'Footnotes list'!$B$5:$C$103,2,FALSE)=0,\"\",VLOOKUP(Y224,'Footnotes list'!$B$5:$C$103,2,FALSE) ) )","v":""},null,null,null,null,{"$f":"IF(TRIM(AD224)=\"\", \"\", IF(VLOOKUP(AD224,'Footnotes list'!$B$5:$C$103,2,FALSE)=0,\"\",VLOOKUP(AD224,'Footnotes list'!$B$5:$C$103,2,FALSE) ) )","v":""},null,null,null,null,{"$f":"IF(TRIM(AI224)=\"\", \"\", IF(VLOOKUP(AI224,'Footnotes list'!$B$5:$C$103,2,FALSE)=0,\"\",VLOOKUP(AI224,'Footnotes list'!$B$5:$C$103,2,FALSE) ) )","v":""}]
[null,null,null,null,"NL1","    NOORD-NEDERLAND",null,null,null,null,{"$f":"IF(TRIM(J225)=\"\", \"\", IF(VLOOKUP(J225,'Footnotes list'!$B$5:$C$103,2,FALSE)=0,\"\",VLOOKUP(J225,'Footnotes list'!$B$5:$C$103,2,FALSE) ) )","v":""},null,null,null,null,{"$f":"IF(TRIM(O225)=\"\", \"\", IF(VLOOKUP(O225,'Footnotes list'!$B$5:$C$103,2,FALSE)=0,\"\",VLOOKUP(O225,'Footnotes list'!$B$5:$C$103,2,FALSE) ) )","v":""},null,null,null,null,{"$f":"IF(TRIM(T225)=\"\", \"\", IF(VLOOKUP(T225,'Footnotes list'!$B$5:$C$103,2,FALSE)=0,\"\",VLOOKUP(T225,'Footnotes list'!$B$5:$C$103,2,FALSE) ) )","v":""},null,null,null,null,{"$f":"IF(TRIM(Y225)=\"\", \"\", IF(VLOOKUP(Y225,'Footnotes list'!$B$5:$C$103,2,FALSE)=0,\"\",VLOOKUP(Y225,'Footnotes list'!$B$5:$C$103,2,FALSE) ) )","v":""},null,null,null,null,{"$f":"IF(TRIM(AD225)=\"\", \"\", IF(VLOOKUP(AD225,'Footnotes list'!$B$5:$C$103,2,FALSE)=0,\"\",VLOOKUP(AD225,'Footnotes list'!$B$5:$C$103,2,FALSE) ) )","v":""},null,null,null,null,{"$f":"IF(TRIM(AI225)=\"\", \"\", IF(VLOOKUP(AI225,'Footnotes list'!$B$5:$C$103,2,FALSE)=0,\"\",VLOOKUP(AI225,'Footnotes list'!$B$5:$C$103,2,FALSE) ) )","v":""}]
[null,null,null,null,"NL11","        Groningen",null,null,null,null,{"$f":"IF(TRIM(J226)=\"\", \"\", IF(VLOOKUP(J226,'Footnotes list'!$B$5:$C$103,2,FALSE)=0,\"\",VLOOKUP(J226,'Footnotes list'!$B$5:$C$103,2,FALSE) ) )","v":""},null,null,null,null,{"$f":"IF(TRIM(O226)=\"\", \"\", IF(VLOOKUP(O226,'Footnotes list'!$B$5:$C$103,2,FALSE)=0,\"\",VLOOKUP(O226,'Footnotes list'!$B$5:$C$103,2,FALSE) ) )","v":""},null,null,null,null,{"$f":"IF(TRIM(T226)=\"\", \"\", IF(VLOOKUP(T226,'Footnotes list'!$B$5:$C$103,2,FALSE)=0,\"\",VLOOKUP(T226,'Footnotes list'!$B$5:$C$103,2,FALSE) ) )","v":""},null,null,null,null,{"$f":"IF(TRIM(Y226)=\"\", \"\", IF(VLOOKUP(Y226,'Footnotes list'!$B$5:$C$103,2,FALSE)=0,\"\",VLOOKUP(Y226,'Footnotes list'!$B$5:$C$103,2,FALSE) ) )","v":""},null,null,null,null,{"$f":"IF(TRIM(AD226)=\"\", \"\", IF(VLOOKUP(AD226,'Footnotes list'!$B$5:$C$103,2,FALSE)=0,\"\",VLOOKUP(AD226,'Footnotes list'!$B$5:$C$103,2,FALSE) ) )","v":""},null,null,null,null,{"$f":"IF(TRIM(AI226)=\"\", \"\", IF(VLOOKUP(AI226,'Footnotes list'!$B$5:$C$103,2,FALSE)=0,\"\",VLOOKUP(AI226,'Footnotes list'!$B$5:$C$103,2,FALSE) ) )","v":""}]
[null,null,null,null,"NL12","        Friesland (NL)",null,null,null,null,{"$f":"IF(TRIM(J227)=\"\", \"\", IF(VLOOKUP(J227,'Footnotes list'!$B$5:$C$103,2,FALSE)=0,\"\",VLOOKUP(J227,'Footnotes list'!$B$5:$C$103,2,FALSE) ) )","v":""},null,null,null,null,{"$f":"IF(TRIM(O227)=\"\", \"\", IF(VLOOKUP(O227,'Footnotes list'!$B$5:$C$103,2,FALSE)=0,\"\",VLOOKUP(O227,'Footnotes list'!$B$5:$C$103,2,FALSE) ) )","v":""},null,null,null,null,{"$f":"IF(TRIM(T227)=\"\", \"\", IF(VLOOKUP(T227,'Footnotes list'!$B$5:$C$103,2,FALSE)=0,\"\",VLOOKUP(T227,'Footnotes list'!$B$5:$C$103,2,FALSE) ) )","v":""},null,null,null,null,{"$f":"IF(TRIM(Y227)=\"\", \"\", IF(VLOOKUP(Y227,'Footnotes list'!$B$5:$C$103,2,FALSE)=0,\"\",VLOOKUP(Y227,'Footnotes list'!$B$5:$C$103,2,FALSE) ) )","v":""},null,null,null,null,{"$f":"IF(TRIM(AD227)=\"\", \"\", IF(VLOOKUP(AD227,'Footnotes list'!$B$5:$C$103,2,FALSE)=0,\"\",VLOOKUP(AD227,'Footnotes list'!$B$5:$C$103,2,FALSE) ) )","v":""},null,null,null,null,{"$f":"IF(TRIM(AI227)=\"\", \"\", IF(VLOOKUP(AI227,'Footnotes list'!$B$5:$C$103,2,FALSE)=0,\"\",VLOOKUP(AI227,'Footnotes list'!$B$5:$C$103,2,FALSE) ) )","v":""}]
[null,null,null,null,"NL13","        Drenthe",null,null,null,null,{"$f":"IF(TRIM(J228)=\"\", \"\", IF(VLOOKUP(J228,'Footnotes list'!$B$5:$C$103,2,FALSE)=0,\"\",VLOOKUP(J228,'Footnotes list'!$B$5:$C$103,2,FALSE) ) )","v":""},null,null,null,null,{"$f":"IF(TRIM(O228)=\"\", \"\", IF(VLOOKUP(O228,'Footnotes list'!$B$5:$C$103,2,FALSE)=0,\"\",VLOOKUP(O228,'Footnotes list'!$B$5:$C$103,2,FALSE) ) )","v":""},null,null,null,null,{"$f":"IF(TRIM(T228)=\"\", \"\", IF(VLOOKUP(T228,'Footnotes list'!$B$5:$C$103,2,FALSE)=0,\"\",VLOOKUP(T228,'Footnotes list'!$B$5:$C$103,2,FALSE) ) )","v":""},null,null,null,null,{"$f":"IF(TRIM(Y228)=\"\", \"\", IF(VLOOKUP(Y228,'Footnotes list'!$B$5:$C$103,2,FALSE)=0,\"\",VLOOKUP(Y228,'Footnotes list'!$B$5:$C$103,2,FALSE) ) )","v":""},null,null,null,null,{"$f":"IF(TRIM(AD228)=\"\", \"\", IF(VLOOKUP(AD228,'Footnotes list'!$B$5:$C$103,2,FALSE)=0,\"\",VLOOKUP(AD228,'Footnotes list'!$B$5:$C$103,2,FALSE) ) )","v":""},null,null,null,null,{"$f":"IF(TRIM(AI228)=\"\", \"\", IF(VLOOKUP(AI228,'Footnotes list'!$B$5:$C$103,2,FALSE)=0,\"\",VLOOKUP(AI228,'Footnotes list'!$B$5:$C$103,2,FALSE) ) )","v":""}]
[null,null,null,null,"NL2","    OOST-NEDERLAND",null,null,null,null,{"$f":"IF(TRIM(J229)=\"\", \"\", IF(VLOOKUP(J229,'Footnotes list'!$B$5:$C$103,2,FALSE)=0,\"\",VLOOKUP(J229,'Footnotes list'!$B$5:$C$103,2,FALSE) ) )","v":""},null,null,null,null,{"$f":"IF(TRIM(O229)=\"\", \"\", IF(VLOOKUP(O229,'Footnotes list'!$B$5:$C$103,2,FALSE)=0,\"\",VLOOKUP(O229,'Footnotes list'!$B$5:$C$103,2,FALSE) ) )","v":""},null,null,null,null,{"$f":"IF(TRIM(T229)=\"\", \"\", IF(VLOOKUP(T229,'Footnotes list'!$B$5:$C$103,2,FALSE)=0,\"\",VLOOKUP(T229,'Footnotes list'!$B$5:$C$103,2,FALSE) ) )","v":""},null,null,null,null,{"$f":"IF(TRIM(Y229)=\"\", \"\", IF(VLOOKUP(Y229,'Footnotes list'!$B$5:$C$103,2,FALSE)=0,\"\",VLOOKUP(Y229,'Footnotes list'!$B$5:$C$103,2,FALSE) ) )","v":""},null,null,null,null,{"$f":"IF(TRIM(AD229)=\"\", \"\", IF(VLOOKUP(AD229,'Footnotes list'!$B$5:$C$103,2,FALSE)=0,\"\",VLOOKUP(AD229,'Footnotes list'!$B$5:$C$103,2,FALSE) ) )","v":""},null,null,null,null,{"$f":"IF(TRIM(AI229)=\"\", \"\", IF(VLOOKUP(AI229,'Footnotes list'!$B$5:$C$103,2,FALSE)=0,\"\",VLOOKUP(AI229,'Footnotes list'!$B$5:$C$103,2,FALSE) ) )","v":""}]
[null,null,null,null,"NL21","        Overijssel",null,null,null,null,{"$f":"IF(TRIM(J230)=\"\", \"\", IF(VLOOKUP(J230,'Footnotes list'!$B$5:$C$103,2,FALSE)=0,\"\",VLOOKUP(J230,'Footnotes list'!$B$5:$C$103,2,FALSE) ) )","v":""},null,null,null,null,{"$f":"IF(TRIM(O230)=\"\", \"\", IF(VLOOKUP(O230,'Footnotes list'!$B$5:$C$103,2,FALSE)=0,\"\",VLOOKUP(O230,'Footnotes list'!$B$5:$C$103,2,FALSE) ) )","v":""},null,null,null,null,{"$f":"IF(TRIM(T230)=\"\", \"\", IF(VLOOKUP(T230,'Footnotes list'!$B$5:$C$103,2,FALSE)=0,\"\",VLOOKUP(T230,'Footnotes list'!$B$5:$C$103,2,FALSE) ) )","v":""},null,null,null,null,{"$f":"IF(TRIM(Y230)=\"\", \"\", IF(VLOOKUP(Y230,'Footnotes list'!$B$5:$C$103,2,FALSE)=0,\"\",VLOOKUP(Y230,'Footnotes list'!$B$5:$C$103,2,FALSE) ) )","v":""},null,null,null,null,{"$f":"IF(TRIM(AD230)=\"\", \"\", IF(VLOOKUP(AD230,'Footnotes list'!$B$5:$C$103,2,FALSE)=0,\"\",VLOOKUP(AD230,'Footnotes list'!$B$5:$C$103,2,FALSE) ) )","v":""},null,null,null,null,{"$f":"IF(TRIM(AI230)=\"\", \"\", IF(VLOOKUP(AI230,'Footnotes list'!$B$5:$C$103,2,FALSE)=0,\"\",VLOOKUP(AI230,'Footnotes list'!$B$5:$C$103,2,FALSE) ) )","v":""}]
[null,null,null,"NEDERLANDS","NL22","        Gelderland",null,null,null,null,{"$f":"IF(TRIM(J231)=\"\", \"\", IF(VLOOKUP(J231,'Footnotes list'!$B$5:$C$103,2,FALSE)=0,\"\",VLOOKUP(J231,'Footnotes list'!$B$5:$C$103,2,FALSE) ) )","v":""},null,null,null,null,{"$f":"IF(TRIM(O231)=\"\", \"\", IF(VLOOKUP(O231,'Footnotes list'!$B$5:$C$103,2,FALSE)=0,\"\",VLOOKUP(O231,'Footnotes list'!$B$5:$C$103,2,FALSE) ) )","v":""},null,null,null,null,{"$f":"IF(TRIM(T231)=\"\", \"\", IF(VLOOKUP(T231,'Footnotes list'!$B$5:$C$103,2,FALSE)=0,\"\",VLOOKUP(T231,'Footnotes list'!$B$5:$C$103,2,FALSE) ) )","v":""},null,null,null,null,{"$f":"IF(TRIM(Y231)=\"\", \"\", IF(VLOOKUP(Y231,'Footnotes list'!$B$5:$C$103,2,FALSE)=0,\"\",VLOOKUP(Y231,'Footnotes list'!$B$5:$C$103,2,FALSE) ) )","v":""},null,null,null,null,{"$f":"IF(TRIM(AD231)=\"\", \"\", IF(VLOOKUP(AD231,'Footnotes list'!$B$5:$C$103,2,FALSE)=0,\"\",VLOOKUP(AD231,'Footnotes list'!$B$5:$C$103,2,FALSE) ) )","v":""},null,null,null,null,{"$f":"IF(TRIM(AI231)=\"\", \"\", IF(VLOOKUP(AI231,'Footnotes list'!$B$5:$C$103,2,FALSE)=0,\"\",VLOOKUP(AI231,'Footnotes list'!$B$5:$C$103,2,FALSE) ) )","v":""}]
[null,null,null,null,"NL23","        Flevoland",null,null,null,null,{"$f":"IF(TRIM(J232)=\"\", \"\", IF(VLOOKUP(J232,'Footnotes list'!$B$5:$C$103,2,FALSE)=0,\"\",VLOOKUP(J232,'Footnotes list'!$B$5:$C$103,2,FALSE) ) )","v":""},null,null,null,null,{"$f":"IF(TRIM(O232)=\"\", \"\", IF(VLOOKUP(O232,'Footnotes list'!$B$5:$C$103,2,FALSE)=0,\"\",VLOOKUP(O232,'Footnotes list'!$B$5:$C$103,2,FALSE) ) )","v":""},null,null,null,null,{"$f":"IF(TRIM(T232)=\"\", \"\", IF(VLOOKUP(T232,'Footnotes list'!$B$5:$C$103,2,FALSE)=0,\"\",VLOOKUP(T232,'Footnotes list'!$B$5:$C$103,2,FALSE) ) )","v":""},null,null,null,null,{"$f":"IF(TRIM(Y232)=\"\", \"\", IF(VLOOKUP(Y232,'Footnotes list'!$B$5:$C$103,2,FALSE)=0,\"\",VLOOKUP(Y232,'Footnotes list'!$B$5:$C$103,2,FALSE) ) )","v":""},null,null,null,null,{"$f":"IF(TRIM(AD232)=\"\", \"\", IF(VLOOKUP(AD232,'Footnotes list'!$B$5:$C$103,2,FALSE)=0,\"\",VLOOKUP(AD232,'Footnotes list'!$B$5:$C$103,2,FALSE) ) )","v":""},null,null,null,null,{"$f":"IF(TRIM(AI232)=\"\", \"\", IF(VLOOKUP(AI232,'Footnotes list'!$B$5:$C$103,2,FALSE)=0,\"\",VLOOKUP(AI232,'Footnotes list'!$B$5:$C$103,2,FALSE) ) )","v":""}]
[null,null,null,null,"NL3","    WEST-NEDERLAND",null,null,null,null,{"$f":"IF(TRIM(J233)=\"\", \"\", IF(VLOOKUP(J233,'Footnotes list'!$B$5:$C$103,2,FALSE)=0,\"\",VLOOKUP(J233,'Footnotes list'!$B$5:$C$103,2,FALSE) ) )","v":""},null,null,null,null,{"$f":"IF(TRIM(O233)=\"\", \"\", IF(VLOOKUP(O233,'Footnotes list'!$B$5:$C$103,2,FALSE)=0,\"\",VLOOKUP(O233,'Footnotes list'!$B$5:$C$103,2,FALSE) ) )","v":""},null,null,null,null,{"$f":"IF(TRIM(T233)=\"\", \"\", IF(VLOOKUP(T233,'Footnotes list'!$B$5:$C$103,2,FALSE)=0,\"\",VLOOKUP(T233,'Footnotes list'!$B$5:$C$103,2,FALSE) ) )","v":""},null,null,null,null,{"$f":"IF(TRIM(Y233)=\"\", \"\", IF(VLOOKUP(Y233,'Footnotes list'!$B$5:$C$103,2,FALSE)=0,\"\",VLOOKUP(Y233,'Footnotes list'!$B$5:$C$103,2,FALSE) ) )","v":""},null,null,null,null,{"$f":"IF(TRIM(AD233)=\"\", \"\", IF(VLOOKUP(AD233,'Footnotes list'!$B$5:$C$103,2,FALSE)=0,\"\",VLOOKUP(AD233,'Footnotes list'!$B$5:$C$103,2,FALSE) ) )","v":""},null,null,null,null,{"$f":"IF(TRIM(AI233)=\"\", \"\", IF(VLOOKUP(AI233,'Footnotes list'!$B$5:$C$103,2,FALSE)=0,\"\",VLOOKUP(AI233,'Footnotes list'!$B$5:$C$103,2,FALSE) ) )","v":""}]
[null,null,null,null,"NL31","        Utrecht",null,null,null,null,{"$f":"IF(TRIM(J234)=\"\", \"\", IF(VLOOKUP(J234,'Footnotes list'!$B$5:$C$103,2,FALSE)=0,\"\",VLOOKUP(J234,'Footnotes list'!$B$5:$C$103,2,FALSE) ) )","v":""},null,null,null,null,{"$f":"IF(TRIM(O234)=\"\", \"\", IF(VLOOKUP(O234,'Footnotes list'!$B$5:$C$103,2,FALSE)=0,\"\",VLOOKUP(O234,'Footnotes list'!$B$5:$C$103,2,FALSE) ) )","v":""},null,null,null,null,{"$f":"IF(TRIM(T234)=\"\", \"\", IF(VLOOKUP(T234,'Footnotes list'!$B$5:$C$103,2,FALSE)=0,\"\",VLOOKUP(T234,'Footnotes list'!$B$5:$C$103,2,FALSE) ) )","v":""},null,null,null,null,{"$f":"IF(TRIM(Y234)=\"\", \"\", IF(VLOOKUP(Y234,'Footnotes list'!$B$5:$C$103,2,FALSE)=0,\"\",VLOOKUP(Y234,'Footnotes list'!$B$5:$C$103,2,FALSE) ) )","v":""},null,null,null,null,{"$f":"IF(TRIM(AD234)=\"\", \"\", IF(VLOOKUP(AD234,'Footnotes list'!$B$5:$C$103,2,FALSE)=0,\"\",VLOOKUP(AD234,'Footnotes list'!$B$5:$C$103,2,FALSE) ) )","v":""},null,null,null,null,{"$f":"IF(TRIM(AI234)=\"\", \"\", IF(VLOOKUP(AI234,'Footnotes list'!$B$5:$C$103,2,FALSE)=0,\"\",VLOOKUP(AI234,'Footnotes list'!$B$5:$C$103,2,FALSE) ) )","v":""}]
[null,null,null,null,"NL32","        Noord-Holland",null,null,null,null,{"$f":"IF(TRIM(J235)=\"\", \"\", IF(VLOOKUP(J235,'Footnotes list'!$B$5:$C$103,2,FALSE)=0,\"\",VLOOKUP(J235,'Footnotes list'!$B$5:$C$103,2,FALSE) ) )","v":""},null,null,null,null,{"$f":"IF(TRIM(O235)=\"\", \"\", IF(VLOOKUP(O235,'Footnotes list'!$B$5:$C$103,2,FALSE)=0,\"\",VLOOKUP(O235,'Footnotes list'!$B$5:$C$103,2,FALSE) ) )","v":""},null,null,null,null,{"$f":"IF(TRIM(T235)=\"\", \"\", IF(VLOOKUP(T235,'Footnotes list'!$B$5:$C$103,2,FALSE)=0,\"\",VLOOKUP(T235,'Footnotes list'!$B$5:$C$103,2,FALSE) ) )","v":""},null,null,null,null,{"$f":"IF(TRIM(Y235)=\"\", \"\", IF(VLOOKUP(Y235,'Footnotes list'!$B$5:$C$103,2,FALSE)=0,\"\",VLOOKUP(Y235,'Footnotes list'!$B$5:$C$103,2,FALSE) ) )","v":""},null,null,null,null,{"$f":"IF(TRIM(AD235)=\"\", \"\", IF(VLOOKUP(AD235,'Footnotes list'!$B$5:$C$103,2,FALSE)=0,\"\",VLOOKUP(AD235,'Footnotes list'!$B$5:$C$103,2,FALSE) ) )","v":""},null,null,null,null,{"$f":"IF(TRIM(AI235)=\"\", \"\", IF(VLOOKUP(AI235,'Footnotes list'!$B$5:$C$103,2,FALSE)=0,\"\",VLOOKUP(AI235,'Footnotes list'!$B$5:$C$103,2,FALSE) ) )","v":""}]
[null,null,null,null,"NL33","        Zuid-Holland",null,null,null,null,{"$f":"IF(TRIM(J236)=\"\", \"\", IF(VLOOKUP(J236,'Footnotes list'!$B$5:$C$103,2,FALSE)=0,\"\",VLOOKUP(J236,'Footnotes list'!$B$5:$C$103,2,FALSE) ) )","v":""},null,null,null,null,{"$f":"IF(TRIM(O236)=\"\", \"\", IF(VLOOKUP(O236,'Footnotes list'!$B$5:$C$103,2,FALSE)=0,\"\",VLOOKUP(O236,'Footnotes list'!$B$5:$C$103,2,FALSE) ) )","v":""},null,null,null,null,{"$f":"IF(TRIM(T236)=\"\", \"\", IF(VLOOKUP(T236,'Footnotes list'!$B$5:$C$103,2,FALSE)=0,\"\",VLOOKUP(T236,'Footnotes list'!$B$5:$C$103,2,FALSE) ) )","v":""},null,null,null,null,{"$f":"IF(TRIM(Y236)=\"\", \"\", IF(VLOOKUP(Y236,'Footnotes list'!$B$5:$C$103,2,FALSE)=0,\"\",VLOOKUP(Y236,'Footnotes list'!$B$5:$C$103,2,FALSE) ) )","v":""},null,null,null,null,{"$f":"IF(TRIM(AD236)=\"\", \"\", IF(VLOOKUP(AD236,'Footnotes list'!$B$5:$C$103,2,FALSE)=0,\"\",VLOOKUP(AD236,'Footnotes list'!$B$5:$C$103,2,FALSE) ) )","v":""},null,null,null,null,{"$f":"IF(TRIM(AI236)=\"\", \"\", IF(VLOOKUP(AI236,'Footnotes list'!$B$5:$C$103,2,FALSE)=0,\"\",VLOOKUP(AI236,'Footnotes list'!$B$5:$C$103,2,FALSE) ) )","v":""}]
[null,null,null,null,"NL34","        Zeeland",null,null,null,null,{"$f":"IF(TRIM(J237)=\"\", \"\", IF(VLOOKUP(J237,'Footnotes list'!$B$5:$C$103,2,FALSE)=0,\"\",VLOOKUP(J237,'Footnotes list'!$B$5:$C$103,2,FALSE) ) )","v":""},null,null,null,null,{"$f":"IF(TRIM(O237)=\"\", \"\", IF(VLOOKUP(O237,'Footnotes list'!$B$5:$C$103,2,FALSE)=0,\"\",VLOOKUP(O237,'Footnotes list'!$B$5:$C$103,2,FALSE) ) )","v":""},null,null,null,null,{"$f":"IF(TRIM(T237)=\"\", \"\", IF(VLOOKUP(T237,'Footnotes list'!$B$5:$C$103,2,FALSE)=0,\"\",VLOOKUP(T237,'Footnotes list'!$B$5:$C$103,2,FALSE) ) )","v":""},null,null,null,null,{"$f":"IF(TRIM(Y237)=\"\", \"\", IF(VLOOKUP(Y237,'Footnotes list'!$B$5:$C$103,2,FALSE)=0,\"\",VLOOKUP(Y237,'Footnotes list'!$B$5:$C$103,2,FALSE) ) )","v":""},null,null,null,null,{"$f":"IF(TRIM(AD237)=\"\", \"\", IF(VLOOKUP(AD237,'Footnotes list'!$B$5:$C$103,2,FALSE)=0,\"\",VLOOKUP(AD237,'Footnotes list'!$B$5:$C$103,2,FALSE) ) )","v":""},null,null,null,null,{"$f":"IF(TRIM(AI237)=\"\", \"\", IF(VLOOKUP(AI237,'Footnotes list'!$B$5:$C$103,2,FALSE)=0,\"\",VLOOKUP(AI237,'Footnotes list'!$B$5:$C$103,2,FALSE) ) )","v":""}]
[null,null,null,null,"NL4","    ZUID-NEDERLAND",null,null,null,null,{"$f":"IF(TRIM(J238)=\"\", \"\", IF(VLOOKUP(J238,'Footnotes list'!$B$5:$C$103,2,FALSE)=0,\"\",VLOOKUP(J238,'Footnotes list'!$B$5:$C$103,2,FALSE) ) )","v":""},null,null,null,null,{"$f":"IF(TRIM(O238)=\"\", \"\", IF(VLOOKUP(O238,'Footnotes list'!$B$5:$C$103,2,FALSE)=0,\"\",VLOOKUP(O238,'Footnotes list'!$B$5:$C$103,2,FALSE) ) )","v":""},null,null,null,null,{"$f":"IF(TRIM(T238)=\"\", \"\", IF(VLOOKUP(T238,'Footnotes list'!$B$5:$C$103,2,FALSE)=0,\"\",VLOOKUP(T238,'Footnotes list'!$B$5:$C$103,2,FALSE) ) )","v":""},null,null,null,null,{"$f":"IF(TRIM(Y238)=\"\", \"\", IF(VLOOKUP(Y238,'Footnotes list'!$B$5:$C$103,2,FALSE)=0,\"\",VLOOKUP(Y238,'Footnotes list'!$B$5:$C$103,2,FALSE) ) )","v":""},null,null,null,null,{"$f":"IF(TRIM(AD238)=\"\", \"\", IF(VLOOKUP(AD238,'Footnotes list'!$B$5:$C$103,2,FALSE)=0,\"\",VLOOKUP(AD238,'Footnotes list'!$B$5:$C$103,2,FALSE) ) )","v":""},null,null,null,null,{"$f":"IF(TRIM(AI238)=\"\", \"\", IF(VLOOKUP(AI238,'Footnotes list'!$B$5:$C$103,2,FALSE)=0,\"\",VLOOKUP(AI238,'Footnotes list'!$B$5:$C$103,2,FALSE) ) )","v":""}]
[null,null,null,null,"NL41","        Noord-Brabant",null,null,null,null,{"$f":"IF(TRIM(J239)=\"\", \"\", IF(VLOOKUP(J239,'Footnotes list'!$B$5:$C$103,2,FALSE)=0,\"\",VLOOKUP(J239,'Footnotes list'!$B$5:$C$103,2,FALSE) ) )","v":""},null,null,null,null,{"$f":"IF(TRIM(O239)=\"\", \"\", IF(VLOOKUP(O239,'Footnotes list'!$B$5:$C$103,2,FALSE)=0,\"\",VLOOKUP(O239,'Footnotes list'!$B$5:$C$103,2,FALSE) ) )","v":""},null,null,null,null,{"$f":"IF(TRIM(T239)=\"\", \"\", IF(VLOOKUP(T239,'Footnotes list'!$B$5:$C$103,2,FALSE)=0,\"\",VLOOKUP(T239,'Footnotes list'!$B$5:$C$103,2,FALSE) ) )","v":""},null,null,null,null,{"$f":"IF(TRIM(Y239)=\"\", \"\", IF(VLOOKUP(Y239,'Footnotes list'!$B$5:$C$103,2,FALSE)=0,\"\",VLOOKUP(Y239,'Footnotes list'!$B$5:$C$103,2,FALSE) ) )","v":""},null,null,null,null,{"$f":"IF(TRIM(AD239)=\"\", \"\", IF(VLOOKUP(AD239,'Footnotes list'!$B$5:$C$103,2,FALSE)=0,\"\",VLOOKUP(AD239,'Footnotes list'!$B$5:$C$103,2,FALSE) ) )","v":""},null,null,null,null,{"$f":"IF(TRIM(AI239)=\"\", \"\", IF(VLOOKUP(AI239,'Footnotes list'!$B$5:$C$103,2,FALSE)=0,\"\",VLOOKUP(AI239,'Footnotes list'!$B$5:$C$103,2,FALSE) ) )","v":""}]
[null,null,null,null,"NL42","        Limburg (NL)",null,null,null,null,{"$f":"IF(TRIM(J240)=\"\", \"\", IF(VLOOKUP(J240,'Footnotes list'!$B$5:$C$103,2,FALSE)=0,\"\",VLOOKUP(J240,'Footnotes list'!$B$5:$C$103,2,FALSE) ) )","v":""},null,null,null,null,{"$f":"IF(TRIM(O240)=\"\", \"\", IF(VLOOKUP(O240,'Footnotes list'!$B$5:$C$103,2,FALSE)=0,\"\",VLOOKUP(O240,'Footnotes list'!$B$5:$C$103,2,FALSE) ) )","v":""},null,null,null,null,{"$f":"IF(TRIM(T240)=\"\", \"\", IF(VLOOKUP(T240,'Footnotes list'!$B$5:$C$103,2,FALSE)=0,\"\",VLOOKUP(T240,'Footnotes list'!$B$5:$C$103,2,FALSE) ) )","v":""},null,null,null,null,{"$f":"IF(TRIM(Y240)=\"\", \"\", IF(VLOOKUP(Y240,'Footnotes list'!$B$5:$C$103,2,FALSE)=0,\"\",VLOOKUP(Y240,'Footnotes list'!$B$5:$C$103,2,FALSE) ) )","v":""},null,null,null,null,{"$f":"IF(TRIM(AD240)=\"\", \"\", IF(VLOOKUP(AD240,'Footnotes list'!$B$5:$C$103,2,FALSE)=0,\"\",VLOOKUP(AD240,'Footnotes list'!$B$5:$C$103,2,FALSE) ) )","v":""},null,null,null,null,{"$f":"IF(TRIM(AI240)=\"\", \"\", IF(VLOOKUP(AI240,'Footnotes list'!$B$5:$C$103,2,FALSE)=0,\"\",VLOOKUP(AI240,'Footnotes list'!$B$5:$C$103,2,FALSE) ) )","v":""}]
[null,null,null,null,"AT","ÖSTERREICH",null,null,null,null,{"$f":"IF(TRIM(J241)=\"\", \"\", IF(VLOOKUP(J241,'Footnotes list'!$B$5:$C$103,2,FALSE)=0,\"\",VLOOKUP(J241,'Footnotes list'!$B$5:$C$103,2,FALSE) ) )","v":""},null,null,null,null,{"$f":"IF(TRIM(O241)=\"\", \"\", IF(VLOOKUP(O241,'Footnotes list'!$B$5:$C$103,2,FALSE)=0,\"\",VLOOKUP(O241,'Footnotes list'!$B$5:$C$103,2,FALSE) ) )","v":""},null,null,null,null,{"$f":"IF(TRIM(T241)=\"\", \"\", IF(VLOOKUP(T241,'Footnotes list'!$B$5:$C$103,2,FALSE)=0,\"\",VLOOKUP(T241,'Footnotes list'!$B$5:$C$103,2,FALSE) ) )","v":""},null,null,null,null,{"$f":"IF(TRIM(Y241)=\"\", \"\", IF(VLOOKUP(Y241,'Footnotes list'!$B$5:$C$103,2,FALSE)=0,\"\",VLOOKUP(Y241,'Footnotes list'!$B$5:$C$103,2,FALSE) ) )","v":""},null,null,null,null,{"$f":"IF(TRIM(AD241)=\"\", \"\", IF(VLOOKUP(AD241,'Footnotes list'!$B$5:$C$103,2,FALSE)=0,\"\",VLOOKUP(AD241,'Footnotes list'!$B$5:$C$103,2,FALSE) ) )","v":""},null,null,null,null,{"$f":"IF(TRIM(AI241)=\"\", \"\", IF(VLOOKUP(AI241,'Footnotes list'!$B$5:$C$103,2,FALSE)=0,\"\",VLOOKUP(AI241,'Footnotes list'!$B$5:$C$103,2,FALSE) ) )","v":""}]
[null,null,null,null,"AT1","    OSTÖSTERREICH",null,null,null,null,{"$f":"IF(TRIM(J242)=\"\", \"\", IF(VLOOKUP(J242,'Footnotes list'!$B$5:$C$103,2,FALSE)=0,\"\",VLOOKUP(J242,'Footnotes list'!$B$5:$C$103,2,FALSE) ) )","v":""},null,null,null,null,{"$f":"IF(TRIM(O242)=\"\", \"\", IF(VLOOKUP(O242,'Footnotes list'!$B$5:$C$103,2,FALSE)=0,\"\",VLOOKUP(O242,'Footnotes list'!$B$5:$C$103,2,FALSE) ) )","v":""},null,null,null,null,{"$f":"IF(TRIM(T242)=\"\", \"\", IF(VLOOKUP(T242,'Footnotes list'!$B$5:$C$103,2,FALSE)=0,\"\",VLOOKUP(T242,'Footnotes list'!$B$5:$C$103,2,FALSE) ) )","v":""},null,null,null,null,{"$f":"IF(TRIM(Y242)=\"\", \"\", IF(VLOOKUP(Y242,'Footnotes list'!$B$5:$C$103,2,FALSE)=0,\"\",VLOOKUP(Y242,'Footnotes list'!$B$5:$C$103,2,FALSE) ) )","v":""},null,null,null,null,{"$f":"IF(TRIM(AD242)=\"\", \"\", IF(VLOOKUP(AD242,'Footnotes list'!$B$5:$C$103,2,FALSE)=0,\"\",VLOOKUP(AD242,'Footnotes list'!$B$5:$C$103,2,FALSE) ) )","v":""},null,null,null,null,{"$f":"IF(TRIM(AI242)=\"\", \"\", IF(VLOOKUP(AI242,'Footnotes list'!$B$5:$C$103,2,FALSE)=0,\"\",VLOOKUP(AI242,'Footnotes list'!$B$5:$C$103,2,FALSE) ) )","v":""}]
[null,null,null,null,"AT11","        Burgenland",null,null,null,null,{"$f":"IF(TRIM(J243)=\"\", \"\", IF(VLOOKUP(J243,'Footnotes list'!$B$5:$C$103,2,FALSE)=0,\"\",VLOOKUP(J243,'Footnotes list'!$B$5:$C$103,2,FALSE) ) )","v":""},null,null,null,null,{"$f":"IF(TRIM(O243)=\"\", \"\", IF(VLOOKUP(O243,'Footnotes list'!$B$5:$C$103,2,FALSE)=0,\"\",VLOOKUP(O243,'Footnotes list'!$B$5:$C$103,2,FALSE) ) )","v":""},null,null,null,null,{"$f":"IF(TRIM(T243)=\"\", \"\", IF(VLOOKUP(T243,'Footnotes list'!$B$5:$C$103,2,FALSE)=0,\"\",VLOOKUP(T243,'Footnotes list'!$B$5:$C$103,2,FALSE) ) )","v":""},null,null,null,null,{"$f":"IF(TRIM(Y243)=\"\", \"\", IF(VLOOKUP(Y243,'Footnotes list'!$B$5:$C$103,2,FALSE)=0,\"\",VLOOKUP(Y243,'Footnotes list'!$B$5:$C$103,2,FALSE) ) )","v":""},null,null,null,null,{"$f":"IF(TRIM(AD243)=\"\", \"\", IF(VLOOKUP(AD243,'Footnotes list'!$B$5:$C$103,2,FALSE)=0,\"\",VLOOKUP(AD243,'Footnotes list'!$B$5:$C$103,2,FALSE) ) )","v":""},null,null,null,null,{"$f":"IF(TRIM(AI243)=\"\", \"\", IF(VLOOKUP(AI243,'Footnotes list'!$B$5:$C$103,2,FALSE)=0,\"\",VLOOKUP(AI243,'Footnotes list'!$B$5:$C$103,2,FALSE) ) )","v":""}]
[null,null,null,null,"AT12","        Niederösterreich",null,null,null,null,{"$f":"IF(TRIM(J244)=\"\", \"\", IF(VLOOKUP(J244,'Footnotes list'!$B$5:$C$103,2,FALSE)=0,\"\",VLOOKUP(J244,'Footnotes list'!$B$5:$C$103,2,FALSE) ) )","v":""},null,null,null,null,{"$f":"IF(TRIM(O244)=\"\", \"\", IF(VLOOKUP(O244,'Footnotes list'!$B$5:$C$103,2,FALSE)=0,\"\",VLOOKUP(O244,'Footnotes list'!$B$5:$C$103,2,FALSE) ) )","v":""},null,null,null,null,{"$f":"IF(TRIM(T244)=\"\", \"\", IF(VLOOKUP(T244,'Footnotes list'!$B$5:$C$103,2,FALSE)=0,\"\",VLOOKUP(T244,'Footnotes list'!$B$5:$C$103,2,FALSE) ) )","v":""},null,null,null,null,{"$f":"IF(TRIM(Y244)=\"\", \"\", IF(VLOOKUP(Y244,'Footnotes list'!$B$5:$C$103,2,FALSE)=0,\"\",VLOOKUP(Y244,'Footnotes list'!$B$5:$C$103,2,FALSE) ) )","v":""},null,null,null,null,{"$f":"IF(TRIM(AD244)=\"\", \"\", IF(VLOOKUP(AD244,'Footnotes list'!$B$5:$C$103,2,FALSE)=0,\"\",VLOOKUP(AD244,'Footnotes list'!$B$5:$C$103,2,FALSE) ) )","v":""},null,null,null,null,{"$f":"IF(TRIM(AI244)=\"\", \"\", IF(VLOOKUP(AI244,'Footnotes list'!$B$5:$C$103,2,FALSE)=0,\"\",VLOOKUP(AI244,'Footnotes list'!$B$5:$C$103,2,FALSE) ) )","v":""}]
[null,null,null,null,"AT13","        Wien",null,null,null,null,{"$f":"IF(TRIM(J245)=\"\", \"\", IF(VLOOKUP(J245,'Footnotes list'!$B$5:$C$103,2,FALSE)=0,\"\",VLOOKUP(J245,'Footnotes list'!$B$5:$C$103,2,FALSE) ) )","v":""},null,null,null,null,{"$f":"IF(TRIM(O245)=\"\", \"\", IF(VLOOKUP(O245,'Footnotes list'!$B$5:$C$103,2,FALSE)=0,\"\",VLOOKUP(O245,'Footnotes list'!$B$5:$C$103,2,FALSE) ) )","v":""},null,null,null,null,{"$f":"IF(TRIM(T245)=\"\", \"\", IF(VLOOKUP(T245,'Footnotes list'!$B$5:$C$103,2,FALSE)=0,\"\",VLOOKUP(T245,'Footnotes list'!$B$5:$C$103,2,FALSE) ) )","v":""},null,null,null,null,{"$f":"IF(TRIM(Y245)=\"\", \"\", IF(VLOOKUP(Y245,'Footnotes list'!$B$5:$C$103,2,FALSE)=0,\"\",VLOOKUP(Y245,'Footnotes list'!$B$5:$C$103,2,FALSE) ) )","v":""},null,null,null,null,{"$f":"IF(TRIM(AD245)=\"\", \"\", IF(VLOOKUP(AD245,'Footnotes list'!$B$5:$C$103,2,FALSE)=0,\"\",VLOOKUP(AD245,'Footnotes list'!$B$5:$C$103,2,FALSE) ) )","v":""},null,null,null,null,{"$f":"IF(TRIM(AI245)=\"\", \"\", IF(VLOOKUP(AI245,'Footnotes list'!$B$5:$C$103,2,FALSE)=0,\"\",VLOOKUP(AI245,'Footnotes list'!$B$5:$C$103,2,FALSE) ) )","v":""}]
[null,null,null,null,"AT2","    SÜDÖSTERREICH",null,null,null,null,{"$f":"IF(TRIM(J246)=\"\", \"\", IF(VLOOKUP(J246,'Footnotes list'!$B$5:$C$103,2,FALSE)=0,\"\",VLOOKUP(J246,'Footnotes list'!$B$5:$C$103,2,FALSE) ) )","v":""},null,null,null,null,{"$f":"IF(TRIM(O246)=\"\", \"\", IF(VLOOKUP(O246,'Footnotes list'!$B$5:$C$103,2,FALSE)=0,\"\",VLOOKUP(O246,'Footnotes list'!$B$5:$C$103,2,FALSE) ) )","v":""},null,null,null,null,{"$f":"IF(TRIM(T246)=\"\", \"\", IF(VLOOKUP(T246,'Footnotes list'!$B$5:$C$103,2,FALSE)=0,\"\",VLOOKUP(T246,'Footnotes list'!$B$5:$C$103,2,FALSE) ) )","v":""},null,null,null,null,{"$f":"IF(TRIM(Y246)=\"\", \"\", IF(VLOOKUP(Y246,'Footnotes list'!$B$5:$C$103,2,FALSE)=0,\"\",VLOOKUP(Y246,'Footnotes list'!$B$5:$C$103,2,FALSE) ) )","v":""},null,null,null,null,{"$f":"IF(TRIM(AD246)=\"\", \"\", IF(VLOOKUP(AD246,'Footnotes list'!$B$5:$C$103,2,FALSE)=0,\"\",VLOOKUP(AD246,'Footnotes list'!$B$5:$C$103,2,FALSE) ) )","v":""},null,null,null,null,{"$f":"IF(TRIM(AI246)=\"\", \"\", IF(VLOOKUP(AI246,'Footnotes list'!$B$5:$C$103,2,FALSE)=0,\"\",VLOOKUP(AI246,'Footnotes list'!$B$5:$C$103,2,FALSE) ) )","v":""}]
[null,null,null,"AUSTRIA","AT21","        Kärnten",null,null,null,null,{"$f":"IF(TRIM(J247)=\"\", \"\", IF(VLOOKUP(J247,'Footnotes list'!$B$5:$C$103,2,FALSE)=0,\"\",VLOOKUP(J247,'Footnotes list'!$B$5:$C$103,2,FALSE) ) )","v":""},null,null,null,null,{"$f":"IF(TRIM(O247)=\"\", \"\", IF(VLOOKUP(O247,'Footnotes list'!$B$5:$C$103,2,FALSE)=0,\"\",VLOOKUP(O247,'Footnotes list'!$B$5:$C$103,2,FALSE) ) )","v":""},null,null,null,null,{"$f":"IF(TRIM(T247)=\"\", \"\", IF(VLOOKUP(T247,'Footnotes list'!$B$5:$C$103,2,FALSE)=0,\"\",VLOOKUP(T247,'Footnotes list'!$B$5:$C$103,2,FALSE) ) )","v":""},null,null,null,null,{"$f":"IF(TRIM(Y247)=\"\", \"\", IF(VLOOKUP(Y247,'Footnotes list'!$B$5:$C$103,2,FALSE)=0,\"\",VLOOKUP(Y247,'Footnotes list'!$B$5:$C$103,2,FALSE) ) )","v":""},null,null,null,null,{"$f":"IF(TRIM(AD247)=\"\", \"\", IF(VLOOKUP(AD247,'Footnotes list'!$B$5:$C$103,2,FALSE)=0,\"\",VLOOKUP(AD247,'Footnotes list'!$B$5:$C$103,2,FALSE) ) )","v":""},null,null,null,null,{"$f":"IF(TRIM(AI247)=\"\", \"\", IF(VLOOKUP(AI247,'Footnotes list'!$B$5:$C$103,2,FALSE)=0,\"\",VLOOKUP(AI247,'Footnotes list'!$B$5:$C$103,2,FALSE) ) )","v":""}]
[null,null,null,null,"AT22","        Steiermark",null,null,null,null,{"$f":"IF(TRIM(J248)=\"\", \"\", IF(VLOOKUP(J248,'Footnotes list'!$B$5:$C$103,2,FALSE)=0,\"\",VLOOKUP(J248,'Footnotes list'!$B$5:$C$103,2,FALSE) ) )","v":""},null,null,null,null,{"$f":"IF(TRIM(O248)=\"\", \"\", IF(VLOOKUP(O248,'Footnotes list'!$B$5:$C$103,2,FALSE)=0,\"\",VLOOKUP(O248,'Footnotes list'!$B$5:$C$103,2,FALSE) ) )","v":""},null,null,null,null,{"$f":"IF(TRIM(T248)=\"\", \"\", IF(VLOOKUP(T248,'Footnotes list'!$B$5:$C$103,2,FALSE)=0,\"\",VLOOKUP(T248,'Footnotes list'!$B$5:$C$103,2,FALSE) ) )","v":""},null,null,null,null,{"$f":"IF(TRIM(Y248)=\"\", \"\", IF(VLOOKUP(Y248,'Footnotes list'!$B$5:$C$103,2,FALSE)=0,\"\",VLOOKUP(Y248,'Footnotes list'!$B$5:$C$103,2,FALSE) ) )","v":""},null,null,null,null,{"$f":"IF(TRIM(AD248)=\"\", \"\", IF(VLOOKUP(AD248,'Footnotes list'!$B$5:$C$103,2,FALSE)=0,\"\",VLOOKUP(AD248,'Footnotes list'!$B$5:$C$103,2,FALSE) ) )","v":""},null,null,null,null,{"$f":"IF(TRIM(AI248)=\"\", \"\", IF(VLOOKUP(AI248,'Footnotes list'!$B$5:$C$103,2,FALSE)=0,\"\",VLOOKUP(AI248,'Footnotes list'!$B$5:$C$103,2,FALSE) ) )","v":""}]
[null,null,null,null,"AT3","    WESTÖSTERREICH",null,null,null,null,{"$f":"IF(TRIM(J249)=\"\", \"\", IF(VLOOKUP(J249,'Footnotes list'!$B$5:$C$103,2,FALSE)=0,\"\",VLOOKUP(J249,'Footnotes list'!$B$5:$C$103,2,FALSE) ) )","v":""},null,null,null,null,{"$f":"IF(TRIM(O249)=\"\", \"\", IF(VLOOKUP(O249,'Footnotes list'!$B$5:$C$103,2,FALSE)=0,\"\",VLOOKUP(O249,'Footnotes list'!$B$5:$C$103,2,FALSE) ) )","v":""},null,null,null,null,{"$f":"IF(TRIM(T249)=\"\", \"\", IF(VLOOKUP(T249,'Footnotes list'!$B$5:$C$103,2,FALSE)=0,\"\",VLOOKUP(T249,'Footnotes list'!$B$5:$C$103,2,FALSE) ) )","v":""},null,null,null,null,{"$f":"IF(TRIM(Y249)=\"\", \"\", IF(VLOOKUP(Y249,'Footnotes list'!$B$5:$C$103,2,FALSE)=0,\"\",VLOOKUP(Y249,'Footnotes list'!$B$5:$C$103,2,FALSE) ) )","v":""},null,null,null,null,{"$f":"IF(TRIM(AD249)=\"\", \"\", IF(VLOOKUP(AD249,'Footnotes list'!$B$5:$C$103,2,FALSE)=0,\"\",VLOOKUP(AD249,'Footnotes list'!$B$5:$C$103,2,FALSE) ) )","v":""},null,null,null,null,{"$f":"IF(TRIM(AI249)=\"\", \"\", IF(VLOOKUP(AI249,'Footnotes list'!$B$5:$C$103,2,FALSE)=0,\"\",VLOOKUP(AI249,'Footnotes list'!$B$5:$C$103,2,FALSE) ) )","v":""}]
[null,null,null,null,"AT31","        Oberösterreich",null,null,null,null,{"$f":"IF(TRIM(J250)=\"\", \"\", IF(VLOOKUP(J250,'Footnotes list'!$B$5:$C$103,2,FALSE)=0,\"\",VLOOKUP(J250,'Footnotes list'!$B$5:$C$103,2,FALSE) ) )","v":""},null,null,null,null,{"$f":"IF(TRIM(O250)=\"\", \"\", IF(VLOOKUP(O250,'Footnotes list'!$B$5:$C$103,2,FALSE)=0,\"\",VLOOKUP(O250,'Footnotes list'!$B$5:$C$103,2,FALSE) ) )","v":""},null,null,null,null,{"$f":"IF(TRIM(T250)=\"\", \"\", IF(VLOOKUP(T250,'Footnotes list'!$B$5:$C$103,2,FALSE)=0,\"\",VLOOKUP(T250,'Footnotes list'!$B$5:$C$103,2,FALSE) ) )","v":""},null,null,null,null,{"$f":"IF(TRIM(Y250)=\"\", \"\", IF(VLOOKUP(Y250,'Footnotes list'!$B$5:$C$103,2,FALSE)=0,\"\",VLOOKUP(Y250,'Footnotes list'!$B$5:$C$103,2,FALSE) ) )","v":""},null,null,null,null,{"$f":"IF(TRIM(AD250)=\"\", \"\", IF(VLOOKUP(AD250,'Footnotes list'!$B$5:$C$103,2,FALSE)=0,\"\",VLOOKUP(AD250,'Footnotes list'!$B$5:$C$103,2,FALSE) ) )","v":""},null,null,null,null,{"$f":"IF(TRIM(AI250)=\"\", \"\", IF(VLOOKUP(AI250,'Footnotes list'!$B$5:$C$103,2,FALSE)=0,\"\",VLOOKUP(AI250,'Footnotes list'!$B$5:$C$103,2,FALSE) ) )","v":""}]
[null,null,null,null,"AT32","        Salzburg",null,null,null,null,{"$f":"IF(TRIM(J251)=\"\", \"\", IF(VLOOKUP(J251,'Footnotes list'!$B$5:$C$103,2,FALSE)=0,\"\",VLOOKUP(J251,'Footnotes list'!$B$5:$C$103,2,FALSE) ) )","v":""},null,null,null,null,{"$f":"IF(TRIM(O251)=\"\", \"\", IF(VLOOKUP(O251,'Footnotes list'!$B$5:$C$103,2,FALSE)=0,\"\",VLOOKUP(O251,'Footnotes list'!$B$5:$C$103,2,FALSE) ) )","v":""},null,null,null,null,{"$f":"IF(TRIM(T251)=\"\", \"\", IF(VLOOKUP(T251,'Footnotes list'!$B$5:$C$103,2,FALSE)=0,\"\",VLOOKUP(T251,'Footnotes list'!$B$5:$C$103,2,FALSE) ) )","v":""},null,null,null,null,{"$f":"IF(TRIM(Y251)=\"\", \"\", IF(VLOOKUP(Y251,'Footnotes list'!$B$5:$C$103,2,FALSE)=0,\"\",VLOOKUP(Y251,'Footnotes list'!$B$5:$C$103,2,FALSE) ) )","v":""},null,null,null,null,{"$f":"IF(TRIM(AD251)=\"\", \"\", IF(VLOOKUP(AD251,'Footnotes list'!$B$5:$C$103,2,FALSE)=0,\"\",VLOOKUP(AD251,'Footnotes list'!$B$5:$C$103,2,FALSE) ) )","v":""},null,null,null,null,{"$f":"IF(TRIM(AI251)=\"\", \"\", IF(VLOOKUP(AI251,'Footnotes list'!$B$5:$C$103,2,FALSE)=0,\"\",VLOOKUP(AI251,'Footnotes list'!$B$5:$C$103,2,FALSE) ) )","v":""}]
[null,null,null,null,"AT33","        Tirol",null,null,null,null,{"$f":"IF(TRIM(J252)=\"\", \"\", IF(VLOOKUP(J252,'Footnotes list'!$B$5:$C$103,2,FALSE)=0,\"\",VLOOKUP(J252,'Footnotes list'!$B$5:$C$103,2,FALSE) ) )","v":""},null,null,null,null,{"$f":"IF(TRIM(O252)=\"\", \"\", IF(VLOOKUP(O252,'Footnotes list'!$B$5:$C$103,2,FALSE)=0,\"\",VLOOKUP(O252,'Footnotes list'!$B$5:$C$103,2,FALSE) ) )","v":""},null,null,null,null,{"$f":"IF(TRIM(T252)=\"\", \"\", IF(VLOOKUP(T252,'Footnotes list'!$B$5:$C$103,2,FALSE)=0,\"\",VLOOKUP(T252,'Footnotes list'!$B$5:$C$103,2,FALSE) ) )","v":""},null,null,null,null,{"$f":"IF(TRIM(Y252)=\"\", \"\", IF(VLOOKUP(Y252,'Footnotes list'!$B$5:$C$103,2,FALSE)=0,\"\",VLOOKUP(Y252,'Footnotes list'!$B$5:$C$103,2,FALSE) ) )","v":""},null,null,null,null,{"$f":"IF(TRIM(AD252)=\"\", \"\", IF(VLOOKUP(AD252,'Footnotes list'!$B$5:$C$103,2,FALSE)=0,\"\",VLOOKUP(AD252,'Footnotes list'!$B$5:$C$103,2,FALSE) ) )","v":""},null,null,null,null,{"$f":"IF(TRIM(AI252)=\"\", \"\", IF(VLOOKUP(AI252,'Footnotes list'!$B$5:$C$103,2,FALSE)=0,\"\",VLOOKUP(AI252,'Footnotes list'!$B$5:$C$103,2,FALSE) ) )","v":""}]
[null,null,null,null,"AT34","        Vorarlberg",null,null,null,null,{"$f":"IF(TRIM(J253)=\"\", \"\", IF(VLOOKUP(J253,'Footnotes list'!$B$5:$C$103,2,FALSE)=0,\"\",VLOOKUP(J253,'Footnotes list'!$B$5:$C$103,2,FALSE) ) )","v":""},null,null,null,null,{"$f":"IF(TRIM(O253)=\"\", \"\", IF(VLOOKUP(O253,'Footnotes list'!$B$5:$C$103,2,FALSE)=0,\"\",VLOOKUP(O253,'Footnotes list'!$B$5:$C$103,2,FALSE) ) )","v":""},null,null,null,null,{"$f":"IF(TRIM(T253)=\"\", \"\", IF(VLOOKUP(T253,'Footnotes list'!$B$5:$C$103,2,FALSE)=0,\"\",VLOOKUP(T253,'Footnotes list'!$B$5:$C$103,2,FALSE) ) )","v":""},null,null,null,null,{"$f":"IF(TRIM(Y253)=\"\", \"\", IF(VLOOKUP(Y253,'Footnotes list'!$B$5:$C$103,2,FALSE)=0,\"\",VLOOKUP(Y253,'Footnotes list'!$B$5:$C$103,2,FALSE) ) )","v":""},null,null,null,null,{"$f":"IF(TRIM(AD253)=\"\", \"\", IF(VLOOKUP(AD253,'Footnotes list'!$B$5:$C$103,2,FALSE)=0,\"\",VLOOKUP(AD253,'Footnotes list'!$B$5:$C$103,2,FALSE) ) )","v":""},null,null,null,null,{"$f":"IF(TRIM(AI253)=\"\", \"\", IF(VLOOKUP(AI253,'Footnotes list'!$B$5:$C$103,2,FALSE)=0,\"\",VLOOKUP(AI253,'Footnotes list'!$B$5:$C$103,2,FALSE) ) )","v":""}]
[null,null,null,null,"PL","POLSKA",null,null,null,null,{"$f":"IF(TRIM(J254)=\"\", \"\", IF(VLOOKUP(J254,'Footnotes list'!$B$5:$C$103,2,FALSE)=0,\"\",VLOOKUP(J254,'Footnotes list'!$B$5:$C$103,2,FALSE) ) )","v":""},null,null,null,null,{"$f":"IF(TRIM(O254)=\"\", \"\", IF(VLOOKUP(O254,'Footnotes list'!$B$5:$C$103,2,FALSE)=0,\"\",VLOOKUP(O254,'Footnotes list'!$B$5:$C$103,2,FALSE) ) )","v":""},null,null,null,null,{"$f":"IF(TRIM(T254)=\"\", \"\", IF(VLOOKUP(T254,'Footnotes list'!$B$5:$C$103,2,FALSE)=0,\"\",VLOOKUP(T254,'Footnotes list'!$B$5:$C$103,2,FALSE) ) )","v":""},null,null,null,null,{"$f":"IF(TRIM(Y254)=\"\", \"\", IF(VLOOKUP(Y254,'Footnotes list'!$B$5:$C$103,2,FALSE)=0,\"\",VLOOKUP(Y254,'Footnotes list'!$B$5:$C$103,2,FALSE) ) )","v":""},null,null,null,null,{"$f":"IF(TRIM(AD254)=\"\", \"\", IF(VLOOKUP(AD254,'Footnotes list'!$B$5:$C$103,2,FALSE)=0,\"\",VLOOKUP(AD254,'Footnotes list'!$B$5:$C$103,2,FALSE) ) )","v":""},null,null,null,null,{"$f":"IF(TRIM(AI254)=\"\", \"\", IF(VLOOKUP(AI254,'Footnotes list'!$B$5:$C$103,2,FALSE)=0,\"\",VLOOKUP(AI254,'Footnotes list'!$B$5:$C$103,2,FALSE) ) )","v":""}]
[null,null,null,null,"PL2","    MAKROREGION POŁUDNIOWY",null,null,null,null,{"$f":"IF(TRIM(J255)=\"\", \"\", IF(VLOOKUP(J255,'Footnotes list'!$B$5:$C$103,2,FALSE)=0,\"\",VLOOKUP(J255,'Footnotes list'!$B$5:$C$103,2,FALSE) ) )","v":""},null,null,null,null,{"$f":"IF(TRIM(O255)=\"\", \"\", IF(VLOOKUP(O255,'Footnotes list'!$B$5:$C$103,2,FALSE)=0,\"\",VLOOKUP(O255,'Footnotes list'!$B$5:$C$103,2,FALSE) ) )","v":""},null,null,null,null,{"$f":"IF(TRIM(T255)=\"\", \"\", IF(VLOOKUP(T255,'Footnotes list'!$B$5:$C$103,2,FALSE)=0,\"\",VLOOKUP(T255,'Footnotes list'!$B$5:$C$103,2,FALSE) ) )","v":""},null,null,null,null,{"$f":"IF(TRIM(Y255)=\"\", \"\", IF(VLOOKUP(Y255,'Footnotes list'!$B$5:$C$103,2,FALSE)=0,\"\",VLOOKUP(Y255,'Footnotes list'!$B$5:$C$103,2,FALSE) ) )","v":""},null,null,null,null,{"$f":"IF(TRIM(AD255)=\"\", \"\", IF(VLOOKUP(AD255,'Footnotes list'!$B$5:$C$103,2,FALSE)=0,\"\",VLOOKUP(AD255,'Footnotes list'!$B$5:$C$103,2,FALSE) ) )","v":""},null,null,null,null,{"$f":"IF(TRIM(AI255)=\"\", \"\", IF(VLOOKUP(AI255,'Footnotes list'!$B$5:$C$103,2,FALSE)=0,\"\",VLOOKUP(AI255,'Footnotes list'!$B$5:$C$103,2,FALSE) ) )","v":""}]
[null,null,null,null,"PL21","        Małopolskie",null,null,null,null,{"$f":"IF(TRIM(J256)=\"\", \"\", IF(VLOOKUP(J256,'Footnotes list'!$B$5:$C$103,2,FALSE)=0,\"\",VLOOKUP(J256,'Footnotes list'!$B$5:$C$103,2,FALSE) ) )","v":""},null,null,null,null,{"$f":"IF(TRIM(O256)=\"\", \"\", IF(VLOOKUP(O256,'Footnotes list'!$B$5:$C$103,2,FALSE)=0,\"\",VLOOKUP(O256,'Footnotes list'!$B$5:$C$103,2,FALSE) ) )","v":""},null,null,null,null,{"$f":"IF(TRIM(T256)=\"\", \"\", IF(VLOOKUP(T256,'Footnotes list'!$B$5:$C$103,2,FALSE)=0,\"\",VLOOKUP(T256,'Footnotes list'!$B$5:$C$103,2,FALSE) ) )","v":""},null,null,null,null,{"$f":"IF(TRIM(Y256)=\"\", \"\", IF(VLOOKUP(Y256,'Footnotes list'!$B$5:$C$103,2,FALSE)=0,\"\",VLOOKUP(Y256,'Footnotes list'!$B$5:$C$103,2,FALSE) ) )","v":""},null,null,null,null,{"$f":"IF(TRIM(AD256)=\"\", \"\", IF(VLOOKUP(AD256,'Footnotes list'!$B$5:$C$103,2,FALSE)=0,\"\",VLOOKUP(AD256,'Footnotes list'!$B$5:$C$103,2,FALSE) ) )","v":""},null,null,null,null,{"$f":"IF(TRIM(AI256)=\"\", \"\", IF(VLOOKUP(AI256,'Footnotes list'!$B$5:$C$103,2,FALSE)=0,\"\",VLOOKUP(AI256,'Footnotes list'!$B$5:$C$103,2,FALSE) ) )","v":""}]
[null,null,null,null,"PL22","        Śląskie",null,null,null,null,{"$f":"IF(TRIM(J257)=\"\", \"\", IF(VLOOKUP(J257,'Footnotes list'!$B$5:$C$103,2,FALSE)=0,\"\",VLOOKUP(J257,'Footnotes list'!$B$5:$C$103,2,FALSE) ) )","v":""},null,null,null,null,{"$f":"IF(TRIM(O257)=\"\", \"\", IF(VLOOKUP(O257,'Footnotes list'!$B$5:$C$103,2,FALSE)=0,\"\",VLOOKUP(O257,'Footnotes list'!$B$5:$C$103,2,FALSE) ) )","v":""},null,null,null,null,{"$f":"IF(TRIM(T257)=\"\", \"\", IF(VLOOKUP(T257,'Footnotes list'!$B$5:$C$103,2,FALSE)=0,\"\",VLOOKUP(T257,'Footnotes list'!$B$5:$C$103,2,FALSE) ) )","v":""},null,null,null,null,{"$f":"IF(TRIM(Y257)=\"\", \"\", IF(VLOOKUP(Y257,'Footnotes list'!$B$5:$C$103,2,FALSE)=0,\"\",VLOOKUP(Y257,'Footnotes list'!$B$5:$C$103,2,FALSE) ) )","v":""},null,null,null,null,{"$f":"IF(TRIM(AD257)=\"\", \"\", IF(VLOOKUP(AD257,'Footnotes list'!$B$5:$C$103,2,FALSE)=0,\"\",VLOOKUP(AD257,'Footnotes list'!$B$5:$C$103,2,FALSE) ) )","v":""},null,null,null,null,{"$f":"IF(TRIM(AI257)=\"\", \"\", IF(VLOOKUP(AI257,'Footnotes list'!$B$5:$C$103,2,FALSE)=0,\"\",VLOOKUP(AI257,'Footnotes list'!$B$5:$C$103,2,FALSE) ) )","v":""}]
[null,null,null,null,"PL4","    MAKROREGION PÓŁNOCNO-ZACHODNI",null,null,null,null,{"$f":"IF(TRIM(J258)=\"\", \"\", IF(VLOOKUP(J258,'Footnotes list'!$B$5:$C$103,2,FALSE)=0,\"\",VLOOKUP(J258,'Footnotes list'!$B$5:$C$103,2,FALSE) ) )","v":""},null,null,null,null,{"$f":"IF(TRIM(O258)=\"\", \"\", IF(VLOOKUP(O258,'Footnotes list'!$B$5:$C$103,2,FALSE)=0,\"\",VLOOKUP(O258,'Footnotes list'!$B$5:$C$103,2,FALSE) ) )","v":""},null,null,null,null,{"$f":"IF(TRIM(T258)=\"\", \"\", IF(VLOOKUP(T258,'Footnotes list'!$B$5:$C$103,2,FALSE)=0,\"\",VLOOKUP(T258,'Footnotes list'!$B$5:$C$103,2,FALSE) ) )","v":""},null,null,null,null,{"$f":"IF(TRIM(Y258)=\"\", \"\", IF(VLOOKUP(Y258,'Footnotes list'!$B$5:$C$103,2,FALSE)=0,\"\",VLOOKUP(Y258,'Footnotes list'!$B$5:$C$103,2,FALSE) ) )","v":""},null,null,null,null,{"$f":"IF(TRIM(AD258)=\"\", \"\", IF(VLOOKUP(AD258,'Footnotes list'!$B$5:$C$103,2,FALSE)=0,\"\",VLOOKUP(AD258,'Footnotes list'!$B$5:$C$103,2,FALSE) ) )","v":""},null,null,null,null,{"$f":"IF(TRIM(AI258)=\"\", \"\", IF(VLOOKUP(AI258,'Footnotes list'!$B$5:$C$103,2,FALSE)=0,\"\",VLOOKUP(AI258,'Footnotes list'!$B$5:$C$103,2,FALSE) ) )","v":""}]
[null,null,null,null,"PL41","        Wielkopolskie",null,null,null,null,{"$f":"IF(TRIM(J259)=\"\", \"\", IF(VLOOKUP(J259,'Footnotes list'!$B$5:$C$103,2,FALSE)=0,\"\",VLOOKUP(J259,'Footnotes list'!$B$5:$C$103,2,FALSE) ) )","v":""},null,null,null,null,{"$f":"IF(TRIM(O259)=\"\", \"\", IF(VLOOKUP(O259,'Footnotes list'!$B$5:$C$103,2,FALSE)=0,\"\",VLOOKUP(O259,'Footnotes list'!$B$5:$C$103,2,FALSE) ) )","v":""},null,null,null,null,{"$f":"IF(TRIM(T259)=\"\", \"\", IF(VLOOKUP(T259,'Footnotes list'!$B$5:$C$103,2,FALSE)=0,\"\",VLOOKUP(T259,'Footnotes list'!$B$5:$C$103,2,FALSE) ) )","v":""},null,null,null,null,{"$f":"IF(TRIM(Y259)=\"\", \"\", IF(VLOOKUP(Y259,'Footnotes list'!$B$5:$C$103,2,FALSE)=0,\"\",VLOOKUP(Y259,'Footnotes list'!$B$5:$C$103,2,FALSE) ) )","v":""},null,null,null,null,{"$f":"IF(TRIM(AD259)=\"\", \"\", IF(VLOOKUP(AD259,'Footnotes list'!$B$5:$C$103,2,FALSE)=0,\"\",VLOOKUP(AD259,'Footnotes list'!$B$5:$C$103,2,FALSE) ) )","v":""},null,null,null,null,{"$f":"IF(TRIM(AI259)=\"\", \"\", IF(VLOOKUP(AI259,'Footnotes list'!$B$5:$C$103,2,FALSE)=0,\"\",VLOOKUP(AI259,'Footnotes list'!$B$5:$C$103,2,FALSE) ) )","v":""}]
[null,null,null,null,"PL42","        Zachodniopomorskie",null,null,null,null,{"$f":"IF(TRIM(J260)=\"\", \"\", IF(VLOOKUP(J260,'Footnotes list'!$B$5:$C$103,2,FALSE)=0,\"\",VLOOKUP(J260,'Footnotes list'!$B$5:$C$103,2,FALSE) ) )","v":""},null,null,null,null,{"$f":"IF(TRIM(O260)=\"\", \"\", IF(VLOOKUP(O260,'Footnotes list'!$B$5:$C$103,2,FALSE)=0,\"\",VLOOKUP(O260,'Footnotes list'!$B$5:$C$103,2,FALSE) ) )","v":""},null,null,null,null,{"$f":"IF(TRIM(T260)=\"\", \"\", IF(VLOOKUP(T260,'Footnotes list'!$B$5:$C$103,2,FALSE)=0,\"\",VLOOKUP(T260,'Footnotes list'!$B$5:$C$103,2,FALSE) ) )","v":""},null,null,null,null,{"$f":"IF(TRIM(Y260)=\"\", \"\", IF(VLOOKUP(Y260,'Footnotes list'!$B$5:$C$103,2,FALSE)=0,\"\",VLOOKUP(Y260,'Footnotes list'!$B$5:$C$103,2,FALSE) ) )","v":""},null,null,null,null,{"$f":"IF(TRIM(AD260)=\"\", \"\", IF(VLOOKUP(AD260,'Footnotes list'!$B$5:$C$103,2,FALSE)=0,\"\",VLOOKUP(AD260,'Footnotes list'!$B$5:$C$103,2,FALSE) ) )","v":""},null,null,null,null,{"$f":"IF(TRIM(AI260)=\"\", \"\", IF(VLOOKUP(AI260,'Footnotes list'!$B$5:$C$103,2,FALSE)=0,\"\",VLOOKUP(AI260,'Footnotes list'!$B$5:$C$103,2,FALSE) ) )","v":""}]
[null,null,null,null,"PL43","        Lubuskie",null,null,null,null,{"$f":"IF(TRIM(J261)=\"\", \"\", IF(VLOOKUP(J261,'Footnotes list'!$B$5:$C$103,2,FALSE)=0,\"\",VLOOKUP(J261,'Footnotes list'!$B$5:$C$103,2,FALSE) ) )","v":""},null,null,null,null,{"$f":"IF(TRIM(O261)=\"\", \"\", IF(VLOOKUP(O261,'Footnotes list'!$B$5:$C$103,2,FALSE)=0,\"\",VLOOKUP(O261,'Footnotes list'!$B$5:$C$103,2,FALSE) ) )","v":""},null,null,null,null,{"$f":"IF(TRIM(T261)=\"\", \"\", IF(VLOOKUP(T261,'Footnotes list'!$B$5:$C$103,2,FALSE)=0,\"\",VLOOKUP(T261,'Footnotes list'!$B$5:$C$103,2,FALSE) ) )","v":""},null,null,null,null,{"$f":"IF(TRIM(Y261)=\"\", \"\", IF(VLOOKUP(Y261,'Footnotes list'!$B$5:$C$103,2,FALSE)=0,\"\",VLOOKUP(Y261,'Footnotes list'!$B$5:$C$103,2,FALSE) ) )","v":""},null,null,null,null,{"$f":"IF(TRIM(AD261)=\"\", \"\", IF(VLOOKUP(AD261,'Footnotes list'!$B$5:$C$103,2,FALSE)=0,\"\",VLOOKUP(AD261,'Footnotes list'!$B$5:$C$103,2,FALSE) ) )","v":""},null,null,null,null,{"$f":"IF(TRIM(AI261)=\"\", \"\", IF(VLOOKUP(AI261,'Footnotes list'!$B$5:$C$103,2,FALSE)=0,\"\",VLOOKUP(AI261,'Footnotes list'!$B$5:$C$103,2,FALSE) ) )","v":""}]
[null,null,null,null,"PL5","    MAKROREGION POŁUDNIOWO-ZACHODNI",null,null,null,null,{"$f":"IF(TRIM(J262)=\"\", \"\", IF(VLOOKUP(J262,'Footnotes list'!$B$5:$C$103,2,FALSE)=0,\"\",VLOOKUP(J262,'Footnotes list'!$B$5:$C$103,2,FALSE) ) )","v":""},null,null,null,null,{"$f":"IF(TRIM(O262)=\"\", \"\", IF(VLOOKUP(O262,'Footnotes list'!$B$5:$C$103,2,FALSE)=0,\"\",VLOOKUP(O262,'Footnotes list'!$B$5:$C$103,2,FALSE) ) )","v":""},null,null,null,null,{"$f":"IF(TRIM(T262)=\"\", \"\", IF(VLOOKUP(T262,'Footnotes list'!$B$5:$C$103,2,FALSE)=0,\"\",VLOOKUP(T262,'Footnotes list'!$B$5:$C$103,2,FALSE) ) )","v":""},null,null,null,null,{"$f":"IF(TRIM(Y262)=\"\", \"\", IF(VLOOKUP(Y262,'Footnotes list'!$B$5:$C$103,2,FALSE)=0,\"\",VLOOKUP(Y262,'Footnotes list'!$B$5:$C$103,2,FALSE) ) )","v":""},null,null,null,null,{"$f":"IF(TRIM(AD262)=\"\", \"\", IF(VLOOKUP(AD262,'Footnotes list'!$B$5:$C$103,2,FALSE)=0,\"\",VLOOKUP(AD262,'Footnotes list'!$B$5:$C$103,2,FALSE) ) )","v":""},null,null,null,null,{"$f":"IF(TRIM(AI262)=\"\", \"\", IF(VLOOKUP(AI262,'Footnotes list'!$B$5:$C$103,2,FALSE)=0,\"\",VLOOKUP(AI262,'Footnotes list'!$B$5:$C$103,2,FALSE) ) )","v":""}]
[null,null,null,null,"PL51","        Dolnośląskie",null,null,null,null,{"$f":"IF(TRIM(J263)=\"\", \"\", IF(VLOOKUP(J263,'Footnotes list'!$B$5:$C$103,2,FALSE)=0,\"\",VLOOKUP(J263,'Footnotes list'!$B$5:$C$103,2,FALSE) ) )","v":""},null,null,null,null,{"$f":"IF(TRIM(O263)=\"\", \"\", IF(VLOOKUP(O263,'Footnotes list'!$B$5:$C$103,2,FALSE)=0,\"\",VLOOKUP(O263,'Footnotes list'!$B$5:$C$103,2,FALSE) ) )","v":""},null,null,null,null,{"$f":"IF(TRIM(T263)=\"\", \"\", IF(VLOOKUP(T263,'Footnotes list'!$B$5:$C$103,2,FALSE)=0,\"\",VLOOKUP(T263,'Footnotes list'!$B$5:$C$103,2,FALSE) ) )","v":""},null,null,null,null,{"$f":"IF(TRIM(Y263)=\"\", \"\", IF(VLOOKUP(Y263,'Footnotes list'!$B$5:$C$103,2,FALSE)=0,\"\",VLOOKUP(Y263,'Footnotes list'!$B$5:$C$103,2,FALSE) ) )","v":""},null,null,null,null,{"$f":"IF(TRIM(AD263)=\"\", \"\", IF(VLOOKUP(AD263,'Footnotes list'!$B$5:$C$103,2,FALSE)=0,\"\",VLOOKUP(AD263,'Footnotes list'!$B$5:$C$103,2,FALSE) ) )","v":""},null,null,null,null,{"$f":"IF(TRIM(AI263)=\"\", \"\", IF(VLOOKUP(AI263,'Footnotes list'!$B$5:$C$103,2,FALSE)=0,\"\",VLOOKUP(AI263,'Footnotes list'!$B$5:$C$103,2,FALSE) ) )","v":""}]
[null,null,null,null,"PL52","        Opolskie",null,null,null,null,{"$f":"IF(TRIM(J264)=\"\", \"\", IF(VLOOKUP(J264,'Footnotes list'!$B$5:$C$103,2,FALSE)=0,\"\",VLOOKUP(J264,'Footnotes list'!$B$5:$C$103,2,FALSE) ) )","v":""},null,null,null,null,{"$f":"IF(TRIM(O264)=\"\", \"\", IF(VLOOKUP(O264,'Footnotes list'!$B$5:$C$103,2,FALSE)=0,\"\",VLOOKUP(O264,'Footnotes list'!$B$5:$C$103,2,FALSE) ) )","v":""},null,null,null,null,{"$f":"IF(TRIM(T264)=\"\", \"\", IF(VLOOKUP(T264,'Footnotes list'!$B$5:$C$103,2,FALSE)=0,\"\",VLOOKUP(T264,'Footnotes list'!$B$5:$C$103,2,FALSE) ) )","v":""},null,null,null,null,{"$f":"IF(TRIM(Y264)=\"\", \"\", IF(VLOOKUP(Y264,'Footnotes list'!$B$5:$C$103,2,FALSE)=0,\"\",VLOOKUP(Y264,'Footnotes list'!$B$5:$C$103,2,FALSE) ) )","v":""},null,null,null,null,{"$f":"IF(TRIM(AD264)=\"\", \"\", IF(VLOOKUP(AD264,'Footnotes list'!$B$5:$C$103,2,FALSE)=0,\"\",VLOOKUP(AD264,'Footnotes list'!$B$5:$C$103,2,FALSE) ) )","v":""},null,null,null,null,{"$f":"IF(TRIM(AI264)=\"\", \"\", IF(VLOOKUP(AI264,'Footnotes list'!$B$5:$C$103,2,FALSE)=0,\"\",VLOOKUP(AI264,'Footnotes list'!$B$5:$C$103,2,FALSE) ) )","v":""}]
[null,null,null,null,"PL6","    MAKROREGION PÓŁNOCNY",null,null,null,null,{"$f":"IF(TRIM(J265)=\"\", \"\", IF(VLOOKUP(J265,'Footnotes list'!$B$5:$C$103,2,FALSE)=0,\"\",VLOOKUP(J265,'Footnotes list'!$B$5:$C$103,2,FALSE) ) )","v":""},null,null,null,null,{"$f":"IF(TRIM(O265)=\"\", \"\", IF(VLOOKUP(O265,'Footnotes list'!$B$5:$C$103,2,FALSE)=0,\"\",VLOOKUP(O265,'Footnotes list'!$B$5:$C$103,2,FALSE) ) )","v":""},null,null,null,null,{"$f":"IF(TRIM(T265)=\"\", \"\", IF(VLOOKUP(T265,'Footnotes list'!$B$5:$C$103,2,FALSE)=0,\"\",VLOOKUP(T265,'Footnotes list'!$B$5:$C$103,2,FALSE) ) )","v":""},null,null,null,null,{"$f":"IF(TRIM(Y265)=\"\", \"\", IF(VLOOKUP(Y265,'Footnotes list'!$B$5:$C$103,2,FALSE)=0,\"\",VLOOKUP(Y265,'Footnotes list'!$B$5:$C$103,2,FALSE) ) )","v":""},null,null,null,null,{"$f":"IF(TRIM(AD265)=\"\", \"\", IF(VLOOKUP(AD265,'Footnotes list'!$B$5:$C$103,2,FALSE)=0,\"\",VLOOKUP(AD265,'Footnotes list'!$B$5:$C$103,2,FALSE) ) )","v":""},null,null,null,null,{"$f":"IF(TRIM(AI265)=\"\", \"\", IF(VLOOKUP(AI265,'Footnotes list'!$B$5:$C$103,2,FALSE)=0,\"\",VLOOKUP(AI265,'Footnotes list'!$B$5:$C$103,2,FALSE) ) )","v":""}]
[null,null,null,"POLAND","PL61","        Kujawsko-pomorskie",null,null,null,null,{"$f":"IF(TRIM(J266)=\"\", \"\", IF(VLOOKUP(J266,'Footnotes list'!$B$5:$C$103,2,FALSE)=0,\"\",VLOOKUP(J266,'Footnotes list'!$B$5:$C$103,2,FALSE) ) )","v":""},null,null,null,null,{"$f":"IF(TRIM(O266)=\"\", \"\", IF(VLOOKUP(O266,'Footnotes list'!$B$5:$C$103,2,FALSE)=0,\"\",VLOOKUP(O266,'Footnotes list'!$B$5:$C$103,2,FALSE) ) )","v":""},null,null,null,null,{"$f":"IF(TRIM(T266)=\"\", \"\", IF(VLOOKUP(T266,'Footnotes list'!$B$5:$C$103,2,FALSE)=0,\"\",VLOOKUP(T266,'Footnotes list'!$B$5:$C$103,2,FALSE) ) )","v":""},null,null,null,null,{"$f":"IF(TRIM(Y266)=\"\", \"\", IF(VLOOKUP(Y266,'Footnotes list'!$B$5:$C$103,2,FALSE)=0,\"\",VLOOKUP(Y266,'Footnotes list'!$B$5:$C$103,2,FALSE) ) )","v":""},null,null,null,null,{"$f":"IF(TRIM(AD266)=\"\", \"\", IF(VLOOKUP(AD266,'Footnotes list'!$B$5:$C$103,2,FALSE)=0,\"\",VLOOKUP(AD266,'Footnotes list'!$B$5:$C$103,2,FALSE) ) )","v":""},null,null,null,null,{"$f":"IF(TRIM(AI266)=\"\", \"\", IF(VLOOKUP(AI266,'Footnotes list'!$B$5:$C$103,2,FALSE)=0,\"\",VLOOKUP(AI266,'Footnotes list'!$B$5:$C$103,2,FALSE) ) )","v":""}]
[null,null,null,null,"PL62","        Warmińsko-mazurskie",null,null,null,null,{"$f":"IF(TRIM(J267)=\"\", \"\", IF(VLOOKUP(J267,'Footnotes list'!$B$5:$C$103,2,FALSE)=0,\"\",VLOOKUP(J267,'Footnotes list'!$B$5:$C$103,2,FALSE) ) )","v":""},null,null,null,null,{"$f":"IF(TRIM(O267)=\"\", \"\", IF(VLOOKUP(O267,'Footnotes list'!$B$5:$C$103,2,FALSE)=0,\"\",VLOOKUP(O267,'Footnotes list'!$B$5:$C$103,2,FALSE) ) )","v":""},null,null,null,null,{"$f":"IF(TRIM(T267)=\"\", \"\", IF(VLOOKUP(T267,'Footnotes list'!$B$5:$C$103,2,FALSE)=0,\"\",VLOOKUP(T267,'Footnotes list'!$B$5:$C$103,2,FALSE) ) )","v":""},null,null,null,null,{"$f":"IF(TRIM(Y267)=\"\", \"\", IF(VLOOKUP(Y267,'Footnotes list'!$B$5:$C$103,2,FALSE)=0,\"\",VLOOKUP(Y267,'Footnotes list'!$B$5:$C$103,2,FALSE) ) )","v":""},null,null,null,null,{"$f":"IF(TRIM(AD267)=\"\", \"\", IF(VLOOKUP(AD267,'Footnotes list'!$B$5:$C$103,2,FALSE)=0,\"\",VLOOKUP(AD267,'Footnotes list'!$B$5:$C$103,2,FALSE) ) )","v":""},null,null,null,null,{"$f":"IF(TRIM(AI267)=\"\", \"\", IF(VLOOKUP(AI267,'Footnotes list'!$B$5:$C$103,2,FALSE)=0,\"\",VLOOKUP(AI267,'Footnotes list'!$B$5:$C$103,2,FALSE) ) )","v":""}]
[null,null,null,null,"PL63","        Pomorskie",null,null,null,null,{"$f":"IF(TRIM(J268)=\"\", \"\", IF(VLOOKUP(J268,'Footnotes list'!$B$5:$C$103,2,FALSE)=0,\"\",VLOOKUP(J268,'Footnotes list'!$B$5:$C$103,2,FALSE) ) )","v":""},null,null,null,null,{"$f":"IF(TRIM(O268)=\"\", \"\", IF(VLOOKUP(O268,'Footnotes list'!$B$5:$C$103,2,FALSE)=0,\"\",VLOOKUP(O268,'Footnotes list'!$B$5:$C$103,2,FALSE) ) )","v":""},null,null,null,null,{"$f":"IF(TRIM(T268)=\"\", \"\", IF(VLOOKUP(T268,'Footnotes list'!$B$5:$C$103,2,FALSE)=0,\"\",VLOOKUP(T268,'Footnotes list'!$B$5:$C$103,2,FALSE) ) )","v":""},null,null,null,null,{"$f":"IF(TRIM(Y268)=\"\", \"\", IF(VLOOKUP(Y268,'Footnotes list'!$B$5:$C$103,2,FALSE)=0,\"\",VLOOKUP(Y268,'Footnotes list'!$B$5:$C$103,2,FALSE) ) )","v":""},null,null,null,null,{"$f":"IF(TRIM(AD268)=\"\", \"\", IF(VLOOKUP(AD268,'Footnotes list'!$B$5:$C$103,2,FALSE)=0,\"\",VLOOKUP(AD268,'Footnotes list'!$B$5:$C$103,2,FALSE) ) )","v":""},null,null,null,null,{"$f":"IF(TRIM(AI268)=\"\", \"\", IF(VLOOKUP(AI268,'Footnotes list'!$B$5:$C$103,2,FALSE)=0,\"\",VLOOKUP(AI268,'Footnotes list'!$B$5:$C$103,2,FALSE) ) )","v":""}]
[null,null,null,null,"PL7","    MAKROREGION CENTRALNY",null,null,null,null,{"$f":"IF(TRIM(J269)=\"\", \"\", IF(VLOOKUP(J269,'Footnotes list'!$B$5:$C$103,2,FALSE)=0,\"\",VLOOKUP(J269,'Footnotes list'!$B$5:$C$103,2,FALSE) ) )","v":""},null,null,null,null,{"$f":"IF(TRIM(O269)=\"\", \"\", IF(VLOOKUP(O269,'Footnotes list'!$B$5:$C$103,2,FALSE)=0,\"\",VLOOKUP(O269,'Footnotes list'!$B$5:$C$103,2,FALSE) ) )","v":""},null,null,null,null,{"$f":"IF(TRIM(T269)=\"\", \"\", IF(VLOOKUP(T269,'Footnotes list'!$B$5:$C$103,2,FALSE)=0,\"\",VLOOKUP(T269,'Footnotes list'!$B$5:$C$103,2,FALSE) ) )","v":""},null,null,null,null,{"$f":"IF(TRIM(Y269)=\"\", \"\", IF(VLOOKUP(Y269,'Footnotes list'!$B$5:$C$103,2,FALSE)=0,\"\",VLOOKUP(Y269,'Footnotes list'!$B$5:$C$103,2,FALSE) ) )","v":""},null,null,null,null,{"$f":"IF(TRIM(AD269)=\"\", \"\", IF(VLOOKUP(AD269,'Footnotes list'!$B$5:$C$103,2,FALSE)=0,\"\",VLOOKUP(AD269,'Footnotes list'!$B$5:$C$103,2,FALSE) ) )","v":""},null,null,null,null,{"$f":"IF(TRIM(AI269)=\"\", \"\", IF(VLOOKUP(AI269,'Footnotes list'!$B$5:$C$103,2,FALSE)=0,\"\",VLOOKUP(AI269,'Footnotes list'!$B$5:$C$103,2,FALSE) ) )","v":""}]
[null,null,null,null,"PL71","        Łódzkie",null,null,null,null,{"$f":"IF(TRIM(J270)=\"\", \"\", IF(VLOOKUP(J270,'Footnotes list'!$B$5:$C$103,2,FALSE)=0,\"\",VLOOKUP(J270,'Footnotes list'!$B$5:$C$103,2,FALSE) ) )","v":""},null,null,null,null,{"$f":"IF(TRIM(O270)=\"\", \"\", IF(VLOOKUP(O270,'Footnotes list'!$B$5:$C$103,2,FALSE)=0,\"\",VLOOKUP(O270,'Footnotes list'!$B$5:$C$103,2,FALSE) ) )","v":""},null,null,null,null,{"$f":"IF(TRIM(T270)=\"\", \"\", IF(VLOOKUP(T270,'Footnotes list'!$B$5:$C$103,2,FALSE)=0,\"\",VLOOKUP(T270,'Footnotes list'!$B$5:$C$103,2,FALSE) ) )","v":""},null,null,null,null,{"$f":"IF(TRIM(Y270)=\"\", \"\", IF(VLOOKUP(Y270,'Footnotes list'!$B$5:$C$103,2,FALSE)=0,\"\",VLOOKUP(Y270,'Footnotes list'!$B$5:$C$103,2,FALSE) ) )","v":""},null,null,null,null,{"$f":"IF(TRIM(AD270)=\"\", \"\", IF(VLOOKUP(AD270,'Footnotes list'!$B$5:$C$103,2,FALSE)=0,\"\",VLOOKUP(AD270,'Footnotes list'!$B$5:$C$103,2,FALSE) ) )","v":""},null,null,null,null,{"$f":"IF(TRIM(AI270)=\"\", \"\", IF(VLOOKUP(AI270,'Footnotes list'!$B$5:$C$103,2,FALSE)=0,\"\",VLOOKUP(AI270,'Footnotes list'!$B$5:$C$103,2,FALSE) ) )","v":""}]
[null,null,null,null,"PL72","        Świętokrzyskie",null,null,null,null,{"$f":"IF(TRIM(J271)=\"\", \"\", IF(VLOOKUP(J271,'Footnotes list'!$B$5:$C$103,2,FALSE)=0,\"\",VLOOKUP(J271,'Footnotes list'!$B$5:$C$103,2,FALSE) ) )","v":""},null,null,null,null,{"$f":"IF(TRIM(O271)=\"\", \"\", IF(VLOOKUP(O271,'Footnotes list'!$B$5:$C$103,2,FALSE)=0,\"\",VLOOKUP(O271,'Footnotes list'!$B$5:$C$103,2,FALSE) ) )","v":""},null,null,null,null,{"$f":"IF(TRIM(T271)=\"\", \"\", IF(VLOOKUP(T271,'Footnotes list'!$B$5:$C$103,2,FALSE)=0,\"\",VLOOKUP(T271,'Footnotes list'!$B$5:$C$103,2,FALSE) ) )","v":""},null,null,null,null,{"$f":"IF(TRIM(Y271)=\"\", \"\", IF(VLOOKUP(Y271,'Footnotes list'!$B$5:$C$103,2,FALSE)=0,\"\",VLOOKUP(Y271,'Footnotes list'!$B$5:$C$103,2,FALSE) ) )","v":""},null,null,null,null,{"$f":"IF(TRIM(AD271)=\"\", \"\", IF(VLOOKUP(AD271,'Footnotes list'!$B$5:$C$103,2,FALSE)=0,\"\",VLOOKUP(AD271,'Footnotes list'!$B$5:$C$103,2,FALSE) ) )","v":""},null,null,null,null,{"$f":"IF(TRIM(AI271)=\"\", \"\", IF(VLOOKUP(AI271,'Footnotes list'!$B$5:$C$103,2,FALSE)=0,\"\",VLOOKUP(AI271,'Footnotes list'!$B$5:$C$103,2,FALSE) ) )","v":""}]
[null,null,null,null,"PL8","    MAKROREGION WSCHODNI",null,null,null,null,{"$f":"IF(TRIM(J272)=\"\", \"\", IF(VLOOKUP(J272,'Footnotes list'!$B$5:$C$103,2,FALSE)=0,\"\",VLOOKUP(J272,'Footnotes list'!$B$5:$C$103,2,FALSE) ) )","v":""},null,null,null,null,{"$f":"IF(TRIM(O272)=\"\", \"\", IF(VLOOKUP(O272,'Footnotes list'!$B$5:$C$103,2,FALSE)=0,\"\",VLOOKUP(O272,'Footnotes list'!$B$5:$C$103,2,FALSE) ) )","v":""},null,null,null,null,{"$f":"IF(TRIM(T272)=\"\", \"\", IF(VLOOKUP(T272,'Footnotes list'!$B$5:$C$103,2,FALSE)=0,\"\",VLOOKUP(T272,'Footnotes list'!$B$5:$C$103,2,FALSE) ) )","v":""},null,null,null,null,{"$f":"IF(TRIM(Y272)=\"\", \"\", IF(VLOOKUP(Y272,'Footnotes list'!$B$5:$C$103,2,FALSE)=0,\"\",VLOOKUP(Y272,'Footnotes list'!$B$5:$C$103,2,FALSE) ) )","v":""},null,null,null,null,{"$f":"IF(TRIM(AD272)=\"\", \"\", IF(VLOOKUP(AD272,'Footnotes list'!$B$5:$C$103,2,FALSE)=0,\"\",VLOOKUP(AD272,'Footnotes list'!$B$5:$C$103,2,FALSE) ) )","v":""},null,null,null,null,{"$f":"IF(TRIM(AI272)=\"\", \"\", IF(VLOOKUP(AI272,'Footnotes list'!$B$5:$C$103,2,FALSE)=0,\"\",VLOOKUP(AI272,'Footnotes list'!$B$5:$C$103,2,FALSE) ) )","v":""}]
[null,null,null,null,"PL81","        Lubelskie",null,null,null,null,{"$f":"IF(TRIM(J273)=\"\", \"\", IF(VLOOKUP(J273,'Footnotes list'!$B$5:$C$103,2,FALSE)=0,\"\",VLOOKUP(J273,'Footnotes list'!$B$5:$C$103,2,FALSE) ) )","v":""},null,null,null,null,{"$f":"IF(TRIM(O273)=\"\", \"\", IF(VLOOKUP(O273,'Footnotes list'!$B$5:$C$103,2,FALSE)=0,\"\",VLOOKUP(O273,'Footnotes list'!$B$5:$C$103,2,FALSE) ) )","v":""},null,null,null,null,{"$f":"IF(TRIM(T273)=\"\", \"\", IF(VLOOKUP(T273,'Footnotes list'!$B$5:$C$103,2,FALSE)=0,\"\",VLOOKUP(T273,'Footnotes list'!$B$5:$C$103,2,FALSE) ) )","v":""},null,null,null,null,{"$f":"IF(TRIM(Y273)=\"\", \"\", IF(VLOOKUP(Y273,'Footnotes list'!$B$5:$C$103,2,FALSE)=0,\"\",VLOOKUP(Y273,'Footnotes list'!$B$5:$C$103,2,FALSE) ) )","v":""},null,null,null,null,{"$f":"IF(TRIM(AD273)=\"\", \"\", IF(VLOOKUP(AD273,'Footnotes list'!$B$5:$C$103,2,FALSE)=0,\"\",VLOOKUP(AD273,'Footnotes list'!$B$5:$C$103,2,FALSE) ) )","v":""},null,null,null,null,{"$f":"IF(TRIM(AI273)=\"\", \"\", IF(VLOOKUP(AI273,'Footnotes list'!$B$5:$C$103,2,FALSE)=0,\"\",VLOOKUP(AI273,'Footnotes list'!$B$5:$C$103,2,FALSE) ) )","v":""}]
[null,null,null,null,"PL82","        Podkarpackie",null,null,null,null,{"$f":"IF(TRIM(J274)=\"\", \"\", IF(VLOOKUP(J274,'Footnotes list'!$B$5:$C$103,2,FALSE)=0,\"\",VLOOKUP(J274,'Footnotes list'!$B$5:$C$103,2,FALSE) ) )","v":""},null,null,null,null,{"$f":"IF(TRIM(O274)=\"\", \"\", IF(VLOOKUP(O274,'Footnotes list'!$B$5:$C$103,2,FALSE)=0,\"\",VLOOKUP(O274,'Footnotes list'!$B$5:$C$103,2,FALSE) ) )","v":""},null,null,null,null,{"$f":"IF(TRIM(T274)=\"\", \"\", IF(VLOOKUP(T274,'Footnotes list'!$B$5:$C$103,2,FALSE)=0,\"\",VLOOKUP(T274,'Footnotes list'!$B$5:$C$103,2,FALSE) ) )","v":""},null,null,null,null,{"$f":"IF(TRIM(Y274)=\"\", \"\", IF(VLOOKUP(Y274,'Footnotes list'!$B$5:$C$103,2,FALSE)=0,\"\",VLOOKUP(Y274,'Footnotes list'!$B$5:$C$103,2,FALSE) ) )","v":""},null,null,null,null,{"$f":"IF(TRIM(AD274)=\"\", \"\", IF(VLOOKUP(AD274,'Footnotes list'!$B$5:$C$103,2,FALSE)=0,\"\",VLOOKUP(AD274,'Footnotes list'!$B$5:$C$103,2,FALSE) ) )","v":""},null,null,null,null,{"$f":"IF(TRIM(AI274)=\"\", \"\", IF(VLOOKUP(AI274,'Footnotes list'!$B$5:$C$103,2,FALSE)=0,\"\",VLOOKUP(AI274,'Footnotes list'!$B$5:$C$103,2,FALSE) ) )","v":""}]
[null,null,null,null,"PL84","        Podlaskie",null,null,null,null,{"$f":"IF(TRIM(J275)=\"\", \"\", IF(VLOOKUP(J275,'Footnotes list'!$B$5:$C$103,2,FALSE)=0,\"\",VLOOKUP(J275,'Footnotes list'!$B$5:$C$103,2,FALSE) ) )","v":""},null,null,null,null,{"$f":"IF(TRIM(O275)=\"\", \"\", IF(VLOOKUP(O275,'Footnotes list'!$B$5:$C$103,2,FALSE)=0,\"\",VLOOKUP(O275,'Footnotes list'!$B$5:$C$103,2,FALSE) ) )","v":""},null,null,null,null,{"$f":"IF(TRIM(T275)=\"\", \"\", IF(VLOOKUP(T275,'Footnotes list'!$B$5:$C$103,2,FALSE)=0,\"\",VLOOKUP(T275,'Footnotes list'!$B$5:$C$103,2,FALSE) ) )","v":""},null,null,null,null,{"$f":"IF(TRIM(Y275)=\"\", \"\", IF(VLOOKUP(Y275,'Footnotes list'!$B$5:$C$103,2,FALSE)=0,\"\",VLOOKUP(Y275,'Footnotes list'!$B$5:$C$103,2,FALSE) ) )","v":""},null,null,null,null,{"$f":"IF(TRIM(AD275)=\"\", \"\", IF(VLOOKUP(AD275,'Footnotes list'!$B$5:$C$103,2,FALSE)=0,\"\",VLOOKUP(AD275,'Footnotes list'!$B$5:$C$103,2,FALSE) ) )","v":""},null,null,null,null,{"$f":"IF(TRIM(AI275)=\"\", \"\", IF(VLOOKUP(AI275,'Footnotes list'!$B$5:$C$103,2,FALSE)=0,\"\",VLOOKUP(AI275,'Footnotes list'!$B$5:$C$103,2,FALSE) ) )","v":""}]
[null,null,null,null,"PL9","    MAKROREGION WOJEWÓDZTWO MAZOWIECKIE",null,null,null,null,{"$f":"IF(TRIM(J276)=\"\", \"\", IF(VLOOKUP(J276,'Footnotes list'!$B$5:$C$103,2,FALSE)=0,\"\",VLOOKUP(J276,'Footnotes list'!$B$5:$C$103,2,FALSE) ) )","v":""},null,null,null,null,{"$f":"IF(TRIM(O276)=\"\", \"\", IF(VLOOKUP(O276,'Footnotes list'!$B$5:$C$103,2,FALSE)=0,\"\",VLOOKUP(O276,'Footnotes list'!$B$5:$C$103,2,FALSE) ) )","v":""},null,null,null,null,{"$f":"IF(TRIM(T276)=\"\", \"\", IF(VLOOKUP(T276,'Footnotes list'!$B$5:$C$103,2,FALSE)=0,\"\",VLOOKUP(T276,'Footnotes list'!$B$5:$C$103,2,FALSE) ) )","v":""},null,null,null,null,{"$f":"IF(TRIM(Y276)=\"\", \"\", IF(VLOOKUP(Y276,'Footnotes list'!$B$5:$C$103,2,FALSE)=0,\"\",VLOOKUP(Y276,'Footnotes list'!$B$5:$C$103,2,FALSE) ) )","v":""},null,null,null,null,{"$f":"IF(TRIM(AD276)=\"\", \"\", IF(VLOOKUP(AD276,'Footnotes list'!$B$5:$C$103,2,FALSE)=0,\"\",VLOOKUP(AD276,'Footnotes list'!$B$5:$C$103,2,FALSE) ) )","v":""},null,null,null,null,{"$f":"IF(TRIM(AI276)=\"\", \"\", IF(VLOOKUP(AI276,'Footnotes list'!$B$5:$C$103,2,FALSE)=0,\"\",VLOOKUP(AI276,'Footnotes list'!$B$5:$C$103,2,FALSE) ) )","v":""}]
[null,null,null,null,"PL91","        Warszawski stołeczny",null,null,null,null,{"$f":"IF(TRIM(J277)=\"\", \"\", IF(VLOOKUP(J277,'Footnotes list'!$B$5:$C$103,2,FALSE)=0,\"\",VLOOKUP(J277,'Footnotes list'!$B$5:$C$103,2,FALSE) ) )","v":""},null,null,null,null,{"$f":"IF(TRIM(O277)=\"\", \"\", IF(VLOOKUP(O277,'Footnotes list'!$B$5:$C$103,2,FALSE)=0,\"\",VLOOKUP(O277,'Footnotes list'!$B$5:$C$103,2,FALSE) ) )","v":""},null,null,null,null,{"$f":"IF(TRIM(T277)=\"\", \"\", IF(VLOOKUP(T277,'Footnotes list'!$B$5:$C$103,2,FALSE)=0,\"\",VLOOKUP(T277,'Footnotes list'!$B$5:$C$103,2,FALSE) ) )","v":""},null,null,null,null,{"$f":"IF(TRIM(Y277)=\"\", \"\", IF(VLOOKUP(Y277,'Footnotes list'!$B$5:$C$103,2,FALSE)=0,\"\",VLOOKUP(Y277,'Footnotes list'!$B$5:$C$103,2,FALSE) ) )","v":""},null,null,null,null,{"$f":"IF(TRIM(AD277)=\"\", \"\", IF(VLOOKUP(AD277,'Footnotes list'!$B$5:$C$103,2,FALSE)=0,\"\",VLOOKUP(AD277,'Footnotes list'!$B$5:$C$103,2,FALSE) ) )","v":""},null,null,null,null,{"$f":"IF(TRIM(AI277)=\"\", \"\", IF(VLOOKUP(AI277,'Footnotes list'!$B$5:$C$103,2,FALSE)=0,\"\",VLOOKUP(AI277,'Footnotes list'!$B$5:$C$103,2,FALSE) ) )","v":""}]
[null,null,null,null,"PL92","        Mazowiecki regionalny",null,null,null,null,{"$f":"IF(TRIM(J278)=\"\", \"\", IF(VLOOKUP(J278,'Footnotes list'!$B$5:$C$103,2,FALSE)=0,\"\",VLOOKUP(J278,'Footnotes list'!$B$5:$C$103,2,FALSE) ) )","v":""},null,null,null,null,{"$f":"IF(TRIM(O278)=\"\", \"\", IF(VLOOKUP(O278,'Footnotes list'!$B$5:$C$103,2,FALSE)=0,\"\",VLOOKUP(O278,'Footnotes list'!$B$5:$C$103,2,FALSE) ) )","v":""},null,null,null,null,{"$f":"IF(TRIM(T278)=\"\", \"\", IF(VLOOKUP(T278,'Footnotes list'!$B$5:$C$103,2,FALSE)=0,\"\",VLOOKUP(T278,'Footnotes list'!$B$5:$C$103,2,FALSE) ) )","v":""},null,null,null,null,{"$f":"IF(TRIM(Y278)=\"\", \"\", IF(VLOOKUP(Y278,'Footnotes list'!$B$5:$C$103,2,FALSE)=0,\"\",VLOOKUP(Y278,'Footnotes list'!$B$5:$C$103,2,FALSE) ) )","v":""},null,null,null,null,{"$f":"IF(TRIM(AD278)=\"\", \"\", IF(VLOOKUP(AD278,'Footnotes list'!$B$5:$C$103,2,FALSE)=0,\"\",VLOOKUP(AD278,'Footnotes list'!$B$5:$C$103,2,FALSE) ) )","v":""},null,null,null,null,{"$f":"IF(TRIM(AI278)=\"\", \"\", IF(VLOOKUP(AI278,'Footnotes list'!$B$5:$C$103,2,FALSE)=0,\"\",VLOOKUP(AI278,'Footnotes list'!$B$5:$C$103,2,FALSE) ) )","v":""}]
[null,null,null,null,"PT","PORTUGAL",null,null,null,null,{"$f":"IF(TRIM(J279)=\"\", \"\", IF(VLOOKUP(J279,'Footnotes list'!$B$5:$C$103,2,FALSE)=0,\"\",VLOOKUP(J279,'Footnotes list'!$B$5:$C$103,2,FALSE) ) )","v":""},null,null,null,null,{"$f":"IF(TRIM(O279)=\"\", \"\", IF(VLOOKUP(O279,'Footnotes list'!$B$5:$C$103,2,FALSE)=0,\"\",VLOOKUP(O279,'Footnotes list'!$B$5:$C$103,2,FALSE) ) )","v":""},null,null,null,null,{"$f":"IF(TRIM(T279)=\"\", \"\", IF(VLOOKUP(T279,'Footnotes list'!$B$5:$C$103,2,FALSE)=0,\"\",VLOOKUP(T279,'Footnotes list'!$B$5:$C$103,2,FALSE) ) )","v":""},null,null,null,null,{"$f":"IF(TRIM(Y279)=\"\", \"\", IF(VLOOKUP(Y279,'Footnotes list'!$B$5:$C$103,2,FALSE)=0,\"\",VLOOKUP(Y279,'Footnotes list'!$B$5:$C$103,2,FALSE) ) )","v":""},null,null,null,null,{"$f":"IF(TRIM(AD279)=\"\", \"\", IF(VLOOKUP(AD279,'Footnotes list'!$B$5:$C$103,2,FALSE)=0,\"\",VLOOKUP(AD279,'Footnotes list'!$B$5:$C$103,2,FALSE) ) )","v":""},null,null,null,null,{"$f":"IF(TRIM(AI279)=\"\", \"\", IF(VLOOKUP(AI279,'Footnotes list'!$B$5:$C$103,2,FALSE)=0,\"\",VLOOKUP(AI279,'Footnotes list'!$B$5:$C$103,2,FALSE) ) )","v":""}]
[null,null,null,null,"PT1","    CONTINENTE",null,null,null,null,{"$f":"IF(TRIM(J280)=\"\", \"\", IF(VLOOKUP(J280,'Footnotes list'!$B$5:$C$103,2,FALSE)=0,\"\",VLOOKUP(J280,'Footnotes list'!$B$5:$C$103,2,FALSE) ) )","v":""},null,null,null,null,{"$f":"IF(TRIM(O280)=\"\", \"\", IF(VLOOKUP(O280,'Footnotes list'!$B$5:$C$103,2,FALSE)=0,\"\",VLOOKUP(O280,'Footnotes list'!$B$5:$C$103,2,FALSE) ) )","v":""},null,null,null,null,{"$f":"IF(TRIM(T280)=\"\", \"\", IF(VLOOKUP(T280,'Footnotes list'!$B$5:$C$103,2,FALSE)=0,\"\",VLOOKUP(T280,'Footnotes list'!$B$5:$C$103,2,FALSE) ) )","v":""},null,null,null,null,{"$f":"IF(TRIM(Y280)=\"\", \"\", IF(VLOOKUP(Y280,'Footnotes list'!$B$5:$C$103,2,FALSE)=0,\"\",VLOOKUP(Y280,'Footnotes list'!$B$5:$C$103,2,FALSE) ) )","v":""},null,null,null,null,{"$f":"IF(TRIM(AD280)=\"\", \"\", IF(VLOOKUP(AD280,'Footnotes list'!$B$5:$C$103,2,FALSE)=0,\"\",VLOOKUP(AD280,'Footnotes list'!$B$5:$C$103,2,FALSE) ) )","v":""},null,null,null,null,{"$f":"IF(TRIM(AI280)=\"\", \"\", IF(VLOOKUP(AI280,'Footnotes list'!$B$5:$C$103,2,FALSE)=0,\"\",VLOOKUP(AI280,'Footnotes list'!$B$5:$C$103,2,FALSE) ) )","v":""}]
[null,null,null,null,"PT11","        Norte",null,null,null,null,{"$f":"IF(TRIM(J281)=\"\", \"\", IF(VLOOKUP(J281,'Footnotes list'!$B$5:$C$103,2,FALSE)=0,\"\",VLOOKUP(J281,'Footnotes list'!$B$5:$C$103,2,FALSE) ) )","v":""},null,null,null,null,{"$f":"IF(TRIM(O281)=\"\", \"\", IF(VLOOKUP(O281,'Footnotes list'!$B$5:$C$103,2,FALSE)=0,\"\",VLOOKUP(O281,'Footnotes list'!$B$5:$C$103,2,FALSE) ) )","v":""},null,null,null,null,{"$f":"IF(TRIM(T281)=\"\", \"\", IF(VLOOKUP(T281,'Footnotes list'!$B$5:$C$103,2,FALSE)=0,\"\",VLOOKUP(T281,'Footnotes list'!$B$5:$C$103,2,FALSE) ) )","v":""},null,null,null,null,{"$f":"IF(TRIM(Y281)=\"\", \"\", IF(VLOOKUP(Y281,'Footnotes list'!$B$5:$C$103,2,FALSE)=0,\"\",VLOOKUP(Y281,'Footnotes list'!$B$5:$C$103,2,FALSE) ) )","v":""},null,null,null,null,{"$f":"IF(TRIM(AD281)=\"\", \"\", IF(VLOOKUP(AD281,'Footnotes list'!$B$5:$C$103,2,FALSE)=0,\"\",VLOOKUP(AD281,'Footnotes list'!$B$5:$C$103,2,FALSE) ) )","v":""},null,null,null,null,{"$f":"IF(TRIM(AI281)=\"\", \"\", IF(VLOOKUP(AI281,'Footnotes list'!$B$5:$C$103,2,FALSE)=0,\"\",VLOOKUP(AI281,'Footnotes list'!$B$5:$C$103,2,FALSE) ) )","v":""}]
[null,null,null,null,"PT15","        Algarve",null,null,null,null,{"$f":"IF(TRIM(J282)=\"\", \"\", IF(VLOOKUP(J282,'Footnotes list'!$B$5:$C$103,2,FALSE)=0,\"\",VLOOKUP(J282,'Footnotes list'!$B$5:$C$103,2,FALSE) ) )","v":""},null,null,null,null,{"$f":"IF(TRIM(O282)=\"\", \"\", IF(VLOOKUP(O282,'Footnotes list'!$B$5:$C$103,2,FALSE)=0,\"\",VLOOKUP(O282,'Footnotes list'!$B$5:$C$103,2,FALSE) ) )","v":""},null,null,null,null,{"$f":"IF(TRIM(T282)=\"\", \"\", IF(VLOOKUP(T282,'Footnotes list'!$B$5:$C$103,2,FALSE)=0,\"\",VLOOKUP(T282,'Footnotes list'!$B$5:$C$103,2,FALSE) ) )","v":""},null,null,null,null,{"$f":"IF(TRIM(Y282)=\"\", \"\", IF(VLOOKUP(Y282,'Footnotes list'!$B$5:$C$103,2,FALSE)=0,\"\",VLOOKUP(Y282,'Footnotes list'!$B$5:$C$103,2,FALSE) ) )","v":""},null,null,null,null,{"$f":"IF(TRIM(AD282)=\"\", \"\", IF(VLOOKUP(AD282,'Footnotes list'!$B$5:$C$103,2,FALSE)=0,\"\",VLOOKUP(AD282,'Footnotes list'!$B$5:$C$103,2,FALSE) ) )","v":""},null,null,null,null,{"$f":"IF(TRIM(AI282)=\"\", \"\", IF(VLOOKUP(AI282,'Footnotes list'!$B$5:$C$103,2,FALSE)=0,\"\",VLOOKUP(AI282,'Footnotes list'!$B$5:$C$103,2,FALSE) ) )","v":""}]
[null,null,null,"PORTUGAL","PT16","        Centro (PT)",null,null,null,null,{"$f":"IF(TRIM(J283)=\"\", \"\", IF(VLOOKUP(J283,'Footnotes list'!$B$5:$C$103,2,FALSE)=0,\"\",VLOOKUP(J283,'Footnotes list'!$B$5:$C$103,2,FALSE) ) )","v":""},null,null,null,null,{"$f":"IF(TRIM(O283)=\"\", \"\", IF(VLOOKUP(O283,'Footnotes list'!$B$5:$C$103,2,FALSE)=0,\"\",VLOOKUP(O283,'Footnotes list'!$B$5:$C$103,2,FALSE) ) )","v":""},null,null,null,null,{"$f":"IF(TRIM(T283)=\"\", \"\", IF(VLOOKUP(T283,'Footnotes list'!$B$5:$C$103,2,FALSE)=0,\"\",VLOOKUP(T283,'Footnotes list'!$B$5:$C$103,2,FALSE) ) )","v":""},null,null,null,null,{"$f":"IF(TRIM(Y283)=\"\", \"\", IF(VLOOKUP(Y283,'Footnotes list'!$B$5:$C$103,2,FALSE)=0,\"\",VLOOKUP(Y283,'Footnotes list'!$B$5:$C$103,2,FALSE) ) )","v":""},null,null,null,null,{"$f":"IF(TRIM(AD283)=\"\", \"\", IF(VLOOKUP(AD283,'Footnotes list'!$B$5:$C$103,2,FALSE)=0,\"\",VLOOKUP(AD283,'Footnotes list'!$B$5:$C$103,2,FALSE) ) )","v":""},null,null,null,null,{"$f":"IF(TRIM(AI283)=\"\", \"\", IF(VLOOKUP(AI283,'Footnotes list'!$B$5:$C$103,2,FALSE)=0,\"\",VLOOKUP(AI283,'Footnotes list'!$B$5:$C$103,2,FALSE) ) )","v":""}]
[null,null,null,null,"PT17","        Área Metropolitana de Lisboa",null,null,null,null,{"$f":"IF(TRIM(J284)=\"\", \"\", IF(VLOOKUP(J284,'Footnotes list'!$B$5:$C$103,2,FALSE)=0,\"\",VLOOKUP(J284,'Footnotes list'!$B$5:$C$103,2,FALSE) ) )","v":""},null,null,null,null,{"$f":"IF(TRIM(O284)=\"\", \"\", IF(VLOOKUP(O284,'Footnotes list'!$B$5:$C$103,2,FALSE)=0,\"\",VLOOKUP(O284,'Footnotes list'!$B$5:$C$103,2,FALSE) ) )","v":""},null,null,null,null,{"$f":"IF(TRIM(T284)=\"\", \"\", IF(VLOOKUP(T284,'Footnotes list'!$B$5:$C$103,2,FALSE)=0,\"\",VLOOKUP(T284,'Footnotes list'!$B$5:$C$103,2,FALSE) ) )","v":""},null,null,null,null,{"$f":"IF(TRIM(Y284)=\"\", \"\", IF(VLOOKUP(Y284,'Footnotes list'!$B$5:$C$103,2,FALSE)=0,\"\",VLOOKUP(Y284,'Footnotes list'!$B$5:$C$103,2,FALSE) ) )","v":""},null,null,null,null,{"$f":"IF(TRIM(AD284)=\"\", \"\", IF(VLOOKUP(AD284,'Footnotes list'!$B$5:$C$103,2,FALSE)=0,\"\",VLOOKUP(AD284,'Footnotes list'!$B$5:$C$103,2,FALSE) ) )","v":""},null,null,null,null,{"$f":"IF(TRIM(AI284)=\"\", \"\", IF(VLOOKUP(AI284,'Footnotes list'!$B$5:$C$103,2,FALSE)=0,\"\",VLOOKUP(AI284,'Footnotes list'!$B$5:$C$103,2,FALSE) ) )","v":""}]
[null,null,null,null,"PT18","        Alentejo",null,null,null,null,{"$f":"IF(TRIM(J285)=\"\", \"\", IF(VLOOKUP(J285,'Footnotes list'!$B$5:$C$103,2,FALSE)=0,\"\",VLOOKUP(J285,'Footnotes list'!$B$5:$C$103,2,FALSE) ) )","v":""},null,null,null,null,{"$f":"IF(TRIM(O285)=\"\", \"\", IF(VLOOKUP(O285,'Footnotes list'!$B$5:$C$103,2,FALSE)=0,\"\",VLOOKUP(O285,'Footnotes list'!$B$5:$C$103,2,FALSE) ) )","v":""},null,null,null,null,{"$f":"IF(TRIM(T285)=\"\", \"\", IF(VLOOKUP(T285,'Footnotes list'!$B$5:$C$103,2,FALSE)=0,\"\",VLOOKUP(T285,'Footnotes list'!$B$5:$C$103,2,FALSE) ) )","v":""},null,null,null,null,{"$f":"IF(TRIM(Y285)=\"\", \"\", IF(VLOOKUP(Y285,'Footnotes list'!$B$5:$C$103,2,FALSE)=0,\"\",VLOOKUP(Y285,'Footnotes list'!$B$5:$C$103,2,FALSE) ) )","v":""},null,null,null,null,{"$f":"IF(TRIM(AD285)=\"\", \"\", IF(VLOOKUP(AD285,'Footnotes list'!$B$5:$C$103,2,FALSE)=0,\"\",VLOOKUP(AD285,'Footnotes list'!$B$5:$C$103,2,FALSE) ) )","v":""},null,null,null,null,{"$f":"IF(TRIM(AI285)=\"\", \"\", IF(VLOOKUP(AI285,'Footnotes list'!$B$5:$C$103,2,FALSE)=0,\"\",VLOOKUP(AI285,'Footnotes list'!$B$5:$C$103,2,FALSE) ) )","v":""}]
[null,null,null,null,"PT2","    REGIÃO AUTÓNOMA DOS AÇORES",null,null,null,null,{"$f":"IF(TRIM(J286)=\"\", \"\", IF(VLOOKUP(J286,'Footnotes list'!$B$5:$C$103,2,FALSE)=0,\"\",VLOOKUP(J286,'Footnotes list'!$B$5:$C$103,2,FALSE) ) )","v":""},null,null,null,null,{"$f":"IF(TRIM(O286)=\"\", \"\", IF(VLOOKUP(O286,'Footnotes list'!$B$5:$C$103,2,FALSE)=0,\"\",VLOOKUP(O286,'Footnotes list'!$B$5:$C$103,2,FALSE) ) )","v":""},null,null,null,null,{"$f":"IF(TRIM(T286)=\"\", \"\", IF(VLOOKUP(T286,'Footnotes list'!$B$5:$C$103,2,FALSE)=0,\"\",VLOOKUP(T286,'Footnotes list'!$B$5:$C$103,2,FALSE) ) )","v":""},null,null,null,null,{"$f":"IF(TRIM(Y286)=\"\", \"\", IF(VLOOKUP(Y286,'Footnotes list'!$B$5:$C$103,2,FALSE)=0,\"\",VLOOKUP(Y286,'Footnotes list'!$B$5:$C$103,2,FALSE) ) )","v":""},null,null,null,null,{"$f":"IF(TRIM(AD286)=\"\", \"\", IF(VLOOKUP(AD286,'Footnotes list'!$B$5:$C$103,2,FALSE)=0,\"\",VLOOKUP(AD286,'Footnotes list'!$B$5:$C$103,2,FALSE) ) )","v":""},null,null,null,null,{"$f":"IF(TRIM(AI286)=\"\", \"\", IF(VLOOKUP(AI286,'Footnotes list'!$B$5:$C$103,2,FALSE)=0,\"\",VLOOKUP(AI286,'Footnotes list'!$B$5:$C$103,2,FALSE) ) )","v":""}]
[null,null,null,null,"PT3","    REGIÃO AUTÓNOMA DA MADEIRA",null,null,null,null,{"$f":"IF(TRIM(J287)=\"\", \"\", IF(VLOOKUP(J287,'Footnotes list'!$B$5:$C$103,2,FALSE)=0,\"\",VLOOKUP(J287,'Footnotes list'!$B$5:$C$103,2,FALSE) ) )","v":""},null,null,null,null,{"$f":"IF(TRIM(O287)=\"\", \"\", IF(VLOOKUP(O287,'Footnotes list'!$B$5:$C$103,2,FALSE)=0,\"\",VLOOKUP(O287,'Footnotes list'!$B$5:$C$103,2,FALSE) ) )","v":""},null,null,null,null,{"$f":"IF(TRIM(T287)=\"\", \"\", IF(VLOOKUP(T287,'Footnotes list'!$B$5:$C$103,2,FALSE)=0,\"\",VLOOKUP(T287,'Footnotes list'!$B$5:$C$103,2,FALSE) ) )","v":""},null,null,null,null,{"$f":"IF(TRIM(Y287)=\"\", \"\", IF(VLOOKUP(Y287,'Footnotes list'!$B$5:$C$103,2,FALSE)=0,\"\",VLOOKUP(Y287,'Footnotes list'!$B$5:$C$103,2,FALSE) ) )","v":""},null,null,null,null,{"$f":"IF(TRIM(AD287)=\"\", \"\", IF(VLOOKUP(AD287,'Footnotes list'!$B$5:$C$103,2,FALSE)=0,\"\",VLOOKUP(AD287,'Footnotes list'!$B$5:$C$103,2,FALSE) ) )","v":""},null,null,null,null,{"$f":"IF(TRIM(AI287)=\"\", \"\", IF(VLOOKUP(AI287,'Footnotes list'!$B$5:$C$103,2,FALSE)=0,\"\",VLOOKUP(AI287,'Footnotes list'!$B$5:$C$103,2,FALSE) ) )","v":""}]
[null,null,null,null,"RO","ROMÂNIA",null,null,null,null,{"$f":"IF(TRIM(J288)=\"\", \"\", IF(VLOOKUP(J288,'Footnotes list'!$B$5:$C$103,2,FALSE)=0,\"\",VLOOKUP(J288,'Footnotes list'!$B$5:$C$103,2,FALSE) ) )","v":""},null,null,null,null,{"$f":"IF(TRIM(O288)=\"\", \"\", IF(VLOOKUP(O288,'Footnotes list'!$B$5:$C$103,2,FALSE)=0,\"\",VLOOKUP(O288,'Footnotes list'!$B$5:$C$103,2,FALSE) ) )","v":""},null,null,null,null,{"$f":"IF(TRIM(T288)=\"\", \"\", IF(VLOOKUP(T288,'Footnotes list'!$B$5:$C$103,2,FALSE)=0,\"\",VLOOKUP(T288,'Footnotes list'!$B$5:$C$103,2,FALSE) ) )","v":""},null,null,null,null,{"$f":"IF(TRIM(Y288)=\"\", \"\", IF(VLOOKUP(Y288,'Footnotes list'!$B$5:$C$103,2,FALSE)=0,\"\",VLOOKUP(Y288,'Footnotes list'!$B$5:$C$103,2,FALSE) ) )","v":""},null,null,null,null,{"$f":"IF(TRIM(AD288)=\"\", \"\", IF(VLOOKUP(AD288,'Footnotes list'!$B$5:$C$103,2,FALSE)=0,\"\",VLOOKUP(AD288,'Footnotes list'!$B$5:$C$103,2,FALSE) ) )","v":""},null,null,null,null,{"$f":"IF(TRIM(AI288)=\"\", \"\", IF(VLOOKUP(AI288,'Footnotes list'!$B$5:$C$103,2,FALSE)=0,\"\",VLOOKUP(AI288,'Footnotes list'!$B$5:$C$103,2,FALSE) ) )","v":""}]
[null,null,null,null,"RO1","    MACROREGIUNEA UNU",null,null,null,null,{"$f":"IF(TRIM(J289)=\"\", \"\", IF(VLOOKUP(J289,'Footnotes list'!$B$5:$C$103,2,FALSE)=0,\"\",VLOOKUP(J289,'Footnotes list'!$B$5:$C$103,2,FALSE) ) )","v":""},null,null,null,null,{"$f":"IF(TRIM(O289)=\"\", \"\", IF(VLOOKUP(O289,'Footnotes list'!$B$5:$C$103,2,FALSE)=0,\"\",VLOOKUP(O289,'Footnotes list'!$B$5:$C$103,2,FALSE) ) )","v":""},null,null,null,null,{"$f":"IF(TRIM(T289)=\"\", \"\", IF(VLOOKUP(T289,'Footnotes list'!$B$5:$C$103,2,FALSE)=0,\"\",VLOOKUP(T289,'Footnotes list'!$B$5:$C$103,2,FALSE) ) )","v":""},null,null,null,null,{"$f":"IF(TRIM(Y289)=\"\", \"\", IF(VLOOKUP(Y289,'Footnotes list'!$B$5:$C$103,2,FALSE)=0,\"\",VLOOKUP(Y289,'Footnotes list'!$B$5:$C$103,2,FALSE) ) )","v":""},null,null,null,null,{"$f":"IF(TRIM(AD289)=\"\", \"\", IF(VLOOKUP(AD289,'Footnotes list'!$B$5:$C$103,2,FALSE)=0,\"\",VLOOKUP(AD289,'Footnotes list'!$B$5:$C$103,2,FALSE) ) )","v":""},null,null,null,null,{"$f":"IF(TRIM(AI289)=\"\", \"\", IF(VLOOKUP(AI289,'Footnotes list'!$B$5:$C$103,2,FALSE)=0,\"\",VLOOKUP(AI289,'Footnotes list'!$B$5:$C$103,2,FALSE) ) )","v":""}]
[null,null,null,null,"RO11","        Nord-Vest",null,null,null,null,{"$f":"IF(TRIM(J290)=\"\", \"\", IF(VLOOKUP(J290,'Footnotes list'!$B$5:$C$103,2,FALSE)=0,\"\",VLOOKUP(J290,'Footnotes list'!$B$5:$C$103,2,FALSE) ) )","v":""},null,null,null,null,{"$f":"IF(TRIM(O290)=\"\", \"\", IF(VLOOKUP(O290,'Footnotes list'!$B$5:$C$103,2,FALSE)=0,\"\",VLOOKUP(O290,'Footnotes list'!$B$5:$C$103,2,FALSE) ) )","v":""},null,null,null,null,{"$f":"IF(TRIM(T290)=\"\", \"\", IF(VLOOKUP(T290,'Footnotes list'!$B$5:$C$103,2,FALSE)=0,\"\",VLOOKUP(T290,'Footnotes list'!$B$5:$C$103,2,FALSE) ) )","v":""},null,null,null,null,{"$f":"IF(TRIM(Y290)=\"\", \"\", IF(VLOOKUP(Y290,'Footnotes list'!$B$5:$C$103,2,FALSE)=0,\"\",VLOOKUP(Y290,'Footnotes list'!$B$5:$C$103,2,FALSE) ) )","v":""},null,null,null,null,{"$f":"IF(TRIM(AD290)=\"\", \"\", IF(VLOOKUP(AD290,'Footnotes list'!$B$5:$C$103,2,FALSE)=0,\"\",VLOOKUP(AD290,'Footnotes list'!$B$5:$C$103,2,FALSE) ) )","v":""},null,null,null,null,{"$f":"IF(TRIM(AI290)=\"\", \"\", IF(VLOOKUP(AI290,'Footnotes list'!$B$5:$C$103,2,FALSE)=0,\"\",VLOOKUP(AI290,'Footnotes list'!$B$5:$C$103,2,FALSE) ) )","v":""}]
[null,null,null,null,"RO12","        Centru",null,null,null,null,{"$f":"IF(TRIM(J291)=\"\", \"\", IF(VLOOKUP(J291,'Footnotes list'!$B$5:$C$103,2,FALSE)=0,\"\",VLOOKUP(J291,'Footnotes list'!$B$5:$C$103,2,FALSE) ) )","v":""},null,null,null,null,{"$f":"IF(TRIM(O291)=\"\", \"\", IF(VLOOKUP(O291,'Footnotes list'!$B$5:$C$103,2,FALSE)=0,\"\",VLOOKUP(O291,'Footnotes list'!$B$5:$C$103,2,FALSE) ) )","v":""},null,null,null,null,{"$f":"IF(TRIM(T291)=\"\", \"\", IF(VLOOKUP(T291,'Footnotes list'!$B$5:$C$103,2,FALSE)=0,\"\",VLOOKUP(T291,'Footnotes list'!$B$5:$C$103,2,FALSE) ) )","v":""},null,null,null,null,{"$f":"IF(TRIM(Y291)=\"\", \"\", IF(VLOOKUP(Y291,'Footnotes list'!$B$5:$C$103,2,FALSE)=0,\"\",VLOOKUP(Y291,'Footnotes list'!$B$5:$C$103,2,FALSE) ) )","v":""},null,null,null,null,{"$f":"IF(TRIM(AD291)=\"\", \"\", IF(VLOOKUP(AD291,'Footnotes list'!$B$5:$C$103,2,FALSE)=0,\"\",VLOOKUP(AD291,'Footnotes list'!$B$5:$C$103,2,FALSE) ) )","v":""},null,null,null,null,{"$f":"IF(TRIM(AI291)=\"\", \"\", IF(VLOOKUP(AI291,'Footnotes list'!$B$5:$C$103,2,FALSE)=0,\"\",VLOOKUP(AI291,'Footnotes list'!$B$5:$C$103,2,FALSE) ) )","v":""}]
[null,null,null,null,"RO2","    MACROREGIUNEA DOI",null,null,null,null,{"$f":"IF(TRIM(J292)=\"\", \"\", IF(VLOOKUP(J292,'Footnotes list'!$B$5:$C$103,2,FALSE)=0,\"\",VLOOKUP(J292,'Footnotes list'!$B$5:$C$103,2,FALSE) ) )","v":""},null,null,null,null,{"$f":"IF(TRIM(O292)=\"\", \"\", IF(VLOOKUP(O292,'Footnotes list'!$B$5:$C$103,2,FALSE)=0,\"\",VLOOKUP(O292,'Footnotes list'!$B$5:$C$103,2,FALSE) ) )","v":""},null,null,null,null,{"$f":"IF(TRIM(T292)=\"\", \"\", IF(VLOOKUP(T292,'Footnotes list'!$B$5:$C$103,2,FALSE)=0,\"\",VLOOKUP(T292,'Footnotes list'!$B$5:$C$103,2,FALSE) ) )","v":""},null,null,null,null,{"$f":"IF(TRIM(Y292)=\"\", \"\", IF(VLOOKUP(Y292,'Footnotes list'!$B$5:$C$103,2,FALSE)=0,\"\",VLOOKUP(Y292,'Footnotes list'!$B$5:$C$103,2,FALSE) ) )","v":""},null,null,null,null,{"$f":"IF(TRIM(AD292)=\"\", \"\", IF(VLOOKUP(AD292,'Footnotes list'!$B$5:$C$103,2,FALSE)=0,\"\",VLOOKUP(AD292,'Footnotes list'!$B$5:$C$103,2,FALSE) ) )","v":""},null,null,null,null,{"$f":"IF(TRIM(AI292)=\"\", \"\", IF(VLOOKUP(AI292,'Footnotes list'!$B$5:$C$103,2,FALSE)=0,\"\",VLOOKUP(AI292,'Footnotes list'!$B$5:$C$103,2,FALSE) ) )","v":""}]
[null,null,null,null,"RO21","        Nord-Est",null,null,null,null,{"$f":"IF(TRIM(J293)=\"\", \"\", IF(VLOOKUP(J293,'Footnotes list'!$B$5:$C$103,2,FALSE)=0,\"\",VLOOKUP(J293,'Footnotes list'!$B$5:$C$103,2,FALSE) ) )","v":""},null,null,null,null,{"$f":"IF(TRIM(O293)=\"\", \"\", IF(VLOOKUP(O293,'Footnotes list'!$B$5:$C$103,2,FALSE)=0,\"\",VLOOKUP(O293,'Footnotes list'!$B$5:$C$103,2,FALSE) ) )","v":""},null,null,null,null,{"$f":"IF(TRIM(T293)=\"\", \"\", IF(VLOOKUP(T293,'Footnotes list'!$B$5:$C$103,2,FALSE)=0,\"\",VLOOKUP(T293,'Footnotes list'!$B$5:$C$103,2,FALSE) ) )","v":""},null,null,null,null,{"$f":"IF(TRIM(Y293)=\"\", \"\", IF(VLOOKUP(Y293,'Footnotes list'!$B$5:$C$103,2,FALSE)=0,\"\",VLOOKUP(Y293,'Footnotes list'!$B$5:$C$103,2,FALSE) ) )","v":""},null,null,null,null,{"$f":"IF(TRIM(AD293)=\"\", \"\", IF(VLOOKUP(AD293,'Footnotes list'!$B$5:$C$103,2,FALSE)=0,\"\",VLOOKUP(AD293,'Footnotes list'!$B$5:$C$103,2,FALSE) ) )","v":""},null,null,null,null,{"$f":"IF(TRIM(AI293)=\"\", \"\", IF(VLOOKUP(AI293,'Footnotes list'!$B$5:$C$103,2,FALSE)=0,\"\",VLOOKUP(AI293,'Footnotes list'!$B$5:$C$103,2,FALSE) ) )","v":""}]
[null,null,null,"ROMANIA","RO22","        Sud-Est",null,null,null,null,{"$f":"IF(TRIM(J294)=\"\", \"\", IF(VLOOKUP(J294,'Footnotes list'!$B$5:$C$103,2,FALSE)=0,\"\",VLOOKUP(J294,'Footnotes list'!$B$5:$C$103,2,FALSE) ) )","v":""},null,null,null,null,{"$f":"IF(TRIM(O294)=\"\", \"\", IF(VLOOKUP(O294,'Footnotes list'!$B$5:$C$103,2,FALSE)=0,\"\",VLOOKUP(O294,'Footnotes list'!$B$5:$C$103,2,FALSE) ) )","v":""},null,null,null,null,{"$f":"IF(TRIM(T294)=\"\", \"\", IF(VLOOKUP(T294,'Footnotes list'!$B$5:$C$103,2,FALSE)=0,\"\",VLOOKUP(T294,'Footnotes list'!$B$5:$C$103,2,FALSE) ) )","v":""},null,null,null,null,{"$f":"IF(TRIM(Y294)=\"\", \"\", IF(VLOOKUP(Y294,'Footnotes list'!$B$5:$C$103,2,FALSE)=0,\"\",VLOOKUP(Y294,'Footnotes list'!$B$5:$C$103,2,FALSE) ) )","v":""},null,null,null,null,{"$f":"IF(TRIM(AD294)=\"\", \"\", IF(VLOOKUP(AD294,'Footnotes list'!$B$5:$C$103,2,FALSE)=0,\"\",VLOOKUP(AD294,'Footnotes list'!$B$5:$C$103,2,FALSE) ) )","v":""},null,null,null,null,{"$f":"IF(TRIM(AI294)=\"\", \"\", IF(VLOOKUP(AI294,'Footnotes list'!$B$5:$C$103,2,FALSE)=0,\"\",VLOOKUP(AI294,'Footnotes list'!$B$5:$C$103,2,FALSE) ) )","v":""}]
[null,null,null,null,"RO3","    MACROREGIUNEA TREI",null,null,null,null,{"$f":"IF(TRIM(J295)=\"\", \"\", IF(VLOOKUP(J295,'Footnotes list'!$B$5:$C$103,2,FALSE)=0,\"\",VLOOKUP(J295,'Footnotes list'!$B$5:$C$103,2,FALSE) ) )","v":""},null,null,null,null,{"$f":"IF(TRIM(O295)=\"\", \"\", IF(VLOOKUP(O295,'Footnotes list'!$B$5:$C$103,2,FALSE)=0,\"\",VLOOKUP(O295,'Footnotes list'!$B$5:$C$103,2,FALSE) ) )","v":""},null,null,null,null,{"$f":"IF(TRIM(T295)=\"\", \"\", IF(VLOOKUP(T295,'Footnotes list'!$B$5:$C$103,2,FALSE)=0,\"\",VLOOKUP(T295,'Footnotes list'!$B$5:$C$103,2,FALSE) ) )","v":""},null,null,null,null,{"$f":"IF(TRIM(Y295)=\"\", \"\", IF(VLOOKUP(Y295,'Footnotes list'!$B$5:$C$103,2,FALSE)=0,\"\",VLOOKUP(Y295,'Footnotes list'!$B$5:$C$103,2,FALSE) ) )","v":""},null,null,null,null,{"$f":"IF(TRIM(AD295)=\"\", \"\", IF(VLOOKUP(AD295,'Footnotes list'!$B$5:$C$103,2,FALSE)=0,\"\",VLOOKUP(AD295,'Footnotes list'!$B$5:$C$103,2,FALSE) ) )","v":""},null,null,null,null,{"$f":"IF(TRIM(AI295)=\"\", \"\", IF(VLOOKUP(AI295,'Footnotes list'!$B$5:$C$103,2,FALSE)=0,\"\",VLOOKUP(AI295,'Footnotes list'!$B$5:$C$103,2,FALSE) ) )","v":""}]
[null,null,null,null,"RO31","        Sud-Muntenia",null,null,null,null,{"$f":"IF(TRIM(J296)=\"\", \"\", IF(VLOOKUP(J296,'Footnotes list'!$B$5:$C$103,2,FALSE)=0,\"\",VLOOKUP(J296,'Footnotes list'!$B$5:$C$103,2,FALSE) ) )","v":""},null,null,null,null,{"$f":"IF(TRIM(O296)=\"\", \"\", IF(VLOOKUP(O296,'Footnotes list'!$B$5:$C$103,2,FALSE)=0,\"\",VLOOKUP(O296,'Footnotes list'!$B$5:$C$103,2,FALSE) ) )","v":""},null,null,null,null,{"$f":"IF(TRIM(T296)=\"\", \"\", IF(VLOOKUP(T296,'Footnotes list'!$B$5:$C$103,2,FALSE)=0,\"\",VLOOKUP(T296,'Footnotes list'!$B$5:$C$103,2,FALSE) ) )","v":""},null,null,null,null,{"$f":"IF(TRIM(Y296)=\"\", \"\", IF(VLOOKUP(Y296,'Footnotes list'!$B$5:$C$103,2,FALSE)=0,\"\",VLOOKUP(Y296,'Footnotes list'!$B$5:$C$103,2,FALSE) ) )","v":""},null,null,null,null,{"$f":"IF(TRIM(AD296)=\"\", \"\", IF(VLOOKUP(AD296,'Footnotes list'!$B$5:$C$103,2,FALSE)=0,\"\",VLOOKUP(AD296,'Footnotes list'!$B$5:$C$103,2,FALSE) ) )","v":""},null,null,null,null,{"$f":"IF(TRIM(AI296)=\"\", \"\", IF(VLOOKUP(AI296,'Footnotes list'!$B$5:$C$103,2,FALSE)=0,\"\",VLOOKUP(AI296,'Footnotes list'!$B$5:$C$103,2,FALSE) ) )","v":""}]
[null,null,null,null,"RO32","        Bucureşti-Ilfov",null,null,null,null,{"$f":"IF(TRIM(J297)=\"\", \"\", IF(VLOOKUP(J297,'Footnotes list'!$B$5:$C$103,2,FALSE)=0,\"\",VLOOKUP(J297,'Footnotes list'!$B$5:$C$103,2,FALSE) ) )","v":""},null,null,null,null,{"$f":"IF(TRIM(O297)=\"\", \"\", IF(VLOOKUP(O297,'Footnotes list'!$B$5:$C$103,2,FALSE)=0,\"\",VLOOKUP(O297,'Footnotes list'!$B$5:$C$103,2,FALSE) ) )","v":""},null,null,null,null,{"$f":"IF(TRIM(T297)=\"\", \"\", IF(VLOOKUP(T297,'Footnotes list'!$B$5:$C$103,2,FALSE)=0,\"\",VLOOKUP(T297,'Footnotes list'!$B$5:$C$103,2,FALSE) ) )","v":""},null,null,null,null,{"$f":"IF(TRIM(Y297)=\"\", \"\", IF(VLOOKUP(Y297,'Footnotes list'!$B$5:$C$103,2,FALSE)=0,\"\",VLOOKUP(Y297,'Footnotes list'!$B$5:$C$103,2,FALSE) ) )","v":""},null,null,null,null,{"$f":"IF(TRIM(AD297)=\"\", \"\", IF(VLOOKUP(AD297,'Footnotes list'!$B$5:$C$103,2,FALSE)=0,\"\",VLOOKUP(AD297,'Footnotes list'!$B$5:$C$103,2,FALSE) ) )","v":""},null,null,null,null,{"$f":"IF(TRIM(AI297)=\"\", \"\", IF(VLOOKUP(AI297,'Footnotes list'!$B$5:$C$103,2,FALSE)=0,\"\",VLOOKUP(AI297,'Footnotes list'!$B$5:$C$103,2,FALSE) ) )","v":""}]
[null,null,null,null,"RO4","    MACROREGIUNEA PATRU",null,null,null,null,{"$f":"IF(TRIM(J298)=\"\", \"\", IF(VLOOKUP(J298,'Footnotes list'!$B$5:$C$103,2,FALSE)=0,\"\",VLOOKUP(J298,'Footnotes list'!$B$5:$C$103,2,FALSE) ) )","v":""},null,null,null,null,{"$f":"IF(TRIM(O298)=\"\", \"\", IF(VLOOKUP(O298,'Footnotes list'!$B$5:$C$103,2,FALSE)=0,\"\",VLOOKUP(O298,'Footnotes list'!$B$5:$C$103,2,FALSE) ) )","v":""},null,null,null,null,{"$f":"IF(TRIM(T298)=\"\", \"\", IF(VLOOKUP(T298,'Footnotes list'!$B$5:$C$103,2,FALSE)=0,\"\",VLOOKUP(T298,'Footnotes list'!$B$5:$C$103,2,FALSE) ) )","v":""},null,null,null,null,{"$f":"IF(TRIM(Y298)=\"\", \"\", IF(VLOOKUP(Y298,'Footnotes list'!$B$5:$C$103,2,FALSE)=0,\"\",VLOOKUP(Y298,'Footnotes list'!$B$5:$C$103,2,FALSE) ) )","v":""},null,null,null,null,{"$f":"IF(TRIM(AD298)=\"\", \"\", IF(VLOOKUP(AD298,'Footnotes list'!$B$5:$C$103,2,FALSE)=0,\"\",VLOOKUP(AD298,'Footnotes list'!$B$5:$C$103,2,FALSE) ) )","v":""},null,null,null,null,{"$f":"IF(TRIM(AI298)=\"\", \"\", IF(VLOOKUP(AI298,'Footnotes list'!$B$5:$C$103,2,FALSE)=0,\"\",VLOOKUP(AI298,'Footnotes list'!$B$5:$C$103,2,FALSE) ) )","v":""}]
[null,null,null,null,"RO41","        Sud-Vest Oltenia",null,null,null,null,{"$f":"IF(TRIM(J299)=\"\", \"\", IF(VLOOKUP(J299,'Footnotes list'!$B$5:$C$103,2,FALSE)=0,\"\",VLOOKUP(J299,'Footnotes list'!$B$5:$C$103,2,FALSE) ) )","v":""},null,null,null,null,{"$f":"IF(TRIM(O299)=\"\", \"\", IF(VLOOKUP(O299,'Footnotes list'!$B$5:$C$103,2,FALSE)=0,\"\",VLOOKUP(O299,'Footnotes list'!$B$5:$C$103,2,FALSE) ) )","v":""},null,null,null,null,{"$f":"IF(TRIM(T299)=\"\", \"\", IF(VLOOKUP(T299,'Footnotes list'!$B$5:$C$103,2,FALSE)=0,\"\",VLOOKUP(T299,'Footnotes list'!$B$5:$C$103,2,FALSE) ) )","v":""},null,null,null,null,{"$f":"IF(TRIM(Y299)=\"\", \"\", IF(VLOOKUP(Y299,'Footnotes list'!$B$5:$C$103,2,FALSE)=0,\"\",VLOOKUP(Y299,'Footnotes list'!$B$5:$C$103,2,FALSE) ) )","v":""},null,null,null,null,{"$f":"IF(TRIM(AD299)=\"\", \"\", IF(VLOOKUP(AD299,'Footnotes list'!$B$5:$C$103,2,FALSE)=0,\"\",VLOOKUP(AD299,'Footnotes list'!$B$5:$C$103,2,FALSE) ) )","v":""},null,null,null,null,{"$f":"IF(TRIM(AI299)=\"\", \"\", IF(VLOOKUP(AI299,'Footnotes list'!$B$5:$C$103,2,FALSE)=0,\"\",VLOOKUP(AI299,'Footnotes list'!$B$5:$C$103,2,FALSE) ) )","v":""}]
[null,null,null,null,"RO42","        Vest",null,null,null,null,{"$f":"IF(TRIM(J300)=\"\", \"\", IF(VLOOKUP(J300,'Footnotes list'!$B$5:$C$103,2,FALSE)=0,\"\",VLOOKUP(J300,'Footnotes list'!$B$5:$C$103,2,FALSE) ) )","v":""},null,null,null,null,{"$f":"IF(TRIM(O300)=\"\", \"\", IF(VLOOKUP(O300,'Footnotes list'!$B$5:$C$103,2,FALSE)=0,\"\",VLOOKUP(O300,'Footnotes list'!$B$5:$C$103,2,FALSE) ) )","v":""},null,null,null,null,{"$f":"IF(TRIM(T300)=\"\", \"\", IF(VLOOKUP(T300,'Footnotes list'!$B$5:$C$103,2,FALSE)=0,\"\",VLOOKUP(T300,'Footnotes list'!$B$5:$C$103,2,FALSE) ) )","v":""},null,null,null,null,{"$f":"IF(TRIM(Y300)=\"\", \"\", IF(VLOOKUP(Y300,'Footnotes list'!$B$5:$C$103,2,FALSE)=0,\"\",VLOOKUP(Y300,'Footnotes list'!$B$5:$C$103,2,FALSE) ) )","v":""},null,null,null,null,{"$f":"IF(TRIM(AD300)=\"\", \"\", IF(VLOOKUP(AD300,'Footnotes list'!$B$5:$C$103,2,FALSE)=0,\"\",VLOOKUP(AD300,'Footnotes list'!$B$5:$C$103,2,FALSE) ) )","v":""},null,null,null,null,{"$f":"IF(TRIM(AI300)=\"\", \"\", IF(VLOOKUP(AI300,'Footnotes list'!$B$5:$C$103,2,FALSE)=0,\"\",VLOOKUP(AI300,'Footnotes list'!$B$5:$C$103,2,FALSE) ) )","v":""}]
[null,null,null,null,"SI","SLOVENIJA",null,null,null,null,{"$f":"IF(TRIM(J301)=\"\", \"\", IF(VLOOKUP(J301,'Footnotes list'!$B$5:$C$103,2,FALSE)=0,\"\",VLOOKUP(J301,'Footnotes list'!$B$5:$C$103,2,FALSE) ) )","v":""},null,null,null,null,{"$f":"IF(TRIM(O301)=\"\", \"\", IF(VLOOKUP(O301,'Footnotes list'!$B$5:$C$103,2,FALSE)=0,\"\",VLOOKUP(O301,'Footnotes list'!$B$5:$C$103,2,FALSE) ) )","v":""},null,null,null,null,{"$f":"IF(TRIM(T301)=\"\", \"\", IF(VLOOKUP(T301,'Footnotes list'!$B$5:$C$103,2,FALSE)=0,\"\",VLOOKUP(T301,'Footnotes list'!$B$5:$C$103,2,FALSE) ) )","v":""},null,null,null,null,{"$f":"IF(TRIM(Y301)=\"\", \"\", IF(VLOOKUP(Y301,'Footnotes list'!$B$5:$C$103,2,FALSE)=0,\"\",VLOOKUP(Y301,'Footnotes list'!$B$5:$C$103,2,FALSE) ) )","v":""},null,null,null,null,{"$f":"IF(TRIM(AD301)=\"\", \"\", IF(VLOOKUP(AD301,'Footnotes list'!$B$5:$C$103,2,FALSE)=0,\"\",VLOOKUP(AD301,'Footnotes list'!$B$5:$C$103,2,FALSE) ) )","v":""},null,null,null,null,{"$f":"IF(TRIM(AI301)=\"\", \"\", IF(VLOOKUP(AI301,'Footnotes list'!$B$5:$C$103,2,FALSE)=0,\"\",VLOOKUP(AI301,'Footnotes list'!$B$5:$C$103,2,FALSE) ) )","v":""}]
[null,null,null,"SLOVENIA","SI03","    Vzhodna Slovenija",null,null,null,null,{"$f":"IF(TRIM(J302)=\"\", \"\", IF(VLOOKUP(J302,'Footnotes list'!$B$5:$C$103,2,FALSE)=0,\"\",VLOOKUP(J302,'Footnotes list'!$B$5:$C$103,2,FALSE) ) )","v":""},null,null,null,null,{"$f":"IF(TRIM(O302)=\"\", \"\", IF(VLOOKUP(O302,'Footnotes list'!$B$5:$C$103,2,FALSE)=0,\"\",VLOOKUP(O302,'Footnotes list'!$B$5:$C$103,2,FALSE) ) )","v":""},null,null,null,null,{"$f":"IF(TRIM(T302)=\"\", \"\", IF(VLOOKUP(T302,'Footnotes list'!$B$5:$C$103,2,FALSE)=0,\"\",VLOOKUP(T302,'Footnotes list'!$B$5:$C$103,2,FALSE) ) )","v":""},null,null,null,null,{"$f":"IF(TRIM(Y302)=\"\", \"\", IF(VLOOKUP(Y302,'Footnotes list'!$B$5:$C$103,2,FALSE)=0,\"\",VLOOKUP(Y302,'Footnotes list'!$B$5:$C$103,2,FALSE) ) )","v":""},null,null,null,null,{"$f":"IF(TRIM(AD302)=\"\", \"\", IF(VLOOKUP(AD302,'Footnotes list'!$B$5:$C$103,2,FALSE)=0,\"\",VLOOKUP(AD302,'Footnotes list'!$B$5:$C$103,2,FALSE) ) )","v":""},null,null,null,null,{"$f":"IF(TRIM(AI302)=\"\", \"\", IF(VLOOKUP(AI302,'Footnotes list'!$B$5:$C$103,2,FALSE)=0,\"\",VLOOKUP(AI302,'Footnotes list'!$B$5:$C$103,2,FALSE) ) )","v":""}]
[null,null,null,null,"SI04","    Zahodna Slovenija",null,null,null,null,{"$f":"IF(TRIM(J303)=\"\", \"\", IF(VLOOKUP(J303,'Footnotes list'!$B$5:$C$103,2,FALSE)=0,\"\",VLOOKUP(J303,'Footnotes list'!$B$5:$C$103,2,FALSE) ) )","v":""},null,null,null,null,{"$f":"IF(TRIM(O303)=\"\", \"\", IF(VLOOKUP(O303,'Footnotes list'!$B$5:$C$103,2,FALSE)=0,\"\",VLOOKUP(O303,'Footnotes list'!$B$5:$C$103,2,FALSE) ) )","v":""},null,null,null,null,{"$f":"IF(TRIM(T303)=\"\", \"\", IF(VLOOKUP(T303,'Footnotes list'!$B$5:$C$103,2,FALSE)=0,\"\",VLOOKUP(T303,'Footnotes list'!$B$5:$C$103,2,FALSE) ) )","v":""},null,null,null,null,{"$f":"IF(TRIM(Y303)=\"\", \"\", IF(VLOOKUP(Y303,'Footnotes list'!$B$5:$C$103,2,FALSE)=0,\"\",VLOOKUP(Y303,'Footnotes list'!$B$5:$C$103,2,FALSE) ) )","v":""},null,null,null,null,{"$f":"IF(TRIM(AD303)=\"\", \"\", IF(VLOOKUP(AD303,'Footnotes list'!$B$5:$C$103,2,FALSE)=0,\"\",VLOOKUP(AD303,'Footnotes list'!$B$5:$C$103,2,FALSE) ) )","v":""},null,null,null,null,{"$f":"IF(TRIM(AI303)=\"\", \"\", IF(VLOOKUP(AI303,'Footnotes list'!$B$5:$C$103,2,FALSE)=0,\"\",VLOOKUP(AI303,'Footnotes list'!$B$5:$C$103,2,FALSE) ) )","v":""}]
[null,null,null,null,"SK","SLOVENSKO",null,null,null,null,{"$f":"IF(TRIM(J304)=\"\", \"\", IF(VLOOKUP(J304,'Footnotes list'!$B$5:$C$103,2,FALSE)=0,\"\",VLOOKUP(J304,'Footnotes list'!$B$5:$C$103,2,FALSE) ) )","v":""},null,null,null,null,{"$f":"IF(TRIM(O304)=\"\", \"\", IF(VLOOKUP(O304,'Footnotes list'!$B$5:$C$103,2,FALSE)=0,\"\",VLOOKUP(O304,'Footnotes list'!$B$5:$C$103,2,FALSE) ) )","v":""},null,null,null,null,{"$f":"IF(TRIM(T304)=\"\", \"\", IF(VLOOKUP(T304,'Footnotes list'!$B$5:$C$103,2,FALSE)=0,\"\",VLOOKUP(T304,'Footnotes list'!$B$5:$C$103,2,FALSE) ) )","v":""},null,null,null,null,{"$f":"IF(TRIM(Y304)=\"\", \"\", IF(VLOOKUP(Y304,'Footnotes list'!$B$5:$C$103,2,FALSE)=0,\"\",VLOOKUP(Y304,'Footnotes list'!$B$5:$C$103,2,FALSE) ) )","v":""},null,null,null,null,{"$f":"IF(TRIM(AD304)=\"\", \"\", IF(VLOOKUP(AD304,'Footnotes list'!$B$5:$C$103,2,FALSE)=0,\"\",VLOOKUP(AD304,'Footnotes list'!$B$5:$C$103,2,FALSE) ) )","v":""},null,null,null,null,{"$f":"IF(TRIM(AI304)=\"\", \"\", IF(VLOOKUP(AI304,'Footnotes list'!$B$5:$C$103,2,FALSE)=0,\"\",VLOOKUP(AI304,'Footnotes list'!$B$5:$C$103,2,FALSE) ) )","v":""}]
[null,null,null,null,"SK01","    Bratislavský kraj",null,null,null,null,{"$f":"IF(TRIM(J305)=\"\", \"\", IF(VLOOKUP(J305,'Footnotes list'!$B$5:$C$103,2,FALSE)=0,\"\",VLOOKUP(J305,'Footnotes list'!$B$5:$C$103,2,FALSE) ) )","v":""},null,null,null,null,{"$f":"IF(TRIM(O305)=\"\", \"\", IF(VLOOKUP(O305,'Footnotes list'!$B$5:$C$103,2,FALSE)=0,\"\",VLOOKUP(O305,'Footnotes list'!$B$5:$C$103,2,FALSE) ) )","v":""},null,null,null,null,{"$f":"IF(TRIM(T305)=\"\", \"\", IF(VLOOKUP(T305,'Footnotes list'!$B$5:$C$103,2,FALSE)=0,\"\",VLOOKUP(T305,'Footnotes list'!$B$5:$C$103,2,FALSE) ) )","v":""},null,null,null,null,{"$f":"IF(TRIM(Y305)=\"\", \"\", IF(VLOOKUP(Y305,'Footnotes list'!$B$5:$C$103,2,FALSE)=0,\"\",VLOOKUP(Y305,'Footnotes list'!$B$5:$C$103,2,FALSE) ) )","v":""},null,null,null,null,{"$f":"IF(TRIM(AD305)=\"\", \"\", IF(VLOOKUP(AD305,'Footnotes list'!$B$5:$C$103,2,FALSE)=0,\"\",VLOOKUP(AD305,'Footnotes list'!$B$5:$C$103,2,FALSE) ) )","v":""},null,null,null,null,{"$f":"IF(TRIM(AI305)=\"\", \"\", IF(VLOOKUP(AI305,'Footnotes list'!$B$5:$C$103,2,FALSE)=0,\"\",VLOOKUP(AI305,'Footnotes list'!$B$5:$C$103,2,FALSE) ) )","v":""}]
[null,null,null,"SLOVAKIA","SK02","    Západné Slovensko",null,null,null,null,{"$f":"IF(TRIM(J306)=\"\", \"\", IF(VLOOKUP(J306,'Footnotes list'!$B$5:$C$103,2,FALSE)=0,\"\",VLOOKUP(J306,'Footnotes list'!$B$5:$C$103,2,FALSE) ) )","v":""},null,null,null,null,{"$f":"IF(TRIM(O306)=\"\", \"\", IF(VLOOKUP(O306,'Footnotes list'!$B$5:$C$103,2,FALSE)=0,\"\",VLOOKUP(O306,'Footnotes list'!$B$5:$C$103,2,FALSE) ) )","v":""},null,null,null,null,{"$f":"IF(TRIM(T306)=\"\", \"\", IF(VLOOKUP(T306,'Footnotes list'!$B$5:$C$103,2,FALSE)=0,\"\",VLOOKUP(T306,'Footnotes list'!$B$5:$C$103,2,FALSE) ) )","v":""},null,null,null,null,{"$f":"IF(TRIM(Y306)=\"\", \"\", IF(VLOOKUP(Y306,'Footnotes list'!$B$5:$C$103,2,FALSE)=0,\"\",VLOOKUP(Y306,'Footnotes list'!$B$5:$C$103,2,FALSE) ) )","v":""},null,null,null,null,{"$f":"IF(TRIM(AD306)=\"\", \"\", IF(VLOOKUP(AD306,'Footnotes list'!$B$5:$C$103,2,FALSE)=0,\"\",VLOOKUP(AD306,'Footnotes list'!$B$5:$C$103,2,FALSE) ) )","v":""},null,null,null,null,{"$f":"IF(TRIM(AI306)=\"\", \"\", IF(VLOOKUP(AI306,'Footnotes list'!$B$5:$C$103,2,FALSE)=0,\"\",VLOOKUP(AI306,'Footnotes list'!$B$5:$C$103,2,FALSE) ) )","v":""}]
[null,null,null,null,"SK03","    Stredné Slovensko",null,null,null,null,{"$f":"IF(TRIM(J307)=\"\", \"\", IF(VLOOKUP(J307,'Footnotes list'!$B$5:$C$103,2,FALSE)=0,\"\",VLOOKUP(J307,'Footnotes list'!$B$5:$C$103,2,FALSE) ) )","v":""},null,null,null,null,{"$f":"IF(TRIM(O307)=\"\", \"\", IF(VLOOKUP(O307,'Footnotes list'!$B$5:$C$103,2,FALSE)=0,\"\",VLOOKUP(O307,'Footnotes list'!$B$5:$C$103,2,FALSE) ) )","v":""},null,null,null,null,{"$f":"IF(TRIM(T307)=\"\", \"\", IF(VLOOKUP(T307,'Footnotes list'!$B$5:$C$103,2,FALSE)=0,\"\",VLOOKUP(T307,'Footnotes list'!$B$5:$C$103,2,FALSE) ) )","v":""},null,null,null,null,{"$f":"IF(TRIM(Y307)=\"\", \"\", IF(VLOOKUP(Y307,'Footnotes list'!$B$5:$C$103,2,FALSE)=0,\"\",VLOOKUP(Y307,'Footnotes list'!$B$5:$C$103,2,FALSE) ) )","v":""},null,null,null,null,{"$f":"IF(TRIM(AD307)=\"\", \"\", IF(VLOOKUP(AD307,'Footnotes list'!$B$5:$C$103,2,FALSE)=0,\"\",VLOOKUP(AD307,'Footnotes list'!$B$5:$C$103,2,FALSE) ) )","v":""},null,null,null,null,{"$f":"IF(TRIM(AI307)=\"\", \"\", IF(VLOOKUP(AI307,'Footnotes list'!$B$5:$C$103,2,FALSE)=0,\"\",VLOOKUP(AI307,'Footnotes list'!$B$5:$C$103,2,FALSE) ) )","v":""}]
[null,null,null,null,"SK04","    Východné Slovensko",null,null,null,null,{"$f":"IF(TRIM(J308)=\"\", \"\", IF(VLOOKUP(J308,'Footnotes list'!$B$5:$C$103,2,FALSE)=0,\"\",VLOOKUP(J308,'Footnotes list'!$B$5:$C$103,2,FALSE) ) )","v":""},null,null,null,null,{"$f":"IF(TRIM(O308)=\"\", \"\", IF(VLOOKUP(O308,'Footnotes list'!$B$5:$C$103,2,FALSE)=0,\"\",VLOOKUP(O308,'Footnotes list'!$B$5:$C$103,2,FALSE) ) )","v":""},null,null,null,null,{"$f":"IF(TRIM(T308)=\"\", \"\", IF(VLOOKUP(T308,'Footnotes list'!$B$5:$C$103,2,FALSE)=0,\"\",VLOOKUP(T308,'Footnotes list'!$B$5:$C$103,2,FALSE) ) )","v":""},null,null,null,null,{"$f":"IF(TRIM(Y308)=\"\", \"\", IF(VLOOKUP(Y308,'Footnotes list'!$B$5:$C$103,2,FALSE)=0,\"\",VLOOKUP(Y308,'Footnotes list'!$B$5:$C$103,2,FALSE) ) )","v":""},null,null,null,null,{"$f":"IF(TRIM(AD308)=\"\", \"\", IF(VLOOKUP(AD308,'Footnotes list'!$B$5:$C$103,2,FALSE)=0,\"\",VLOOKUP(AD308,'Footnotes list'!$B$5:$C$103,2,FALSE) ) )","v":""},null,null,null,null,{"$f":"IF(TRIM(AI308)=\"\", \"\", IF(VLOOKUP(AI308,'Footnotes list'!$B$5:$C$103,2,FALSE)=0,\"\",VLOOKUP(AI308,'Footnotes list'!$B$5:$C$103,2,FALSE) ) )","v":""}]
[null,null,null,null,"FI","SUOMI / FINLAND",null,null,null,null,{"$f":"IF(TRIM(J309)=\"\", \"\", IF(VLOOKUP(J309,'Footnotes list'!$B$5:$C$103,2,FALSE)=0,\"\",VLOOKUP(J309,'Footnotes list'!$B$5:$C$103,2,FALSE) ) )","v":""},null,null,null,null,{"$f":"IF(TRIM(O309)=\"\", \"\", IF(VLOOKUP(O309,'Footnotes list'!$B$5:$C$103,2,FALSE)=0,\"\",VLOOKUP(O309,'Footnotes list'!$B$5:$C$103,2,FALSE) ) )","v":""},null,null,null,null,{"$f":"IF(TRIM(T309)=\"\", \"\", IF(VLOOKUP(T309,'Footnotes list'!$B$5:$C$103,2,FALSE)=0,\"\",VLOOKUP(T309,'Footnotes list'!$B$5:$C$103,2,FALSE) ) )","v":""},null,null,null,null,{"$f":"IF(TRIM(Y309)=\"\", \"\", IF(VLOOKUP(Y309,'Footnotes list'!$B$5:$C$103,2,FALSE)=0,\"\",VLOOKUP(Y309,'Footnotes list'!$B$5:$C$103,2,FALSE) ) )","v":""},null,null,null,null,{"$f":"IF(TRIM(AD309)=\"\", \"\", IF(VLOOKUP(AD309,'Footnotes list'!$B$5:$C$103,2,FALSE)=0,\"\",VLOOKUP(AD309,'Footnotes list'!$B$5:$C$103,2,FALSE) ) )","v":""},null,null,null,null,{"$f":"IF(TRIM(AI309)=\"\", \"\", IF(VLOOKUP(AI309,'Footnotes list'!$B$5:$C$103,2,FALSE)=0,\"\",VLOOKUP(AI309,'Footnotes list'!$B$5:$C$103,2,FALSE) ) )","v":""}]
[null,null,null,null,"FI1","    MANNER-SUOMI",null,null,null,null,{"$f":"IF(TRIM(J310)=\"\", \"\", IF(VLOOKUP(J310,'Footnotes list'!$B$5:$C$103,2,FALSE)=0,\"\",VLOOKUP(J310,'Footnotes list'!$B$5:$C$103,2,FALSE) ) )","v":""},null,null,null,null,{"$f":"IF(TRIM(O310)=\"\", \"\", IF(VLOOKUP(O310,'Footnotes list'!$B$5:$C$103,2,FALSE)=0,\"\",VLOOKUP(O310,'Footnotes list'!$B$5:$C$103,2,FALSE) ) )","v":""},null,null,null,null,{"$f":"IF(TRIM(T310)=\"\", \"\", IF(VLOOKUP(T310,'Footnotes list'!$B$5:$C$103,2,FALSE)=0,\"\",VLOOKUP(T310,'Footnotes list'!$B$5:$C$103,2,FALSE) ) )","v":""},null,null,null,null,{"$f":"IF(TRIM(Y310)=\"\", \"\", IF(VLOOKUP(Y310,'Footnotes list'!$B$5:$C$103,2,FALSE)=0,\"\",VLOOKUP(Y310,'Footnotes list'!$B$5:$C$103,2,FALSE) ) )","v":""},null,null,null,null,{"$f":"IF(TRIM(AD310)=\"\", \"\", IF(VLOOKUP(AD310,'Footnotes list'!$B$5:$C$103,2,FALSE)=0,\"\",VLOOKUP(AD310,'Footnotes list'!$B$5:$C$103,2,FALSE) ) )","v":""},null,null,null,null,{"$f":"IF(TRIM(AI310)=\"\", \"\", IF(VLOOKUP(AI310,'Footnotes list'!$B$5:$C$103,2,FALSE)=0,\"\",VLOOKUP(AI310,'Footnotes list'!$B$5:$C$103,2,FALSE) ) )","v":""}]
[null,null,null,null,"FI19","        Länsi-Suomi",null,null,null,null,{"$f":"IF(TRIM(J311)=\"\", \"\", IF(VLOOKUP(J311,'Footnotes list'!$B$5:$C$103,2,FALSE)=0,\"\",VLOOKUP(J311,'Footnotes list'!$B$5:$C$103,2,FALSE) ) )","v":""},null,null,null,null,{"$f":"IF(TRIM(O311)=\"\", \"\", IF(VLOOKUP(O311,'Footnotes list'!$B$5:$C$103,2,FALSE)=0,\"\",VLOOKUP(O311,'Footnotes list'!$B$5:$C$103,2,FALSE) ) )","v":""},null,null,null,null,{"$f":"IF(TRIM(T311)=\"\", \"\", IF(VLOOKUP(T311,'Footnotes list'!$B$5:$C$103,2,FALSE)=0,\"\",VLOOKUP(T311,'Footnotes list'!$B$5:$C$103,2,FALSE) ) )","v":""},null,null,null,null,{"$f":"IF(TRIM(Y311)=\"\", \"\", IF(VLOOKUP(Y311,'Footnotes list'!$B$5:$C$103,2,FALSE)=0,\"\",VLOOKUP(Y311,'Footnotes list'!$B$5:$C$103,2,FALSE) ) )","v":""},null,null,null,null,{"$f":"IF(TRIM(AD311)=\"\", \"\", IF(VLOOKUP(AD311,'Footnotes list'!$B$5:$C$103,2,FALSE)=0,\"\",VLOOKUP(AD311,'Footnotes list'!$B$5:$C$103,2,FALSE) ) )","v":""},null,null,null,null,{"$f":"IF(TRIM(AI311)=\"\", \"\", IF(VLOOKUP(AI311,'Footnotes list'!$B$5:$C$103,2,FALSE)=0,\"\",VLOOKUP(AI311,'Footnotes list'!$B$5:$C$103,2,FALSE) ) )","v":""}]
[null,null,null,"FINLAND","FI1B","        Helsinki-Uusimaa",null,null,null,null,{"$f":"IF(TRIM(J312)=\"\", \"\", IF(VLOOKUP(J312,'Footnotes list'!$B$5:$C$103,2,FALSE)=0,\"\",VLOOKUP(J312,'Footnotes list'!$B$5:$C$103,2,FALSE) ) )","v":""},null,null,null,null,{"$f":"IF(TRIM(O312)=\"\", \"\", IF(VLOOKUP(O312,'Footnotes list'!$B$5:$C$103,2,FALSE)=0,\"\",VLOOKUP(O312,'Footnotes list'!$B$5:$C$103,2,FALSE) ) )","v":""},null,null,null,null,{"$f":"IF(TRIM(T312)=\"\", \"\", IF(VLOOKUP(T312,'Footnotes list'!$B$5:$C$103,2,FALSE)=0,\"\",VLOOKUP(T312,'Footnotes list'!$B$5:$C$103,2,FALSE) ) )","v":""},null,null,null,null,{"$f":"IF(TRIM(Y312)=\"\", \"\", IF(VLOOKUP(Y312,'Footnotes list'!$B$5:$C$103,2,FALSE)=0,\"\",VLOOKUP(Y312,'Footnotes list'!$B$5:$C$103,2,FALSE) ) )","v":""},null,null,null,null,{"$f":"IF(TRIM(AD312)=\"\", \"\", IF(VLOOKUP(AD312,'Footnotes list'!$B$5:$C$103,2,FALSE)=0,\"\",VLOOKUP(AD312,'Footnotes list'!$B$5:$C$103,2,FALSE) ) )","v":""},null,null,null,null,{"$f":"IF(TRIM(AI312)=\"\", \"\", IF(VLOOKUP(AI312,'Footnotes list'!$B$5:$C$103,2,FALSE)=0,\"\",VLOOKUP(AI312,'Footnotes list'!$B$5:$C$103,2,FALSE) ) )","v":""}]
[null,null,null,null,"FI1C","        Etelä-Suomi",null,null,null,null,{"$f":"IF(TRIM(J313)=\"\", \"\", IF(VLOOKUP(J313,'Footnotes list'!$B$5:$C$103,2,FALSE)=0,\"\",VLOOKUP(J313,'Footnotes list'!$B$5:$C$103,2,FALSE) ) )","v":""},null,null,null,null,{"$f":"IF(TRIM(O313)=\"\", \"\", IF(VLOOKUP(O313,'Footnotes list'!$B$5:$C$103,2,FALSE)=0,\"\",VLOOKUP(O313,'Footnotes list'!$B$5:$C$103,2,FALSE) ) )","v":""},null,null,null,null,{"$f":"IF(TRIM(T313)=\"\", \"\", IF(VLOOKUP(T313,'Footnotes list'!$B$5:$C$103,2,FALSE)=0,\"\",VLOOKUP(T313,'Footnotes list'!$B$5:$C$103,2,FALSE) ) )","v":""},null,null,null,null,{"$f":"IF(TRIM(Y313)=\"\", \"\", IF(VLOOKUP(Y313,'Footnotes list'!$B$5:$C$103,2,FALSE)=0,\"\",VLOOKUP(Y313,'Footnotes list'!$B$5:$C$103,2,FALSE) ) )","v":""},null,null,null,null,{"$f":"IF(TRIM(AD313)=\"\", \"\", IF(VLOOKUP(AD313,'Footnotes list'!$B$5:$C$103,2,FALSE)=0,\"\",VLOOKUP(AD313,'Footnotes list'!$B$5:$C$103,2,FALSE) ) )","v":""},null,null,null,null,{"$f":"IF(TRIM(AI313)=\"\", \"\", IF(VLOOKUP(AI313,'Footnotes list'!$B$5:$C$103,2,FALSE)=0,\"\",VLOOKUP(AI313,'Footnotes list'!$B$5:$C$103,2,FALSE) ) )","v":""}]
[null,null,null,null,"FI1D","        Pohjois- ja Itä-Suomi",null,null,null,null,{"$f":"IF(TRIM(J314)=\"\", \"\", IF(VLOOKUP(J314,'Footnotes list'!$B$5:$C$103,2,FALSE)=0,\"\",VLOOKUP(J314,'Footnotes list'!$B$5:$C$103,2,FALSE) ) )","v":""},null,null,null,null,{"$f":"IF(TRIM(O314)=\"\", \"\", IF(VLOOKUP(O314,'Footnotes list'!$B$5:$C$103,2,FALSE)=0,\"\",VLOOKUP(O314,'Footnotes list'!$B$5:$C$103,2,FALSE) ) )","v":""},null,null,null,null,{"$f":"IF(TRIM(T314)=\"\", \"\", IF(VLOOKUP(T314,'Footnotes list'!$B$5:$C$103,2,FALSE)=0,\"\",VLOOKUP(T314,'Footnotes list'!$B$5:$C$103,2,FALSE) ) )","v":""},null,null,null,null,{"$f":"IF(TRIM(Y314)=\"\", \"\", IF(VLOOKUP(Y314,'Footnotes list'!$B$5:$C$103,2,FALSE)=0,\"\",VLOOKUP(Y314,'Footnotes list'!$B$5:$C$103,2,FALSE) ) )","v":""},null,null,null,null,{"$f":"IF(TRIM(AD314)=\"\", \"\", IF(VLOOKUP(AD314,'Footnotes list'!$B$5:$C$103,2,FALSE)=0,\"\",VLOOKUP(AD314,'Footnotes list'!$B$5:$C$103,2,FALSE) ) )","v":""},null,null,null,null,{"$f":"IF(TRIM(AI314)=\"\", \"\", IF(VLOOKUP(AI314,'Footnotes list'!$B$5:$C$103,2,FALSE)=0,\"\",VLOOKUP(AI314,'Footnotes list'!$B$5:$C$103,2,FALSE) ) )","v":""}]
[null,null,null,null,"FI2","    ÅLAND",null,null,null,null,{"$f":"IF(TRIM(J315)=\"\", \"\", IF(VLOOKUP(J315,'Footnotes list'!$B$5:$C$103,2,FALSE)=0,\"\",VLOOKUP(J315,'Footnotes list'!$B$5:$C$103,2,FALSE) ) )","v":""},null,null,null,null,{"$f":"IF(TRIM(O315)=\"\", \"\", IF(VLOOKUP(O315,'Footnotes list'!$B$5:$C$103,2,FALSE)=0,\"\",VLOOKUP(O315,'Footnotes list'!$B$5:$C$103,2,FALSE) ) )","v":""},null,null,null,null,{"$f":"IF(TRIM(T315)=\"\", \"\", IF(VLOOKUP(T315,'Footnotes list'!$B$5:$C$103,2,FALSE)=0,\"\",VLOOKUP(T315,'Footnotes list'!$B$5:$C$103,2,FALSE) ) )","v":""},null,null,null,null,{"$f":"IF(TRIM(Y315)=\"\", \"\", IF(VLOOKUP(Y315,'Footnotes list'!$B$5:$C$103,2,FALSE)=0,\"\",VLOOKUP(Y315,'Footnotes list'!$B$5:$C$103,2,FALSE) ) )","v":""},null,null,null,null,{"$f":"IF(TRIM(AD315)=\"\", \"\", IF(VLOOKUP(AD315,'Footnotes list'!$B$5:$C$103,2,FALSE)=0,\"\",VLOOKUP(AD315,'Footnotes list'!$B$5:$C$103,2,FALSE) ) )","v":""},null,null,null,null,{"$f":"IF(TRIM(AI315)=\"\", \"\", IF(VLOOKUP(AI315,'Footnotes list'!$B$5:$C$103,2,FALSE)=0,\"\",VLOOKUP(AI315,'Footnotes list'!$B$5:$C$103,2,FALSE) ) )","v":""}]
[null,null,null,null,"SE","SVERIGE",null,null,null,null,{"$f":"IF(TRIM(J316)=\"\", \"\", IF(VLOOKUP(J316,'Footnotes list'!$B$5:$C$103,2,FALSE)=0,\"\",VLOOKUP(J316,'Footnotes list'!$B$5:$C$103,2,FALSE) ) )","v":""},null,null,null,null,{"$f":"IF(TRIM(O316)=\"\", \"\", IF(VLOOKUP(O316,'Footnotes list'!$B$5:$C$103,2,FALSE)=0,\"\",VLOOKUP(O316,'Footnotes list'!$B$5:$C$103,2,FALSE) ) )","v":""},null,null,null,null,{"$f":"IF(TRIM(T316)=\"\", \"\", IF(VLOOKUP(T316,'Footnotes list'!$B$5:$C$103,2,FALSE)=0,\"\",VLOOKUP(T316,'Footnotes list'!$B$5:$C$103,2,FALSE) ) )","v":""},null,null,null,null,{"$f":"IF(TRIM(Y316)=\"\", \"\", IF(VLOOKUP(Y316,'Footnotes list'!$B$5:$C$103,2,FALSE)=0,\"\",VLOOKUP(Y316,'Footnotes list'!$B$5:$C$103,2,FALSE) ) )","v":""},null,null,null,null,{"$f":"IF(TRIM(AD316)=\"\", \"\", IF(VLOOKUP(AD316,'Footnotes list'!$B$5:$C$103,2,FALSE)=0,\"\",VLOOKUP(AD316,'Footnotes list'!$B$5:$C$103,2,FALSE) ) )","v":""},null,null,null,null,{"$f":"IF(TRIM(AI316)=\"\", \"\", IF(VLOOKUP(AI316,'Footnotes list'!$B$5:$C$103,2,FALSE)=0,\"\",VLOOKUP(AI316,'Footnotes list'!$B$5:$C$103,2,FALSE) ) )","v":""}]
[null,null,null,null,"SE1","    ÖSTRA SVERIGE",null,null,null,null,{"$f":"IF(TRIM(J317)=\"\", \"\", IF(VLOOKUP(J317,'Footnotes list'!$B$5:$C$103,2,FALSE)=0,\"\",VLOOKUP(J317,'Footnotes list'!$B$5:$C$103,2,FALSE) ) )","v":""},null,null,null,null,{"$f":"IF(TRIM(O317)=\"\", \"\", IF(VLOOKUP(O317,'Footnotes list'!$B$5:$C$103,2,FALSE)=0,\"\",VLOOKUP(O317,'Footnotes list'!$B$5:$C$103,2,FALSE) ) )","v":""},null,null,null,null,{"$f":"IF(TRIM(T317)=\"\", \"\", IF(VLOOKUP(T317,'Footnotes list'!$B$5:$C$103,2,FALSE)=0,\"\",VLOOKUP(T317,'Footnotes list'!$B$5:$C$103,2,FALSE) ) )","v":""},null,null,null,null,{"$f":"IF(TRIM(Y317)=\"\", \"\", IF(VLOOKUP(Y317,'Footnotes list'!$B$5:$C$103,2,FALSE)=0,\"\",VLOOKUP(Y317,'Footnotes list'!$B$5:$C$103,2,FALSE) ) )","v":""},null,null,null,null,{"$f":"IF(TRIM(AD317)=\"\", \"\", IF(VLOOKUP(AD317,'Footnotes list'!$B$5:$C$103,2,FALSE)=0,\"\",VLOOKUP(AD317,'Footnotes list'!$B$5:$C$103,2,FALSE) ) )","v":""},null,null,null,null,{"$f":"IF(TRIM(AI317)=\"\", \"\", IF(VLOOKUP(AI317,'Footnotes list'!$B$5:$C$103,2,FALSE)=0,\"\",VLOOKUP(AI317,'Footnotes list'!$B$5:$C$103,2,FALSE) ) )","v":""}]
[null,null,null,null,"SE11","        Stockholm",null,null,null,null,{"$f":"IF(TRIM(J318)=\"\", \"\", IF(VLOOKUP(J318,'Footnotes list'!$B$5:$C$103,2,FALSE)=0,\"\",VLOOKUP(J318,'Footnotes list'!$B$5:$C$103,2,FALSE) ) )","v":""},null,null,null,null,{"$f":"IF(TRIM(O318)=\"\", \"\", IF(VLOOKUP(O318,'Footnotes list'!$B$5:$C$103,2,FALSE)=0,\"\",VLOOKUP(O318,'Footnotes list'!$B$5:$C$103,2,FALSE) ) )","v":""},null,null,null,null,{"$f":"IF(TRIM(T318)=\"\", \"\", IF(VLOOKUP(T318,'Footnotes list'!$B$5:$C$103,2,FALSE)=0,\"\",VLOOKUP(T318,'Footnotes list'!$B$5:$C$103,2,FALSE) ) )","v":""},null,null,null,null,{"$f":"IF(TRIM(Y318)=\"\", \"\", IF(VLOOKUP(Y318,'Footnotes list'!$B$5:$C$103,2,FALSE)=0,\"\",VLOOKUP(Y318,'Footnotes list'!$B$5:$C$103,2,FALSE) ) )","v":""},null,null,null,null,{"$f":"IF(TRIM(AD318)=\"\", \"\", IF(VLOOKUP(AD318,'Footnotes list'!$B$5:$C$103,2,FALSE)=0,\"\",VLOOKUP(AD318,'Footnotes list'!$B$5:$C$103,2,FALSE) ) )","v":""},null,null,null,null,{"$f":"IF(TRIM(AI318)=\"\", \"\", IF(VLOOKUP(AI318,'Footnotes list'!$B$5:$C$103,2,FALSE)=0,\"\",VLOOKUP(AI318,'Footnotes list'!$B$5:$C$103,2,FALSE) ) )","v":""}]
[null,null,null,null,"SE12","        Östra Mellansverige",null,null,null,null,{"$f":"IF(TRIM(J319)=\"\", \"\", IF(VLOOKUP(J319,'Footnotes list'!$B$5:$C$103,2,FALSE)=0,\"\",VLOOKUP(J319,'Footnotes list'!$B$5:$C$103,2,FALSE) ) )","v":""},null,null,null,null,{"$f":"IF(TRIM(O319)=\"\", \"\", IF(VLOOKUP(O319,'Footnotes list'!$B$5:$C$103,2,FALSE)=0,\"\",VLOOKUP(O319,'Footnotes list'!$B$5:$C$103,2,FALSE) ) )","v":""},null,null,null,null,{"$f":"IF(TRIM(T319)=\"\", \"\", IF(VLOOKUP(T319,'Footnotes list'!$B$5:$C$103,2,FALSE)=0,\"\",VLOOKUP(T319,'Footnotes list'!$B$5:$C$103,2,FALSE) ) )","v":""},null,null,null,null,{"$f":"IF(TRIM(Y319)=\"\", \"\", IF(VLOOKUP(Y319,'Footnotes list'!$B$5:$C$103,2,FALSE)=0,\"\",VLOOKUP(Y319,'Footnotes list'!$B$5:$C$103,2,FALSE) ) )","v":""},null,null,null,null,{"$f":"IF(TRIM(AD319)=\"\", \"\", IF(VLOOKUP(AD319,'Footnotes list'!$B$5:$C$103,2,FALSE)=0,\"\",VLOOKUP(AD319,'Footnotes list'!$B$5:$C$103,2,FALSE) ) )","v":""},null,null,null,null,{"$f":"IF(TRIM(AI319)=\"\", \"\", IF(VLOOKUP(AI319,'Footnotes list'!$B$5:$C$103,2,FALSE)=0,\"\",VLOOKUP(AI319,'Footnotes list'!$B$5:$C$103,2,FALSE) ) )","v":""}]
[null,null,null,null,"SE2","    SÖDRA SVERIGE",null,null,null,null,{"$f":"IF(TRIM(J320)=\"\", \"\", IF(VLOOKUP(J320,'Footnotes list'!$B$5:$C$103,2,FALSE)=0,\"\",VLOOKUP(J320,'Footnotes list'!$B$5:$C$103,2,FALSE) ) )","v":""},null,null,null,null,{"$f":"IF(TRIM(O320)=\"\", \"\", IF(VLOOKUP(O320,'Footnotes list'!$B$5:$C$103,2,FALSE)=0,\"\",VLOOKUP(O320,'Footnotes list'!$B$5:$C$103,2,FALSE) ) )","v":""},null,null,null,null,{"$f":"IF(TRIM(T320)=\"\", \"\", IF(VLOOKUP(T320,'Footnotes list'!$B$5:$C$103,2,FALSE)=0,\"\",VLOOKUP(T320,'Footnotes list'!$B$5:$C$103,2,FALSE) ) )","v":""},null,null,null,null,{"$f":"IF(TRIM(Y320)=\"\", \"\", IF(VLOOKUP(Y320,'Footnotes list'!$B$5:$C$103,2,FALSE)=0,\"\",VLOOKUP(Y320,'Footnotes list'!$B$5:$C$103,2,FALSE) ) )","v":""},null,null,null,null,{"$f":"IF(TRIM(AD320)=\"\", \"\", IF(VLOOKUP(AD320,'Footnotes list'!$B$5:$C$103,2,FALSE)=0,\"\",VLOOKUP(AD320,'Footnotes list'!$B$5:$C$103,2,FALSE) ) )","v":""},null,null,null,null,{"$f":"IF(TRIM(AI320)=\"\", \"\", IF(VLOOKUP(AI320,'Footnotes list'!$B$5:$C$103,2,FALSE)=0,\"\",VLOOKUP(AI320,'Footnotes list'!$B$5:$C$103,2,FALSE) ) )","v":""}]
[null,null,null,null,"SE21","        Småland med öarna",null,null,null,null,{"$f":"IF(TRIM(J321)=\"\", \"\", IF(VLOOKUP(J321,'Footnotes list'!$B$5:$C$103,2,FALSE)=0,\"\",VLOOKUP(J321,'Footnotes list'!$B$5:$C$103,2,FALSE) ) )","v":""},null,null,null,null,{"$f":"IF(TRIM(O321)=\"\", \"\", IF(VLOOKUP(O321,'Footnotes list'!$B$5:$C$103,2,FALSE)=0,\"\",VLOOKUP(O321,'Footnotes list'!$B$5:$C$103,2,FALSE) ) )","v":""},null,null,null,null,{"$f":"IF(TRIM(T321)=\"\", \"\", IF(VLOOKUP(T321,'Footnotes list'!$B$5:$C$103,2,FALSE)=0,\"\",VLOOKUP(T321,'Footnotes list'!$B$5:$C$103,2,FALSE) ) )","v":""},null,null,null,null,{"$f":"IF(TRIM(Y321)=\"\", \"\", IF(VLOOKUP(Y321,'Footnotes list'!$B$5:$C$103,2,FALSE)=0,\"\",VLOOKUP(Y321,'Footnotes list'!$B$5:$C$103,2,FALSE) ) )","v":""},null,null,null,null,{"$f":"IF(TRIM(AD321)=\"\", \"\", IF(VLOOKUP(AD321,'Footnotes list'!$B$5:$C$103,2,FALSE)=0,\"\",VLOOKUP(AD321,'Footnotes list'!$B$5:$C$103,2,FALSE) ) )","v":""},null,null,null,null,{"$f":"IF(TRIM(AI321)=\"\", \"\", IF(VLOOKUP(AI321,'Footnotes list'!$B$5:$C$103,2,FALSE)=0,\"\",VLOOKUP(AI321,'Footnotes list'!$B$5:$C$103,2,FALSE) ) )","v":""}]
[null,null,null,"SWEDEN","SE22","        Sydsverige",null,null,null,null,{"$f":"IF(TRIM(J322)=\"\", \"\", IF(VLOOKUP(J322,'Footnotes list'!$B$5:$C$103,2,FALSE)=0,\"\",VLOOKUP(J322,'Footnotes list'!$B$5:$C$103,2,FALSE) ) )","v":""},null,null,null,null,{"$f":"IF(TRIM(O322)=\"\", \"\", IF(VLOOKUP(O322,'Footnotes list'!$B$5:$C$103,2,FALSE)=0,\"\",VLOOKUP(O322,'Footnotes list'!$B$5:$C$103,2,FALSE) ) )","v":""},null,null,null,null,{"$f":"IF(TRIM(T322)=\"\", \"\", IF(VLOOKUP(T322,'Footnotes list'!$B$5:$C$103,2,FALSE)=0,\"\",VLOOKUP(T322,'Footnotes list'!$B$5:$C$103,2,FALSE) ) )","v":""},null,null,null,null,{"$f":"IF(TRIM(Y322)=\"\", \"\", IF(VLOOKUP(Y322,'Footnotes list'!$B$5:$C$103,2,FALSE)=0,\"\",VLOOKUP(Y322,'Footnotes list'!$B$5:$C$103,2,FALSE) ) )","v":""},null,null,null,null,{"$f":"IF(TRIM(AD322)=\"\", \"\", IF(VLOOKUP(AD322,'Footnotes list'!$B$5:$C$103,2,FALSE)=0,\"\",VLOOKUP(AD322,'Footnotes list'!$B$5:$C$103,2,FALSE) ) )","v":""},null,null,null,null,{"$f":"IF(TRIM(AI322)=\"\", \"\", IF(VLOOKUP(AI322,'Footnotes list'!$B$5:$C$103,2,FALSE)=0,\"\",VLOOKUP(AI322,'Footnotes list'!$B$5:$C$103,2,FALSE) ) )","v":""}]
[null,null,null,null,"SE23","        Västsverige",null,null,null,null,{"$f":"IF(TRIM(J323)=\"\", \"\", IF(VLOOKUP(J323,'Footnotes list'!$B$5:$C$103,2,FALSE)=0,\"\",VLOOKUP(J323,'Footnotes list'!$B$5:$C$103,2,FALSE) ) )","v":""},null,null,null,null,{"$f":"IF(TRIM(O323)=\"\", \"\", IF(VLOOKUP(O323,'Footnotes list'!$B$5:$C$103,2,FALSE)=0,\"\",VLOOKUP(O323,'Footnotes list'!$B$5:$C$103,2,FALSE) ) )","v":""},null,null,null,null,{"$f":"IF(TRIM(T323)=\"\", \"\", IF(VLOOKUP(T323,'Footnotes list'!$B$5:$C$103,2,FALSE)=0,\"\",VLOOKUP(T323,'Footnotes list'!$B$5:$C$103,2,FALSE) ) )","v":""},null,null,null,null,{"$f":"IF(TRIM(Y323)=\"\", \"\", IF(VLOOKUP(Y323,'Footnotes list'!$B$5:$C$103,2,FALSE)=0,\"\",VLOOKUP(Y323,'Footnotes list'!$B$5:$C$103,2,FALSE) ) )","v":""},null,null,null,null,{"$f":"IF(TRIM(AD323)=\"\", \"\", IF(VLOOKUP(AD323,'Footnotes list'!$B$5:$C$103,2,FALSE)=0,\"\",VLOOKUP(AD323,'Footnotes list'!$B$5:$C$103,2,FALSE) ) )","v":""},null,null,null,null,{"$f":"IF(TRIM(AI323)=\"\", \"\", IF(VLOOKUP(AI323,'Footnotes list'!$B$5:$C$103,2,FALSE)=0,\"\",VLOOKUP(AI323,'Footnotes list'!$B$5:$C$103,2,FALSE) ) )","v":""}]
[null,null,null,null,"SE3","    NORRA SVERIGE",null,null,null,null,{"$f":"IF(TRIM(J324)=\"\", \"\", IF(VLOOKUP(J324,'Footnotes list'!$B$5:$C$103,2,FALSE)=0,\"\",VLOOKUP(J324,'Footnotes list'!$B$5:$C$103,2,FALSE) ) )","v":""},null,null,null,null,{"$f":"IF(TRIM(O324)=\"\", \"\", IF(VLOOKUP(O324,'Footnotes list'!$B$5:$C$103,2,FALSE)=0,\"\",VLOOKUP(O324,'Footnotes list'!$B$5:$C$103,2,FALSE) ) )","v":""},null,null,null,null,{"$f":"IF(TRIM(T324)=\"\", \"\", IF(VLOOKUP(T324,'Footnotes list'!$B$5:$C$103,2,FALSE)=0,\"\",VLOOKUP(T324,'Footnotes list'!$B$5:$C$103,2,FALSE) ) )","v":""},null,null,null,null,{"$f":"IF(TRIM(Y324)=\"\", \"\", IF(VLOOKUP(Y324,'Footnotes list'!$B$5:$C$103,2,FALSE)=0,\"\",VLOOKUP(Y324,'Footnotes list'!$B$5:$C$103,2,FALSE) ) )","v":""},null,null,null,null,{"$f":"IF(TRIM(AD324)=\"\", \"\", IF(VLOOKUP(AD324,'Footnotes list'!$B$5:$C$103,2,FALSE)=0,\"\",VLOOKUP(AD324,'Footnotes list'!$B$5:$C$103,2,FALSE) ) )","v":""},null,null,null,null,{"$f":"IF(TRIM(AI324)=\"\", \"\", IF(VLOOKUP(AI324,'Footnotes list'!$B$5:$C$103,2,FALSE)=0,\"\",VLOOKUP(AI324,'Footnotes list'!$B$5:$C$103,2,FALSE) ) )","v":""}]
[null,null,null,null,"SE31","        Norra Mellansverige",null,null,null,null,{"$f":"IF(TRIM(J325)=\"\", \"\", IF(VLOOKUP(J325,'Footnotes list'!$B$5:$C$103,2,FALSE)=0,\"\",VLOOKUP(J325,'Footnotes list'!$B$5:$C$103,2,FALSE) ) )","v":""},null,null,null,null,{"$f":"IF(TRIM(O325)=\"\", \"\", IF(VLOOKUP(O325,'Footnotes list'!$B$5:$C$103,2,FALSE)=0,\"\",VLOOKUP(O325,'Footnotes list'!$B$5:$C$103,2,FALSE) ) )","v":""},null,null,null,null,{"$f":"IF(TRIM(T325)=\"\", \"\", IF(VLOOKUP(T325,'Footnotes list'!$B$5:$C$103,2,FALSE)=0,\"\",VLOOKUP(T325,'Footnotes list'!$B$5:$C$103,2,FALSE) ) )","v":""},null,null,null,null,{"$f":"IF(TRIM(Y325)=\"\", \"\", IF(VLOOKUP(Y325,'Footnotes list'!$B$5:$C$103,2,FALSE)=0,\"\",VLOOKUP(Y325,'Footnotes list'!$B$5:$C$103,2,FALSE) ) )","v":""},null,null,null,null,{"$f":"IF(TRIM(AD325)=\"\", \"\", IF(VLOOKUP(AD325,'Footnotes list'!$B$5:$C$103,2,FALSE)=0,\"\",VLOOKUP(AD325,'Footnotes list'!$B$5:$C$103,2,FALSE) ) )","v":""},null,null,null,null,{"$f":"IF(TRIM(AI325)=\"\", \"\", IF(VLOOKUP(AI325,'Footnotes list'!$B$5:$C$103,2,FALSE)=0,\"\",VLOOKUP(AI325,'Footnotes list'!$B$5:$C$103,2,FALSE) ) )","v":""}]
[null,null,null,null,"SE32","        Mellersta Norrland",null,null,null,null,{"$f":"IF(TRIM(J326)=\"\", \"\", IF(VLOOKUP(J326,'Footnotes list'!$B$5:$C$103,2,FALSE)=0,\"\",VLOOKUP(J326,'Footnotes list'!$B$5:$C$103,2,FALSE) ) )","v":""},null,null,null,null,{"$f":"IF(TRIM(O326)=\"\", \"\", IF(VLOOKUP(O326,'Footnotes list'!$B$5:$C$103,2,FALSE)=0,\"\",VLOOKUP(O326,'Footnotes list'!$B$5:$C$103,2,FALSE) ) )","v":""},null,null,null,null,{"$f":"IF(TRIM(T326)=\"\", \"\", IF(VLOOKUP(T326,'Footnotes list'!$B$5:$C$103,2,FALSE)=0,\"\",VLOOKUP(T326,'Footnotes list'!$B$5:$C$103,2,FALSE) ) )","v":""},null,null,null,null,{"$f":"IF(TRIM(Y326)=\"\", \"\", IF(VLOOKUP(Y326,'Footnotes list'!$B$5:$C$103,2,FALSE)=0,\"\",VLOOKUP(Y326,'Footnotes list'!$B$5:$C$103,2,FALSE) ) )","v":""},null,null,null,null,{"$f":"IF(TRIM(AD326)=\"\", \"\", IF(VLOOKUP(AD326,'Footnotes list'!$B$5:$C$103,2,FALSE)=0,\"\",VLOOKUP(AD326,'Footnotes list'!$B$5:$C$103,2,FALSE) ) )","v":""},null,null,null,null,{"$f":"IF(TRIM(AI326)=\"\", \"\", IF(VLOOKUP(AI326,'Footnotes list'!$B$5:$C$103,2,FALSE)=0,\"\",VLOOKUP(AI326,'Footnotes list'!$B$5:$C$103,2,FALSE) ) )","v":""}]
[null,null,null,null,"SE33","        Övre Norrland",null,null,null,null,{"$f":"IF(TRIM(J327)=\"\", \"\", IF(VLOOKUP(J327,'Footnotes list'!$B$5:$C$103,2,FALSE)=0,\"\",VLOOKUP(J327,'Footnotes list'!$B$5:$C$103,2,FALSE) ) )","v":""},null,null,null,null,{"$f":"IF(TRIM(O327)=\"\", \"\", IF(VLOOKUP(O327,'Footnotes list'!$B$5:$C$103,2,FALSE)=0,\"\",VLOOKUP(O327,'Footnotes list'!$B$5:$C$103,2,FALSE) ) )","v":""},null,null,null,null,{"$f":"IF(TRIM(T327)=\"\", \"\", IF(VLOOKUP(T327,'Footnotes list'!$B$5:$C$103,2,FALSE)=0,\"\",VLOOKUP(T327,'Footnotes list'!$B$5:$C$103,2,FALSE) ) )","v":""},null,null,null,null,{"$f":"IF(TRIM(Y327)=\"\", \"\", IF(VLOOKUP(Y327,'Footnotes list'!$B$5:$C$103,2,FALSE)=0,\"\",VLOOKUP(Y327,'Footnotes list'!$B$5:$C$103,2,FALSE) ) )","v":""},null,null,null,null,{"$f":"IF(TRIM(AD327)=\"\", \"\", IF(VLOOKUP(AD327,'Footnotes list'!$B$5:$C$103,2,FALSE)=0,\"\",VLOOKUP(AD327,'Footnotes list'!$B$5:$C$103,2,FALSE) ) )","v":""},null,null,null,null,{"$f":"IF(TRIM(AI327)=\"\", \"\", IF(VLOOKUP(AI327,'Footnotes list'!$B$5:$C$103,2,FALSE)=0,\"\",VLOOKUP(AI327,'Footnotes list'!$B$5:$C$103,2,FALSE) ) )","v":""}]
[null,null,null,null,"UK","UNITED KINGDOM",null,null,null,null,{"$f":"IF(TRIM(J328)=\"\", \"\", IF(VLOOKUP(J328,'Footnotes list'!$B$5:$C$103,2,FALSE)=0,\"\",VLOOKUP(J328,'Footnotes list'!$B$5:$C$103,2,FALSE) ) )","v":""},null,null,null,null,{"$f":"IF(TRIM(O328)=\"\", \"\", IF(VLOOKUP(O328,'Footnotes list'!$B$5:$C$103,2,FALSE)=0,\"\",VLOOKUP(O328,'Footnotes list'!$B$5:$C$103,2,FALSE) ) )","v":""},null,null,null,null,{"$f":"IF(TRIM(T328)=\"\", \"\", IF(VLOOKUP(T328,'Footnotes list'!$B$5:$C$103,2,FALSE)=0,\"\",VLOOKUP(T328,'Footnotes list'!$B$5:$C$103,2,FALSE) ) )","v":""},null,null,null,null,{"$f":"IF(TRIM(Y328)=\"\", \"\", IF(VLOOKUP(Y328,'Footnotes list'!$B$5:$C$103,2,FALSE)=0,\"\",VLOOKUP(Y328,'Footnotes list'!$B$5:$C$103,2,FALSE) ) )","v":""},null,null,null,null,{"$f":"IF(TRIM(AD328)=\"\", \"\", IF(VLOOKUP(AD328,'Footnotes list'!$B$5:$C$103,2,FALSE)=0,\"\",VLOOKUP(AD328,'Footnotes list'!$B$5:$C$103,2,FALSE) ) )","v":""},null,null,null,null,{"$f":"IF(TRIM(AI328)=\"\", \"\", IF(VLOOKUP(AI328,'Footnotes list'!$B$5:$C$103,2,FALSE)=0,\"\",VLOOKUP(AI328,'Footnotes list'!$B$5:$C$103,2,FALSE) ) )","v":""}]
[null,null,null,null,"UKC","    NORTH EAST (ENGLAND)",null,null,null,null,{"$f":"IF(TRIM(J329)=\"\", \"\", IF(VLOOKUP(J329,'Footnotes list'!$B$5:$C$103,2,FALSE)=0,\"\",VLOOKUP(J329,'Footnotes list'!$B$5:$C$103,2,FALSE) ) )","v":""},null,null,null,null,{"$f":"IF(TRIM(O329)=\"\", \"\", IF(VLOOKUP(O329,'Footnotes list'!$B$5:$C$103,2,FALSE)=0,\"\",VLOOKUP(O329,'Footnotes list'!$B$5:$C$103,2,FALSE) ) )","v":""},null,null,null,null,{"$f":"IF(TRIM(T329)=\"\", \"\", IF(VLOOKUP(T329,'Footnotes list'!$B$5:$C$103,2,FALSE)=0,\"\",VLOOKUP(T329,'Footnotes list'!$B$5:$C$103,2,FALSE) ) )","v":""},null,null,null,null,{"$f":"IF(TRIM(Y329)=\"\", \"\", IF(VLOOKUP(Y329,'Footnotes list'!$B$5:$C$103,2,FALSE)=0,\"\",VLOOKUP(Y329,'Footnotes list'!$B$5:$C$103,2,FALSE) ) )","v":""},null,null,null,null,{"$f":"IF(TRIM(AD329)=\"\", \"\", IF(VLOOKUP(AD329,'Footnotes list'!$B$5:$C$103,2,FALSE)=0,\"\",VLOOKUP(AD329,'Footnotes list'!$B$5:$C$103,2,FALSE) ) )","v":""},null,null,null,null,{"$f":"IF(TRIM(AI329)=\"\", \"\", IF(VLOOKUP(AI329,'Footnotes list'!$B$5:$C$103,2,FALSE)=0,\"\",VLOOKUP(AI329,'Footnotes list'!$B$5:$C$103,2,FALSE) ) )","v":""}]
[null,null,null,null,"UKC1","        Tees Valley and Durham",null,null,null,null,{"$f":"IF(TRIM(J330)=\"\", \"\", IF(VLOOKUP(J330,'Footnotes list'!$B$5:$C$103,2,FALSE)=0,\"\",VLOOKUP(J330,'Footnotes list'!$B$5:$C$103,2,FALSE) ) )","v":""},null,null,null,null,{"$f":"IF(TRIM(O330)=\"\", \"\", IF(VLOOKUP(O330,'Footnotes list'!$B$5:$C$103,2,FALSE)=0,\"\",VLOOKUP(O330,'Footnotes list'!$B$5:$C$103,2,FALSE) ) )","v":""},null,null,null,null,{"$f":"IF(TRIM(T330)=\"\", \"\", IF(VLOOKUP(T330,'Footnotes list'!$B$5:$C$103,2,FALSE)=0,\"\",VLOOKUP(T330,'Footnotes list'!$B$5:$C$103,2,FALSE) ) )","v":""},null,null,null,null,{"$f":"IF(TRIM(Y330)=\"\", \"\", IF(VLOOKUP(Y330,'Footnotes list'!$B$5:$C$103,2,FALSE)=0,\"\",VLOOKUP(Y330,'Footnotes list'!$B$5:$C$103,2,FALSE) ) )","v":""},null,null,null,null,{"$f":"IF(TRIM(AD330)=\"\", \"\", IF(VLOOKUP(AD330,'Footnotes list'!$B$5:$C$103,2,FALSE)=0,\"\",VLOOKUP(AD330,'Footnotes list'!$B$5:$C$103,2,FALSE) ) )","v":""},null,null,null,null,{"$f":"IF(TRIM(AI330)=\"\", \"\", IF(VLOOKUP(AI330,'Footnotes list'!$B$5:$C$103,2,FALSE)=0,\"\",VLOOKUP(AI330,'Footnotes list'!$B$5:$C$103,2,FALSE) ) )","v":""}]
[null,null,null,null,"UKC2","        Northumberland and Tyne and Wear",null,null,null,null,{"$f":"IF(TRIM(J331)=\"\", \"\", IF(VLOOKUP(J331,'Footnotes list'!$B$5:$C$103,2,FALSE)=0,\"\",VLOOKUP(J331,'Footnotes list'!$B$5:$C$103,2,FALSE) ) )","v":""},null,null,null,null,{"$f":"IF(TRIM(O331)=\"\", \"\", IF(VLOOKUP(O331,'Footnotes list'!$B$5:$C$103,2,FALSE)=0,\"\",VLOOKUP(O331,'Footnotes list'!$B$5:$C$103,2,FALSE) ) )","v":""},null,null,null,null,{"$f":"IF(TRIM(T331)=\"\", \"\", IF(VLOOKUP(T331,'Footnotes list'!$B$5:$C$103,2,FALSE)=0,\"\",VLOOKUP(T331,'Footnotes list'!$B$5:$C$103,2,FALSE) ) )","v":""},null,null,null,null,{"$f":"IF(TRIM(Y331)=\"\", \"\", IF(VLOOKUP(Y331,'Footnotes list'!$B$5:$C$103,2,FALSE)=0,\"\",VLOOKUP(Y331,'Footnotes list'!$B$5:$C$103,2,FALSE) ) )","v":""},null,null,null,null,{"$f":"IF(TRIM(AD331)=\"\", \"\", IF(VLOOKUP(AD331,'Footnotes list'!$B$5:$C$103,2,FALSE)=0,\"\",VLOOKUP(AD331,'Footnotes list'!$B$5:$C$103,2,FALSE) ) )","v":""},null,null,null,null,{"$f":"IF(TRIM(AI331)=\"\", \"\", IF(VLOOKUP(AI331,'Footnotes list'!$B$5:$C$103,2,FALSE)=0,\"\",VLOOKUP(AI331,'Footnotes list'!$B$5:$C$103,2,FALSE) ) )","v":""}]
[null,null,null,null,"UKD","    NORTH WEST (ENGLAND)",null,null,null,null,{"$f":"IF(TRIM(J332)=\"\", \"\", IF(VLOOKUP(J332,'Footnotes list'!$B$5:$C$103,2,FALSE)=0,\"\",VLOOKUP(J332,'Footnotes list'!$B$5:$C$103,2,FALSE) ) )","v":""},null,null,null,null,{"$f":"IF(TRIM(O332)=\"\", \"\", IF(VLOOKUP(O332,'Footnotes list'!$B$5:$C$103,2,FALSE)=0,\"\",VLOOKUP(O332,'Footnotes list'!$B$5:$C$103,2,FALSE) ) )","v":""},null,null,null,null,{"$f":"IF(TRIM(T332)=\"\", \"\", IF(VLOOKUP(T332,'Footnotes list'!$B$5:$C$103,2,FALSE)=0,\"\",VLOOKUP(T332,'Footnotes list'!$B$5:$C$103,2,FALSE) ) )","v":""},null,null,null,null,{"$f":"IF(TRIM(Y332)=\"\", \"\", IF(VLOOKUP(Y332,'Footnotes list'!$B$5:$C$103,2,FALSE)=0,\"\",VLOOKUP(Y332,'Footnotes list'!$B$5:$C$103,2,FALSE) ) )","v":""},null,null,null,null,{"$f":"IF(TRIM(AD332)=\"\", \"\", IF(VLOOKUP(AD332,'Footnotes list'!$B$5:$C$103,2,FALSE)=0,\"\",VLOOKUP(AD332,'Footnotes list'!$B$5:$C$103,2,FALSE) ) )","v":""},null,null,null,null,{"$f":"IF(TRIM(AI332)=\"\", \"\", IF(VLOOKUP(AI332,'Footnotes list'!$B$5:$C$103,2,FALSE)=0,\"\",VLOOKUP(AI332,'Footnotes list'!$B$5:$C$103,2,FALSE) ) )","v":""}]
[null,null,null,null,"UKD1","        Cumbria",null,null,null,null,{"$f":"IF(TRIM(J333)=\"\", \"\", IF(VLOOKUP(J333,'Footnotes list'!$B$5:$C$103,2,FALSE)=0,\"\",VLOOKUP(J333,'Footnotes list'!$B$5:$C$103,2,FALSE) ) )","v":""},null,null,null,null,{"$f":"IF(TRIM(O333)=\"\", \"\", IF(VLOOKUP(O333,'Footnotes list'!$B$5:$C$103,2,FALSE)=0,\"\",VLOOKUP(O333,'Footnotes list'!$B$5:$C$103,2,FALSE) ) )","v":""},null,null,null,null,{"$f":"IF(TRIM(T333)=\"\", \"\", IF(VLOOKUP(T333,'Footnotes list'!$B$5:$C$103,2,FALSE)=0,\"\",VLOOKUP(T333,'Footnotes list'!$B$5:$C$103,2,FALSE) ) )","v":""},null,null,null,null,{"$f":"IF(TRIM(Y333)=\"\", \"\", IF(VLOOKUP(Y333,'Footnotes list'!$B$5:$C$103,2,FALSE)=0,\"\",VLOOKUP(Y333,'Footnotes list'!$B$5:$C$103,2,FALSE) ) )","v":""},null,null,null,null,{"$f":"IF(TRIM(AD333)=\"\", \"\", IF(VLOOKUP(AD333,'Footnotes list'!$B$5:$C$103,2,FALSE)=0,\"\",VLOOKUP(AD333,'Footnotes list'!$B$5:$C$103,2,FALSE) ) )","v":""},null,null,null,null,{"$f":"IF(TRIM(AI333)=\"\", \"\", IF(VLOOKUP(AI333,'Footnotes list'!$B$5:$C$103,2,FALSE)=0,\"\",VLOOKUP(AI333,'Footnotes list'!$B$5:$C$103,2,FALSE) ) )","v":""}]
[null,null,null,null,"UKD6","        Cheshire",null,null,null,null,{"$f":"IF(TRIM(J334)=\"\", \"\", IF(VLOOKUP(J334,'Footnotes list'!$B$5:$C$103,2,FALSE)=0,\"\",VLOOKUP(J334,'Footnotes list'!$B$5:$C$103,2,FALSE) ) )","v":""},null,null,null,null,{"$f":"IF(TRIM(O334)=\"\", \"\", IF(VLOOKUP(O334,'Footnotes list'!$B$5:$C$103,2,FALSE)=0,\"\",VLOOKUP(O334,'Footnotes list'!$B$5:$C$103,2,FALSE) ) )","v":""},null,null,null,null,{"$f":"IF(TRIM(T334)=\"\", \"\", IF(VLOOKUP(T334,'Footnotes list'!$B$5:$C$103,2,FALSE)=0,\"\",VLOOKUP(T334,'Footnotes list'!$B$5:$C$103,2,FALSE) ) )","v":""},null,null,null,null,{"$f":"IF(TRIM(Y334)=\"\", \"\", IF(VLOOKUP(Y334,'Footnotes list'!$B$5:$C$103,2,FALSE)=0,\"\",VLOOKUP(Y334,'Footnotes list'!$B$5:$C$103,2,FALSE) ) )","v":""},null,null,null,null,{"$f":"IF(TRIM(AD334)=\"\", \"\", IF(VLOOKUP(AD334,'Footnotes list'!$B$5:$C$103,2,FALSE)=0,\"\",VLOOKUP(AD334,'Footnotes list'!$B$5:$C$103,2,FALSE) ) )","v":""},null,null,null,null,{"$f":"IF(TRIM(AI334)=\"\", \"\", IF(VLOOKUP(AI334,'Footnotes list'!$B$5:$C$103,2,FALSE)=0,\"\",VLOOKUP(AI334,'Footnotes list'!$B$5:$C$103,2,FALSE) ) )","v":""}]
[null,null,null,null,"UKD3","        Greater Manchester",null,null,null,null,{"$f":"IF(TRIM(J335)=\"\", \"\", IF(VLOOKUP(J335,'Footnotes list'!$B$5:$C$103,2,FALSE)=0,\"\",VLOOKUP(J335,'Footnotes list'!$B$5:$C$103,2,FALSE) ) )","v":""},null,null,null,null,{"$f":"IF(TRIM(O335)=\"\", \"\", IF(VLOOKUP(O335,'Footnotes list'!$B$5:$C$103,2,FALSE)=0,\"\",VLOOKUP(O335,'Footnotes list'!$B$5:$C$103,2,FALSE) ) )","v":""},null,null,null,null,{"$f":"IF(TRIM(T335)=\"\", \"\", IF(VLOOKUP(T335,'Footnotes list'!$B$5:$C$103,2,FALSE)=0,\"\",VLOOKUP(T335,'Footnotes list'!$B$5:$C$103,2,FALSE) ) )","v":""},null,null,null,null,{"$f":"IF(TRIM(Y335)=\"\", \"\", IF(VLOOKUP(Y335,'Footnotes list'!$B$5:$C$103,2,FALSE)=0,\"\",VLOOKUP(Y335,'Footnotes list'!$B$5:$C$103,2,FALSE) ) )","v":""},null,null,null,null,{"$f":"IF(TRIM(AD335)=\"\", \"\", IF(VLOOKUP(AD335,'Footnotes list'!$B$5:$C$103,2,FALSE)=0,\"\",VLOOKUP(AD335,'Footnotes list'!$B$5:$C$103,2,FALSE) ) )","v":""},null,null,null,null,{"$f":"IF(TRIM(AI335)=\"\", \"\", IF(VLOOKUP(AI335,'Footnotes list'!$B$5:$C$103,2,FALSE)=0,\"\",VLOOKUP(AI335,'Footnotes list'!$B$5:$C$103,2,FALSE) ) )","v":""}]
[null,null,null,null,"UKD4","        Lancashire",null,null,null,null,{"$f":"IF(TRIM(J336)=\"\", \"\", IF(VLOOKUP(J336,'Footnotes list'!$B$5:$C$103,2,FALSE)=0,\"\",VLOOKUP(J336,'Footnotes list'!$B$5:$C$103,2,FALSE) ) )","v":""},null,null,null,null,{"$f":"IF(TRIM(O336)=\"\", \"\", IF(VLOOKUP(O336,'Footnotes list'!$B$5:$C$103,2,FALSE)=0,\"\",VLOOKUP(O336,'Footnotes list'!$B$5:$C$103,2,FALSE) ) )","v":""},null,null,null,null,{"$f":"IF(TRIM(T336)=\"\", \"\", IF(VLOOKUP(T336,'Footnotes list'!$B$5:$C$103,2,FALSE)=0,\"\",VLOOKUP(T336,'Footnotes list'!$B$5:$C$103,2,FALSE) ) )","v":""},null,null,null,null,{"$f":"IF(TRIM(Y336)=\"\", \"\", IF(VLOOKUP(Y336,'Footnotes list'!$B$5:$C$103,2,FALSE)=0,\"\",VLOOKUP(Y336,'Footnotes list'!$B$5:$C$103,2,FALSE) ) )","v":""},null,null,null,null,{"$f":"IF(TRIM(AD336)=\"\", \"\", IF(VLOOKUP(AD336,'Footnotes list'!$B$5:$C$103,2,FALSE)=0,\"\",VLOOKUP(AD336,'Footnotes list'!$B$5:$C$103,2,FALSE) ) )","v":""},null,null,null,null,{"$f":"IF(TRIM(AI336)=\"\", \"\", IF(VLOOKUP(AI336,'Footnotes list'!$B$5:$C$103,2,FALSE)=0,\"\",VLOOKUP(AI336,'Footnotes list'!$B$5:$C$103,2,FALSE) ) )","v":""}]
[null,null,null,null,"UKD7","        Merseyside",null,null,null,null,{"$f":"IF(TRIM(J337)=\"\", \"\", IF(VLOOKUP(J337,'Footnotes list'!$B$5:$C$103,2,FALSE)=0,\"\",VLOOKUP(J337,'Footnotes list'!$B$5:$C$103,2,FALSE) ) )","v":""},null,null,null,null,{"$f":"IF(TRIM(O337)=\"\", \"\", IF(VLOOKUP(O337,'Footnotes list'!$B$5:$C$103,2,FALSE)=0,\"\",VLOOKUP(O337,'Footnotes list'!$B$5:$C$103,2,FALSE) ) )","v":""},null,null,null,null,{"$f":"IF(TRIM(T337)=\"\", \"\", IF(VLOOKUP(T337,'Footnotes list'!$B$5:$C$103,2,FALSE)=0,\"\",VLOOKUP(T337,'Footnotes list'!$B$5:$C$103,2,FALSE) ) )","v":""},null,null,null,null,{"$f":"IF(TRIM(Y337)=\"\", \"\", IF(VLOOKUP(Y337,'Footnotes list'!$B$5:$C$103,2,FALSE)=0,\"\",VLOOKUP(Y337,'Footnotes list'!$B$5:$C$103,2,FALSE) ) )","v":""},null,null,null,null,{"$f":"IF(TRIM(AD337)=\"\", \"\", IF(VLOOKUP(AD337,'Footnotes list'!$B$5:$C$103,2,FALSE)=0,\"\",VLOOKUP(AD337,'Footnotes list'!$B$5:$C$103,2,FALSE) ) )","v":""},null,null,null,null,{"$f":"IF(TRIM(AI337)=\"\", \"\", IF(VLOOKUP(AI337,'Footnotes list'!$B$5:$C$103,2,FALSE)=0,\"\",VLOOKUP(AI337,'Footnotes list'!$B$5:$C$103,2,FALSE) ) )","v":""}]
[null,null,null,null,"UKE","    YORKSHIRE AND THE HUMBER",null,null,null,null,{"$f":"IF(TRIM(J338)=\"\", \"\", IF(VLOOKUP(J338,'Footnotes list'!$B$5:$C$103,2,FALSE)=0,\"\",VLOOKUP(J338,'Footnotes list'!$B$5:$C$103,2,FALSE) ) )","v":""},null,null,null,null,{"$f":"IF(TRIM(O338)=\"\", \"\", IF(VLOOKUP(O338,'Footnotes list'!$B$5:$C$103,2,FALSE)=0,\"\",VLOOKUP(O338,'Footnotes list'!$B$5:$C$103,2,FALSE) ) )","v":""},null,null,null,null,{"$f":"IF(TRIM(T338)=\"\", \"\", IF(VLOOKUP(T338,'Footnotes list'!$B$5:$C$103,2,FALSE)=0,\"\",VLOOKUP(T338,'Footnotes list'!$B$5:$C$103,2,FALSE) ) )","v":""},null,null,null,null,{"$f":"IF(TRIM(Y338)=\"\", \"\", IF(VLOOKUP(Y338,'Footnotes list'!$B$5:$C$103,2,FALSE)=0,\"\",VLOOKUP(Y338,'Footnotes list'!$B$5:$C$103,2,FALSE) ) )","v":""},null,null,null,null,{"$f":"IF(TRIM(AD338)=\"\", \"\", IF(VLOOKUP(AD338,'Footnotes list'!$B$5:$C$103,2,FALSE)=0,\"\",VLOOKUP(AD338,'Footnotes list'!$B$5:$C$103,2,FALSE) ) )","v":""},null,null,null,null,{"$f":"IF(TRIM(AI338)=\"\", \"\", IF(VLOOKUP(AI338,'Footnotes list'!$B$5:$C$103,2,FALSE)=0,\"\",VLOOKUP(AI338,'Footnotes list'!$B$5:$C$103,2,FALSE) ) )","v":""}]
[null,null,null,null,"UKE1","        East Yorkshire and Northern Lincolnshire",null,null,null,null,{"$f":"IF(TRIM(J339)=\"\", \"\", IF(VLOOKUP(J339,'Footnotes list'!$B$5:$C$103,2,FALSE)=0,\"\",VLOOKUP(J339,'Footnotes list'!$B$5:$C$103,2,FALSE) ) )","v":""},null,null,null,null,{"$f":"IF(TRIM(O339)=\"\", \"\", IF(VLOOKUP(O339,'Footnotes list'!$B$5:$C$103,2,FALSE)=0,\"\",VLOOKUP(O339,'Footnotes list'!$B$5:$C$103,2,FALSE) ) )","v":""},null,null,null,null,{"$f":"IF(TRIM(T339)=\"\", \"\", IF(VLOOKUP(T339,'Footnotes list'!$B$5:$C$103,2,FALSE)=0,\"\",VLOOKUP(T339,'Footnotes list'!$B$5:$C$103,2,FALSE) ) )","v":""},null,null,null,null,{"$f":"IF(TRIM(Y339)=\"\", \"\", IF(VLOOKUP(Y339,'Footnotes list'!$B$5:$C$103,2,FALSE)=0,\"\",VLOOKUP(Y339,'Footnotes list'!$B$5:$C$103,2,FALSE) ) )","v":""},null,null,null,null,{"$f":"IF(TRIM(AD339)=\"\", \"\", IF(VLOOKUP(AD339,'Footnotes list'!$B$5:$C$103,2,FALSE)=0,\"\",VLOOKUP(AD339,'Footnotes list'!$B$5:$C$103,2,FALSE) ) )","v":""},null,null,null,null,{"$f":"IF(TRIM(AI339)=\"\", \"\", IF(VLOOKUP(AI339,'Footnotes list'!$B$5:$C$103,2,FALSE)=0,\"\",VLOOKUP(AI339,'Footnotes list'!$B$5:$C$103,2,FALSE) ) )","v":""}]
[null,null,null,null,"UKE2","        North Yorkshire",null,null,null,null,{"$f":"IF(TRIM(J340)=\"\", \"\", IF(VLOOKUP(J340,'Footnotes list'!$B$5:$C$103,2,FALSE)=0,\"\",VLOOKUP(J340,'Footnotes list'!$B$5:$C$103,2,FALSE) ) )","v":""},null,null,null,null,{"$f":"IF(TRIM(O340)=\"\", \"\", IF(VLOOKUP(O340,'Footnotes list'!$B$5:$C$103,2,FALSE)=0,\"\",VLOOKUP(O340,'Footnotes list'!$B$5:$C$103,2,FALSE) ) )","v":""},null,null,null,null,{"$f":"IF(TRIM(T340)=\"\", \"\", IF(VLOOKUP(T340,'Footnotes list'!$B$5:$C$103,2,FALSE)=0,\"\",VLOOKUP(T340,'Footnotes list'!$B$5:$C$103,2,FALSE) ) )","v":""},null,null,null,null,{"$f":"IF(TRIM(Y340)=\"\", \"\", IF(VLOOKUP(Y340,'Footnotes list'!$B$5:$C$103,2,FALSE)=0,\"\",VLOOKUP(Y340,'Footnotes list'!$B$5:$C$103,2,FALSE) ) )","v":""},null,null,null,null,{"$f":"IF(TRIM(AD340)=\"\", \"\", IF(VLOOKUP(AD340,'Footnotes list'!$B$5:$C$103,2,FALSE)=0,\"\",VLOOKUP(AD340,'Footnotes list'!$B$5:$C$103,2,FALSE) ) )","v":""},null,null,null,null,{"$f":"IF(TRIM(AI340)=\"\", \"\", IF(VLOOKUP(AI340,'Footnotes list'!$B$5:$C$103,2,FALSE)=0,\"\",VLOOKUP(AI340,'Footnotes list'!$B$5:$C$103,2,FALSE) ) )","v":""}]
[null,null,null,null,"UKE3","        South Yorkshire",null,null,null,null,{"$f":"IF(TRIM(J341)=\"\", \"\", IF(VLOOKUP(J341,'Footnotes list'!$B$5:$C$103,2,FALSE)=0,\"\",VLOOKUP(J341,'Footnotes list'!$B$5:$C$103,2,FALSE) ) )","v":""},null,null,null,null,{"$f":"IF(TRIM(O341)=\"\", \"\", IF(VLOOKUP(O341,'Footnotes list'!$B$5:$C$103,2,FALSE)=0,\"\",VLOOKUP(O341,'Footnotes list'!$B$5:$C$103,2,FALSE) ) )","v":""},null,null,null,null,{"$f":"IF(TRIM(T341)=\"\", \"\", IF(VLOOKUP(T341,'Footnotes list'!$B$5:$C$103,2,FALSE)=0,\"\",VLOOKUP(T341,'Footnotes list'!$B$5:$C$103,2,FALSE) ) )","v":""},null,null,null,null,{"$f":"IF(TRIM(Y341)=\"\", \"\", IF(VLOOKUP(Y341,'Footnotes list'!$B$5:$C$103,2,FALSE)=0,\"\",VLOOKUP(Y341,'Footnotes list'!$B$5:$C$103,2,FALSE) ) )","v":""},null,null,null,null,{"$f":"IF(TRIM(AD341)=\"\", \"\", IF(VLOOKUP(AD341,'Footnotes list'!$B$5:$C$103,2,FALSE)=0,\"\",VLOOKUP(AD341,'Footnotes list'!$B$5:$C$103,2,FALSE) ) )","v":""},null,null,null,null,{"$f":"IF(TRIM(AI341)=\"\", \"\", IF(VLOOKUP(AI341,'Footnotes list'!$B$5:$C$103,2,FALSE)=0,\"\",VLOOKUP(AI341,'Footnotes list'!$B$5:$C$103,2,FALSE) ) )","v":""}]
[null,null,null,null,"UKE4","        West Yorkshire",null,null,null,null,{"$f":"IF(TRIM(J342)=\"\", \"\", IF(VLOOKUP(J342,'Footnotes list'!$B$5:$C$103,2,FALSE)=0,\"\",VLOOKUP(J342,'Footnotes list'!$B$5:$C$103,2,FALSE) ) )","v":""},null,null,null,null,{"$f":"IF(TRIM(O342)=\"\", \"\", IF(VLOOKUP(O342,'Footnotes list'!$B$5:$C$103,2,FALSE)=0,\"\",VLOOKUP(O342,'Footnotes list'!$B$5:$C$103,2,FALSE) ) )","v":""},null,null,null,null,{"$f":"IF(TRIM(T342)=\"\", \"\", IF(VLOOKUP(T342,'Footnotes list'!$B$5:$C$103,2,FALSE)=0,\"\",VLOOKUP(T342,'Footnotes list'!$B$5:$C$103,2,FALSE) ) )","v":""},null,null,null,null,{"$f":"IF(TRIM(Y342)=\"\", \"\", IF(VLOOKUP(Y342,'Footnotes list'!$B$5:$C$103,2,FALSE)=0,\"\",VLOOKUP(Y342,'Footnotes list'!$B$5:$C$103,2,FALSE) ) )","v":""},null,null,null,null,{"$f":"IF(TRIM(AD342)=\"\", \"\", IF(VLOOKUP(AD342,'Footnotes list'!$B$5:$C$103,2,FALSE)=0,\"\",VLOOKUP(AD342,'Footnotes list'!$B$5:$C$103,2,FALSE) ) )","v":""},null,null,null,null,{"$f":"IF(TRIM(AI342)=\"\", \"\", IF(VLOOKUP(AI342,'Footnotes list'!$B$5:$C$103,2,FALSE)=0,\"\",VLOOKUP(AI342,'Footnotes list'!$B$5:$C$103,2,FALSE) ) )","v":""}]
[null,null,null,null,"UKF","    EAST MIDLANDS (ENGLAND)",null,null,null,null,{"$f":"IF(TRIM(J343)=\"\", \"\", IF(VLOOKUP(J343,'Footnotes list'!$B$5:$C$103,2,FALSE)=0,\"\",VLOOKUP(J343,'Footnotes list'!$B$5:$C$103,2,FALSE) ) )","v":""},null,null,null,null,{"$f":"IF(TRIM(O343)=\"\", \"\", IF(VLOOKUP(O343,'Footnotes list'!$B$5:$C$103,2,FALSE)=0,\"\",VLOOKUP(O343,'Footnotes list'!$B$5:$C$103,2,FALSE) ) )","v":""},null,null,null,null,{"$f":"IF(TRIM(T343)=\"\", \"\", IF(VLOOKUP(T343,'Footnotes list'!$B$5:$C$103,2,FALSE)=0,\"\",VLOOKUP(T343,'Footnotes list'!$B$5:$C$103,2,FALSE) ) )","v":""},null,null,null,null,{"$f":"IF(TRIM(Y343)=\"\", \"\", IF(VLOOKUP(Y343,'Footnotes list'!$B$5:$C$103,2,FALSE)=0,\"\",VLOOKUP(Y343,'Footnotes list'!$B$5:$C$103,2,FALSE) ) )","v":""},null,null,null,null,{"$f":"IF(TRIM(AD343)=\"\", \"\", IF(VLOOKUP(AD343,'Footnotes list'!$B$5:$C$103,2,FALSE)=0,\"\",VLOOKUP(AD343,'Footnotes list'!$B$5:$C$103,2,FALSE) ) )","v":""},null,null,null,null,{"$f":"IF(TRIM(AI343)=\"\", \"\", IF(VLOOKUP(AI343,'Footnotes list'!$B$5:$C$103,2,FALSE)=0,\"\",VLOOKUP(AI343,'Footnotes list'!$B$5:$C$103,2,FALSE) ) )","v":""}]
[null,null,null,null,"UKF1","        Derbyshire and Nottinghamshire",null,null,null,null,{"$f":"IF(TRIM(J344)=\"\", \"\", IF(VLOOKUP(J344,'Footnotes list'!$B$5:$C$103,2,FALSE)=0,\"\",VLOOKUP(J344,'Footnotes list'!$B$5:$C$103,2,FALSE) ) )","v":""},null,null,null,null,{"$f":"IF(TRIM(O344)=\"\", \"\", IF(VLOOKUP(O344,'Footnotes list'!$B$5:$C$103,2,FALSE)=0,\"\",VLOOKUP(O344,'Footnotes list'!$B$5:$C$103,2,FALSE) ) )","v":""},null,null,null,null,{"$f":"IF(TRIM(T344)=\"\", \"\", IF(VLOOKUP(T344,'Footnotes list'!$B$5:$C$103,2,FALSE)=0,\"\",VLOOKUP(T344,'Footnotes list'!$B$5:$C$103,2,FALSE) ) )","v":""},null,null,null,null,{"$f":"IF(TRIM(Y344)=\"\", \"\", IF(VLOOKUP(Y344,'Footnotes list'!$B$5:$C$103,2,FALSE)=0,\"\",VLOOKUP(Y344,'Footnotes list'!$B$5:$C$103,2,FALSE) ) )","v":""},null,null,null,null,{"$f":"IF(TRIM(AD344)=\"\", \"\", IF(VLOOKUP(AD344,'Footnotes list'!$B$5:$C$103,2,FALSE)=0,\"\",VLOOKUP(AD344,'Footnotes list'!$B$5:$C$103,2,FALSE) ) )","v":""},null,null,null,null,{"$f":"IF(TRIM(AI344)=\"\", \"\", IF(VLOOKUP(AI344,'Footnotes list'!$B$5:$C$103,2,FALSE)=0,\"\",VLOOKUP(AI344,'Footnotes list'!$B$5:$C$103,2,FALSE) ) )","v":""}]
[null,null,null,null,"UKF2","        Leicestershire, Rutland and Northamptonshire",null,null,null,null,{"$f":"IF(TRIM(J345)=\"\", \"\", IF(VLOOKUP(J345,'Footnotes list'!$B$5:$C$103,2,FALSE)=0,\"\",VLOOKUP(J345,'Footnotes list'!$B$5:$C$103,2,FALSE) ) )","v":""},null,null,null,null,{"$f":"IF(TRIM(O345)=\"\", \"\", IF(VLOOKUP(O345,'Footnotes list'!$B$5:$C$103,2,FALSE)=0,\"\",VLOOKUP(O345,'Footnotes list'!$B$5:$C$103,2,FALSE) ) )","v":""},null,null,null,null,{"$f":"IF(TRIM(T345)=\"\", \"\", IF(VLOOKUP(T345,'Footnotes list'!$B$5:$C$103,2,FALSE)=0,\"\",VLOOKUP(T345,'Footnotes list'!$B$5:$C$103,2,FALSE) ) )","v":""},null,null,null,null,{"$f":"IF(TRIM(Y345)=\"\", \"\", IF(VLOOKUP(Y345,'Footnotes list'!$B$5:$C$103,2,FALSE)=0,\"\",VLOOKUP(Y345,'Footnotes list'!$B$5:$C$103,2,FALSE) ) )","v":""},null,null,null,null,{"$f":"IF(TRIM(AD345)=\"\", \"\", IF(VLOOKUP(AD345,'Footnotes list'!$B$5:$C$103,2,FALSE)=0,\"\",VLOOKUP(AD345,'Footnotes list'!$B$5:$C$103,2,FALSE) ) )","v":""},null,null,null,null,{"$f":"IF(TRIM(AI345)=\"\", \"\", IF(VLOOKUP(AI345,'Footnotes list'!$B$5:$C$103,2,FALSE)=0,\"\",VLOOKUP(AI345,'Footnotes list'!$B$5:$C$103,2,FALSE) ) )","v":""}]
[null,null,null,null,"UKF3","        Lincolnshire",null,null,null,null,{"$f":"IF(TRIM(J346)=\"\", \"\", IF(VLOOKUP(J346,'Footnotes list'!$B$5:$C$103,2,FALSE)=0,\"\",VLOOKUP(J346,'Footnotes list'!$B$5:$C$103,2,FALSE) ) )","v":""},null,null,null,null,{"$f":"IF(TRIM(O346)=\"\", \"\", IF(VLOOKUP(O346,'Footnotes list'!$B$5:$C$103,2,FALSE)=0,\"\",VLOOKUP(O346,'Footnotes list'!$B$5:$C$103,2,FALSE) ) )","v":""},null,null,null,null,{"$f":"IF(TRIM(T346)=\"\", \"\", IF(VLOOKUP(T346,'Footnotes list'!$B$5:$C$103,2,FALSE)=0,\"\",VLOOKUP(T346,'Footnotes list'!$B$5:$C$103,2,FALSE) ) )","v":""},null,null,null,null,{"$f":"IF(TRIM(Y346)=\"\", \"\", IF(VLOOKUP(Y346,'Footnotes list'!$B$5:$C$103,2,FALSE)=0,\"\",VLOOKUP(Y346,'Footnotes list'!$B$5:$C$103,2,FALSE) ) )","v":""},null,null,null,null,{"$f":"IF(TRIM(AD346)=\"\", \"\", IF(VLOOKUP(AD346,'Footnotes list'!$B$5:$C$103,2,FALSE)=0,\"\",VLOOKUP(AD346,'Footnotes list'!$B$5:$C$103,2,FALSE) ) )","v":""},null,null,null,null,{"$f":"IF(TRIM(AI346)=\"\", \"\", IF(VLOOKUP(AI346,'Footnotes list'!$B$5:$C$103,2,FALSE)=0,\"\",VLOOKUP(AI346,'Footnotes list'!$B$5:$C$103,2,FALSE) ) )","v":""}]
[null,null,null,null,"UKG","    WEST MIDLANDS (ENGLAND)",null,null,null,null,{"$f":"IF(TRIM(J347)=\"\", \"\", IF(VLOOKUP(J347,'Footnotes list'!$B$5:$C$103,2,FALSE)=0,\"\",VLOOKUP(J347,'Footnotes list'!$B$5:$C$103,2,FALSE) ) )","v":""},null,null,null,null,{"$f":"IF(TRIM(O347)=\"\", \"\", IF(VLOOKUP(O347,'Footnotes list'!$B$5:$C$103,2,FALSE)=0,\"\",VLOOKUP(O347,'Footnotes list'!$B$5:$C$103,2,FALSE) ) )","v":""},null,null,null,null,{"$f":"IF(TRIM(T347)=\"\", \"\", IF(VLOOKUP(T347,'Footnotes list'!$B$5:$C$103,2,FALSE)=0,\"\",VLOOKUP(T347,'Footnotes list'!$B$5:$C$103,2,FALSE) ) )","v":""},null,null,null,null,{"$f":"IF(TRIM(Y347)=\"\", \"\", IF(VLOOKUP(Y347,'Footnotes list'!$B$5:$C$103,2,FALSE)=0,\"\",VLOOKUP(Y347,'Footnotes list'!$B$5:$C$103,2,FALSE) ) )","v":""},null,null,null,null,{"$f":"IF(TRIM(AD347)=\"\", \"\", IF(VLOOKUP(AD347,'Footnotes list'!$B$5:$C$103,2,FALSE)=0,\"\",VLOOKUP(AD347,'Footnotes list'!$B$5:$C$103,2,FALSE) ) )","v":""},null,null,null,null,{"$f":"IF(TRIM(AI347)=\"\", \"\", IF(VLOOKUP(AI347,'Footnotes list'!$B$5:$C$103,2,FALSE)=0,\"\",VLOOKUP(AI347,'Footnotes list'!$B$5:$C$103,2,FALSE) ) )","v":""}]
[null,null,null,null,"UKG1","        Herefordshire, Worcestershire and Warwickshire",null,null,null,null,{"$f":"IF(TRIM(J348)=\"\", \"\", IF(VLOOKUP(J348,'Footnotes list'!$B$5:$C$103,2,FALSE)=0,\"\",VLOOKUP(J348,'Footnotes list'!$B$5:$C$103,2,FALSE) ) )","v":""},null,null,null,null,{"$f":"IF(TRIM(O348)=\"\", \"\", IF(VLOOKUP(O348,'Footnotes list'!$B$5:$C$103,2,FALSE)=0,\"\",VLOOKUP(O348,'Footnotes list'!$B$5:$C$103,2,FALSE) ) )","v":""},null,null,null,null,{"$f":"IF(TRIM(T348)=\"\", \"\", IF(VLOOKUP(T348,'Footnotes list'!$B$5:$C$103,2,FALSE)=0,\"\",VLOOKUP(T348,'Footnotes list'!$B$5:$C$103,2,FALSE) ) )","v":""},null,null,null,null,{"$f":"IF(TRIM(Y348)=\"\", \"\", IF(VLOOKUP(Y348,'Footnotes list'!$B$5:$C$103,2,FALSE)=0,\"\",VLOOKUP(Y348,'Footnotes list'!$B$5:$C$103,2,FALSE) ) )","v":""},null,null,null,null,{"$f":"IF(TRIM(AD348)=\"\", \"\", IF(VLOOKUP(AD348,'Footnotes list'!$B$5:$C$103,2,FALSE)=0,\"\",VLOOKUP(AD348,'Footnotes list'!$B$5:$C$103,2,FALSE) ) )","v":""},null,null,null,null,{"$f":"IF(TRIM(AI348)=\"\", \"\", IF(VLOOKUP(AI348,'Footnotes list'!$B$5:$C$103,2,FALSE)=0,\"\",VLOOKUP(AI348,'Footnotes list'!$B$5:$C$103,2,FALSE) ) )","v":""}]
[null,null,null,null,"UKG2","        Shropshire and Staffordshire",null,null,null,null,{"$f":"IF(TRIM(J349)=\"\", \"\", IF(VLOOKUP(J349,'Footnotes list'!$B$5:$C$103,2,FALSE)=0,\"\",VLOOKUP(J349,'Footnotes list'!$B$5:$C$103,2,FALSE) ) )","v":""},null,null,null,null,{"$f":"IF(TRIM(O349)=\"\", \"\", IF(VLOOKUP(O349,'Footnotes list'!$B$5:$C$103,2,FALSE)=0,\"\",VLOOKUP(O349,'Footnotes list'!$B$5:$C$103,2,FALSE) ) )","v":""},null,null,null,null,{"$f":"IF(TRIM(T349)=\"\", \"\", IF(VLOOKUP(T349,'Footnotes list'!$B$5:$C$103,2,FALSE)=0,\"\",VLOOKUP(T349,'Footnotes list'!$B$5:$C$103,2,FALSE) ) )","v":""},null,null,null,null,{"$f":"IF(TRIM(Y349)=\"\", \"\", IF(VLOOKUP(Y349,'Footnotes list'!$B$5:$C$103,2,FALSE)=0,\"\",VLOOKUP(Y349,'Footnotes list'!$B$5:$C$103,2,FALSE) ) )","v":""},null,null,null,null,{"$f":"IF(TRIM(AD349)=\"\", \"\", IF(VLOOKUP(AD349,'Footnotes list'!$B$5:$C$103,2,FALSE)=0,\"\",VLOOKUP(AD349,'Footnotes list'!$B$5:$C$103,2,FALSE) ) )","v":""},null,null,null,null,{"$f":"IF(TRIM(AI349)=\"\", \"\", IF(VLOOKUP(AI349,'Footnotes list'!$B$5:$C$103,2,FALSE)=0,\"\",VLOOKUP(AI349,'Footnotes list'!$B$5:$C$103,2,FALSE) ) )","v":""}]
[null,null,null,null,"UKG3","        West Midlands",null,null,null,null,{"$f":"IF(TRIM(J350)=\"\", \"\", IF(VLOOKUP(J350,'Footnotes list'!$B$5:$C$103,2,FALSE)=0,\"\",VLOOKUP(J350,'Footnotes list'!$B$5:$C$103,2,FALSE) ) )","v":""},null,null,null,null,{"$f":"IF(TRIM(O350)=\"\", \"\", IF(VLOOKUP(O350,'Footnotes list'!$B$5:$C$103,2,FALSE)=0,\"\",VLOOKUP(O350,'Footnotes list'!$B$5:$C$103,2,FALSE) ) )","v":""},null,null,null,null,{"$f":"IF(TRIM(T350)=\"\", \"\", IF(VLOOKUP(T350,'Footnotes list'!$B$5:$C$103,2,FALSE)=0,\"\",VLOOKUP(T350,'Footnotes list'!$B$5:$C$103,2,FALSE) ) )","v":""},null,null,null,null,{"$f":"IF(TRIM(Y350)=\"\", \"\", IF(VLOOKUP(Y350,'Footnotes list'!$B$5:$C$103,2,FALSE)=0,\"\",VLOOKUP(Y350,'Footnotes list'!$B$5:$C$103,2,FALSE) ) )","v":""},null,null,null,null,{"$f":"IF(TRIM(AD350)=\"\", \"\", IF(VLOOKUP(AD350,'Footnotes list'!$B$5:$C$103,2,FALSE)=0,\"\",VLOOKUP(AD350,'Footnotes list'!$B$5:$C$103,2,FALSE) ) )","v":""},null,null,null,null,{"$f":"IF(TRIM(AI350)=\"\", \"\", IF(VLOOKUP(AI350,'Footnotes list'!$B$5:$C$103,2,FALSE)=0,\"\",VLOOKUP(AI350,'Footnotes list'!$B$5:$C$103,2,FALSE) ) )","v":""}]
[null,null,null,null,"UKH","    EAST OF ENGLAND",null,null,null,null,{"$f":"IF(TRIM(J351)=\"\", \"\", IF(VLOOKUP(J351,'Footnotes list'!$B$5:$C$103,2,FALSE)=0,\"\",VLOOKUP(J351,'Footnotes list'!$B$5:$C$103,2,FALSE) ) )","v":""},null,null,null,null,{"$f":"IF(TRIM(O351)=\"\", \"\", IF(VLOOKUP(O351,'Footnotes list'!$B$5:$C$103,2,FALSE)=0,\"\",VLOOKUP(O351,'Footnotes list'!$B$5:$C$103,2,FALSE) ) )","v":""},null,null,null,null,{"$f":"IF(TRIM(T351)=\"\", \"\", IF(VLOOKUP(T351,'Footnotes list'!$B$5:$C$103,2,FALSE)=0,\"\",VLOOKUP(T351,'Footnotes list'!$B$5:$C$103,2,FALSE) ) )","v":""},null,null,null,null,{"$f":"IF(TRIM(Y351)=\"\", \"\", IF(VLOOKUP(Y351,'Footnotes list'!$B$5:$C$103,2,FALSE)=0,\"\",VLOOKUP(Y351,'Footnotes list'!$B$5:$C$103,2,FALSE) ) )","v":""},null,null,null,null,{"$f":"IF(TRIM(AD351)=\"\", \"\", IF(VLOOKUP(AD351,'Footnotes list'!$B$5:$C$103,2,FALSE)=0,\"\",VLOOKUP(AD351,'Footnotes list'!$B$5:$C$103,2,FALSE) ) )","v":""},null,null,null,null,{"$f":"IF(TRIM(AI351)=\"\", \"\", IF(VLOOKUP(AI351,'Footnotes list'!$B$5:$C$103,2,FALSE)=0,\"\",VLOOKUP(AI351,'Footnotes list'!$B$5:$C$103,2,FALSE) ) )","v":""}]
[null,null,null,null,"UKH1","        East Anglia",null,null,null,null,{"$f":"IF(TRIM(J352)=\"\", \"\", IF(VLOOKUP(J352,'Footnotes list'!$B$5:$C$103,2,FALSE)=0,\"\",VLOOKUP(J352,'Footnotes list'!$B$5:$C$103,2,FALSE) ) )","v":""},null,null,null,null,{"$f":"IF(TRIM(O352)=\"\", \"\", IF(VLOOKUP(O352,'Footnotes list'!$B$5:$C$103,2,FALSE)=0,\"\",VLOOKUP(O352,'Footnotes list'!$B$5:$C$103,2,FALSE) ) )","v":""},null,null,null,null,{"$f":"IF(TRIM(T352)=\"\", \"\", IF(VLOOKUP(T352,'Footnotes list'!$B$5:$C$103,2,FALSE)=0,\"\",VLOOKUP(T352,'Footnotes list'!$B$5:$C$103,2,FALSE) ) )","v":""},null,null,null,null,{"$f":"IF(TRIM(Y352)=\"\", \"\", IF(VLOOKUP(Y352,'Footnotes list'!$B$5:$C$103,2,FALSE)=0,\"\",VLOOKUP(Y352,'Footnotes list'!$B$5:$C$103,2,FALSE) ) )","v":""},null,null,null,null,{"$f":"IF(TRIM(AD352)=\"\", \"\", IF(VLOOKUP(AD352,'Footnotes list'!$B$5:$C$103,2,FALSE)=0,\"\",VLOOKUP(AD352,'Footnotes list'!$B$5:$C$103,2,FALSE) ) )","v":""},null,null,null,null,{"$f":"IF(TRIM(AI352)=\"\", \"\", IF(VLOOKUP(AI352,'Footnotes list'!$B$5:$C$103,2,FALSE)=0,\"\",VLOOKUP(AI352,'Footnotes list'!$B$5:$C$103,2,FALSE) ) )","v":""}]
[null,null,null,null,"UKH2","        Bedfordshire and Hertfordshire",null,null,null,null,{"$f":"IF(TRIM(J353)=\"\", \"\", IF(VLOOKUP(J353,'Footnotes list'!$B$5:$C$103,2,FALSE)=0,\"\",VLOOKUP(J353,'Footnotes list'!$B$5:$C$103,2,FALSE) ) )","v":""},null,null,null,null,{"$f":"IF(TRIM(O353)=\"\", \"\", IF(VLOOKUP(O353,'Footnotes list'!$B$5:$C$103,2,FALSE)=0,\"\",VLOOKUP(O353,'Footnotes list'!$B$5:$C$103,2,FALSE) ) )","v":""},null,null,null,null,{"$f":"IF(TRIM(T353)=\"\", \"\", IF(VLOOKUP(T353,'Footnotes list'!$B$5:$C$103,2,FALSE)=0,\"\",VLOOKUP(T353,'Footnotes list'!$B$5:$C$103,2,FALSE) ) )","v":""},null,null,null,null,{"$f":"IF(TRIM(Y353)=\"\", \"\", IF(VLOOKUP(Y353,'Footnotes list'!$B$5:$C$103,2,FALSE)=0,\"\",VLOOKUP(Y353,'Footnotes list'!$B$5:$C$103,2,FALSE) ) )","v":""},null,null,null,null,{"$f":"IF(TRIM(AD353)=\"\", \"\", IF(VLOOKUP(AD353,'Footnotes list'!$B$5:$C$103,2,FALSE)=0,\"\",VLOOKUP(AD353,'Footnotes list'!$B$5:$C$103,2,FALSE) ) )","v":""},null,null,null,null,{"$f":"IF(TRIM(AI353)=\"\", \"\", IF(VLOOKUP(AI353,'Footnotes list'!$B$5:$C$103,2,FALSE)=0,\"\",VLOOKUP(AI353,'Footnotes list'!$B$5:$C$103,2,FALSE) ) )","v":""}]
[null,null,null,null,"UKH3","        Essex",null,null,null,null,{"$f":"IF(TRIM(J354)=\"\", \"\", IF(VLOOKUP(J354,'Footnotes list'!$B$5:$C$103,2,FALSE)=0,\"\",VLOOKUP(J354,'Footnotes list'!$B$5:$C$103,2,FALSE) ) )","v":""},null,null,null,null,{"$f":"IF(TRIM(O354)=\"\", \"\", IF(VLOOKUP(O354,'Footnotes list'!$B$5:$C$103,2,FALSE)=0,\"\",VLOOKUP(O354,'Footnotes list'!$B$5:$C$103,2,FALSE) ) )","v":""},null,null,null,null,{"$f":"IF(TRIM(T354)=\"\", \"\", IF(VLOOKUP(T354,'Footnotes list'!$B$5:$C$103,2,FALSE)=0,\"\",VLOOKUP(T354,'Footnotes list'!$B$5:$C$103,2,FALSE) ) )","v":""},null,null,null,null,{"$f":"IF(TRIM(Y354)=\"\", \"\", IF(VLOOKUP(Y354,'Footnotes list'!$B$5:$C$103,2,FALSE)=0,\"\",VLOOKUP(Y354,'Footnotes list'!$B$5:$C$103,2,FALSE) ) )","v":""},null,null,null,null,{"$f":"IF(TRIM(AD354)=\"\", \"\", IF(VLOOKUP(AD354,'Footnotes list'!$B$5:$C$103,2,FALSE)=0,\"\",VLOOKUP(AD354,'Footnotes list'!$B$5:$C$103,2,FALSE) ) )","v":""},null,null,null,null,{"$f":"IF(TRIM(AI354)=\"\", \"\", IF(VLOOKUP(AI354,'Footnotes list'!$B$5:$C$103,2,FALSE)=0,\"\",VLOOKUP(AI354,'Footnotes list'!$B$5:$C$103,2,FALSE) ) )","v":""}]
[null,null,null,null,"UKI","    LONDON",null,null,null,null,{"$f":"IF(TRIM(J355)=\"\", \"\", IF(VLOOKUP(J355,'Footnotes list'!$B$5:$C$103,2,FALSE)=0,\"\",VLOOKUP(J355,'Footnotes list'!$B$5:$C$103,2,FALSE) ) )","v":""},null,null,null,null,{"$f":"IF(TRIM(O355)=\"\", \"\", IF(VLOOKUP(O355,'Footnotes list'!$B$5:$C$103,2,FALSE)=0,\"\",VLOOKUP(O355,'Footnotes list'!$B$5:$C$103,2,FALSE) ) )","v":""},null,null,null,null,{"$f":"IF(TRIM(T355)=\"\", \"\", IF(VLOOKUP(T355,'Footnotes list'!$B$5:$C$103,2,FALSE)=0,\"\",VLOOKUP(T355,'Footnotes list'!$B$5:$C$103,2,FALSE) ) )","v":""},null,null,null,null,{"$f":"IF(TRIM(Y355)=\"\", \"\", IF(VLOOKUP(Y355,'Footnotes list'!$B$5:$C$103,2,FALSE)=0,\"\",VLOOKUP(Y355,'Footnotes list'!$B$5:$C$103,2,FALSE) ) )","v":""},null,null,null,null,{"$f":"IF(TRIM(AD355)=\"\", \"\", IF(VLOOKUP(AD355,'Footnotes list'!$B$5:$C$103,2,FALSE)=0,\"\",VLOOKUP(AD355,'Footnotes list'!$B$5:$C$103,2,FALSE) ) )","v":""},null,null,null,null,{"$f":"IF(TRIM(AI355)=\"\", \"\", IF(VLOOKUP(AI355,'Footnotes list'!$B$5:$C$103,2,FALSE)=0,\"\",VLOOKUP(AI355,'Footnotes list'!$B$5:$C$103,2,FALSE) ) )","v":""}]
[null,null,null,null,"UKI3","        Inner London — West",null,null,null,null,{"$f":"IF(TRIM(J356)=\"\", \"\", IF(VLOOKUP(J356,'Footnotes list'!$B$5:$C$103,2,FALSE)=0,\"\",VLOOKUP(J356,'Footnotes list'!$B$5:$C$103,2,FALSE) ) )","v":""},null,null,null,null,{"$f":"IF(TRIM(O356)=\"\", \"\", IF(VLOOKUP(O356,'Footnotes list'!$B$5:$C$103,2,FALSE)=0,\"\",VLOOKUP(O356,'Footnotes list'!$B$5:$C$103,2,FALSE) ) )","v":""},null,null,null,null,{"$f":"IF(TRIM(T356)=\"\", \"\", IF(VLOOKUP(T356,'Footnotes list'!$B$5:$C$103,2,FALSE)=0,\"\",VLOOKUP(T356,'Footnotes list'!$B$5:$C$103,2,FALSE) ) )","v":""},null,null,null,null,{"$f":"IF(TRIM(Y356)=\"\", \"\", IF(VLOOKUP(Y356,'Footnotes list'!$B$5:$C$103,2,FALSE)=0,\"\",VLOOKUP(Y356,'Footnotes list'!$B$5:$C$103,2,FALSE) ) )","v":""},null,null,null,null,{"$f":"IF(TRIM(AD356)=\"\", \"\", IF(VLOOKUP(AD356,'Footnotes list'!$B$5:$C$103,2,FALSE)=0,\"\",VLOOKUP(AD356,'Footnotes list'!$B$5:$C$103,2,FALSE) ) )","v":""},null,null,null,null,{"$f":"IF(TRIM(AI356)=\"\", \"\", IF(VLOOKUP(AI356,'Footnotes list'!$B$5:$C$103,2,FALSE)=0,\"\",VLOOKUP(AI356,'Footnotes list'!$B$5:$C$103,2,FALSE) ) )","v":""}]
[null,null,null,null,"UKI4","        Inner London — East",null,null,null,null,{"$f":"IF(TRIM(J357)=\"\", \"\", IF(VLOOKUP(J357,'Footnotes list'!$B$5:$C$103,2,FALSE)=0,\"\",VLOOKUP(J357,'Footnotes list'!$B$5:$C$103,2,FALSE) ) )","v":""},null,null,null,null,{"$f":"IF(TRIM(O357)=\"\", \"\", IF(VLOOKUP(O357,'Footnotes list'!$B$5:$C$103,2,FALSE)=0,\"\",VLOOKUP(O357,'Footnotes list'!$B$5:$C$103,2,FALSE) ) )","v":""},null,null,null,null,{"$f":"IF(TRIM(T357)=\"\", \"\", IF(VLOOKUP(T357,'Footnotes list'!$B$5:$C$103,2,FALSE)=0,\"\",VLOOKUP(T357,'Footnotes list'!$B$5:$C$103,2,FALSE) ) )","v":""},null,null,null,null,{"$f":"IF(TRIM(Y357)=\"\", \"\", IF(VLOOKUP(Y357,'Footnotes list'!$B$5:$C$103,2,FALSE)=0,\"\",VLOOKUP(Y357,'Footnotes list'!$B$5:$C$103,2,FALSE) ) )","v":""},null,null,null,null,{"$f":"IF(TRIM(AD357)=\"\", \"\", IF(VLOOKUP(AD357,'Footnotes list'!$B$5:$C$103,2,FALSE)=0,\"\",VLOOKUP(AD357,'Footnotes list'!$B$5:$C$103,2,FALSE) ) )","v":""},null,null,null,null,{"$f":"IF(TRIM(AI357)=\"\", \"\", IF(VLOOKUP(AI357,'Footnotes list'!$B$5:$C$103,2,FALSE)=0,\"\",VLOOKUP(AI357,'Footnotes list'!$B$5:$C$103,2,FALSE) ) )","v":""}]
[null,null,null,null,"UKI5","        Outer London — East and North East",null,null,null,null,{"$f":"IF(TRIM(J358)=\"\", \"\", IF(VLOOKUP(J358,'Footnotes list'!$B$5:$C$103,2,FALSE)=0,\"\",VLOOKUP(J358,'Footnotes list'!$B$5:$C$103,2,FALSE) ) )","v":""},null,null,null,null,{"$f":"IF(TRIM(O358)=\"\", \"\", IF(VLOOKUP(O358,'Footnotes list'!$B$5:$C$103,2,FALSE)=0,\"\",VLOOKUP(O358,'Footnotes list'!$B$5:$C$103,2,FALSE) ) )","v":""},null,null,null,null,{"$f":"IF(TRIM(T358)=\"\", \"\", IF(VLOOKUP(T358,'Footnotes list'!$B$5:$C$103,2,FALSE)=0,\"\",VLOOKUP(T358,'Footnotes list'!$B$5:$C$103,2,FALSE) ) )","v":""},null,null,null,null,{"$f":"IF(TRIM(Y358)=\"\", \"\", IF(VLOOKUP(Y358,'Footnotes list'!$B$5:$C$103,2,FALSE)=0,\"\",VLOOKUP(Y358,'Footnotes list'!$B$5:$C$103,2,FALSE) ) )","v":""},null,null,null,null,{"$f":"IF(TRIM(AD358)=\"\", \"\", IF(VLOOKUP(AD358,'Footnotes list'!$B$5:$C$103,2,FALSE)=0,\"\",VLOOKUP(AD358,'Footnotes list'!$B$5:$C$103,2,FALSE) ) )","v":""},null,null,null,null,{"$f":"IF(TRIM(AI358)=\"\", \"\", IF(VLOOKUP(AI358,'Footnotes list'!$B$5:$C$103,2,FALSE)=0,\"\",VLOOKUP(AI358,'Footnotes list'!$B$5:$C$103,2,FALSE) ) )","v":""}]
[null,null,null,null,"UKI6","        Outer London — South",null,null,null,null,{"$f":"IF(TRIM(J359)=\"\", \"\", IF(VLOOKUP(J359,'Footnotes list'!$B$5:$C$103,2,FALSE)=0,\"\",VLOOKUP(J359,'Footnotes list'!$B$5:$C$103,2,FALSE) ) )","v":""},null,null,null,null,{"$f":"IF(TRIM(O359)=\"\", \"\", IF(VLOOKUP(O359,'Footnotes list'!$B$5:$C$103,2,FALSE)=0,\"\",VLOOKUP(O359,'Footnotes list'!$B$5:$C$103,2,FALSE) ) )","v":""},null,null,null,null,{"$f":"IF(TRIM(T359)=\"\", \"\", IF(VLOOKUP(T359,'Footnotes list'!$B$5:$C$103,2,FALSE)=0,\"\",VLOOKUP(T359,'Footnotes list'!$B$5:$C$103,2,FALSE) ) )","v":""},null,null,null,null,{"$f":"IF(TRIM(Y359)=\"\", \"\", IF(VLOOKUP(Y359,'Footnotes list'!$B$5:$C$103,2,FALSE)=0,\"\",VLOOKUP(Y359,'Footnotes list'!$B$5:$C$103,2,FALSE) ) )","v":""},null,null,null,null,{"$f":"IF(TRIM(AD359)=\"\", \"\", IF(VLOOKUP(AD359,'Footnotes list'!$B$5:$C$103,2,FALSE)=0,\"\",VLOOKUP(AD359,'Footnotes list'!$B$5:$C$103,2,FALSE) ) )","v":""},null,null,null,null,{"$f":"IF(TRIM(AI359)=\"\", \"\", IF(VLOOKUP(AI359,'Footnotes list'!$B$5:$C$103,2,FALSE)=0,\"\",VLOOKUP(AI359,'Footnotes list'!$B$5:$C$103,2,FALSE) ) )","v":""}]
[null,null,null,null,"UKI7","        Outer London — West and North West",null,null,null,null,{"$f":"IF(TRIM(J360)=\"\", \"\", IF(VLOOKUP(J360,'Footnotes list'!$B$5:$C$103,2,FALSE)=0,\"\",VLOOKUP(J360,'Footnotes list'!$B$5:$C$103,2,FALSE) ) )","v":""},null,null,null,null,{"$f":"IF(TRIM(O360)=\"\", \"\", IF(VLOOKUP(O360,'Footnotes list'!$B$5:$C$103,2,FALSE)=0,\"\",VLOOKUP(O360,'Footnotes list'!$B$5:$C$103,2,FALSE) ) )","v":""},null,null,null,null,{"$f":"IF(TRIM(T360)=\"\", \"\", IF(VLOOKUP(T360,'Footnotes list'!$B$5:$C$103,2,FALSE)=0,\"\",VLOOKUP(T360,'Footnotes list'!$B$5:$C$103,2,FALSE) ) )","v":""},null,null,null,null,{"$f":"IF(TRIM(Y360)=\"\", \"\", IF(VLOOKUP(Y360,'Footnotes list'!$B$5:$C$103,2,FALSE)=0,\"\",VLOOKUP(Y360,'Footnotes list'!$B$5:$C$103,2,FALSE) ) )","v":""},null,null,null,null,{"$f":"IF(TRIM(AD360)=\"\", \"\", IF(VLOOKUP(AD360,'Footnotes list'!$B$5:$C$103,2,FALSE)=0,\"\",VLOOKUP(AD360,'Footnotes list'!$B$5:$C$103,2,FALSE) ) )","v":""},null,null,null,null,{"$f":"IF(TRIM(AI360)=\"\", \"\", IF(VLOOKUP(AI360,'Footnotes list'!$B$5:$C$103,2,FALSE)=0,\"\",VLOOKUP(AI360,'Footnotes list'!$B$5:$C$103,2,FALSE) ) )","v":""}]
[null,null,null,null,"UKJ","    SOUTH EAST (ENGLAND)",null,null,null,null,{"$f":"IF(TRIM(J361)=\"\", \"\", IF(VLOOKUP(J361,'Footnotes list'!$B$5:$C$103,2,FALSE)=0,\"\",VLOOKUP(J361,'Footnotes list'!$B$5:$C$103,2,FALSE) ) )","v":""},null,null,null,null,{"$f":"IF(TRIM(O361)=\"\", \"\", IF(VLOOKUP(O361,'Footnotes list'!$B$5:$C$103,2,FALSE)=0,\"\",VLOOKUP(O361,'Footnotes list'!$B$5:$C$103,2,FALSE) ) )","v":""},null,null,null,null,{"$f":"IF(TRIM(T361)=\"\", \"\", IF(VLOOKUP(T361,'Footnotes list'!$B$5:$C$103,2,FALSE)=0,\"\",VLOOKUP(T361,'Footnotes list'!$B$5:$C$103,2,FALSE) ) )","v":""},null,null,null,null,{"$f":"IF(TRIM(Y361)=\"\", \"\", IF(VLOOKUP(Y361,'Footnotes list'!$B$5:$C$103,2,FALSE)=0,\"\",VLOOKUP(Y361,'Footnotes list'!$B$5:$C$103,2,FALSE) ) )","v":""},null,null,null,null,{"$f":"IF(TRIM(AD361)=\"\", \"\", IF(VLOOKUP(AD361,'Footnotes list'!$B$5:$C$103,2,FALSE)=0,\"\",VLOOKUP(AD361,'Footnotes list'!$B$5:$C$103,2,FALSE) ) )","v":""},null,null,null,null,{"$f":"IF(TRIM(AI361)=\"\", \"\", IF(VLOOKUP(AI361,'Footnotes list'!$B$5:$C$103,2,FALSE)=0,\"\",VLOOKUP(AI361,'Footnotes list'!$B$5:$C$103,2,FALSE) ) )","v":""}]
[null,null,null,null,"UKJ1","        Berkshire, Buckinghamshire and Oxfordshire",null,null,null,null,{"$f":"IF(TRIM(J362)=\"\", \"\", IF(VLOOKUP(J362,'Footnotes list'!$B$5:$C$103,2,FALSE)=0,\"\",VLOOKUP(J362,'Footnotes list'!$B$5:$C$103,2,FALSE) ) )","v":""},null,null,null,null,{"$f":"IF(TRIM(O362)=\"\", \"\", IF(VLOOKUP(O362,'Footnotes list'!$B$5:$C$103,2,FALSE)=0,\"\",VLOOKUP(O362,'Footnotes list'!$B$5:$C$103,2,FALSE) ) )","v":""},null,null,null,null,{"$f":"IF(TRIM(T362)=\"\", \"\", IF(VLOOKUP(T362,'Footnotes list'!$B$5:$C$103,2,FALSE)=0,\"\",VLOOKUP(T362,'Footnotes list'!$B$5:$C$103,2,FALSE) ) )","v":""},null,null,null,null,{"$f":"IF(TRIM(Y362)=\"\", \"\", IF(VLOOKUP(Y362,'Footnotes list'!$B$5:$C$103,2,FALSE)=0,\"\",VLOOKUP(Y362,'Footnotes list'!$B$5:$C$103,2,FALSE) ) )","v":""},null,null,null,null,{"$f":"IF(TRIM(AD362)=\"\", \"\", IF(VLOOKUP(AD362,'Footnotes list'!$B$5:$C$103,2,FALSE)=0,\"\",VLOOKUP(AD362,'Footnotes list'!$B$5:$C$103,2,FALSE) ) )","v":""},null,null,null,null,{"$f":"IF(TRIM(AI362)=\"\", \"\", IF(VLOOKUP(AI362,'Footnotes list'!$B$5:$C$103,2,FALSE)=0,\"\",VLOOKUP(AI362,'Footnotes list'!$B$5:$C$103,2,FALSE) ) )","v":""}]
[null,null,null,null,"UKJ2","        Surrey, East and West Sussex",null,null,null,null,{"$f":"IF(TRIM(J363)=\"\", \"\", IF(VLOOKUP(J363,'Footnotes list'!$B$5:$C$103,2,FALSE)=0,\"\",VLOOKUP(J363,'Footnotes list'!$B$5:$C$103,2,FALSE) ) )","v":""},null,null,null,null,{"$f":"IF(TRIM(O363)=\"\", \"\", IF(VLOOKUP(O363,'Footnotes list'!$B$5:$C$103,2,FALSE)=0,\"\",VLOOKUP(O363,'Footnotes list'!$B$5:$C$103,2,FALSE) ) )","v":""},null,null,null,null,{"$f":"IF(TRIM(T363)=\"\", \"\", IF(VLOOKUP(T363,'Footnotes list'!$B$5:$C$103,2,FALSE)=0,\"\",VLOOKUP(T363,'Footnotes list'!$B$5:$C$103,2,FALSE) ) )","v":""},null,null,null,null,{"$f":"IF(TRIM(Y363)=\"\", \"\", IF(VLOOKUP(Y363,'Footnotes list'!$B$5:$C$103,2,FALSE)=0,\"\",VLOOKUP(Y363,'Footnotes list'!$B$5:$C$103,2,FALSE) ) )","v":""},null,null,null,null,{"$f":"IF(TRIM(AD363)=\"\", \"\", IF(VLOOKUP(AD363,'Footnotes list'!$B$5:$C$103,2,FALSE)=0,\"\",VLOOKUP(AD363,'Footnotes list'!$B$5:$C$103,2,FALSE) ) )","v":""},null,null,null,null,{"$f":"IF(TRIM(AI363)=\"\", \"\", IF(VLOOKUP(AI363,'Footnotes list'!$B$5:$C$103,2,FALSE)=0,\"\",VLOOKUP(AI363,'Footnotes list'!$B$5:$C$103,2,FALSE) ) )","v":""}]
[null,null,null,null,"UKJ3","        Hampshire and Isle of Wight",null,null,null,null,{"$f":"IF(TRIM(J364)=\"\", \"\", IF(VLOOKUP(J364,'Footnotes list'!$B$5:$C$103,2,FALSE)=0,\"\",VLOOKUP(J364,'Footnotes list'!$B$5:$C$103,2,FALSE) ) )","v":""},null,null,null,null,{"$f":"IF(TRIM(O364)=\"\", \"\", IF(VLOOKUP(O364,'Footnotes list'!$B$5:$C$103,2,FALSE)=0,\"\",VLOOKUP(O364,'Footnotes list'!$B$5:$C$103,2,FALSE) ) )","v":""},null,null,null,null,{"$f":"IF(TRIM(T364)=\"\", \"\", IF(VLOOKUP(T364,'Footnotes list'!$B$5:$C$103,2,FALSE)=0,\"\",VLOOKUP(T364,'Footnotes list'!$B$5:$C$103,2,FALSE) ) )","v":""},null,null,null,null,{"$f":"IF(TRIM(Y364)=\"\", \"\", IF(VLOOKUP(Y364,'Footnotes list'!$B$5:$C$103,2,FALSE)=0,\"\",VLOOKUP(Y364,'Footnotes list'!$B$5:$C$103,2,FALSE) ) )","v":""},null,null,null,null,{"$f":"IF(TRIM(AD364)=\"\", \"\", IF(VLOOKUP(AD364,'Footnotes list'!$B$5:$C$103,2,FALSE)=0,\"\",VLOOKUP(AD364,'Footnotes list'!$B$5:$C$103,2,FALSE) ) )","v":""},null,null,null,null,{"$f":"IF(TRIM(AI364)=\"\", \"\", IF(VLOOKUP(AI364,'Footnotes list'!$B$5:$C$103,2,FALSE)=0,\"\",VLOOKUP(AI364,'Footnotes list'!$B$5:$C$103,2,FALSE) ) )","v":""}]
[null,null,null,null,"UKJ4","        Kent",null,null,null,null,{"$f":"IF(TRIM(J365)=\"\", \"\", IF(VLOOKUP(J365,'Footnotes list'!$B$5:$C$103,2,FALSE)=0,\"\",VLOOKUP(J365,'Footnotes list'!$B$5:$C$103,2,FALSE) ) )","v":""},null,null,null,null,{"$f":"IF(TRIM(O365)=\"\", \"\", IF(VLOOKUP(O365,'Footnotes list'!$B$5:$C$103,2,FALSE)=0,\"\",VLOOKUP(O365,'Footnotes list'!$B$5:$C$103,2,FALSE) ) )","v":""},null,null,null,null,{"$f":"IF(TRIM(T365)=\"\", \"\", IF(VLOOKUP(T365,'Footnotes list'!$B$5:$C$103,2,FALSE)=0,\"\",VLOOKUP(T365,'Footnotes list'!$B$5:$C$103,2,FALSE) ) )","v":""},null,null,null,null,{"$f":"IF(TRIM(Y365)=\"\", \"\", IF(VLOOKUP(Y365,'Footnotes list'!$B$5:$C$103,2,FALSE)=0,\"\",VLOOKUP(Y365,'Footnotes list'!$B$5:$C$103,2,FALSE) ) )","v":""},null,null,null,null,{"$f":"IF(TRIM(AD365)=\"\", \"\", IF(VLOOKUP(AD365,'Footnotes list'!$B$5:$C$103,2,FALSE)=0,\"\",VLOOKUP(AD365,'Footnotes list'!$B$5:$C$103,2,FALSE) ) )","v":""},null,null,null,null,{"$f":"IF(TRIM(AI365)=\"\", \"\", IF(VLOOKUP(AI365,'Footnotes list'!$B$5:$C$103,2,FALSE)=0,\"\",VLOOKUP(AI365,'Footnotes list'!$B$5:$C$103,2,FALSE) ) )","v":""}]
[null,null,null,null,"UKK","    SOUTH WEST (ENGLAND)",null,null,null,null,{"$f":"IF(TRIM(J366)=\"\", \"\", IF(VLOOKUP(J366,'Footnotes list'!$B$5:$C$103,2,FALSE)=0,\"\",VLOOKUP(J366,'Footnotes list'!$B$5:$C$103,2,FALSE) ) )","v":""},null,null,null,null,{"$f":"IF(TRIM(O366)=\"\", \"\", IF(VLOOKUP(O366,'Footnotes list'!$B$5:$C$103,2,FALSE)=0,\"\",VLOOKUP(O366,'Footnotes list'!$B$5:$C$103,2,FALSE) ) )","v":""},null,null,null,null,{"$f":"IF(TRIM(T366)=\"\", \"\", IF(VLOOKUP(T366,'Footnotes list'!$B$5:$C$103,2,FALSE)=0,\"\",VLOOKUP(T366,'Footnotes list'!$B$5:$C$103,2,FALSE) ) )","v":""},null,null,null,null,{"$f":"IF(TRIM(Y366)=\"\", \"\", IF(VLOOKUP(Y366,'Footnotes list'!$B$5:$C$103,2,FALSE)=0,\"\",VLOOKUP(Y366,'Footnotes list'!$B$5:$C$103,2,FALSE) ) )","v":""},null,null,null,null,{"$f":"IF(TRIM(AD366)=\"\", \"\", IF(VLOOKUP(AD366,'Footnotes list'!$B$5:$C$103,2,FALSE)=0,\"\",VLOOKUP(AD366,'Footnotes list'!$B$5:$C$103,2,FALSE) ) )","v":""},null,null,null,null,{"$f":"IF(TRIM(AI366)=\"\", \"\", IF(VLOOKUP(AI366,'Footnotes list'!$B$5:$C$103,2,FALSE)=0,\"\",VLOOKUP(AI366,'Footnotes list'!$B$5:$C$103,2,FALSE) ) )","v":""}]
[null,null,null,null,"UKK1","        Gloucestershire, Wiltshire and Bristol/Bath area",null,null,null,null,{"$f":"IF(TRIM(J367)=\"\", \"\", IF(VLOOKUP(J367,'Footnotes list'!$B$5:$C$103,2,FALSE)=0,\"\",VLOOKUP(J367,'Footnotes list'!$B$5:$C$103,2,FALSE) ) )","v":""},null,null,null,null,{"$f":"IF(TRIM(O367)=\"\", \"\", IF(VLOOKUP(O367,'Footnotes list'!$B$5:$C$103,2,FALSE)=0,\"\",VLOOKUP(O367,'Footnotes list'!$B$5:$C$103,2,FALSE) ) )","v":""},null,null,null,null,{"$f":"IF(TRIM(T367)=\"\", \"\", IF(VLOOKUP(T367,'Footnotes list'!$B$5:$C$103,2,FALSE)=0,\"\",VLOOKUP(T367,'Footnotes list'!$B$5:$C$103,2,FALSE) ) )","v":""},null,null,null,null,{"$f":"IF(TRIM(Y367)=\"\", \"\", IF(VLOOKUP(Y367,'Footnotes list'!$B$5:$C$103,2,FALSE)=0,\"\",VLOOKUP(Y367,'Footnotes list'!$B$5:$C$103,2,FALSE) ) )","v":""},null,null,null,null,{"$f":"IF(TRIM(AD367)=\"\", \"\", IF(VLOOKUP(AD367,'Footnotes list'!$B$5:$C$103,2,FALSE)=0,\"\",VLOOKUP(AD367,'Footnotes list'!$B$5:$C$103,2,FALSE) ) )","v":""},null,null,null,null,{"$f":"IF(TRIM(AI367)=\"\", \"\", IF(VLOOKUP(AI367,'Footnotes list'!$B$5:$C$103,2,FALSE)=0,\"\",VLOOKUP(AI367,'Footnotes list'!$B$5:$C$103,2,FALSE) ) )","v":""}]
[null,null,null,null,"UKK2","        Dorset and Somerset",null,null,null,null,{"$f":"IF(TRIM(J368)=\"\", \"\", IF(VLOOKUP(J368,'Footnotes list'!$B$5:$C$103,2,FALSE)=0,\"\",VLOOKUP(J368,'Footnotes list'!$B$5:$C$103,2,FALSE) ) )","v":""},null,null,null,null,{"$f":"IF(TRIM(O368)=\"\", \"\", IF(VLOOKUP(O368,'Footnotes list'!$B$5:$C$103,2,FALSE)=0,\"\",VLOOKUP(O368,'Footnotes list'!$B$5:$C$103,2,FALSE) ) )","v":""},null,null,null,null,{"$f":"IF(TRIM(T368)=\"\", \"\", IF(VLOOKUP(T368,'Footnotes list'!$B$5:$C$103,2,FALSE)=0,\"\",VLOOKUP(T368,'Footnotes list'!$B$5:$C$103,2,FALSE) ) )","v":""},null,null,null,null,{"$f":"IF(TRIM(Y368)=\"\", \"\", IF(VLOOKUP(Y368,'Footnotes list'!$B$5:$C$103,2,FALSE)=0,\"\",VLOOKUP(Y368,'Footnotes list'!$B$5:$C$103,2,FALSE) ) )","v":""},null,null,null,null,{"$f":"IF(TRIM(AD368)=\"\", \"\", IF(VLOOKUP(AD368,'Footnotes list'!$B$5:$C$103,2,FALSE)=0,\"\",VLOOKUP(AD368,'Footnotes list'!$B$5:$C$103,2,FALSE) ) )","v":""},null,null,null,null,{"$f":"IF(TRIM(AI368)=\"\", \"\", IF(VLOOKUP(AI368,'Footnotes list'!$B$5:$C$103,2,FALSE)=0,\"\",VLOOKUP(AI368,'Footnotes list'!$B$5:$C$103,2,FALSE) ) )","v":""}]
[null,null,null,null,"UKK3","        Cornwall and Isles of Scilly",null,null,null,null,{"$f":"IF(TRIM(J369)=\"\", \"\", IF(VLOOKUP(J369,'Footnotes list'!$B$5:$C$103,2,FALSE)=0,\"\",VLOOKUP(J369,'Footnotes list'!$B$5:$C$103,2,FALSE) ) )","v":""},null,null,null,null,{"$f":"IF(TRIM(O369)=\"\", \"\", IF(VLOOKUP(O369,'Footnotes list'!$B$5:$C$103,2,FALSE)=0,\"\",VLOOKUP(O369,'Footnotes list'!$B$5:$C$103,2,FALSE) ) )","v":""},null,null,null,null,{"$f":"IF(TRIM(T369)=\"\", \"\", IF(VLOOKUP(T369,'Footnotes list'!$B$5:$C$103,2,FALSE)=0,\"\",VLOOKUP(T369,'Footnotes list'!$B$5:$C$103,2,FALSE) ) )","v":""},null,null,null,null,{"$f":"IF(TRIM(Y369)=\"\", \"\", IF(VLOOKUP(Y369,'Footnotes list'!$B$5:$C$103,2,FALSE)=0,\"\",VLOOKUP(Y369,'Footnotes list'!$B$5:$C$103,2,FALSE) ) )","v":""},null,null,null,null,{"$f":"IF(TRIM(AD369)=\"\", \"\", IF(VLOOKUP(AD369,'Footnotes list'!$B$5:$C$103,2,FALSE)=0,\"\",VLOOKUP(AD369,'Footnotes list'!$B$5:$C$103,2,FALSE) ) )","v":""},null,null,null,null,{"$f":"IF(TRIM(AI369)=\"\", \"\", IF(VLOOKUP(AI369,'Footnotes list'!$B$5:$C$103,2,FALSE)=0,\"\",VLOOKUP(AI369,'Footnotes list'!$B$5:$C$103,2,FALSE) ) )","v":""}]
[null,null,null,null,"UKK4","        Devon",null,null,null,null,{"$f":"IF(TRIM(J370)=\"\", \"\", IF(VLOOKUP(J370,'Footnotes list'!$B$5:$C$103,2,FALSE)=0,\"\",VLOOKUP(J370,'Footnotes list'!$B$5:$C$103,2,FALSE) ) )","v":""},null,null,null,null,{"$f":"IF(TRIM(O370)=\"\", \"\", IF(VLOOKUP(O370,'Footnotes list'!$B$5:$C$103,2,FALSE)=0,\"\",VLOOKUP(O370,'Footnotes list'!$B$5:$C$103,2,FALSE) ) )","v":""},null,null,null,null,{"$f":"IF(TRIM(T370)=\"\", \"\", IF(VLOOKUP(T370,'Footnotes list'!$B$5:$C$103,2,FALSE)=0,\"\",VLOOKUP(T370,'Footnotes list'!$B$5:$C$103,2,FALSE) ) )","v":""},null,null,null,null,{"$f":"IF(TRIM(Y370)=\"\", \"\", IF(VLOOKUP(Y370,'Footnotes list'!$B$5:$C$103,2,FALSE)=0,\"\",VLOOKUP(Y370,'Footnotes list'!$B$5:$C$103,2,FALSE) ) )","v":""},null,null,null,null,{"$f":"IF(TRIM(AD370)=\"\", \"\", IF(VLOOKUP(AD370,'Footnotes list'!$B$5:$C$103,2,FALSE)=0,\"\",VLOOKUP(AD370,'Footnotes list'!$B$5:$C$103,2,FALSE) ) )","v":""},null,null,null,null,{"$f":"IF(TRIM(AI370)=\"\", \"\", IF(VLOOKUP(AI370,'Footnotes list'!$B$5:$C$103,2,FALSE)=0,\"\",VLOOKUP(AI370,'Footnotes list'!$B$5:$C$103,2,FALSE) ) )","v":""}]
[null,null,null,null,"UKL","    WALES",null,null,null,null,{"$f":"IF(TRIM(J371)=\"\", \"\", IF(VLOOKUP(J371,'Footnotes list'!$B$5:$C$103,2,FALSE)=0,\"\",VLOOKUP(J371,'Footnotes list'!$B$5:$C$103,2,FALSE) ) )","v":""},null,null,null,null,{"$f":"IF(TRIM(O371)=\"\", \"\", IF(VLOOKUP(O371,'Footnotes list'!$B$5:$C$103,2,FALSE)=0,\"\",VLOOKUP(O371,'Footnotes list'!$B$5:$C$103,2,FALSE) ) )","v":""},null,null,null,null,{"$f":"IF(TRIM(T371)=\"\", \"\", IF(VLOOKUP(T371,'Footnotes list'!$B$5:$C$103,2,FALSE)=0,\"\",VLOOKUP(T371,'Footnotes list'!$B$5:$C$103,2,FALSE) ) )","v":""},null,null,null,null,{"$f":"IF(TRIM(Y371)=\"\", \"\", IF(VLOOKUP(Y371,'Footnotes list'!$B$5:$C$103,2,FALSE)=0,\"\",VLOOKUP(Y371,'Footnotes list'!$B$5:$C$103,2,FALSE) ) )","v":""},null,null,null,null,{"$f":"IF(TRIM(AD371)=\"\", \"\", IF(VLOOKUP(AD371,'Footnotes list'!$B$5:$C$103,2,FALSE)=0,\"\",VLOOKUP(AD371,'Footnotes list'!$B$5:$C$103,2,FALSE) ) )","v":""},null,null,null,null,{"$f":"IF(TRIM(AI371)=\"\", \"\", IF(VLOOKUP(AI371,'Footnotes list'!$B$5:$C$103,2,FALSE)=0,\"\",VLOOKUP(AI371,'Footnotes list'!$B$5:$C$103,2,FALSE) ) )","v":""}]
[null,null,null,null,"UKL1","        West Wales and The Valleys",null,null,null,null,{"$f":"IF(TRIM(J372)=\"\", \"\", IF(VLOOKUP(J372,'Footnotes list'!$B$5:$C$103,2,FALSE)=0,\"\",VLOOKUP(J372,'Footnotes list'!$B$5:$C$103,2,FALSE) ) )","v":""},null,null,null,null,{"$f":"IF(TRIM(O372)=\"\", \"\", IF(VLOOKUP(O372,'Footnotes list'!$B$5:$C$103,2,FALSE)=0,\"\",VLOOKUP(O372,'Footnotes list'!$B$5:$C$103,2,FALSE) ) )","v":""},null,null,null,null,{"$f":"IF(TRIM(T372)=\"\", \"\", IF(VLOOKUP(T372,'Footnotes list'!$B$5:$C$103,2,FALSE)=0,\"\",VLOOKUP(T372,'Footnotes list'!$B$5:$C$103,2,FALSE) ) )","v":""},null,null,null,null,{"$f":"IF(TRIM(Y372)=\"\", \"\", IF(VLOOKUP(Y372,'Footnotes list'!$B$5:$C$103,2,FALSE)=0,\"\",VLOOKUP(Y372,'Footnotes list'!$B$5:$C$103,2,FALSE) ) )","v":""},null,null,null,null,{"$f":"IF(TRIM(AD372)=\"\", \"\", IF(VLOOKUP(AD372,'Footnotes list'!$B$5:$C$103,2,FALSE)=0,\"\",VLOOKUP(AD372,'Footnotes list'!$B$5:$C$103,2,FALSE) ) )","v":""},null,null,null,null,{"$f":"IF(TRIM(AI372)=\"\", \"\", IF(VLOOKUP(AI372,'Footnotes list'!$B$5:$C$103,2,FALSE)=0,\"\",VLOOKUP(AI372,'Footnotes list'!$B$5:$C$103,2,FALSE) ) )","v":""}]
[null,null,null,null,"UKL2","        East Wales",null,null,null,null,{"$f":"IF(TRIM(J373)=\"\", \"\", IF(VLOOKUP(J373,'Footnotes list'!$B$5:$C$103,2,FALSE)=0,\"\",VLOOKUP(J373,'Footnotes list'!$B$5:$C$103,2,FALSE) ) )","v":""},null,null,null,null,{"$f":"IF(TRIM(O373)=\"\", \"\", IF(VLOOKUP(O373,'Footnotes list'!$B$5:$C$103,2,FALSE)=0,\"\",VLOOKUP(O373,'Footnotes list'!$B$5:$C$103,2,FALSE) ) )","v":""},null,null,null,null,{"$f":"IF(TRIM(T373)=\"\", \"\", IF(VLOOKUP(T373,'Footnotes list'!$B$5:$C$103,2,FALSE)=0,\"\",VLOOKUP(T373,'Footnotes list'!$B$5:$C$103,2,FALSE) ) )","v":""},null,null,null,null,{"$f":"IF(TRIM(Y373)=\"\", \"\", IF(VLOOKUP(Y373,'Footnotes list'!$B$5:$C$103,2,FALSE)=0,\"\",VLOOKUP(Y373,'Footnotes list'!$B$5:$C$103,2,FALSE) ) )","v":""},null,null,null,null,{"$f":"IF(TRIM(AD373)=\"\", \"\", IF(VLOOKUP(AD373,'Footnotes list'!$B$5:$C$103,2,FALSE)=0,\"\",VLOOKUP(AD373,'Footnotes list'!$B$5:$C$103,2,FALSE) ) )","v":""},null,null,null,null,{"$f":"IF(TRIM(AI373)=\"\", \"\", IF(VLOOKUP(AI373,'Footnotes list'!$B$5:$C$103,2,FALSE)=0,\"\",VLOOKUP(AI373,'Footnotes list'!$B$5:$C$103,2,FALSE) ) )","v":""}]
[null,null,null,null,"UKM","    SCOTLAND",null,null,null,null,{"$f":"IF(TRIM(J374)=\"\", \"\", IF(VLOOKUP(J374,'Footnotes list'!$B$5:$C$103,2,FALSE)=0,\"\",VLOOKUP(J374,'Footnotes list'!$B$5:$C$103,2,FALSE) ) )","v":""},null,null,null,null,{"$f":"IF(TRIM(O374)=\"\", \"\", IF(VLOOKUP(O374,'Footnotes list'!$B$5:$C$103,2,FALSE)=0,\"\",VLOOKUP(O374,'Footnotes list'!$B$5:$C$103,2,FALSE) ) )","v":""},null,null,null,null,{"$f":"IF(TRIM(T374)=\"\", \"\", IF(VLOOKUP(T374,'Footnotes list'!$B$5:$C$103,2,FALSE)=0,\"\",VLOOKUP(T374,'Footnotes list'!$B$5:$C$103,2,FALSE) ) )","v":""},null,null,null,null,{"$f":"IF(TRIM(Y374)=\"\", \"\", IF(VLOOKUP(Y374,'Footnotes list'!$B$5:$C$103,2,FALSE)=0,\"\",VLOOKUP(Y374,'Footnotes list'!$B$5:$C$103,2,FALSE) ) )","v":""},null,null,null,null,{"$f":"IF(TRIM(AD374)=\"\", \"\", IF(VLOOKUP(AD374,'Footnotes list'!$B$5:$C$103,2,FALSE)=0,\"\",VLOOKUP(AD374,'Footnotes list'!$B$5:$C$103,2,FALSE) ) )","v":""},null,null,null,null,{"$f":"IF(TRIM(AI374)=\"\", \"\", IF(VLOOKUP(AI374,'Footnotes list'!$B$5:$C$103,2,FALSE)=0,\"\",VLOOKUP(AI374,'Footnotes list'!$B$5:$C$103,2,FALSE) ) )","v":""}]
[null,null,null,null,"UKM5","        North Eastern Scotland",null,null,null,null,{"$f":"IF(TRIM(J375)=\"\", \"\", IF(VLOOKUP(J375,'Footnotes list'!$B$5:$C$103,2,FALSE)=0,\"\",VLOOKUP(J375,'Footnotes list'!$B$5:$C$103,2,FALSE) ) )","v":""},null,null,null,null,{"$f":"IF(TRIM(O375)=\"\", \"\", IF(VLOOKUP(O375,'Footnotes list'!$B$5:$C$103,2,FALSE)=0,\"\",VLOOKUP(O375,'Footnotes list'!$B$5:$C$103,2,FALSE) ) )","v":""},null,null,null,null,{"$f":"IF(TRIM(T375)=\"\", \"\", IF(VLOOKUP(T375,'Footnotes list'!$B$5:$C$103,2,FALSE)=0,\"\",VLOOKUP(T375,'Footnotes list'!$B$5:$C$103,2,FALSE) ) )","v":""},null,null,null,null,{"$f":"IF(TRIM(Y375)=\"\", \"\", IF(VLOOKUP(Y375,'Footnotes list'!$B$5:$C$103,2,FALSE)=0,\"\",VLOOKUP(Y375,'Footnotes list'!$B$5:$C$103,2,FALSE) ) )","v":""},null,null,null,null,{"$f":"IF(TRIM(AD375)=\"\", \"\", IF(VLOOKUP(AD375,'Footnotes list'!$B$5:$C$103,2,FALSE)=0,\"\",VLOOKUP(AD375,'Footnotes list'!$B$5:$C$103,2,FALSE) ) )","v":""},null,null,null,null,{"$f":"IF(TRIM(AI375)=\"\", \"\", IF(VLOOKUP(AI375,'Footnotes list'!$B$5:$C$103,2,FALSE)=0,\"\",VLOOKUP(AI375,'Footnotes list'!$B$5:$C$103,2,FALSE) ) )","v":""}]
[null,null,null,null,"UKM6","        Highlands and Islands",null,null,null,null,{"$f":"IF(TRIM(J376)=\"\", \"\", IF(VLOOKUP(J376,'Footnotes list'!$B$5:$C$103,2,FALSE)=0,\"\",VLOOKUP(J376,'Footnotes list'!$B$5:$C$103,2,FALSE) ) )","v":""},null,null,null,null,{"$f":"IF(TRIM(O376)=\"\", \"\", IF(VLOOKUP(O376,'Footnotes list'!$B$5:$C$103,2,FALSE)=0,\"\",VLOOKUP(O376,'Footnotes list'!$B$5:$C$103,2,FALSE) ) )","v":""},null,null,null,null,{"$f":"IF(TRIM(T376)=\"\", \"\", IF(VLOOKUP(T376,'Footnotes list'!$B$5:$C$103,2,FALSE)=0,\"\",VLOOKUP(T376,'Footnotes list'!$B$5:$C$103,2,FALSE) ) )","v":""},null,null,null,null,{"$f":"IF(TRIM(Y376)=\"\", \"\", IF(VLOOKUP(Y376,'Footnotes list'!$B$5:$C$103,2,FALSE)=0,\"\",VLOOKUP(Y376,'Footnotes list'!$B$5:$C$103,2,FALSE) ) )","v":""},null,null,null,null,{"$f":"IF(TRIM(AD376)=\"\", \"\", IF(VLOOKUP(AD376,'Footnotes list'!$B$5:$C$103,2,FALSE)=0,\"\",VLOOKUP(AD376,'Footnotes list'!$B$5:$C$103,2,FALSE) ) )","v":""},null,null,null,null,{"$f":"IF(TRIM(AI376)=\"\", \"\", IF(VLOOKUP(AI376,'Footnotes list'!$B$5:$C$103,2,FALSE)=0,\"\",VLOOKUP(AI376,'Footnotes list'!$B$5:$C$103,2,FALSE) ) )","v":""}]
[null,null,null,null,"UKM7","        Eastern Scotland",null,null,null,null,{"$f":"IF(TRIM(J377)=\"\", \"\", IF(VLOOKUP(J377,'Footnotes list'!$B$5:$C$103,2,FALSE)=0,\"\",VLOOKUP(J377,'Footnotes list'!$B$5:$C$103,2,FALSE) ) )","v":""},null,null,null,null,{"$f":"IF(TRIM(O377)=\"\", \"\", IF(VLOOKUP(O377,'Footnotes list'!$B$5:$C$103,2,FALSE)=0,\"\",VLOOKUP(O377,'Footnotes list'!$B$5:$C$103,2,FALSE) ) )","v":""},null,null,null,null,{"$f":"IF(TRIM(T377)=\"\", \"\", IF(VLOOKUP(T377,'Footnotes list'!$B$5:$C$103,2,FALSE)=0,\"\",VLOOKUP(T377,'Footnotes list'!$B$5:$C$103,2,FALSE) ) )","v":""},null,null,null,null,{"$f":"IF(TRIM(Y377)=\"\", \"\", IF(VLOOKUP(Y377,'Footnotes list'!$B$5:$C$103,2,FALSE)=0,\"\",VLOOKUP(Y377,'Footnotes list'!$B$5:$C$103,2,FALSE) ) )","v":""},null,null,null,null,{"$f":"IF(TRIM(AD377)=\"\", \"\", IF(VLOOKUP(AD377,'Footnotes list'!$B$5:$C$103,2,FALSE)=0,\"\",VLOOKUP(AD377,'Footnotes list'!$B$5:$C$103,2,FALSE) ) )","v":""},null,null,null,null,{"$f":"IF(TRIM(AI377)=\"\", \"\", IF(VLOOKUP(AI377,'Footnotes list'!$B$5:$C$103,2,FALSE)=0,\"\",VLOOKUP(AI377,'Footnotes list'!$B$5:$C$103,2,FALSE) ) )","v":""}]
[null,null,null,null,"UKM8","        West Central Scotland",null,null,null,null,{"$f":"IF(TRIM(J378)=\"\", \"\", IF(VLOOKUP(J378,'Footnotes list'!$B$5:$C$103,2,FALSE)=0,\"\",VLOOKUP(J378,'Footnotes list'!$B$5:$C$103,2,FALSE) ) )","v":""},null,null,null,null,{"$f":"IF(TRIM(O378)=\"\", \"\", IF(VLOOKUP(O378,'Footnotes list'!$B$5:$C$103,2,FALSE)=0,\"\",VLOOKUP(O378,'Footnotes list'!$B$5:$C$103,2,FALSE) ) )","v":""},null,null,null,null,{"$f":"IF(TRIM(T378)=\"\", \"\", IF(VLOOKUP(T378,'Footnotes list'!$B$5:$C$103,2,FALSE)=0,\"\",VLOOKUP(T378,'Footnotes list'!$B$5:$C$103,2,FALSE) ) )","v":""},null,null,null,null,{"$f":"IF(TRIM(Y378)=\"\", \"\", IF(VLOOKUP(Y378,'Footnotes list'!$B$5:$C$103,2,FALSE)=0,\"\",VLOOKUP(Y378,'Footnotes list'!$B$5:$C$103,2,FALSE) ) )","v":""},null,null,null,null,{"$f":"IF(TRIM(AD378)=\"\", \"\", IF(VLOOKUP(AD378,'Footnotes list'!$B$5:$C$103,2,FALSE)=0,\"\",VLOOKUP(AD378,'Footnotes list'!$B$5:$C$103,2,FALSE) ) )","v":""},null,null,null,null,{"$f":"IF(TRIM(AI378)=\"\", \"\", IF(VLOOKUP(AI378,'Footnotes list'!$B$5:$C$103,2,FALSE)=0,\"\",VLOOKUP(AI378,'Footnotes list'!$B$5:$C$103,2,FALSE) ) )","v":""}]
[null,null,null,null,"UKM9","        Southern Scotland",null,null,null,null,{"$f":"IF(TRIM(J379)=\"\", \"\", IF(VLOOKUP(J379,'Footnotes list'!$B$5:$C$103,2,FALSE)=0,\"\",VLOOKUP(J379,'Footnotes list'!$B$5:$C$103,2,FALSE) ) )","v":""},null,null,null,null,{"$f":"IF(TRIM(O379)=\"\", \"\", IF(VLOOKUP(O379,'Footnotes list'!$B$5:$C$103,2,FALSE)=0,\"\",VLOOKUP(O379,'Footnotes list'!$B$5:$C$103,2,FALSE) ) )","v":""},null,null,null,null,{"$f":"IF(TRIM(T379)=\"\", \"\", IF(VLOOKUP(T379,'Footnotes list'!$B$5:$C$103,2,FALSE)=0,\"\",VLOOKUP(T379,'Footnotes list'!$B$5:$C$103,2,FALSE) ) )","v":""},null,null,null,null,{"$f":"IF(TRIM(Y379)=\"\", \"\", IF(VLOOKUP(Y379,'Footnotes list'!$B$5:$C$103,2,FALSE)=0,\"\",VLOOKUP(Y379,'Footnotes list'!$B$5:$C$103,2,FALSE) ) )","v":""},null,null,null,null,{"$f":"IF(TRIM(AD379)=\"\", \"\", IF(VLOOKUP(AD379,'Footnotes list'!$B$5:$C$103,2,FALSE)=0,\"\",VLOOKUP(AD379,'Footnotes list'!$B$5:$C$103,2,FALSE) ) )","v":""},null,null,null,null,{"$f":"IF(TRIM(AI379)=\"\", \"\", IF(VLOOKUP(AI379,'Footnotes list'!$B$5:$C$103,2,FALSE)=0,\"\",VLOOKUP(AI379,'Footnotes list'!$B$5:$C$103,2,FALSE) ) )","v":""}]
[null,null,null,null,"UKN","    NORTHERN IRELAND",null,null,null,null,{"$f":"IF(TRIM(J380)=\"\", \"\", IF(VLOOKUP(J380,'Footnotes list'!$B$5:$C$103,2,FALSE)=0,\"\",VLOOKUP(J380,'Footnotes list'!$B$5:$C$103,2,FALSE) ) )","v":""},null,null,null,null,{"$f":"IF(TRIM(O380)=\"\", \"\", IF(VLOOKUP(O380,'Footnotes list'!$B$5:$C$103,2,FALSE)=0,\"\",VLOOKUP(O380,'Footnotes list'!$B$5:$C$103,2,FALSE) ) )","v":""},null,null,null,null,{"$f":"IF(TRIM(T380)=\"\", \"\", IF(VLOOKUP(T380,'Footnotes list'!$B$5:$C$103,2,FALSE)=0,\"\",VLOOKUP(T380,'Footnotes list'!$B$5:$C$103,2,FALSE) ) )","v":""},null,null,null,null,{"$f":"IF(TRIM(Y380)=\"\", \"\", IF(VLOOKUP(Y380,'Footnotes list'!$B$5:$C$103,2,FALSE)=0,\"\",VLOOKUP(Y380,'Footnotes list'!$B$5:$C$103,2,FALSE) ) )","v":""},null,null,null,null,{"$f":"IF(TRIM(AD380)=\"\", \"\", IF(VLOOKUP(AD380,'Footnotes list'!$B$5:$C$103,2,FALSE)=0,\"\",VLOOKUP(AD380,'Footnotes list'!$B$5:$C$103,2,FALSE) ) )","v":""},null,null,null,null,{"$f":"IF(TRIM(AI380)=\"\", \"\", IF(VLOOKUP(AI380,'Footnotes list'!$B$5:$C$103,2,FALSE)=0,\"\",VLOOKUP(AI380,'Footnotes list'!$B$5:$C$103,2,FALSE) ) )","v":""}]
[null,null,null,null,"IS","ICELAND",null,null,null,null,{"$f":"IF(TRIM(J381)=\"\", \"\", IF(VLOOKUP(J381,'Footnotes list'!$B$5:$C$103,2,FALSE)=0,\"\",VLOOKUP(J381,'Footnotes list'!$B$5:$C$103,2,FALSE) ) )","v":""},null,null,null,null,{"$f":"IF(TRIM(O381)=\"\", \"\", IF(VLOOKUP(O381,'Footnotes list'!$B$5:$C$103,2,FALSE)=0,\"\",VLOOKUP(O381,'Footnotes list'!$B$5:$C$103,2,FALSE) ) )","v":""},null,null,null,null,{"$f":"IF(TRIM(T381)=\"\", \"\", IF(VLOOKUP(T381,'Footnotes list'!$B$5:$C$103,2,FALSE)=0,\"\",VLOOKUP(T381,'Footnotes list'!$B$5:$C$103,2,FALSE) ) )","v":""},null,null,null,null,{"$f":"IF(TRIM(Y381)=\"\", \"\", IF(VLOOKUP(Y381,'Footnotes list'!$B$5:$C$103,2,FALSE)=0,\"\",VLOOKUP(Y381,'Footnotes list'!$B$5:$C$103,2,FALSE) ) )","v":""},null,null,null,null,{"$f":"IF(TRIM(AD381)=\"\", \"\", IF(VLOOKUP(AD381,'Footnotes list'!$B$5:$C$103,2,FALSE)=0,\"\",VLOOKUP(AD381,'Footnotes list'!$B$5:$C$103,2,FALSE) ) )","v":""},null,null,null,null,{"$f":"IF(TRIM(AI381)=\"\", \"\", IF(VLOOKUP(AI381,'Footnotes list'!$B$5:$C$103,2,FALSE)=0,\"\",VLOOKUP(AI381,'Footnotes list'!$B$5:$C$103,2,FALSE) ) )","v":""}]
[null,null,null,null,"LI","LIECHTENSTEIN",null,null,null,null,{"$f":"IF(TRIM(J382)=\"\", \"\", IF(VLOOKUP(J382,'Footnotes list'!$B$5:$C$103,2,FALSE)=0,\"\",VLOOKUP(J382,'Footnotes list'!$B$5:$C$103,2,FALSE) ) )","v":""},null,null,null,null,{"$f":"IF(TRIM(O382)=\"\", \"\", IF(VLOOKUP(O382,'Footnotes list'!$B$5:$C$103,2,FALSE)=0,\"\",VLOOKUP(O382,'Footnotes list'!$B$5:$C$103,2,FALSE) ) )","v":""},null,null,null,null,{"$f":"IF(TRIM(T382)=\"\", \"\", IF(VLOOKUP(T382,'Footnotes list'!$B$5:$C$103,2,FALSE)=0,\"\",VLOOKUP(T382,'Footnotes list'!$B$5:$C$103,2,FALSE) ) )","v":""},null,null,null,null,{"$f":"IF(TRIM(Y382)=\"\", \"\", IF(VLOOKUP(Y382,'Footnotes list'!$B$5:$C$103,2,FALSE)=0,\"\",VLOOKUP(Y382,'Footnotes list'!$B$5:$C$103,2,FALSE) ) )","v":""},null,null,null,null,{"$f":"IF(TRIM(AD382)=\"\", \"\", IF(VLOOKUP(AD382,'Footnotes list'!$B$5:$C$103,2,FALSE)=0,\"\",VLOOKUP(AD382,'Footnotes list'!$B$5:$C$103,2,FALSE) ) )","v":""},null,null,null,null,{"$f":"IF(TRIM(AI382)=\"\", \"\", IF(VLOOKUP(AI382,'Footnotes list'!$B$5:$C$103,2,FALSE)=0,\"\",VLOOKUP(AI382,'Footnotes list'!$B$5:$C$103,2,FALSE) ) )","v":""}]
[null,null,null,null,"NO","NORWAY",null,null,null,null,{"$f":"IF(TRIM(J383)=\"\", \"\", IF(VLOOKUP(J383,'Footnotes list'!$B$5:$C$103,2,FALSE)=0,\"\",VLOOKUP(J383,'Footnotes list'!$B$5:$C$103,2,FALSE) ) )","v":""},null,null,null,null,{"$f":"IF(TRIM(O383)=\"\", \"\", IF(VLOOKUP(O383,'Footnotes list'!$B$5:$C$103,2,FALSE)=0,\"\",VLOOKUP(O383,'Footnotes list'!$B$5:$C$103,2,FALSE) ) )","v":""},null,null,null,null,{"$f":"IF(TRIM(T383)=\"\", \"\", IF(VLOOKUP(T383,'Footnotes list'!$B$5:$C$103,2,FALSE)=0,\"\",VLOOKUP(T383,'Footnotes list'!$B$5:$C$103,2,FALSE) ) )","v":""},null,null,null,null,{"$f":"IF(TRIM(Y383)=\"\", \"\", IF(VLOOKUP(Y383,'Footnotes list'!$B$5:$C$103,2,FALSE)=0,\"\",VLOOKUP(Y383,'Footnotes list'!$B$5:$C$103,2,FALSE) ) )","v":""},null,null,null,null,{"$f":"IF(TRIM(AD383)=\"\", \"\", IF(VLOOKUP(AD383,'Footnotes list'!$B$5:$C$103,2,FALSE)=0,\"\",VLOOKUP(AD383,'Footnotes list'!$B$5:$C$103,2,FALSE) ) )","v":""},null,null,null,null,{"$f":"IF(TRIM(AI383)=\"\", \"\", IF(VLOOKUP(AI383,'Footnotes list'!$B$5:$C$103,2,FALSE)=0,\"\",VLOOKUP(AI383,'Footnotes list'!$B$5:$C$103,2,FALSE) ) )","v":""}]
[null,null,null,null,"NO01","    Oslo og Akershus",null,null,null,null,{"$f":"IF(TRIM(J384)=\"\", \"\", IF(VLOOKUP(J384,'Footnotes list'!$B$5:$C$103,2,FALSE)=0,\"\",VLOOKUP(J384,'Footnotes list'!$B$5:$C$103,2,FALSE) ) )","v":""},null,null,null,null,{"$f":"IF(TRIM(O384)=\"\", \"\", IF(VLOOKUP(O384,'Footnotes list'!$B$5:$C$103,2,FALSE)=0,\"\",VLOOKUP(O384,'Footnotes list'!$B$5:$C$103,2,FALSE) ) )","v":""},null,null,null,null,{"$f":"IF(TRIM(T384)=\"\", \"\", IF(VLOOKUP(T384,'Footnotes list'!$B$5:$C$103,2,FALSE)=0,\"\",VLOOKUP(T384,'Footnotes list'!$B$5:$C$103,2,FALSE) ) )","v":""},null,null,null,null,{"$f":"IF(TRIM(Y384)=\"\", \"\", IF(VLOOKUP(Y384,'Footnotes list'!$B$5:$C$103,2,FALSE)=0,\"\",VLOOKUP(Y384,'Footnotes list'!$B$5:$C$103,2,FALSE) ) )","v":""},null,null,null,null,{"$f":"IF(TRIM(AD384)=\"\", \"\", IF(VLOOKUP(AD384,'Footnotes list'!$B$5:$C$103,2,FALSE)=0,\"\",VLOOKUP(AD384,'Footnotes list'!$B$5:$C$103,2,FALSE) ) )","v":""},null,null,null,null,{"$f":"IF(TRIM(AI384)=\"\", \"\", IF(VLOOKUP(AI384,'Footnotes list'!$B$5:$C$103,2,FALSE)=0,\"\",VLOOKUP(AI384,'Footnotes list'!$B$5:$C$103,2,FALSE) ) )","v":""}]
[null,null,null,null,"NO02","    Hedmark og Oppland",null,null,null,null,{"$f":"IF(TRIM(J385)=\"\", \"\", IF(VLOOKUP(J385,'Footnotes list'!$B$5:$C$103,2,FALSE)=0,\"\",VLOOKUP(J385,'Footnotes list'!$B$5:$C$103,2,FALSE) ) )","v":""},null,null,null,null,{"$f":"IF(TRIM(O385)=\"\", \"\", IF(VLOOKUP(O385,'Footnotes list'!$B$5:$C$103,2,FALSE)=0,\"\",VLOOKUP(O385,'Footnotes list'!$B$5:$C$103,2,FALSE) ) )","v":""},null,null,null,null,{"$f":"IF(TRIM(T385)=\"\", \"\", IF(VLOOKUP(T385,'Footnotes list'!$B$5:$C$103,2,FALSE)=0,\"\",VLOOKUP(T385,'Footnotes list'!$B$5:$C$103,2,FALSE) ) )","v":""},null,null,null,null,{"$f":"IF(TRIM(Y385)=\"\", \"\", IF(VLOOKUP(Y385,'Footnotes list'!$B$5:$C$103,2,FALSE)=0,\"\",VLOOKUP(Y385,'Footnotes list'!$B$5:$C$103,2,FALSE) ) )","v":""},null,null,null,null,{"$f":"IF(TRIM(AD385)=\"\", \"\", IF(VLOOKUP(AD385,'Footnotes list'!$B$5:$C$103,2,FALSE)=0,\"\",VLOOKUP(AD385,'Footnotes list'!$B$5:$C$103,2,FALSE) ) )","v":""},null,null,null,null,{"$f":"IF(TRIM(AI385)=\"\", \"\", IF(VLOOKUP(AI385,'Footnotes list'!$B$5:$C$103,2,FALSE)=0,\"\",VLOOKUP(AI385,'Footnotes list'!$B$5:$C$103,2,FALSE) ) )","v":""}]
[null,null,null,null,"NO03","    Sør-Østlandet",null,null,null,null,{"$f":"IF(TRIM(J386)=\"\", \"\", IF(VLOOKUP(J386,'Footnotes list'!$B$5:$C$103,2,FALSE)=0,\"\",VLOOKUP(J386,'Footnotes list'!$B$5:$C$103,2,FALSE) ) )","v":""},null,null,null,null,{"$f":"IF(TRIM(O386)=\"\", \"\", IF(VLOOKUP(O386,'Footnotes list'!$B$5:$C$103,2,FALSE)=0,\"\",VLOOKUP(O386,'Footnotes list'!$B$5:$C$103,2,FALSE) ) )","v":""},null,null,null,null,{"$f":"IF(TRIM(T386)=\"\", \"\", IF(VLOOKUP(T386,'Footnotes list'!$B$5:$C$103,2,FALSE)=0,\"\",VLOOKUP(T386,'Footnotes list'!$B$5:$C$103,2,FALSE) ) )","v":""},null,null,null,null,{"$f":"IF(TRIM(Y386)=\"\", \"\", IF(VLOOKUP(Y386,'Footnotes list'!$B$5:$C$103,2,FALSE)=0,\"\",VLOOKUP(Y386,'Footnotes list'!$B$5:$C$103,2,FALSE) ) )","v":""},null,null,null,null,{"$f":"IF(TRIM(AD386)=\"\", \"\", IF(VLOOKUP(AD386,'Footnotes list'!$B$5:$C$103,2,FALSE)=0,\"\",VLOOKUP(AD386,'Footnotes list'!$B$5:$C$103,2,FALSE) ) )","v":""},null,null,null,null,{"$f":"IF(TRIM(AI386)=\"\", \"\", IF(VLOOKUP(AI386,'Footnotes list'!$B$5:$C$103,2,FALSE)=0,\"\",VLOOKUP(AI386,'Footnotes list'!$B$5:$C$103,2,FALSE) ) )","v":""}]
[null,null,null,null,"NO04","    Agder og Rogaland",null,null,null,null,{"$f":"IF(TRIM(J387)=\"\", \"\", IF(VLOOKUP(J387,'Footnotes list'!$B$5:$C$103,2,FALSE)=0,\"\",VLOOKUP(J387,'Footnotes list'!$B$5:$C$103,2,FALSE) ) )","v":""},null,null,null,null,{"$f":"IF(TRIM(O387)=\"\", \"\", IF(VLOOKUP(O387,'Footnotes list'!$B$5:$C$103,2,FALSE)=0,\"\",VLOOKUP(O387,'Footnotes list'!$B$5:$C$103,2,FALSE) ) )","v":""},null,null,null,null,{"$f":"IF(TRIM(T387)=\"\", \"\", IF(VLOOKUP(T387,'Footnotes list'!$B$5:$C$103,2,FALSE)=0,\"\",VLOOKUP(T387,'Footnotes list'!$B$5:$C$103,2,FALSE) ) )","v":""},null,null,null,null,{"$f":"IF(TRIM(Y387)=\"\", \"\", IF(VLOOKUP(Y387,'Footnotes list'!$B$5:$C$103,2,FALSE)=0,\"\",VLOOKUP(Y387,'Footnotes list'!$B$5:$C$103,2,FALSE) ) )","v":""},null,null,null,null,{"$f":"IF(TRIM(AD387)=\"\", \"\", IF(VLOOKUP(AD387,'Footnotes list'!$B$5:$C$103,2,FALSE)=0,\"\",VLOOKUP(AD387,'Footnotes list'!$B$5:$C$103,2,FALSE) ) )","v":""},null,null,null,null,{"$f":"IF(TRIM(AI387)=\"\", \"\", IF(VLOOKUP(AI387,'Footnotes list'!$B$5:$C$103,2,FALSE)=0,\"\",VLOOKUP(AI387,'Footnotes list'!$B$5:$C$103,2,FALSE) ) )","v":""}]
[null,null,null,null,"NO05","    Vestlandet",null,null,null,null,{"$f":"IF(TRIM(J388)=\"\", \"\", IF(VLOOKUP(J388,'Footnotes list'!$B$5:$C$103,2,FALSE)=0,\"\",VLOOKUP(J388,'Footnotes list'!$B$5:$C$103,2,FALSE) ) )","v":""},null,null,null,null,{"$f":"IF(TRIM(O388)=\"\", \"\", IF(VLOOKUP(O388,'Footnotes list'!$B$5:$C$103,2,FALSE)=0,\"\",VLOOKUP(O388,'Footnotes list'!$B$5:$C$103,2,FALSE) ) )","v":""},null,null,null,null,{"$f":"IF(TRIM(T388)=\"\", \"\", IF(VLOOKUP(T388,'Footnotes list'!$B$5:$C$103,2,FALSE)=0,\"\",VLOOKUP(T388,'Footnotes list'!$B$5:$C$103,2,FALSE) ) )","v":""},null,null,null,null,{"$f":"IF(TRIM(Y388)=\"\", \"\", IF(VLOOKUP(Y388,'Footnotes list'!$B$5:$C$103,2,FALSE)=0,\"\",VLOOKUP(Y388,'Footnotes list'!$B$5:$C$103,2,FALSE) ) )","v":""},null,null,null,null,{"$f":"IF(TRIM(AD388)=\"\", \"\", IF(VLOOKUP(AD388,'Footnotes list'!$B$5:$C$103,2,FALSE)=0,\"\",VLOOKUP(AD388,'Footnotes list'!$B$5:$C$103,2,FALSE) ) )","v":""},null,null,null,null,{"$f":"IF(TRIM(AI388)=\"\", \"\", IF(VLOOKUP(AI388,'Footnotes list'!$B$5:$C$103,2,FALSE)=0,\"\",VLOOKUP(AI388,'Footnotes list'!$B$5:$C$103,2,FALSE) ) )","v":""}]
[null,null,null,null,"NO06","    Trøndelag",null,null,null,null,{"$f":"IF(TRIM(J389)=\"\", \"\", IF(VLOOKUP(J389,'Footnotes list'!$B$5:$C$103,2,FALSE)=0,\"\",VLOOKUP(J389,'Footnotes list'!$B$5:$C$103,2,FALSE) ) )","v":""},null,null,null,null,{"$f":"IF(TRIM(O389)=\"\", \"\", IF(VLOOKUP(O389,'Footnotes list'!$B$5:$C$103,2,FALSE)=0,\"\",VLOOKUP(O389,'Footnotes list'!$B$5:$C$103,2,FALSE) ) )","v":""},null,null,null,null,{"$f":"IF(TRIM(T389)=\"\", \"\", IF(VLOOKUP(T389,'Footnotes list'!$B$5:$C$103,2,FALSE)=0,\"\",VLOOKUP(T389,'Footnotes list'!$B$5:$C$103,2,FALSE) ) )","v":""},null,null,null,null,{"$f":"IF(TRIM(Y389)=\"\", \"\", IF(VLOOKUP(Y389,'Footnotes list'!$B$5:$C$103,2,FALSE)=0,\"\",VLOOKUP(Y389,'Footnotes list'!$B$5:$C$103,2,FALSE) ) )","v":""},null,null,null,null,{"$f":"IF(TRIM(AD389)=\"\", \"\", IF(VLOOKUP(AD389,'Footnotes list'!$B$5:$C$103,2,FALSE)=0,\"\",VLOOKUP(AD389,'Footnotes list'!$B$5:$C$103,2,FALSE) ) )","v":""},null,null,null,null,{"$f":"IF(TRIM(AI389)=\"\", \"\", IF(VLOOKUP(AI389,'Footnotes list'!$B$5:$C$103,2,FALSE)=0,\"\",VLOOKUP(AI389,'Footnotes list'!$B$5:$C$103,2,FALSE) ) )","v":""}]
[null,null,null,null,"NO07","    Nord-Norge",null,null,null,null,{"$f":"IF(TRIM(J390)=\"\", \"\", IF(VLOOKUP(J390,'Footnotes list'!$B$5:$C$103,2,FALSE)=0,\"\",VLOOKUP(J390,'Footnotes list'!$B$5:$C$103,2,FALSE) ) )","v":""},null,null,null,null,{"$f":"IF(TRIM(O390)=\"\", \"\", IF(VLOOKUP(O390,'Footnotes list'!$B$5:$C$103,2,FALSE)=0,\"\",VLOOKUP(O390,'Footnotes list'!$B$5:$C$103,2,FALSE) ) )","v":""},null,null,null,null,{"$f":"IF(TRIM(T390)=\"\", \"\", IF(VLOOKUP(T390,'Footnotes list'!$B$5:$C$103,2,FALSE)=0,\"\",VLOOKUP(T390,'Footnotes list'!$B$5:$C$103,2,FALSE) ) )","v":""},null,null,null,null,{"$f":"IF(TRIM(Y390)=\"\", \"\", IF(VLOOKUP(Y390,'Footnotes list'!$B$5:$C$103,2,FALSE)=0,\"\",VLOOKUP(Y390,'Footnotes list'!$B$5:$C$103,2,FALSE) ) )","v":""},null,null,null,null,{"$f":"IF(TRIM(AD390)=\"\", \"\", IF(VLOOKUP(AD390,'Footnotes list'!$B$5:$C$103,2,FALSE)=0,\"\",VLOOKUP(AD390,'Footnotes list'!$B$5:$C$103,2,FALSE) ) )","v":""},null,null,null,null,{"$f":"IF(TRIM(AI390)=\"\", \"\", IF(VLOOKUP(AI390,'Footnotes list'!$B$5:$C$103,2,FALSE)=0,\"\",VLOOKUP(AI390,'Footnotes list'!$B$5:$C$103,2,FALSE) ) )","v":""}]
[null,null,null,null,"CH","SWITZERLAND",null,null,null,null,{"$f":"IF(TRIM(J391)=\"\", \"\", IF(VLOOKUP(J391,'Footnotes list'!$B$5:$C$103,2,FALSE)=0,\"\",VLOOKUP(J391,'Footnotes list'!$B$5:$C$103,2,FALSE) ) )","v":""},null,null,null,null,{"$f":"IF(TRIM(O391)=\"\", \"\", IF(VLOOKUP(O391,'Footnotes list'!$B$5:$C$103,2,FALSE)=0,\"\",VLOOKUP(O391,'Footnotes list'!$B$5:$C$103,2,FALSE) ) )","v":""},null,null,null,null,{"$f":"IF(TRIM(T391)=\"\", \"\", IF(VLOOKUP(T391,'Footnotes list'!$B$5:$C$103,2,FALSE)=0,\"\",VLOOKUP(T391,'Footnotes list'!$B$5:$C$103,2,FALSE) ) )","v":""},null,null,null,null,{"$f":"IF(TRIM(Y391)=\"\", \"\", IF(VLOOKUP(Y391,'Footnotes list'!$B$5:$C$103,2,FALSE)=0,\"\",VLOOKUP(Y391,'Footnotes list'!$B$5:$C$103,2,FALSE) ) )","v":""},null,null,null,null,{"$f":"IF(TRIM(AD391)=\"\", \"\", IF(VLOOKUP(AD391,'Footnotes list'!$B$5:$C$103,2,FALSE)=0,\"\",VLOOKUP(AD391,'Footnotes list'!$B$5:$C$103,2,FALSE) ) )","v":""},null,null,null,null,{"$f":"IF(TRIM(AI391)=\"\", \"\", IF(VLOOKUP(AI391,'Footnotes list'!$B$5:$C$103,2,FALSE)=0,\"\",VLOOKUP(AI391,'Footnotes list'!$B$5:$C$103,2,FALSE) ) )","v":""}]
[null,null,null,null,"CH01","    Région lémanique",null,null,null,null,{"$f":"IF(TRIM(J392)=\"\", \"\", IF(VLOOKUP(J392,'Footnotes list'!$B$5:$C$103,2,FALSE)=0,\"\",VLOOKUP(J392,'Footnotes list'!$B$5:$C$103,2,FALSE) ) )","v":""},null,null,null,null,{"$f":"IF(TRIM(O392)=\"\", \"\", IF(VLOOKUP(O392,'Footnotes list'!$B$5:$C$103,2,FALSE)=0,\"\",VLOOKUP(O392,'Footnotes list'!$B$5:$C$103,2,FALSE) ) )","v":""},null,null,null,null,{"$f":"IF(TRIM(T392)=\"\", \"\", IF(VLOOKUP(T392,'Footnotes list'!$B$5:$C$103,2,FALSE)=0,\"\",VLOOKUP(T392,'Footnotes list'!$B$5:$C$103,2,FALSE) ) )","v":""},null,null,null,null,{"$f":"IF(TRIM(Y392)=\"\", \"\", IF(VLOOKUP(Y392,'Footnotes list'!$B$5:$C$103,2,FALSE)=0,\"\",VLOOKUP(Y392,'Footnotes list'!$B$5:$C$103,2,FALSE) ) )","v":""},null,null,null,null,{"$f":"IF(TRIM(AD392)=\"\", \"\", IF(VLOOKUP(AD392,'Footnotes list'!$B$5:$C$103,2,FALSE)=0,\"\",VLOOKUP(AD392,'Footnotes list'!$B$5:$C$103,2,FALSE) ) )","v":""},null,null,null,null,{"$f":"IF(TRIM(AI392)=\"\", \"\", IF(VLOOKUP(AI392,'Footnotes list'!$B$5:$C$103,2,FALSE)=0,\"\",VLOOKUP(AI392,'Footnotes list'!$B$5:$C$103,2,FALSE) ) )","v":""}]
[null,null,null,null,"CH02","    Espace Mittelland",null,null,null,null,{"$f":"IF(TRIM(J393)=\"\", \"\", IF(VLOOKUP(J393,'Footnotes list'!$B$5:$C$103,2,FALSE)=0,\"\",VLOOKUP(J393,'Footnotes list'!$B$5:$C$103,2,FALSE) ) )","v":""},null,null,null,null,{"$f":"IF(TRIM(O393)=\"\", \"\", IF(VLOOKUP(O393,'Footnotes list'!$B$5:$C$103,2,FALSE)=0,\"\",VLOOKUP(O393,'Footnotes list'!$B$5:$C$103,2,FALSE) ) )","v":""},null,null,null,null,{"$f":"IF(TRIM(T393)=\"\", \"\", IF(VLOOKUP(T393,'Footnotes list'!$B$5:$C$103,2,FALSE)=0,\"\",VLOOKUP(T393,'Footnotes list'!$B$5:$C$103,2,FALSE) ) )","v":""},null,null,null,null,{"$f":"IF(TRIM(Y393)=\"\", \"\", IF(VLOOKUP(Y393,'Footnotes list'!$B$5:$C$103,2,FALSE)=0,\"\",VLOOKUP(Y393,'Footnotes list'!$B$5:$C$103,2,FALSE) ) )","v":""},null,null,null,null,{"$f":"IF(TRIM(AD393)=\"\", \"\", IF(VLOOKUP(AD393,'Footnotes list'!$B$5:$C$103,2,FALSE)=0,\"\",VLOOKUP(AD393,'Footnotes list'!$B$5:$C$103,2,FALSE) ) )","v":""},null,null,null,null,{"$f":"IF(TRIM(AI393)=\"\", \"\", IF(VLOOKUP(AI393,'Footnotes list'!$B$5:$C$103,2,FALSE)=0,\"\",VLOOKUP(AI393,'Footnotes list'!$B$5:$C$103,2,FALSE) ) )","v":""}]
[null,null,null,null,"CH03","    Nordwestschweiz",null,null,null,null,{"$f":"IF(TRIM(J394)=\"\", \"\", IF(VLOOKUP(J394,'Footnotes list'!$B$5:$C$103,2,FALSE)=0,\"\",VLOOKUP(J394,'Footnotes list'!$B$5:$C$103,2,FALSE) ) )","v":""},null,null,null,null,{"$f":"IF(TRIM(O394)=\"\", \"\", IF(VLOOKUP(O394,'Footnotes list'!$B$5:$C$103,2,FALSE)=0,\"\",VLOOKUP(O394,'Footnotes list'!$B$5:$C$103,2,FALSE) ) )","v":""},null,null,null,null,{"$f":"IF(TRIM(T394)=\"\", \"\", IF(VLOOKUP(T394,'Footnotes list'!$B$5:$C$103,2,FALSE)=0,\"\",VLOOKUP(T394,'Footnotes list'!$B$5:$C$103,2,FALSE) ) )","v":""},null,null,null,null,{"$f":"IF(TRIM(Y394)=\"\", \"\", IF(VLOOKUP(Y394,'Footnotes list'!$B$5:$C$103,2,FALSE)=0,\"\",VLOOKUP(Y394,'Footnotes list'!$B$5:$C$103,2,FALSE) ) )","v":""},null,null,null,null,{"$f":"IF(TRIM(AD394)=\"\", \"\", IF(VLOOKUP(AD394,'Footnotes list'!$B$5:$C$103,2,FALSE)=0,\"\",VLOOKUP(AD394,'Footnotes list'!$B$5:$C$103,2,FALSE) ) )","v":""},null,null,null,null,{"$f":"IF(TRIM(AI394)=\"\", \"\", IF(VLOOKUP(AI394,'Footnotes list'!$B$5:$C$103,2,FALSE)=0,\"\",VLOOKUP(AI394,'Footnotes list'!$B$5:$C$103,2,FALSE) ) )","v":""}]
[null,null,null,null,"CH04","    Zürich",null,null,null,null,{"$f":"IF(TRIM(J395)=\"\", \"\", IF(VLOOKUP(J395,'Footnotes list'!$B$5:$C$103,2,FALSE)=0,\"\",VLOOKUP(J395,'Footnotes list'!$B$5:$C$103,2,FALSE) ) )","v":""},null,null,null,null,{"$f":"IF(TRIM(O395)=\"\", \"\", IF(VLOOKUP(O395,'Footnotes list'!$B$5:$C$103,2,FALSE)=0,\"\",VLOOKUP(O395,'Footnotes list'!$B$5:$C$103,2,FALSE) ) )","v":""},null,null,null,null,{"$f":"IF(TRIM(T395)=\"\", \"\", IF(VLOOKUP(T395,'Footnotes list'!$B$5:$C$103,2,FALSE)=0,\"\",VLOOKUP(T395,'Footnotes list'!$B$5:$C$103,2,FALSE) ) )","v":""},null,null,null,null,{"$f":"IF(TRIM(Y395)=\"\", \"\", IF(VLOOKUP(Y395,'Footnotes list'!$B$5:$C$103,2,FALSE)=0,\"\",VLOOKUP(Y395,'Footnotes list'!$B$5:$C$103,2,FALSE) ) )","v":""},null,null,null,null,{"$f":"IF(TRIM(AD395)=\"\", \"\", IF(VLOOKUP(AD395,'Footnotes list'!$B$5:$C$103,2,FALSE)=0,\"\",VLOOKUP(AD395,'Footnotes list'!$B$5:$C$103,2,FALSE) ) )","v":""},null,null,null,null,{"$f":"IF(TRIM(AI395)=\"\", \"\", IF(VLOOKUP(AI395,'Footnotes list'!$B$5:$C$103,2,FALSE)=0,\"\",VLOOKUP(AI395,'Footnotes list'!$B$5:$C$103,2,FALSE) ) )","v":""}]
[null,null,null,null,"CH05","    Ostschweiz",null,null,null,null,{"$f":"IF(TRIM(J396)=\"\", \"\", IF(VLOOKUP(J396,'Footnotes list'!$B$5:$C$103,2,FALSE)=0,\"\",VLOOKUP(J396,'Footnotes list'!$B$5:$C$103,2,FALSE) ) )","v":""},null,null,null,null,{"$f":"IF(TRIM(O396)=\"\", \"\", IF(VLOOKUP(O396,'Footnotes list'!$B$5:$C$103,2,FALSE)=0,\"\",VLOOKUP(O396,'Footnotes list'!$B$5:$C$103,2,FALSE) ) )","v":""},null,null,null,null,{"$f":"IF(TRIM(T396)=\"\", \"\", IF(VLOOKUP(T396,'Footnotes list'!$B$5:$C$103,2,FALSE)=0,\"\",VLOOKUP(T396,'Footnotes list'!$B$5:$C$103,2,FALSE) ) )","v":""},null,null,null,null,{"$f":"IF(TRIM(Y396)=\"\", \"\", IF(VLOOKUP(Y396,'Footnotes list'!$B$5:$C$103,2,FALSE)=0,\"\",VLOOKUP(Y396,'Footnotes list'!$B$5:$C$103,2,FALSE) ) )","v":""},null,null,null,null,{"$f":"IF(TRIM(AD396)=\"\", \"\", IF(VLOOKUP(AD396,'Footnotes list'!$B$5:$C$103,2,FALSE)=0,\"\",VLOOKUP(AD396,'Footnotes list'!$B$5:$C$103,2,FALSE) ) )","v":""},null,null,null,null,{"$f":"IF(TRIM(AI396)=\"\", \"\", IF(VLOOKUP(AI396,'Footnotes list'!$B$5:$C$103,2,FALSE)=0,\"\",VLOOKUP(AI396,'Footnotes list'!$B$5:$C$103,2,FALSE) ) )","v":""}]
[null,null,null,null,"CH06","    Zentralschweiz",null,null,null,null,{"$f":"IF(TRIM(J397)=\"\", \"\", IF(VLOOKUP(J397,'Footnotes list'!$B$5:$C$103,2,FALSE)=0,\"\",VLOOKUP(J397,'Footnotes list'!$B$5:$C$103,2,FALSE) ) )","v":""},null,null,null,null,{"$f":"IF(TRIM(O397)=\"\", \"\", IF(VLOOKUP(O397,'Footnotes list'!$B$5:$C$103,2,FALSE)=0,\"\",VLOOKUP(O397,'Footnotes list'!$B$5:$C$103,2,FALSE) ) )","v":""},null,null,null,null,{"$f":"IF(TRIM(T397)=\"\", \"\", IF(VLOOKUP(T397,'Footnotes list'!$B$5:$C$103,2,FALSE)=0,\"\",VLOOKUP(T397,'Footnotes list'!$B$5:$C$103,2,FALSE) ) )","v":""},null,null,null,null,{"$f":"IF(TRIM(Y397)=\"\", \"\", IF(VLOOKUP(Y397,'Footnotes list'!$B$5:$C$103,2,FALSE)=0,\"\",VLOOKUP(Y397,'Footnotes list'!$B$5:$C$103,2,FALSE) ) )","v":""},null,null,null,null,{"$f":"IF(TRIM(AD397)=\"\", \"\", IF(VLOOKUP(AD397,'Footnotes list'!$B$5:$C$103,2,FALSE)=0,\"\",VLOOKUP(AD397,'Footnotes list'!$B$5:$C$103,2,FALSE) ) )","v":""},null,null,null,null,{"$f":"IF(TRIM(AI397)=\"\", \"\", IF(VLOOKUP(AI397,'Footnotes list'!$B$5:$C$103,2,FALSE)=0,\"\",VLOOKUP(AI397,'Footnotes list'!$B$5:$C$103,2,FALSE) ) )","v":""}]
[null,null,null,null,"CH07","    Ticino",null,null,null,null,{"$f":"IF(TRIM(J398)=\"\", \"\", IF(VLOOKUP(J398,'Footnotes list'!$B$5:$C$103,2,FALSE)=0,\"\",VLOOKUP(J398,'Footnotes list'!$B$5:$C$103,2,FALSE) ) )","v":""},null,null,null,null,{"$f":"IF(TRIM(O398)=\"\", \"\", IF(VLOOKUP(O398,'Footnotes list'!$B$5:$C$103,2,FALSE)=0,\"\",VLOOKUP(O398,'Footnotes list'!$B$5:$C$103,2,FALSE) ) )","v":""},null,null,null,null,{"$f":"IF(TRIM(T398)=\"\", \"\", IF(VLOOKUP(T398,'Footnotes list'!$B$5:$C$103,2,FALSE)=0,\"\",VLOOKUP(T398,'Footnotes list'!$B$5:$C$103,2,FALSE) ) )","v":""},null,null,null,null,{"$f":"IF(TRIM(Y398)=\"\", \"\", IF(VLOOKUP(Y398,'Footnotes list'!$B$5:$C$103,2,FALSE)=0,\"\",VLOOKUP(Y398,'Footnotes list'!$B$5:$C$103,2,FALSE) ) )","v":""},null,null,null,null,{"$f":"IF(TRIM(AD398)=\"\", \"\", IF(VLOOKUP(AD398,'Footnotes list'!$B$5:$C$103,2,FALSE)=0,\"\",VLOOKUP(AD398,'Footnotes list'!$B$5:$C$103,2,FALSE) ) )","v":""},null,null,null,null,{"$f":"IF(TRIM(AI398)=\"\", \"\", IF(VLOOKUP(AI398,'Footnotes list'!$B$5:$C$103,2,FALSE)=0,\"\",VLOOKUP(AI398,'Footnotes list'!$B$5:$C$103,2,FALSE) ) )","v":""}]
[null,null,null,null,"ME","MONTENEGRO",null,null,null,null,{"$f":"IF(TRIM(J399)=\"\", \"\", IF(VLOOKUP(J399,'Footnotes list'!$B$5:$C$103,2,FALSE)=0,\"\",VLOOKUP(J399,'Footnotes list'!$B$5:$C$103,2,FALSE) ) )","v":""},null,null,null,null,{"$f":"IF(TRIM(O399)=\"\", \"\", IF(VLOOKUP(O399,'Footnotes list'!$B$5:$C$103,2,FALSE)=0,\"\",VLOOKUP(O399,'Footnotes list'!$B$5:$C$103,2,FALSE) ) )","v":""},null,null,null,null,{"$f":"IF(TRIM(T399)=\"\", \"\", IF(VLOOKUP(T399,'Footnotes list'!$B$5:$C$103,2,FALSE)=0,\"\",VLOOKUP(T399,'Footnotes list'!$B$5:$C$103,2,FALSE) ) )","v":""},null,null,null,null,{"$f":"IF(TRIM(Y399)=\"\", \"\", IF(VLOOKUP(Y399,'Footnotes list'!$B$5:$C$103,2,FALSE)=0,\"\",VLOOKUP(Y399,'Footnotes list'!$B$5:$C$103,2,FALSE) ) )","v":""},null,null,null,null,{"$f":"IF(TRIM(AD399)=\"\", \"\", IF(VLOOKUP(AD399,'Footnotes list'!$B$5:$C$103,2,FALSE)=0,\"\",VLOOKUP(AD399,'Footnotes list'!$B$5:$C$103,2,FALSE) ) )","v":""},null,null,null,null,{"$f":"IF(TRIM(AI399)=\"\", \"\", IF(VLOOKUP(AI399,'Footnotes list'!$B$5:$C$103,2,FALSE)=0,\"\",VLOOKUP(AI399,'Footnotes list'!$B$5:$C$103,2,FALSE) ) )","v":""}]
[null,null,null,null,"MK","NORTH MACEDONIA",null,null,null,null,{"$f":"IF(TRIM(J400)=\"\", \"\", IF(VLOOKUP(J400,'Footnotes list'!$B$5:$C$103,2,FALSE)=0,\"\",VLOOKUP(J400,'Footnotes list'!$B$5:$C$103,2,FALSE) ) )","v":""},null,null,null,null,{"$f":"IF(TRIM(O400)=\"\", \"\", IF(VLOOKUP(O400,'Footnotes list'!$B$5:$C$103,2,FALSE)=0,\"\",VLOOKUP(O400,'Footnotes list'!$B$5:$C$103,2,FALSE) ) )","v":""},null,null,null,null,{"$f":"IF(TRIM(T400)=\"\", \"\", IF(VLOOKUP(T400,'Footnotes list'!$B$5:$C$103,2,FALSE)=0,\"\",VLOOKUP(T400,'Footnotes list'!$B$5:$C$103,2,FALSE) ) )","v":""},null,null,null,null,{"$f":"IF(TRIM(Y400)=\"\", \"\", IF(VLOOKUP(Y400,'Footnotes list'!$B$5:$C$103,2,FALSE)=0,\"\",VLOOKUP(Y400,'Footnotes list'!$B$5:$C$103,2,FALSE) ) )","v":""},null,null,null,null,{"$f":"IF(TRIM(AD400)=\"\", \"\", IF(VLOOKUP(AD400,'Footnotes list'!$B$5:$C$103,2,FALSE)=0,\"\",VLOOKUP(AD400,'Footnotes list'!$B$5:$C$103,2,FALSE) ) )","v":""},null,null,null,null,{"$f":"IF(TRIM(AI400)=\"\", \"\", IF(VLOOKUP(AI400,'Footnotes list'!$B$5:$C$103,2,FALSE)=0,\"\",VLOOKUP(AI400,'Footnotes list'!$B$5:$C$103,2,FALSE) ) )","v":""}]
[null,null,null,null,"AL","ALBANIA",null,null,null,null,{"$f":"IF(TRIM(J401)=\"\", \"\", IF(VLOOKUP(J401,'Footnotes list'!$B$5:$C$103,2,FALSE)=0,\"\",VLOOKUP(J401,'Footnotes list'!$B$5:$C$103,2,FALSE) ) )","v":""},null,null,null,null,{"$f":"IF(TRIM(O401)=\"\", \"\", IF(VLOOKUP(O401,'Footnotes list'!$B$5:$C$103,2,FALSE)=0,\"\",VLOOKUP(O401,'Footnotes list'!$B$5:$C$103,2,FALSE) ) )","v":""},null,null,null,null,{"$f":"IF(TRIM(T401)=\"\", \"\", IF(VLOOKUP(T401,'Footnotes list'!$B$5:$C$103,2,FALSE)=0,\"\",VLOOKUP(T401,'Footnotes list'!$B$5:$C$103,2,FALSE) ) )","v":""},null,null,null,null,{"$f":"IF(TRIM(Y401)=\"\", \"\", IF(VLOOKUP(Y401,'Footnotes list'!$B$5:$C$103,2,FALSE)=0,\"\",VLOOKUP(Y401,'Footnotes list'!$B$5:$C$103,2,FALSE) ) )","v":""},null,null,null,null,{"$f":"IF(TRIM(AD401)=\"\", \"\", IF(VLOOKUP(AD401,'Footnotes list'!$B$5:$C$103,2,FALSE)=0,\"\",VLOOKUP(AD401,'Footnotes list'!$B$5:$C$103,2,FALSE) ) )","v":""},null,null,null,null,{"$f":"IF(TRIM(AI401)=\"\", \"\", IF(VLOOKUP(AI401,'Footnotes list'!$B$5:$C$103,2,FALSE)=0,\"\",VLOOKUP(AI401,'Footnotes list'!$B$5:$C$103,2,FALSE) ) )","v":""}]
[null,null,null,null,"RS","SERBIA",null,null,null,null,{"$f":"IF(TRIM(J402)=\"\", \"\", IF(VLOOKUP(J402,'Footnotes list'!$B$5:$C$103,2,FALSE)=0,\"\",VLOOKUP(J402,'Footnotes list'!$B$5:$C$103,2,FALSE) ) )","v":""},null,null,null,null,{"$f":"IF(TRIM(O402)=\"\", \"\", IF(VLOOKUP(O402,'Footnotes list'!$B$5:$C$103,2,FALSE)=0,\"\",VLOOKUP(O402,'Footnotes list'!$B$5:$C$103,2,FALSE) ) )","v":""},null,null,null,null,{"$f":"IF(TRIM(T402)=\"\", \"\", IF(VLOOKUP(T402,'Footnotes list'!$B$5:$C$103,2,FALSE)=0,\"\",VLOOKUP(T402,'Footnotes list'!$B$5:$C$103,2,FALSE) ) )","v":""},null,null,null,null,{"$f":"IF(TRIM(Y402)=\"\", \"\", IF(VLOOKUP(Y402,'Footnotes list'!$B$5:$C$103,2,FALSE)=0,\"\",VLOOKUP(Y402,'Footnotes list'!$B$5:$C$103,2,FALSE) ) )","v":""},null,null,null,null,{"$f":"IF(TRIM(AD402)=\"\", \"\", IF(VLOOKUP(AD402,'Footnotes list'!$B$5:$C$103,2,FALSE)=0,\"\",VLOOKUP(AD402,'Footnotes list'!$B$5:$C$103,2,FALSE) ) )","v":""},null,null,null,null,{"$f":"IF(TRIM(AI402)=\"\", \"\", IF(VLOOKUP(AI402,'Footnotes list'!$B$5:$C$103,2,FALSE)=0,\"\",VLOOKUP(AI402,'Footnotes list'!$B$5:$C$103,2,FALSE) ) )","v":""}]
[null,null,null,null,"RS1","    SRBIJA - SEVER",null,null,null,null,{"$f":"IF(TRIM(J403)=\"\", \"\", IF(VLOOKUP(J403,'Footnotes list'!$B$5:$C$103,2,FALSE)=0,\"\",VLOOKUP(J403,'Footnotes list'!$B$5:$C$103,2,FALSE) ) )","v":""},null,null,null,null,{"$f":"IF(TRIM(O403)=\"\", \"\", IF(VLOOKUP(O403,'Footnotes list'!$B$5:$C$103,2,FALSE)=0,\"\",VLOOKUP(O403,'Footnotes list'!$B$5:$C$103,2,FALSE) ) )","v":""},null,null,null,null,{"$f":"IF(TRIM(T403)=\"\", \"\", IF(VLOOKUP(T403,'Footnotes list'!$B$5:$C$103,2,FALSE)=0,\"\",VLOOKUP(T403,'Footnotes list'!$B$5:$C$103,2,FALSE) ) )","v":""},null,null,null,null,{"$f":"IF(TRIM(Y403)=\"\", \"\", IF(VLOOKUP(Y403,'Footnotes list'!$B$5:$C$103,2,FALSE)=0,\"\",VLOOKUP(Y403,'Footnotes list'!$B$5:$C$103,2,FALSE) ) )","v":""},null,null,null,null,{"$f":"IF(TRIM(AD403)=\"\", \"\", IF(VLOOKUP(AD403,'Footnotes list'!$B$5:$C$103,2,FALSE)=0,\"\",VLOOKUP(AD403,'Footnotes list'!$B$5:$C$103,2,FALSE) ) )","v":""},null,null,null,null,{"$f":"IF(TRIM(AI403)=\"\", \"\", IF(VLOOKUP(AI403,'Footnotes list'!$B$5:$C$103,2,FALSE)=0,\"\",VLOOKUP(AI403,'Footnotes list'!$B$5:$C$103,2,FALSE) ) )","v":""}]
[null,null,null,null,"RS11","        Beogradski region",null,null,null,null,{"$f":"IF(TRIM(J404)=\"\", \"\", IF(VLOOKUP(J404,'Footnotes list'!$B$5:$C$103,2,FALSE)=0,\"\",VLOOKUP(J404,'Footnotes list'!$B$5:$C$103,2,FALSE) ) )","v":""},null,null,null,null,{"$f":"IF(TRIM(O404)=\"\", \"\", IF(VLOOKUP(O404,'Footnotes list'!$B$5:$C$103,2,FALSE)=0,\"\",VLOOKUP(O404,'Footnotes list'!$B$5:$C$103,2,FALSE) ) )","v":""},null,null,null,null,{"$f":"IF(TRIM(T404)=\"\", \"\", IF(VLOOKUP(T404,'Footnotes list'!$B$5:$C$103,2,FALSE)=0,\"\",VLOOKUP(T404,'Footnotes list'!$B$5:$C$103,2,FALSE) ) )","v":""},null,null,null,null,{"$f":"IF(TRIM(Y404)=\"\", \"\", IF(VLOOKUP(Y404,'Footnotes list'!$B$5:$C$103,2,FALSE)=0,\"\",VLOOKUP(Y404,'Footnotes list'!$B$5:$C$103,2,FALSE) ) )","v":""},null,null,null,null,{"$f":"IF(TRIM(AD404)=\"\", \"\", IF(VLOOKUP(AD404,'Footnotes list'!$B$5:$C$103,2,FALSE)=0,\"\",VLOOKUP(AD404,'Footnotes list'!$B$5:$C$103,2,FALSE) ) )","v":""},null,null,null,null,{"$f":"IF(TRIM(AI404)=\"\", \"\", IF(VLOOKUP(AI404,'Footnotes list'!$B$5:$C$103,2,FALSE)=0,\"\",VLOOKUP(AI404,'Footnotes list'!$B$5:$C$103,2,FALSE) ) )","v":""}]
[null,null,null,null,"RS12","        Region Vojvodine",null,null,null,null,{"$f":"IF(TRIM(J405)=\"\", \"\", IF(VLOOKUP(J405,'Footnotes list'!$B$5:$C$103,2,FALSE)=0,\"\",VLOOKUP(J405,'Footnotes list'!$B$5:$C$103,2,FALSE) ) )","v":""},null,null,null,null,{"$f":"IF(TRIM(O405)=\"\", \"\", IF(VLOOKUP(O405,'Footnotes list'!$B$5:$C$103,2,FALSE)=0,\"\",VLOOKUP(O405,'Footnotes list'!$B$5:$C$103,2,FALSE) ) )","v":""},null,null,null,null,{"$f":"IF(TRIM(T405)=\"\", \"\", IF(VLOOKUP(T405,'Footnotes list'!$B$5:$C$103,2,FALSE)=0,\"\",VLOOKUP(T405,'Footnotes list'!$B$5:$C$103,2,FALSE) ) )","v":""},null,null,null,null,{"$f":"IF(TRIM(Y405)=\"\", \"\", IF(VLOOKUP(Y405,'Footnotes list'!$B$5:$C$103,2,FALSE)=0,\"\",VLOOKUP(Y405,'Footnotes list'!$B$5:$C$103,2,FALSE) ) )","v":""},null,null,null,null,{"$f":"IF(TRIM(AD405)=\"\", \"\", IF(VLOOKUP(AD405,'Footnotes list'!$B$5:$C$103,2,FALSE)=0,\"\",VLOOKUP(AD405,'Footnotes list'!$B$5:$C$103,2,FALSE) ) )","v":""},null,null,null,null,{"$f":"IF(TRIM(AI405)=\"\", \"\", IF(VLOOKUP(AI405,'Footnotes list'!$B$5:$C$103,2,FALSE)=0,\"\",VLOOKUP(AI405,'Footnotes list'!$B$5:$C$103,2,FALSE) ) )","v":""}]
[null,null,null,null,"RS2","    SRBIJA - JUG",null,null,null,null,{"$f":"IF(TRIM(J406)=\"\", \"\", IF(VLOOKUP(J406,'Footnotes list'!$B$5:$C$103,2,FALSE)=0,\"\",VLOOKUP(J406,'Footnotes list'!$B$5:$C$103,2,FALSE) ) )","v":""},null,null,null,null,{"$f":"IF(TRIM(O406)=\"\", \"\", IF(VLOOKUP(O406,'Footnotes list'!$B$5:$C$103,2,FALSE)=0,\"\",VLOOKUP(O406,'Footnotes list'!$B$5:$C$103,2,FALSE) ) )","v":""},null,null,null,null,{"$f":"IF(TRIM(T406)=\"\", \"\", IF(VLOOKUP(T406,'Footnotes list'!$B$5:$C$103,2,FALSE)=0,\"\",VLOOKUP(T406,'Footnotes list'!$B$5:$C$103,2,FALSE) ) )","v":""},null,null,null,null,{"$f":"IF(TRIM(Y406)=\"\", \"\", IF(VLOOKUP(Y406,'Footnotes list'!$B$5:$C$103,2,FALSE)=0,\"\",VLOOKUP(Y406,'Footnotes list'!$B$5:$C$103,2,FALSE) ) )","v":""},null,null,null,null,{"$f":"IF(TRIM(AD406)=\"\", \"\", IF(VLOOKUP(AD406,'Footnotes list'!$B$5:$C$103,2,FALSE)=0,\"\",VLOOKUP(AD406,'Footnotes list'!$B$5:$C$103,2,FALSE) ) )","v":""},null,null,null,null,{"$f":"IF(TRIM(AI406)=\"\", \"\", IF(VLOOKUP(AI406,'Footnotes list'!$B$5:$C$103,2,FALSE)=0,\"\",VLOOKUP(AI406,'Footnotes list'!$B$5:$C$103,2,FALSE) ) )","v":""}]
[null,null,null,null,"RS21","        Region Šumadije i Zapadne Srbije",null,null,null,null,{"$f":"IF(TRIM(J407)=\"\", \"\", IF(VLOOKUP(J407,'Footnotes list'!$B$5:$C$103,2,FALSE)=0,\"\",VLOOKUP(J407,'Footnotes list'!$B$5:$C$103,2,FALSE) ) )","v":""},null,null,null,null,{"$f":"IF(TRIM(O407)=\"\", \"\", IF(VLOOKUP(O407,'Footnotes list'!$B$5:$C$103,2,FALSE)=0,\"\",VLOOKUP(O407,'Footnotes list'!$B$5:$C$103,2,FALSE) ) )","v":""},null,null,null,null,{"$f":"IF(TRIM(T407)=\"\", \"\", IF(VLOOKUP(T407,'Footnotes list'!$B$5:$C$103,2,FALSE)=0,\"\",VLOOKUP(T407,'Footnotes list'!$B$5:$C$103,2,FALSE) ) )","v":""},null,null,null,null,{"$f":"IF(TRIM(Y407)=\"\", \"\", IF(VLOOKUP(Y407,'Footnotes list'!$B$5:$C$103,2,FALSE)=0,\"\",VLOOKUP(Y407,'Footnotes list'!$B$5:$C$103,2,FALSE) ) )","v":""},null,null,null,null,{"$f":"IF(TRIM(AD407)=\"\", \"\", IF(VLOOKUP(AD407,'Footnotes list'!$B$5:$C$103,2,FALSE)=0,\"\",VLOOKUP(AD407,'Footnotes list'!$B$5:$C$103,2,FALSE) ) )","v":""},null,null,null,null,{"$f":"IF(TRIM(AI407)=\"\", \"\", IF(VLOOKUP(AI407,'Footnotes list'!$B$5:$C$103,2,FALSE)=0,\"\",VLOOKUP(AI407,'Footnotes list'!$B$5:$C$103,2,FALSE) ) )","v":""}]
[null,null,null,null,"RS22","        Region Južne i Istočne Srbije",null,null,null,null,{"$f":"IF(TRIM(J408)=\"\", \"\", IF(VLOOKUP(J408,'Footnotes list'!$B$5:$C$103,2,FALSE)=0,\"\",VLOOKUP(J408,'Footnotes list'!$B$5:$C$103,2,FALSE) ) )","v":""},null,null,null,null,{"$f":"IF(TRIM(O408)=\"\", \"\", IF(VLOOKUP(O408,'Footnotes list'!$B$5:$C$103,2,FALSE)=0,\"\",VLOOKUP(O408,'Footnotes list'!$B$5:$C$103,2,FALSE) ) )","v":""},null,null,null,null,{"$f":"IF(TRIM(T408)=\"\", \"\", IF(VLOOKUP(T408,'Footnotes list'!$B$5:$C$103,2,FALSE)=0,\"\",VLOOKUP(T408,'Footnotes list'!$B$5:$C$103,2,FALSE) ) )","v":""},null,null,null,null,{"$f":"IF(TRIM(Y408)=\"\", \"\", IF(VLOOKUP(Y408,'Footnotes list'!$B$5:$C$103,2,FALSE)=0,\"\",VLOOKUP(Y408,'Footnotes list'!$B$5:$C$103,2,FALSE) ) )","v":""},null,null,null,null,{"$f":"IF(TRIM(AD408)=\"\", \"\", IF(VLOOKUP(AD408,'Footnotes list'!$B$5:$C$103,2,FALSE)=0,\"\",VLOOKUP(AD408,'Footnotes list'!$B$5:$C$103,2,FALSE) ) )","v":""},null,null,null,null,{"$f":"IF(TRIM(AI408)=\"\", \"\", IF(VLOOKUP(AI408,'Footnotes list'!$B$5:$C$103,2,FALSE)=0,\"\",VLOOKUP(AI408,'Footnotes list'!$B$5:$C$103,2,FALSE) ) )","v":""}]
[null,null,null,null,"TR","TURKEY",null,null,null,null,{"$f":"IF(TRIM(J409)=\"\", \"\", IF(VLOOKUP(J409,'Footnotes list'!$B$5:$C$103,2,FALSE)=0,\"\",VLOOKUP(J409,'Footnotes list'!$B$5:$C$103,2,FALSE) ) )","v":""},null,null,null,null,{"$f":"IF(TRIM(O409)=\"\", \"\", IF(VLOOKUP(O409,'Footnotes list'!$B$5:$C$103,2,FALSE)=0,\"\",VLOOKUP(O409,'Footnotes list'!$B$5:$C$103,2,FALSE) ) )","v":""},null,null,null,null,{"$f":"IF(TRIM(T409)=\"\", \"\", IF(VLOOKUP(T409,'Footnotes list'!$B$5:$C$103,2,FALSE)=0,\"\",VLOOKUP(T409,'Footnotes list'!$B$5:$C$103,2,FALSE) ) )","v":""},null,null,null,null,{"$f":"IF(TRIM(Y409)=\"\", \"\", IF(VLOOKUP(Y409,'Footnotes list'!$B$5:$C$103,2,FALSE)=0,\"\",VLOOKUP(Y409,'Footnotes list'!$B$5:$C$103,2,FALSE) ) )","v":""},null,null,null,null,{"$f":"IF(TRIM(AD409)=\"\", \"\", IF(VLOOKUP(AD409,'Footnotes list'!$B$5:$C$103,2,FALSE)=0,\"\",VLOOKUP(AD409,'Footnotes list'!$B$5:$C$103,2,FALSE) ) )","v":""},null,null,null,null,{"$f":"IF(TRIM(AI409)=\"\", \"\", IF(VLOOKUP(AI409,'Footnotes list'!$B$5:$C$103,2,FALSE)=0,\"\",VLOOKUP(AI409,'Footnotes list'!$B$5:$C$103,2,FALSE) ) )","v":""}]
[null,null,null,null,"TR1","    ISTANBUL",null,null,null,null,{"$f":"IF(TRIM(J410)=\"\", \"\", IF(VLOOKUP(J410,'Footnotes list'!$B$5:$C$103,2,FALSE)=0,\"\",VLOOKUP(J410,'Footnotes list'!$B$5:$C$103,2,FALSE) ) )","v":""},null,null,null,null,{"$f":"IF(TRIM(O410)=\"\", \"\", IF(VLOOKUP(O410,'Footnotes list'!$B$5:$C$103,2,FALSE)=0,\"\",VLOOKUP(O410,'Footnotes list'!$B$5:$C$103,2,FALSE) ) )","v":""},null,null,null,null,{"$f":"IF(TRIM(T410)=\"\", \"\", IF(VLOOKUP(T410,'Footnotes list'!$B$5:$C$103,2,FALSE)=0,\"\",VLOOKUP(T410,'Footnotes list'!$B$5:$C$103,2,FALSE) ) )","v":""},null,null,null,null,{"$f":"IF(TRIM(Y410)=\"\", \"\", IF(VLOOKUP(Y410,'Footnotes list'!$B$5:$C$103,2,FALSE)=0,\"\",VLOOKUP(Y410,'Footnotes list'!$B$5:$C$103,2,FALSE) ) )","v":""},null,null,null,null,{"$f":"IF(TRIM(AD410)=\"\", \"\", IF(VLOOKUP(AD410,'Footnotes list'!$B$5:$C$103,2,FALSE)=0,\"\",VLOOKUP(AD410,'Footnotes list'!$B$5:$C$103,2,FALSE) ) )","v":""},null,null,null,null,{"$f":"IF(TRIM(AI410)=\"\", \"\", IF(VLOOKUP(AI410,'Footnotes list'!$B$5:$C$103,2,FALSE)=0,\"\",VLOOKUP(AI410,'Footnotes list'!$B$5:$C$103,2,FALSE) ) )","v":""}]
[null,null,null,null,"TR2","    BATI MARMARA",null,null,null,null,{"$f":"IF(TRIM(J411)=\"\", \"\", IF(VLOOKUP(J411,'Footnotes list'!$B$5:$C$103,2,FALSE)=0,\"\",VLOOKUP(J411,'Footnotes list'!$B$5:$C$103,2,FALSE) ) )","v":""},null,null,null,null,{"$f":"IF(TRIM(O411)=\"\", \"\", IF(VLOOKUP(O411,'Footnotes list'!$B$5:$C$103,2,FALSE)=0,\"\",VLOOKUP(O411,'Footnotes list'!$B$5:$C$103,2,FALSE) ) )","v":""},null,null,null,null,{"$f":"IF(TRIM(T411)=\"\", \"\", IF(VLOOKUP(T411,'Footnotes list'!$B$5:$C$103,2,FALSE)=0,\"\",VLOOKUP(T411,'Footnotes list'!$B$5:$C$103,2,FALSE) ) )","v":""},null,null,null,null,{"$f":"IF(TRIM(Y411)=\"\", \"\", IF(VLOOKUP(Y411,'Footnotes list'!$B$5:$C$103,2,FALSE)=0,\"\",VLOOKUP(Y411,'Footnotes list'!$B$5:$C$103,2,FALSE) ) )","v":""},null,null,null,null,{"$f":"IF(TRIM(AD411)=\"\", \"\", IF(VLOOKUP(AD411,'Footnotes list'!$B$5:$C$103,2,FALSE)=0,\"\",VLOOKUP(AD411,'Footnotes list'!$B$5:$C$103,2,FALSE) ) )","v":""},null,null,null,null,{"$f":"IF(TRIM(AI411)=\"\", \"\", IF(VLOOKUP(AI411,'Footnotes list'!$B$5:$C$103,2,FALSE)=0,\"\",VLOOKUP(AI411,'Footnotes list'!$B$5:$C$103,2,FALSE) ) )","v":""}]
[null,null,null,null,"TR21","        Tekirdag",null,null,null,null,{"$f":"IF(TRIM(J412)=\"\", \"\", IF(VLOOKUP(J412,'Footnotes list'!$B$5:$C$103,2,FALSE)=0,\"\",VLOOKUP(J412,'Footnotes list'!$B$5:$C$103,2,FALSE) ) )","v":""},null,null,null,null,{"$f":"IF(TRIM(O412)=\"\", \"\", IF(VLOOKUP(O412,'Footnotes list'!$B$5:$C$103,2,FALSE)=0,\"\",VLOOKUP(O412,'Footnotes list'!$B$5:$C$103,2,FALSE) ) )","v":""},null,null,null,null,{"$f":"IF(TRIM(T412)=\"\", \"\", IF(VLOOKUP(T412,'Footnotes list'!$B$5:$C$103,2,FALSE)=0,\"\",VLOOKUP(T412,'Footnotes list'!$B$5:$C$103,2,FALSE) ) )","v":""},null,null,null,null,{"$f":"IF(TRIM(Y412)=\"\", \"\", IF(VLOOKUP(Y412,'Footnotes list'!$B$5:$C$103,2,FALSE)=0,\"\",VLOOKUP(Y412,'Footnotes list'!$B$5:$C$103,2,FALSE) ) )","v":""},null,null,null,null,{"$f":"IF(TRIM(AD412)=\"\", \"\", IF(VLOOKUP(AD412,'Footnotes list'!$B$5:$C$103,2,FALSE)=0,\"\",VLOOKUP(AD412,'Footnotes list'!$B$5:$C$103,2,FALSE) ) )","v":""},null,null,null,null,{"$f":"IF(TRIM(AI412)=\"\", \"\", IF(VLOOKUP(AI412,'Footnotes list'!$B$5:$C$103,2,FALSE)=0,\"\",VLOOKUP(AI412,'Footnotes list'!$B$5:$C$103,2,FALSE) ) )","v":""}]
[null,null,null,null,"TR22","        Balikesir",null,null,null,null,{"$f":"IF(TRIM(J413)=\"\", \"\", IF(VLOOKUP(J413,'Footnotes list'!$B$5:$C$103,2,FALSE)=0,\"\",VLOOKUP(J413,'Footnotes list'!$B$5:$C$103,2,FALSE) ) )","v":""},null,null,null,null,{"$f":"IF(TRIM(O413)=\"\", \"\", IF(VLOOKUP(O413,'Footnotes list'!$B$5:$C$103,2,FALSE)=0,\"\",VLOOKUP(O413,'Footnotes list'!$B$5:$C$103,2,FALSE) ) )","v":""},null,null,null,null,{"$f":"IF(TRIM(T413)=\"\", \"\", IF(VLOOKUP(T413,'Footnotes list'!$B$5:$C$103,2,FALSE)=0,\"\",VLOOKUP(T413,'Footnotes list'!$B$5:$C$103,2,FALSE) ) )","v":""},null,null,null,null,{"$f":"IF(TRIM(Y413)=\"\", \"\", IF(VLOOKUP(Y413,'Footnotes list'!$B$5:$C$103,2,FALSE)=0,\"\",VLOOKUP(Y413,'Footnotes list'!$B$5:$C$103,2,FALSE) ) )","v":""},null,null,null,null,{"$f":"IF(TRIM(AD413)=\"\", \"\", IF(VLOOKUP(AD413,'Footnotes list'!$B$5:$C$103,2,FALSE)=0,\"\",VLOOKUP(AD413,'Footnotes list'!$B$5:$C$103,2,FALSE) ) )","v":""},null,null,null,null,{"$f":"IF(TRIM(AI413)=\"\", \"\", IF(VLOOKUP(AI413,'Footnotes list'!$B$5:$C$103,2,FALSE)=0,\"\",VLOOKUP(AI413,'Footnotes list'!$B$5:$C$103,2,FALSE) ) )","v":""}]
[null,null,null,null,"TR3","    EGE",null,null,null,null,{"$f":"IF(TRIM(J414)=\"\", \"\", IF(VLOOKUP(J414,'Footnotes list'!$B$5:$C$103,2,FALSE)=0,\"\",VLOOKUP(J414,'Footnotes list'!$B$5:$C$103,2,FALSE) ) )","v":""},null,null,null,null,{"$f":"IF(TRIM(O414)=\"\", \"\", IF(VLOOKUP(O414,'Footnotes list'!$B$5:$C$103,2,FALSE)=0,\"\",VLOOKUP(O414,'Footnotes list'!$B$5:$C$103,2,FALSE) ) )","v":""},null,null,null,null,{"$f":"IF(TRIM(T414)=\"\", \"\", IF(VLOOKUP(T414,'Footnotes list'!$B$5:$C$103,2,FALSE)=0,\"\",VLOOKUP(T414,'Footnotes list'!$B$5:$C$103,2,FALSE) ) )","v":""},null,null,null,null,{"$f":"IF(TRIM(Y414)=\"\", \"\", IF(VLOOKUP(Y414,'Footnotes list'!$B$5:$C$103,2,FALSE)=0,\"\",VLOOKUP(Y414,'Footnotes list'!$B$5:$C$103,2,FALSE) ) )","v":""},null,null,null,null,{"$f":"IF(TRIM(AD414)=\"\", \"\", IF(VLOOKUP(AD414,'Footnotes list'!$B$5:$C$103,2,FALSE)=0,\"\",VLOOKUP(AD414,'Footnotes list'!$B$5:$C$103,2,FALSE) ) )","v":""},null,null,null,null,{"$f":"IF(TRIM(AI414)=\"\", \"\", IF(VLOOKUP(AI414,'Footnotes list'!$B$5:$C$103,2,FALSE)=0,\"\",VLOOKUP(AI414,'Footnotes list'!$B$5:$C$103,2,FALSE) ) )","v":""}]
[null,null,null,null,"TR31","        Izmir",null,null,null,null,{"$f":"IF(TRIM(J415)=\"\", \"\", IF(VLOOKUP(J415,'Footnotes list'!$B$5:$C$103,2,FALSE)=0,\"\",VLOOKUP(J415,'Footnotes list'!$B$5:$C$103,2,FALSE) ) )","v":""},null,null,null,null,{"$f":"IF(TRIM(O415)=\"\", \"\", IF(VLOOKUP(O415,'Footnotes list'!$B$5:$C$103,2,FALSE)=0,\"\",VLOOKUP(O415,'Footnotes list'!$B$5:$C$103,2,FALSE) ) )","v":""},null,null,null,null,{"$f":"IF(TRIM(T415)=\"\", \"\", IF(VLOOKUP(T415,'Footnotes list'!$B$5:$C$103,2,FALSE)=0,\"\",VLOOKUP(T415,'Footnotes list'!$B$5:$C$103,2,FALSE) ) )","v":""},null,null,null,null,{"$f":"IF(TRIM(Y415)=\"\", \"\", IF(VLOOKUP(Y415,'Footnotes list'!$B$5:$C$103,2,FALSE)=0,\"\",VLOOKUP(Y415,'Footnotes list'!$B$5:$C$103,2,FALSE) ) )","v":""},null,null,null,null,{"$f":"IF(TRIM(AD415)=\"\", \"\", IF(VLOOKUP(AD415,'Footnotes list'!$B$5:$C$103,2,FALSE)=0,\"\",VLOOKUP(AD415,'Footnotes list'!$B$5:$C$103,2,FALSE) ) )","v":""},null,null,null,null,{"$f":"IF(TRIM(AI415)=\"\", \"\", IF(VLOOKUP(AI415,'Footnotes list'!$B$5:$C$103,2,FALSE)=0,\"\",VLOOKUP(AI415,'Footnotes list'!$B$5:$C$103,2,FALSE) ) )","v":""}]
[null,null,null,null,"TR32","        Aydin",null,null,null,null,{"$f":"IF(TRIM(J416)=\"\", \"\", IF(VLOOKUP(J416,'Footnotes list'!$B$5:$C$103,2,FALSE)=0,\"\",VLOOKUP(J416,'Footnotes list'!$B$5:$C$103,2,FALSE) ) )","v":""},null,null,null,null,{"$f":"IF(TRIM(O416)=\"\", \"\", IF(VLOOKUP(O416,'Footnotes list'!$B$5:$C$103,2,FALSE)=0,\"\",VLOOKUP(O416,'Footnotes list'!$B$5:$C$103,2,FALSE) ) )","v":""},null,null,null,null,{"$f":"IF(TRIM(T416)=\"\", \"\", IF(VLOOKUP(T416,'Footnotes list'!$B$5:$C$103,2,FALSE)=0,\"\",VLOOKUP(T416,'Footnotes list'!$B$5:$C$103,2,FALSE) ) )","v":""},null,null,null,null,{"$f":"IF(TRIM(Y416)=\"\", \"\", IF(VLOOKUP(Y416,'Footnotes list'!$B$5:$C$103,2,FALSE)=0,\"\",VLOOKUP(Y416,'Footnotes list'!$B$5:$C$103,2,FALSE) ) )","v":""},null,null,null,null,{"$f":"IF(TRIM(AD416)=\"\", \"\", IF(VLOOKUP(AD416,'Footnotes list'!$B$5:$C$103,2,FALSE)=0,\"\",VLOOKUP(AD416,'Footnotes list'!$B$5:$C$103,2,FALSE) ) )","v":""},null,null,null,null,{"$f":"IF(TRIM(AI416)=\"\", \"\", IF(VLOOKUP(AI416,'Footnotes list'!$B$5:$C$103,2,FALSE)=0,\"\",VLOOKUP(AI416,'Footnotes list'!$B$5:$C$103,2,FALSE) ) )","v":""}]
[null,null,null,null,"TR33","        Manisa",null,null,null,null,{"$f":"IF(TRIM(J417)=\"\", \"\", IF(VLOOKUP(J417,'Footnotes list'!$B$5:$C$103,2,FALSE)=0,\"\",VLOOKUP(J417,'Footnotes list'!$B$5:$C$103,2,FALSE) ) )","v":""},null,null,null,null,{"$f":"IF(TRIM(O417)=\"\", \"\", IF(VLOOKUP(O417,'Footnotes list'!$B$5:$C$103,2,FALSE)=0,\"\",VLOOKUP(O417,'Footnotes list'!$B$5:$C$103,2,FALSE) ) )","v":""},null,null,null,null,{"$f":"IF(TRIM(T417)=\"\", \"\", IF(VLOOKUP(T417,'Footnotes list'!$B$5:$C$103,2,FALSE)=0,\"\",VLOOKUP(T417,'Footnotes list'!$B$5:$C$103,2,FALSE) ) )","v":""},null,null,null,null,{"$f":"IF(TRIM(Y417)=\"\", \"\", IF(VLOOKUP(Y417,'Footnotes list'!$B$5:$C$103,2,FALSE)=0,\"\",VLOOKUP(Y417,'Footnotes list'!$B$5:$C$103,2,FALSE) ) )","v":""},null,null,null,null,{"$f":"IF(TRIM(AD417)=\"\", \"\", IF(VLOOKUP(AD417,'Footnotes list'!$B$5:$C$103,2,FALSE)=0,\"\",VLOOKUP(AD417,'Footnotes list'!$B$5:$C$103,2,FALSE) ) )","v":""},null,null,null,null,{"$f":"IF(TRIM(AI417)=\"\", \"\", IF(VLOOKUP(AI417,'Footnotes list'!$B$5:$C$103,2,FALSE)=0,\"\",VLOOKUP(AI417,'Footnotes list'!$B$5:$C$103,2,FALSE) ) )","v":""}]
[null,null,null,null,"TR4","    DOGU MARMARA",null,null,null,null,{"$f":"IF(TRIM(J418)=\"\", \"\", IF(VLOOKUP(J418,'Footnotes list'!$B$5:$C$103,2,FALSE)=0,\"\",VLOOKUP(J418,'Footnotes list'!$B$5:$C$103,2,FALSE) ) )","v":""},null,null,null,null,{"$f":"IF(TRIM(O418)=\"\", \"\", IF(VLOOKUP(O418,'Footnotes list'!$B$5:$C$103,2,FALSE)=0,\"\",VLOOKUP(O418,'Footnotes list'!$B$5:$C$103,2,FALSE) ) )","v":""},null,null,null,null,{"$f":"IF(TRIM(T418)=\"\", \"\", IF(VLOOKUP(T418,'Footnotes list'!$B$5:$C$103,2,FALSE)=0,\"\",VLOOKUP(T418,'Footnotes list'!$B$5:$C$103,2,FALSE) ) )","v":""},null,null,null,null,{"$f":"IF(TRIM(Y418)=\"\", \"\", IF(VLOOKUP(Y418,'Footnotes list'!$B$5:$C$103,2,FALSE)=0,\"\",VLOOKUP(Y418,'Footnotes list'!$B$5:$C$103,2,FALSE) ) )","v":""},null,null,null,null,{"$f":"IF(TRIM(AD418)=\"\", \"\", IF(VLOOKUP(AD418,'Footnotes list'!$B$5:$C$103,2,FALSE)=0,\"\",VLOOKUP(AD418,'Footnotes list'!$B$5:$C$103,2,FALSE) ) )","v":""},null,null,null,null,{"$f":"IF(TRIM(AI418)=\"\", \"\", IF(VLOOKUP(AI418,'Footnotes list'!$B$5:$C$103,2,FALSE)=0,\"\",VLOOKUP(AI418,'Footnotes list'!$B$5:$C$103,2,FALSE) ) )","v":""}]
[null,null,null,null,"TR41","        Bursa",null,null,null,null,{"$f":"IF(TRIM(J419)=\"\", \"\", IF(VLOOKUP(J419,'Footnotes list'!$B$5:$C$103,2,FALSE)=0,\"\",VLOOKUP(J419,'Footnotes list'!$B$5:$C$103,2,FALSE) ) )","v":""},null,null,null,null,{"$f":"IF(TRIM(O419)=\"\", \"\", IF(VLOOKUP(O419,'Footnotes list'!$B$5:$C$103,2,FALSE)=0,\"\",VLOOKUP(O419,'Footnotes list'!$B$5:$C$103,2,FALSE) ) )","v":""},null,null,null,null,{"$f":"IF(TRIM(T419)=\"\", \"\", IF(VLOOKUP(T419,'Footnotes list'!$B$5:$C$103,2,FALSE)=0,\"\",VLOOKUP(T419,'Footnotes list'!$B$5:$C$103,2,FALSE) ) )","v":""},null,null,null,null,{"$f":"IF(TRIM(Y419)=\"\", \"\", IF(VLOOKUP(Y419,'Footnotes list'!$B$5:$C$103,2,FALSE)=0,\"\",VLOOKUP(Y419,'Footnotes list'!$B$5:$C$103,2,FALSE) ) )","v":""},null,null,null,null,{"$f":"IF(TRIM(AD419)=\"\", \"\", IF(VLOOKUP(AD419,'Footnotes list'!$B$5:$C$103,2,FALSE)=0,\"\",VLOOKUP(AD419,'Footnotes list'!$B$5:$C$103,2,FALSE) ) )","v":""},null,null,null,null,{"$f":"IF(TRIM(AI419)=\"\", \"\", IF(VLOOKUP(AI419,'Footnotes list'!$B$5:$C$103,2,FALSE)=0,\"\",VLOOKUP(AI419,'Footnotes list'!$B$5:$C$103,2,FALSE) ) )","v":""}]
[null,null,null,null,"TR42","        Kocaeli",null,null,null,null,{"$f":"IF(TRIM(J420)=\"\", \"\", IF(VLOOKUP(J420,'Footnotes list'!$B$5:$C$103,2,FALSE)=0,\"\",VLOOKUP(J420,'Footnotes list'!$B$5:$C$103,2,FALSE) ) )","v":""},null,null,null,null,{"$f":"IF(TRIM(O420)=\"\", \"\", IF(VLOOKUP(O420,'Footnotes list'!$B$5:$C$103,2,FALSE)=0,\"\",VLOOKUP(O420,'Footnotes list'!$B$5:$C$103,2,FALSE) ) )","v":""},null,null,null,null,{"$f":"IF(TRIM(T420)=\"\", \"\", IF(VLOOKUP(T420,'Footnotes list'!$B$5:$C$103,2,FALSE)=0,\"\",VLOOKUP(T420,'Footnotes list'!$B$5:$C$103,2,FALSE) ) )","v":""},null,null,null,null,{"$f":"IF(TRIM(Y420)=\"\", \"\", IF(VLOOKUP(Y420,'Footnotes list'!$B$5:$C$103,2,FALSE)=0,\"\",VLOOKUP(Y420,'Footnotes list'!$B$5:$C$103,2,FALSE) ) )","v":""},null,null,null,null,{"$f":"IF(TRIM(AD420)=\"\", \"\", IF(VLOOKUP(AD420,'Footnotes list'!$B$5:$C$103,2,FALSE)=0,\"\",VLOOKUP(AD420,'Footnotes list'!$B$5:$C$103,2,FALSE) ) )","v":""},null,null,null,null,{"$f":"IF(TRIM(AI420)=\"\", \"\", IF(VLOOKUP(AI420,'Footnotes list'!$B$5:$C$103,2,FALSE)=0,\"\",VLOOKUP(AI420,'Footnotes list'!$B$5:$C$103,2,FALSE) ) )","v":""}]
[null,null,null,null,"TR5","    BATI ANADOLU",null,null,null,null,{"$f":"IF(TRIM(J421)=\"\", \"\", IF(VLOOKUP(J421,'Footnotes list'!$B$5:$C$103,2,FALSE)=0,\"\",VLOOKUP(J421,'Footnotes list'!$B$5:$C$103,2,FALSE) ) )","v":""},null,null,null,null,{"$f":"IF(TRIM(O421)=\"\", \"\", IF(VLOOKUP(O421,'Footnotes list'!$B$5:$C$103,2,FALSE)=0,\"\",VLOOKUP(O421,'Footnotes list'!$B$5:$C$103,2,FALSE) ) )","v":""},null,null,null,null,{"$f":"IF(TRIM(T421)=\"\", \"\", IF(VLOOKUP(T421,'Footnotes list'!$B$5:$C$103,2,FALSE)=0,\"\",VLOOKUP(T421,'Footnotes list'!$B$5:$C$103,2,FALSE) ) )","v":""},null,null,null,null,{"$f":"IF(TRIM(Y421)=\"\", \"\", IF(VLOOKUP(Y421,'Footnotes list'!$B$5:$C$103,2,FALSE)=0,\"\",VLOOKUP(Y421,'Footnotes list'!$B$5:$C$103,2,FALSE) ) )","v":""},null,null,null,null,{"$f":"IF(TRIM(AD421)=\"\", \"\", IF(VLOOKUP(AD421,'Footnotes list'!$B$5:$C$103,2,FALSE)=0,\"\",VLOOKUP(AD421,'Footnotes list'!$B$5:$C$103,2,FALSE) ) )","v":""},null,null,null,null,{"$f":"IF(TRIM(AI421)=\"\", \"\", IF(VLOOKUP(AI421,'Footnotes list'!$B$5:$C$103,2,FALSE)=0,\"\",VLOOKUP(AI421,'Footnotes list'!$B$5:$C$103,2,FALSE) ) )","v":""}]
[null,null,null,null,"TR51","        Ankara",null,null,null,null,{"$f":"IF(TRIM(J422)=\"\", \"\", IF(VLOOKUP(J422,'Footnotes list'!$B$5:$C$103,2,FALSE)=0,\"\",VLOOKUP(J422,'Footnotes list'!$B$5:$C$103,2,FALSE) ) )","v":""},null,null,null,null,{"$f":"IF(TRIM(O422)=\"\", \"\", IF(VLOOKUP(O422,'Footnotes list'!$B$5:$C$103,2,FALSE)=0,\"\",VLOOKUP(O422,'Footnotes list'!$B$5:$C$103,2,FALSE) ) )","v":""},null,null,null,null,{"$f":"IF(TRIM(T422)=\"\", \"\", IF(VLOOKUP(T422,'Footnotes list'!$B$5:$C$103,2,FALSE)=0,\"\",VLOOKUP(T422,'Footnotes list'!$B$5:$C$103,2,FALSE) ) )","v":""},null,null,null,null,{"$f":"IF(TRIM(Y422)=\"\", \"\", IF(VLOOKUP(Y422,'Footnotes list'!$B$5:$C$103,2,FALSE)=0,\"\",VLOOKUP(Y422,'Footnotes list'!$B$5:$C$103,2,FALSE) ) )","v":""},null,null,null,null,{"$f":"IF(TRIM(AD422)=\"\", \"\", IF(VLOOKUP(AD422,'Footnotes list'!$B$5:$C$103,2,FALSE)=0,\"\",VLOOKUP(AD422,'Footnotes list'!$B$5:$C$103,2,FALSE) ) )","v":""},null,null,null,null,{"$f":"IF(TRIM(AI422)=\"\", \"\", IF(VLOOKUP(AI422,'Footnotes list'!$B$5:$C$103,2,FALSE)=0,\"\",VLOOKUP(AI422,'Footnotes list'!$B$5:$C$103,2,FALSE) ) )","v":""}]
[null,null,null,null,"TR52","        Konya",null,null,null,null,{"$f":"IF(TRIM(J423)=\"\", \"\", IF(VLOOKUP(J423,'Footnotes list'!$B$5:$C$103,2,FALSE)=0,\"\",VLOOKUP(J423,'Footnotes list'!$B$5:$C$103,2,FALSE) ) )","v":""},null,null,null,null,{"$f":"IF(TRIM(O423)=\"\", \"\", IF(VLOOKUP(O423,'Footnotes list'!$B$5:$C$103,2,FALSE)=0,\"\",VLOOKUP(O423,'Footnotes list'!$B$5:$C$103,2,FALSE) ) )","v":""},null,null,null,null,{"$f":"IF(TRIM(T423)=\"\", \"\", IF(VLOOKUP(T423,'Footnotes list'!$B$5:$C$103,2,FALSE)=0,\"\",VLOOKUP(T423,'Footnotes list'!$B$5:$C$103,2,FALSE) ) )","v":""},null,null,null,null,{"$f":"IF(TRIM(Y423)=\"\", \"\", IF(VLOOKUP(Y423,'Footnotes list'!$B$5:$C$103,2,FALSE)=0,\"\",VLOOKUP(Y423,'Footnotes list'!$B$5:$C$103,2,FALSE) ) )","v":""},null,null,null,null,{"$f":"IF(TRIM(AD423)=\"\", \"\", IF(VLOOKUP(AD423,'Footnotes list'!$B$5:$C$103,2,FALSE)=0,\"\",VLOOKUP(AD423,'Footnotes list'!$B$5:$C$103,2,FALSE) ) )","v":""},null,null,null,null,{"$f":"IF(TRIM(AI423)=\"\", \"\", IF(VLOOKUP(AI423,'Footnotes list'!$B$5:$C$103,2,FALSE)=0,\"\",VLOOKUP(AI423,'Footnotes list'!$B$5:$C$103,2,FALSE) ) )","v":""}]
[null,null,null,null,"TR6","    AKDENIZ",null,null,null,null,{"$f":"IF(TRIM(J424)=\"\", \"\", IF(VLOOKUP(J424,'Footnotes list'!$B$5:$C$103,2,FALSE)=0,\"\",VLOOKUP(J424,'Footnotes list'!$B$5:$C$103,2,FALSE) ) )","v":""},null,null,null,null,{"$f":"IF(TRIM(O424)=\"\", \"\", IF(VLOOKUP(O424,'Footnotes list'!$B$5:$C$103,2,FALSE)=0,\"\",VLOOKUP(O424,'Footnotes list'!$B$5:$C$103,2,FALSE) ) )","v":""},null,null,null,null,{"$f":"IF(TRIM(T424)=\"\", \"\", IF(VLOOKUP(T424,'Footnotes list'!$B$5:$C$103,2,FALSE)=0,\"\",VLOOKUP(T424,'Footnotes list'!$B$5:$C$103,2,FALSE) ) )","v":""},null,null,null,null,{"$f":"IF(TRIM(Y424)=\"\", \"\", IF(VLOOKUP(Y424,'Footnotes list'!$B$5:$C$103,2,FALSE)=0,\"\",VLOOKUP(Y424,'Footnotes list'!$B$5:$C$103,2,FALSE) ) )","v":""},null,null,null,null,{"$f":"IF(TRIM(AD424)=\"\", \"\", IF(VLOOKUP(AD424,'Footnotes list'!$B$5:$C$103,2,FALSE)=0,\"\",VLOOKUP(AD424,'Footnotes list'!$B$5:$C$103,2,FALSE) ) )","v":""},null,null,null,null,{"$f":"IF(TRIM(AI424)=\"\", \"\", IF(VLOOKUP(AI424,'Footnotes list'!$B$5:$C$103,2,FALSE)=0,\"\",VLOOKUP(AI424,'Footnotes list'!$B$5:$C$103,2,FALSE) ) )","v":""}]
[null,null,null,null,"TR61","        Antalya",null,null,null,null,{"$f":"IF(TRIM(J425)=\"\", \"\", IF(VLOOKUP(J425,'Footnotes list'!$B$5:$C$103,2,FALSE)=0,\"\",VLOOKUP(J425,'Footnotes list'!$B$5:$C$103,2,FALSE) ) )","v":""},null,null,null,null,{"$f":"IF(TRIM(O425)=\"\", \"\", IF(VLOOKUP(O425,'Footnotes list'!$B$5:$C$103,2,FALSE)=0,\"\",VLOOKUP(O425,'Footnotes list'!$B$5:$C$103,2,FALSE) ) )","v":""},null,null,null,null,{"$f":"IF(TRIM(T425)=\"\", \"\", IF(VLOOKUP(T425,'Footnotes list'!$B$5:$C$103,2,FALSE)=0,\"\",VLOOKUP(T425,'Footnotes list'!$B$5:$C$103,2,FALSE) ) )","v":""},null,null,null,null,{"$f":"IF(TRIM(Y425)=\"\", \"\", IF(VLOOKUP(Y425,'Footnotes list'!$B$5:$C$103,2,FALSE)=0,\"\",VLOOKUP(Y425,'Footnotes list'!$B$5:$C$103,2,FALSE) ) )","v":""},null,null,null,null,{"$f":"IF(TRIM(AD425)=\"\", \"\", IF(VLOOKUP(AD425,'Footnotes list'!$B$5:$C$103,2,FALSE)=0,\"\",VLOOKUP(AD425,'Footnotes list'!$B$5:$C$103,2,FALSE) ) )","v":""},null,null,null,null,{"$f":"IF(TRIM(AI425)=\"\", \"\", IF(VLOOKUP(AI425,'Footnotes list'!$B$5:$C$103,2,FALSE)=0,\"\",VLOOKUP(AI425,'Footnotes list'!$B$5:$C$103,2,FALSE) ) )","v":""}]
[null,null,null,null,"TR62","        Adana",null,null,null,null,{"$f":"IF(TRIM(J426)=\"\", \"\", IF(VLOOKUP(J426,'Footnotes list'!$B$5:$C$103,2,FALSE)=0,\"\",VLOOKUP(J426,'Footnotes list'!$B$5:$C$103,2,FALSE) ) )","v":""},null,null,null,null,{"$f":"IF(TRIM(O426)=\"\", \"\", IF(VLOOKUP(O426,'Footnotes list'!$B$5:$C$103,2,FALSE)=0,\"\",VLOOKUP(O426,'Footnotes list'!$B$5:$C$103,2,FALSE) ) )","v":""},null,null,null,null,{"$f":"IF(TRIM(T426)=\"\", \"\", IF(VLOOKUP(T426,'Footnotes list'!$B$5:$C$103,2,FALSE)=0,\"\",VLOOKUP(T426,'Footnotes list'!$B$5:$C$103,2,FALSE) ) )","v":""},null,null,null,null,{"$f":"IF(TRIM(Y426)=\"\", \"\", IF(VLOOKUP(Y426,'Footnotes list'!$B$5:$C$103,2,FALSE)=0,\"\",VLOOKUP(Y426,'Footnotes list'!$B$5:$C$103,2,FALSE) ) )","v":""},null,null,null,null,{"$f":"IF(TRIM(AD426)=\"\", \"\", IF(VLOOKUP(AD426,'Footnotes list'!$B$5:$C$103,2,FALSE)=0,\"\",VLOOKUP(AD426,'Footnotes list'!$B$5:$C$103,2,FALSE) ) )","v":""},null,null,null,null,{"$f":"IF(TRIM(AI426)=\"\", \"\", IF(VLOOKUP(AI426,'Footnotes list'!$B$5:$C$103,2,FALSE)=0,\"\",VLOOKUP(AI426,'Footnotes list'!$B$5:$C$103,2,FALSE) ) )","v":""}]
[null,null,null,null,"TR63","        Hatay",null,null,null,null,{"$f":"IF(TRIM(J427)=\"\", \"\", IF(VLOOKUP(J427,'Footnotes list'!$B$5:$C$103,2,FALSE)=0,\"\",VLOOKUP(J427,'Footnotes list'!$B$5:$C$103,2,FALSE) ) )","v":""},null,null,null,null,{"$f":"IF(TRIM(O427)=\"\", \"\", IF(VLOOKUP(O427,'Footnotes list'!$B$5:$C$103,2,FALSE)=0,\"\",VLOOKUP(O427,'Footnotes list'!$B$5:$C$103,2,FALSE) ) )","v":""},null,null,null,null,{"$f":"IF(TRIM(T427)=\"\", \"\", IF(VLOOKUP(T427,'Footnotes list'!$B$5:$C$103,2,FALSE)=0,\"\",VLOOKUP(T427,'Footnotes list'!$B$5:$C$103,2,FALSE) ) )","v":""},null,null,null,null,{"$f":"IF(TRIM(Y427)=\"\", \"\", IF(VLOOKUP(Y427,'Footnotes list'!$B$5:$C$103,2,FALSE)=0,\"\",VLOOKUP(Y427,'Footnotes list'!$B$5:$C$103,2,FALSE) ) )","v":""},null,null,null,null,{"$f":"IF(TRIM(AD427)=\"\", \"\", IF(VLOOKUP(AD427,'Footnotes list'!$B$5:$C$103,2,FALSE)=0,\"\",VLOOKUP(AD427,'Footnotes list'!$B$5:$C$103,2,FALSE) ) )","v":""},null,null,null,null,{"$f":"IF(TRIM(AI427)=\"\", \"\", IF(VLOOKUP(AI427,'Footnotes list'!$B$5:$C$103,2,FALSE)=0,\"\",VLOOKUP(AI427,'Footnotes list'!$B$5:$C$103,2,FALSE) ) )","v":""}]
[null,null,null,null,"TR7","    ORTA ANADOLU",null,null,null,null,{"$f":"IF(TRIM(J428)=\"\", \"\", IF(VLOOKUP(J428,'Footnotes list'!$B$5:$C$103,2,FALSE)=0,\"\",VLOOKUP(J428,'Footnotes list'!$B$5:$C$103,2,FALSE) ) )","v":""},null,null,null,null,{"$f":"IF(TRIM(O428)=\"\", \"\", IF(VLOOKUP(O428,'Footnotes list'!$B$5:$C$103,2,FALSE)=0,\"\",VLOOKUP(O428,'Footnotes list'!$B$5:$C$103,2,FALSE) ) )","v":""},null,null,null,null,{"$f":"IF(TRIM(T428)=\"\", \"\", IF(VLOOKUP(T428,'Footnotes list'!$B$5:$C$103,2,FALSE)=0,\"\",VLOOKUP(T428,'Footnotes list'!$B$5:$C$103,2,FALSE) ) )","v":""},null,null,null,null,{"$f":"IF(TRIM(Y428)=\"\", \"\", IF(VLOOKUP(Y428,'Footnotes list'!$B$5:$C$103,2,FALSE)=0,\"\",VLOOKUP(Y428,'Footnotes list'!$B$5:$C$103,2,FALSE) ) )","v":""},null,null,null,null,{"$f":"IF(TRIM(AD428)=\"\", \"\", IF(VLOOKUP(AD428,'Footnotes list'!$B$5:$C$103,2,FALSE)=0,\"\",VLOOKUP(AD428,'Footnotes list'!$B$5:$C$103,2,FALSE) ) )","v":""},null,null,null,null,{"$f":"IF(TRIM(AI428)=\"\", \"\", IF(VLOOKUP(AI428,'Footnotes list'!$B$5:$C$103,2,FALSE)=0,\"\",VLOOKUP(AI428,'Footnotes list'!$B$5:$C$103,2,FALSE) ) )","v":""}]
[null,null,null,null,"TR71","        Kirikkale",null,null,null,null,{"$f":"IF(TRIM(J429)=\"\", \"\", IF(VLOOKUP(J429,'Footnotes list'!$B$5:$C$103,2,FALSE)=0,\"\",VLOOKUP(J429,'Footnotes list'!$B$5:$C$103,2,FALSE) ) )","v":""},null,null,null,null,{"$f":"IF(TRIM(O429)=\"\", \"\", IF(VLOOKUP(O429,'Footnotes list'!$B$5:$C$103,2,FALSE)=0,\"\",VLOOKUP(O429,'Footnotes list'!$B$5:$C$103,2,FALSE) ) )","v":""},null,null,null,null,{"$f":"IF(TRIM(T429)=\"\", \"\", IF(VLOOKUP(T429,'Footnotes list'!$B$5:$C$103,2,FALSE)=0,\"\",VLOOKUP(T429,'Footnotes list'!$B$5:$C$103,2,FALSE) ) )","v":""},null,null,null,null,{"$f":"IF(TRIM(Y429)=\"\", \"\", IF(VLOOKUP(Y429,'Footnotes list'!$B$5:$C$103,2,FALSE)=0,\"\",VLOOKUP(Y429,'Footnotes list'!$B$5:$C$103,2,FALSE) ) )","v":""},null,null,null,null,{"$f":"IF(TRIM(AD429)=\"\", \"\", IF(VLOOKUP(AD429,'Footnotes list'!$B$5:$C$103,2,FALSE)=0,\"\",VLOOKUP(AD429,'Footnotes list'!$B$5:$C$103,2,FALSE) ) )","v":""},null,null,null,null,{"$f":"IF(TRIM(AI429)=\"\", \"\", IF(VLOOKUP(AI429,'Footnotes list'!$B$5:$C$103,2,FALSE)=0,\"\",VLOOKUP(AI429,'Footnotes list'!$B$5:$C$103,2,FALSE) ) )","v":""}]
[null,null,null,null,"TR72","        Kayseri",null,null,null,null,{"$f":"IF(TRIM(J430)=\"\", \"\", IF(VLOOKUP(J430,'Footnotes list'!$B$5:$C$103,2,FALSE)=0,\"\",VLOOKUP(J430,'Footnotes list'!$B$5:$C$103,2,FALSE) ) )","v":""},null,null,null,null,{"$f":"IF(TRIM(O430)=\"\", \"\", IF(VLOOKUP(O430,'Footnotes list'!$B$5:$C$103,2,FALSE)=0,\"\",VLOOKUP(O430,'Footnotes list'!$B$5:$C$103,2,FALSE) ) )","v":""},null,null,null,null,{"$f":"IF(TRIM(T430)=\"\", \"\", IF(VLOOKUP(T430,'Footnotes list'!$B$5:$C$103,2,FALSE)=0,\"\",VLOOKUP(T430,'Footnotes list'!$B$5:$C$103,2,FALSE) ) )","v":""},null,null,null,null,{"$f":"IF(TRIM(Y430)=\"\", \"\", IF(VLOOKUP(Y430,'Footnotes list'!$B$5:$C$103,2,FALSE)=0,\"\",VLOOKUP(Y430,'Footnotes list'!$B$5:$C$103,2,FALSE) ) )","v":""},null,null,null,null,{"$f":"IF(TRIM(AD430)=\"\", \"\", IF(VLOOKUP(AD430,'Footnotes list'!$B$5:$C$103,2,FALSE)=0,\"\",VLOOKUP(AD430,'Footnotes list'!$B$5:$C$103,2,FALSE) ) )","v":""},null,null,null,null,{"$f":"IF(TRIM(AI430)=\"\", \"\", IF(VLOOKUP(AI430,'Footnotes list'!$B$5:$C$103,2,FALSE)=0,\"\",VLOOKUP(AI430,'Footnotes list'!$B$5:$C$103,2,FALSE) ) )","v":""}]
[null,null,null,null,"TR8","    BATI KARADENIZ",null,null,null,null,{"$f":"IF(TRIM(J431)=\"\", \"\", IF(VLOOKUP(J431,'Footnotes list'!$B$5:$C$103,2,FALSE)=0,\"\",VLOOKUP(J431,'Footnotes list'!$B$5:$C$103,2,FALSE) ) )","v":""},null,null,null,null,{"$f":"IF(TRIM(O431)=\"\", \"\", IF(VLOOKUP(O431,'Footnotes list'!$B$5:$C$103,2,FALSE)=0,\"\",VLOOKUP(O431,'Footnotes list'!$B$5:$C$103,2,FALSE) ) )","v":""},null,null,null,null,{"$f":"IF(TRIM(T431)=\"\", \"\", IF(VLOOKUP(T431,'Footnotes list'!$B$5:$C$103,2,FALSE)=0,\"\",VLOOKUP(T431,'Footnotes list'!$B$5:$C$103,2,FALSE) ) )","v":""},null,null,null,null,{"$f":"IF(TRIM(Y431)=\"\", \"\", IF(VLOOKUP(Y431,'Footnotes list'!$B$5:$C$103,2,FALSE)=0,\"\",VLOOKUP(Y431,'Footnotes list'!$B$5:$C$103,2,FALSE) ) )","v":""},null,null,null,null,{"$f":"IF(TRIM(AD431)=\"\", \"\", IF(VLOOKUP(AD431,'Footnotes list'!$B$5:$C$103,2,FALSE)=0,\"\",VLOOKUP(AD431,'Footnotes list'!$B$5:$C$103,2,FALSE) ) )","v":""},null,null,null,null,{"$f":"IF(TRIM(AI431)=\"\", \"\", IF(VLOOKUP(AI431,'Footnotes list'!$B$5:$C$103,2,FALSE)=0,\"\",VLOOKUP(AI431,'Footnotes list'!$B$5:$C$103,2,FALSE) ) )","v":""}]
[null,null,null,null,"TR81","        Zonguldak",null,null,null,null,{"$f":"IF(TRIM(J432)=\"\", \"\", IF(VLOOKUP(J432,'Footnotes list'!$B$5:$C$103,2,FALSE)=0,\"\",VLOOKUP(J432,'Footnotes list'!$B$5:$C$103,2,FALSE) ) )","v":""},null,null,null,null,{"$f":"IF(TRIM(O432)=\"\", \"\", IF(VLOOKUP(O432,'Footnotes list'!$B$5:$C$103,2,FALSE)=0,\"\",VLOOKUP(O432,'Footnotes list'!$B$5:$C$103,2,FALSE) ) )","v":""},null,null,null,null,{"$f":"IF(TRIM(T432)=\"\", \"\", IF(VLOOKUP(T432,'Footnotes list'!$B$5:$C$103,2,FALSE)=0,\"\",VLOOKUP(T432,'Footnotes list'!$B$5:$C$103,2,FALSE) ) )","v":""},null,null,null,null,{"$f":"IF(TRIM(Y432)=\"\", \"\", IF(VLOOKUP(Y432,'Footnotes list'!$B$5:$C$103,2,FALSE)=0,\"\",VLOOKUP(Y432,'Footnotes list'!$B$5:$C$103,2,FALSE) ) )","v":""},null,null,null,null,{"$f":"IF(TRIM(AD432)=\"\", \"\", IF(VLOOKUP(AD432,'Footnotes list'!$B$5:$C$103,2,FALSE)=0,\"\",VLOOKUP(AD432,'Footnotes list'!$B$5:$C$103,2,FALSE) ) )","v":""},null,null,null,null,{"$f":"IF(TRIM(AI432)=\"\", \"\", IF(VLOOKUP(AI432,'Footnotes list'!$B$5:$C$103,2,FALSE)=0,\"\",VLOOKUP(AI432,'Footnotes list'!$B$5:$C$103,2,FALSE) ) )","v":""}]
[null,null,null,null,"TR82","        Kastamonu",null,null,null,null,{"$f":"IF(TRIM(J433)=\"\", \"\", IF(VLOOKUP(J433,'Footnotes list'!$B$5:$C$103,2,FALSE)=0,\"\",VLOOKUP(J433,'Footnotes list'!$B$5:$C$103,2,FALSE) ) )","v":""},null,null,null,null,{"$f":"IF(TRIM(O433)=\"\", \"\", IF(VLOOKUP(O433,'Footnotes list'!$B$5:$C$103,2,FALSE)=0,\"\",VLOOKUP(O433,'Footnotes list'!$B$5:$C$103,2,FALSE) ) )","v":""},null,null,null,null,{"$f":"IF(TRIM(T433)=\"\", \"\", IF(VLOOKUP(T433,'Footnotes list'!$B$5:$C$103,2,FALSE)=0,\"\",VLOOKUP(T433,'Footnotes list'!$B$5:$C$103,2,FALSE) ) )","v":""},null,null,null,null,{"$f":"IF(TRIM(Y433)=\"\", \"\", IF(VLOOKUP(Y433,'Footnotes list'!$B$5:$C$103,2,FALSE)=0,\"\",VLOOKUP(Y433,'Footnotes list'!$B$5:$C$103,2,FALSE) ) )","v":""},null,null,null,null,{"$f":"IF(TRIM(AD433)=\"\", \"\", IF(VLOOKUP(AD433,'Footnotes list'!$B$5:$C$103,2,FALSE)=0,\"\",VLOOKUP(AD433,'Footnotes list'!$B$5:$C$103,2,FALSE) ) )","v":""},null,null,null,null,{"$f":"IF(TRIM(AI433)=\"\", \"\", IF(VLOOKUP(AI433,'Footnotes list'!$B$5:$C$103,2,FALSE)=0,\"\",VLOOKUP(AI433,'Footnotes list'!$B$5:$C$103,2,FALSE) ) )","v":""}]
[null,null,null,null,"TR83","        Samsun",null,null,null,null,{"$f":"IF(TRIM(J434)=\"\", \"\", IF(VLOOKUP(J434,'Footnotes list'!$B$5:$C$103,2,FALSE)=0,\"\",VLOOKUP(J434,'Footnotes list'!$B$5:$C$103,2,FALSE) ) )","v":""},null,null,null,null,{"$f":"IF(TRIM(O434)=\"\", \"\", IF(VLOOKUP(O434,'Footnotes list'!$B$5:$C$103,2,FALSE)=0,\"\",VLOOKUP(O434,'Footnotes list'!$B$5:$C$103,2,FALSE) ) )","v":""},null,null,null,null,{"$f":"IF(TRIM(T434)=\"\", \"\", IF(VLOOKUP(T434,'Footnotes list'!$B$5:$C$103,2,FALSE)=0,\"\",VLOOKUP(T434,'Footnotes list'!$B$5:$C$103,2,FALSE) ) )","v":""},null,null,null,null,{"$f":"IF(TRIM(Y434)=\"\", \"\", IF(VLOOKUP(Y434,'Footnotes list'!$B$5:$C$103,2,FALSE)=0,\"\",VLOOKUP(Y434,'Footnotes list'!$B$5:$C$103,2,FALSE) ) )","v":""},null,null,null,null,{"$f":"IF(TRIM(AD434)=\"\", \"\", IF(VLOOKUP(AD434,'Footnotes list'!$B$5:$C$103,2,FALSE)=0,\"\",VLOOKUP(AD434,'Footnotes list'!$B$5:$C$103,2,FALSE) ) )","v":""},null,null,null,null,{"$f":"IF(TRIM(AI434)=\"\", \"\", IF(VLOOKUP(AI434,'Footnotes list'!$B$5:$C$103,2,FALSE)=0,\"\",VLOOKUP(AI434,'Footnotes list'!$B$5:$C$103,2,FALSE) ) )","v":""}]
[null,null,null,null,"TR9","    DOGU KARADENIZ",null,null,null,null,{"$f":"IF(TRIM(J435)=\"\", \"\", IF(VLOOKUP(J435,'Footnotes list'!$B$5:$C$103,2,FALSE)=0,\"\",VLOOKUP(J435,'Footnotes list'!$B$5:$C$103,2,FALSE) ) )","v":""},null,null,null,null,{"$f":"IF(TRIM(O435)=\"\", \"\", IF(VLOOKUP(O435,'Footnotes list'!$B$5:$C$103,2,FALSE)=0,\"\",VLOOKUP(O435,'Footnotes list'!$B$5:$C$103,2,FALSE) ) )","v":""},null,null,null,null,{"$f":"IF(TRIM(T435)=\"\", \"\", IF(VLOOKUP(T435,'Footnotes list'!$B$5:$C$103,2,FALSE)=0,\"\",VLOOKUP(T435,'Footnotes list'!$B$5:$C$103,2,FALSE) ) )","v":""},null,null,null,null,{"$f":"IF(TRIM(Y435)=\"\", \"\", IF(VLOOKUP(Y435,'Footnotes list'!$B$5:$C$103,2,FALSE)=0,\"\",VLOOKUP(Y435,'Footnotes list'!$B$5:$C$103,2,FALSE) ) )","v":""},null,null,null,null,{"$f":"IF(TRIM(AD435)=\"\", \"\", IF(VLOOKUP(AD435,'Footnotes list'!$B$5:$C$103,2,FALSE)=0,\"\",VLOOKUP(AD435,'Footnotes list'!$B$5:$C$103,2,FALSE) ) )","v":""},null,null,null,null,{"$f":"IF(TRIM(AI435)=\"\", \"\", IF(VLOOKUP(AI435,'Footnotes list'!$B$5:$C$103,2,FALSE)=0,\"\",VLOOKUP(AI435,'Footnotes list'!$B$5:$C$103,2,FALSE) ) )","v":""}]
[null,null,null,null,"TRA","    KUZEYDOGU ANADOLU",null,null,null,null,{"$f":"IF(TRIM(J436)=\"\", \"\", IF(VLOOKUP(J436,'Footnotes list'!$B$5:$C$103,2,FALSE)=0,\"\",VLOOKUP(J436,'Footnotes list'!$B$5:$C$103,2,FALSE) ) )","v":""},null,null,null,null,{"$f":"IF(TRIM(O436)=\"\", \"\", IF(VLOOKUP(O436,'Footnotes list'!$B$5:$C$103,2,FALSE)=0,\"\",VLOOKUP(O436,'Footnotes list'!$B$5:$C$103,2,FALSE) ) )","v":""},null,null,null,null,{"$f":"IF(TRIM(T436)=\"\", \"\", IF(VLOOKUP(T436,'Footnotes list'!$B$5:$C$103,2,FALSE)=0,\"\",VLOOKUP(T436,'Footnotes list'!$B$5:$C$103,2,FALSE) ) )","v":""},null,null,null,null,{"$f":"IF(TRIM(Y436)=\"\", \"\", IF(VLOOKUP(Y436,'Footnotes list'!$B$5:$C$103,2,FALSE)=0,\"\",VLOOKUP(Y436,'Footnotes list'!$B$5:$C$103,2,FALSE) ) )","v":""},null,null,null,null,{"$f":"IF(TRIM(AD436)=\"\", \"\", IF(VLOOKUP(AD436,'Footnotes list'!$B$5:$C$103,2,FALSE)=0,\"\",VLOOKUP(AD436,'Footnotes list'!$B$5:$C$103,2,FALSE) ) )","v":""},null,null,null,null,{"$f":"IF(TRIM(AI436)=\"\", \"\", IF(VLOOKUP(AI436,'Footnotes list'!$B$5:$C$103,2,FALSE)=0,\"\",VLOOKUP(AI436,'Footnotes list'!$B$5:$C$103,2,FALSE) ) )","v":""}]
[null,null,null,null,"TRA1","        Erzurum",null,null,null,null,{"$f":"IF(TRIM(J437)=\"\", \"\", IF(VLOOKUP(J437,'Footnotes list'!$B$5:$C$103,2,FALSE)=0,\"\",VLOOKUP(J437,'Footnotes list'!$B$5:$C$103,2,FALSE) ) )","v":""},null,null,null,null,{"$f":"IF(TRIM(O437)=\"\", \"\", IF(VLOOKUP(O437,'Footnotes list'!$B$5:$C$103,2,FALSE)=0,\"\",VLOOKUP(O437,'Footnotes list'!$B$5:$C$103,2,FALSE) ) )","v":""},null,null,null,null,{"$f":"IF(TRIM(T437)=\"\", \"\", IF(VLOOKUP(T437,'Footnotes list'!$B$5:$C$103,2,FALSE)=0,\"\",VLOOKUP(T437,'Footnotes list'!$B$5:$C$103,2,FALSE) ) )","v":""},null,null,null,null,{"$f":"IF(TRIM(Y437)=\"\", \"\", IF(VLOOKUP(Y437,'Footnotes list'!$B$5:$C$103,2,FALSE)=0,\"\",VLOOKUP(Y437,'Footnotes list'!$B$5:$C$103,2,FALSE) ) )","v":""},null,null,null,null,{"$f":"IF(TRIM(AD437)=\"\", \"\", IF(VLOOKUP(AD437,'Footnotes list'!$B$5:$C$103,2,FALSE)=0,\"\",VLOOKUP(AD437,'Footnotes list'!$B$5:$C$103,2,FALSE) ) )","v":""},null,null,null,null,{"$f":"IF(TRIM(AI437)=\"\", \"\", IF(VLOOKUP(AI437,'Footnotes list'!$B$5:$C$103,2,FALSE)=0,\"\",VLOOKUP(AI437,'Footnotes list'!$B$5:$C$103,2,FALSE) ) )","v":""}]
[null,null,null,null,"TRA2","        Agri",null,null,null,null,{"$f":"IF(TRIM(J438)=\"\", \"\", IF(VLOOKUP(J438,'Footnotes list'!$B$5:$C$103,2,FALSE)=0,\"\",VLOOKUP(J438,'Footnotes list'!$B$5:$C$103,2,FALSE) ) )","v":""},null,null,null,null,{"$f":"IF(TRIM(O438)=\"\", \"\", IF(VLOOKUP(O438,'Footnotes list'!$B$5:$C$103,2,FALSE)=0,\"\",VLOOKUP(O438,'Footnotes list'!$B$5:$C$103,2,FALSE) ) )","v":""},null,null,null,null,{"$f":"IF(TRIM(T438)=\"\", \"\", IF(VLOOKUP(T438,'Footnotes list'!$B$5:$C$103,2,FALSE)=0,\"\",VLOOKUP(T438,'Footnotes list'!$B$5:$C$103,2,FALSE) ) )","v":""},null,null,null,null,{"$f":"IF(TRIM(Y438)=\"\", \"\", IF(VLOOKUP(Y438,'Footnotes list'!$B$5:$C$103,2,FALSE)=0,\"\",VLOOKUP(Y438,'Footnotes list'!$B$5:$C$103,2,FALSE) ) )","v":""},null,null,null,null,{"$f":"IF(TRIM(AD438)=\"\", \"\", IF(VLOOKUP(AD438,'Footnotes list'!$B$5:$C$103,2,FALSE)=0,\"\",VLOOKUP(AD438,'Footnotes list'!$B$5:$C$103,2,FALSE) ) )","v":""},null,null,null,null,{"$f":"IF(TRIM(AI438)=\"\", \"\", IF(VLOOKUP(AI438,'Footnotes list'!$B$5:$C$103,2,FALSE)=0,\"\",VLOOKUP(AI438,'Footnotes list'!$B$5:$C$103,2,FALSE) ) )","v":""}]
[null,null,null,null,"TRB","    ORTADOGU ANADOLU",null,null,null,null,{"$f":"IF(TRIM(J439)=\"\", \"\", IF(VLOOKUP(J439,'Footnotes list'!$B$5:$C$103,2,FALSE)=0,\"\",VLOOKUP(J439,'Footnotes list'!$B$5:$C$103,2,FALSE) ) )","v":""},null,null,null,null,{"$f":"IF(TRIM(O439)=\"\", \"\", IF(VLOOKUP(O439,'Footnotes list'!$B$5:$C$103,2,FALSE)=0,\"\",VLOOKUP(O439,'Footnotes list'!$B$5:$C$103,2,FALSE) ) )","v":""},null,null,null,null,{"$f":"IF(TRIM(T439)=\"\", \"\", IF(VLOOKUP(T439,'Footnotes list'!$B$5:$C$103,2,FALSE)=0,\"\",VLOOKUP(T439,'Footnotes list'!$B$5:$C$103,2,FALSE) ) )","v":""},null,null,null,null,{"$f":"IF(TRIM(Y439)=\"\", \"\", IF(VLOOKUP(Y439,'Footnotes list'!$B$5:$C$103,2,FALSE)=0,\"\",VLOOKUP(Y439,'Footnotes list'!$B$5:$C$103,2,FALSE) ) )","v":""},null,null,null,null,{"$f":"IF(TRIM(AD439)=\"\", \"\", IF(VLOOKUP(AD439,'Footnotes list'!$B$5:$C$103,2,FALSE)=0,\"\",VLOOKUP(AD439,'Footnotes list'!$B$5:$C$103,2,FALSE) ) )","v":""},null,null,null,null,{"$f":"IF(TRIM(AI439)=\"\", \"\", IF(VLOOKUP(AI439,'Footnotes list'!$B$5:$C$103,2,FALSE)=0,\"\",VLOOKUP(AI439,'Footnotes list'!$B$5:$C$103,2,FALSE) ) )","v":""}]
[null,null,null,null,"TRB1","        Malatya",null,null,null,null,{"$f":"IF(TRIM(J440)=\"\", \"\", IF(VLOOKUP(J440,'Footnotes list'!$B$5:$C$103,2,FALSE)=0,\"\",VLOOKUP(J440,'Footnotes list'!$B$5:$C$103,2,FALSE) ) )","v":""},null,null,null,null,{"$f":"IF(TRIM(O440)=\"\", \"\", IF(VLOOKUP(O440,'Footnotes list'!$B$5:$C$103,2,FALSE)=0,\"\",VLOOKUP(O440,'Footnotes list'!$B$5:$C$103,2,FALSE) ) )","v":""},null,null,null,null,{"$f":"IF(TRIM(T440)=\"\", \"\", IF(VLOOKUP(T440,'Footnotes list'!$B$5:$C$103,2,FALSE)=0,\"\",VLOOKUP(T440,'Footnotes list'!$B$5:$C$103,2,FALSE) ) )","v":""},null,null,null,null,{"$f":"IF(TRIM(Y440)=\"\", \"\", IF(VLOOKUP(Y440,'Footnotes list'!$B$5:$C$103,2,FALSE)=0,\"\",VLOOKUP(Y440,'Footnotes list'!$B$5:$C$103,2,FALSE) ) )","v":""},null,null,null,null,{"$f":"IF(TRIM(AD440)=\"\", \"\", IF(VLOOKUP(AD440,'Footnotes list'!$B$5:$C$103,2,FALSE)=0,\"\",VLOOKUP(AD440,'Footnotes list'!$B$5:$C$103,2,FALSE) ) )","v":""},null,null,null,null,{"$f":"IF(TRIM(AI440)=\"\", \"\", IF(VLOOKUP(AI440,'Footnotes list'!$B$5:$C$103,2,FALSE)=0,\"\",VLOOKUP(AI440,'Footnotes list'!$B$5:$C$103,2,FALSE) ) )","v":""}]
[null,null,null,null,"TRB2","        Van",null,null,null,null,{"$f":"IF(TRIM(J441)=\"\", \"\", IF(VLOOKUP(J441,'Footnotes list'!$B$5:$C$103,2,FALSE)=0,\"\",VLOOKUP(J441,'Footnotes list'!$B$5:$C$103,2,FALSE) ) )","v":""},null,null,null,null,{"$f":"IF(TRIM(O441)=\"\", \"\", IF(VLOOKUP(O441,'Footnotes list'!$B$5:$C$103,2,FALSE)=0,\"\",VLOOKUP(O441,'Footnotes list'!$B$5:$C$103,2,FALSE) ) )","v":""},null,null,null,null,{"$f":"IF(TRIM(T441)=\"\", \"\", IF(VLOOKUP(T441,'Footnotes list'!$B$5:$C$103,2,FALSE)=0,\"\",VLOOKUP(T441,'Footnotes list'!$B$5:$C$103,2,FALSE) ) )","v":""},null,null,null,null,{"$f":"IF(TRIM(Y441)=\"\", \"\", IF(VLOOKUP(Y441,'Footnotes list'!$B$5:$C$103,2,FALSE)=0,\"\",VLOOKUP(Y441,'Footnotes list'!$B$5:$C$103,2,FALSE) ) )","v":""},null,null,null,null,{"$f":"IF(TRIM(AD441)=\"\", \"\", IF(VLOOKUP(AD441,'Footnotes list'!$B$5:$C$103,2,FALSE)=0,\"\",VLOOKUP(AD441,'Footnotes list'!$B$5:$C$103,2,FALSE) ) )","v":""},null,null,null,null,{"$f":"IF(TRIM(AI441)=\"\", \"\", IF(VLOOKUP(AI441,'Footnotes list'!$B$5:$C$103,2,FALSE)=0,\"\",VLOOKUP(AI441,'Footnotes list'!$B$5:$C$103,2,FALSE) ) )","v":""}]
[null,null,null,null,"TRC","    GÜNEYDOGU ANADOLU",null,null,null,null,{"$f":"IF(TRIM(J442)=\"\", \"\", IF(VLOOKUP(J442,'Footnotes list'!$B$5:$C$103,2,FALSE)=0,\"\",VLOOKUP(J442,'Footnotes list'!$B$5:$C$103,2,FALSE) ) )","v":""},null,null,null,null,{"$f":"IF(TRIM(O442)=\"\", \"\", IF(VLOOKUP(O442,'Footnotes list'!$B$5:$C$103,2,FALSE)=0,\"\",VLOOKUP(O442,'Footnotes list'!$B$5:$C$103,2,FALSE) ) )","v":""},null,null,null,null,{"$f":"IF(TRIM(T442)=\"\", \"\", IF(VLOOKUP(T442,'Footnotes list'!$B$5:$C$103,2,FALSE)=0,\"\",VLOOKUP(T442,'Footnotes list'!$B$5:$C$103,2,FALSE) ) )","v":""},null,null,null,null,{"$f":"IF(TRIM(Y442)=\"\", \"\", IF(VLOOKUP(Y442,'Footnotes list'!$B$5:$C$103,2,FALSE)=0,\"\",VLOOKUP(Y442,'Footnotes list'!$B$5:$C$103,2,FALSE) ) )","v":""},null,null,null,null,{"$f":"IF(TRIM(AD442)=\"\", \"\", IF(VLOOKUP(AD442,'Footnotes list'!$B$5:$C$103,2,FALSE)=0,\"\",VLOOKUP(AD442,'Footnotes list'!$B$5:$C$103,2,FALSE) ) )","v":""},null,null,null,null,{"$f":"IF(TRIM(AI442)=\"\", \"\", IF(VLOOKUP(AI442,'Footnotes list'!$B$5:$C$103,2,FALSE)=0,\"\",VLOOKUP(AI442,'Footnotes list'!$B$5:$C$103,2,FALSE) ) )","v":""}]
[null,null,null,null,"TRC1","        Gaziantep",null,null,null,null,{"$f":"IF(TRIM(J443)=\"\", \"\", IF(VLOOKUP(J443,'Footnotes list'!$B$5:$C$103,2,FALSE)=0,\"\",VLOOKUP(J443,'Footnotes list'!$B$5:$C$103,2,FALSE) ) )","v":""},null,null,null,null,{"$f":"IF(TRIM(O443)=\"\", \"\", IF(VLOOKUP(O443,'Footnotes list'!$B$5:$C$103,2,FALSE)=0,\"\",VLOOKUP(O443,'Footnotes list'!$B$5:$C$103,2,FALSE) ) )","v":""},null,null,null,null,{"$f":"IF(TRIM(T443)=\"\", \"\", IF(VLOOKUP(T443,'Footnotes list'!$B$5:$C$103,2,FALSE)=0,\"\",VLOOKUP(T443,'Footnotes list'!$B$5:$C$103,2,FALSE) ) )","v":""},null,null,null,null,{"$f":"IF(TRIM(Y443)=\"\", \"\", IF(VLOOKUP(Y443,'Footnotes list'!$B$5:$C$103,2,FALSE)=0,\"\",VLOOKUP(Y443,'Footnotes list'!$B$5:$C$103,2,FALSE) ) )","v":""},null,null,null,null,{"$f":"IF(TRIM(AD443)=\"\", \"\", IF(VLOOKUP(AD443,'Footnotes list'!$B$5:$C$103,2,FALSE)=0,\"\",VLOOKUP(AD443,'Footnotes list'!$B$5:$C$103,2,FALSE) ) )","v":""},null,null,null,null,{"$f":"IF(TRIM(AI443)=\"\", \"\", IF(VLOOKUP(AI443,'Footnotes list'!$B$5:$C$103,2,FALSE)=0,\"\",VLOOKUP(AI443,'Footnotes list'!$B$5:$C$103,2,FALSE) ) )","v":""}]
[null,null,null,null,"TRC2","        Sanliurfa",null,null,null,null,{"$f":"IF(TRIM(J444)=\"\", \"\", IF(VLOOKUP(J444,'Footnotes list'!$B$5:$C$103,2,FALSE)=0,\"\",VLOOKUP(J444,'Footnotes list'!$B$5:$C$103,2,FALSE) ) )","v":""},null,null,null,null,{"$f":"IF(TRIM(O444)=\"\", \"\", IF(VLOOKUP(O444,'Footnotes list'!$B$5:$C$103,2,FALSE)=0,\"\",VLOOKUP(O444,'Footnotes list'!$B$5:$C$103,2,FALSE) ) )","v":""},null,null,null,null,{"$f":"IF(TRIM(T444)=\"\", \"\", IF(VLOOKUP(T444,'Footnotes list'!$B$5:$C$103,2,FALSE)=0,\"\",VLOOKUP(T444,'Footnotes list'!$B$5:$C$103,2,FALSE) ) )","v":""},null,null,null,null,{"$f":"IF(TRIM(Y444)=\"\", \"\", IF(VLOOKUP(Y444,'Footnotes list'!$B$5:$C$103,2,FALSE)=0,\"\",VLOOKUP(Y444,'Footnotes list'!$B$5:$C$103,2,FALSE) ) )","v":""},null,null,null,null,{"$f":"IF(TRIM(AD444)=\"\", \"\", IF(VLOOKUP(AD444,'Footnotes list'!$B$5:$C$103,2,FALSE)=0,\"\",VLOOKUP(AD444,'Footnotes list'!$B$5:$C$103,2,FALSE) ) )","v":""},null,null,null,null,{"$f":"IF(TRIM(AI444)=\"\", \"\", IF(VLOOKUP(AI444,'Footnotes list'!$B$5:$C$103,2,FALSE)=0,\"\",VLOOKUP(AI444,'Footnotes list'!$B$5:$C$103,2,FALSE) ) )","v":""}]
[null,null,null,null,"TRC3","        Mardin",null,null,null,null,{"$f":"IF(TRIM(J445)=\"\", \"\", IF(VLOOKUP(J445,'Footnotes list'!$B$5:$C$103,2,FALSE)=0,\"\",VLOOKUP(J445,'Footnotes list'!$B$5:$C$103,2,FALSE) ) )","v":""},null,null,null,null,{"$f":"IF(TRIM(O445)=\"\", \"\", IF(VLOOKUP(O445,'Footnotes list'!$B$5:$C$103,2,FALSE)=0,\"\",VLOOKUP(O445,'Footnotes list'!$B$5:$C$103,2,FALSE) ) )","v":""},null,null,null,null,{"$f":"IF(TRIM(T445)=\"\", \"\", IF(VLOOKUP(T445,'Footnotes list'!$B$5:$C$103,2,FALSE)=0,\"\",VLOOKUP(T445,'Footnotes list'!$B$5:$C$103,2,FALSE) ) )","v":""},null,null,null,null,{"$f":"IF(TRIM(Y445)=\"\", \"\", IF(VLOOKUP(Y445,'Footnotes list'!$B$5:$C$103,2,FALSE)=0,\"\",VLOOKUP(Y445,'Footnotes list'!$B$5:$C$103,2,FALSE) ) )","v":""},null,null,null,null,{"$f":"IF(TRIM(AD445)=\"\", \"\", IF(VLOOKUP(AD445,'Footnotes list'!$B$5:$C$103,2,FALSE)=0,\"\",VLOOKUP(AD445,'Footnotes list'!$B$5:$C$103,2,FALSE) ) )","v":""},null,null,null,null,{"$f":"IF(TRIM(AI445)=\"\", \"\", IF(VLOOKUP(AI445,'Footnotes list'!$B$5:$C$103,2,FALSE)=0,\"\",VLOOKUP(AI445,'Footnotes list'!$B$5:$C$103,2,FALSE) ) )","v":""}]
[null,null,null,null,"BA","BOSNIA AND HERZEGOVINA",null,null,null,null,{"$f":"IF(TRIM(J446)=\"\", \"\", IF(VLOOKUP(J446,'Footnotes list'!$B$5:$C$103,2,FALSE)=0,\"\",VLOOKUP(J446,'Footnotes list'!$B$5:$C$103,2,FALSE) ) )","v":""},null,null,null,null,{"$f":"IF(TRIM(O446)=\"\", \"\", IF(VLOOKUP(O446,'Footnotes list'!$B$5:$C$103,2,FALSE)=0,\"\",VLOOKUP(O446,'Footnotes list'!$B$5:$C$103,2,FALSE) ) )","v":""},null,null,null,null,{"$f":"IF(TRIM(T446)=\"\", \"\", IF(VLOOKUP(T446,'Footnotes list'!$B$5:$C$103,2,FALSE)=0,\"\",VLOOKUP(T446,'Footnotes list'!$B$5:$C$103,2,FALSE) ) )","v":""},null,null,null,null,{"$f":"IF(TRIM(Y446)=\"\", \"\", IF(VLOOKUP(Y446,'Footnotes list'!$B$5:$C$103,2,FALSE)=0,\"\",VLOOKUP(Y446,'Footnotes list'!$B$5:$C$103,2,FALSE) ) )","v":""},null,null,null,null,{"$f":"IF(TRIM(AD446)=\"\", \"\", IF(VLOOKUP(AD446,'Footnotes list'!$B$5:$C$103,2,FALSE)=0,\"\",VLOOKUP(AD446,'Footnotes list'!$B$5:$C$103,2,FALSE) ) )","v":""},null,null,null,null,{"$f":"IF(TRIM(AI446)=\"\", \"\", IF(VLOOKUP(AI446,'Footnotes list'!$B$5:$C$103,2,FALSE)=0,\"\",VLOOKUP(AI446,'Footnotes list'!$B$5:$C$103,2,FALSE) ) )","v":""}]
[null,null,null,null,"XK","KOSOVO (UNSCR 1244)",null,null,null,null,{"$f":"IF(TRIM(J447)=\"\", \"\", IF(VLOOKUP(J447,'Footnotes list'!$B$5:$C$103,2,FALSE)=0,\"\",VLOOKUP(J447,'Footnotes list'!$B$5:$C$103,2,FALSE) ) )","v":""},null,null,null,null,{"$f":"IF(TRIM(O447)=\"\", \"\", IF(VLOOKUP(O447,'Footnotes list'!$B$5:$C$103,2,FALSE)=0,\"\",VLOOKUP(O447,'Footnotes list'!$B$5:$C$103,2,FALSE) ) )","v":""},null,null,null,null,{"$f":"IF(TRIM(T447)=\"\", \"\", IF(VLOOKUP(T447,'Footnotes list'!$B$5:$C$103,2,FALSE)=0,\"\",VLOOKUP(T447,'Footnotes list'!$B$5:$C$103,2,FALSE) ) )","v":""},null,null,null,null,{"$f":"IF(TRIM(Y447)=\"\", \"\", IF(VLOOKUP(Y447,'Footnotes list'!$B$5:$C$103,2,FALSE)=0,\"\",VLOOKUP(Y447,'Footnotes list'!$B$5:$C$103,2,FALSE) ) )","v":""},null,null,null,null,{"$f":"IF(TRIM(AD447)=\"\", \"\", IF(VLOOKUP(AD447,'Footnotes list'!$B$5:$C$103,2,FALSE)=0,\"\",VLOOKUP(AD447,'Footnotes list'!$B$5:$C$103,2,FALSE) ) )","v":""},null,null,null,null,{"$f":"IF(TRIM(AI447)=\"\", \"\", IF(VLOOKUP(AI447,'Footnotes list'!$B$5:$C$103,2,FALSE)=0,\"\",VLOOKUP(AI447,'Footnotes list'!$B$5:$C$103,2,FALSE) ) )","v":""}]
[null,null,null,null,"WL","WASTELAND",null,null,null,null,{"$f":"IF(TRIM(J448)=\"\", \"\", IF(VLOOKUP(J448,'Footnotes list'!$B$5:$C$103,2,FALSE)=0,\"\",VLOOKUP(J448,'Footnotes list'!$B$5:$C$103,2,FALSE) ) )","v":""},null,null,null,null,{"$f":"IF(TRIM(O448)=\"\", \"\", IF(VLOOKUP(O448,'Footnotes list'!$B$5:$C$103,2,FALSE)=0,\"\",VLOOKUP(O448,'Footnotes list'!$B$5:$C$103,2,FALSE) ) )","v":""},null,null,null,null,{"$f":"IF(TRIM(T448)=\"\", \"\", IF(VLOOKUP(T448,'Footnotes list'!$B$5:$C$103,2,FALSE)=0,\"\",VLOOKUP(T448,'Footnotes list'!$B$5:$C$103,2,FALSE) ) )","v":""},null,null,null,null,{"$f":"IF(TRIM(Y448)=\"\", \"\", IF(VLOOKUP(Y448,'Footnotes list'!$B$5:$C$103,2,FALSE)=0,\"\",VLOOKUP(Y448,'Footnotes list'!$B$5:$C$103,2,FALSE) ) )","v":""},null,null,null,null,{"$f":"IF(TRIM(AD448)=\"\", \"\", IF(VLOOKUP(AD448,'Footnotes list'!$B$5:$C$103,2,FALSE)=0,\"\",VLOOKUP(AD448,'Footnotes list'!$B$5:$C$103,2,FALSE) ) )","v":""},null,null,null,null,{"$f":"IF(TRIM(AI448)=\"\", \"\", IF(VLOOKUP(AI448,'Footnotes list'!$B$5:$C$103,2,FALSE)=0,\"\",VLOOKUP(AI448,'Footnotes list'!$B$5:$C$103,2,FALSE) ) )","v":""}]
[null,null,null,null,"WL0","    WASTELAND REGION 0",null,null,null,null,{"$f":"IF(TRIM(J449)=\"\", \"\", IF(VLOOKUP(J449,'Footnotes list'!$B$5:$C$103,2,FALSE)=0,\"\",VLOOKUP(J449,'Footnotes list'!$B$5:$C$103,2,FALSE) ) )","v":""},null,null,null,null,{"$f":"IF(TRIM(O449)=\"\", \"\", IF(VLOOKUP(O449,'Footnotes list'!$B$5:$C$103,2,FALSE)=0,\"\",VLOOKUP(O449,'Footnotes list'!$B$5:$C$103,2,FALSE) ) )","v":""},null,null,null,null,{"$f":"IF(TRIM(T449)=\"\", \"\", IF(VLOOKUP(T449,'Footnotes list'!$B$5:$C$103,2,FALSE)=0,\"\",VLOOKUP(T449,'Footnotes list'!$B$5:$C$103,2,FALSE) ) )","v":""},null,null,null,null,{"$f":"IF(TRIM(Y449)=\"\", \"\", IF(VLOOKUP(Y449,'Footnotes list'!$B$5:$C$103,2,FALSE)=0,\"\",VLOOKUP(Y449,'Footnotes list'!$B$5:$C$103,2,FALSE) ) )","v":""},null,null,null,null,{"$f":"IF(TRIM(AD449)=\"\", \"\", IF(VLOOKUP(AD449,'Footnotes list'!$B$5:$C$103,2,FALSE)=0,\"\",VLOOKUP(AD449,'Footnotes list'!$B$5:$C$103,2,FALSE) ) )","v":""},null,null,null,null,{"$f":"IF(TRIM(AI449)=\"\", \"\", IF(VLOOKUP(AI449,'Footnotes list'!$B$5:$C$103,2,FALSE)=0,\"\",VLOOKUP(AI449,'Footnotes list'!$B$5:$C$103,2,FALSE) ) )","v":""}]
[null,null,null,null,"WL1","    WASTELAND REGION 1",null,null,null,null,{"$f":"IF(TRIM(J450)=\"\", \"\", IF(VLOOKUP(J450,'Footnotes list'!$B$5:$C$103,2,FALSE)=0,\"\",VLOOKUP(J450,'Footnotes list'!$B$5:$C$103,2,FALSE) ) )","v":""},null,null,null,null,{"$f":"IF(TRIM(O450)=\"\", \"\", IF(VLOOKUP(O450,'Footnotes list'!$B$5:$C$103,2,FALSE)=0,\"\",VLOOKUP(O450,'Footnotes list'!$B$5:$C$103,2,FALSE) ) )","v":""},null,null,null,null,{"$f":"IF(TRIM(T450)=\"\", \"\", IF(VLOOKUP(T450,'Footnotes list'!$B$5:$C$103,2,FALSE)=0,\"\",VLOOKUP(T450,'Footnotes list'!$B$5:$C$103,2,FALSE) ) )","v":""},null,null,null,null,{"$f":"IF(TRIM(Y450)=\"\", \"\", IF(VLOOKUP(Y450,'Footnotes list'!$B$5:$C$103,2,FALSE)=0,\"\",VLOOKUP(Y450,'Footnotes list'!$B$5:$C$103,2,FALSE) ) )","v":""},null,null,null,null,{"$f":"IF(TRIM(AD450)=\"\", \"\", IF(VLOOKUP(AD450,'Footnotes list'!$B$5:$C$103,2,FALSE)=0,\"\",VLOOKUP(AD450,'Footnotes list'!$B$5:$C$103,2,FALSE) ) )","v":""},null,null,null,null,{"$f":"IF(TRIM(AI450)=\"\", \"\", IF(VLOOKUP(AI450,'Footnotes list'!$B$5:$C$103,2,FALSE)=0,\"\",VLOOKUP(AI450,'Footnotes list'!$B$5:$C$103,2,FALSE) ) )","v":""}]
[null,null,null,null,"WL11","        Wasteland County A",null,null,null,null,{"$f":"IF(TRIM(J451)=\"\", \"\", IF(VLOOKUP(J451,'Footnotes list'!$B$5:$C$103,2,FALSE)=0,\"\",VLOOKUP(J451,'Footnotes list'!$B$5:$C$103,2,FALSE) ) )","v":""},null,null,null,null,{"$f":"IF(TRIM(O451)=\"\", \"\", IF(VLOOKUP(O451,'Footnotes list'!$B$5:$C$103,2,FALSE)=0,\"\",VLOOKUP(O451,'Footnotes list'!$B$5:$C$103,2,FALSE) ) )","v":""},null,null,null,null,{"$f":"IF(TRIM(T451)=\"\", \"\", IF(VLOOKUP(T451,'Footnotes list'!$B$5:$C$103,2,FALSE)=0,\"\",VLOOKUP(T451,'Footnotes list'!$B$5:$C$103,2,FALSE) ) )","v":""},null,null,null,null,{"$f":"IF(TRIM(Y451)=\"\", \"\", IF(VLOOKUP(Y451,'Footnotes list'!$B$5:$C$103,2,FALSE)=0,\"\",VLOOKUP(Y451,'Footnotes list'!$B$5:$C$103,2,FALSE) ) )","v":""},null,null,null,null,{"$f":"IF(TRIM(AD451)=\"\", \"\", IF(VLOOKUP(AD451,'Footnotes list'!$B$5:$C$103,2,FALSE)=0,\"\",VLOOKUP(AD451,'Footnotes list'!$B$5:$C$103,2,FALSE) ) )","v":""},null,null,null,null,{"$f":"IF(TRIM(AI451)=\"\", \"\", IF(VLOOKUP(AI451,'Footnotes list'!$B$5:$C$103,2,FALSE)=0,\"\",VLOOKUP(AI451,'Footnotes list'!$B$5:$C$103,2,FALSE) ) )","v":""}]
[null,null,null,null,"WL12","        Wasteland County B",null,null,null,null,{"$f":"IF(TRIM(J452)=\"\", \"\", IF(VLOOKUP(J452,'Footnotes list'!$B$5:$C$103,2,FALSE)=0,\"\",VLOOKUP(J452,'Footnotes list'!$B$5:$C$103,2,FALSE) ) )","v":""},null,null,null,null,{"$f":"IF(TRIM(O452)=\"\", \"\", IF(VLOOKUP(O452,'Footnotes list'!$B$5:$C$103,2,FALSE)=0,\"\",VLOOKUP(O452,'Footnotes list'!$B$5:$C$103,2,FALSE) ) )","v":""},null,null,null,null,{"$f":"IF(TRIM(T452)=\"\", \"\", IF(VLOOKUP(T452,'Footnotes list'!$B$5:$C$103,2,FALSE)=0,\"\",VLOOKUP(T452,'Footnotes list'!$B$5:$C$103,2,FALSE) ) )","v":""},null,null,null,null,{"$f":"IF(TRIM(Y452)=\"\", \"\", IF(VLOOKUP(Y452,'Footnotes list'!$B$5:$C$103,2,FALSE)=0,\"\",VLOOKUP(Y452,'Footnotes list'!$B$5:$C$103,2,FALSE) ) )","v":""},null,null,null,null,{"$f":"IF(TRIM(AD452)=\"\", \"\", IF(VLOOKUP(AD452,'Footnotes list'!$B$5:$C$103,2,FALSE)=0,\"\",VLOOKUP(AD452,'Footnotes list'!$B$5:$C$103,2,FALSE) ) )","v":""},null,null,null,null,{"$f":"IF(TRIM(AI452)=\"\", \"\", IF(VLOOKUP(AI452,'Footnotes list'!$B$5:$C$103,2,FALSE)=0,\"\",VLOOKUP(AI452,'Footnotes list'!$B$5:$C$103,2,FALSE) ) )","v":""}]
[null,null,null,null,"WL2","    WASTELAND REGION 2",null,null,null,null,{"$f":"IF(TRIM(J453)=\"\", \"\", IF(VLOOKUP(J453,'Footnotes list'!$B$5:$C$103,2,FALSE)=0,\"\",VLOOKUP(J453,'Footnotes list'!$B$5:$C$103,2,FALSE) ) )","v":""},null,null,null,null,{"$f":"IF(TRIM(O453)=\"\", \"\", IF(VLOOKUP(O453,'Footnotes list'!$B$5:$C$103,2,FALSE)=0,\"\",VLOOKUP(O453,'Footnotes list'!$B$5:$C$103,2,FALSE) ) )","v":""},null,null,null,null,{"$f":"IF(TRIM(T453)=\"\", \"\", IF(VLOOKUP(T453,'Footnotes list'!$B$5:$C$103,2,FALSE)=0,\"\",VLOOKUP(T453,'Footnotes list'!$B$5:$C$103,2,FALSE) ) )","v":""},null,null,null,null,{"$f":"IF(TRIM(Y453)=\"\", \"\", IF(VLOOKUP(Y453,'Footnotes list'!$B$5:$C$103,2,FALSE)=0,\"\",VLOOKUP(Y453,'Footnotes list'!$B$5:$C$103,2,FALSE) ) )","v":""},null,null,null,null,{"$f":"IF(TRIM(AD453)=\"\", \"\", IF(VLOOKUP(AD453,'Footnotes list'!$B$5:$C$103,2,FALSE)=0,\"\",VLOOKUP(AD453,'Footnotes list'!$B$5:$C$103,2,FALSE) ) )","v":""},null,null,null,null,{"$f":"IF(TRIM(AI453)=\"\", \"\", IF(VLOOKUP(AI453,'Footnotes list'!$B$5:$C$103,2,FALSE)=0,\"\",VLOOKUP(AI453,'Footnotes list'!$B$5:$C$103,2,FALSE) ) )","v":""}]
[null,null,null,null,"WL21","        Wasteland County C",null,null,null,null,{"$f":"IF(TRIM(J454)=\"\", \"\", IF(VLOOKUP(J454,'Footnotes list'!$B$5:$C$103,2,FALSE)=0,\"\",VLOOKUP(J454,'Footnotes list'!$B$5:$C$103,2,FALSE) ) )","v":""},null,null,null,null,{"$f":"IF(TRIM(O454)=\"\", \"\", IF(VLOOKUP(O454,'Footnotes list'!$B$5:$C$103,2,FALSE)=0,\"\",VLOOKUP(O454,'Footnotes list'!$B$5:$C$103,2,FALSE) ) )","v":""},null,null,null,null,{"$f":"IF(TRIM(T454)=\"\", \"\", IF(VLOOKUP(T454,'Footnotes list'!$B$5:$C$103,2,FALSE)=0,\"\",VLOOKUP(T454,'Footnotes list'!$B$5:$C$103,2,FALSE) ) )","v":""},null,null,null,null,{"$f":"IF(TRIM(Y454)=\"\", \"\", IF(VLOOKUP(Y454,'Footnotes list'!$B$5:$C$103,2,FALSE)=0,\"\",VLOOKUP(Y454,'Footnotes list'!$B$5:$C$103,2,FALSE) ) )","v":""},null,null,null,null,{"$f":"IF(TRIM(AD454)=\"\", \"\", IF(VLOOKUP(AD454,'Footnotes list'!$B$5:$C$103,2,FALSE)=0,\"\",VLOOKUP(AD454,'Footnotes list'!$B$5:$C$103,2,FALSE) ) )","v":""},null,null,null,null,{"$f":"IF(TRIM(AI454)=\"\", \"\", IF(VLOOKUP(AI454,'Footnotes list'!$B$5:$C$103,2,FALSE)=0,\"\",VLOOKUP(AI454,'Footnotes list'!$B$5:$C$103,2,FALSE) ) )","v":""}]
[null,null,null,null,"WL22","        Wasteland County D",null,null,null,null,{"$f":"IF(TRIM(J455)=\"\", \"\", IF(VLOOKUP(J455,'Footnotes list'!$B$5:$C$103,2,FALSE)=0,\"\",VLOOKUP(J455,'Footnotes list'!$B$5:$C$103,2,FALSE) ) )","v":""},null,null,null,null,{"$f":"IF(TRIM(O455)=\"\", \"\", IF(VLOOKUP(O455,'Footnotes list'!$B$5:$C$103,2,FALSE)=0,\"\",VLOOKUP(O455,'Footnotes list'!$B$5:$C$103,2,FALSE) ) )","v":""},null,null,null,null,{"$f":"IF(TRIM(T455)=\"\", \"\", IF(VLOOKUP(T455,'Footnotes list'!$B$5:$C$103,2,FALSE)=0,\"\",VLOOKUP(T455,'Footnotes list'!$B$5:$C$103,2,FALSE) ) )","v":""},null,null,null,null,{"$f":"IF(TRIM(Y455)=\"\", \"\", IF(VLOOKUP(Y455,'Footnotes list'!$B$5:$C$103,2,FALSE)=0,\"\",VLOOKUP(Y455,'Footnotes list'!$B$5:$C$103,2,FALSE) ) )","v":""},null,null,null,null,{"$f":"IF(TRIM(AD455)=\"\", \"\", IF(VLOOKUP(AD455,'Footnotes list'!$B$5:$C$103,2,FALSE)=0,\"\",VLOOKUP(AD455,'Footnotes list'!$B$5:$C$103,2,FALSE) ) )","v":""},null,null,null,null,{"$f":"IF(TRIM(AI455)=\"\", \"\", IF(VLOOKUP(AI455,'Footnotes list'!$B$5:$C$103,2,FALSE)=0,\"\",VLOOKUP(AI455,'Footnotes list'!$B$5:$C$103,2,FALSE) ) )","v":""}]
[]
[null,null,null,"Notes:"]
[]
[null,null,null,"Cell shading:"]
[null,null,null,"White: Data provision is mandatory."]
[null,null,null,"Light orange: Footnotes (only to be filled-in when relevant)"]
[null,null,null,"Black: Not applicable"]
[]
[]
[null,null,null,"Valid standard footnotes:"]
[null,null,null,"     B -  Break in time series"]
[null,null,null,"     E -  Estimate"]
[null,null,null,"     P -  Provisional"]
[]
[null,null,null,"Valid confidentiality footnotes:"]
[null,null,null,"     C -  Confidential"]
[null,null,null,"     D -  Secondary confidentiality set by the sender, not for publication"]

{"sheet":"Table_2","index":6,"n_rows":593,"n_cols":21,"rows_kept":593,"cut":false,"hidden":false,"merged":[[564,4,567,4],[568,5,574,5],[516,4,519,4],[520,5,555,5],[556,4,559,4],[560,4,563,4],[483,4,486,4],[476,5,482,5],[487,5,493,5],[510,5,515,5],[494,4,497,4],[498,4,501,4],[502,4,505,4],[506,4,509,4],[408,4,411,4],[412,5,463,5],[464,4,467,4],[468,4,471,4],[472,4,475,4],[373,5,374,5],[375,4,378,4],[379,5,382,5],[383,4,386,4],[393,4,396,4],[341,4,344,4],[345,5,352,5],[353,4,356,4],[357,5,368,5],[369,4,372,4],[281,5,296,5],[297,4,300,4],[301,5,312,5],[313,4,316,4],[317,5,340,5],[254,4,257,4],[258,4,261,4],[262,5,272,5],[273,4,276,4],[277,4,280,4],[214,5,239,5],[240,4,243,4],[244,4,247,4],[248,4,251,4],[252,5,253,5],[165,4,168,4],[169,5,203,5],[204,4,207,4],[210,4,213,4],[208,5,209,5],[114,5,116,5],[117,4,120,4],[137,4,140,4],[121,5,136,5],[141,5,164,5],[52,5,56,5],[57,4,60,4],[61,5,105,5],[106,4,109,4],[110,4,113,4],[24,4,27,4],[36,4,39,4],[48,4,51,4],[28,5,35,5],[40,5,47,5],[6,14,6,15],[6,19,6,20],[4,5,4,20],[11,5,23,5],[5,3,5,4],[7,4,10,4],[6,3,6,4],[6,9,6,10]]}
[]
[]
[]
[null,null,null,"Country:",{"$f":"IF('Basic instructions'!$J$12=\"\",\"\",'Basic instructions'!$J$12)","v":"HR"},{"$f":"IF('Basic instructions'!$G$12=\"\",\"\",'Basic instructions'!$G$12)","v":"Croatia"}]
[null,null,null,"Reference year:",{"$f":"IF('Basic instructions'!$G$13=\"\",\"\",'Basic instructions'!$G$13)","v":2018}]
[null,null,null,null,null,null,"FAC",null,null,null,null,"CAP_RST",null,null,null,null,"FAC_CL"]
[null,null,null,"WASTE:  \nNumber and capacity of recovery and disposal facilities\nDisposal - landfill (D1, D5, D12)",null,null,"Facilities (number)","Standard footnote","Confidentiality footnote","Explanatory footnote",null,"Rest capacity\n -\ncubic metres","Standard footnote","Confidentiality footnote","Explanatory footnote",null,"Closed facilities -\nnumber","Standard footnote","Confidentiality footnote","Explanatory footnote"]
["DSP_LIN","BE",null,"BE","BELGIQUE-BELGIË","Inert waste",null,null,null,null,{"$f":"IF(TRIM(J8)=\"\", \"\", IF(VLOOKUP(J8,'Footnotes list'!$B$5:$C$103,2,FALSE)=0,\"\",VLOOKUP(J8,'Footnotes list'!$B$5:$C$103,2,FALSE) ) )","v":""},null,null,null,null,{"$f":"IF(TRIM(O8)=\"\", \"\", IF(VLOOKUP(O8,'Footnotes list'!$B$5:$C$103,2,FALSE)=0,\"\",VLOOKUP(O8,'Footnotes list'!$B$5:$C$103,2,FALSE) ) )","v":""},null,null,null,null,{"$f":"IF(TRIM(T8)=\"\", \"\", IF(VLOOKUP(T8,'Footnotes list'!$B$5:$C$103,2,FALSE)=0,\"\",VLOOKUP(T8,'Footnotes list'!$B$5:$C$103,2,FALSE) ) )","v":""}]
["DSP_LNH",{"$f":"B8","v":"BE"},null,{"$f":"D8","v":"BE"},null,"Non-hazardous waste",null,null,null,null,{"$f":"IF(TRIM(J9)=\"\", \"\", IF(VLOOKUP(J9,'Footnotes list'!$B$5:$C$103,2,FALSE)=0,\"\",VLOOKUP(J9,'Footnotes list'!$B$5:$C$103,2,FALSE) ) )","v":""},null,null,null,null,{"$f":"IF(TRIM(O9)=\"\", \"\", IF(VLOOKUP(O9,'Footnotes list'!$B$5:$C$103,2,FALSE)=0,\"\",VLOOKUP(O9,'Footnotes list'!$B$5:$C$103,2,FALSE) ) )","v":""},null,null,null,null,{"$f":"IF(TRIM(T9)=\"\", \"\", IF(VLOOKUP(T9,'Footnotes list'!$B$5:$C$103,2,FALSE)=0,\"\",VLOOKUP(T9,'Footnotes list'!$B$5:$C$103,2,FALSE) ) )","v":""}]
["DSP_LH",{"$f":"B8","v":"BE"},null,{"$f":"D8","v":"BE"},null,"Hazardous waste",null,null,null,null,{"$f":"IF(TRIM(J10)=\"\", \"\", IF(VLOOKUP(J10,'Footnotes list'!$B$5:$C$103,2,FALSE)=0,\"\",VLOOKUP(J10,'Footnotes list'!$B$5:$C$103,2,FALSE) ) )","v":""},null,null,null,null,{"$f":"IF(TRIM(O10)=\"\", \"\", IF(VLOOKUP(O10,'Footnotes list'!$B$5:$C$103,2,FALSE)=0,\"\",VLOOKUP(O10,'Footnotes list'!$B$5:$C$103,2,FALSE) ) )","v":""},null,null,null,null,{"$f":"IF(TRIM(T10)=\"\", \"\", IF(VLOOKUP(T10,'Footnotes list'!$B$5:$C$103,2,FALSE)=0,\"\",VLOOKUP(T10,'Footnotes list'!$B$5:$C$103,2,FALSE) ) )","v":""}]
["DSP_L",{"$f":"B8","v":"BE"},null,{"$f":"D8","v":"BE"},null,"Total",{"$f":"IF(AND(TRIM(G8)=\"\",TRIM(G9)=\"\",TRIM(G10)=\"\"),\"\",G8+G9+G10)","v":""},null,null,null,{"$f":"IF(TRIM(J11)=\"\", \"\", IF(VLOOKUP(J11,'Footnotes list'!$B$5:$C$103,2,FALSE)=0,\"\",VLOOKUP(J11,'Footnotes list'!$B$5:$C$103,2,FALSE) ) )","v":""},{"$f":"IF(AND(TRIM(L8)=\"\",TRIM(L9)=\"\",TRIM(L10)=\"\"),\"\",L8+L9+L10)","v":""},null,null,null,{"$f":"IF(TRIM(O11)=\"\", \"\", IF(VLOOKUP(O11,'Footnotes list'!$B$5:$C$103,2,FALSE)=0,\"\",VLOOKUP(O11,'Footnotes list'!$B$5:$C$103,2,FALSE) ) )","v":""},null,null,null,null,{"$f":"IF(TRIM(T11)=\"\", \"\", IF(VLOOKUP(T11,'Footnotes list'!$B$5:$C$103,2,FALSE)=0,\"\",VLOOKUP(T11,'Footnotes list'!$B$5:$C$103,2,FALSE) ) )","v":""}]
["DSP_L","BE1",null,"BE1","    RÉGION DE BRUXELLES-CAPITALE / BRUSSELS HOOFDSTEDELIJK GEWEST","Total",null,null,null,null,{"$f":"IF(TRIM(J12)=\"\", \"\", IF(VLOOKUP(J12,'Footnotes list'!$B$5:$C$103,2,FALSE)=0,\"\",VLOOKUP(J12,'Footnotes list'!$B$5:$C$103,2,FALSE) ) )","v":""},null,null,null,null,{"$f":"IF(TRIM(O12)=\"\", \"\", IF(VLOOKUP(O12,'Footnotes list'!$B$5:$C$103,2,FALSE)=0,\"\",VLOOKUP(O12,'Footnotes list'!$B$5:$C$103,2,FALSE) ) )","v":""}]
["DSP_L","BE2",null,"BE2","    VLAAMS GEWEST",null,null,null,null,null,{"$f":"IF(TRIM(J13)=\"\", \"\", IF(VLOOKUP(J13,'Footnotes list'!$B$5:$C$103,2,FALSE)=0,\"\",VLOOKUP(J13,'Footnotes list'!$B$5:$C$103,2,FALSE) ) )","v":""},null,null,null,null,{"$f":"IF(TRIM(O13)=\"\", \"\", IF(VLOOKUP(O13,'Footnotes list'!$B$5:$C$103,2,FALSE)=0,\"\",VLOOKUP(O13,'Footnotes list'!$B$5:$C$103,2,FALSE) ) )","v":""}]
["DSP_L","BE21",null,"BE21","        Prov. Antwerpen",null,null,null,null,null,{"$f":"IF(TRIM(J14)=\"\", \"\", IF(VLOOKUP(J14,'Footnotes list'!$B$5:$C$103,2,FALSE)=0,\"\",VLOOKUP(J14,'Footnotes list'!$B$5:$C$103,2,FALSE) ) )","v":""},null,null,null,null,{"$f":"IF(TRIM(O14)=\"\", \"\", IF(VLOOKUP(O14,'Footnotes list'!$B$5:$C$103,2,FALSE)=0,\"\",VLOOKUP(O14,'Footnotes list'!$B$5:$C$103,2,FALSE) ) )","v":""}]
["DSP_L","BE22",null,"BE22","        Prov. Limburg (BE)",null,null,null,null,null,{"$f":"IF(TRIM(J15)=\"\", \"\", IF(VLOOKUP(J15,'Footnotes list'!$B$5:$C$103,2,FALSE)=0,\"\",VLOOKUP(J15,'Footnotes list'!$B$5:$C$103,2,FALSE) ) )","v":""},null,null,null,null,{"$f":"IF(TRIM(O15)=\"\", \"\", IF(VLOOKUP(O15,'Footnotes list'!$B$5:$C$103,2,FALSE)=0,\"\",VLOOKUP(O15,'Footnotes list'!$B$5:$C$103,2,FALSE) ) )","v":""}]
["DSP_L","BE23",null,"BE23","        Prov. Oost-Vlaanderen",null,null,null,null,null,{"$f":"IF(TRIM(J16)=\"\", \"\", IF(VLOOKUP(J16,'Footnotes list'!$B$5:$C$103,2,FALSE)=0,\"\",VLOOKUP(J16,'Footnotes list'!$B$5:$C$103,2,FALSE) ) )","v":""},null,null,null,null,{"$f":"IF(TRIM(O16)=\"\", \"\", IF(VLOOKUP(O16,'Footnotes list'!$B$5:$C$103,2,FALSE)=0,\"\",VLOOKUP(O16,'Footnotes list'!$B$5:$C$103,2,FALSE) ) )","v":""}]
["DSP_L","BE24",null,"BE24","        Prov. Vlaams-Brabant",null,null,null,null,null,{"$f":"IF(TRIM(J17)=\"\", \"\", IF(VLOOKUP(J17,'Footnotes list'!$B$5:$C$103,2,FALSE)=0,\"\",VLOOKUP(J17,'Footnotes list'!$B$5:$C$103,2,FALSE) ) )","v":""},null,null,null,null,{"$f":"IF(TRIM(O17)=\"\", \"\", IF(VLOOKUP(O17,'Footnotes list'!$B$5:$C$103,2,FALSE)=0,\"\",VLOOKUP(O17,'Footnotes list'!$B$5:$C$103,2,FALSE) ) )","v":""}]
["DSP_L","BE25",null,"BE25","        Prov. West-Vlaanderen",null,null,null,null,null,{"$f":"IF(TRIM(J18)=\"\", \"\", IF(VLOOKUP(J18,'Footnotes list'!$B$5:$C$103,2,FALSE)=0,\"\",VLOOKUP(J18,'Footnotes list'!$B$5:$C$103,2,FALSE) ) )","v":""},null,null,null,null,{"$f":"IF(TRIM(O18)=\"\", \"\", IF(VLOOKUP(O18,'Footnotes list'!$B$5:$C$103,2,FALSE)=0,\"\",VLOOKUP(O18,'Footnotes list'!$B$5:$C$103,2,FALSE) ) )","v":""}]
["DSP_L","BE3",null,"BE3","    RÉGION WALLONNE",null,null,null,null,null,{"$f":"IF(TRIM(J19)=\"\", \"\", IF(VLOOKUP(J19,'Footnotes list'!$B$5:$C$103,2,FALSE)=0,\"\",VLOOKUP(J19,'Footnotes list'!$B$5:$C$103,2,FALSE) ) )","v":""},null,null,null,null,{"$f":"IF(TRIM(O19)=\"\", \"\", IF(VLOOKUP(O19,'Footnotes list'!$B$5:$C$103,2,FALSE)=0,\"\",VLOOKUP(O19,'Footnotes list'!$B$5:$C$103,2,FALSE) ) )","v":""}]
["DSP_L","BE31",null,"BE31","        Prov. Brabant Wallon",null,null,null,null,null,{"$f":"IF(TRIM(J20)=\"\", \"\", IF(VLOOKUP(J20,'Footnotes list'!$B$5:$C$103,2,FALSE)=0,\"\",VLOOKUP(J20,'Footnotes list'!$B$5:$C$103,2,FALSE) ) )","v":""},null,null,null,null,{"$f":"IF(TRIM(O20)=\"\", \"\", IF(VLOOKUP(O20,'Footnotes list'!$B$5:$C$103,2,FALSE)=0,\"\",VLOOKUP(O20,'Footnotes list'!$B$5:$C$103,2,FALSE) ) )","v":""}]
["DSP_L","BE32",null,"BE32","        Prov. Hainaut",null,null,null,null,null,{"$f":"IF(TRIM(J21)=\"\", \"\", IF(VLOOKUP(J21,'Footnotes list'!$B$5:$C$103,2,FALSE)=0,\"\",VLOOKUP(J21,'Footnotes list'!$B$5:$C$103,2,FALSE) ) )","v":""},null,null,null,null,{"$f":"IF(TRIM(O21)=\"\", \"\", IF(VLOOKUP(O21,'Footnotes list'!$B$5:$C$103,2,FALSE)=0,\"\",VLOOKUP(O21,'Footnotes list'!$B$5:$C$103,2,FALSE) ) )","v":""}]
["DSP_L","BE33",null,"BE33","        Prov. Liège",null,null,null,null,null,{"$f":"IF(TRIM(J22)=\"\", \"\", IF(VLOOKUP(J22,'Footnotes list'!$B$5:$C$103,2,FALSE)=0,\"\",VLOOKUP(J22,'Footnotes list'!$B$5:$C$103,2,FALSE) ) )","v":""},null,null,null,null,{"$f":"IF(TRIM(O22)=\"\", \"\", IF(VLOOKUP(O22,'Footnotes list'!$B$5:$C$103,2,FALSE)=0,\"\",VLOOKUP(O22,'Footnotes list'!$B$5:$C$103,2,FALSE) ) )","v":""}]
["DSP_L","BE34",null,"BE34","        Prov. Luxembourg (BE)",null,null,null,null,null,{"$f":"IF(TRIM(J23)=\"\", \"\", IF(VLOOKUP(J23,'Footnotes list'!$B$5:$C$103,2,FALSE)=0,\"\",VLOOKUP(J23,'Footnotes list'!$B$5:$C$103,2,FALSE) ) )","v":""},null,null,null,null,{"$f":"IF(TRIM(O23)=\"\", \"\", IF(VLOOKUP(O23,'Footnotes list'!$B$5:$C$103,2,FALSE)=0,\"\",VLOOKUP(O23,'Footnotes list'!$B$5:$C$103,2,FALSE) ) )","v":""}]
["DSP_L","BE35",null,"BE35","        Prov. Namur",null,null,null,null,null,{"$f":"IF(TRIM(J24)=\"\", \"\", IF(VLOOKUP(J24,'Footnotes list'!$B$5:$C$103,2,FALSE)=0,\"\",VLOOKUP(J24,'Footnotes list'!$B$5:$C$103,2,FALSE) ) )","v":""},null,null,null,null,{"$f":"IF(TRIM(O24)=\"\", \"\", IF(VLOOKUP(O24,'Footnotes list'!$B$5:$C$103,2,FALSE)=0,\"\",VLOOKUP(O24,'Footnotes list'!$B$5:$C$103,2,FALSE) ) )","v":""}]
["DSP_LIN","BG",null,"BG","БЪЛГАРИЯ","Inert waste",null,null,null,null,{"$f":"IF(TRIM(J25)=\"\", \"\", IF(VLOOKUP(J25,'Footnotes list'!$B$5:$C$103,2,FALSE)=0,\"\",VLOOKUP(J25,'Footnotes list'!$B$5:$C$103,2,FALSE) ) )","v":""},null,null,null,null,{"$f":"IF(TRIM(O25)=\"\", \"\", IF(VLOOKUP(O25,'Footnotes list'!$B$5:$C$103,2,FALSE)=0,\"\",VLOOKUP(O25,'Footnotes list'!$B$5:$C$103,2,FALSE) ) )","v":""},null,null,null,null,{"$f":"IF(TRIM(T25)=\"\", \"\", IF(VLOOKUP(T25,'Footnotes list'!$B$5:$C$103,2,FALSE)=0,\"\",VLOOKUP(T25,'Footnotes list'!$B$5:$C$103,2,FALSE) ) )","v":""}]
["DSP_LNH",{"$f":"B25","v":"BG"},null,{"$f":"D25","v":"BG"},null,"Non-hazardous waste",null,null,null,null,{"$f":"IF(TRIM(J26)=\"\", \"\", IF(VLOOKUP(J26,'Footnotes list'!$B$5:$C$103,2,FALSE)=0,\"\",VLOOKUP(J26,'Footnotes list'!$B$5:$C$103,2,FALSE) ) )","v":""},null,null,null,null,{"$f":"IF(TRIM(O26)=\"\", \"\", IF(VLOOKUP(O26,'Footnotes list'!$B$5:$C$103,2,FALSE)=0,\"\",VLOOKUP(O26,'Footnotes list'!$B$5:$C$103,2,FALSE) ) )","v":""},null,null,null,null,{"$f":"IF(TRIM(T26)=\"\", \"\", IF(VLOOKUP(T26,'Footnotes list'!$B$5:$C$103,2,FALSE)=0,\"\",VLOOKUP(T26,'Footnotes list'!$B$5:$C$103,2,FALSE) ) )","v":""}]
["DSP_LH",{"$f":"B25","v":"BG"},null,{"$f":"D25","v":"BG"},null,"Hazardous waste",null,null,null,null,{"$f":"IF(TRIM(J27)=\"\", \"\", IF(VLOOKUP(J27,'Footnotes list'!$B$5:$C$103,2,FALSE)=0,\"\",VLOOKUP(J27,'Footnotes list'!$B$5:$C$103,2,FALSE) ) )","v":""},null,null,null,null,{"$f":"IF(TRIM(O27)=\"\", \"\", IF(VLOOKUP(O27,'Footnotes list'!$B$5:$C$103,2,FALSE)=0,\"\",VLOOKUP(O27,'Footnotes list'!$B$5:$C$103,2,FALSE) ) )","v":""},null,null,null,null,{"$f":"IF(TRIM(T27)=\"\", \"\", IF(VLOOKUP(T27,'Footnotes list'!$B$5:$C$103,2,FALSE)=0,\"\",VLOOKUP(T27,'Footnotes list'!$B$5:$C$103,2,FALSE) ) )","v":""}]
["DSP_L",{"$f":"B25","v":"BG"},null,{"$f":"D25","v":"BG"},null,"Total",{"$f":"IF(AND(TRIM(G25)=\"\",TRIM(G26)=\"\",TRIM(G27)=\"\"),\"\",G25+G26+G27)","v":""},null,null,null,{"$f":"IF(TRIM(J28)=\"\", \"\", IF(VLOOKUP(J28,'Footnotes list'!$B$5:$C$103,2,FALSE)=0,\"\",VLOOKUP(J28,'Footnotes list'!$B$5:$C$103,2,FALSE) ) )","v":""},{"$f":"IF(AND(TRIM(L25)=\"\",TRIM(L26)=\"\",TRIM(L27)=\"\"),\"\",L25+L26+L27)","v":""},null,null,null,{"$f":"IF(TRIM(O28)=\"\", \"\", IF(VLOOKUP(O28,'Footnotes list'!$B$5:$C$103,2,FALSE)=0,\"\",VLOOKUP(O28,'Footnotes list'!$B$5:$C$103,2,FALSE) ) )","v":""},null,null,null,null,{"$f":"IF(TRIM(T28)=\"\", \"\", IF(VLOOKUP(T28,'Footnotes list'!$B$5:$C$103,2,FALSE)=0,\"\",VLOOKUP(T28,'Footnotes list'!$B$5:$C$103,2,FALSE) ) )","v":""}]
["DSP_L","BG3",null,"BG3","    СЕВЕРНА И ЮГОИЗТОЧНА БЪЛГАРИЯ","Total",null,null,null,null,{"$f":"IF(TRIM(J29)=\"\", \"\", IF(VLOOKUP(J29,'Footnotes list'!$B$5:$C$103,2,FALSE)=0,\"\",VLOOKUP(J29,'Footnotes list'!$B$5:$C$103,2,FALSE) ) )","v":""},null,null,null,null,{"$f":"IF(TRIM(O29)=\"\", \"\", IF(VLOOKUP(O29,'Footnotes list'!$B$5:$C$103,2,FALSE)=0,\"\",VLOOKUP(O29,'Footnotes list'!$B$5:$C$103,2,FALSE) ) )","v":""}]
["DSP_L","BG31",null,"BG31","        Северозападен",null,null,null,null,null,{"$f":"IF(TRIM(J30)=\"\", \"\", IF(VLOOKUP(J30,'Footnotes list'!$B$5:$C$103,2,FALSE)=0,\"\",VLOOKUP(J30,'Footnotes list'!$B$5:$C$103,2,FALSE) ) )","v":""},null,null,null,null,{"$f":"IF(TRIM(O30)=\"\", \"\", IF(VLOOKUP(O30,'Footnotes list'!$B$5:$C$103,2,FALSE)=0,\"\",VLOOKUP(O30,'Footnotes list'!$B$5:$C$103,2,FALSE) ) )","v":""}]
["DSP_L","BG32",null,"BG32","        Северен централен",null,null,null,null,null,{"$f":"IF(TRIM(J31)=\"\", \"\", IF(VLOOKUP(J31,'Footnotes list'!$B$5:$C$103,2,FALSE)=0,\"\",VLOOKUP(J31,'Footnotes list'!$B$5:$C$103,2,FALSE) ) )","v":""},null,null,null,null,{"$f":"IF(TRIM(O31)=\"\", \"\", IF(VLOOKUP(O31,'Footnotes list'!$B$5:$C$103,2,FALSE)=0,\"\",VLOOKUP(O31,'Footnotes list'!$B$5:$C$103,2,FALSE) ) )","v":""}]
["DSP_L","BG33",null,"BG33","        Североизточен",null,null,null,null,null,{"$f":"IF(TRIM(J32)=\"\", \"\", IF(VLOOKUP(J32,'Footnotes list'!$B$5:$C$103,2,FALSE)=0,\"\",VLOOKUP(J32,'Footnotes list'!$B$5:$C$103,2,FALSE) ) )","v":""},null,null,null,null,{"$f":"IF(TRIM(O32)=\"\", \"\", IF(VLOOKUP(O32,'Footnotes list'!$B$5:$C$103,2,FALSE)=0,\"\",VLOOKUP(O32,'Footnotes list'!$B$5:$C$103,2,FALSE) ) )","v":""}]
["DSP_L","BG34",null,"BG34","        Югоизточен",null,null,null,null,null,{"$f":"IF(TRIM(J33)=\"\", \"\", IF(VLOOKUP(J33,'Footnotes list'!$B$5:$C$103,2,FALSE)=0,\"\",VLOOKUP(J33,'Footnotes list'!$B$5:$C$103,2,FALSE) ) )","v":""},null,null,null,null,{"$f":"IF(TRIM(O33)=\"\", \"\", IF(VLOOKUP(O33,'Footnotes list'!$B$5:$C$103,2,FALSE)=0,\"\",VLOOKUP(O33,'Footnotes list'!$B$5:$C$103,2,FALSE) ) )","v":""}]
["DSP_L","BG4",null,"BG4","    ЮГОЗАПАДНА И ЮЖНА ЦЕНТРАЛНА БЪЛГАРИЯ",null,null,null,null,null,{"$f":"IF(TRIM(J34)=\"\", \"\", IF(VLOOKUP(J34,'Footnotes list'!$B$5:$C$103,2,FALSE)=0,\"\",VLOOKUP(J34,'Footnotes list'!$B$5:$C$103,2,FALSE) ) )","v":""},null,null,null,null,{"$f":"IF(TRIM(O34)=\"\", \"\", IF(VLOOKUP(O34,'Footnotes list'!$B$5:$C$103,2,FALSE)=0,\"\",VLOOKUP(O34,'Footnotes list'!$B$5:$C$103,2,FALSE) ) )","v":""}]
["DSP_L","BG41",null,"BG41","        Югозападен",null,null,null,null,null,{"$f":"IF(TRIM(J35)=\"\", \"\", IF(VLOOKUP(J35,'Footnotes list'!$B$5:$C$103,2,FALSE)=0,\"\",VLOOKUP(J35,'Footnotes list'!$B$5:$C$103,2,FALSE) ) )","v":""},null,null,null,null,{"$f":"IF(TRIM(O35)=\"\", \"\", IF(VLOOKUP(O35,'Footnotes list'!$B$5:$C$103,2,FALSE)=0,\"\",VLOOKUP(O35,'Footnotes list'!$B$5:$C$103,2,FALSE) ) )","v":""}]
["DSP_L","BG42",null,"BG42","        Южен централен",null,null,null,null,null,{"$f":"IF(TRIM(J36)=\"\", \"\", IF(VLOOKUP(J36,'Footnotes list'!$B$5:$C$103,2,FALSE)=0,\"\",VLOOKUP(J36,'Footnotes list'!$B$5:$C$103,2,FALSE) ) )","v":""},null,null,null,null,{"$f":"IF(TRIM(O36)=\"\", \"\", IF(VLOOKUP(O36,'Footnotes list'!$B$5:$C$103,2,FALSE)=0,\"\",VLOOKUP(O36,'Footnotes list'!$B$5:$C$103,2,FALSE) ) )","v":""}]
["DSP_LIN","CZ",null,"CZ","ČESKÁ REPUBLIKA","Inert waste",null,null,null,null,{"$f":"IF(TRIM(J37)=\"\", \"\", IF(VLOOKUP(J37,'Footnotes list'!$B$5:$C$103,2,FALSE)=0,\"\",VLOOKUP(J37,'Footnotes list'!$B$5:$C$103,2,FALSE) ) )","v":""},null,null,null,null,{"$f":"IF(TRIM(O37)=\"\", \"\", IF(VLOOKUP(O37,'Footnotes list'!$B$5:$C$103,2,FALSE)=0,\"\",VLOOKUP(O37,'Footnotes list'!$B$5:$C$103,2,FALSE) ) )","v":""},null,null,null,null,{"$f":"IF(TRIM(T37)=\"\", \"\", IF(VLOOKUP(T37,'Footnotes list'!$B$5:$C$103,2,FALSE)=0,\"\",VLOOKUP(T37,'Footnotes list'!$B$5:$C$103,2,FALSE) ) )","v":""}]
["DSP_LNH",{"$f":"B37","v":"CZ"},null,{"$f":"D37","v":"CZ"},null,"Non-hazardous waste",null,null,null,null,{"$f":"IF(TRIM(J38)=\"\", \"\", IF(VLOOKUP(J38,'Footnotes list'!$B$5:$C$103,2,FALSE)=0,\"\",VLOOKUP(J38,'Footnotes list'!$B$5:$C$103,2,FALSE) ) )","v":""},null,null,null,null,{"$f":"IF(TRIM(O38)=\"\", \"\", IF(VLOOKUP(O38,'Footnotes list'!$B$5:$C$103,2,FALSE)=0,\"\",VLOOKUP(O38,'Footnotes list'!$B$5:$C$103,2,FALSE) ) )","v":""},null,null,null,null,{"$f":"IF(TRIM(T38)=\"\", \"\", IF(VLOOKUP(T38,'Footnotes list'!$B$5:$C$103,2,FALSE)=0,\"\",VLOOKUP(T38,'Footnotes list'!$B$5:$C$103,2,FALSE) ) )","v":""}]
["DSP_LH",{"$f":"B37","v":"CZ"},null,{"$f":"D37","v":"CZ"},null,"Hazardous waste",null,null,null,null,{"$f":"IF(TRIM(J39)=\"\", \"\", IF(VLOOKUP(J39,'Footnotes list'!$B$5:$C$103,2,FALSE)=0,\"\",VLOOKUP(J39,'Footnotes list'!$B$5:$C$103,2,FALSE) ) )","v":""},null,null,null,null,{"$f":"IF(TRIM(O39)=\"\", \"\", IF(VLOOKUP(O39,'Footnotes list'!$B$5:$C$103,2,FALSE)=0,\"\",VLOOKUP(O39,'Footnotes list'!$B$5:$C$103,2,FALSE) ) )","v":""},null,null,null,null,{"$f":"IF(TRIM(T39)=\"\", \"\", IF(VLOOKUP(T39,'Footnotes list'!$B$5:$C$103,2,FALSE)=0,\"\",VLOOKUP(T39,'Footnotes list'!$B$5:$C$103,2,FALSE) ) )","v":""}]
["DSP_L",{"$f":"B37","v":"CZ"},null,{"$f":"D37","v":"CZ"},null,"Total",{"$f":"IF(AND(TRIM(G37)=\"\",TRIM(G38)=\"\",TRIM(G39)=\"\"),\"\",G37+G38+G39)","v":""},null,null,null,{"$f":"IF(TRIM(J40)=\"\", \"\", IF(VLOOKUP(J40,'Footnotes list'!$B$5:$C$103,2,FALSE)=0,\"\",VLOOKUP(J40,'Footnotes list'!$B$5:$C$103,2,FALSE) ) )","v":""},{"$f":"IF(AND(TRIM(L37)=\"\",TRIM(L38)=\"\",TRIM(L39)=\"\"),\"\",L37+L38+L39)","v":""},null,null,null,{"$f":"IF(TRIM(O40)=\"\", \"\", IF(VLOOKUP(O40,'Footnotes list'!$B$5:$C$103,2,FALSE)=0,\"\",VLOOKUP(O40,'Footnotes list'!$B$5:$C$103,2,FALSE) ) )","v":""},null,null,null,null,{"$f":"IF(TRIM(T40)=\"\", \"\", IF(VLOOKUP(T40,'Footnotes list'!$B$5:$C$103,2,FALSE)=0,\"\",VLOOKUP(T40,'Footnotes list'!$B$5:$C$103,2,FALSE) ) )","v":""}]
["DSP_L","CZ01",null,"CZ01","    Praha","Total",null,null,null,null,{"$f":"IF(TRIM(J41)=\"\", \"\", IF(VLOOKUP(J41,'Footnotes list'!$B$5:$C$103,2,FALSE)=0,\"\",VLOOKUP(J41,'Footnotes list'!$B$5:$C$103,2,FALSE) ) )","v":""},null,null,null,null,{"$f":"IF(TRIM(O41)=\"\", \"\", IF(VLOOKUP(O41,'Footnotes list'!$B$5:$C$103,2,FALSE)=0,\"\",VLOOKUP(O41,'Footnotes list'!$B$5:$C$103,2,FALSE) ) )","v":""}]
["DSP_L","CZ02",null,"CZ02","    Střední Čechy",null,null,null,null,null,{"$f":"IF(TRIM(J42)=\"\", \"\", IF(VLOOKUP(J42,'Footnotes list'!$B$5:$C$103,2,FALSE)=0,\"\",VLOOKUP(J42,'Footnotes list'!$B$5:$C$103,2,FALSE) ) )","v":""},null,null,null,null,{"$f":"IF(TRIM(O42)=\"\", \"\", IF(VLOOKUP(O42,'Footnotes list'!$B$5:$C$103,2,FALSE)=0,\"\",VLOOKUP(O42,'Footnotes list'!$B$5:$C$103,2,FALSE) ) )","v":""}]
["DSP_L","CZ03",null,"CZ03","    Jihozápad",null,null,null,null,null,{"$f":"IF(TRIM(J43)=\"\", \"\", IF(VLOOKUP(J43,'Footnotes list'!$B$5:$C$103,2,FALSE)=0,\"\",VLOOKUP(J43,'Footnotes list'!$B$5:$C$103,2,FALSE) ) )","v":""},null,null,null,null,{"$f":"IF(TRIM(O43)=\"\", \"\", IF(VLOOKUP(O43,'Footnotes list'!$B$5:$C$103,2,FALSE)=0,\"\",VLOOKUP(O43,'Footnotes list'!$B$5:$C$103,2,FALSE) ) )","v":""}]
["DSP_L","CZ04",null,"CZ04","    Severozápad",null,null,null,null,null,{"$f":"IF(TRIM(J44)=\"\", \"\", IF(VLOOKUP(J44,'Footnotes list'!$B$5:$C$103,2,FALSE)=0,\"\",VLOOKUP(J44,'Footnotes list'!$B$5:$C$103,2,FALSE) ) )","v":""},null,null,null,null,{"$f":"IF(TRIM(O44)=\"\", \"\", IF(VLOOKUP(O44,'Footnotes list'!$B$5:$C$103,2,FALSE)=0,\"\",VLOOKUP(O44,'Footnotes list'!$B$5:$C$103,2,FALSE) ) )","v":""}]
["DSP_L","CZ05",null,"CZ05","    Severovýchod",null,null,null,null,null,{"$f":"IF(TRIM(J45)=\"\", \"\", IF(VLOOKUP(J45,'Footnotes list'!$B$5:$C$103,2,FALSE)=0,\"\",VLOOKUP(J45,'Footnotes list'!$B$5:$C$103,2,FALSE) ) )","v":""},null,null,null,null,{"$f":"IF(TRIM(O45)=\"\", \"\", IF(VLOOKUP(O45,'Footnotes list'!$B$5:$C$103,2,FALSE)=0,\"\",VLOOKUP(O45,'Footnotes list'!$B$5:$C$103,2,FALSE) ) )","v":""}]
["DSP_L","CZ06",null,"CZ06","    Jihovýchod",null,null,null,null,null,{"$f":"IF(TRIM(J46)=\"\", \"\", IF(VLOOKUP(J46,'Footnotes list'!$B$5:$C$103,2,FALSE)=0,\"\",VLOOKUP(J46,'Footnotes list'!$B$5:$C$103,2,FALSE) ) )","v":""},null,null,null,null,{"$f":"IF(TRIM(O46)=\"\", \"\", IF(VLOOKUP(O46,'Footnotes list'!$B$5:$C$103,2,FALSE)=0,\"\",VLOOKUP(O46,'Footnotes list'!$B$5:$C$103,2,FALSE) ) )","v":""}]
["DSP_L","CZ07",null,"CZ07","    Střední Morava",null,null,null,null,null,{"$f":"IF(TRIM(J47)=\"\", \"\", IF(VLOOKUP(J47,'Footnotes list'!$B$5:$C$103,2,FALSE)=0,\"\",VLOOKUP(J47,'Footnotes list'!$B$5:$C$103,2,FALSE) ) )","v":""},null,null,null,null,{"$f":"IF(TRIM(O47)=\"\", \"\", IF(VLOOKUP(O47,'Footnotes list'!$B$5:$C$103,2,FALSE)=0,\"\",VLOOKUP(O47,'Footnotes list'!$B$5:$C$103,2,FALSE) ) )","v":""}]
["DSP_L","CZ08",null,"CZ08","    Moravskoslezsko",null,null,null,null,null,{"$f":"IF(TRIM(J48)=\"\", \"\", IF(VLOOKUP(J48,'Footnotes list'!$B$5:$C$103,2,FALSE)=0,\"\",VLOOKUP(J48,'Footnotes list'!$B$5:$C$103,2,FALSE) ) )","v":""},null,null,null,null,{"$f":"IF(TRIM(O48)=\"\", \"\", IF(VLOOKUP(O48,'Footnotes list'!$B$5:$C$103,2,FALSE)=0,\"\",VLOOKUP(O48,'Footnotes list'!$B$5:$C$103,2,FALSE) ) )","v":""}]
["DSP_LIN","DK",null,"DK","DANMARK","Inert waste",null,null,null,null,{"$f":"IF(TRIM(J49)=\"\", \"\", IF(VLOOKUP(J49,'Footnotes list'!$B$5:$C$103,2,FALSE)=0,\"\",VLOOKUP(J49,'Footnotes list'!$B$5:$C$103,2,FALSE) ) )","v":""},null,null,null,null,{"$f":"IF(TRIM(O49)=\"\", \"\", IF(VLOOKUP(O49,'Footnotes list'!$B$5:$C$103,2,FALSE)=0,\"\",VLOOKUP(O49,'Footnotes list'!$B$5:$C$103,2,FALSE) ) )","v":""},null,null,null,null,{"$f":"IF(TRIM(T49)=\"\", \"\", IF(VLOOKUP(T49,'Footnotes list'!$B$5:$C$103,2,FALSE)=0,\"\",VLOOKUP(T49,'Footnotes list'!$B$5:$C$103,2,FALSE) ) )","v":""}]
["DSP_LNH",{"$f":"B49","v":"DK"},null,{"$f":"D49","v":"DK"},null,"Non-hazardous waste",null,null,null,null,{"$f":"IF(TRIM(J50)=\"\", \"\", IF(VLOOKUP(J50,'Footnotes list'!$B$5:$C$103,2,FALSE)=0,\"\",VLOOKUP(J50,'Footnotes list'!$B$5:$C$103,2,FALSE) ) )","v":""},null,null,null,null,{"$f":"IF(TRIM(O50)=\"\", \"\", IF(VLOOKUP(O50,'Footnotes list'!$B$5:$C$103,2,FALSE)=0,\"\",VLOOKUP(O50,'Footnotes list'!$B$5:$C$103,2,FALSE) ) )","v":""},null,null,null,null,{"$f":"IF(TRIM(T50)=\"\", \"\", IF(VLOOKUP(T50,'Footnotes list'!$B$5:$C$103,2,FALSE)=0,\"\",VLOOKUP(T50,'Footnotes list'!$B$5:$C$103,2,FALSE) ) )","v":""}]
["DSP_LH",{"$f":"B49","v":"DK"},null,{"$f":"D49","v":"DK"},null,"Hazardous waste",null,null,null,null,{"$f":"IF(TRIM(J51)=\"\", \"\", IF(VLOOKUP(J51,'Footnotes list'!$B$5:$C$103,2,FALSE)=0,\"\",VLOOKUP(J51,'Footnotes list'!$B$5:$C$103,2,FALSE) ) )","v":""},null,null,null,null,{"$f":"IF(TRIM(O51)=\"\", \"\", IF(VLOOKUP(O51,'Footnotes list'!$B$5:$C$103,2,FALSE)=0,\"\",VLOOKUP(O51,'Footnotes list'!$B$5:$C$103,2,FALSE) ) )","v":""},null,null,null,null,{"$f":"IF(TRIM(T51)=\"\", \"\", IF(VLOOKUP(T51,'Footnotes list'!$B$5:$C$103,2,FALSE)=0,\"\",VLOOKUP(T51,'Footnotes list'!$B$5:$C$103,2,FALSE) ) )","v":""}]
["DSP_L",{"$f":"B49","v":"DK"},null,{"$f":"D49","v":"DK"},null,"Total",{"$f":"IF(AND(TRIM(G49)=\"\",TRIM(G50)=\"\",TRIM(G51)=\"\"),\"\",G49+G50+G51)","v":""},null,null,null,{"$f":"IF(TRIM(J52)=\"\", \"\", IF(VLOOKUP(J52,'Footnotes list'!$B$5:$C$103,2,FALSE)=0,\"\",VLOOKUP(J52,'Footnotes list'!$B$5:$C$103,2,FALSE) ) )","v":""},{"$f":"IF(AND(TRIM(L49)=\"\",TRIM(L50)=\"\",TRIM(L51)=\"\"),\"\",L49+L50+L51)","v":""},null,null,null,{"$f":"IF(TRIM(O52)=\"\", \"\", IF(VLOOKUP(O52,'Footnotes list'!$B$5:$C$103,2,FALSE)=0,\"\",VLOOKUP(O52,'Footnotes list'!$B$5:$C$103,2,FALSE) ) )","v":""},null,null,null,null,{"$f":"IF(TRIM(T52)=\"\", \"\", IF(VLOOKUP(T52,'Footnotes list'!$B$5:$C$103,2,FALSE)=0,\"\",VLOOKUP(T52,'Footnotes list'!$B$5:$C$103,2,FALSE) ) )","v":""}]
["DSP_L","DK01",null,"DK01","    Hovedstaden","Total",null,null,null,null,{"$f":"IF(TRIM(J53)=\"\", \"\", IF(VLOOKUP(J53,'Footnotes list'!$B$5:$C$103,2,FALSE)=0,\"\",VLOOKUP(J53,'Footnotes list'!$B$5:$C$103,2,FALSE) ) )","v":""},null,null,null,null,{"$f":"IF(TRIM(O53)=\"\", \"\", IF(VLOOKUP(O53,'Footnotes list'!$B$5:$C$103,2,FALSE)=0,\"\",VLOOKUP(O53,'Footnotes list'!$B$5:$C$103,2,FALSE) ) )","v":""}]
["DSP_L","DK02",null,"DK02","    Sjælland",null,null,null,null,null,{"$f":"IF(TRIM(J54)=\"\", \"\", IF(VLOOKUP(J54,'Footnotes list'!$B$5:$C$103,2,FALSE)=0,\"\",VLOOKUP(J54,'Footnotes list'!$B$5:$C$103,2,FALSE) ) )","v":""},null,null,null,null,{"$f":"IF(TRIM(O54)=\"\", \"\", IF(VLOOKUP(O54,'Footnotes list'!$B$5:$C$103,2,FALSE)=0,\"\",VLOOKUP(O54,'Footnotes list'!$B$5:$C$103,2,FALSE) ) )","v":""}]
["DSP_L","DK03",null,"DK03","    Syddanmark",null,null,null,null,null,{"$f":"IF(TRIM(J55)=\"\", \"\", IF(VLOOKUP(J55,'Footnotes list'!$B$5:$C$103,2,FALSE)=0,\"\",VLOOKUP(J55,'Footnotes list'!$B$5:$C$103,2,FALSE) ) )","v":""},null,null,null,null,{"$f":"IF(TRIM(O55)=\"\", \"\", IF(VLOOKUP(O55,'Footnotes list'!$B$5:$C$103,2,FALSE)=0,\"\",VLOOKUP(O55,'Footnotes list'!$B$5:$C$103,2,FALSE) ) )","v":""}]
["DSP_L","DK04",null,"DK04","    Midtjylland",null,null,null,null,null,{"$f":"IF(TRIM(J56)=\"\", \"\", IF(VLOOKUP(J56,'Footnotes list'!$B$5:$C$103,2,FALSE)=0,\"\",VLOOKUP(J56,'Footnotes list'!$B$5:$C$103,2,FALSE) ) )","v":""},null,null,null,null,{"$f":"IF(TRIM(O56)=\"\", \"\", IF(VLOOKUP(O56,'Footnotes list'!$B$5:$C$103,2,FALSE)=0,\"\",VLOOKUP(O56,'Footnotes list'!$B$5:$C$103,2,FALSE) ) )","v":""}]
["DSP_L","DK05",null,"DK05","    Nordjylland",null,null,null,null,null,{"$f":"IF(TRIM(J57)=\"\", \"\", IF(VLOOKUP(J57,'Footnotes list'!$B$5:$C$103,2,FALSE)=0,\"\",VLOOKUP(J57,'Footnotes list'!$B$5:$C$103,2,FALSE) ) )","v":""},null,null,null,null,{"$f":"IF(TRIM(O57)=\"\", \"\", IF(VLOOKUP(O57,'Footnotes list'!$B$5:$C$103,2,FALSE)=0,\"\",VLOOKUP(O57,'Footnotes list'!$B$5:$C$103,2,FALSE) ) )","v":""}]
["DSP_LIN","DE",null,"DE","DEUTSCHLAND","Inert waste",null,null,null,null,{"$f":"IF(TRIM(J58)=\"\", \"\", IF(VLOOKUP(J58,'Footnotes list'!$B$5:$C$103,2,FALSE)=0,\"\",VLOOKUP(J58,'Footnotes list'!$B$5:$C$103,2,FALSE) ) )","v":""},null,null,null,null,{"$f":"IF(TRIM(O58)=\"\", \"\", IF(VLOOKUP(O58,'Footnotes list'!$B$5:$C$103,2,FALSE)=0,\"\",VLOOKUP(O58,'Footnotes list'!$B$5:$C$103,2,FALSE) ) )","v":""},null,null,null,null,{"$f":"IF(TRIM(T58)=\"\", \"\", IF(VLOOKUP(T58,'Footnotes list'!$B$5:$C$103,2,FALSE)=0,\"\",VLOOKUP(T58,'Footnotes list'!$B$5:$C$103,2,FALSE) ) )","v":""}]
["DSP_LNH",{"$f":"B58","v":"DE"},null,{"$f":"D58","v":"DE"},null,"Non-hazardous waste",null,null,null,null,{"$f":"IF(TRIM(J59)=\"\", \"\", IF(VLOOKUP(J59,'Footnotes list'!$B$5:$C$103,2,FALSE)=0,\"\",VLOOKUP(J59,'Footnotes list'!$B$5:$C$103,2,FALSE) ) )","v":""},null,null,null,null,{"$f":"IF(TRIM(O59)=\"\", \"\", IF(VLOOKUP(O59,'Footnotes list'!$B$5:$C$103,2,FALSE)=0,\"\",VLOOKUP(O59,'Footnotes list'!$B$5:$C$103,2,FALSE) ) )","v":""},null,null,null,null,{"$f":"IF(TRIM(T59)=\"\", \"\", IF(VLOOKUP(T59,'Footnotes list'!$B$5:$C$103,2,FALSE)=0,\"\",VLOOKUP(T59,'Footnotes list'!$B$5:$C$103,2,FALSE) ) )","v":""}]
["DSP_LH",{"$f":"B58","v":"DE"},null,{"$f":"D58","v":"DE"},null,"Hazardous waste",null,null,null,null,{"$f":"IF(TRIM(J60)=\"\", \"\", IF(VLOOKUP(J60,'Footnotes list'!$B$5:$C$103,2,FALSE)=0,\"\",VLOOKUP(J60,'Footnotes list'!$B$5:$C$103,2,FALSE) ) )","v":""},null,null,null,null,{"$f":"IF(TRIM(O60)=\"\", \"\", IF(VLOOKUP(O60,'Footnotes list'!$B$5:$C$103,2,FALSE)=0,\"\",VLOOKUP(O60,'Footnotes list'!$B$5:$C$103,2,FALSE) ) )","v":""},null,null,null,null,{"$f":"IF(TRIM(T60)=\"\", \"\", IF(VLOOKUP(T60,'Footnotes list'!$B$5:$C$103,2,FALSE)=0,\"\",VLOOKUP(T60,'Footnotes list'!$B$5:$C$103,2,FALSE) ) )","v":""}]
["DSP_L",{"$f":"B58","v":"DE"},null,{"$f":"D58","v":"DE"},null,"Total",{"$f":"IF(AND(TRIM(G58)=\"\",TRIM(G59)=\"\",TRIM(G60)=\"\"),\"\",G58+G59+G60)","v":""},null,null,null,{"$f":"IF(TRIM(J61)=\"\", \"\", IF(VLOOKUP(J61,'Footnotes list'!$B$5:$C$103,2,FALSE)=0,\"\",VLOOKUP(J61,'Footnotes list'!$B$5:$C$103,2,FALSE) ) )","v":""},{"$f":"IF(AND(TRIM(L58)=\"\",TRIM(L59)=\"\",TRIM(L60)=\"\"),\"\",L58+L59+L60)","v":""},null,null,null,{"$f":"IF(TRIM(O61)=\"\", \"\", IF(VLOOKUP(O61,'Footnotes list'!$B$5:$C$103,2,FALSE)=0,\"\",VLOOKUP(O61,'Footnotes list'!$B$5:$C$103,2,FALSE) ) )","v":""},null,null,null,null,{"$f":"IF(TRIM(T61)=\"\", \"\", IF(VLOOKUP(T61,'Footnotes list'!$B$5:$C$103,2,FALSE)=0,\"\",VLOOKUP(T61,'Footnotes list'!$B$5:$C$103,2,FALSE) ) )","v":""}]
["DSP_L","DE1",null,"DE1","    BADEN-WÜRTTEMBERG","Total",null,null,null,null,{"$f":"IF(TRIM(J62)=\"\", \"\", IF(VLOOKUP(J62,'Footnotes list'!$B$5:$C$103,2,FALSE)=0,\"\",VLOOKUP(J62,'Footnotes list'!$B$5:$C$103,2,FALSE) ) )","v":""},null,null,null,null,{"$f":"IF(TRIM(O62)=\"\", \"\", IF(VLOOKUP(O62,'Footnotes list'!$B$5:$C$103,2,FALSE)=0,\"\",VLOOKUP(O62,'Footnotes list'!$B$5:$C$103,2,FALSE) ) )","v":""}]
["DSP_L","DE11",null,"DE11","        Stuttgart",null,null,null,null,null,{"$f":"IF(TRIM(J63)=\"\", \"\", IF(VLOOKUP(J63,'Footnotes list'!$B$5:$C$103,2,FALSE)=0,\"\",VLOOKUP(J63,'Footnotes list'!$B$5:$C$103,2,FALSE) ) )","v":""},null,null,null,null,{"$f":"IF(TRIM(O63)=\"\", \"\", IF(VLOOKUP(O63,'Footnotes list'!$B$5:$C$103,2,FALSE)=0,\"\",VLOOKUP(O63,'Footnotes list'!$B$5:$C$103,2,FALSE) ) )","v":""}]
["DSP_L","DE12",null,"DE12","        Karlsruhe",null,null,null,null,null,{"$f":"IF(TRIM(J64)=\"\", \"\", IF(VLOOKUP(J64,'Footnotes list'!$B$5:$C$103,2,FALSE)=0,\"\",VLOOKUP(J64,'Footnotes list'!$B$5:$C$103,2,FALSE) ) )","v":""},null,null,null,null,{"$f":"IF(TRIM(O64)=\"\", \"\", IF(VLOOKUP(O64,'Footnotes list'!$B$5:$C$103,2,FALSE)=0,\"\",VLOOKUP(O64,'Footnotes list'!$B$5:$C$103,2,FALSE) ) )","v":""}]
["DSP_L","DE13",null,"DE13","        Freiburg",null,null,null,null,null,{"$f":"IF(TRIM(J65)=\"\", \"\", IF(VLOOKUP(J65,'Footnotes list'!$B$5:$C$103,2,FALSE)=0,\"\",VLOOKUP(J65,'Footnotes list'!$B$5:$C$103,2,FALSE) ) )","v":""},null,null,null,null,{"$f":"IF(TRIM(O65)=\"\", \"\", IF(VLOOKUP(O65,'Footnotes list'!$B$5:$C$103,2,FALSE)=0,\"\",VLOOKUP(O65,'Footnotes list'!$B$5:$C$103,2,FALSE) ) )","v":""}]
["DSP_L","DE14",null,"DE14","        Tübingen",null,null,null,null,null,{"$f":"IF(TRIM(J66)=\"\", \"\", IF(VLOOKUP(J66,'Footnotes list'!$B$5:$C$103,2,FALSE)=0,\"\",VLOOKUP(J66,'Footnotes list'!$B$5:$C$103,2,FALSE) ) )","v":""},null,null,null,null,{"$f":"IF(TRIM(O66)=\"\", \"\", IF(VLOOKUP(O66,'Footnotes list'!$B$5:$C$103,2,FALSE)=0,\"\",VLOOKUP(O66,'Footnotes list'!$B$5:$C$103,2,FALSE) ) )","v":""}]
["DSP_L","DE2",null,"DE2","    BAYERN",null,null,null,null,null,{"$f":"IF(TRIM(J67)=\"\", \"\", IF(VLOOKUP(J67,'Footnotes list'!$B$5:$C$103,2,FALSE)=0,\"\",VLOOKUP(J67,'Footnotes list'!$B$5:$C$103,2,FALSE) ) )","v":""},null,null,null,null,{"$f":"IF(TRIM(O67)=\"\", \"\", IF(VLOOKUP(O67,'Footnotes list'!$B$5:$C$103,2,FALSE)=0,\"\",VLOOKUP(O67,'Footnotes list'!$B$5:$C$103,2,FALSE) ) )","v":""}]
["DSP_L","DE21",null,"DE21","        Oberbayern",null,null,null,null,null,{"$f":"IF(TRIM(J68)=\"\", \"\", IF(VLOOKUP(J68,'Footnotes list'!$B$5:$C$103,2,FALSE)=0,\"\",VLOOKUP(J68,'Footnotes list'!$B$5:$C$103,2,FALSE) ) )","v":""},null,null,null,null,{"$f":"IF(TRIM(O68)=\"\", \"\", IF(VLOOKUP(O68,'Footnotes list'!$B$5:$C$103,2,FALSE)=0,\"\",VLOOKUP(O68,'Footnotes list'!$B$5:$C$103,2,FALSE) ) )","v":""}]
["DSP_L","DE22",null,"DE22","        Niederbayern",null,null,null,null,null,{"$f":"IF(TRIM(J69)=\"\", \"\", IF(VLOOKUP(J69,'Footnotes list'!$B$5:$C$103,2,FALSE)=0,\"\",VLOOKUP(J69,'Footnotes list'!$B$5:$C$103,2,FALSE) ) )","v":""},null,null,null,null,{"$f":"IF(TRIM(O69)=\"\", \"\", IF(VLOOKUP(O69,'Footnotes list'!$B$5:$C$103,2,FALSE)=0,\"\",VLOOKUP(O69,'Footnotes list'!$B$5:$C$103,2,FALSE) ) )","v":""}]
["DSP_L","DE23",null,"DE23","        Oberpfalz",null,null,null,null,null,{"$f":"IF(TRIM(J70)=\"\", \"\", IF(VLOOKUP(J70,'Footnotes list'!$B$5:$C$103,2,FALSE)=0,\"\",VLOOKUP(J70,'Footnotes list'!$B$5:$C$103,2,FALSE) ) )","v":""},null,null,null,null,{"$f":"IF(TRIM(O70)=\"\", \"\", IF(VLOOKUP(O70,'Footnotes list'!$B$5:$C$103,2,FALSE)=0,\"\",VLOOKUP(O70,'Footnotes list'!$B$5:$C$103,2,FALSE) ) )","v":""}]
["DSP_L","DE24",null,"DE24","        Oberfranken",null,null,null,null,null,{"$f":"IF(TRIM(J71)=\"\", \"\", IF(VLOOKUP(J71,'Footnotes list'!$B$5:$C$103,2,FALSE)=0,\"\",VLOOKUP(J71,'Footnotes list'!$B$5:$C$103,2,FALSE) ) )","v":""},null,null,null,null,{"$f":"IF(TRIM(O71)=\"\", \"\", IF(VLOOKUP(O71,'Footnotes list'!$B$5:$C$103,2,FALSE)=0,\"\",VLOOKUP(O71,'Footnotes list'!$B$5:$C$103,2,FALSE) ) )","v":""}]
["DSP_L","DE25",null,"DE25","        Mittelfranken",null,null,null,null,null,{"$f":"IF(TRIM(J72)=\"\", \"\", IF(VLOOKUP(J72,'Footnotes list'!$B$5:$C$103,2,FALSE)=0,\"\",VLOOKUP(J72,'Footnotes list'!$B$5:$C$103,2,FALSE) ) )","v":""},null,null,null,null,{"$f":"IF(TRIM(O72)=\"\", \"\", IF(VLOOKUP(O72,'Footnotes list'!$B$5:$C$103,2,FALSE)=0,\"\",VLOOKUP(O72,'Footnotes list'!$B$5:$C$103,2,FALSE) ) )","v":""}]
["DSP_L","DE26",null,"DE26","        Unterfranken",null,null,null,null,null,{"$f":"IF(TRIM(J73)=\"\", \"\", IF(VLOOKUP(J73,'Footnotes list'!$B$5:$C$103,2,FALSE)=0,\"\",VLOOKUP(J73,'Footnotes list'!$B$5:$C$103,2,FALSE) ) )","v":""},null,null,null,null,{"$f":"IF(TRIM(O73)=\"\", \"\", IF(VLOOKUP(O73,'Footnotes list'!$B$5:$C$103,2,FALSE)=0,\"\",VLOOKUP(O73,'Footnotes list'!$B$5:$C$103,2,FALSE) ) )","v":""}]
["DSP_L","DE27",null,"DE27","        Schwaben",null,null,null,null,null,{"$f":"IF(TRIM(J74)=\"\", \"\", IF(VLOOKUP(J74,'Footnotes list'!$B$5:$C$103,2,FALSE)=0,\"\",VLOOKUP(J74,'Footnotes list'!$B$5:$C$103,2,FALSE) ) )","v":""},null,null,null,null,{"$f":"IF(TRIM(O74)=\"\", \"\", IF(VLOOKUP(O74,'Footnotes list'!$B$5:$C$103,2,FALSE)=0,\"\",VLOOKUP(O74,'Footnotes list'!$B$5:$C$103,2,FALSE) ) )","v":""}]
["DSP_L","DE3",null,"DE3","    BERLIN",null,null,null,null,null,{"$f":"IF(TRIM(J75)=\"\", \"\", IF(VLOOKUP(J75,'Footnotes list'!$B$5:$C$103,2,FALSE)=0,\"\",VLOOKUP(J75,'Footnotes list'!$B$5:$C$103,2,FALSE) ) )","v":""},null,null,null,null,{"$f":"IF(TRIM(O75)=\"\", \"\", IF(VLOOKUP(O75,'Footnotes list'!$B$5:$C$103,2,FALSE)=0,\"\",VLOOKUP(O75,'Footnotes list'!$B$5:$C$103,2,FALSE) ) )","v":""}]
["DSP_L","DE4",null,"DE4","    BRANDENBURG",null,null,null,null,null,{"$f":"IF(TRIM(J76)=\"\", \"\", IF(VLOOKUP(J76,'Footnotes list'!$B$5:$C$103,2,FALSE)=0,\"\",VLOOKUP(J76,'Footnotes list'!$B$5:$C$103,2,FALSE) ) )","v":""},null,null,null,null,{"$f":"IF(TRIM(O76)=\"\", \"\", IF(VLOOKUP(O76,'Footnotes list'!$B$5:$C$103,2,FALSE)=0,\"\",VLOOKUP(O76,'Footnotes list'!$B$5:$C$103,2,FALSE) ) )","v":""}]
["DSP_L","DE5",null,"DE5","    BREMEN",null,null,null,null,null,{"$f":"IF(TRIM(J77)=\"\", \"\", IF(VLOOKUP(J77,'Footnotes list'!$B$5:$C$103,2,FALSE)=0,\"\",VLOOKUP(J77,'Footnotes list'!$B$5:$C$103,2,FALSE) ) )","v":""},null,null,null,null,{"$f":"IF(TRIM(O77)=\"\", \"\", IF(VLOOKUP(O77,'Footnotes list'!$B$5:$C$103,2,FALSE)=0,\"\",VLOOKUP(O77,'Footnotes list'!$B$5:$C$103,2,FALSE) ) )","v":""}]
["DSP_L","DE6",null,"DE6","    HAMBURG",null,null,null,null,null,{"$f":"IF(TRIM(J78)=\"\", \"\", IF(VLOOKUP(J78,'Footnotes list'!$B$5:$C$103,2,FALSE)=0,\"\",VLOOKUP(J78,'Footnotes list'!$B$5:$C$103,2,FALSE) ) )","v":""},null,null,null,null,{"$f":"IF(TRIM(O78)=\"\", \"\", IF(VLOOKUP(O78,'Footnotes list'!$B$5:$C$103,2,FALSE)=0,\"\",VLOOKUP(O78,'Footnotes list'!$B$5:$C$103,2,FALSE) ) )","v":""}]
["DSP_L","DE7",null,"DE7","    HESSEN",null,null,null,null,null,{"$f":"IF(TRIM(J79)=\"\", \"\", IF(VLOOKUP(J79,'Footnotes list'!$B$5:$C$103,2,FALSE)=0,\"\",VLOOKUP(J79,'Footnotes list'!$B$5:$C$103,2,FALSE) ) )","v":""},null,null,null,null,{"$f":"IF(TRIM(O79)=\"\", \"\", IF(VLOOKUP(O79,'Footnotes list'!$B$5:$C$103,2,FALSE)=0,\"\",VLOOKUP(O79,'Footnotes list'!$B$5:$C$103,2,FALSE) ) )","v":""}]
["DSP_L","DE71",null,"DE71","        Darmstadt",null,null,null,null,null,{"$f":"IF(TRIM(J80)=\"\", \"\", IF(VLOOKUP(J80,'Footnotes list'!$B$5:$C$103,2,FALSE)=0,\"\",VLOOKUP(J80,'Footnotes list'!$B$5:$C$103,2,FALSE) ) )","v":""},null,null,null,null,{"$f":"IF(TRIM(O80)=\"\", \"\", IF(VLOOKUP(O80,'Footnotes list'!$B$5:$C$103,2,FALSE)=0,\"\",VLOOKUP(O80,'Footnotes list'!$B$5:$C$103,2,FALSE) ) )","v":""}]
["DSP_L","DE72",null,"DE72","        Gießen",null,null,null,null,null,{"$f":"IF(TRIM(J81)=\"\", \"\", IF(VLOOKUP(J81,'Footnotes list'!$B$5:$C$103,2,FALSE)=0,\"\",VLOOKUP(J81,'Footnotes list'!$B$5:$C$103,2,FALSE) ) )","v":""},null,null,null,null,{"$f":"IF(TRIM(O81)=\"\", \"\", IF(VLOOKUP(O81,'Footnotes list'!$B$5:$C$103,2,FALSE)=0,\"\",VLOOKUP(O81,'Footnotes list'!$B$5:$C$103,2,FALSE) ) )","v":""}]
["DSP_L","DE73",null,"DE73","        Kassel",null,null,null,null,null,{"$f":"IF(TRIM(J82)=\"\", \"\", IF(VLOOKUP(J82,'Footnotes list'!$B$5:$C$103,2,FALSE)=0,\"\",VLOOKUP(J82,'Footnotes list'!$B$5:$C$103,2,FALSE) ) )","v":""},null,null,null,null,{"$f":"IF(TRIM(O82)=\"\", \"\", IF(VLOOKUP(O82,'Footnotes list'!$B$5:$C$103,2,FALSE)=0,\"\",VLOOKUP(O82,'Footnotes list'!$B$5:$C$103,2,FALSE) ) )","v":""}]
["DSP_L","DE8",null,"DE8","    MECKLENBURG-VORPOMMERN",null,null,null,null,null,{"$f":"IF(TRIM(J83)=\"\", \"\", IF(VLOOKUP(J83,'Footnotes list'!$B$5:$C$103,2,FALSE)=0,\"\",VLOOKUP(J83,'Footnotes list'!$B$5:$C$103,2,FALSE) ) )","v":""},null,null,null,null,{"$f":"IF(TRIM(O83)=\"\", \"\", IF(VLOOKUP(O83,'Footnotes list'!$B$5:$C$103,2,FALSE)=0,\"\",VLOOKUP(O83,'Footnotes list'!$B$5:$C$103,2,FALSE) ) )","v":""}]
["DSP_L","DE9",null,"DE9","    NIEDERSACHSEN",null,null,null,null,null,{"$f":"IF(TRIM(J84)=\"\", \"\", IF(VLOOKUP(J84,'Footnotes list'!$B$5:$C$103,2,FALSE)=0,\"\",VLOOKUP(J84,'Footnotes list'!$B$5:$C$103,2,FALSE) ) )","v":""},null,null,null,null,{"$f":"IF(TRIM(O84)=\"\", \"\", IF(VLOOKUP(O84,'Footnotes list'!$B$5:$C$103,2,FALSE)=0,\"\",VLOOKUP(O84,'Footnotes list'!$B$5:$C$103,2,FALSE) ) )","v":""}]
["DSP_L","DE91",null,"DE91","        Braunschweig",null,null,null,null,null,{"$f":"IF(TRIM(J85)=\"\", \"\", IF(VLOOKUP(J85,'Footnotes list'!$B$5:$C$103,2,FALSE)=0,\"\",VLOOKUP(J85,'Footnotes list'!$B$5:$C$103,2,FALSE) ) )","v":""},null,null,null,null,{"$f":"IF(TRIM(O85)=\"\", \"\", IF(VLOOKUP(O85,'Footnotes list'!$B$5:$C$103,2,FALSE)=0,\"\",VLOOKUP(O85,'Footnotes list'!$B$5:$C$103,2,FALSE) ) )","v":""}]
["DSP_L","DE92",null,"DE92","        Hannover",null,null,null,null,null,{"$f":"IF(TRIM(J86)=\"\", \"\", IF(VLOOKUP(J86,'Footnotes list'!$B$5:$C$103,2,FALSE)=0,\"\",VLOOKUP(J86,'Footnotes list'!$B$5:$C$103,2,FALSE) ) )","v":""},null,null,null,null,{"$f":"IF(TRIM(O86)=\"\", \"\", IF(VLOOKUP(O86,'Footnotes list'!$B$5:$C$103,2,FALSE)=0,\"\",VLOOKUP(O86,'Footnotes list'!$B$5:$C$103,2,FALSE) ) )","v":""}]
["DSP_L","DE93",null,"DE93","        Lüneburg",null,null,null,null,null,{"$f":"IF(TRIM(J87)=\"\", \"\", IF(VLOOKUP(J87,'Footnotes list'!$B$5:$C$103,2,FALSE)=0,\"\",VLOOKUP(J87,'Footnotes list'!$B$5:$C$103,2,FALSE) ) )","v":""},null,null,null,null,{"$f":"IF(TRIM(O87)=\"\", \"\", IF(VLOOKUP(O87,'Footnotes list'!$B$5:$C$103,2,FALSE)=0,\"\",VLOOKUP(O87,'Footnotes list'!$B$5:$C$103,2,FALSE) ) )","v":""}]
["DSP_L","DE94",null,"DE94","        Weser-Ems",null,null,null,null,null,{"$f":"IF(TRIM(J88)=\"\", \"\", IF(VLOOKUP(J88,'Footnotes list'!$B$5:$C$103,2,FALSE)=0,\"\",VLOOKUP(J88,'Footnotes list'!$B$5:$C$103,2,FALSE) ) )","v":""},null,null,null,null,{"$f":"IF(TRIM(O88)=\"\", \"\", IF(VLOOKUP(O88,'Footnotes list'!$B$5:$C$103,2,FALSE)=0,\"\",VLOOKUP(O88,'Footnotes list'!$B$5:$C$103,2,FALSE) ) )","v":""}]
["DSP_L","DEA",null,"DEA","    NORDRHEIN-WESTFALEN",null,null,null,null,null,{"$f":"IF(TRIM(J89)=\"\", \"\", IF(VLOOKUP(J89,'Footnotes list'!$B$5:$C$103,2,FALSE)=0,\"\",VLOOKUP(J89,'Footnotes list'!$B$5:$C$103,2,FALSE) ) )","v":""},null,null,null,null,{"$f":"IF(TRIM(O89)=\"\", \"\", IF(VLOOKUP(O89,'Footnotes list'!$B$5:$C$103,2,FALSE)=0,\"\",VLOOKUP(O89,'Footnotes list'!$B$5:$C$103,2,FALSE) ) )","v":""}]
["DSP_L","DEA1",null,"DEA1","        Düsseldorf",null,null,null,null,null,{"$f":"IF(TRIM(J90)=\"\", \"\", IF(VLOOKUP(J90,'Footnotes list'!$B$5:$C$103,2,FALSE)=0,\"\",VLOOKUP(J90,'Footnotes list'!$B$5:$C$103,2,FALSE) ) )","v":""},null,null,null,null,{"$f":"IF(TRIM(O90)=\"\", \"\", IF(VLOOKUP(O90,'Footnotes list'!$B$5:$C$103,2,FALSE)=0,\"\",VLOOKUP(O90,'Footnotes list'!$B$5:$C$103,2,FALSE) ) )","v":""}]
["DSP_L","DEA2",null,"DEA2","        Köln",null,null,null,null,null,{"$f":"IF(TRIM(J91)=\"\", \"\", IF(VLOOKUP(J91,'Footnotes list'!$B$5:$C$103,2,FALSE)=0,\"\",VLOOKUP(J91,'Footnotes list'!$B$5:$C$103,2,FALSE) ) )","v":""},null,null,null,null,{"$f":"IF(TRIM(O91)=\"\", \"\", IF(VLOOKUP(O91,'Footnotes list'!$B$5:$C$103,2,FALSE)=0,\"\",VLOOKUP(O91,'Footnotes list'!$B$5:$C$103,2,FALSE) ) )","v":""}]
["DSP_L","DEA3",null,"DEA3","        Münster",null,null,null,null,null,{"$f":"IF(TRIM(J92)=\"\", \"\", IF(VLOOKUP(J92,'Footnotes list'!$B$5:$C$103,2,FALSE)=0,\"\",VLOOKUP(J92,'Footnotes list'!$B$5:$C$103,2,FALSE) ) )","v":""},null,null,null,null,{"$f":"IF(TRIM(O92)=\"\", \"\", IF(VLOOKUP(O92,'Footnotes list'!$B$5:$C$103,2,FALSE)=0,\"\",VLOOKUP(O92,'Footnotes list'!$B$5:$C$103,2,FALSE) ) )","v":""}]
["DSP_L","DEA4",null,"DEA4","        Detmold",null,null,null,null,null,{"$f":"IF(TRIM(J93)=\"\", \"\", IF(VLOOKUP(J93,'Footnotes list'!$B$5:$C$103,2,FALSE)=0,\"\",VLOOKUP(J93,'Footnotes list'!$B$5:$C$103,2,FALSE) ) )","v":""},null,null,null,null,{"$f":"IF(TRIM(O93)=\"\", \"\", IF(VLOOKUP(O93,'Footnotes list'!$B$5:$C$103,2,FALSE)=0,\"\",VLOOKUP(O93,'Footnotes list'!$B$5:$C$103,2,FALSE) ) )","v":""}]
["DSP_L","DEA5",null,"DEA5","        Arnsberg",null,null,null,null,null,{"$f":"IF(TRIM(J94)=\"\", \"\", IF(VLOOKUP(J94,'Footnotes list'!$B$5:$C$103,2,FALSE)=0,\"\",VLOOKUP(J94,'Footnotes list'!$B$5:$C$103,2,FALSE) ) )","v":""},null,null,null,null,{"$f":"IF(TRIM(O94)=\"\", \"\", IF(VLOOKUP(O94,'Footnotes list'!$B$5:$C$103,2,FALSE)=0,\"\",VLOOKUP(O94,'Footnotes list'!$B$5:$C$103,2,FALSE) ) )","v":""}]
["DSP_L","DEB",null,"DEB","    RHEINLAND-PFALZ",null,null,null,null,null,{"$f":"IF(TRIM(J95)=\"\", \"\", IF(VLOOKUP(J95,'Footnotes list'!$B$5:$C$103,2,FALSE)=0,\"\",VLOOKUP(J95,'Footnotes list'!$B$5:$C$103,2,FALSE) ) )","v":""},null,null,null,null,{"$f":"IF(TRIM(O95)=\"\", \"\", IF(VLOOKUP(O95,'Footnotes list'!$B$5:$C$103,2,FALSE)=0,\"\",VLOOKUP(O95,'Footnotes list'!$B$5:$C$103,2,FALSE) ) )","v":""}]
["DSP_L","DEB1",null,"DEB1","        Koblenz",null,null,null,null,null,{"$f":"IF(TRIM(J96)=\"\", \"\", IF(VLOOKUP(J96,'Footnotes list'!$B$5:$C$103,2,FALSE)=0,\"\",VLOOKUP(J96,'Footnotes list'!$B$5:$C$103,2,FALSE) ) )","v":""},null,null,null,null,{"$f":"IF(TRIM(O96)=\"\", \"\", IF(VLOOKUP(O96,'Footnotes list'!$B$5:$C$103,2,FALSE)=0,\"\",VLOOKUP(O96,'Footnotes list'!$B$5:$C$103,2,FALSE) ) )","v":""}]
["DSP_L","DEB2",null,"DEB2","        Trier",null,null,null,null,null,{"$f":"IF(TRIM(J97)=\"\", \"\", IF(VLOOKUP(J97,'Footnotes list'!$B$5:$C$103,2,FALSE)=0,\"\",VLOOKUP(J97,'Footnotes list'!$B$5:$C$103,2,FALSE) ) )","v":""},null,null,null,null,{"$f":"IF(TRIM(O97)=\"\", \"\", IF(VLOOKUP(O97,'Footnotes list'!$B$5:$C$103,2,FALSE)=0,\"\",VLOOKUP(O97,'Footnotes list'!$B$5:$C$103,2,FALSE) ) )","v":""}]
["DSP_L","DEB3",null,"DEB3","        Rheinhessen-Pfalz",null,null,null,null,null,{"$f":"IF(TRIM(J98)=\"\", \"\", IF(VLOOKUP(J98,'Footnotes list'!$B$5:$C$103,2,FALSE)=0,\"\",VLOOKUP(J98,'Footnotes list'!$B$5:$C$103,2,FALSE) ) )","v":""},null,null,null,null,{"$f":"IF(TRIM(O98)=\"\", \"\", IF(VLOOKUP(O98,'Footnotes list'!$B$5:$C$103,2,FALSE)=0,\"\",VLOOKUP(O98,'Footnotes list'!$B$5:$C$103,2,FALSE) ) )","v":""}]
["DSP_L","DEC",null,"DEC","    SAARLAND",null,null,null,null,null,{"$f":"IF(TRIM(J99)=\"\", \"\", IF(VLOOKUP(J99,'Footnotes list'!$B$5:$C$103,2,FALSE)=0,\"\",VLOOKUP(J99,'Footnotes list'!$B$5:$C$103,2,FALSE) ) )","v":""},null,null,null,null,{"$f":"IF(TRIM(O99)=\"\", \"\", IF(VLOOKUP(O99,'Footnotes list'!$B$5:$C$103,2,FALSE)=0,\"\",VLOOKUP(O99,'Footnotes list'!$B$5:$C$103,2,FALSE) ) )","v":""}]
["DSP_L","DED",null,"DED","    SACHSEN",null,null,null,null,null,{"$f":"IF(TRIM(J100)=\"\", \"\", IF(VLOOKUP(J100,'Footnotes list'!$B$5:$C$103,2,FALSE)=0,\"\",VLOOKUP(J100,'Footnotes list'!$B$5:$C$103,2,FALSE) ) )","v":""},null,null,null,null,{"$f":"IF(TRIM(O100)=\"\", \"\", IF(VLOOKUP(O100,'Footnotes list'!$B$5:$C$103,2,FALSE)=0,\"\",VLOOKUP(O100,'Footnotes list'!$B$5:$C$103,2,FALSE) ) )","v":""}]
["DSP_L","DED2",null,"DED2","        Dresden",null,null,null,null,null,{"$f":"IF(TRIM(J101)=\"\", \"\", IF(VLOOKUP(J101,'Footnotes list'!$B$5:$C$103,2,FALSE)=0,\"\",VLOOKUP(J101,'Footnotes list'!$B$5:$C$103,2,FALSE) ) )","v":""},null,null,null,null,{"$f":"IF(TRIM(O101)=\"\", \"\", IF(VLOOKUP(O101,'Footnotes list'!$B$5:$C$103,2,FALSE)=0,\"\",VLOOKUP(O101,'Footnotes list'!$B$5:$C$103,2,FALSE) ) )","v":""}]
["DSP_L","DED4",null,"DED4","        Chemnitz",null,null,null,null,null,{"$f":"IF(TRIM(J102)=\"\", \"\", IF(VLOOKUP(J102,'Footnotes list'!$B$5:$C$103,2,FALSE)=0,\"\",VLOOKUP(J102,'Footnotes list'!$B$5:$C$103,2,FALSE) ) )","v":""},null,null,null,null,{"$f":"IF(TRIM(O102)=\"\", \"\", IF(VLOOKUP(O102,'Footnotes list'!$B$5:$C$103,2,FALSE)=0,\"\",VLOOKUP(O102,'Footnotes list'!$B$5:$C$103,2,FALSE) ) )","v":""}]
["DSP_L","DED5",null,"DED5","        Leipzig",null,null,null,null,null,{"$f":"IF(TRIM(J103)=\"\", \"\", IF(VLOOKUP(J103,'Footnotes list'!$B$5:$C$103,2,FALSE)=0,\"\",VLOOKUP(J103,'Footnotes list'!$B$5:$C$103,2,FALSE) ) )","v":""},null,null,null,null,{"$f":"IF(TRIM(O103)=\"\", \"\", IF(VLOOKUP(O103,'Footnotes list'!$B$5:$C$103,2,FALSE)=0,\"\",VLOOKUP(O103,'Footnotes list'!$B$5:$C$103,2,FALSE) ) )","v":""}]
["DSP_L","DEE",null,"DEE","    SACHSEN-ANHALT",null,null,null,null,null,{"$f":"IF(TRIM(J104)=\"\", \"\", IF(VLOOKUP(J104,'Footnotes list'!$B$5:$C$103,2,FALSE)=0,\"\",VLOOKUP(J104,'Footnotes list'!$B$5:$C$103,2,FALSE) ) )","v":""},null,null,null,null,{"$f":"IF(TRIM(O104)=\"\", \"\", IF(VLOOKUP(O104,'Footnotes list'!$B$5:$C$103,2,FALSE)=0,\"\",VLOOKUP(O104,'Footnotes list'!$B$5:$C$103,2,FALSE) ) )","v":""}]
["DSP_L","DEF",null,"DEF","    SCHLESWIG-HOLSTEIN",null,null,null,null,null,{"$f":"IF(TRIM(J105)=\"\", \"\", IF(VLOOKUP(J105,'Footnotes list'!$B$5:$C$103,2,FALSE)=0,\"\",VLOOKUP(J105,'Footnotes list'!$B$5:$C$103,2,FALSE) ) )","v":""},null,null,null,null,{"$f":"IF(TRIM(O105)=\"\", \"\", IF(VLOOKUP(O105,'Footnotes list'!$B$5:$C$103,2,FALSE)=0,\"\",VLOOKUP(O105,'Footnotes list'!$B$5:$C$103,2,FALSE) ) )","v":""}]
["DSP_L","DEG",null,"DEG","    THÜRINGEN",null,null,null,null,null,{"$f":"IF(TRIM(J106)=\"\", \"\", IF(VLOOKUP(J106,'Footnotes list'!$B$5:$C$103,2,FALSE)=0,\"\",VLOOKUP(J106,'Footnotes list'!$B$5:$C$103,2,FALSE) ) )","v":""},null,null,null,null,{"$f":"IF(TRIM(O106)=\"\", \"\", IF(VLOOKUP(O106,'Footnotes list'!$B$5:$C$103,2,FALSE)=0,\"\",VLOOKUP(O106,'Footnotes list'!$B$5:$C$103,2,FALSE) ) )","v":""}]
["DSP_LIN","EE",null,"EE","EESTI","Inert waste",null,null,null,null,{"$f":"IF(TRIM(J107)=\"\", \"\", IF(VLOOKUP(J107,'Footnotes list'!$B$5:$C$103,2,FALSE)=0,\"\",VLOOKUP(J107,'Footnotes list'!$B$5:$C$103,2,FALSE) ) )","v":""},null,null,null,null,{"$f":"IF(TRIM(O107)=\"\", \"\", IF(VLOOKUP(O107,'Footnotes list'!$B$5:$C$103,2,FALSE)=0,\"\",VLOOKUP(O107,'Footnotes list'!$B$5:$C$103,2,FALSE) ) )","v":""},null,null,null,null,{"$f":"IF(TRIM(T107)=\"\", \"\", IF(VLOOKUP(T107,'Footnotes list'!$B$5:$C$103,2,FALSE)=0,\"\",VLOOKUP(T107,'Footnotes list'!$B$5:$C$103,2,FALSE) ) )","v":""}]
["DSP_LNH",{"$f":"B107","v":"EE"},null,{"$f":"D107","v":"EE"},null,"Non-hazardous waste",null,null,null,null,{"$f":"IF(TRIM(J108)=\"\", \"\", IF(VLOOKUP(J108,'Footnotes list'!$B$5:$C$103,2,FALSE)=0,\"\",VLOOKUP(J108,'Footnotes list'!$B$5:$C$103,2,FALSE) ) )","v":""},null,null,null,null,{"$f":"IF(TRIM(O108)=\"\", \"\", IF(VLOOKUP(O108,'Footnotes list'!$B$5:$C$103,2,FALSE)=0,\"\",VLOOKUP(O108,'Footnotes list'!$B$5:$C$103,2,FALSE) ) )","v":""},null,null,null,null,{"$f":"IF(TRIM(T108)=\"\", \"\", IF(VLOOKUP(T108,'Footnotes list'!$B$5:$C$103,2,FALSE)=0,\"\",VLOOKUP(T108,'Footnotes list'!$B$5:$C$103,2,FALSE) ) )","v":""}]
["DSP_LH",{"$f":"B107","v":"EE"},null,{"$f":"D107","v":"EE"},null,"Hazardous waste",null,null,null,null,{"$f":"IF(TRIM(J109)=\"\", \"\", IF(VLOOKUP(J109,'Footnotes list'!$B$5:$C$103,2,FALSE)=0,\"\",VLOOKUP(J109,'Footnotes list'!$B$5:$C$103,2,FALSE) ) )","v":""},null,null,null,null,{"$f":"IF(TRIM(O109)=\"\", \"\", IF(VLOOKUP(O109,'Footnotes list'!$B$5:$C$103,2,FALSE)=0,\"\",VLOOKUP(O109,'Footnotes list'!$B$5:$C$103,2,FALSE) ) )","v":""},null,null,null,null,{"$f":"IF(TRIM(T109)=\"\", \"\", IF(VLOOKUP(T109,'Footnotes list'!$B$5:$C$103,2,FALSE)=0,\"\",VLOOKUP(T109,'Footnotes list'!$B$5:$C$103,2,FALSE) ) )","v":""}]
["DSP_L",{"$f":"B107","v":"EE"},null,{"$f":"D107","v":"EE"},null,"Total",{"$f":"IF(AND(TRIM(G107)=\"\",TRIM(G108)=\"\",TRIM(G109)=\"\"),\"\",G107+G108+G109)","v":""},null,null,null,{"$f":"IF(TRIM(J110)=\"\", \"\", IF(VLOOKUP(J110,'Footnotes list'!$B$5:$C$103,2,FALSE)=0,\"\",VLOOKUP(J110,'Footnotes list'!$B$5:$C$103,2,FALSE) ) )","v":""},{"$f":"IF(AND(TRIM(L107)=\"\",TRIM(L108)=\"\",TRIM(L109)=\"\"),\"\",L107+L108+L109)","v":""},null,null,null,{"$f":"IF(TRIM(O110)=\"\", \"\", IF(VLOOKUP(O110,'Footnotes list'!$B$5:$C$103,2,FALSE)=0,\"\",VLOOKUP(O110,'Footnotes list'!$B$5:$C$103,2,FALSE) ) )","v":""},null,null,null,null,{"$f":"IF(TRIM(T110)=\"\", \"\", IF(VLOOKUP(T110,'Footnotes list'!$B$5:$C$103,2,FALSE)=0,\"\",VLOOKUP(T110,'Footnotes list'!$B$5:$C$103,2,FALSE) ) )","v":""}]
["DSP_LIN","IE",null,"IE","ÉIRE / IRELAND","Inert waste",null,null,null,null,{"$f":"IF(TRIM(J111)=\"\", \"\", IF(VLOOKUP(J111,'Footnotes list'!$B$5:$C$103,2,FALSE)=0,\"\",VLOOKUP(J111,'Footnotes list'!$B$5:$C$103,2,FALSE) ) )","v":""},null,null,null,null,{"$f":"IF(TRIM(O111)=\"\", \"\", IF(VLOOKUP(O111,'Footnotes list'!$B$5:$C$103,2,FALSE)=0,\"\",VLOOKUP(O111,'Footnotes list'!$B$5:$C$103,2,FALSE) ) )","v":""},null,null,null,null,{"$f":"IF(TRIM(T111)=\"\", \"\", IF(VLOOKUP(T111,'Footnotes list'!$B$5:$C$103,2,FALSE)=0,\"\",VLOOKUP(T111,'Footnotes list'!$B$5:$C$103,2,FALSE) ) )","v":""}]
["DSP_LNH",{"$f":"B111","v":"IE"},null,{"$f":"D111","v":"IE"},null,"Non-hazardous waste",null,null,null,null,{"$f":"IF(TRIM(J112)=\"\", \"\", IF(VLOOKUP(J112,'Footnotes list'!$B$5:$C$103,2,FALSE)=0,\"\",VLOOKUP(J112,'Footnotes list'!$B$5:$C$103,2,FALSE) ) )","v":""},null,null,null,null,{"$f":"IF(TRIM(O112)=\"\", \"\", IF(VLOOKUP(O112,'Footnotes list'!$B$5:$C$103,2,FALSE)=0,\"\",VLOOKUP(O112,'Footnotes list'!$B$5:$C$103,2,FALSE) ) )","v":""},null,null,null,null,{"$f":"IF(TRIM(T112)=\"\", \"\", IF(VLOOKUP(T112,'Footnotes list'!$B$5:$C$103,2,FALSE)=0,\"\",VLOOKUP(T112,'Footnotes list'!$B$5:$C$103,2,FALSE) ) )","v":""}]
["DSP_LH",{"$f":"B111","v":"IE"},null,{"$f":"D111","v":"IE"},null,"Hazardous waste",null,null,null,null,{"$f":"IF(TRIM(J113)=\"\", \"\", IF(VLOOKUP(J113,'Footnotes list'!$B$5:$C$103,2,FALSE)=0,\"\",VLOOKUP(J113,'Footnotes list'!$B$5:$C$103,2,FALSE) ) )","v":""},null,null,null,null,{"$f":"IF(TRIM(O113)=\"\", \"\", IF(VLOOKUP(O113,'Footnotes list'!$B$5:$C$103,2,FALSE)=0,\"\",VLOOKUP(O113,'Footnotes list'!$B$5:$C$103,2,FALSE) ) )","v":""},null,null,null,null,{"$f":"IF(TRIM(T113)=\"\", \"\", IF(VLOOKUP(T113,'Footnotes list'!$B$5:$C$103,2,FALSE)=0,\"\",VLOOKUP(T113,'Footnotes list'!$B$5:$C$103,2,FALSE) ) )","v":""}]
["DSP_L",{"$f":"B111","v":"IE"},null,{"$f":"D111","v":"IE"},null,"Total",{"$f":"IF(AND(TRIM(G111)=\"\",TRIM(G112)=\"\",TRIM(G113)=\"\"),\"\",G111+G112+G113)","v":""},null,null,null,{"$f":"IF(TRIM(J114)=\"\", \"\", IF(VLOOKUP(J114,'Footnotes list'!$B$5:$C$103,2,FALSE)=0,\"\",VLOOKUP(J114,'Footnotes list'!$B$5:$C$103,2,FALSE) ) )","v":""},{"$f":"IF(AND(TRIM(L111)=\"\",TRIM(L112)=\"\",TRIM(L113)=\"\"),\"\",L111+L112+L113)","v":""},null,null,null,{"$f":"IF(TRIM(O114)=\"\", \"\", IF(VLOOKUP(O114,'Footnotes list'!$B$5:$C$103,2,FALSE)=0,\"\",VLOOKUP(O114,'Footnotes list'!$B$5:$C$103,2,FALSE) ) )","v":""},null,null,null,null,{"$f":"IF(TRIM(T114)=\"\", \"\", IF(VLOOKUP(T114,'Footnotes list'!$B$5:$C$103,2,FALSE)=0,\"\",VLOOKUP(T114,'Footnotes list'!$B$5:$C$103,2,FALSE) ) )","v":""}]
["DSP_L","IE04",null,"IE04","    Northern and Western","Total",null,null,null,null,{"$f":"IF(TRIM(J115)=\"\", \"\", IF(VLOOKUP(J115,'Footnotes list'!$B$5:$C$103,2,FALSE)=0,\"\",VLOOKUP(J115,'Footnotes list'!$B$5:$C$103,2,FALSE) ) )","v":""},null,null,null,null,{"$f":"IF(TRIM(O115)=\"\", \"\", IF(VLOOKUP(O115,'Footnotes list'!$B$5:$C$103,2,FALSE)=0,\"\",VLOOKUP(O115,'Footnotes list'!$B$5:$C$103,2,FALSE) ) )","v":""}]
["DSP_L","IE05",null,"IE05","    Southern",null,null,null,null,null,{"$f":"IF(TRIM(J116)=\"\", \"\", IF(VLOOKUP(J116,'Footnotes list'!$B$5:$C$103,2,FALSE)=0,\"\",VLOOKUP(J116,'Footnotes list'!$B$5:$C$103,2,FALSE) ) )","v":""},null,null,null,null,{"$f":"IF(TRIM(O116)=\"\", \"\", IF(VLOOKUP(O116,'Footnotes list'!$B$5:$C$103,2,FALSE)=0,\"\",VLOOKUP(O116,'Footnotes list'!$B$5:$C$103,2,FALSE) ) )","v":""}]
["DSP_L","IE06",null,"IE06","    Eastern and Midland",null,null,null,null,null,{"$f":"IF(TRIM(J117)=\"\", \"\", IF(VLOOKUP(J117,'Footnotes list'!$B$5:$C$103,2,FALSE)=0,\"\",VLOOKUP(J117,'Footnotes list'!$B$5:$C$103,2,FALSE) ) )","v":""},null,null,null,null,{"$f":"IF(TRIM(O117)=\"\", \"\", IF(VLOOKUP(O117,'Footnotes list'!$B$5:$C$103,2,FALSE)=0,\"\",VLOOKUP(O117,'Footnotes list'!$B$5:$C$103,2,FALSE) ) )","v":""}]
["DSP_LIN","EL",null,"EL","ΕΛΛΑΔΑ","Inert waste",null,null,null,null,{"$f":"IF(TRIM(J118)=\"\", \"\", IF(VLOOKUP(J118,'Footnotes list'!$B$5:$C$103,2,FALSE)=0,\"\",VLOOKUP(J118,'Footnotes list'!$B$5:$C$103,2,FALSE) ) )","v":""},null,null,null,null,{"$f":"IF(TRIM(O118)=\"\", \"\", IF(VLOOKUP(O118,'Footnotes list'!$B$5:$C$103,2,FALSE)=0,\"\",VLOOKUP(O118,'Footnotes list'!$B$5:$C$103,2,FALSE) ) )","v":""},null,null,null,null,{"$f":"IF(TRIM(T118)=\"\", \"\", IF(VLOOKUP(T118,'Footnotes list'!$B$5:$C$103,2,FALSE)=0,\"\",VLOOKUP(T118,'Footnotes list'!$B$5:$C$103,2,FALSE) ) )","v":""}]
["DSP_LNH",{"$f":"B118","v":"EL"},null,{"$f":"D118","v":"EL"},null,"Non-hazardous waste",null,null,null,null,{"$f":"IF(TRIM(J119)=\"\", \"\", IF(VLOOKUP(J119,'Footnotes list'!$B$5:$C$103,2,FALSE)=0,\"\",VLOOKUP(J119,'Footnotes list'!$B$5:$C$103,2,FALSE) ) )","v":""},null,null,null,null,{"$f":"IF(TRIM(O119)=\"\", \"\", IF(VLOOKUP(O119,'Footnotes list'!$B$5:$C$103,2,FALSE)=0,\"\",VLOOKUP(O119,'Footnotes list'!$B$5:$C$103,2,FALSE) ) )","v":""},null,null,null,null,{"$f":"IF(TRIM(T119)=\"\", \"\", IF(VLOOKUP(T119,'Footnotes list'!$B$5:$C$103,2,FALSE)=0,\"\",VLOOKUP(T119,'Footnotes list'!$B$5:$C$103,2,FALSE) ) )","v":""}]
["DSP_LH",{"$f":"B118","v":"EL"},null,{"$f":"D118","v":"EL"},null,"Hazardous waste",null,null,null,null,{"$f":"IF(TRIM(J120)=\"\", \"\", IF(VLOOKUP(J120,'Footnotes list'!$B$5:$C$103,2,FALSE)=0,\"\",VLOOKUP(J120,'Footnotes list'!$B$5:$C$103,2,FALSE) ) )","v":""},null,null,null,null,{"$f":"IF(TRIM(O120)=\"\", \"\", IF(VLOOKUP(O120,'Footnotes list'!$B$5:$C$103,2,FALSE)=0,\"\",VLOOKUP(O120,'Footnotes list'!$B$5:$C$103,2,FALSE) ) )","v":""},null,null,null,null,{"$f":"IF(TRIM(T120)=\"\", \"\", IF(VLOOKUP(T120,'Footnotes list'!$B$5:$C$103,2,FALSE)=0,\"\",VLOOKUP(T120,'Footnotes list'!$B$5:$C$103,2,FALSE) ) )","v":""}]
["DSP_L",{"$f":"B118","v":"EL"},null,{"$f":"D118","v":"EL"},null,"Total",{"$f":"IF(AND(TRIM(G118)=\"\",TRIM(G119)=\"\",TRIM(G120)=\"\"),\"\",G118+G119+G120)","v":""},null,null,null,{"$f":"IF(TRIM(J121)=\"\", \"\", IF(VLOOKUP(J121,'Footnotes list'!$B$5:$C$103,2,FALSE)=0,\"\",VLOOKUP(J121,'Footnotes list'!$B$5:$C$103,2,FALSE) ) )","v":""},{"$f":"IF(AND(TRIM(L118)=\"\",TRIM(L119)=\"\",TRIM(L120)=\"\"),\"\",L118+L119+L120)","v":""},null,null,null,{"$f":"IF(TRIM(O121)=\"\", \"\", IF(VLOOKUP(O121,'Footnotes list'!$B$5:$C$103,2,FALSE)=0,\"\",VLOOKUP(O121,'Footnotes list'!$B$5:$C$103,2,FALSE) ) )","v":""},null,null,null,null,{"$f":"IF(TRIM(T121)=\"\", \"\", IF(VLOOKUP(T121,'Footnotes list'!$B$5:$C$103,2,FALSE)=0,\"\",VLOOKUP(T121,'Footnotes list'!$B$5:$C$103,2,FALSE) ) )","v":""}]
["DSP_L","EL3",null,"EL3","    ATTIKΗ","Total",null,null,null,null,{"$f":"IF(TRIM(J122)=\"\", \"\", IF(VLOOKUP(J122,'Footnotes list'!$B$5:$C$103,2,FALSE)=0,\"\",VLOOKUP(J122,'Footnotes list'!$B$5:$C$103,2,FALSE) ) )","v":""},null,null,null,null,{"$f":"IF(TRIM(O122)=\"\", \"\", IF(VLOOKUP(O122,'Footnotes list'!$B$5:$C$103,2,FALSE)=0,\"\",VLOOKUP(O122,'Footnotes list'!$B$5:$C$103,2,FALSE) ) )","v":""}]
["DSP_L","EL4",null,"EL4","    NΗΣΙΑ ΑΙΓΑΙΟΥ, KΡΗΤΗ",null,null,null,null,null,{"$f":"IF(TRIM(J123)=\"\", \"\", IF(VLOOKUP(J123,'Footnotes list'!$B$5:$C$103,2,FALSE)=0,\"\",VLOOKUP(J123,'Footnotes list'!$B$5:$C$103,2,FALSE) ) )","v":""},null,null,null,null,{"$f":"IF(TRIM(O123)=\"\", \"\", IF(VLOOKUP(O123,'Footnotes list'!$B$5:$C$103,2,FALSE)=0,\"\",VLOOKUP(O123,'Footnotes list'!$B$5:$C$103,2,FALSE) ) )","v":""}]
["DSP_L","EL41",null,"EL41","        Βόρειο Αιγαίο",null,null,null,null,null,{"$f":"IF(TRIM(J124)=\"\", \"\", IF(VLOOKUP(J124,'Footnotes list'!$B$5:$C$103,2,FALSE)=0,\"\",VLOOKUP(J124,'Footnotes list'!$B$5:$C$103,2,FALSE) ) )","v":""},null,null,null,null,{"$f":"IF(TRIM(O124)=\"\", \"\", IF(VLOOKUP(O124,'Footnotes list'!$B$5:$C$103,2,FALSE)=0,\"\",VLOOKUP(O124,'Footnotes list'!$B$5:$C$103,2,FALSE) ) )","v":""}]
["DSP_L","EL42",null,"EL42","        Νότιο Αιγαίο",null,null,null,null,null,{"$f":"IF(TRIM(J125)=\"\", \"\", IF(VLOOKUP(J125,'Footnotes list'!$B$5:$C$103,2,FALSE)=0,\"\",VLOOKUP(J125,'Footnotes list'!$B$5:$C$103,2,FALSE) ) )","v":""},null,null,null,null,{"$f":"IF(TRIM(O125)=\"\", \"\", IF(VLOOKUP(O125,'Footnotes list'!$B$5:$C$103,2,FALSE)=0,\"\",VLOOKUP(O125,'Footnotes list'!$B$5:$C$103,2,FALSE) ) )","v":""}]
["DSP_L","EL43",null,"EL43","        Κρήτη",null,null,null,null,null,{"$f":"IF(TRIM(J126)=\"\", \"\", IF(VLOOKUP(J126,'Footnotes list'!$B$5:$C$103,2,FALSE)=0,\"\",VLOOKUP(J126,'Footnotes list'!$B$5:$C$103,2,FALSE) ) )","v":""},null,null,null,null,{"$f":"IF(TRIM(O126)=\"\", \"\", IF(VLOOKUP(O126,'Footnotes list'!$B$5:$C$103,2,FALSE)=0,\"\",VLOOKUP(O126,'Footnotes list'!$B$5:$C$103,2,FALSE) ) )","v":""}]
["DSP_L","EL5",null,"EL5","    ΒΟΡΕΙΑ ΕΛΛΑΔΑ",null,null,null,null,null,{"$f":"IF(TRIM(J127)=\"\", \"\", IF(VLOOKUP(J127,'Footnotes list'!$B$5:$C$103,2,FALSE)=0,\"\",VLOOKUP(J127,'Footnotes list'!$B$5:$C$103,2,FALSE) ) )","v":""},null,null,null,null,{"$f":"IF(TRIM(O127)=\"\", \"\", IF(VLOOKUP(O127,'Footnotes list'!$B$5:$C$103,2,FALSE)=0,\"\",VLOOKUP(O127,'Footnotes list'!$B$5:$C$103,2,FALSE) ) )","v":""}]
["DSP_L","EL51",null,"EL51","        Aνατολική Μακεδονία, Θράκη",null,null,null,null,null,{"$f":"IF(TRIM(J128)=\"\", \"\", IF(VLOOKUP(J128,'Footnotes list'!$B$5:$C$103,2,FALSE)=0,\"\",VLOOKUP(J128,'Footnotes list'!$B$5:$C$103,2,FALSE) ) )","v":""},null,null,null,null,{"$f":"IF(TRIM(O128)=\"\", \"\", IF(VLOOKUP(O128,'Footnotes list'!$B$5:$C$103,2,FALSE)=0,\"\",VLOOKUP(O128,'Footnotes list'!$B$5:$C$103,2,FALSE) ) )","v":""}]
["DSP_L","EL52",null,"EL52","        Κεντρική Μακεδονία",null,null,null,null,null,{"$f":"IF(TRIM(J129)=\"\", \"\", IF(VLOOKUP(J129,'Footnotes list'!$B$5:$C$103,2,FALSE)=0,\"\",VLOOKUP(J129,'Footnotes list'!$B$5:$C$103,2,FALSE) ) )","v":""},null,null,null,null,{"$f":"IF(TRIM(O129)=\"\", \"\", IF(VLOOKUP(O129,'Footnotes list'!$B$5:$C$103,2,FALSE)=0,\"\",VLOOKUP(O129,'Footnotes list'!$B$5:$C$103,2,FALSE) ) )","v":""}]
["DSP_L","EL53",null,"EL53","        Δυτική Μακεδονία",null,null,null,null,null,{"$f":"IF(TRIM(J130)=\"\", \"\", IF(VLOOKUP(J130,'Footnotes list'!$B$5:$C$103,2,FALSE)=0,\"\",VLOOKUP(J130,'Footnotes list'!$B$5:$C$103,2,FALSE) ) )","v":""},null,null,null,null,{"$f":"IF(TRIM(O130)=\"\", \"\", IF(VLOOKUP(O130,'Footnotes list'!$B$5:$C$103,2,FALSE)=0,\"\",VLOOKUP(O130,'Footnotes list'!$B$5:$C$103,2,FALSE) ) )","v":""}]
["DSP_L","EL54",null,"EL54","        Ήπειρος",null,null,null,null,null,{"$f":"IF(TRIM(J131)=\"\", \"\", IF(VLOOKUP(J131,'Footnotes list'!$B$5:$C$103,2,FALSE)=0,\"\",VLOOKUP(J131,'Footnotes list'!$B$5:$C$103,2,FALSE) ) )","v":""},null,null,null,null,{"$f":"IF(TRIM(O131)=\"\", \"\", IF(VLOOKUP(O131,'Footnotes list'!$B$5:$C$103,2,FALSE)=0,\"\",VLOOKUP(O131,'Footnotes list'!$B$5:$C$103,2,FALSE) ) )","v":""}]
["DSP_L","EL6",null,"EL6","    ΚΕΝΤΡΙΚΗ ΕΛΛΑΔΑ",null,null,null,null,null,{"$f":"IF(TRIM(J132)=\"\", \"\", IF(VLOOKUP(J132,'Footnotes list'!$B$5:$C$103,2,FALSE)=0,\"\",VLOOKUP(J132,'Footnotes list'!$B$5:$C$103,2,FALSE) ) )","v":""},null,null,null,null,{"$f":"IF(TRIM(O132)=\"\", \"\", IF(VLOOKUP(O132,'Footnotes list'!$B$5:$C$103,2,FALSE)=0,\"\",VLOOKUP(O132,'Footnotes list'!$B$5:$C$103,2,FALSE) ) )","v":""}]
["DSP_L","EL61",null,"EL61","        Θεσσαλία",null,null,null,null,null,{"$f":"IF(TRIM(J133)=\"\", \"\", IF(VLOOKUP(J133,'Footnotes list'!$B$5:$C$103,2,FALSE)=0,\"\",VLOOKUP(J133,'Footnotes list'!$B$5:$C$103,2,FALSE) ) )","v":""},null,null,null,null,{"$f":"IF(TRIM(O133)=\"\", \"\", IF(VLOOKUP(O133,'Footnotes list'!$B$5:$C$103,2,FALSE)=0,\"\",VLOOKUP(O133,'Footnotes list'!$B$5:$C$103,2,FALSE) ) )","v":""}]
["DSP_L","EL62",null,"EL62","        Ιόνια Νησιά",null,null,null,null,null,{"$f":"IF(TRIM(J134)=\"\", \"\", IF(VLOOKUP(J134,'Footnotes list'!$B$5:$C$103,2,FALSE)=0,\"\",VLOOKUP(J134,'Footnotes list'!$B$5:$C$103,2,FALSE) ) )","v":""},null,null,null,null,{"$f":"IF(TRIM(O134)=\"\", \"\", IF(VLOOKUP(O134,'Footnotes list'!$B$5:$C$103,2,FALSE)=0,\"\",VLOOKUP(O134,'Footnotes list'!$B$5:$C$103,2,FALSE) ) )","v":""}]
["DSP_L","EL63",null,"EL63","        Δυτική Ελλάδα",null,null,null,null,null,{"$f":"IF(TRIM(J135)=\"\", \"\", IF(VLOOKUP(J135,'Footnotes list'!$B$5:$C$103,2,FALSE)=0,\"\",VLOOKUP(J135,'Footnotes list'!$B$5:$C$103,2,FALSE) ) )","v":""},null,null,null,null,{"$f":"IF(TRIM(O135)=\"\", \"\", IF(VLOOKUP(O135,'Footnotes list'!$B$5:$C$103,2,FALSE)=0,\"\",VLOOKUP(O135,'Footnotes list'!$B$5:$C$103,2,FALSE) ) )","v":""}]
["DSP_L","EL64",null,"EL64","        Στερεά Ελλάδα",null,null,null,null,null,{"$f":"IF(TRIM(J136)=\"\", \"\", IF(VLOOKUP(J136,'Footnotes list'!$B$5:$C$103,2,FALSE)=0,\"\",VLOOKUP(J136,'Footnotes list'!$B$5:$C$103,2,FALSE) ) )","v":""},null,null,null,null,{"$f":"IF(TRIM(O136)=\"\", \"\", IF(VLOOKUP(O136,'Footnotes list'!$B$5:$C$103,2,FALSE)=0,\"\",VLOOKUP(O136,'Footnotes list'!$B$5:$C$103,2,FALSE) ) )","v":""}]
["DSP_L","EL65",null,"EL65","        Πελοπόννησος",null,null,null,null,null,{"$f":"IF(TRIM(J137)=\"\", \"\", IF(VLOOKUP(J137,'Footnotes list'!$B$5:$C$103,2,FALSE)=0,\"\",VLOOKUP(J137,'Footnotes list'!$B$5:$C$103,2,FALSE) ) )","v":""},null,null,null,null,{"$f":"IF(TRIM(O137)=\"\", \"\", IF(VLOOKUP(O137,'Footnotes list'!$B$5:$C$103,2,FALSE)=0,\"\",VLOOKUP(O137,'Footnotes list'!$B$5:$C$103,2,FALSE) ) )","v":""}]
["DSP_LIN","ES",null,"ES","ESPAÑA","Inert waste",null,null,null,null,{"$f":"IF(TRIM(J138)=\"\", \"\", IF(VLOOKUP(J138,'Footnotes list'!$B$5:$C$103,2,FALSE)=0,\"\",VLOOKUP(J138,'Footnotes list'!$B$5:$C$103,2,FALSE) ) )","v":""},null,null,null,null,{"$f":"IF(TRIM(O138)=\"\", \"\", IF(VLOOKUP(O138,'Footnotes list'!$B$5:$C$103,2,FALSE)=0,\"\",VLOOKUP(O138,'Footnotes list'!$B$5:$C$103,2,FALSE) ) )","v":""},null,null,null,null,{"$f":"IF(TRIM(T138)=\"\", \"\", IF(VLOOKUP(T138,'Footnotes list'!$B$5:$C$103,2,FALSE)=0,\"\",VLOOKUP(T138,'Footnotes list'!$B$5:$C$103,2,FALSE) ) )","v":""}]
["DSP_LNH",{"$f":"B138","v":"ES"},null,{"$f":"D138","v":"ES"},null,"Non-hazardous waste",null,null,null,null,{"$f":"IF(TRIM(J139)=\"\", \"\", IF(VLOOKUP(J139,'Footnotes list'!$B$5:$C$103,2,FALSE)=0,\"\",VLOOKUP(J139,'Footnotes list'!$B$5:$C$103,2,FALSE) ) )","v":""},null,null,null,null,{"$f":"IF(TRIM(O139)=\"\", \"\", IF(VLOOKUP(O139,'Footnotes list'!$B$5:$C$103,2,FALSE)=0,\"\",VLOOKUP(O139,'Footnotes list'!$B$5:$C$103,2,FALSE) ) )","v":""},null,null,null,null,{"$f":"IF(TRIM(T139)=\"\", \"\", IF(VLOOKUP(T139,'Footnotes list'!$B$5:$C$103,2,FALSE)=0,\"\",VLOOKUP(T139,'Footnotes list'!$B$5:$C$103,2,FALSE) ) )","v":""}]
["DSP_LH",{"$f":"B138","v":"ES"},null,{"$f":"D138","v":"ES"},null,"Hazardous waste",null,null,null,null,{"$f":"IF(TRIM(J140)=\"\", \"\", IF(VLOOKUP(J140,'Footnotes list'!$B$5:$C$103,2,FALSE)=0,\"\",VLOOKUP(J140,'Footnotes list'!$B$5:$C$103,2,FALSE) ) )","v":""},null,null,null,null,{"$f":"IF(TRIM(O140)=\"\", \"\", IF(VLOOKUP(O140,'Footnotes list'!$B$5:$C$103,2,FALSE)=0,\"\",VLOOKUP(O140,'Footnotes list'!$B$5:$C$103,2,FALSE) ) )","v":""},null,null,null,null,{"$f":"IF(TRIM(T140)=\"\", \"\", IF(VLOOKUP(T140,'Footnotes list'!$B$5:$C$103,2,FALSE)=0,\"\",VLOOKUP(T140,'Footnotes list'!$B$5:$C$103,2,FALSE) ) )","v":""}]
["DSP_L",{"$f":"B138","v":"ES"},null,{"$f":"D138","v":"ES"},null,"Total",{"$f":"IF(AND(TRIM(G138)=\"\",TRIM(G139)=\"\",TRIM(G140)=\"\"),\"\",G138+G139+G140)","v":""},null,null,null,{"$f":"IF(TRIM(J141)=\"\", \"\", IF(VLOOKUP(J141,'Footnotes list'!$B$5:$C$103,2,FALSE)=0,\"\",VLOOKUP(J141,'Footnotes list'!$B$5:$C$103,2,FALSE) ) )","v":""},{"$f":"IF(AND(TRIM(L138)=\"\",TRIM(L139)=\"\",TRIM(L140)=\"\"),\"\",L138+L139+L140)","v":""},null,null,null,{"$f":"IF(TRIM(O141)=\"\", \"\", IF(VLOOKUP(O141,'Footnotes list'!$B$5:$C$103,2,FALSE)=0,\"\",VLOOKUP(O141,'Footnotes list'!$B$5:$C$103,2,FALSE) ) )","v":""},null,null,null,null,{"$f":"IF(TRIM(T141)=\"\", \"\", IF(VLOOKUP(T141,'Footnotes list'!$B$5:$C$103,2,FALSE)=0,\"\",VLOOKUP(T141,'Footnotes list'!$B$5:$C$103,2,FALSE) ) )","v":""}]
["DSP_L","ES1",null,"ES1","    NOROESTE","Total",null,null,null,null,{"$f":"IF(TRIM(J142)=\"\", \"\", IF(VLOOKUP(J142,'Footnotes list'!$B$5:$C$103,2,FALSE)=0,\"\",VLOOKUP(J142,'Footnotes list'!$B$5:$C$103,2,FALSE) ) )","v":""},null,null,null,null,{"$f":"IF(TRIM(O142)=\"\", \"\", IF(VLOOKUP(O142,'Footnotes list'!$B$5:$C$103,2,FALSE)=0,\"\",VLOOKUP(O142,'Footnotes list'!$B$5:$C$103,2,FALSE) ) )","v":""}]
["DSP_L","ES11",null,"ES11","        Galicia",null,null,null,null,null,{"$f":"IF(TRIM(J143)=\"\", \"\", IF(VLOOKUP(J143,'Footnotes list'!$B$5:$C$103,2,FALSE)=0,\"\",VLOOKUP(J143,'Footnotes list'!$B$5:$C$103,2,FALSE) ) )","v":""},null,null,null,null,{"$f":"IF(TRIM(O143)=\"\", \"\", IF(VLOOKUP(O143,'Footnotes list'!$B$5:$C$103,2,FALSE)=0,\"\",VLOOKUP(O143,'Footnotes list'!$B$5:$C$103,2,FALSE) ) )","v":""}]
["DSP_L","ES12",null,"ES12","        Principado de Asturias",null,null,null,null,null,{"$f":"IF(TRIM(J144)=\"\", \"\", IF(VLOOKUP(J144,'Footnotes list'!$B$5:$C$103,2,FALSE)=0,\"\",VLOOKUP(J144,'Footnotes list'!$B$5:$C$103,2,FALSE) ) )","v":""},null,null,null,null,{"$f":"IF(TRIM(O144)=\"\", \"\", IF(VLOOKUP(O144,'Footnotes list'!$B$5:$C$103,2,FALSE)=0,\"\",VLOOKUP(O144,'Footnotes list'!$B$5:$C$103,2,FALSE) ) )","v":""}]
["DSP_L","ES13",null,"ES13","        Cantabria",null,null,null,null,null,{"$f":"IF(TRIM(J145)=\"\", \"\", IF(VLOOKUP(J145,'Footnotes list'!$B$5:$C$103,2,FALSE)=0,\"\",VLOOKUP(J145,'Footnotes list'!$B$5:$C$103,2,FALSE) ) )","v":""},null,null,null,null,{"$f":"IF(TRIM(O145)=\"\", \"\", IF(VLOOKUP(O145,'Footnotes list'!$B$5:$C$103,2,FALSE)=0,\"\",VLOOKUP(O145,'Footnotes list'!$B$5:$C$103,2,FALSE) ) )","v":""}]
["DSP_L","ES2",null,"ES2","    NORESTE",null,null,null,null,null,{"$f":"IF(TRIM(J146)=\"\", \"\", IF(VLOOKUP(J146,'Footnotes list'!$B$5:$C$103,2,FALSE)=0,\"\",VLOOKUP(J146,'Footnotes list'!$B$5:$C$103,2,FALSE) ) )","v":""},null,null,null,null,{"$f":"IF(TRIM(O146)=\"\", \"\", IF(VLOOKUP(O146,'Footnotes list'!$B$5:$C$103,2,FALSE)=0,\"\",VLOOKUP(O146,'Footnotes list'!$B$5:$C$103,2,FALSE) ) )","v":""}]
["DSP_L","ES21",null,"ES21","        País Vasco",null,null,null,null,null,{"$f":"IF(TRIM(J147)=\"\", \"\", IF(VLOOKUP(J147,'Footnotes list'!$B$5:$C$103,2,FALSE)=0,\"\",VLOOKUP(J147,'Footnotes list'!$B$5:$C$103,2,FALSE) ) )","v":""},null,null,null,null,{"$f":"IF(TRIM(O147)=\"\", \"\", IF(VLOOKUP(O147,'Footnotes list'!$B$5:$C$103,2,FALSE)=0,\"\",VLOOKUP(O147,'Footnotes list'!$B$5:$C$103,2,FALSE) ) )","v":""}]
["DSP_L","ES22",null,"ES22","        Comunidad Foral de Navarra",null,null,null,null,null,{"$f":"IF(TRIM(J148)=\"\", \"\", IF(VLOOKUP(J148,'Footnotes list'!$B$5:$C$103,2,FALSE)=0,\"\",VLOOKUP(J148,'Footnotes list'!$B$5:$C$103,2,FALSE) ) )","v":""},null,null,null,null,{"$f":"IF(TRIM(O148)=\"\", \"\", IF(VLOOKUP(O148,'Footnotes list'!$B$5:$C$103,2,FALSE)=0,\"\",VLOOKUP(O148,'Footnotes list'!$B$5:$C$103,2,FALSE) ) )","v":""}]
["DSP_L","ES23",null,"ES23","        La Rioja",null,null,null,null,null,{"$f":"IF(TRIM(J149)=\"\", \"\", IF(VLOOKUP(J149,'Footnotes list'!$B$5:$C$103,2,FALSE)=0,\"\",VLOOKUP(J149,'Footnotes list'!$B$5:$C$103,2,FALSE) ) )","v":""},null,null,null,null,{"$f":"IF(TRIM(O149)=\"\", \"\", IF(VLOOKUP(O149,'Footnotes list'!$B$5:$C$103,2,FALSE)=0,\"\",VLOOKUP(O149,'Footnotes list'!$B$5:$C$103,2,FALSE) ) )","v":""}]
["DSP_L","ES24",null,"ES24","        Aragón",null,null,null,null,null,{"$f":"IF(TRIM(J150)=\"\", \"\", IF(VLOOKUP(J150,'Footnotes list'!$B$5:$C$103,2,FALSE)=0,\"\",VLOOKUP(J150,'Footnotes list'!$B$5:$C$103,2,FALSE) ) )","v":""},null,null,null,null,{"$f":"IF(TRIM(O150)=\"\", \"\", IF(VLOOKUP(O150,'Footnotes list'!$B$5:$C$103,2,FALSE)=0,\"\",VLOOKUP(O150,'Footnotes list'!$B$5:$C$103,2,FALSE) ) )","v":""}]
["DSP_L","ES3",null,"ES3","    COMUNIDAD DE MADRID",null,null,null,null,null,{"$f":"IF(TRIM(J151)=\"\", \"\", IF(VLOOKUP(J151,'Footnotes list'!$B$5:$C$103,2,FALSE)=0,\"\",VLOOKUP(J151,'Footnotes list'!$B$5:$C$103,2,FALSE) ) )","v":""},null,null,null,null,{"$f":"IF(TRIM(O151)=\"\", \"\", IF(VLOOKUP(O151,'Footnotes list'!$B$5:$C$103,2,FALSE)=0,\"\",VLOOKUP(O151,'Footnotes list'!$B$5:$C$103,2,FALSE) ) )","v":""}]
["DSP_L","ES4",null,"ES4","    CENTRO (ES)",null,null,null,null,null,{"$f":"IF(TRIM(J152)=\"\", \"\", IF(VLOOKUP(J152,'Footnotes list'!$B$5:$C$103,2,FALSE)=0,\"\",VLOOKUP(J152,'Footnotes list'!$B$5:$C$103,2,FALSE) ) )","v":""},null,null,null,null,{"$f":"IF(TRIM(O152)=\"\", \"\", IF(VLOOKUP(O152,'Footnotes list'!$B$5:$C$103,2,FALSE)=0,\"\",VLOOKUP(O152,'Footnotes list'!$B$5:$C$103,2,FALSE) ) )","v":""}]
["DSP_L","ES41",null,"ES41","        Castilla y León",null,null,null,null,null,{"$f":"IF(TRIM(J153)=\"\", \"\", IF(VLOOKUP(J153,'Footnotes list'!$B$5:$C$103,2,FALSE)=0,\"\",VLOOKUP(J153,'Footnotes list'!$B$5:$C$103,2,FALSE) ) )","v":""},null,null,null,null,{"$f":"IF(TRIM(O153)=\"\", \"\", IF(VLOOKUP(O153,'Footnotes list'!$B$5:$C$103,2,FALSE)=0,\"\",VLOOKUP(O153,'Footnotes list'!$B$5:$C$103,2,FALSE) ) )","v":""}]
["DSP_L","ES42",null,"ES42","        Castilla-La Mancha",null,null,null,null,null,{"$f":"IF(TRIM(J154)=\"\", \"\", IF(VLOOKUP(J154,'Footnotes list'!$B$5:$C$103,2,FALSE)=0,\"\",VLOOKUP(J154,'Footnotes list'!$B$5:$C$103,2,FALSE) ) )","v":""},null,null,null,null,{"$f":"IF(TRIM(O154)=\"\", \"\", IF(VLOOKUP(O154,'Footnotes list'!$B$5:$C$103,2,FALSE)=0,\"\",VLOOKUP(O154,'Footnotes list'!$B$5:$C$103,2,FALSE) ) )","v":""}]
["DSP_L","ES43",null,"ES43","        Extremadura",null,null,null,null,null,{"$f":"IF(TRIM(J155)=\"\", \"\", IF(VLOOKUP(J155,'Footnotes list'!$B$5:$C$103,2,FALSE)=0,\"\",VLOOKUP(J155,'Footnotes list'!$B$5:$C$103,2,FALSE) ) )","v":""},null,null,null,null,{"$f":"IF(TRIM(O155)=\"\", \"\", IF(VLOOKUP(O155,'Footnotes list'!$B$5:$C$103,2,FALSE)=0,\"\",VLOOKUP(O155,'Footnotes list'!$B$5:$C$103,2,FALSE) ) )","v":""}]
["DSP_L","ES5",null,"ES5","    ESTE",null,null,null,null,null,{"$f":"IF(TRIM(J156)=\"\", \"\", IF(VLOOKUP(J156,'Footnotes list'!$B$5:$C$103,2,FALSE)=0,\"\",VLOOKUP(J156,'Footnotes list'!$B$5:$C$103,2,FALSE) ) )","v":""},null,null,null,null,{"$f":"IF(TRIM(O156)=\"\", \"\", IF(VLOOKUP(O156,'Footnotes list'!$B$5:$C$103,2,FALSE)=0,\"\",VLOOKUP(O156,'Footnotes list'!$B$5:$C$103,2,FALSE) ) )","v":""}]
["DSP_L","ES51",null,"ES51","        Cataluña",null,null,null,null,null,{"$f":"IF(TRIM(J157)=\"\", \"\", IF(VLOOKUP(J157,'Footnotes list'!$B$5:$C$103,2,FALSE)=0,\"\",VLOOKUP(J157,'Footnotes list'!$B$5:$C$103,2,FALSE) ) )","v":""},null,null,null,null,{"$f":"IF(TRIM(O157)=\"\", \"\", IF(VLOOKUP(O157,'Footnotes list'!$B$5:$C$103,2,FALSE)=0,\"\",VLOOKUP(O157,'Footnotes list'!$B$5:$C$103,2,FALSE) ) )","v":""}]
["DSP_L","ES52",null,"ES52","        Comunidad Valenciana",null,null,null,null,null,{"$f":"IF(TRIM(J158)=\"\", \"\", IF(VLOOKUP(J158,'Footnotes list'!$B$5:$C$103,2,FALSE)=0,\"\",VLOOKUP(J158,'Footnotes list'!$B$5:$C$103,2,FALSE) ) )","v":""},null,null,null,null,{"$f":"IF(TRIM(O158)=\"\", \"\", IF(VLOOKUP(O158,'Footnotes list'!$B$5:$C$103,2,FALSE)=0,\"\",VLOOKUP(O158,'Footnotes list'!$B$5:$C$103,2,FALSE) ) )","v":""}]
["DSP_L","ES53",null,"ES53","        Illes Balears",null,null,null,null,null,{"$f":"IF(TRIM(J159)=\"\", \"\", IF(VLOOKUP(J159,'Footnotes list'!$B$5:$C$103,2,FALSE)=0,\"\",VLOOKUP(J159,'Footnotes list'!$B$5:$C$103,2,FALSE) ) )","v":""},null,null,null,null,{"$f":"IF(TRIM(O159)=\"\", \"\", IF(VLOOKUP(O159,'Footnotes list'!$B$5:$C$103,2,FALSE)=0,\"\",VLOOKUP(O159,'Footnotes list'!$B$5:$C$103,2,FALSE) ) )","v":""}]
["DSP_L","ES6",null,"ES6","    SUR",null,null,null,null,null,{"$f":"IF(TRIM(J160)=\"\", \"\", IF(VLOOKUP(J160,'Footnotes list'!$B$5:$C$103,2,FALSE)=0,\"\",VLOOKUP(J160,'Footnotes list'!$B$5:$C$103,2,FALSE) ) )","v":""},null,null,null,null,{"$f":"IF(TRIM(O160)=\"\", \"\", IF(VLOOKUP(O160,'Footnotes list'!$B$5:$C$103,2,FALSE)=0,\"\",VLOOKUP(O160,'Footnotes list'!$B$5:$C$103,2,FALSE) ) )","v":""}]
["DSP_L","ES61",null,"ES61","        Andalucía",null,null,null,null,null,{"$f":"IF(TRIM(J161)=\"\", \"\", IF(VLOOKUP(J161,'Footnotes list'!$B$5:$C$103,2,FALSE)=0,\"\",VLOOKUP(J161,'Footnotes list'!$B$5:$C$103,2,FALSE) ) )","v":""},null,null,null,null,{"$f":"IF(TRIM(O161)=\"\", \"\", IF(VLOOKUP(O161,'Footnotes list'!$B$5:$C$103,2,FALSE)=0,\"\",VLOOKUP(O161,'Footnotes list'!$B$5:$C$103,2,FALSE) ) )","v":""}]
["DSP_L","ES62",null,"ES62","        Región de Murcia",null,null,null,null,null,{"$f":"IF(TRIM(J162)=\"\", \"\", IF(VLOOKUP(J162,'Footnotes list'!$B$5:$C$103,2,FALSE)=0,\"\",VLOOKUP(J162,'Footnotes list'!$B$5:$C$103,2,FALSE) ) )","v":""},null,null,null,null,{"$f":"IF(TRIM(O162)=\"\", \"\", IF(VLOOKUP(O162,'Footnotes list'!$B$5:$C$103,2,FALSE)=0,\"\",VLOOKUP(O162,'Footnotes list'!$B$5:$C$103,2,FALSE) ) )","v":""}]
["DSP_L","ES63",null,"ES63","        Ciudad Autónoma de Ceuta",null,null,null,null,null,{"$f":"IF(TRIM(J163)=\"\", \"\", IF(VLOOKUP(J163,'Footnotes list'!$B$5:$C$103,2,FALSE)=0,\"\",VLOOKUP(J163,'Footnotes list'!$B$5:$C$103,2,FALSE) ) )","v":""},null,null,null,null,{"$f":"IF(TRIM(O163)=\"\", \"\", IF(VLOOKUP(O163,'Footnotes list'!$B$5:$C$103,2,FALSE)=0,\"\",VLOOKUP(O163,'Footnotes list'!$B$5:$C$103,2,FALSE) ) )","v":""}]
["DSP_L","ES64",null,"ES64","        Ciudad Autónoma de Melilla",null,null,null,null,null,{"$f":"IF(TRIM(J164)=\"\", \"\", IF(VLOOKUP(J164,'Footnotes list'!$B$5:$C$103,2,FALSE)=0,\"\",VLOOKUP(J164,'Footnotes list'!$B$5:$C$103,2,FALSE) ) )","v":""},null,null,null,null,{"$f":"IF(TRIM(O164)=\"\", \"\", IF(VLOOKUP(O164,'Footnotes list'!$B$5:$C$103,2,FALSE)=0,\"\",VLOOKUP(O164,'Footnotes list'!$B$5:$C$103,2,FALSE) ) )","v":""}]
["DSP_L","ES7",null,"ES7","    CANARIAS",null,null,null,null,null,{"$f":"IF(TRIM(J165)=\"\", \"\", IF(VLOOKUP(J165,'Footnotes list'!$B$5:$C$103,2,FALSE)=0,\"\",VLOOKUP(J165,'Footnotes list'!$B$5:$C$103,2,FALSE) ) )","v":""},null,null,null,null,{"$f":"IF(TRIM(O165)=\"\", \"\", IF(VLOOKUP(O165,'Footnotes list'!$B$5:$C$103,2,FALSE)=0,\"\",VLOOKUP(O165,'Footnotes list'!$B$5:$C$103,2,FALSE) ) )","v":""}]
["DSP_LIN","FR",null,"FR","FRANCE","Inert waste",null,null,null,null,{"$f":"IF(TRIM(J166)=\"\", \"\", IF(VLOOKUP(J166,'Footnotes list'!$B$5:$C$103,2,FALSE)=0,\"\",VLOOKUP(J166,'Footnotes list'!$B$5:$C$103,2,FALSE) ) )","v":""},null,null,null,null,{"$f":"IF(TRIM(O166)=\"\", \"\", IF(VLOOKUP(O166,'Footnotes list'!$B$5:$C$103,2,FALSE)=0,\"\",VLOOKUP(O166,'Footnotes list'!$B$5:$C$103,2,FALSE) ) )","v":""},null,null,null,null,{"$f":"IF(TRIM(T166)=\"\", \"\", IF(VLOOKUP(T166,'Footnotes list'!$B$5:$C$103,2,FALSE)=0,\"\",VLOOKUP(T166,'Footnotes list'!$B$5:$C$103,2,FALSE) ) )","v":""}]
["DSP_LNH",{"$f":"B166","v":"FR"},null,{"$f":"D166","v":"FR"},null,"Non-hazardous waste",null,null,null,null,{"$f":"IF(TRIM(J167)=\"\", \"\", IF(VLOOKUP(J167,'Footnotes list'!$B$5:$C$103,2,FALSE)=0,\"\",VLOOKUP(J167,'Footnotes list'!$B$5:$C$103,2,FALSE) ) )","v":""},null,null,null,null,{"$f":"IF(TRIM(O167)=\"\", \"\", IF(VLOOKUP(O167,'Footnotes list'!$B$5:$C$103,2,FALSE)=0,\"\",VLOOKUP(O167,'Footnotes list'!$B$5:$C$103,2,FALSE) ) )","v":""},null,null,null,null,{"$f":"IF(TRIM(T167)=\"\", \"\", IF(VLOOKUP(T167,'Footnotes list'!$B$5:$C$103,2,FALSE)=0,\"\",VLOOKUP(T167,'Footnotes list'!$B$5:$C$103,2,FALSE) ) )","v":""}]
["DSP_LH",{"$f":"B166","v":"FR"},null,{"$f":"D166","v":"FR"},null,"Hazardous waste",null,null,null,null,{"$f":"IF(TRIM(J168)=\"\", \"\", IF(VLOOKUP(J168,'Footnotes list'!$B$5:$C$103,2,FALSE)=0,\"\",VLOOKUP(J168,'Footnotes list'!$B$5:$C$103,2,FALSE) ) )","v":""},null,null,null,null,{"$f":"IF(TRIM(O168)=\"\", \"\", IF(VLOOKUP(O168,'Footnotes list'!$B$5:$C$103,2,FALSE)=0,\"\",VLOOKUP(O168,'Footnotes list'!$B$5:$C$103,2,FALSE) ) )","v":""},null,null,null,null,{"$f":"IF(TRIM(T168)=\"\", \"\", IF(VLOOKUP(T168,'Footnotes list'!$B$5:$C$103,2,FALSE)=0,\"\",VLOOKUP(T168,'Footnotes list'!$B$5:$C$103,2,FALSE) ) )","v":""}]
["DSP_L",{"$f":"B166","v":"FR"},null,{"$f":"D166","v":"FR"},null,"Total",{"$f":"IF(AND(TRIM(G166)=\"\",TRIM(G167)=\"\",TRIM(G168)=\"\"),\"\",G166+G167+G168)","v":""},null,null,null,{"$f":"IF(TRIM(J169)=\"\", \"\", IF(VLOOKUP(J169,'Footnotes list'!$B$5:$C$103,2,FALSE)=0,\"\",VLOOKUP(J169,'Footnotes list'!$B$5:$C$103,2,FALSE) ) )","v":""},{"$f":"IF(AND(TRIM(L166)=\"\",TRIM(L167)=\"\",TRIM(L168)=\"\"),\"\",L166+L167+L168)","v":""},null,null,null,{"$f":"IF(TRIM(O169)=\"\", \"\", IF(VLOOKUP(O169,'Footnotes list'!$B$5:$C$103,2,FALSE)=0,\"\",VLOOKUP(O169,'Footnotes list'!$B$5:$C$103,2,FALSE) ) )","v":""},null,null,null,null,{"$f":"IF(TRIM(T169)=\"\", \"\", IF(VLOOKUP(T169,'Footnotes list'!$B$5:$C$103,2,FALSE)=0,\"\",VLOOKUP(T169,'Footnotes list'!$B$5:$C$103,2,FALSE) ) )","v":""}]
["DSP_L","FR1",null,"FR1","    ILE-DE-FRANCE","Total",null,null,null,null,{"$f":"IF(TRIM(J170)=\"\", \"\", IF(VLOOKUP(J170,'Footnotes list'!$B$5:$C$103,2,FALSE)=0,\"\",VLOOKUP(J170,'Footnotes list'!$B$5:$C$103,2,FALSE) ) )","v":""},null,null,null,null,{"$f":"IF(TRIM(O170)=\"\", \"\", IF(VLOOKUP(O170,'Footnotes list'!$B$5:$C$103,2,FALSE)=0,\"\",VLOOKUP(O170,'Footnotes list'!$B$5:$C$103,2,FALSE) ) )","v":""}]
["DSP_L","FRB",null,"FRB","    CENTRE — VAL DE LOIRE",null,null,null,null,null,{"$f":"IF(TRIM(J171)=\"\", \"\", IF(VLOOKUP(J171,'Footnotes list'!$B$5:$C$103,2,FALSE)=0,\"\",VLOOKUP(J171,'Footnotes list'!$B$5:$C$103,2,FALSE) ) )","v":""},null,null,null,null,{"$f":"IF(TRIM(O171)=\"\", \"\", IF(VLOOKUP(O171,'Footnotes list'!$B$5:$C$103,2,FALSE)=0,\"\",VLOOKUP(O171,'Footnotes list'!$B$5:$C$103,2,FALSE) ) )","v":""}]
["DSP_L","FRC",null,"FRC","    BOURGOGNE-FRANCHE-COMTÉ",null,null,null,null,null,{"$f":"IF(TRIM(J172)=\"\", \"\", IF(VLOOKUP(J172,'Footnotes list'!$B$5:$C$103,2,FALSE)=0,\"\",VLOOKUP(J172,'Footnotes list'!$B$5:$C$103,2,FALSE) ) )","v":""},null,null,null,null,{"$f":"IF(TRIM(O172)=\"\", \"\", IF(VLOOKUP(O172,'Footnotes list'!$B$5:$C$103,2,FALSE)=0,\"\",VLOOKUP(O172,'Footnotes list'!$B$5:$C$103,2,FALSE) ) )","v":""}]
["DSP_L","FRC1",null,"FRC1","        Bourgogne",null,null,null,null,null,{"$f":"IF(TRIM(J173)=\"\", \"\", IF(VLOOKUP(J173,'Footnotes list'!$B$5:$C$103,2,FALSE)=0,\"\",VLOOKUP(J173,'Footnotes list'!$B$5:$C$103,2,FALSE) ) )","v":""},null,null,null,null,{"$f":"IF(TRIM(O173)=\"\", \"\", IF(VLOOKUP(O173,'Footnotes list'!$B$5:$C$103,2,FALSE)=0,\"\",VLOOKUP(O173,'Footnotes list'!$B$5:$C$103,2,FALSE) ) )","v":""}]
["DSP_L","FRC2",null,"FRC2","        Franche-Comté",null,null,null,null,null,{"$f":"IF(TRIM(J174)=\"\", \"\", IF(VLOOKUP(J174,'Footnotes list'!$B$5:$C$103,2,FALSE)=0,\"\",VLOOKUP(J174,'Footnotes list'!$B$5:$C$103,2,FALSE) ) )","v":""},null,null,null,null,{"$f":"IF(TRIM(O174)=\"\", \"\", IF(VLOOKUP(O174,'Footnotes list'!$B$5:$C$103,2,FALSE)=0,\"\",VLOOKUP(O174,'Footnotes list'!$B$5:$C$103,2,FALSE) ) )","v":""}]
["DSP_L","FRD",null,"FRD","    NORMANDIE",null,null,null,null,null,{"$f":"IF(TRIM(J175)=\"\", \"\", IF(VLOOKUP(J175,'Footnotes list'!$B$5:$C$103,2,FALSE)=0,\"\",VLOOKUP(J175,'Footnotes list'!$B$5:$C$103,2,FALSE) ) )","v":""},null,null,null,null,{"$f":"IF(TRIM(O175)=\"\", \"\", IF(VLOOKUP(O175,'Footnotes list'!$B$5:$C$103,2,FALSE)=0,\"\",VLOOKUP(O175,'Footnotes list'!$B$5:$C$103,2,FALSE) ) )","v":""}]
["DSP_L","FRD1",null,"FRD1","        Basse-Normandie",null,null,null,null,null,{"$f":"IF(TRIM(J176)=\"\", \"\", IF(VLOOKUP(J176,'Footnotes list'!$B$5:$C$103,2,FALSE)=0,\"\",VLOOKUP(J176,'Footnotes list'!$B$5:$C$103,2,FALSE) ) )","v":""},null,null,null,null,{"$f":"IF(TRIM(O176)=\"\", \"\", IF(VLOOKUP(O176,'Footnotes list'!$B$5:$C$103,2,FALSE)=0,\"\",VLOOKUP(O176,'Footnotes list'!$B$5:$C$103,2,FALSE) ) )","v":""}]
["DSP_L","FRD2",null,"FRD2","        Haute-Normandie",null,null,null,null,null,{"$f":"IF(TRIM(J177)=\"\", \"\", IF(VLOOKUP(J177,'Footnotes list'!$B$5:$C$103,2,FALSE)=0,\"\",VLOOKUP(J177,'Footnotes list'!$B$5:$C$103,2,FALSE) ) )","v":""},null,null,null,null,{"$f":"IF(TRIM(O177)=\"\", \"\", IF(VLOOKUP(O177,'Footnotes list'!$B$5:$C$103,2,FALSE)=0,\"\",VLOOKUP(O177,'Footnotes list'!$B$5:$C$103,2,FALSE) ) )","v":""}]
["DSP_L","FRE",null,"FRE","    NORD-PAS DE CALAIS-PICARDIE",null,null,null,null,null,{"$f":"IF(TRIM(J178)=\"\", \"\", IF(VLOOKUP(J178,'Footnotes list'!$B$5:$C$103,2,FALSE)=0,\"\",VLOOKUP(J178,'Footnotes list'!$B$5:$C$103,2,FALSE) ) )","v":""},null,null,null,null,{"$f":"IF(TRIM(O178)=\"\", \"\", IF(VLOOKUP(O178,'Footnotes list'!$B$5:$C$103,2,FALSE)=0,\"\",VLOOKUP(O178,'Footnotes list'!$B$5:$C$103,2,FALSE) ) )","v":""}]
["DSP_L","FRE1",null,"FRE1","        Nord-Pas de Calais",null,null,null,null,null,{"$f":"IF(TRIM(J179)=\"\", \"\", IF(VLOOKUP(J179,'Footnotes list'!$B$5:$C$103,2,FALSE)=0,\"\",VLOOKUP(J179,'Footnotes list'!$B$5:$C$103,2,FALSE) ) )","v":""},null,null,null,null,{"$f":"IF(TRIM(O179)=\"\", \"\", IF(VLOOKUP(O179,'Footnotes list'!$B$5:$C$103,2,FALSE)=0,\"\",VLOOKUP(O179,'Footnotes list'!$B$5:$C$103,2,FALSE) ) )","v":""}]
["DSP_L","FRE2",null,"FRE2","        Picardie",null,null,null,null,null,{"$f":"IF(TRIM(J180)=\"\", \"\", IF(VLOOKUP(J180,'Footnotes list'!$B$5:$C$103,2,FALSE)=0,\"\",VLOOKUP(J180,'Footnotes list'!$B$5:$C$103,2,FALSE) ) )","v":""},null,null,null,null,{"$f":"IF(TRIM(O180)=\"\", \"\", IF(VLOOKUP(O180,'Footnotes list'!$B$5:$C$103,2,FALSE)=0,\"\",VLOOKUP(O180,'Footnotes list'!$B$5:$C$103,2,FALSE) ) )","v":""}]
["DSP_L","FRF",null,"FRF","    ALSACE-CHAMPAGNE-ARDENNE-LORRAINE",null,null,null,null,null,{"$f":"IF(TRIM(J181)=\"\", \"\", IF(VLOOKUP(J181,'Footnotes list'!$B$5:$C$103,2,FALSE)=0,\"\",VLOOKUP(J181,'Footnotes list'!$B$5:$C$103,2,FALSE) ) )","v":""},null,null,null,null,{"$f":"IF(TRIM(O181)=\"\", \"\", IF(VLOOKUP(O181,'Footnotes list'!$B$5:$C$103,2,FALSE)=0,\"\",VLOOKUP(O181,'Footnotes list'!$B$5:$C$103,2,FALSE) ) )","v":""}]
["DSP_L","FRF1",null,"FRF1","        Alsace",null,null,null,null,null,{"$f":"IF(TRIM(J182)=\"\", \"\", IF(VLOOKUP(J182,'Footnotes list'!$B$5:$C$103,2,FALSE)=0,\"\",VLOOKUP(J182,'Footnotes list'!$B$5:$C$103,2,FALSE) ) )","v":""},null,null,null,null,{"$f":"IF(TRIM(O182)=\"\", \"\", IF(VLOOKUP(O182,'Footnotes list'!$B$5:$C$103,2,FALSE)=0,\"\",VLOOKUP(O182,'Footnotes list'!$B$5:$C$103,2,FALSE) ) )","v":""}]
["DSP_L","FRF2",null,"FRF2","        Champagne-Ardenne",null,null,null,null,null,{"$f":"IF(TRIM(J183)=\"\", \"\", IF(VLOOKUP(J183,'Footnotes list'!$B$5:$C$103,2,FALSE)=0,\"\",VLOOKUP(J183,'Footnotes list'!$B$5:$C$103,2,FALSE) ) )","v":""},null,null,null,null,{"$f":"IF(TRIM(O183)=\"\", \"\", IF(VLOOKUP(O183,'Footnotes list'!$B$5:$C$103,2,FALSE)=0,\"\",VLOOKUP(O183,'Footnotes list'!$B$5:$C$103,2,FALSE) ) )","v":""}]
["DSP_L","FRF3",null,"FRF3","        Lorraine",null,null,null,null,null,{"$f":"IF(TRIM(J184)=\"\", \"\", IF(VLOOKUP(J184,'Footnotes list'!$B$5:$C$103,2,FALSE)=0,\"\",VLOOKUP(J184,'Footnotes list'!$B$5:$C$103,2,FALSE) ) )","v":""},null,null,null,null,{"$f":"IF(TRIM(O184)=\"\", \"\", IF(VLOOKUP(O184,'Footnotes list'!$B$5:$C$103,2,FALSE)=0,\"\",VLOOKUP(O184,'Footnotes list'!$B$5:$C$103,2,FALSE) ) )","v":""}]
["DSP_L","FRG",null,"FRG","    PAYS DE LA LOIRE",null,null,null,null,null,{"$f":"IF(TRIM(J185)=\"\", \"\", IF(VLOOKUP(J185,'Footnotes list'!$B$5:$C$103,2,FALSE)=0,\"\",VLOOKUP(J185,'Footnotes list'!$B$5:$C$103,2,FALSE) ) )","v":""},null,null,null,null,{"$f":"IF(TRIM(O185)=\"\", \"\", IF(VLOOKUP(O185,'Footnotes list'!$B$5:$C$103,2,FALSE)=0,\"\",VLOOKUP(O185,'Footnotes list'!$B$5:$C$103,2,FALSE) ) )","v":""}]
["DSP_L","FRH",null,"FRH","    BRETAGNE",null,null,null,null,null,{"$f":"IF(TRIM(J186)=\"\", \"\", IF(VLOOKUP(J186,'Footnotes list'!$B$5:$C$103,2,FALSE)=0,\"\",VLOOKUP(J186,'Footnotes list'!$B$5:$C$103,2,FALSE) ) )","v":""},null,null,null,null,{"$f":"IF(TRIM(O186)=\"\", \"\", IF(VLOOKUP(O186,'Footnotes list'!$B$5:$C$103,2,FALSE)=0,\"\",VLOOKUP(O186,'Footnotes list'!$B$5:$C$103,2,FALSE) ) )","v":""}]
["DSP_L","FRI",null,"FRI","    AQUITAINE-LIMOUSIN-POITOU-CHARENTES",null,null,null,null,null,{"$f":"IF(TRIM(J187)=\"\", \"\", IF(VLOOKUP(J187,'Footnotes list'!$B$5:$C$103,2,FALSE)=0,\"\",VLOOKUP(J187,'Footnotes list'!$B$5:$C$103,2,FALSE) ) )","v":""},null,null,null,null,{"$f":"IF(TRIM(O187)=\"\", \"\", IF(VLOOKUP(O187,'Footnotes list'!$B$5:$C$103,2,FALSE)=0,\"\",VLOOKUP(O187,'Footnotes list'!$B$5:$C$103,2,FALSE) ) )","v":""}]
["DSP_L","FRI1",null,"FRI1","        Aquitaine",null,null,null,null,null,{"$f":"IF(TRIM(J188)=\"\", \"\", IF(VLOOKUP(J188,'Footnotes list'!$B$5:$C$103,2,FALSE)=0,\"\",VLOOKUP(J188,'Footnotes list'!$B$5:$C$103,2,FALSE) ) )","v":""},null,null,null,null,{"$f":"IF(TRIM(O188)=\"\", \"\", IF(VLOOKUP(O188,'Footnotes list'!$B$5:$C$103,2,FALSE)=0,\"\",VLOOKUP(O188,'Footnotes list'!$B$5:$C$103,2,FALSE) ) )","v":""}]
["DSP_L","FRI2",null,"FRI2","        Limousin",null,null,null,null,null,{"$f":"IF(TRIM(J189)=\"\", \"\", IF(VLOOKUP(J189,'Footnotes list'!$B$5:$C$103,2,FALSE)=0,\"\",VLOOKUP(J189,'Footnotes list'!$B$5:$C$103,2,FALSE) ) )","v":""},null,null,null,null,{"$f":"IF(TRIM(O189)=\"\", \"\", IF(VLOOKUP(O189,'Footnotes list'!$B$5:$C$103,2,FALSE)=0,\"\",VLOOKUP(O189,'Footnotes list'!$B$5:$C$103,2,FALSE) ) )","v":""}]
["DSP_L","FRI3",null,"FRI3","        Poitou-Charentes",null,null,null,null,null,{"$f":"IF(TRIM(J190)=\"\", \"\", IF(VLOOKUP(J190,'Footnotes list'!$B$5:$C$103,2,FALSE)=0,\"\",VLOOKUP(J190,'Footnotes list'!$B$5:$C$103,2,FALSE) ) )","v":""},null,null,null,null,{"$f":"IF(TRIM(O190)=\"\", \"\", IF(VLOOKUP(O190,'Footnotes list'!$B$5:$C$103,2,FALSE)=0,\"\",VLOOKUP(O190,'Footnotes list'!$B$5:$C$103,2,FALSE) ) )","v":""}]
["DSP_L","FRJ",null,"FRJ","    LANGUEDOC-ROUSSILLON-MIDI-PYRÉNÉES",null,null,null,null,null,{"$f":"IF(TRIM(J191)=\"\", \"\", IF(VLOOKUP(J191,'Footnotes list'!$B$5:$C$103,2,FALSE)=0,\"\",VLOOKUP(J191,'Footnotes list'!$B$5:$C$103,2,FALSE) ) )","v":""},null,null,null,null,{"$f":"IF(TRIM(O191)=\"\", \"\", IF(VLOOKUP(O191,'Footnotes list'!$B$5:$C$103,2,FALSE)=0,\"\",VLOOKUP(O191,'Footnotes list'!$B$5:$C$103,2,FALSE) ) )","v":""}]
["DSP_L","FRJ1",null,"FRJ1","        Languedoc-Roussillon",null,null,null,null,null,{"$f":"IF(TRIM(J192)=\"\", \"\", IF(VLOOKUP(J192,'Footnotes list'!$B$5:$C$103,2,FALSE)=0,\"\",VLOOKUP(J192,'Footnotes list'!$B$5:$C$103,2,FALSE) ) )","v":""},null,null,null,null,{"$f":"IF(TRIM(O192)=\"\", \"\", IF(VLOOKUP(O192,'Footnotes list'!$B$5:$C$103,2,FALSE)=0,\"\",VLOOKUP(O192,'Footnotes list'!$B$5:$C$103,2,FALSE) ) )","v":""}]
["DSP_L","FRJ2",null,"FRJ2","        Midi-Pyrénées",null,null,null,null,null,{"$f":"IF(TRIM(J193)=\"\", \"\", IF(VLOOKUP(J193,'Footnotes list'!$B$5:$C$103,2,FALSE)=0,\"\",VLOOKUP(J193,'Footnotes list'!$B$5:$C$103,2,FALSE) ) )","v":""},null,null,null,null,{"$f":"IF(TRIM(O193)=\"\", \"\", IF(VLOOKUP(O193,'Footnotes list'!$B$5:$C$103,2,FALSE)=0,\"\",VLOOKUP(O193,'Footnotes list'!$B$5:$C$103,2,FALSE) ) )","v":""}]
["DSP_L","FRK",null,"FRK","    AUVERGNE-RHÔNE-ALPES",null,null,null,null,null,{"$f":"IF(TRIM(J194)=\"\", \"\", IF(VLOOKUP(J194,'Footnotes list'!$B$5:$C$103,2,FALSE)=0,\"\",VLOOKUP(J194,'Footnotes list'!$B$5:$C$103,2,FALSE) ) )","v":""},null,null,null,null,{"$f":"IF(TRIM(O194)=\"\", \"\", IF(VLOOKUP(O194,'Footnotes list'!$B$5:$C$103,2,FALSE)=0,\"\",VLOOKUP(O194,'Footnotes list'!$B$5:$C$103,2,FALSE) ) )","v":""}]
["DSP_L","FRK1",null,"FRK1","        Auvergne",null,null,null,null,null,{"$f":"IF(TRIM(J195)=\"\", \"\", IF(VLOOKUP(J195,'Footnotes list'!$B$5:$C$103,2,FALSE)=0,\"\",VLOOKUP(J195,'Footnotes list'!$B$5:$C$103,2,FALSE) ) )","v":""},null,null,null,null,{"$f":"IF(TRIM(O195)=\"\", \"\", IF(VLOOKUP(O195,'Footnotes list'!$B$5:$C$103,2,FALSE)=0,\"\",VLOOKUP(O195,'Footnotes list'!$B$5:$C$103,2,FALSE) ) )","v":""}]
["DSP_L","FRK2",null,"FRK2","        Rhône-Alpes",null,null,null,null,null,{"$f":"IF(TRIM(J196)=\"\", \"\", IF(VLOOKUP(J196,'Footnotes list'!$B$5:$C$103,2,FALSE)=0,\"\",VLOOKUP(J196,'Footnotes list'!$B$5:$C$103,2,FALSE) ) )","v":""},null,null,null,null,{"$f":"IF(TRIM(O196)=\"\", \"\", IF(VLOOKUP(O196,'Footnotes list'!$B$5:$C$103,2,FALSE)=0,\"\",VLOOKUP(O196,'Footnotes list'!$B$5:$C$103,2,FALSE) ) )","v":""}]
["DSP_L","FRL",null,"FRL","    PROVENCE-ALPES-CÔTE D’AZUR",null,null,null,null,null,{"$f":"IF(TRIM(J197)=\"\", \"\", IF(VLOOKUP(J197,'Footnotes list'!$B$5:$C$103,2,FALSE)=0,\"\",VLOOKUP(J197,'Footnotes list'!$B$5:$C$103,2,FALSE) ) )","v":""},null,null,null,null,{"$f":"IF(TRIM(O197)=\"\", \"\", IF(VLOOKUP(O197,'Footnotes list'!$B$5:$C$103,2,FALSE)=0,\"\",VLOOKUP(O197,'Footnotes list'!$B$5:$C$103,2,FALSE) ) )","v":""}]
["DSP_L","FRM",null,"FRM","    CORSE",null,null,null,null,null,{"$f":"IF(TRIM(J198)=\"\", \"\", IF(VLOOKUP(J198,'Footnotes list'!$B$5:$C$103,2,FALSE)=0,\"\",VLOOKUP(J198,'Footnotes list'!$B$5:$C$103,2,FALSE) ) )","v":""},null,null,null,null,{"$f":"IF(TRIM(O198)=\"\", \"\", IF(VLOOKUP(O198,'Footnotes list'!$B$5:$C$103,2,FALSE)=0,\"\",VLOOKUP(O198,'Footnotes list'!$B$5:$C$103,2,FALSE) ) )","v":""}]
["DSP_L","FRY",null,"FRY","    RUP FR — RÉGIONS ULTRAPÉRIPHÉRIQUES FRANÇAISES",null,null,null,null,null,{"$f":"IF(TRIM(J199)=\"\", \"\", IF(VLOOKUP(J199,'Footnotes list'!$B$5:$C$103,2,FALSE)=0,\"\",VLOOKUP(J199,'Footnotes list'!$B$5:$C$103,2,FALSE) ) )","v":""},null,null,null,null,{"$f":"IF(TRIM(O199)=\"\", \"\", IF(VLOOKUP(O199,'Footnotes list'!$B$5:$C$103,2,FALSE)=0,\"\",VLOOKUP(O199,'Footnotes list'!$B$5:$C$103,2,FALSE) ) )","v":""}]
["DSP_L","FRY1",null,"FRY1","        Guadeloupe",null,null,null,null,null,{"$f":"IF(TRIM(J200)=\"\", \"\", IF(VLOOKUP(J200,'Footnotes list'!$B$5:$C$103,2,FALSE)=0,\"\",VLOOKUP(J200,'Footnotes list'!$B$5:$C$103,2,FALSE) ) )","v":""},null,null,null,null,{"$f":"IF(TRIM(O200)=\"\", \"\", IF(VLOOKUP(O200,'Footnotes list'!$B$5:$C$103,2,FALSE)=0,\"\",VLOOKUP(O200,'Footnotes list'!$B$5:$C$103,2,FALSE) ) )","v":""}]
["DSP_L","FRY2",null,"FRY2","        Martinique",null,null,null,null,null,{"$f":"IF(TRIM(J201)=\"\", \"\", IF(VLOOKUP(J201,'Footnotes list'!$B$5:$C$103,2,FALSE)=0,\"\",VLOOKUP(J201,'Footnotes list'!$B$5:$C$103,2,FALSE) ) )","v":""},null,null,null,null,{"$f":"IF(TRIM(O201)=\"\", \"\", IF(VLOOKUP(O201,'Footnotes list'!$B$5:$C$103,2,FALSE)=0,\"\",VLOOKUP(O201,'Footnotes list'!$B$5:$C$103,2,FALSE) ) )","v":""}]
["DSP_L","FRY3",null,"FRY3","        Guyane",null,null,null,null,null,{"$f":"IF(TRIM(J202)=\"\", \"\", IF(VLOOKUP(J202,'Footnotes list'!$B$5:$C$103,2,FALSE)=0,\"\",VLOOKUP(J202,'Footnotes list'!$B$5:$C$103,2,FALSE) ) )","v":""},null,null,null,null,{"$f":"IF(TRIM(O202)=\"\", \"\", IF(VLOOKUP(O202,'Footnotes list'!$B$5:$C$103,2,FALSE)=0,\"\",VLOOKUP(O202,'Footnotes list'!$B$5:$C$103,2,FALSE) ) )","v":""}]
["DSP_L","FRY4",null,"FRY4","        La Réunion",null,null,null,null,null,{"$f":"IF(TRIM(J203)=\"\", \"\", IF(VLOOKUP(J203,'Footnotes list'!$B$5:$C$103,2,FALSE)=0,\"\",VLOOKUP(J203,'Footnotes list'!$B$5:$C$103,2,FALSE) ) )","v":""},null,null,null,null,{"$f":"IF(TRIM(O203)=\"\", \"\", IF(VLOOKUP(O203,'Footnotes list'!$B$5:$C$103,2,FALSE)=0,\"\",VLOOKUP(O203,'Footnotes list'!$B$5:$C$103,2,FALSE) ) )","v":""}]
["DSP_L","FRY5",null,"FRY5","        Mayotte",null,null,null,null,null,{"$f":"IF(TRIM(J204)=\"\", \"\", IF(VLOOKUP(J204,'Footnotes list'!$B$5:$C$103,2,FALSE)=0,\"\",VLOOKUP(J204,'Footnotes list'!$B$5:$C$103,2,FALSE) ) )","v":""},null,null,null,null,{"$f":"IF(TRIM(O204)=\"\", \"\", IF(VLOOKUP(O204,'Footnotes list'!$B$5:$C$103,2,FALSE)=0,\"\",VLOOKUP(O204,'Footnotes list'!$B$5:$C$103,2,FALSE) ) )","v":""}]
["DSP_LIN","HR",null,"HR","HRVATSKA","Inert waste",1,null,null,null,{"$f":"IF(TRIM(J205)=\"\", \"\", IF(VLOOKUP(J205,'Footnotes list'!$B$5:$C$103,2,FALSE)=0,\"\",VLOOKUP(J205,'Footnotes list'!$B$5:$C$103,2,FALSE) ) )","v":""},136446.48000000001,null,null,null,{"$f":"IF(TRIM(O205)=\"\", \"\", IF(VLOOKUP(O205,'Footnotes list'!$B$5:$C$103,2,FALSE)=0,\"\",VLOOKUP(O205,'Footnotes list'!$B$5:$C$103,2,FALSE) ) )","v":""},0,null,null,null,{"$f":"IF(TRIM(T205)=\"\", \"\", IF(VLOOKUP(T205,'Footnotes list'!$B$5:$C$103,2,FALSE)=0,\"\",VLOOKUP(T205,'Footnotes list'!$B$5:$C$103,2,FALSE) ) )","v":""}]
["DSP_LNH",{"$f":"B205","v":"HR"},null,{"$f":"D205","v":"HR"},null,"Non-hazardous waste",126,null,null,null,{"$f":"IF(TRIM(J206)=\"\", \"\", IF(VLOOKUP(J206,'Footnotes list'!$B$5:$C$103,2,FALSE)=0,\"\",VLOOKUP(J206,'Footnotes list'!$B$5:$C$103,2,FALSE) ) )","v":""},18330362.100000001,null,null,null,{"$f":"IF(TRIM(O206)=\"\", \"\", IF(VLOOKUP(O206,'Footnotes list'!$B$5:$C$103,2,FALSE)=0,\"\",VLOOKUP(O206,'Footnotes list'!$B$5:$C$103,2,FALSE) ) )","v":""},190,null,null,null,{"$f":"IF(TRIM(T206)=\"\", \"\", IF(VLOOKUP(T206,'Footnotes list'!$B$5:$C$103,2,FALSE)=0,\"\",VLOOKUP(T206,'Footnotes list'!$B$5:$C$103,2,FALSE) ) )","v":""}]
["DSP_LH",{"$f":"B205","v":"HR"},null,{"$f":"D205","v":"HR"},null,"Hazardous waste",0,null,null,null,{"$f":"IF(TRIM(J207)=\"\", \"\", IF(VLOOKUP(J207,'Footnotes list'!$B$5:$C$103,2,FALSE)=0,\"\",VLOOKUP(J207,'Footnotes list'!$B$5:$C$103,2,FALSE) ) )","v":""},0,null,null,null,{"$f":"IF(TRIM(O207)=\"\", \"\", IF(VLOOKUP(O207,'Footnotes list'!$B$5:$C$103,2,FALSE)=0,\"\",VLOOKUP(O207,'Footnotes list'!$B$5:$C$103,2,FALSE) ) )","v":""},0,null,null,null,{"$f":"IF(TRIM(T207)=\"\", \"\", IF(VLOOKUP(T207,'Footnotes list'!$B$5:$C$103,2,FALSE)=0,\"\",VLOOKUP(T207,'Footnotes list'!$B$5:$C$103,2,FALSE) ) )","v":""}]
["DSP_L",{"$f":"B205","v":"HR"},null,{"$f":"D205","v":"HR"},null,"Total",{"$f":"IF(AND(TRIM(G205)=\"\",TRIM(G206)=\"\",TRIM(G207)=\"\"),\"\",G205+G206+G207)","v":127},null,null,null,{"$f":"IF(TRIM(J208)=\"\", \"\", IF(VLOOKUP(J208,'Footnotes list'!$B$5:$C$103,2,FALSE)=0,\"\",VLOOKUP(J208,'Footnotes list'!$B$5:$C$103,2,FALSE) ) )","v":""},{"$f":"IF(AND(TRIM(L205)=\"\",TRIM(L206)=\"\",TRIM(L207)=\"\"),\"\",L205+L206+L207)","v":18466808.579999998},null,null,null,{"$f":"IF(TRIM(O208)=\"\", \"\", IF(VLOOKUP(O208,'Footnotes list'!$B$5:$C$103,2,FALSE)=0,\"\",VLOOKUP(O208,'Footnotes list'!$B$5:$C$103,2,FALSE) ) )","v":""},null,null,null,null,{"$f":"IF(TRIM(T208)=\"\", \"\", IF(VLOOKUP(T208,'Footnotes list'!$B$5:$C$103,2,FALSE)=0,\"\",VLOOKUP(T208,'Footnotes list'!$B$5:$C$103,2,FALSE) ) )","v":""}]
["DSP_L","HR03",null,"HR03","    Jadranska Hrvatska","Total",66,null,null,null,{"$f":"IF(TRIM(J209)=\"\", \"\", IF(VLOOKUP(J209,'Footnotes list'!$B$5:$C$103,2,FALSE)=0,\"\",VLOOKUP(J209,'Footnotes list'!$B$5:$C$103,2,FALSE) ) )","v":""},7036127.6699999999,null,null,null,{"$f":"IF(TRIM(O209)=\"\", \"\", IF(VLOOKUP(O209,'Footnotes list'!$B$5:$C$103,2,FALSE)=0,\"\",VLOOKUP(O209,'Footnotes list'!$B$5:$C$103,2,FALSE) ) )","v":""}]
["DSP_L","HR04",null,"HR04","    Kontinentalna Hrvatska",null,61,null,null,null,{"$f":"IF(TRIM(J210)=\"\", \"\", IF(VLOOKUP(J210,'Footnotes list'!$B$5:$C$103,2,FALSE)=0,\"\",VLOOKUP(J210,'Footnotes list'!$B$5:$C$103,2,FALSE) ) )","v":""},11430680.91,null,null,null,{"$f":"IF(TRIM(O210)=\"\", \"\", IF(VLOOKUP(O210,'Footnotes list'!$B$5:$C$103,2,FALSE)=0,\"\",VLOOKUP(O210,'Footnotes list'!$B$5:$C$103,2,FALSE) ) )","v":""}]
["DSP_LIN","IT",null,"IT","ITALIA","Inert waste",null,null,null,null,{"$f":"IF(TRIM(J211)=\"\", \"\", IF(VLOOKUP(J211,'Footnotes list'!$B$5:$C$103,2,FALSE)=0,\"\",VLOOKUP(J211,'Footnotes list'!$B$5:$C$103,2,FALSE) ) )","v":""},null,null,null,null,{"$f":"IF(TRIM(O211)=\"\", \"\", IF(VLOOKUP(O211,'Footnotes list'!$B$5:$C$103,2,FALSE)=0,\"\",VLOOKUP(O211,'Footnotes list'!$B$5:$C$103,2,FALSE) ) )","v":""},null,null,null,null,{"$f":"IF(TRIM(T211)=\"\", \"\", IF(VLOOKUP(T211,'Footnotes list'!$B$5:$C$103,2,FALSE)=0,\"\",VLOOKUP(T211,'Footnotes list'!$B$5:$C$103,2,FALSE) ) )","v":""}]
["DSP_LNH",{"$f":"B211","v":"IT"},null,{"$f":"D211","v":"IT"},null,"Non-hazardous waste",null,null,null,null,{"$f":"IF(TRIM(J212)=\"\", \"\", IF(VLOOKUP(J212,'Footnotes list'!$B$5:$C$103,2,FALSE)=0,\"\",VLOOKUP(J212,'Footnotes list'!$B$5:$C$103,2,FALSE) ) )","v":""},null,null,null,null,{"$f":"IF(TRIM(O212)=\"\", \"\", IF(VLOOKUP(O212,'Footnotes list'!$B$5:$C$103,2,FALSE)=0,\"\",VLOOKUP(O212,'Footnotes list'!$B$5:$C$103,2,FALSE) ) )","v":""},null,null,null,null,{"$f":"IF(TRIM(T212)=\"\", \"\", IF(VLOOKUP(T212,'Footnotes list'!$B$5:$C$103,2,FALSE)=0,\"\",VLOOKUP(T212,'Footnotes list'!$B$5:$C$103,2,FALSE) ) )","v":""}]
["DSP_LH",{"$f":"B211","v":"IT"},null,{"$f":"D211","v":"IT"},null,"Hazardous waste",null,null,null,null,{"$f":"IF(TRIM(J213)=\"\", \"\", IF(VLOOKUP(J213,'Footnotes list'!$B$5:$C$103,2,FALSE)=0,\"\",VLOOKUP(J213,'Footnotes list'!$B$5:$C$103,2,FALSE) ) )","v":""},null,null,null,null,{"$f":"IF(TRIM(O213)=\"\", \"\", IF(VLOOKUP(O213,'Footnotes list'!$B$5:$C$103,2,FALSE)=0,\"\",VLOOKUP(O213,'Footnotes list'!$B$5:$C$103,2,FALSE) ) )","v":""},null,null,null,null,{"$f":"IF(TRIM(T213)=\"\", \"\", IF(VLOOKUP(T213,'Footnotes list'!$B$5:$C$103,2,FALSE)=0,\"\",VLOOKUP(T213,'Footnotes list'!$B$5:$C$103,2,FALSE) ) )","v":""}]
["DSP_L",{"$f":"B211","v":"IT"},null,{"$f":"D211","v":"IT"},null,"Total",{"$f":"IF(AND(TRIM(G211)=\"\",TRIM(G212)=\"\",TRIM(G213)=\"\"),\"\",G211+G212+G213)","v":""},null,null,null,{"$f":"IF(TRIM(J214)=\"\", \"\", IF(VLOOKUP(J214,'Footnotes list'!$B$5:$C$103,2,FALSE)=0,\"\",VLOOKUP(J214,'Footnotes list'!$B$5:$C$103,2,FALSE) ) )","v":""},{"$f":"IF(AND(TRIM(L211)=\"\",TRIM(L212)=\"\",TRIM(L213)=\"\"),\"\",L211+L212+L213)","v":""},null,null,null,{"$f":"IF(TRIM(O214)=\"\", \"\", IF(VLOOKUP(O214,'Footnotes list'!$B$5:$C$103,2,FALSE)=0,\"\",VLOOKUP(O214,'Footnotes list'!$B$5:$C$103,2,FALSE) ) )","v":""},null,null,null,null,{"$f":"IF(TRIM(T214)=\"\", \"\", IF(VLOOKUP(T214,'Footnotes list'!$B$5:$C$103,2,FALSE)=0,\"\",VLOOKUP(T214,'Footnotes list'!$B$5:$C$103,2,FALSE) ) )","v":""}]
["DSP_L","ITC",null,"ITC","    NORD-OVEST","Total",null,null,null,null,{"$f":"IF(TRIM(J215)=\"\", \"\", IF(VLOOKUP(J215,'Footnotes list'!$B$5:$C$103,2,FALSE)=0,\"\",VLOOKUP(J215,'Footnotes list'!$B$5:$C$103,2,FALSE) ) )","v":""},null,null,null,null,{"$f":"IF(TRIM(O215)=\"\", \"\", IF(VLOOKUP(O215,'Footnotes list'!$B$5:$C$103,2,FALSE)=0,\"\",VLOOKUP(O215,'Footnotes list'!$B$5:$C$103,2,FALSE) ) )","v":""}]
["DSP_L","ITC1",null,"ITC1","        Piemonte",null,null,null,null,null,{"$f":"IF(TRIM(J216)=\"\", \"\", IF(VLOOKUP(J216,'Footnotes list'!$B$5:$C$103,2,FALSE)=0,\"\",VLOOKUP(J216,'Footnotes list'!$B$5:$C$103,2,FALSE) ) )","v":""},null,null,null,null,{"$f":"IF(TRIM(O216)=\"\", \"\", IF(VLOOKUP(O216,'Footnotes list'!$B$5:$C$103,2,FALSE)=0,\"\",VLOOKUP(O216,'Footnotes list'!$B$5:$C$103,2,FALSE) ) )","v":""}]
["DSP_L","ITC2",null,"ITC2","        Valle d’Aosta/Vallée d’Aoste",null,null,null,null,null,{"$f":"IF(TRIM(J217)=\"\", \"\", IF(VLOOKUP(J217,'Footnotes list'!$B$5:$C$103,2,FALSE)=0,\"\",VLOOKUP(J217,'Footnotes list'!$B$5:$C$103,2,FALSE) ) )","v":""},null,null,null,null,{"$f":"IF(TRIM(O217)=\"\", \"\", IF(VLOOKUP(O217,'Footnotes list'!$B$5:$C$103,2,FALSE)=0,\"\",VLOOKUP(O217,'Footnotes list'!$B$5:$C$103,2,FALSE) ) )","v":""}]
["DSP_L","ITC3",null,"ITC3","        Liguria",null,null,null,null,null,{"$f":"IF(TRIM(J218)=\"\", \"\", IF(VLOOKUP(J218,'Footnotes list'!$B$5:$C$103,2,FALSE)=0,\"\",VLOOKUP(J218,'Footnotes list'!$B$5:$C$103,2,FALSE) ) )","v":""},null,null,null,null,{"$f":"IF(TRIM(O218)=\"\", \"\", IF(VLOOKUP(O218,'Footnotes list'!$B$5:$C$103,2,FALSE)=0,\"\",VLOOKUP(O218,'Footnotes list'!$B$5:$C$103,2,FALSE) ) )","v":""}]
["DSP_L","ITC4",null,"ITC4","        Lombardia",null,null,null,null,null,{"$f":"IF(TRIM(J219)=\"\", \"\", IF(VLOOKUP(J219,'Footnotes list'!$B$5:$C$103,2,FALSE)=0,\"\",VLOOKUP(J219,'Footnotes list'!$B$5:$C$103,2,FALSE) ) )","v":""},null,null,null,null,{"$f":"IF(TRIM(O219)=\"\", \"\", IF(VLOOKUP(O219,'Footnotes list'!$B$5:$C$103,2,FALSE)=0,\"\",VLOOKUP(O219,'Footnotes list'!$B$5:$C$103,2,FALSE) ) )","v":""}]
["DSP_L","ITF",null,"ITF","    SUD",null,null,null,null,null,{"$f":"IF(TRIM(J220)=\"\", \"\", IF(VLOOKUP(J220,'Footnotes list'!$B$5:$C$103,2,FALSE)=0,\"\",VLOOKUP(J220,'Footnotes list'!$B$5:$C$103,2,FALSE) ) )","v":""},null,null,null,null,{"$f":"IF(TRIM(O220)=\"\", \"\", IF(VLOOKUP(O220,'Footnotes list'!$B$5:$C$103,2,FALSE)=0,\"\",VLOOKUP(O220,'Footnotes list'!$B$5:$C$103,2,FALSE) ) )","v":""}]
["DSP_L","ITF1",null,"ITF1","        Abruzzo",null,null,null,null,null,{"$f":"IF(TRIM(J221)=\"\", \"\", IF(VLOOKUP(J221,'Footnotes list'!$B$5:$C$103,2,FALSE)=0,\"\",VLOOKUP(J221,'Footnotes list'!$B$5:$C$103,2,FALSE) ) )","v":""},null,null,null,null,{"$f":"IF(TRIM(O221)=\"\", \"\", IF(VLOOKUP(O221,'Footnotes list'!$B$5:$C$103,2,FALSE)=0,\"\",VLOOKUP(O221,'Footnotes list'!$B$5:$C$103,2,FALSE) ) )","v":""}]
["DSP_L","ITF2",null,"ITF2","        Molise",null,null,null,null,null,{"$f":"IF(TRIM(J222)=\"\", \"\", IF(VLOOKUP(J222,'Footnotes list'!$B$5:$C$103,2,FALSE)=0,\"\",VLOOKUP(J222,'Footnotes list'!$B$5:$C$103,2,FALSE) ) )","v":""},null,null,null,null,{"$f":"IF(TRIM(O222)=\"\", \"\", IF(VLOOKUP(O222,'Footnotes list'!$B$5:$C$103,2,FALSE)=0,\"\",VLOOKUP(O222,'Footnotes list'!$B$5:$C$103,2,FALSE) ) )","v":""}]
["DSP_L","ITF3",null,"ITF3","        Campania",null,null,null,null,null,{"$f":"IF(TRIM(J223)=\"\", \"\", IF(VLOOKUP(J223,'Footnotes list'!$B$5:$C$103,2,FALSE)=0,\"\",VLOOKUP(J223,'Footnotes list'!$B$5:$C$103,2,FALSE) ) )","v":""},null,null,null,null,{"$f":"IF(TRIM(O223)=\"\", \"\", IF(VLOOKUP(O223,'Footnotes list'!$B$5:$C$103,2,FALSE)=0,\"\",VLOOKUP(O223,'Footnotes list'!$B$5:$C$103,2,FALSE) ) )","v":""}]
["DSP_L","ITF4",null,"ITF4","        Puglia",null,null,null,null,null,{"$f":"IF(TRIM(J224)=\"\", \"\", IF(VLOOKUP(J224,'Footnotes list'!$B$5:$C$103,2,FALSE)=0,\"\",VLOOKUP(J224,'Footnotes list'!$B$5:$C$103,2,FALSE) ) )","v":""},null,null,null,null,{"$f":"IF(TRIM(O224)=\"\", \"\", IF(VLOOKUP(O224,'Footnotes list'!$B$5:$C$103,2,FALSE)=0,\"\",VLOOKUP(O224,'Footnotes list'!$B$5:$C$103,2,FALSE) ) )","v":""}]
["DSP_L","ITF5",null,"ITF5","        Basilicata",null,null,null,null,null,{"$f":"IF(TRIM(J225)=\"\", \"\", IF(VLOOKUP(J225,'Footnotes list'!$B$5:$C$103,2,FALSE)=0,\"\",VLOOKUP(J225,'Footnotes list'!$B$5:$C$103,2,FALSE) ) )","v":""},null,null,null,null,{"$f":"IF(TRIM(O225)=\"\", \"\", IF(VLOOKUP(O225,'Footnotes list'!$B$5:$C$103,2,FALSE)=0,\"\",VLOOKUP(O225,'Footnotes list'!$B$5:$C$103,2,FALSE) ) )","v":""}]
["DSP_L","ITF6",null,"ITF6","        Calabria",null,null,null,null,null,{"$f":"IF(TRIM(J226)=\"\", \"\", IF(VLOOKUP(J226,'Footnotes list'!$B$5:$C$103,2,FALSE)=0,\"\",VLOOKUP(J226,'Footnotes list'!$B$5:$C$103,2,FALSE) ) )","v":""},null,null,null,null,{"$f":"IF(TRIM(O226)=\"\", \"\", IF(VLOOKUP(O226,'Footnotes list'!$B$5:$C$103,2,FALSE)=0,\"\",VLOOKUP(O226,'Footnotes list'!$B$5:$C$103,2,FALSE) ) )","v":""}]
["DSP_L","ITG",null,"ITG","    ISOLE",null,null,null,null,null,{"$f":"IF(TRIM(J227)=\"\", \"\", IF(VLOOKUP(J227,'Footnotes list'!$B$5:$C$103,2,FALSE)=0,\"\",VLOOKUP(J227,'Footnotes list'!$B$5:$C$103,2,FALSE) ) )","v":""},null,null,null,null,{"$f":"IF(TRIM(O227)=\"\", \"\", IF(VLOOKUP(O227,'Footnotes list'!$B$5:$C$103,2,FALSE)=0,\"\",VLOOKUP(O227,'Footnotes list'!$B$5:$C$103,2,FALSE) ) )","v":""}]
["DSP_L","ITG1",null,"ITG1","        Sicilia",null,null,null,null,null,{"$f":"IF(TRIM(J228)=\"\", \"\", IF(VLOOKUP(J228,'Footnotes list'!$B$5:$C$103,2,FALSE)=0,\"\",VLOOKUP(J228,'Footnotes list'!$B$5:$C$103,2,FALSE) ) )","v":""},null,null,null,null,{"$f":"IF(TRIM(O228)=\"\", \"\", IF(VLOOKUP(O228,'Footnotes list'!$B$5:$C$103,2,FALSE)=0,\"\",VLOOKUP(O228,'Footnotes list'!$B$5:$C$103,2,FALSE) ) )","v":""}]
["DSP_L","ITG2",null,"ITG2","        Sardegna",null,null,null,null,null,{"$f":"IF(TRIM(J229)=\"\", \"\", IF(VLOOKUP(J229,'Footnotes list'!$B$5:$C$103,2,FALSE)=0,\"\",VLOOKUP(J229,'Footnotes list'!$B$5:$C$103,2,FALSE) ) )","v":""},null,null,null,null,{"$f":"IF(TRIM(O229)=\"\", \"\", IF(VLOOKUP(O229,'Footnotes list'!$B$5:$C$103,2,FALSE)=0,\"\",VLOOKUP(O229,'Footnotes list'!$B$5:$C$103,2,FALSE) ) )","v":""}]
["DSP_L","ITH",null,"ITH","    NORD-EST",null,null,null,null,null,{"$f":"IF(TRIM(J230)=\"\", \"\", IF(VLOOKUP(J230,'Footnotes list'!$B$5:$C$103,2,FALSE)=0,\"\",VLOOKUP(J230,'Footnotes list'!$B$5:$C$103,2,FALSE) ) )","v":""},null,null,null,null,{"$f":"IF(TRIM(O230)=\"\", \"\", IF(VLOOKUP(O230,'Footnotes list'!$B$5:$C$103,2,FALSE)=0,\"\",VLOOKUP(O230,'Footnotes list'!$B$5:$C$103,2,FALSE) ) )","v":""}]
["DSP_L","ITH1",null,"ITH1","        Provincia Autonoma di Bolzano/Bozen",null,null,null,null,null,{"$f":"IF(TRIM(J231)=\"\", \"\", IF(VLOOKUP(J231,'Footnotes list'!$B$5:$C$103,2,FALSE)=0,\"\",VLOOKUP(J231,'Footnotes list'!$B$5:$C$103,2,FALSE) ) )","v":""},null,null,null,null,{"$f":"IF(TRIM(O231)=\"\", \"\", IF(VLOOKUP(O231,'Footnotes list'!$B$5:$C$103,2,FALSE)=0,\"\",VLOOKUP(O231,'Footnotes list'!$B$5:$C$103,2,FALSE) ) )","v":""}]
["DSP_L","ITH2",null,"ITH2","        Provincia Autonoma di Trento",null,null,null,null,null,{"$f":"IF(TRIM(J232)=\"\", \"\", IF(VLOOKUP(J232,'Footnotes list'!$B$5:$C$103,2,FALSE)=0,\"\",VLOOKUP(J232,'Footnotes list'!$B$5:$C$103,2,FALSE) ) )","v":""},null,null,null,null,{"$f":"IF(TRIM(O232)=\"\", \"\", IF(VLOOKUP(O232,'Footnotes list'!$B$5:$C$103,2,FALSE)=0,\"\",VLOOKUP(O232,'Footnotes list'!$B$5:$C$103,2,FALSE) ) )","v":""}]
["DSP_L","ITH3",null,"ITH3","        Veneto",null,null,null,null,null,{"$f":"IF(TRIM(J233)=\"\", \"\", IF(VLOOKUP(J233,'Footnotes list'!$B$5:$C$103,2,FALSE)=0,\"\",VLOOKUP(J233,'Footnotes list'!$B$5:$C$103,2,FALSE) ) )","v":""},null,null,null,null,{"$f":"IF(TRIM(O233)=\"\", \"\", IF(VLOOKUP(O233,'Footnotes list'!$B$5:$C$103,2,FALSE)=0,\"\",VLOOKUP(O233,'Footnotes list'!$B$5:$C$103,2,FALSE) ) )","v":""}]
["DSP_L","ITH4",null,"ITH4","        Friuli-Venezia Giulia",null,null,null,null,null,{"$f":"IF(TRIM(J234)=\"\", \"\", IF(VLOOKUP(J234,'Footnotes list'!$B$5:$C$103,2,FALSE)=0,\"\",VLOOKUP(J234,'Footnotes list'!$B$5:$C$103,2,FALSE) ) )","v":""},null,null,null,null,{"$f":"IF(TRIM(O234)=\"\", \"\", IF(VLOOKUP(O234,'Footnotes list'!$B$5:$C$103,2,FALSE)=0,\"\",VLOOKUP(O234,'Footnotes list'!$B$5:$C$103,2,FALSE) ) )","v":""}]
["DSP_L","ITH5",null,"ITH5","        Emilia-Romagna",null,null,null,null,null,{"$f":"IF(TRIM(J235)=\"\", \"\", IF(VLOOKUP(J235,'Footnotes list'!$B$5:$C$103,2,FALSE)=0,\"\",VLOOKUP(J235,'Footnotes list'!$B$5:$C$103,2,FALSE) ) )","v":""},null,null,null,null,{"$f":"IF(TRIM(O235)=\"\", \"\", IF(VLOOKUP(O235,'Footnotes list'!$B$5:$C$103,2,FALSE)=0,\"\",VLOOKUP(O235,'Footnotes list'!$B$5:$C$103,2,FALSE) ) )","v":""}]
["DSP_L","ITI",null,"ITI","    CENTRO (IT)",null,null,null,null,null,{"$f":"IF(TRIM(J236)=\"\", \"\", IF(VLOOKUP(J236,'Footnotes list'!$B$5:$C$103,2,FALSE)=0,\"\",VLOOKUP(J236,'Footnotes list'!$B$5:$C$103,2,FALSE) ) )","v":""},null,null,null,null,{"$f":"IF(TRIM(O236)=\"\", \"\", IF(VLOOKUP(O236,'Footnotes list'!$B$5:$C$103,2,FALSE)=0,\"\",VLOOKUP(O236,'Footnotes list'!$B$5:$C$103,2,FALSE) ) )","v":""}]
["DSP_L","ITI1",null,"ITI1","        Toscana",null,null,null,null,null,{"$f":"IF(TRIM(J237)=\"\", \"\", IF(VLOOKUP(J237,'Footnotes list'!$B$5:$C$103,2,FALSE)=0,\"\",VLOOKUP(J237,'Footnotes list'!$B$5:$C$103,2,FALSE) ) )","v":""},null,null,null,null,{"$f":"IF(TRIM(O237)=\"\", \"\", IF(VLOOKUP(O237,'Footnotes list'!$B$5:$C$103,2,FALSE)=0,\"\",VLOOKUP(O237,'Footnotes list'!$B$5:$C$103,2,FALSE) ) )","v":""}]
["DSP_L","ITI2",null,"ITI2","        Umbria",null,null,null,null,null,{"$f":"IF(TRIM(J238)=\"\", \"\", IF(VLOOKUP(J238,'Footnotes list'!$B$5:$C$103,2,FALSE)=0,\"\",VLOOKUP(J238,'Footnotes list'!$B$5:$C$103,2,FALSE) ) )","v":""},null,null,null,null,{"$f":"IF(TRIM(O238)=\"\", \"\", IF(VLOOKUP(O238,'Footnotes list'!$B$5:$C$103,2,FALSE)=0,\"\",VLOOKUP(O238,'Footnotes list'!$B$5:$C$103,2,FALSE) ) )","v":""}]
["DSP_L","ITI3",null,"ITI3","        Marche",null,null,null,null,null,{"$f":"IF(TRIM(J239)=\"\", \"\", IF(VLOOKUP(J239,'Footnotes list'!$B$5:$C$103,2,FALSE)=0,\"\",VLOOKUP(J239,'Footnotes list'!$B$5:$C$103,2,FALSE) ) )","v":""},null,null,null,null,{"$f":"IF(TRIM(O239)=\"\", \"\", IF(VLOOKUP(O239,'Footnotes list'!$B$5:$C$103,2,FALSE)=0,\"\",VLOOKUP(O239,'Footnotes list'!$B$5:$C$103,2,FALSE) ) )","v":""}]
["DSP_L","ITI4",null,"ITI4","        Lazio",null,null,null,null,null,{"$f":"IF(TRIM(J240)=\"\", \"\", IF(VLOOKUP(J240,'Footnotes list'!$B$5:$C$103,2,FALSE)=0,\"\",VLOOKUP(J240,'Footnotes list'!$B$5:$C$103,2,FALSE) ) )","v":""},null,null,null,null,{"$f":"IF(TRIM(O240)=\"\", \"\", IF(VLOOKUP(O240,'Footnotes list'!$B$5:$C$103,2,FALSE)=0,\"\",VLOOKUP(O240,'Footnotes list'!$B$5:$C$103,2,FALSE) ) )","v":""}]
["DSP_LIN","CY",null,"CY","ΚΥΠΡΟΣ","Inert waste",null,null,null,null,{"$f":"IF(TRIM(J241)=\"\", \"\", IF(VLOOKUP(J241,'Footnotes list'!$B$5:$C$103,2,FALSE)=0,\"\",VLOOKUP(J241,'Footnotes list'!$B$5:$C$103,2,FALSE) ) )","v":""},null,null,null,null,{"$f":"IF(TRIM(O241)=\"\", \"\", IF(VLOOKUP(O241,'Footnotes list'!$B$5:$C$103,2,FALSE)=0,\"\",VLOOKUP(O241,'Footnotes list'!$B$5:$C$103,2,FALSE) ) )","v":""},null,null,null,null,{"$f":"IF(TRIM(T241)=\"\", \"\", IF(VLOOKUP(T241,'Footnotes list'!$B$5:$C$103,2,FALSE)=0,\"\",VLOOKUP(T241,'Footnotes list'!$B$5:$C$103,2,FALSE) ) )","v":""}]
["DSP_LNH",{"$f":"B241","v":"CY"},null,{"$f":"D241","v":"CY"},null,"Non-hazardous waste",null,null,null,null,{"$f":"IF(TRIM(J242)=\"\", \"\", IF(VLOOKUP(J242,'Footnotes list'!$B$5:$C$103,2,FALSE)=0,\"\",VLOOKUP(J242,'Footnotes list'!$B$5:$C$103,2,FALSE) ) )","v":""},null,null,null,null,{"$f":"IF(TRIM(O242)=\"\", \"\", IF(VLOOKUP(O242,'Footnotes list'!$B$5:$C$103,2,FALSE)=0,\"\",VLOOKUP(O242,'Footnotes list'!$B$5:$C$103,2,FALSE) ) )","v":""},null,null,null,null,{"$f":"IF(TRIM(T242)=\"\", \"\", IF(VLOOKUP(T242,'Footnotes list'!$B$5:$C$103,2,FALSE)=0,\"\",VLOOKUP(T242,'Footnotes list'!$B$5:$C$103,2,FALSE) ) )","v":""}]
["DSP_LH",{"$f":"B241","v":"CY"},null,{"$f":"D241","v":"CY"},null,"Hazardous waste",null,null,null,null,{"$f":"IF(TRIM(J243)=\"\", \"\", IF(VLOOKUP(J243,'Footnotes list'!$B$5:$C$103,2,FALSE)=0,\"\",VLOOKUP(J243,'Footnotes list'!$B$5:$C$103,2,FALSE) ) )","v":""},null,null,null,null,{"$f":"IF(TRIM(O243)=\"\", \"\", IF(VLOOKUP(O243,'Footnotes list'!$B$5:$C$103,2,FALSE)=0,\"\",VLOOKUP(O243,'Footnotes list'!$B$5:$C$103,2,FALSE) ) )","v":""},null,null,null,null,{"$f":"IF(TRIM(T243)=\"\", \"\", IF(VLOOKUP(T243,'Footnotes list'!$B$5:$C$103,2,FALSE)=0,\"\",VLOOKUP(T243,'Footnotes list'!$B$5:$C$103,2,FALSE) ) )","v":""}]
["DSP_L",{"$f":"B241","v":"CY"},null,{"$f":"D241","v":"CY"},null,"Total",{"$f":"IF(AND(TRIM(G241)=\"\",TRIM(G242)=\"\",TRIM(G243)=\"\"),\"\",G241+G242+G243)","v":""},null,null,null,{"$f":"IF(TRIM(J244)=\"\", \"\", IF(VLOOKUP(J244,'Footnotes list'!$B$5:$C$103,2,FALSE)=0,\"\",VLOOKUP(J244,'Footnotes list'!$B$5:$C$103,2,FALSE) ) )","v":""},{"$f":"IF(AND(TRIM(L241)=\"\",TRIM(L242)=\"\",TRIM(L243)=\"\"),\"\",L241+L242+L243)","v":""},null,null,null,{"$f":"IF(TRIM(O244)=\"\", \"\", IF(VLOOKUP(O244,'Footnotes list'!$B$5:$C$103,2,FALSE)=0,\"\",VLOOKUP(O244,'Footnotes list'!$B$5:$C$103,2,FALSE) ) )","v":""},null,null,null,null,{"$f":"IF(TRIM(T244)=\"\", \"\", IF(VLOOKUP(T244,'Footnotes list'!$B$5:$C$103,2,FALSE)=0,\"\",VLOOKUP(T244,'Footnotes list'!$B$5:$C$103,2,FALSE) ) )","v":""}]
["DSP_LIN","LV",null,"LV","LATVIJA","Inert waste",null,null,null,null,{"$f":"IF(TRIM(J245)=\"\", \"\", IF(VLOOKUP(J245,'Footnotes list'!$B$5:$C$103,2,FALSE)=0,\"\",VLOOKUP(J245,'Footnotes list'!$B$5:$C$103,2,FALSE) ) )","v":""},null,null,null,null,{"$f":"IF(TRIM(O245)=\"\", \"\", IF(VLOOKUP(O245,'Footnotes list'!$B$5:$C$103,2,FALSE)=0,\"\",VLOOKUP(O245,'Footnotes list'!$B$5:$C$103,2,FALSE) ) )","v":""},null,null,null,null,{"$f":"IF(TRIM(T245)=\"\", \"\", IF(VLOOKUP(T245,'Footnotes list'!$B$5:$C$103,2,FALSE)=0,\"\",VLOOKUP(T245,'Footnotes list'!$B$5:$C$103,2,FALSE) ) )","v":""}]
["DSP_LNH",{"$f":"B245","v":"LV"},null,{"$f":"D245","v":"LV"},null,"Non-hazardous waste",null,null,null,null,{"$f":"IF(TRIM(J246)=\"\", \"\", IF(VLOOKUP(J246,'Footnotes list'!$B$5:$C$103,2,FALSE)=0,\"\",VLOOKUP(J246,'Footnotes list'!$B$5:$C$103,2,FALSE) ) )","v":""},null,null,null,null,{"$f":"IF(TRIM(O246)=\"\", \"\", IF(VLOOKUP(O246,'Footnotes list'!$B$5:$C$103,2,FALSE)=0,\"\",VLOOKUP(O246,'Footnotes list'!$B$5:$C$103,2,FALSE) ) )","v":""},null,null,null,null,{"$f":"IF(TRIM(T246)=\"\", \"\", IF(VLOOKUP(T246,'Footnotes list'!$B$5:$C$103,2,FALSE)=0,\"\",VLOOKUP(T246,'Footnotes list'!$B$5:$C$103,2,FALSE) ) )","v":""}]
["DSP_LH",{"$f":"B245","v":"LV"},null,{"$f":"D245","v":"LV"},null,"Hazardous waste",null,null,null,null,{"$f":"IF(TRIM(J247)=\"\", \"\", IF(VLOOKUP(J247,'Footnotes list'!$B$5:$C$103,2,FALSE)=0,\"\",VLOOKUP(J247,'Footnotes list'!$B$5:$C$103,2,FALSE) ) )","v":""},null,null,null,null,{"$f":"IF(TRIM(O247)=\"\", \"\", IF(VLOOKUP(O247,'Footnotes list'!$B$5:$C$103,2,FALSE)=0,\"\",VLOOKUP(O247,'Footnotes list'!$B$5:$C$103,2,FALSE) ) )","v":""},null,null,null,null,{"$f":"IF(TRIM(T247)=\"\", \"\", IF(VLOOKUP(T247,'Footnotes list'!$B$5:$C$103,2,FALSE)=0,\"\",VLOOKUP(T247,'Footnotes list'!$B$5:$C$103,2,FALSE) ) )","v":""}]
["DSP_L",{"$f":"B245","v":"LV"},null,{"$f":"D245","v":"LV"},null,"Total",{"$f":"IF(AND(TRIM(G245)=\"\",TRIM(G246)=\"\",TRIM(G247)=\"\"),\"\",G245+G246+G247)","v":""},null,null,null,{"$f":"IF(TRIM(J248)=\"\", \"\", IF(VLOOKUP(J248,'Footnotes list'!$B$5:$C$103,2,FALSE)=0,\"\",VLOOKUP(J248,'Footnotes list'!$B$5:$C$103,2,FALSE) ) )","v":""},{"$f":"IF(AND(TRIM(L245)=\"\",TRIM(L246)=\"\",TRIM(L247)=\"\"),\"\",L245+L246+L247)","v":""},null,null,null,{"$f":"IF(TRIM(O248)=\"\", \"\", IF(VLOOKUP(O248,'Footnotes list'!$B$5:$C$103,2,FALSE)=0,\"\",VLOOKUP(O248,'Footnotes list'!$B$5:$C$103,2,FALSE) ) )","v":""},null,null,null,null,{"$f":"IF(TRIM(T248)=\"\", \"\", IF(VLOOKUP(T248,'Footnotes list'!$B$5:$C$103,2,FALSE)=0,\"\",VLOOKUP(T248,'Footnotes list'!$B$5:$C$103,2,FALSE) ) )","v":""}]
["DSP_LIN","LT",null,"LT","LIETUVA","Inert waste",null,null,null,null,{"$f":"IF(TRIM(J249)=\"\", \"\", IF(VLOOKUP(J249,'Footnotes list'!$B$5:$C$103,2,FALSE)=0,\"\",VLOOKUP(J249,'Footnotes list'!$B$5:$C$103,2,FALSE) ) )","v":""},null,null,null,null,{"$f":"IF(TRIM(O249)=\"\", \"\", IF(VLOOKUP(O249,'Footnotes list'!$B$5:$C$103,2,FALSE)=0,\"\",VLOOKUP(O249,'Footnotes list'!$B$5:$C$103,2,FALSE) ) )","v":""},null,null,null,null,{"$f":"IF(TRIM(T249)=\"\", \"\", IF(VLOOKUP(T249,'Footnotes list'!$B$5:$C$103,2,FALSE)=0,\"\",VLOOKUP(T249,'Footnotes list'!$B$5:$C$103,2,FALSE) ) )","v":""}]
["DSP_LNH",{"$f":"B249","v":"LT"},null,{"$f":"D249","v":"LT"},null,"Non-hazardous waste",null,null,null,null,{"$f":"IF(TRIM(J250)=\"\", \"\", IF(VLOOKUP(J250,'Footnotes list'!$B$5:$C$103,2,FALSE)=0,\"\",VLOOKUP(J250,'Footnotes list'!$B$5:$C$103,2,FALSE) ) )","v":""},null,null,null,null,{"$f":"IF(TRIM(O250)=\"\", \"\", IF(VLOOKUP(O250,'Footnotes list'!$B$5:$C$103,2,FALSE)=0,\"\",VLOOKUP(O250,'Footnotes list'!$B$5:$C$103,2,FALSE) ) )","v":""},null,null,null,null,{"$f":"IF(TRIM(T250)=\"\", \"\", IF(VLOOKUP(T250,'Footnotes list'!$B$5:$C$103,2,FALSE)=0,\"\",VLOOKUP(T250,'Footnotes list'!$B$5:$C$103,2,FALSE) ) )","v":""}]
["DSP_LH",{"$f":"B249","v":"LT"},null,{"$f":"D249","v":"LT"},null,"Hazardous waste",null,null,null,null,{"$f":"IF(TRIM(J251)=\"\", \"\", IF(VLOOKUP(J251,'Footnotes list'!$B$5:$C$103,2,FALSE)=0,\"\",VLOOKUP(J251,'Footnotes list'!$B$5:$C$103,2,FALSE) ) )","v":""},null,null,null,null,{"$f":"IF(TRIM(O251)=\"\", \"\", IF(VLOOKUP(O251,'Footnotes list'!$B$5:$C$103,2,FALSE)=0,\"\",VLOOKUP(O251,'Footnotes list'!$B$5:$C$103,2,FALSE) ) )","v":""},null,null,null,null,{"$f":"IF(TRIM(T251)=\"\", \"\", IF(VLOOKUP(T251,'Footnotes list'!$B$5:$C$103,2,FALSE)=0,\"\",VLOOKUP(T251,'Footnotes list'!$B$5:$C$103,2,FALSE) ) )","v":""}]
["DSP_L",{"$f":"B249","v":"LT"},null,{"$f":"D249","v":"LT"},null,"Total",{"$f":"IF(AND(TRIM(G249)=\"\",TRIM(G250)=\"\",TRIM(G251)=\"\"),\"\",G249+G250+G251)","v":""},null,null,null,{"$f":"IF(TRIM(J252)=\"\", \"\", IF(VLOOKUP(J252,'Footnotes list'!$B$5:$C$103,2,FALSE)=0,\"\",VLOOKUP(J252,'Footnotes list'!$B$5:$C$103,2,FALSE) ) )","v":""},{"$f":"IF(AND(TRIM(L249)=\"\",TRIM(L250)=\"\",TRIM(L251)=\"\"),\"\",L249+L250+L251)","v":""},null,null,null,{"$f":"IF(TRIM(O252)=\"\", \"\", IF(VLOOKUP(O252,'Footnotes list'!$B$5:$C$103,2,FALSE)=0,\"\",VLOOKUP(O252,'Footnotes list'!$B$5:$C$103,2,FALSE) ) )","v":""},null,null,null,null,{"$f":"IF(TRIM(T252)=\"\", \"\", IF(VLOOKUP(T252,'Footnotes list'!$B$5:$C$103,2,FALSE)=0,\"\",VLOOKUP(T252,'Footnotes list'!$B$5:$C$103,2,FALSE) ) )","v":""}]
["DSP_L","LT01",null,"LT01","    Sostinės regionas","Total",null,null,null,null,{"$f":"IF(TRIM(J253)=\"\", \"\", IF(VLOOKUP(J253,'Footnotes list'!$B$5:$C$103,2,FALSE)=0,\"\",VLOOKUP(J253,'Footnotes list'!$B$5:$C$103,2,FALSE) ) )","v":""},null,null,null,null,{"$f":"IF(TRIM(O253)=\"\", \"\", IF(VLOOKUP(O253,'Footnotes list'!$B$5:$C$103,2,FALSE)=0,\"\",VLOOKUP(O253,'Footnotes list'!$B$5:$C$103,2,FALSE) ) )","v":""}]
["DSP_L","LT02",null,"LT02","    Vidurio ir vakarų Lietuvos regionas",null,null,null,null,null,{"$f":"IF(TRIM(J254)=\"\", \"\", IF(VLOOKUP(J254,'Footnotes list'!$B$5:$C$103,2,FALSE)=0,\"\",VLOOKUP(J254,'Footnotes list'!$B$5:$C$103,2,FALSE) ) )","v":""},null,null,null,null,{"$f":"IF(TRIM(O254)=\"\", \"\", IF(VLOOKUP(O254,'Footnotes list'!$B$5:$C$103,2,FALSE)=0,\"\",VLOOKUP(O254,'Footnotes list'!$B$5:$C$103,2,FALSE) ) )","v":""}]
["DSP_LIN","LU",null,"LU","LUXEMBOURG","Inert waste",null,null,null,null,{"$f":"IF(TRIM(J255)=\"\", \"\", IF(VLOOKUP(J255,'Footnotes list'!$B$5:$C$103,2,FALSE)=0,\"\",VLOOKUP(J255,'Footnotes list'!$B$5:$C$103,2,FALSE) ) )","v":""},null,null,null,null,{"$f":"IF(TRIM(O255)=\"\", \"\", IF(VLOOKUP(O255,'Footnotes list'!$B$5:$C$103,2,FALSE)=0,\"\",VLOOKUP(O255,'Footnotes list'!$B$5:$C$103,2,FALSE) ) )","v":""},null,null,null,null,{"$f":"IF(TRIM(T255)=\"\", \"\", IF(VLOOKUP(T255,'Footnotes list'!$B$5:$C$103,2,FALSE)=0,\"\",VLOOKUP(T255,'Footnotes list'!$B$5:$C$103,2,FALSE) ) )","v":""}]
["DSP_LNH",{"$f":"B255","v":"LU"},null,{"$f":"D255","v":"LU"},null,"Non-hazardous waste",null,null,null,null,{"$f":"IF(TRIM(J256)=\"\", \"\", IF(VLOOKUP(J256,'Footnotes list'!$B$5:$C$103,2,FALSE)=0,\"\",VLOOKUP(J256,'Footnotes list'!$B$5:$C$103,2,FALSE) ) )","v":""},null,null,null,null,{"$f":"IF(TRIM(O256)=\"\", \"\", IF(VLOOKUP(O256,'Footnotes list'!$B$5:$C$103,2,FALSE)=0,\"\",VLOOKUP(O256,'Footnotes list'!$B$5:$C$103,2,FALSE) ) )","v":""},null,null,null,null,{"$f":"IF(TRIM(T256)=\"\", \"\", IF(VLOOKUP(T256,'Footnotes list'!$B$5:$C$103,2,FALSE)=0,\"\",VLOOKUP(T256,'Footnotes list'!$B$5:$C$103,2,FALSE) ) )","v":""}]
["DSP_LH",{"$f":"B255","v":"LU"},null,{"$f":"D255","v":"LU"},null,"Hazardous waste",null,null,null,null,{"$f":"IF(TRIM(J257)=\"\", \"\", IF(VLOOKUP(J257,'Footnotes list'!$B$5:$C$103,2,FALSE)=0,\"\",VLOOKUP(J257,'Footnotes list'!$B$5:$C$103,2,FALSE) ) )","v":""},null,null,null,null,{"$f":"IF(TRIM(O257)=\"\", \"\", IF(VLOOKUP(O257,'Footnotes list'!$B$5:$C$103,2,FALSE)=0,\"\",VLOOKUP(O257,'Footnotes list'!$B$5:$C$103,2,FALSE) ) )","v":""},null,null,null,null,{"$f":"IF(TRIM(T257)=\"\", \"\", IF(VLOOKUP(T257,'Footnotes list'!$B$5:$C$103,2,FALSE)=0,\"\",VLOOKUP(T257,'Footnotes list'!$B$5:$C$103,2,FALSE) ) )","v":""}]
["DSP_L",{"$f":"B255","v":"LU"},null,{"$f":"D255","v":"LU"},null,"Total",{"$f":"IF(AND(TRIM(G255)=\"\",TRIM(G256)=\"\",TRIM(G257)=\"\"),\"\",G255+G256+G257)","v":""},null,null,null,{"$f":"IF(TRIM(J258)=\"\", \"\", IF(VLOOKUP(J258,'Footnotes list'!$B$5:$C$103,2,FALSE)=0,\"\",VLOOKUP(J258,'Footnotes list'!$B$5:$C$103,2,FALSE) ) )","v":""},{"$f":"IF(AND(TRIM(L255)=\"\",TRIM(L256)=\"\",TRIM(L257)=\"\"),\"\",L255+L256+L257)","v":""},null,null,null,{"$f":"IF(TRIM(O258)=\"\", \"\", IF(VLOOKUP(O258,'Footnotes list'!$B$5:$C$103,2,FALSE)=0,\"\",VLOOKUP(O258,'Footnotes list'!$B$5:$C$103,2,FALSE) ) )","v":""},null,null,null,null,{"$f":"IF(TRIM(T258)=\"\", \"\", IF(VLOOKUP(T258,'Footnotes list'!$B$5:$C$103,2,FALSE)=0,\"\",VLOOKUP(T258,'Footnotes list'!$B$5:$C$103,2,FALSE) ) )","v":""}]
["DSP_LIN","HU",null,"HU","MAGYARORSZÁG","Inert waste",null,null,null,null,{"$f":"IF(TRIM(J259)=\"\", \"\", IF(VLOOKUP(J259,'Footnotes list'!$B$5:$C$103,2,FALSE)=0,\"\",VLOOKUP(J259,'Footnotes list'!$B$5:$C$103,2,FALSE) ) )","v":""},null,null,null,null,{"$f":"IF(TRIM(O259)=\"\", \"\", IF(VLOOKUP(O259,'Footnotes list'!$B$5:$C$103,2,FALSE)=0,\"\",VLOOKUP(O259,'Footnotes list'!$B$5:$C$103,2,FALSE) ) )","v":""},null,null,null,null,{"$f":"IF(TRIM(T259)=\"\", \"\", IF(VLOOKUP(T259,'Footnotes list'!$B$5:$C$103,2,FALSE)=0,\"\",VLOOKUP(T259,'Footnotes list'!$B$5:$C$103,2,FALSE) ) )","v":""}]
["DSP_LNH",{"$f":"B259","v":"HU"},null,{"$f":"D259","v":"HU"},null,"Non-hazardous waste",null,null,null,null,{"$f":"IF(TRIM(J260)=\"\", \"\", IF(VLOOKUP(J260,'Footnotes list'!$B$5:$C$103,2,FALSE)=0,\"\",VLOOKUP(J260,'Footnotes list'!$B$5:$C$103,2,FALSE) ) )","v":""},null,null,null,null,{"$f":"IF(TRIM(O260)=\"\", \"\", IF(VLOOKUP(O260,'Footnotes list'!$B$5:$C$103,2,FALSE)=0,\"\",VLOOKUP(O260,'Footnotes list'!$B$5:$C$103,2,FALSE) ) )","v":""},null,null,null,null,{"$f":"IF(TRIM(T260)=\"\", \"\", IF(VLOOKUP(T260,'Footnotes list'!$B$5:$C$103,2,FALSE)=0,\"\",VLOOKUP(T260,'Footnotes list'!$B$5:$C$103,2,FALSE) ) )","v":""}]
["DSP_LH",{"$f":"B259","v":"HU"},null,{"$f":"D259","v":"HU"},null,"Hazardous waste",null,null,null,null,{"$f":"IF(TRIM(J261)=\"\", \"\", IF(VLOOKUP(J261,'Footnotes list'!$B$5:$C$103,2,FALSE)=0,\"\",VLOOKUP(J261,'Footnotes list'!$B$5:$C$103,2,FALSE) ) )","v":""},null,null,null,null,{"$f":"IF(TRIM(O261)=\"\", \"\", IF(VLOOKUP(O261,'Footnotes list'!$B$5:$C$103,2,FALSE)=0,\"\",VLOOKUP(O261,'Footnotes list'!$B$5:$C$103,2,FALSE) ) )","v":""},null,null,null,null,{"$f":"IF(TRIM(T261)=\"\", \"\", IF(VLOOKUP(T261,'Footnotes list'!$B$5:$C$103,2,FALSE)=0,\"\",VLOOKUP(T261,'Footnotes list'!$B$5:$C$103,2,FALSE) ) )","v":""}]
["DSP_L",{"$f":"B259","v":"HU"},null,{"$f":"D259","v":"HU"},null,"Total",{"$f":"IF(AND(TRIM(G259)=\"\",TRIM(G260)=\"\",TRIM(G261)=\"\"),\"\",G259+G260+G261)","v":""},null,null,null,{"$f":"IF(TRIM(J262)=\"\", \"\", IF(VLOOKUP(J262,'Footnotes list'!$B$5:$C$103,2,FALSE)=0,\"\",VLOOKUP(J262,'Footnotes list'!$B$5:$C$103,2,FALSE) ) )","v":""},{"$f":"IF(AND(TRIM(L259)=\"\",TRIM(L260)=\"\",TRIM(L261)=\"\"),\"\",L259+L260+L261)","v":""},null,null,null,{"$f":"IF(TRIM(O262)=\"\", \"\", IF(VLOOKUP(O262,'Footnotes list'!$B$5:$C$103,2,FALSE)=0,\"\",VLOOKUP(O262,'Footnotes list'!$B$5:$C$103,2,FALSE) ) )","v":""},null,null,null,null,{"$f":"IF(TRIM(T262)=\"\", \"\", IF(VLOOKUP(T262,'Footnotes list'!$B$5:$C$103,2,FALSE)=0,\"\",VLOOKUP(T262,'Footnotes list'!$B$5:$C$103,2,FALSE) ) )","v":""}]
["DSP_L","HU1",null,"HU1","    KÖZÉP-MAGYARORSZÁG","Total",null,null,null,null,{"$f":"IF(TRIM(J263)=\"\", \"\", IF(VLOOKUP(J263,'Footnotes list'!$B$5:$C$103,2,FALSE)=0,\"\",VLOOKUP(J263,'Footnotes list'!$B$5:$C$103,2,FALSE) ) )","v":""},null,null,null,null,{"$f":"IF(TRIM(O263)=\"\", \"\", IF(VLOOKUP(O263,'Footnotes list'!$B$5:$C$103,2,FALSE)=0,\"\",VLOOKUP(O263,'Footnotes list'!$B$5:$C$103,2,FALSE) ) )","v":""}]
["DSP_L","HU11",null,"HU11","        Budapest",null,null,null,null,null,{"$f":"IF(TRIM(J264)=\"\", \"\", IF(VLOOKUP(J264,'Footnotes list'!$B$5:$C$103,2,FALSE)=0,\"\",VLOOKUP(J264,'Footnotes list'!$B$5:$C$103,2,FALSE) ) )","v":""},null,null,null,null,{"$f":"IF(TRIM(O264)=\"\", \"\", IF(VLOOKUP(O264,'Footnotes list'!$B$5:$C$103,2,FALSE)=0,\"\",VLOOKUP(O264,'Footnotes list'!$B$5:$C$103,2,FALSE) ) )","v":""}]
["DSP_L","HU12",null,"HU12","        Pest",null,null,null,null,null,{"$f":"IF(TRIM(J265)=\"\", \"\", IF(VLOOKUP(J265,'Footnotes list'!$B$5:$C$103,2,FALSE)=0,\"\",VLOOKUP(J265,'Footnotes list'!$B$5:$C$103,2,FALSE) ) )","v":""},null,null,null,null,{"$f":"IF(TRIM(O265)=\"\", \"\", IF(VLOOKUP(O265,'Footnotes list'!$B$5:$C$103,2,FALSE)=0,\"\",VLOOKUP(O265,'Footnotes list'!$B$5:$C$103,2,FALSE) ) )","v":""}]
["DSP_L","HU2",null,"HU2","    DUNÁNTÚL",null,null,null,null,null,{"$f":"IF(TRIM(J266)=\"\", \"\", IF(VLOOKUP(J266,'Footnotes list'!$B$5:$C$103,2,FALSE)=0,\"\",VLOOKUP(J266,'Footnotes list'!$B$5:$C$103,2,FALSE) ) )","v":""},null,null,null,null,{"$f":"IF(TRIM(O266)=\"\", \"\", IF(VLOOKUP(O266,'Footnotes list'!$B$5:$C$103,2,FALSE)=0,\"\",VLOOKUP(O266,'Footnotes list'!$B$5:$C$103,2,FALSE) ) )","v":""}]
["DSP_L","HU21",null,"HU21","        Közép-Dunántúl",null,null,null,null,null,{"$f":"IF(TRIM(J267)=\"\", \"\", IF(VLOOKUP(J267,'Footnotes list'!$B$5:$C$103,2,FALSE)=0,\"\",VLOOKUP(J267,'Footnotes list'!$B$5:$C$103,2,FALSE) ) )","v":""},null,null,null,null,{"$f":"IF(TRIM(O267)=\"\", \"\", IF(VLOOKUP(O267,'Footnotes list'!$B$5:$C$103,2,FALSE)=0,\"\",VLOOKUP(O267,'Footnotes list'!$B$5:$C$103,2,FALSE) ) )","v":""}]
["DSP_L","HU22",null,"HU22","        Nyugat-Dunántúl",null,null,null,null,null,{"$f":"IF(TRIM(J268)=\"\", \"\", IF(VLOOKUP(J268,'Footnotes list'!$B$5:$C$103,2,FALSE)=0,\"\",VLOOKUP(J268,'Footnotes list'!$B$5:$C$103,2,FALSE) ) )","v":""},null,null,null,null,{"$f":"IF(TRIM(O268)=\"\", \"\", IF(VLOOKUP(O268,'Footnotes list'!$B$5:$C$103,2,FALSE)=0,\"\",VLOOKUP(O268,'Footnotes list'!$B$5:$C$103,2,FALSE) ) )","v":""}]
["DSP_L","HU23",null,"HU23","        Dél-Dunántúl",null,null,null,null,null,{"$f":"IF(TRIM(J269)=\"\", \"\", IF(VLOOKUP(J269,'Footnotes list'!$B$5:$C$103,2,FALSE)=0,\"\",VLOOKUP(J269,'Footnotes list'!$B$5:$C$103,2,FALSE) ) )","v":""},null,null,null,null,{"$f":"IF(TRIM(O269)=\"\", \"\", IF(VLOOKUP(O269,'Footnotes list'!$B$5:$C$103,2,FALSE)=0,\"\",VLOOKUP(O269,'Footnotes list'!$B$5:$C$103,2,FALSE) ) )","v":""}]
["DSP_L","HU3",null,"HU3","    ALFÖLD ÉS ÉSZAK",null,null,null,null,null,{"$f":"IF(TRIM(J270)=\"\", \"\", IF(VLOOKUP(J270,'Footnotes list'!$B$5:$C$103,2,FALSE)=0,\"\",VLOOKUP(J270,'Footnotes list'!$B$5:$C$103,2,FALSE) ) )","v":""},null,null,null,null,{"$f":"IF(TRIM(O270)=\"\", \"\", IF(VLOOKUP(O270,'Footnotes list'!$B$5:$C$103,2,FALSE)=0,\"\",VLOOKUP(O270,'Footnotes list'!$B$5:$C$103,2,FALSE) ) )","v":""}]
["DSP_L","HU31",null,"HU31","        Észak-Magyarország",null,null,null,null,null,{"$f":"IF(TRIM(J271)=\"\", \"\", IF(VLOOKUP(J271,'Footnotes list'!$B$5:$C$103,2,FALSE)=0,\"\",VLOOKUP(J271,'Footnotes list'!$B$5:$C$103,2,FALSE) ) )","v":""},null,null,null,null,{"$f":"IF(TRIM(O271)=\"\", \"\", IF(VLOOKUP(O271,'Footnotes list'!$B$5:$C$103,2,FALSE)=0,\"\",VLOOKUP(O271,'Footnotes list'!$B$5:$C$103,2,FALSE) ) )","v":""}]
["DSP_L","HU32",null,"HU32","        Észak-Alföld",null,null,null,null,null,{"$f":"IF(TRIM(J272)=\"\", \"\", IF(VLOOKUP(J272,'Footnotes list'!$B$5:$C$103,2,FALSE)=0,\"\",VLOOKUP(J272,'Footnotes list'!$B$5:$C$103,2,FALSE) ) )","v":""},null,null,null,null,{"$f":"IF(TRIM(O272)=\"\", \"\", IF(VLOOKUP(O272,'Footnotes list'!$B$5:$C$103,2,FALSE)=0,\"\",VLOOKUP(O272,'Footnotes list'!$B$5:$C$103,2,FALSE) ) )","v":""}]
["DSP_L","HU33",null,"HU33","        Dél-Alföld",null,null,null,null,null,{"$f":"IF(TRIM(J273)=\"\", \"\", IF(VLOOKUP(J273,'Footnotes list'!$B$5:$C$103,2,FALSE)=0,\"\",VLOOKUP(J273,'Footnotes list'!$B$5:$C$103,2,FALSE) ) )","v":""},null,null,null,null,{"$f":"IF(TRIM(O273)=\"\", \"\", IF(VLOOKUP(O273,'Footnotes list'!$B$5:$C$103,2,FALSE)=0,\"\",VLOOKUP(O273,'Footnotes list'!$B$5:$C$103,2,FALSE) ) )","v":""}]
["DSP_LIN","MT",null,"MT","MALTA","Inert waste",null,null,null,null,{"$f":"IF(TRIM(J274)=\"\", \"\", IF(VLOOKUP(J274,'Footnotes list'!$B$5:$C$103,2,FALSE)=0,\"\",VLOOKUP(J274,'Footnotes list'!$B$5:$C$103,2,FALSE) ) )","v":""},null,null,null,null,{"$f":"IF(TRIM(O274)=\"\", \"\", IF(VLOOKUP(O274,'Footnotes list'!$B$5:$C$103,2,FALSE)=0,\"\",VLOOKUP(O274,'Footnotes list'!$B$5:$C$103,2,FALSE) ) )","v":""},null,null,null,null,{"$f":"IF(TRIM(T274)=\"\", \"\", IF(VLOOKUP(T274,'Footnotes list'!$B$5:$C$103,2,FALSE)=0,\"\",VLOOKUP(T274,'Footnotes list'!$B$5:$C$103,2,FALSE) ) )","v":""}]
["DSP_LNH",{"$f":"B274","v":"MT"},null,{"$f":"D274","v":"MT"},null,"Non-hazardous waste",null,null,null,null,{"$f":"IF(TRIM(J275)=\"\", \"\", IF(VLOOKUP(J275,'Footnotes list'!$B$5:$C$103,2,FALSE)=0,\"\",VLOOKUP(J275,'Footnotes list'!$B$5:$C$103,2,FALSE) ) )","v":""},null,null,null,null,{"$f":"IF(TRIM(O275)=\"\", \"\", IF(VLOOKUP(O275,'Footnotes list'!$B$5:$C$103,2,FALSE)=0,\"\",VLOOKUP(O275,'Footnotes list'!$B$5:$C$103,2,FALSE) ) )","v":""},null,null,null,null,{"$f":"IF(TRIM(T275)=\"\", \"\", IF(VLOOKUP(T275,'Footnotes list'!$B$5:$C$103,2,FALSE)=0,\"\",VLOOKUP(T275,'Footnotes list'!$B$5:$C$103,2,FALSE) ) )","v":""}]
["DSP_LH",{"$f":"B274","v":"MT"},null,{"$f":"D274","v":"MT"},null,"Hazardous waste",null,null,null,null,{"$f":"IF(TRIM(J276)=\"\", \"\", IF(VLOOKUP(J276,'Footnotes list'!$B$5:$C$103,2,FALSE)=0,\"\",VLOOKUP(J276,'Footnotes list'!$B$5:$C$103,2,FALSE) ) )","v":""},null,null,null,null,{"$f":"IF(TRIM(O276)=\"\", \"\", IF(VLOOKUP(O276,'Footnotes list'!$B$5:$C$103,2,FALSE)=0,\"\",VLOOKUP(O276,'Footnotes list'!$B$5:$C$103,2,FALSE) ) )","v":""},null,null,null,null,{"$f":"IF(TRIM(T276)=\"\", \"\", IF(VLOOKUP(T276,'Footnotes list'!$B$5:$C$103,2,FALSE)=0,\"\",VLOOKUP(T276,'Footnotes list'!$B$5:$C$103,2,FALSE) ) )","v":""}]
["DSP_L",{"$f":"B274","v":"MT"},null,{"$f":"D274","v":"MT"},null,"Total",{"$f":"IF(AND(TRIM(G274)=\"\",TRIM(G275)=\"\",TRIM(G276)=\"\"),\"\",G274+G275+G276)","v":""},null,null,null,{"$f":"IF(TRIM(J277)=\"\", \"\", IF(VLOOKUP(J277,'Footnotes list'!$B$5:$C$103,2,FALSE)=0,\"\",VLOOKUP(J277,'Footnotes list'!$B$5:$C$103,2,FALSE) ) )","v":""},{"$f":"IF(AND(TRIM(L274)=\"\",TRIM(L275)=\"\",TRIM(L276)=\"\"),\"\",L274+L275+L276)","v":""},null,null,null,{"$f":"IF(TRIM(O277)=\"\", \"\", IF(VLOOKUP(O277,'Footnotes list'!$B$5:$C$103,2,FALSE)=0,\"\",VLOOKUP(O277,'Footnotes list'!$B$5:$C$103,2,FALSE) ) )","v":""},null,null,null,null,{"$f":"IF(TRIM(T277)=\"\", \"\", IF(VLOOKUP(T277,'Footnotes list'!$B$5:$C$103,2,FALSE)=0,\"\",VLOOKUP(T277,'Footnotes list'!$B$5:$C$103,2,FALSE) ) )","v":""}]
["DSP_LIN","NL",null,"NL","NEDERLAND","Inert waste",null,null,null,null,{"$f":"IF(TRIM(J278)=\"\", \"\", IF(VLOOKUP(J278,'Footnotes list'!$B$5:$C$103,2,FALSE)=0,\"\",VLOOKUP(J278,'Footnotes list'!$B$5:$C$103,2,FALSE) ) )","v":""},null,null,null,null,{"$f":"IF(TRIM(O278)=\"\", \"\", IF(VLOOKUP(O278,'Footnotes list'!$B$5:$C$103,2,FALSE)=0,\"\",VLOOKUP(O278,'Footnotes list'!$B$5:$C$103,2,FALSE) ) )","v":""},null,null,null,null,{"$f":"IF(TRIM(T278)=\"\", \"\", IF(VLOOKUP(T278,'Footnotes list'!$B$5:$C$103,2,FALSE)=0,\"\",VLOOKUP(T278,'Footnotes list'!$B$5:$C$103,2,FALSE) ) )","v":""}]
["DSP_LNH",{"$f":"B278","v":"NL"},null,{"$f":"D278","v":"NL"},null,"Non-hazardous waste",null,null,null,null,{"$f":"IF(TRIM(J279)=\"\", \"\", IF(VLOOKUP(J279,'Footnotes list'!$B$5:$C$103,2,FALSE)=0,\"\",VLOOKUP(J279,'Footnotes list'!$B$5:$C$103,2,FALSE) ) )","v":""},null,null,null,null,{"$f":"IF(TRIM(O279)=\"\", \"\", IF(VLOOKUP(O279,'Footnotes list'!$B$5:$C$103,2,FALSE)=0,\"\",VLOOKUP(O279,'Footnotes list'!$B$5:$C$103,2,FALSE) ) )","v":""},null,null,null,null,{"$f":"IF(TRIM(T279)=\"\", \"\", IF(VLOOKUP(T279,'Footnotes list'!$B$5:$C$103,2,FALSE)=0,\"\",VLOOKUP(T279,'Footnotes list'!$B$5:$C$103,2,FALSE) ) )","v":""}]
["DSP_LH",{"$f":"B278","v":"NL"},null,{"$f":"D278","v":"NL"},null,"Hazardous waste",null,null,null,null,{"$f":"IF(TRIM(J280)=\"\", \"\", IF(VLOOKUP(J280,'Footnotes list'!$B$5:$C$103,2,FALSE)=0,\"\",VLOOKUP(J280,'Footnotes list'!$B$5:$C$103,2,FALSE) ) )","v":""},null,null,null,null,{"$f":"IF(TRIM(O280)=\"\", \"\", IF(VLOOKUP(O280,'Footnotes list'!$B$5:$C$103,2,FALSE)=0,\"\",VLOOKUP(O280,'Footnotes list'!$B$5:$C$103,2,FALSE) ) )","v":""},null,null,null,null,{"$f":"IF(TRIM(T280)=\"\", \"\", IF(VLOOKUP(T280,'Footnotes list'!$B$5:$C$103,2,FALSE)=0,\"\",VLOOKUP(T280,'Footnotes list'!$B$5:$C$103,2,FALSE) ) )","v":""}]
["DSP_L",{"$f":"B278","v":"NL"},null,{"$f":"D278","v":"NL"},null,"Total",{"$f":"IF(AND(TRIM(G278)=\"\",TRIM(G279)=\"\",TRIM(G280)=\"\"),\"\",G278+G279+G280)","v":""},null,null,null,{"$f":"IF(TRIM(J281)=\"\", \"\", IF(VLOOKUP(J281,'Footnotes list'!$B$5:$C$103,2,FALSE)=0,\"\",VLOOKUP(J281,'Footnotes list'!$B$5:$C$103,2,FALSE) ) )","v":""},{"$f":"IF(AND(TRIM(L278)=\"\",TRIM(L279)=\"\",TRIM(L280)=\"\"),\"\",L278+L279+L280)","v":""},null,null,null,{"$f":"IF(TRIM(O281)=\"\", \"\", IF(VLOOKUP(O281,'Footnotes list'!$B$5:$C$103,2,FALSE)=0,\"\",VLOOKUP(O281,'Footnotes list'!$B$5:$C$103,2,FALSE) ) )","v":""},null,null,null,null,{"$f":"IF(TRIM(T281)=\"\", \"\", IF(VLOOKUP(T281,'Footnotes list'!$B$5:$C$103,2,FALSE)=0,\"\",VLOOKUP(T281,'Footnotes list'!$B$5:$C$103,2,FALSE) ) )","v":""}]
["DSP_L","NL1",null,"NL1","    NOORD-NEDERLAND","Total",null,null,null,null,{"$f":"IF(TRIM(J282)=\"\", \"\", IF(VLOOKUP(J282,'Footnotes list'!$B$5:$C$103,2,FALSE)=0,\"\",VLOOKUP(J282,'Footnotes list'!$B$5:$C$103,2,FALSE) ) )","v":""},null,null,null,null,{"$f":"IF(TRIM(O282)=\"\", \"\", IF(VLOOKUP(O282,'Footnotes list'!$B$5:$C$103,2,FALSE)=0,\"\",VLOOKUP(O282,'Footnotes list'!$B$5:$C$103,2,FALSE) ) )","v":""}]
["DSP_L","NL11",null,"NL11","        Groningen",null,null,null,null,null,{"$f":"IF(TRIM(J283)=\"\", \"\", IF(VLOOKUP(J283,'Footnotes list'!$B$5:$C$103,2,FALSE)=0,\"\",VLOOKUP(J283,'Footnotes list'!$B$5:$C$103,2,FALSE) ) )","v":""},null,null,null,null,{"$f":"IF(TRIM(O283)=\"\", \"\", IF(VLOOKUP(O283,'Footnotes list'!$B$5:$C$103,2,FALSE)=0,\"\",VLOOKUP(O283,'Footnotes list'!$B$5:$C$103,2,FALSE) ) )","v":""}]
["DSP_L","NL12",null,"NL12","        Friesland (NL)",null,null,null,null,null,{"$f":"IF(TRIM(J284)=\"\", \"\", IF(VLOOKUP(J284,'Footnotes list'!$B$5:$C$103,2,FALSE)=0,\"\",VLOOKUP(J284,'Footnotes list'!$B$5:$C$103,2,FALSE) ) )","v":""},null,null,null,null,{"$f":"IF(TRIM(O284)=\"\", \"\", IF(VLOOKUP(O284,'Footnotes list'!$B$5:$C$103,2,FALSE)=0,\"\",VLOOKUP(O284,'Footnotes list'!$B$5:$C$103,2,FALSE) ) )","v":""}]
["DSP_L","NL13",null,"NL13","        Drenthe",null,null,null,null,null,{"$f":"IF(TRIM(J285)=\"\", \"\", IF(VLOOKUP(J285,'Footnotes list'!$B$5:$C$103,2,FALSE)=0,\"\",VLOOKUP(J285,'Footnotes list'!$B$5:$C$103,2,FALSE) ) )","v":""},null,null,null,null,{"$f":"IF(TRIM(O285)=\"\", \"\", IF(VLOOKUP(O285,'Footnotes list'!$B$5:$C$103,2,FALSE)=0,\"\",VLOOKUP(O285,'Footnotes list'!$B$5:$C$103,2,FALSE) ) )","v":""}]
["DSP_L","NL2",null,"NL2","    OOST-NEDERLAND",null,null,null,null,null,{"$f":"IF(TRIM(J286)=\"\", \"\", IF(VLOOKUP(J286,'Footnotes list'!$B$5:$C$103,2,FALSE)=0,\"\",VLOOKUP(J286,'Footnotes list'!$B$5:$C$103,2,FALSE) ) )","v":""},null,null,null,null,{"$f":"IF(TRIM(O286)=\"\", \"\", IF(VLOOKUP(O286,'Footnotes list'!$B$5:$C$103,2,FALSE)=0,\"\",VLOOKUP(O286,'Footnotes list'!$B$5:$C$103,2,FALSE) ) )","v":""}]
["DSP_L","NL21",null,"NL21","        Overijssel",null,null,null,null,null,{"$f":"IF(TRIM(J287)=\"\", \"\", IF(VLOOKUP(J287,'Footnotes list'!$B$5:$C$103,2,FALSE)=0,\"\",VLOOKUP(J287,'Footnotes list'!$B$5:$C$103,2,FALSE) ) )","v":""},null,null,null,null,{"$f":"IF(TRIM(O287)=\"\", \"\", IF(VLOOKUP(O287,'Footnotes list'!$B$5:$C$103,2,FALSE)=0,\"\",VLOOKUP(O287,'Footnotes list'!$B$5:$C$103,2,FALSE) ) )","v":""}]
["DSP_L","NL22",null,"NL22","        Gelderland",null,null,null,null,null,{"$f":"IF(TRIM(J288)=\"\", \"\", IF(VLOOKUP(J288,'Footnotes list'!$B$5:$C$103,2,FALSE)=0,\"\",VLOOKUP(J288,'Footnotes list'!$B$5:$C$103,2,FALSE) ) )","v":""},null,null,null,null,{"$f":"IF(TRIM(O288)=\"\", \"\", IF(VLOOKUP(O288,'Footnotes list'!$B$5:$C$103,2,FALSE)=0,\"\",VLOOKUP(O288,'Footnotes list'!$B$5:$C$103,2,FALSE) ) )","v":""}]
["DSP_L","NL23",null,"NL23","        Flevoland",null,null,null,null,null,{"$f":"IF(TRIM(J289)=\"\", \"\", IF(VLOOKUP(J289,'Footnotes list'!$B$5:$C$103,2,FALSE)=0,\"\",VLOOKUP(J289,'Footnotes list'!$B$5:$C$103,2,FALSE) ) )","v":""},null,null,null,null,{"$f":"IF(TRIM(O289)=\"\", \"\", IF(VLOOKUP(O289,'Footnotes list'!$B$5:$C$103,2,FALSE)=0,\"\",VLOOKUP(O289,'Footnotes list'!$B$5:$C$103,2,FALSE) ) )","v":""}]
["DSP_L","NL3",null,"NL3","    WEST-NEDERLAND",null,null,null,null,null,{"$f":"IF(TRIM(J290)=\"\", \"\", IF(VLOOKUP(J290,'Footnotes list'!$B$5:$C$103,2,FALSE)=0,\"\",VLOOKUP(J290,'Footnotes list'!$B$5:$C$103,2,FALSE) ) )","v":""},null,null,null,null,{"$f":"IF(TRIM(O290)=\"\", \"\", IF(VLOOKUP(O290,'Footnotes list'!$B$5:$C$103,2,FALSE)=0,\"\",VLOOKUP(O290,'Footnotes list'!$B$5:$C$103,2,FALSE) ) )","v":""}]
["DSP_L","NL31",null,"NL31","        Utrecht",null,null,null,null,null,{"$f":"IF(TRIM(J291)=\"\", \"\", IF(VLOOKUP(J291,'Footnotes list'!$B$5:$C$103,2,FALSE)=0,\"\",VLOOKUP(J291,'Footnotes list'!$B$5:$C$103,2,FALSE) ) )","v":""},null,null,null,null,{"$f":"IF(TRIM(O291)=\"\", \"\", IF(VLOOKUP(O291,'Footnotes list'!$B$5:$C$103,2,FALSE)=0,\"\",VLOOKUP(O291,'Footnotes list'!$B$5:$C$103,2,FALSE) ) )","v":""}]
["DSP_L","NL32",null,"NL32","        Noord-Holland",null,null,null,null,null,{"$f":"IF(TRIM(J292)=\"\", \"\", IF(VLOOKUP(J292,'Footnotes list'!$B$5:$C$103,2,FALSE)=0,\"\",VLOOKUP(J292,'Footnotes list'!$B$5:$C$103,2,FALSE) ) )","v":""},null,null,null,null,{"$f":"IF(TRIM(O292)=\"\", \"\", IF(VLOOKUP(O292,'Footnotes list'!$B$5:$C$103,2,FALSE)=0,\"\",VLOOKUP(O292,'Footnotes list'!$B$5:$C$103,2,FALSE) ) )","v":""}]
["DSP_L","NL33",null,"NL33","        Zuid-Holland",null,null,null,null,null,{"$f":"IF(TRIM(J293)=\"\", \"\", IF(VLOOKUP(J293,'Footnotes list'!$B$5:$C$103,2,FALSE)=0,\"\",VLOOKUP(J293,'Footnotes list'!$B$5:$C$103,2,FALSE) ) )","v":""},null,null,null,null,{"$f":"IF(TRIM(O293)=\"\", \"\", IF(VLOOKUP(O293,'Footnotes list'!$B$5:$C$103,2,FALSE)=0,\"\",VLOOKUP(O293,'Footnotes list'!$B$5:$C$103,2,FALSE) ) )","v":""}]
["DSP_L","NL34",null,"NL34","        Zeeland",null,null,null,null,null,{"$f":"IF(TRIM(J294)=\"\", \"\", IF(VLOOKUP(J294,'Footnotes list'!$B$5:$C$103,2,FALSE)=0,\"\",VLOOKUP(J294,'Footnotes list'!$B$5:$C$103,2,FALSE) ) )","v":""},null,null,null,null,{"$f":"IF(TRIM(O294)=\"\", \"\", IF(VLOOKUP(O294,'Footnotes list'!$B$5:$C$103,2,FALSE)=0,\"\",VLOOKUP(O294,'Footnotes list'!$B$5:$C$103,2,FALSE) ) )","v":""}]
["DSP_L","NL4",null,"NL4","    ZUID-NEDERLAND",null,null,null,null,null,{"$f":"IF(TRIM(J295)=\"\", \"\", IF(VLOOKUP(J295,'Footnotes list'!$B$5:$C$103,2,FALSE)=0,\"\",VLOOKUP(J295,'Footnotes list'!$B$5:$C$103,2,FALSE) ) )","v":""},null,null,null,null,{"$f":"IF(TRIM(O295)=\"\", \"\", IF(VLOOKUP(O295,'Footnotes list'!$B$5:$C$103,2,FALSE)=0,\"\",VLOOKUP(O295,'Footnotes list'!$B$5:$C$103,2,FALSE) ) )","v":""}]
["DSP_L","NL41",null,"NL41","        Noord-Brabant",null,null,null,null,null,{"$f":"IF(TRIM(J296)=\"\", \"\", IF(VLOOKUP(J296,'Footnotes list'!$B$5:$C$103,2,FALSE)=0,\"\",VLOOKUP(J296,'Footnotes list'!$B$5:$C$103,2,FALSE) ) )","v":""},null,null,null,null,{"$f":"IF(TRIM(O296)=\"\", \"\", IF(VLOOKUP(O296,'Footnotes list'!$B$5:$C$103,2,FALSE)=0,\"\",VLOOKUP(O296,'Footnotes list'!$B$5:$C$103,2,FALSE) ) )","v":""}]
["DSP_L","NL42",null,"NL42","        Limburg (NL)",null,null,null,null,null,{"$f":"IF(TRIM(J297)=\"\", \"\", IF(VLOOKUP(J297,'Footnotes list'!$B$5:$C$103,2,FALSE)=0,\"\",VLOOKUP(J297,'Footnotes list'!$B$5:$C$103,2,FALSE) ) )","v":""},null,null,null,null,{"$f":"IF(TRIM(O297)=\"\", \"\", IF(VLOOKUP(O297,'Footnotes list'!$B$5:$C$103,2,FALSE)=0,\"\",VLOOKUP(O297,'Footnotes list'!$B$5:$C$103,2,FALSE) ) )","v":""}]
["DSP_LIN","AT",null,"AT","ÖSTERREICH","Inert waste",null,null,null,null,{"$f":"IF(TRIM(J298)=\"\", \"\", IF(VLOOKUP(J298,'Footnotes list'!$B$5:$C$103,2,FALSE)=0,\"\",VLOOKUP(J298,'Footnotes list'!$B$5:$C$103,2,FALSE) ) )","v":""},null,null,null,null,{"$f":"IF(TRIM(O298)=\"\", \"\", IF(VLOOKUP(O298,'Footnotes list'!$B$5:$C$103,2,FALSE)=0,\"\",VLOOKUP(O298,'Footnotes list'!$B$5:$C$103,2,FALSE) ) )","v":""},null,null,null,null,{"$f":"IF(TRIM(T298)=\"\", \"\", IF(VLOOKUP(T298,'Footnotes list'!$B$5:$C$103,2,FALSE)=0,\"\",VLOOKUP(T298,'Footnotes list'!$B$5:$C$103,2,FALSE) ) )","v":""}]
["DSP_LNH",{"$f":"B298","v":"AT"},null,{"$f":"D298","v":"AT"},null,"Non-hazardous waste",null,null,null,null,{"$f":"IF(TRIM(J299)=\"\", \"\", IF(VLOOKUP(J299,'Footnotes list'!$B$5:$C$103,2,FALSE)=0,\"\",VLOOKUP(J299,'Footnotes list'!$B$5:$C$103,2,FALSE) ) )","v":""},null,null,null,null,{"$f":"IF(TRIM(O299)=\"\", \"\", IF(VLOOKUP(O299,'Footnotes list'!$B$5:$C$103,2,FALSE)=0,\"\",VLOOKUP(O299,'Footnotes list'!$B$5:$C$103,2,FALSE) ) )","v":""},null,null,null,null,{"$f":"IF(TRIM(T299)=\"\", \"\", IF(VLOOKUP(T299,'Footnotes list'!$B$5:$C$103,2,FALSE)=0,\"\",VLOOKUP(T299,'Footnotes list'!$B$5:$C$103,2,FALSE) ) )","v":""}]
["DSP_LH",{"$f":"B298","v":"AT"},null,{"$f":"D298","v":"AT"},null,"Hazardous waste",null,null,null,null,{"$f":"IF(TRIM(J300)=\"\", \"\", IF(VLOOKUP(J300,'Footnotes list'!$B$5:$C$103,2,FALSE)=0,\"\",VLOOKUP(J300,'Footnotes list'!$B$5:$C$103,2,FALSE) ) )","v":""},null,null,null,null,{"$f":"IF(TRIM(O300)=\"\", \"\", IF(VLOOKUP(O300,'Footnotes list'!$B$5:$C$103,2,FALSE)=0,\"\",VLOOKUP(O300,'Footnotes list'!$B$5:$C$103,2,FALSE) ) )","v":""},null,null,null,null,{"$f":"IF(TRIM(T300)=\"\", \"\", IF(VLOOKUP(T300,'Footnotes list'!$B$5:$C$103,2,FALSE)=0,\"\",VLOOKUP(T300,'Footnotes list'!$B$5:$C$103,2,FALSE) ) )","v":""}]
["DSP_L",{"$f":"B298","v":"AT"},null,{"$f":"D298","v":"AT"},null,"Total",{"$f":"IF(AND(TRIM(G298)=\"\",TRIM(G299)=\"\",TRIM(G300)=\"\"),\"\",G298+G299+G300)","v":""},null,null,null,{"$f":"IF(TRIM(J301)=\"\", \"\", IF(VLOOKUP(J301,'Footnotes list'!$B$5:$C$103,2,FALSE)=0,\"\",VLOOKUP(J301,'Footnotes list'!$B$5:$C$103,2,FALSE) ) )","v":""},{"$f":"IF(AND(TRIM(L298)=\"\",TRIM(L299)=\"\",TRIM(L300)=\"\"),\"\",L298+L299+L300)","v":""},null,null,null,{"$f":"IF(TRIM(O301)=\"\", \"\", IF(VLOOKUP(O301,'Footnotes list'!$B$5:$C$103,2,FALSE)=0,\"\",VLOOKUP(O301,'Footnotes list'!$B$5:$C$103,2,FALSE) ) )","v":""},null,null,null,null,{"$f":"IF(TRIM(T301)=\"\", \"\", IF(VLOOKUP(T301,'Footnotes list'!$B$5:$C$103,2,FALSE)=0,\"\",VLOOKUP(T301,'Footnotes list'!$B$5:$C$103,2,FALSE) ) )","v":""}]
["DSP_L","AT1",null,"AT1","    OSTÖSTERREICH","Total",null,null,null,null,{"$f":"IF(TRIM(J302)=\"\", \"\", IF(VLOOKUP(J302,'Footnotes list'!$B$5:$C$103,2,FALSE)=0,\"\",VLOOKUP(J302,'Footnotes list'!$B$5:$C$103,2,FALSE) ) )","v":""},null,null,null,null,{"$f":"IF(TRIM(O302)=\"\", \"\", IF(VLOOKUP(O302,'Footnotes list'!$B$5:$C$103,2,FALSE)=0,\"\",VLOOKUP(O302,'Footnotes list'!$B$5:$C$103,2,FALSE) ) )","v":""}]
["DSP_L","AT11",null,"AT11","        Burgenland",null,null,null,null,null,{"$f":"IF(TRIM(J303)=\"\", \"\", IF(VLOOKUP(J303,'Footnotes list'!$B$5:$C$103,2,FALSE)=0,\"\",VLOOKUP(J303,'Footnotes list'!$B$5:$C$103,2,FALSE) ) )","v":""},null,null,null,null,{"$f":"IF(TRIM(O303)=\"\", \"\", IF(VLOOKUP(O303,'Footnotes list'!$B$5:$C$103,2,FALSE)=0,\"\",VLOOKUP(O303,'Footnotes list'!$B$5:$C$103,2,FALSE) ) )","v":""}]
["DSP_L","AT12",null,"AT12","        Niederösterreich",null,null,null,null,null,{"$f":"IF(TRIM(J304)=\"\", \"\", IF(VLOOKUP(J304,'Footnotes list'!$B$5:$C$103,2,FALSE)=0,\"\",VLOOKUP(J304,'Footnotes list'!$B$5:$C$103,2,FALSE) ) )","v":""},null,null,null,null,{"$f":"IF(TRIM(O304)=\"\", \"\", IF(VLOOKUP(O304,'Footnotes list'!$B$5:$C$103,2,FALSE)=0,\"\",VLOOKUP(O304,'Footnotes list'!$B$5:$C$103,2,FALSE) ) )","v":""}]
["DSP_L","AT13",null,"AT13","        Wien",null,null,null,null,null,{"$f":"IF(TRIM(J305)=\"\", \"\", IF(VLOOKUP(J305,'Footnotes list'!$B$5:$C$103,2,FALSE)=0,\"\",VLOOKUP(J305,'Footnotes list'!$B$5:$C$103,2,FALSE) ) )","v":""},null,null,null,null,{"$f":"IF(TRIM(O305)=\"\", \"\", IF(VLOOKUP(O305,'Footnotes list'!$B$5:$C$103,2,FALSE)=0,\"\",VLOOKUP(O305,'Footnotes list'!$B$5:$C$103,2,FALSE) ) )","v":""}]
["DSP_L","AT2",null,"AT2","    SÜDÖSTERREICH",null,null,null,null,null,{"$f":"IF(TRIM(J306)=\"\", \"\", IF(VLOOKUP(J306,'Footnotes list'!$B$5:$C$103,2,FALSE)=0,\"\",VLOOKUP(J306,'Footnotes list'!$B$5:$C$103,2,FALSE) ) )","v":""},null,null,null,null,{"$f":"IF(TRIM(O306)=\"\", \"\", IF(VLOOKUP(O306,'Footnotes list'!$B$5:$C$103,2,FALSE)=0,\"\",VLOOKUP(O306,'Footnotes list'!$B$5:$C$103,2,FALSE) ) )","v":""}]
["DSP_L","AT21",null,"AT21","        Kärnten",null,null,null,null,null,{"$f":"IF(TRIM(J307)=\"\", \"\", IF(VLOOKUP(J307,'Footnotes list'!$B$5:$C$103,2,FALSE)=0,\"\",VLOOKUP(J307,'Footnotes list'!$B$5:$C$103,2,FALSE) ) )","v":""},null,null,null,null,{"$f":"IF(TRIM(O307)=\"\", \"\", IF(VLOOKUP(O307,'Footnotes list'!$B$5:$C$103,2,FALSE)=0,\"\",VLOOKUP(O307,'Footnotes list'!$B$5:$C$103,2,FALSE) ) )","v":""}]
["DSP_L","AT22",null,"AT22","        Steiermark",null,null,null,null,null,{"$f":"IF(TRIM(J308)=\"\", \"\", IF(VLOOKUP(J308,'Footnotes list'!$B$5:$C$103,2,FALSE)=0,\"\",VLOOKUP(J308,'Footnotes list'!$B$5:$C$103,2,FALSE) ) )","v":""},null,null,null,null,{"$f":"IF(TRIM(O308)=\"\", \"\", IF(VLOOKUP(O308,'Footnotes list'!$B$5:$C$103,2,FALSE)=0,\"\",VLOOKUP(O308,'Footnotes list'!$B$5:$C$103,2,FALSE) ) )","v":""}]
["DSP_L","AT3",null,"AT3","    WESTÖSTERREICH",null,null,null,null,null,{"$f":"IF(TRIM(J309)=\"\", \"\", IF(VLOOKUP(J309,'Footnotes list'!$B$5:$C$103,2,FALSE)=0,\"\",VLOOKUP(J309,'Footnotes list'!$B$5:$C$103,2,FALSE) ) )","v":""},null,null,null,null,{"$f":"IF(TRIM(O309)=\"\", \"\", IF(VLOOKUP(O309,'Footnotes list'!$B$5:$C$103,2,FALSE)=0,\"\",VLOOKUP(O309,'Footnotes list'!$B$5:$C$103,2,FALSE) ) )","v":""}]
["DSP_L","AT31",null,"AT31","        Oberösterreich",null,null,null,null,null,{"$f":"IF(TRIM(J310)=\"\", \"\", IF(VLOOKUP(J310,'Footnotes list'!$B$5:$C$103,2,FALSE)=0,\"\",VLOOKUP(J310,'Footnotes list'!$B$5:$C$103,2,FALSE) ) )","v":""},null,null,null,null,{"$f":"IF(TRIM(O310)=\"\", \"\", IF(VLOOKUP(O310,'Footnotes list'!$B$5:$C$103,2,FALSE)=0,\"\",VLOOKUP(O310,'Footnotes list'!$B$5:$C$103,2,FALSE) ) )","v":""}]
["DSP_L","AT32",null,"AT32","        Salzburg",null,null,null,null,null,{"$f":"IF(TRIM(J311)=\"\", \"\", IF(VLOOKUP(J311,'Footnotes list'!$B$5:$C$103,2,FALSE)=0,\"\",VLOOKUP(J311,'Footnotes list'!$B$5:$C$103,2,FALSE) ) )","v":""},null,null,null,null,{"$f":"IF(TRIM(O311)=\"\", \"\", IF(VLOOKUP(O311,'Footnotes list'!$B$5:$C$103,2,FALSE)=0,\"\",VLOOKUP(O311,'Footnotes list'!$B$5:$C$103,2,FALSE) ) )","v":""}]
["DSP_L","AT33",null,"AT33","        Tirol",null,null,null,null,null,{"$f":"IF(TRIM(J312)=\"\", \"\", IF(VLOOKUP(J312,'Footnotes list'!$B$5:$C$103,2,FALSE)=0,\"\",VLOOKUP(J312,'Footnotes list'!$B$5:$C$103,2,FALSE) ) )","v":""},null,null,null,null,{"$f":"IF(TRIM(O312)=\"\", \"\", IF(VLOOKUP(O312,'Footnotes list'!$B$5:$C$103,2,FALSE)=0,\"\",VLOOKUP(O312,'Footnotes list'!$B$5:$C$103,2,FALSE) ) )","v":""}]
["DSP_L","AT34",null,"AT34","        Vorarlberg",null,null,null,null,null,{"$f":"IF(TRIM(J313)=\"\", \"\", IF(VLOOKUP(J313,'Footnotes list'!$B$5:$C$103,2,FALSE)=0,\"\",VLOOKUP(J313,'Footnotes list'!$B$5:$C$103,2,FALSE) ) )","v":""},null,null,null,null,{"$f":"IF(TRIM(O313)=\"\", \"\", IF(VLOOKUP(O313,'Footnotes list'!$B$5:$C$103,2,FALSE)=0,\"\",VLOOKUP(O313,'Footnotes list'!$B$5:$C$103,2,FALSE) ) )","v":""}]
["DSP_LIN","PL",null,"PL","POLSKA","Inert waste",null,null,null,null,{"$f":"IF(TRIM(J314)=\"\", \"\", IF(VLOOKUP(J314,'Footnotes list'!$B$5:$C$103,2,FALSE)=0,\"\",VLOOKUP(J314,'Footnotes list'!$B$5:$C$103,2,FALSE) ) )","v":""},null,null,null,null,{"$f":"IF(TRIM(O314)=\"\", \"\", IF(VLOOKUP(O314,'Footnotes list'!$B$5:$C$103,2,FALSE)=0,\"\",VLOOKUP(O314,'Footnotes list'!$B$5:$C$103,2,FALSE) ) )","v":""},null,null,null,null,{"$f":"IF(TRIM(T314)=\"\", \"\", IF(VLOOKUP(T314,'Footnotes list'!$B$5:$C$103,2,FALSE)=0,\"\",VLOOKUP(T314,'Footnotes list'!$B$5:$C$103,2,FALSE) ) )","v":""}]
["DSP_LNH",{"$f":"B314","v":"PL"},null,{"$f":"D314","v":"PL"},null,"Non-hazardous waste",null,null,null,null,{"$f":"IF(TRIM(J315)=\"\", \"\", IF(VLOOKUP(J315,'Footnotes list'!$B$5:$C$103,2,FALSE)=0,\"\",VLOOKUP(J315,'Footnotes list'!$B$5:$C$103,2,FALSE) ) )","v":""},null,null,null,null,{"$f":"IF(TRIM(O315)=\"\", \"\", IF(VLOOKUP(O315,'Footnotes list'!$B$5:$C$103,2,FALSE)=0,\"\",VLOOKUP(O315,'Footnotes list'!$B$5:$C$103,2,FALSE) ) )","v":""},null,null,null,null,{"$f":"IF(TRIM(T315)=\"\", \"\", IF(VLOOKUP(T315,'Footnotes list'!$B$5:$C$103,2,FALSE)=0,\"\",VLOOKUP(T315,'Footnotes list'!$B$5:$C$103,2,FALSE) ) )","v":""}]
["DSP_LH",{"$f":"B314","v":"PL"},null,{"$f":"D314","v":"PL"},null,"Hazardous waste",null,null,null,null,{"$f":"IF(TRIM(J316)=\"\", \"\", IF(VLOOKUP(J316,'Footnotes list'!$B$5:$C$103,2,FALSE)=0,\"\",VLOOKUP(J316,'Footnotes list'!$B$5:$C$103,2,FALSE) ) )","v":""},null,null,null,null,{"$f":"IF(TRIM(O316)=\"\", \"\", IF(VLOOKUP(O316,'Footnotes list'!$B$5:$C$103,2,FALSE)=0,\"\",VLOOKUP(O316,'Footnotes list'!$B$5:$C$103,2,FALSE) ) )","v":""},null,null,null,null,{"$f":"IF(TRIM(T316)=\"\", \"\", IF(VLOOKUP(T316,'Footnotes list'!$B$5:$C$103,2,FALSE)=0,\"\",VLOOKUP(T316,'Footnotes list'!$B$5:$C$103,2,FALSE) ) )","v":""}]
["DSP_L",{"$f":"B314","v":"PL"},null,{"$f":"D314","v":"PL"},null,"Total",{"$f":"IF(AND(TRIM(G314)=\"\",TRIM(G315)=\"\",TRIM(G316)=\"\"),\"\",G314+G315+G316)","v":""},null,null,null,{"$f":"IF(TRIM(J317)=\"\", \"\", IF(VLOOKUP(J317,'Footnotes list'!$B$5:$C$103,2,FALSE)=0,\"\",VLOOKUP(J317,'Footnotes list'!$B$5:$C$103,2,FALSE) ) )","v":""},{"$f":"IF(AND(TRIM(L314)=\"\",TRIM(L315)=\"\",TRIM(L316)=\"\"),\"\",L314+L315+L316)","v":""},null,null,null,{"$f":"IF(TRIM(O317)=\"\", \"\", IF(VLOOKUP(O317,'Footnotes list'!$B$5:$C$103,2,FALSE)=0,\"\",VLOOKUP(O317,'Footnotes list'!$B$5:$C$103,2,FALSE) ) )","v":""},null,null,null,null,{"$f":"IF(TRIM(T317)=\"\", \"\", IF(VLOOKUP(T317,'Footnotes list'!$B$5:$C$103,2,FALSE)=0,\"\",VLOOKUP(T317,'Footnotes list'!$B$5:$C$103,2,FALSE) ) )","v":""}]
["DSP_L","PL2",null,"PL2","    MAKROREGION POŁUDNIOWY","Total",null,null,null,null,{"$f":"IF(TRIM(J318)=\"\", \"\", IF(VLOOKUP(J318,'Footnotes list'!$B$5:$C$103,2,FALSE)=0,\"\",VLOOKUP(J318,'Footnotes list'!$B$5:$C$103,2,FALSE) ) )","v":""},null,null,null,null,{"$f":"IF(TRIM(O318)=\"\", \"\", IF(VLOOKUP(O318,'Footnotes list'!$B$5:$C$103,2,FALSE)=0,\"\",VLOOKUP(O318,'Footnotes list'!$B$5:$C$103,2,FALSE) ) )","v":""}]
["DSP_L","PL21",null,"PL21","        Małopolskie",null,null,null,null,null,{"$f":"IF(TRIM(J319)=\"\", \"\", IF(VLOOKUP(J319,'Footnotes list'!$B$5:$C$103,2,FALSE)=0,\"\",VLOOKUP(J319,'Footnotes list'!$B$5:$C$103,2,FALSE) ) )","v":""},null,null,null,null,{"$f":"IF(TRIM(O319)=\"\", \"\", IF(VLOOKUP(O319,'Footnotes list'!$B$5:$C$103,2,FALSE)=0,\"\",VLOOKUP(O319,'Footnotes list'!$B$5:$C$103,2,FALSE) ) )","v":""}]
["DSP_L","PL22",null,"PL22","        Śląskie",null,null,null,null,null,{"$f":"IF(TRIM(J320)=\"\", \"\", IF(VLOOKUP(J320,'Footnotes list'!$B$5:$C$103,2,FALSE)=0,\"\",VLOOKUP(J320,'Footnotes list'!$B$5:$C$103,2,FALSE) ) )","v":""},null,null,null,null,{"$f":"IF(TRIM(O320)=\"\", \"\", IF(VLOOKUP(O320,'Footnotes list'!$B$5:$C$103,2,FALSE)=0,\"\",VLOOKUP(O320,'Footnotes list'!$B$5:$C$103,2,FALSE) ) )","v":""}]
["DSP_L","PL4",null,"PL4","    MAKROREGION PÓŁNOCNO-ZACHODNI",null,null,null,null,null,{"$f":"IF(TRIM(J321)=\"\", \"\", IF(VLOOKUP(J321,'Footnotes list'!$B$5:$C$103,2,FALSE)=0,\"\",VLOOKUP(J321,'Footnotes list'!$B$5:$C$103,2,FALSE) ) )","v":""},null,null,null,null,{"$f":"IF(TRIM(O321)=\"\", \"\", IF(VLOOKUP(O321,'Footnotes list'!$B$5:$C$103,2,FALSE)=0,\"\",VLOOKUP(O321,'Footnotes list'!$B$5:$C$103,2,FALSE) ) )","v":""}]
["DSP_L","PL41",null,"PL41","        Wielkopolskie",null,null,null,null,null,{"$f":"IF(TRIM(J322)=\"\", \"\", IF(VLOOKUP(J322,'Footnotes list'!$B$5:$C$103,2,FALSE)=0,\"\",VLOOKUP(J322,'Footnotes list'!$B$5:$C$103,2,FALSE) ) )","v":""},null,null,null,null,{"$f":"IF(TRIM(O322)=\"\", \"\", IF(VLOOKUP(O322,'Footnotes list'!$B$5:$C$103,2,FALSE)=0,\"\",VLOOKUP(O322,'Footnotes list'!$B$5:$C$103,2,FALSE) ) )","v":""}]
["DSP_L","PL42",null,"PL42","        Zachodniopomorskie",null,null,null,null,null,{"$f":"IF(TRIM(J323)=\"\", \"\", IF(VLOOKUP(J323,'Footnotes list'!$B$5:$C$103,2,FALSE)=0,\"\",VLOOKUP(J323,'Footnotes list'!$B$5:$C$103,2,FALSE) ) )","v":""},null,null,null,null,{"$f":"IF(TRIM(O323)=\"\", \"\", IF(VLOOKUP(O323,'Footnotes list'!$B$5:$C$103,2,FALSE)=0,\"\",VLOOKUP(O323,'Footnotes list'!$B$5:$C$103,2,FALSE) ) )","v":""}]
["DSP_L","PL43",null,"PL43","        Lubuskie",null,null,null,null,null,{"$f":"IF(TRIM(J324)=\"\", \"\", IF(VLOOKUP(J324,'Footnotes list'!$B$5:$C$103,2,FALSE)=0,\"\",VLOOKUP(J324,'Footnotes list'!$B$5:$C$103,2,FALSE) ) )","v":""},null,null,null,null,{"$f":"IF(TRIM(O324)=\"\", \"\", IF(VLOOKUP(O324,'Footnotes list'!$B$5:$C$103,2,FALSE)=0,\"\",VLOOKUP(O324,'Footnotes list'!$B$5:$C$103,2,FALSE) ) )","v":""}]
["DSP_L","PL5",null,"PL5","    MAKROREGION POŁUDNIOWO-ZACHODNI",null,null,null,null,null,{"$f":"IF(TRIM(J325)=\"\", \"\", IF(VLOOKUP(J325,'Footnotes list'!$B$5:$C$103,2,FALSE)=0,\"\",VLOOKUP(J325,'Footnotes list'!$B$5:$C$103,2,FALSE) ) )","v":""},null,null,null,null,{"$f":"IF(TRIM(O325)=\"\", \"\", IF(VLOOKUP(O325,'Footnotes list'!$B$5:$C$103,2,FALSE)=0,\"\",VLOOKUP(O325,'Footnotes list'!$B$5:$C$103,2,FALSE) ) )","v":""}]
["DSP_L","PL51",null,"PL51","        Dolnośląskie",null,null,null,null,null,{"$f":"IF(TRIM(J326)=\"\", \"\", IF(VLOOKUP(J326,'Footnotes list'!$B$5:$C$103,2,FALSE)=0,\"\",VLOOKUP(J326,'Footnotes list'!$B$5:$C$103,2,FALSE) ) )","v":""},null,null,null,null,{"$f":"IF(TRIM(O326)=\"\", \"\", IF(VLOOKUP(O326,'Footnotes list'!$B$5:$C$103,2,FALSE)=0,\"\",VLOOKUP(O326,'Footnotes list'!$B$5:$C$103,2,FALSE) ) )","v":""}]
["DSP_L","PL52",null,"PL52","        Opolskie",null,null,null,null,null,{"$f":"IF(TRIM(J327)=\"\", \"\", IF(VLOOKUP(J327,'Footnotes list'!$B$5:$C$103,2,FALSE)=0,\"\",VLOOKUP(J327,'Footnotes list'!$B$5:$C$103,2,FALSE) ) )","v":""},null,null,null,null,{"$f":"IF(TRIM(O327)=\"\", \"\", IF(VLOOKUP(O327,'Footnotes list'!$B$5:$C$103,2,FALSE)=0,\"\",VLOOKUP(O327,'Footnotes list'!$B$5:$C$103,2,FALSE) ) )","v":""}]
["DSP_L","PL6",null,"PL6","    MAKROREGION PÓŁNOCNY",null,null,null,null,null,{"$f":"IF(TRIM(J328)=\"\", \"\", IF(VLOOKUP(J328,'Footnotes list'!$B$5:$C$103,2,FALSE)=0,\"\",VLOOKUP(J328,'Footnotes list'!$B$5:$C$103,2,FALSE) ) )","v":""},null,null,null,null,{"$f":"IF(TRIM(O328)=\"\", \"\", IF(VLOOKUP(O328,'Footnotes list'!$B$5:$C$103,2,FALSE)=0,\"\",VLOOKUP(O328,'Footnotes list'!$B$5:$C$103,2,FALSE) ) )","v":""}]
["DSP_L","PL61",null,"PL61","        Kujawsko-pomorskie",null,null,null,null,null,{"$f":"IF(TRIM(J329)=\"\", \"\", IF(VLOOKUP(J329,'Footnotes list'!$B$5:$C$103,2,FALSE)=0,\"\",VLOOKUP(J329,'Footnotes list'!$B$5:$C$103,2,FALSE) ) )","v":""},null,null,null,null,{"$f":"IF(TRIM(O329)=\"\", \"\", IF(VLOOKUP(O329,'Footnotes list'!$B$5:$C$103,2,FALSE)=0,\"\",VLOOKUP(O329,'Footnotes list'!$B$5:$C$103,2,FALSE) ) )","v":""}]
["DSP_L","PL62",null,"PL62","        Warmińsko-mazurskie",null,null,null,null,null,{"$f":"IF(TRIM(J330)=\"\", \"\", IF(VLOOKUP(J330,'Footnotes list'!$B$5:$C$103,2,FALSE)=0,\"\",VLOOKUP(J330,'Footnotes list'!$B$5:$C$103,2,FALSE) ) )","v":""},null,null,null,null,{"$f":"IF(TRIM(O330)=\"\", \"\", IF(VLOOKUP(O330,'Footnotes list'!$B$5:$C$103,2,FALSE)=0,\"\",VLOOKUP(O330,'Footnotes list'!$B$5:$C$103,2,FALSE) ) )","v":""}]
["DSP_L","PL63",null,"PL63","        Pomorskie",null,null,null,null,null,{"$f":"IF(TRIM(J331)=\"\", \"\", IF(VLOOKUP(J331,'Footnotes list'!$B$5:$C$103,2,FALSE)=0,\"\",VLOOKUP(J331,'Footnotes list'!$B$5:$C$103,2,FALSE) ) )","v":""},null,null,null,null,{"$f":"IF(TRIM(O331)=\"\", \"\", IF(VLOOKUP(O331,'Footnotes list'!$B$5:$C$103,2,FALSE)=0,\"\",VLOOKUP(O331,'Footnotes list'!$B$5:$C$103,2,FALSE) ) )","v":""}]
["DSP_L","PL7",null,"PL7","    MAKROREGION CENTRALNY",null,null,null,null,null,{"$f":"IF(TRIM(J332)=\"\", \"\", IF(VLOOKUP(J332,'Footnotes list'!$B$5:$C$103,2,FALSE)=0,\"\",VLOOKUP(J332,'Footnotes list'!$B$5:$C$103,2,FALSE) ) )","v":""},null,null,null,null,{"$f":"IF(TRIM(O332)=\"\", \"\", IF(VLOOKUP(O332,'Footnotes list'!$B$5:$C$103,2,FALSE)=0,\"\",VLOOKUP(O332,'Footnotes list'!$B$5:$C$103,2,FALSE) ) )","v":""}]
["DSP_L","PL71",null,"PL71","        Łódzkie",null,null,null,null,null,{"$f":"IF(TRIM(J333)=\"\", \"\", IF(VLOOKUP(J333,'Footnotes list'!$B$5:$C$103,2,FALSE)=0,\"\",VLOOKUP(J333,'Footnotes list'!$B$5:$C$103,2,FALSE) ) )","v":""},null,null,null,null,{"$f":"IF(TRIM(O333)=\"\", \"\", IF(VLOOKUP(O333,'Footnotes list'!$B$5:$C$103,2,FALSE)=0,\"\",VLOOKUP(O333,'Footnotes list'!$B$5:$C$103,2,FALSE) ) )","v":""}]
["DSP_L","PL72",null,"PL72","        Świętokrzyskie",null,null,null,null,null,{"$f":"IF(TRIM(J334)=\"\", \"\", IF(VLOOKUP(J334,'Footnotes list'!$B$5:$C$103,2,FALSE)=0,\"\",VLOOKUP(J334,'Footnotes list'!$B$5:$C$103,2,FALSE) ) )","v":""},null,null,null,null,{"$f":"IF(TRIM(O334)=\"\", \"\", IF(VLOOKUP(O334,'Footnotes list'!$B$5:$C$103,2,FALSE)=0,\"\",VLOOKUP(O334,'Footnotes list'!$B$5:$C$103,2,FALSE) ) )","v":""}]
["DSP_L","PL8",null,"PL8","    MAKROREGION WSCHODNI",null,null,null,null,null,{"$f":"IF(TRIM(J335)=\"\", \"\", IF(VLOOKUP(J335,'Footnotes list'!$B$5:$C$103,2,FALSE)=0,\"\",VLOOKUP(J335,'Footnotes list'!$B$5:$C$103,2,FALSE) ) )","v":""},null,null,null,null,{"$f":"IF(TRIM(O335)=\"\", \"\", IF(VLOOKUP(O335,'Footnotes list'!$B$5:$C$103,2,FALSE)=0,\"\",VLOOKUP(O335,'Footnotes list'!$B$5:$C$103,2,FALSE) ) )","v":""}]
["DSP_L","PL81",null,"PL81","        Lubelskie",null,null,null,null,null,{"$f":"IF(TRIM(J336)=\"\", \"\", IF(VLOOKUP(J336,'Footnotes list'!$B$5:$C$103,2,FALSE)=0,\"\",VLOOKUP(J336,'Footnotes list'!$B$5:$C$103,2,FALSE) ) )","v":""},null,null,null,null,{"$f":"IF(TRIM(O336)=\"\", \"\", IF(VLOOKUP(O336,'Footnotes list'!$B$5:$C$103,2,FALSE)=0,\"\",VLOOKUP(O336,'Footnotes list'!$B$5:$C$103,2,FALSE) ) )","v":""}]
["DSP_L","PL82",null,"PL82","        Podkarpackie",null,null,null,null,null,{"$f":"IF(TRIM(J337)=\"\", \"\", IF(VLOOKUP(J337,'Footnotes list'!$B$5:$C$103,2,FALSE)=0,\"\",VLOOKUP(J337,'Footnotes list'!$B$5:$C$103,2,FALSE) ) )","v":""},null,null,null,null,{"$f":"IF(TRIM(O337)=\"\", \"\", IF(VLOOKUP(O337,'Footnotes list'!$B$5:$C$103,2,FALSE)=0,\"\",VLOOKUP(O337,'Footnotes list'!$B$5:$C$103,2,FALSE) ) )","v":""}]
["DSP_L","PL84",null,"PL84","        Podlaskie",null,null,null,null,null,{"$f":"IF(TRIM(J338)=\"\", \"\", IF(VLOOKUP(J338,'Footnotes list'!$B$5:$C$103,2,FALSE)=0,\"\",VLOOKUP(J338,'Footnotes list'!$B$5:$C$103,2,FALSE) ) )","v":""},null,null,null,null,{"$f":"IF(TRIM(O338)=\"\", \"\", IF(VLOOKUP(O338,'Footnotes list'!$B$5:$C$103,2,FALSE)=0,\"\",VLOOKUP(O338,'Footnotes list'!$B$5:$C$103,2,FALSE) ) )","v":""}]
["DSP_L","PL9",null,"PL9","    MAKROREGION WOJEWÓDZTWO MAZOWIECKIE",null,null,null,null,null,{"$f":"IF(TRIM(J339)=\"\", \"\", IF(VLOOKUP(J339,'Footnotes list'!$B$5:$C$103,2,FALSE)=0,\"\",VLOOKUP(J339,'Footnotes list'!$B$5:$C$103,2,FALSE) ) )","v":""},null,null,null,null,{"$f":"IF(TRIM(O339)=\"\", \"\", IF(VLOOKUP(O339,'Footnotes list'!$B$5:$C$103,2,FALSE)=0,\"\",VLOOKUP(O339,'Footnotes list'!$B$5:$C$103,2,FALSE) ) )","v":""}]
["DSP_L","PL91",null,"PL91","        Warszawski stołeczny",null,null,null,null,null,{"$f":"IF(TRIM(J340)=\"\", \"\", IF(VLOOKUP(J340,'Footnotes list'!$B$5:$C$103,2,FALSE)=0,\"\",VLOOKUP(J340,'Footnotes list'!$B$5:$C$103,2,FALSE) ) )","v":""},null,null,null,null,{"$f":"IF(TRIM(O340)=\"\", \"\", IF(VLOOKUP(O340,'Footnotes list'!$B$5:$C$103,2,FALSE)=0,\"\",VLOOKUP(O340,'Footnotes list'!$B$5:$C$103,2,FALSE) ) )","v":""}]
["DSP_L","PL92",null,"PL92","        Mazowiecki regionalny",null,null,null,null,null,{"$f":"IF(TRIM(J341)=\"\", \"\", IF(VLOOKUP(J341,'Footnotes list'!$B$5:$C$103,2,FALSE)=0,\"\",VLOOKUP(J341,'Footnotes list'!$B$5:$C$103,2,FALSE) ) )","v":""},null,null,null,null,{"$f":"IF(TRIM(O341)=\"\", \"\", IF(VLOOKUP(O341,'Footnotes list'!$B$5:$C$103,2,FALSE)=0,\"\",VLOOKUP(O341,'Footnotes list'!$B$5:$C$103,2,FALSE) ) )","v":""}]
["DSP_LIN","PT",null,"PT","PORTUGAL","Inert waste",null,null,null,null,{"$f":"IF(TRIM(J342)=\"\", \"\", IF(VLOOKUP(J342,'Footnotes list'!$B$5:$C$103,2,FALSE)=0,\"\",VLOOKUP(J342,'Footnotes list'!$B$5:$C$103,2,FALSE) ) )","v":""},null,null,null,null,{"$f":"IF(TRIM(O342)=\"\", \"\", IF(VLOOKUP(O342,'Footnotes list'!$B$5:$C$103,2,FALSE)=0,\"\",VLOOKUP(O342,'Footnotes list'!$B$5:$C$103,2,FALSE) ) )","v":""},null,null,null,null,{"$f":"IF(TRIM(T342)=\"\", \"\", IF(VLOOKUP(T342,'Footnotes list'!$B$5:$C$103,2,FALSE)=0,\"\",VLOOKUP(T342,'Footnotes list'!$B$5:$C$103,2,FALSE) ) )","v":""}]
["DSP_LNH",{"$f":"B342","v":"PT"},null,{"$f":"D342","v":"PT"},null,"Non-hazardous waste",null,null,null,null,{"$f":"IF(TRIM(J343)=\"\", \"\", IF(VLOOKUP(J343,'Footnotes list'!$B$5:$C$103,2,FALSE)=0,\"\",VLOOKUP(J343,'Footnotes list'!$B$5:$C$103,2,FALSE) ) )","v":""},null,null,null,null,{"$f":"IF(TRIM(O343)=\"\", \"\", IF(VLOOKUP(O343,'Footnotes list'!$B$5:$C$103,2,FALSE)=0,\"\",VLOOKUP(O343,'Footnotes list'!$B$5:$C$103,2,FALSE) ) )","v":""},null,null,null,null,{"$f":"IF(TRIM(T343)=\"\", \"\", IF(VLOOKUP(T343,'Footnotes list'!$B$5:$C$103,2,FALSE)=0,\"\",VLOOKUP(T343,'Footnotes list'!$B$5:$C$103,2,FALSE) ) )","v":""}]
["DSP_LH",{"$f":"B342","v":"PT"},null,{"$f":"D342","v":"PT"},null,"Hazardous waste",null,null,null,null,{"$f":"IF(TRIM(J344)=\"\", \"\", IF(VLOOKUP(J344,'Footnotes list'!$B$5:$C$103,2,FALSE)=0,\"\",VLOOKUP(J344,'Footnotes list'!$B$5:$C$103,2,FALSE) ) )","v":""},null,null,null,null,{"$f":"IF(TRIM(O344)=\"\", \"\", IF(VLOOKUP(O344,'Footnotes list'!$B$5:$C$103,2,FALSE)=0,\"\",VLOOKUP(O344,'Footnotes list'!$B$5:$C$103,2,FALSE) ) )","v":""},null,null,null,null,{"$f":"IF(TRIM(T344)=\"\", \"\", IF(VLOOKUP(T344,'Footnotes list'!$B$5:$C$103,2,FALSE)=0,\"\",VLOOKUP(T344,'Footnotes list'!$B$5:$C$103,2,FALSE) ) )","v":""}]
["DSP_L",{"$f":"B342","v":"PT"},null,{"$f":"D342","v":"PT"},null,"Total",{"$f":"IF(AND(TRIM(G342)=\"\",TRIM(G343)=\"\",TRIM(G344)=\"\"),\"\",G342+G343+G344)","v":""},null,null,null,{"$f":"IF(TRIM(J345)=\"\", \"\", IF(VLOOKUP(J345,'Footnotes list'!$B$5:$C$103,2,FALSE)=0,\"\",VLOOKUP(J345,'Footnotes list'!$B$5:$C$103,2,FALSE) ) )","v":""},{"$f":"IF(AND(TRIM(L342)=\"\",TRIM(L343)=\"\",TRIM(L344)=\"\"),\"\",L342+L343+L344)","v":""},null,null,null,{"$f":"IF(TRIM(O345)=\"\", \"\", IF(VLOOKUP(O345,'Footnotes list'!$B$5:$C$103,2,FALSE)=0,\"\",VLOOKUP(O345,'Footnotes list'!$B$5:$C$103,2,FALSE) ) )","v":""},null,null,null,null,{"$f":"IF(TRIM(T345)=\"\", \"\", IF(VLOOKUP(T345,'Footnotes list'!$B$5:$C$103,2,FALSE)=0,\"\",VLOOKUP(T345,'Footnotes list'!$B$5:$C$103,2,FALSE) ) )","v":""}]
["DSP_L","PT1",null,"PT1","    CONTINENTE","Total",null,null,null,null,{"$f":"IF(TRIM(J346)=\"\", \"\", IF(VLOOKUP(J346,'Footnotes list'!$B$5:$C$103,2,FALSE)=0,\"\",VLOOKUP(J346,'Footnotes list'!$B$5:$C$103,2,FALSE) ) )","v":""},null,null,null,null,{"$f":"IF(TRIM(O346)=\"\", \"\", IF(VLOOKUP(O346,'Footnotes list'!$B$5:$C$103,2,FALSE)=0,\"\",VLOOKUP(O346,'Footnotes list'!$B$5:$C$103,2,FALSE) ) )","v":""}]
["DSP_L","PT11",null,"PT11","        Norte",null,null,null,null,null,{"$f":"IF(TRIM(J347)=\"\", \"\", IF(VLOOKUP(J347,'Footnotes list'!$B$5:$C$103,2,FALSE)=0,\"\",VLOOKUP(J347,'Footnotes list'!$B$5:$C$103,2,FALSE) ) )","v":""},null,null,null,null,{"$f":"IF(TRIM(O347)=\"\", \"\", IF(VLOOKUP(O347,'Footnotes list'!$B$5:$C$103,2,FALSE)=0,\"\",VLOOKUP(O347,'Footnotes list'!$B$5:$C$103,2,FALSE) ) )","v":""}]
["DSP_L","PT15",null,"PT15","        Algarve",null,null,null,null,null,{"$f":"IF(TRIM(J348)=\"\", \"\", IF(VLOOKUP(J348,'Footnotes list'!$B$5:$C$103,2,FALSE)=0,\"\",VLOOKUP(J348,'Footnotes list'!$B$5:$C$103,2,FALSE) ) )","v":""},null,null,null,null,{"$f":"IF(TRIM(O348)=\"\", \"\", IF(VLOOKUP(O348,'Footnotes list'!$B$5:$C$103,2,FALSE)=0,\"\",VLOOKUP(O348,'Footnotes list'!$B$5:$C$103,2,FALSE) ) )","v":""}]
["DSP_L","PT16",null,"PT16","        Centro (PT)",null,null,null,null,null,{"$f":"IF(TRIM(J349)=\"\", \"\", IF(VLOOKUP(J349,'Footnotes list'!$B$5:$C$103,2,FALSE)=0,\"\",VLOOKUP(J349,'Footnotes list'!$B$5:$C$103,2,FALSE) ) )","v":""},null,null,null,null,{"$f":"IF(TRIM(O349)=\"\", \"\", IF(VLOOKUP(O349,'Footnotes list'!$B$5:$C$103,2,FALSE)=0,\"\",VLOOKUP(O349,'Footnotes list'!$B$5:$C$103,2,FALSE) ) )","v":""}]
["DSP_L","PT17",null,"PT17","        Área Metropolitana de Lisboa",null,null,null,null,null,{"$f":"IF(TRIM(J350)=\"\", \"\", IF(VLOOKUP(J350,'Footnotes list'!$B$5:$C$103,2,FALSE)=0,\"\",VLOOKUP(J350,'Footnotes list'!$B$5:$C$103,2,FALSE) ) )","v":""},null,null,null,null,{"$f":"IF(TRIM(O350)=\"\", \"\", IF(VLOOKUP(O350,'Footnotes list'!$B$5:$C$103,2,FALSE)=0,\"\",VLOOKUP(O350,'Footnotes list'!$B$5:$C$103,2,FALSE) ) )","v":""}]
["DSP_L","PT18",null,"PT18","        Alentejo",null,null,null,null,null,{"$f":"IF(TRIM(J351)=\"\", \"\", IF(VLOOKUP(J351,'Footnotes list'!$B$5:$C$103,2,FALSE)=0,\"\",VLOOKUP(J351,'Footnotes list'!$B$5:$C$103,2,FALSE) ) )","v":""},null,null,null,null,{"$f":"IF(TRIM(O351)=\"\", \"\", IF(VLOOKUP(O351,'Footnotes list'!$B$5:$C$103,2,FALSE)=0,\"\",VLOOKUP(O351,'Footnotes list'!$B$5:$C$103,2,FALSE) ) )","v":""}]
["DSP_L","PT2",null,"PT2","    REGIÃO AUTÓNOMA DOS AÇORES",null,null,null,null,null,{"$f":"IF(TRIM(J352)=\"\", \"\", IF(VLOOKUP(J352,'Footnotes list'!$B$5:$C$103,2,FALSE)=0,\"\",VLOOKUP(J352,'Footnotes list'!$B$5:$C$103,2,FALSE) ) )","v":""},null,null,null,null,{"$f":"IF(TRIM(O352)=\"\", \"\", IF(VLOOKUP(O352,'Footnotes list'!$B$5:$C$103,2,FALSE)=0,\"\",VLOOKUP(O352,'Footnotes list'!$B$5:$C$103,2,FALSE) ) )","v":""}]
["DSP_L","PT3",null,"PT3","    REGIÃO AUTÓNOMA DA MADEIRA",null,null,null,null,null,{"$f":"IF(TRIM(J353)=\"\", \"\", IF(VLOOKUP(J353,'Footnotes list'!$B$5:$C$103,2,FALSE)=0,\"\",VLOOKUP(J353,'Footnotes list'!$B$5:$C$103,2,FALSE) ) )","v":""},null,null,null,null,{"$f":"IF(TRIM(O353)=\"\", \"\", IF(VLOOKUP(O353,'Footnotes list'!$B$5:$C$103,2,FALSE)=0,\"\",VLOOKUP(O353,'Footnotes list'!$B$5:$C$103,2,FALSE) ) )","v":""}]
["DSP_LIN","RO",null,"RO","ROMÂNIA","Inert waste",null,null,null,null,{"$f":"IF(TRIM(J354)=\"\", \"\", IF(VLOOKUP(J354,'Footnotes list'!$B$5:$C$103,2,FALSE)=0,\"\",VLOOKUP(J354,'Footnotes list'!$B$5:$C$103,2,FALSE) ) )","v":""},null,null,null,null,{"$f":"IF(TRIM(O354)=\"\", \"\", IF(VLOOKUP(O354,'Footnotes list'!$B$5:$C$103,2,FALSE)=0,\"\",VLOOKUP(O354,'Footnotes list'!$B$5:$C$103,2,FALSE) ) )","v":""},null,null,null,null,{"$f":"IF(TRIM(T354)=\"\", \"\", IF(VLOOKUP(T354,'Footnotes list'!$B$5:$C$103,2,FALSE)=0,\"\",VLOOKUP(T354,'Footnotes list'!$B$5:$C$103,2,FALSE) ) )","v":""}]
["DSP_LNH",{"$f":"B354","v":"RO"},null,{"$f":"D354","v":"RO"},null,"Non-hazardous waste",null,null,null,null,{"$f":"IF(TRIM(J355)=\"\", \"\", IF(VLOOKUP(J355,'Footnotes list'!$B$5:$C$103,2,FALSE)=0,\"\",VLOOKUP(J355,'Footnotes list'!$B$5:$C$103,2,FALSE) ) )","v":""},null,null,null,null,{"$f":"IF(TRIM(O355)=\"\", \"\", IF(VLOOKUP(O355,'Footnotes list'!$B$5:$C$103,2,FALSE)=0,\"\",VLOOKUP(O355,'Footnotes list'!$B$5:$C$103,2,FALSE) ) )","v":""},null,null,null,null,{"$f":"IF(TRIM(T355)=\"\", \"\", IF(VLOOKUP(T355,'Footnotes list'!$B$5:$C$103,2,FALSE)=0,\"\",VLOOKUP(T355,'Footnotes list'!$B$5:$C$103,2,FALSE) ) )","v":""}]
["DSP_LH",{"$f":"B354","v":"RO"},null,{"$f":"D354","v":"RO"},null,"Hazardous waste",null,null,null,null,{"$f":"IF(TRIM(J356)=\"\", \"\", IF(VLOOKUP(J356,'Footnotes list'!$B$5:$C$103,2,FALSE)=0,\"\",VLOOKUP(J356,'Footnotes list'!$B$5:$C$103,2,FALSE) ) )","v":""},null,null,null,null,{"$f":"IF(TRIM(O356)=\"\", \"\", IF(VLOOKUP(O356,'Footnotes list'!$B$5:$C$103,2,FALSE)=0,\"\",VLOOKUP(O356,'Footnotes list'!$B$5:$C$103,2,FALSE) ) )","v":""},null,null,null,null,{"$f":"IF(TRIM(T356)=\"\", \"\", IF(VLOOKUP(T356,'Footnotes list'!$B$5:$C$103,2,FALSE)=0,\"\",VLOOKUP(T356,'Footnotes list'!$B$5:$C$103,2,FALSE) ) )","v":""}]
["DSP_L",{"$f":"B354","v":"RO"},null,{"$f":"D354","v":"RO"},null,"Total",{"$f":"IF(AND(TRIM(G354)=\"\",TRIM(G355)=\"\",TRIM(G356)=\"\"),\"\",G354+G355+G356)","v":""},null,null,null,{"$f":"IF(TRIM(J357)=\"\", \"\", IF(VLOOKUP(J357,'Footnotes list'!$B$5:$C$103,2,FALSE)=0,\"\",VLOOKUP(J357,'Footnotes list'!$B$5:$C$103,2,FALSE) ) )","v":""},{"$f":"IF(AND(TRIM(L354)=\"\",TRIM(L355)=\"\",TRIM(L356)=\"\"),\"\",L354+L355+L356)","v":""},null,null,null,{"$f":"IF(TRIM(O357)=\"\", \"\", IF(VLOOKUP(O357,'Footnotes list'!$B$5:$C$103,2,FALSE)=0,\"\",VLOOKUP(O357,'Footnotes list'!$B$5:$C$103,2,FALSE) ) )","v":""},null,null,null,null,{"$f":"IF(TRIM(T357)=\"\", \"\", IF(VLOOKUP(T357,'Footnotes list'!$B$5:$C$103,2,FALSE)=0,\"\",VLOOKUP(T357,'Footnotes list'!$B$5:$C$103,2,FALSE) ) )","v":""}]
["DSP_L","RO1",null,"RO1","    MACROREGIUNEA UNU","Total",null,null,null,null,{"$f":"IF(TRIM(J358)=\"\", \"\", IF(VLOOKUP(J358,'Footnotes list'!$B$5:$C$103,2,FALSE)=0,\"\",VLOOKUP(J358,'Footnotes list'!$B$5:$C$103,2,FALSE) ) )","v":""},null,null,null,null,{"$f":"IF(TRIM(O358)=\"\", \"\", IF(VLOOKUP(O358,'Footnotes list'!$B$5:$C$103,2,FALSE)=0,\"\",VLOOKUP(O358,'Footnotes list'!$B$5:$C$103,2,FALSE) ) )","v":""}]
["DSP_L","RO11",null,"RO11","        Nord-Vest",null,null,null,null,null,{"$f":"IF(TRIM(J359)=\"\", \"\", IF(VLOOKUP(J359,'Footnotes list'!$B$5:$C$103,2,FALSE)=0,\"\",VLOOKUP(J359,'Footnotes list'!$B$5:$C$103,2,FALSE) ) )","v":""},null,null,null,null,{"$f":"IF(TRIM(O359)=\"\", \"\", IF(VLOOKUP(O359,'Footnotes list'!$B$5:$C$103,2,FALSE)=0,\"\",VLOOKUP(O359,'Footnotes list'!$B$5:$C$103,2,FALSE) ) )","v":""}]
["DSP_L","RO12",null,"RO12","        Centru",null,null,null,null,null,{"$f":"IF(TRIM(J360)=\"\", \"\", IF(VLOOKUP(J360,'Footnotes list'!$B$5:$C$103,2,FALSE)=0,\"\",VLOOKUP(J360,'Footnotes list'!$B$5:$C$103,2,FALSE) ) )","v":""},null,null,null,null,{"$f":"IF(TRIM(O360)=\"\", \"\", IF(VLOOKUP(O360,'Footnotes list'!$B$5:$C$103,2,FALSE)=0,\"\",VLOOKUP(O360,'Footnotes list'!$B$5:$C$103,2,FALSE) ) )","v":""}]
["DSP_L","RO2",null,"RO2","    MACROREGIUNEA DOI",null,null,null,null,null,{"$f":"IF(TRIM(J361)=\"\", \"\", IF(VLOOKUP(J361,'Footnotes list'!$B$5:$C$103,2,FALSE)=0,\"\",VLOOKUP(J361,'Footnotes list'!$B$5:$C$103,2,FALSE) ) )","v":""},null,null,null,null,{"$f":"IF(TRIM(O361)=\"\", \"\", IF(VLOOKUP(O361,'Footnotes list'!$B$5:$C$103,2,FALSE)=0,\"\",VLOOKUP(O361,'Footnotes list'!$B$5:$C$103,2,FALSE) ) )","v":""}]
["DSP_L","RO21",null,"RO21","        Nord-Est",null,null,null,null,null,{"$f":"IF(TRIM(J362)=\"\", \"\", IF(VLOOKUP(J362,'Footnotes list'!$B$5:$C$103,2,FALSE)=0,\"\",VLOOKUP(J362,'Footnotes list'!$B$5:$C$103,2,FALSE) ) )","v":""},null,null,null,null,{"$f":"IF(TRIM(O362)=\"\", \"\", IF(VLOOKUP(O362,'Footnotes list'!$B$5:$C$103,2,FALSE)=0,\"\",VLOOKUP(O362,'Footnotes list'!$B$5:$C$103,2,FALSE) ) )","v":""}]
["DSP_L","RO22",null,"RO22","        Sud-Est",null,null,null,null,null,{"$f":"IF(TRIM(J363)=\"\", \"\", IF(VLOOKUP(J363,'Footnotes list'!$B$5:$C$103,2,FALSE)=0,\"\",VLOOKUP(J363,'Footnotes list'!$B$5:$C$103,2,FALSE) ) )","v":""},null,null,null,null,{"$f":"IF(TRIM(O363)=\"\", \"\", IF(VLOOKUP(O363,'Footnotes list'!$B$5:$C$103,2,FALSE)=0,\"\",VLOOKUP(O363,'Footnotes list'!$B$5:$C$103,2,FALSE) ) )","v":""}]
["DSP_L","RO3",null,"RO3","    MACROREGIUNEA TREI",null,null,null,null,null,{"$f":"IF(TRIM(J364)=\"\", \"\", IF(VLOOKUP(J364,'Footnotes list'!$B$5:$C$103,2,FALSE)=0,\"\",VLOOKUP(J364,'Footnotes list'!$B$5:$C$103,2,FALSE) ) )","v":""},null,null,null,null,{"$f":"IF(TRIM(O364)=\"\", \"\", IF(VLOOKUP(O364,'Footnotes list'!$B$5:$C$103,2,FALSE)=0,\"\",VLOOKUP(O364,'Footnotes list'!$B$5:$C$103,2,FALSE) ) )","v":""}]
["DSP_L","RO31",null,"RO31","        Sud-Muntenia",null,null,null,null,null,{"$f":"IF(TRIM(J365)=\"\", \"\", IF(VLOOKUP(J365,'Footnotes list'!$B$5:$C$103,2,FALSE)=0,\"\",VLOOKUP(J365,'Footnotes list'!$B$5:$C$103,2,FALSE) ) )","v":""},null,null,null,null,{"$f":"IF(TRIM(O365)=\"\", \"\", IF(VLOOKUP(O365,'Footnotes list'!$B$5:$C$103,2,FALSE)=0,\"\",VLOOKUP(O365,'Footnotes list'!$B$5:$C$103,2,FALSE) ) )","v":""}]
["DSP_L","RO32",null,"RO32","        Bucureşti-Ilfov",null,null,null,null,null,{"$f":"IF(TRIM(J366)=\"\", \"\", IF(VLOOKUP(J366,'Footnotes list'!$B$5:$C$103,2,FALSE)=0,\"\",VLOOKUP(J366,'Footnotes list'!$B$5:$C$103,2,FALSE) ) )","v":""},null,null,null,null,{"$f":"IF(TRIM(O366)=\"\", \"\", IF(VLOOKUP(O366,'Footnotes list'!$B$5:$C$103,2,FALSE)=0,\"\",VLOOKUP(O366,'Footnotes list'!$B$5:$C$103,2,FALSE) ) )","v":""}]
["DSP_L","RO4",null,"RO4","    MACROREGIUNEA PATRU",null,null,null,null,null,{"$f":"IF(TRIM(J367)=\"\", \"\", IF(VLOOKUP(J367,'Footnotes list'!$B$5:$C$103,2,FALSE)=0,\"\",VLOOKUP(J367,'Footnotes list'!$B$5:$C$103,2,FALSE) ) )","v":""},null,null,null,null,{"$f":"IF(TRIM(O367)=\"\", \"\", IF(VLOOKUP(O367,'Footnotes list'!$B$5:$C$103,2,FALSE)=0,\"\",VLOOKUP(O367,'Footnotes list'!$B$5:$C$103,2,FALSE) ) )","v":""}]
["DSP_L","RO41",null,"RO41","        Sud-Vest Oltenia",null,null,null,null,null,{"$f":"IF(TRIM(J368)=\"\", \"\", IF(VLOOKUP(J368,'Footnotes list'!$B$5:$C$103,2,FALSE)=0,\"\",VLOOKUP(J368,'Footnotes list'!$B$5:$C$103,2,FALSE) ) )","v":""},null,null,null,null,{"$f":"IF(TRIM(O368)=\"\", \"\", IF(VLOOKUP(O368,'Footnotes list'!$B$5:$C$103,2,FALSE)=0,\"\",VLOOKUP(O368,'Footnotes list'!$B$5:$C$103,2,FALSE) ) )","v":""}]
["DSP_L","RO42",null,"RO42","        Vest",null,null,null,null,null,{"$f":"IF(TRIM(J369)=\"\", \"\", IF(VLOOKUP(J369,'Footnotes list'!$B$5:$C$103,2,FALSE)=0,\"\",VLOOKUP(J369,'Footnotes list'!$B$5:$C$103,2,FALSE) ) )","v":""},null,null,null,null,{"$f":"IF(TRIM(O369)=\"\", \"\", IF(VLOOKUP(O369,'Footnotes list'!$B$5:$C$103,2,FALSE)=0,\"\",VLOOKUP(O369,'Footnotes list'!$B$5:$C$103,2,FALSE) ) )","v":""}]
["DSP_LIN","SI",null,"SI","SLOVENIJA","Inert waste",null,null,null,null,{"$f":"IF(TRIM(J370)=\"\", \"\", IF(VLOOKUP(J370,'Footnotes list'!$B$5:$C$103,2,FALSE)=0,\"\",VLOOKUP(J370,'Footnotes list'!$B$5:$C$103,2,FALSE) ) )","v":""},null,null,null,null,{"$f":"IF(TRIM(O370)=\"\", \"\", IF(VLOOKUP(O370,'Footnotes list'!$B$5:$C$103,2,FALSE)=0,\"\",VLOOKUP(O370,'Footnotes list'!$B$5:$C$103,2,FALSE) ) )","v":""},null,null,null,null,{"$f":"IF(TRIM(T370)=\"\", \"\", IF(VLOOKUP(T370,'Footnotes list'!$B$5:$C$103,2,FALSE)=0,\"\",VLOOKUP(T370,'Footnotes list'!$B$5:$C$103,2,FALSE) ) )","v":""}]
["DSP_LNH",{"$f":"B370","v":"SI"},null,{"$f":"D370","v":"SI"},null,"Non-hazardous waste",null,null,null,null,{"$f":"IF(TRIM(J371)=\"\", \"\", IF(VLOOKUP(J371,'Footnotes list'!$B$5:$C$103,2,FALSE)=0,\"\",VLOOKUP(J371,'Footnotes list'!$B$5:$C$103,2,FALSE) ) )","v":""},null,null,null,null,{"$f":"IF(TRIM(O371)=\"\", \"\", IF(VLOOKUP(O371,'Footnotes list'!$B$5:$C$103,2,FALSE)=0,\"\",VLOOKUP(O371,'Footnotes list'!$B$5:$C$103,2,FALSE) ) )","v":""},null,null,null,null,{"$f":"IF(TRIM(T371)=\"\", \"\", IF(VLOOKUP(T371,'Footnotes list'!$B$5:$C$103,2,FALSE)=0,\"\",VLOOKUP(T371,'Footnotes list'!$B$5:$C$103,2,FALSE) ) )","v":""}]
["DSP_LH",{"$f":"B370","v":"SI"},null,{"$f":"D370","v":"SI"},null,"Hazardous waste",null,null,null,null,{"$f":"IF(TRIM(J372)=\"\", \"\", IF(VLOOKUP(J372,'Footnotes list'!$B$5:$C$103,2,FALSE)=0,\"\",VLOOKUP(J372,'Footnotes list'!$B$5:$C$103,2,FALSE) ) )","v":""},null,null,null,null,{"$f":"IF(TRIM(O372)=\"\", \"\", IF(VLOOKUP(O372,'Footnotes list'!$B$5:$C$103,2,FALSE)=0,\"\",VLOOKUP(O372,'Footnotes list'!$B$5:$C$103,2,FALSE) ) )","v":""},null,null,null,null,{"$f":"IF(TRIM(T372)=\"\", \"\", IF(VLOOKUP(T372,'Footnotes list'!$B$5:$C$103,2,FALSE)=0,\"\",VLOOKUP(T372,'Footnotes list'!$B$5:$C$103,2,FALSE) ) )","v":""}]
["DSP_L",{"$f":"B370","v":"SI"},null,{"$f":"D370","v":"SI"},null,"Total",{"$f":"IF(AND(TRIM(G370)=\"\",TRIM(G371)=\"\",TRIM(G372)=\"\"),\"\",G370+G371+G372)","v":""},null,null,null,{"$f":"IF(TRIM(J373)=\"\", \"\", IF(VLOOKUP(J373,'Footnotes list'!$B$5:$C$103,2,FALSE)=0,\"\",VLOOKUP(J373,'Footnotes list'!$B$5:$C$103,2,FALSE) ) )","v":""},{"$f":"IF(AND(TRIM(L370)=\"\",TRIM(L371)=\"\",TRIM(L372)=\"\"),\"\",L370+L371+L372)","v":""},null,null,null,{"$f":"IF(TRIM(O373)=\"\", \"\", IF(VLOOKUP(O373,'Footnotes list'!$B$5:$C$103,2,FALSE)=0,\"\",VLOOKUP(O373,'Footnotes list'!$B$5:$C$103,2,FALSE) ) )","v":""},null,null,null,null,{"$f":"IF(TRIM(T373)=\"\", \"\", IF(VLOOKUP(T373,'Footnotes list'!$B$5:$C$103,2,FALSE)=0,\"\",VLOOKUP(T373,'Footnotes list'!$B$5:$C$103,2,FALSE) ) )","v":""}]
["DSP_L","SI03",null,"SI03","    Vzhodna Slovenija","Total",null,null,null,null,{"$f":"IF(TRIM(J374)=\"\", \"\", IF(VLOOKUP(J374,'Footnotes list'!$B$5:$C$103,2,FALSE)=0,\"\",VLOOKUP(J374,'Footnotes list'!$B$5:$C$103,2,FALSE) ) )","v":""},null,null,null,null,{"$f":"IF(TRIM(O374)=\"\", \"\", IF(VLOOKUP(O374,'Footnotes list'!$B$5:$C$103,2,FALSE)=0,\"\",VLOOKUP(O374,'Footnotes list'!$B$5:$C$103,2,FALSE) ) )","v":""}]
["DSP_L","SI04",null,"SI04","    Zahodna Slovenija",null,null,null,null,null,{"$f":"IF(TRIM(J375)=\"\", \"\", IF(VLOOKUP(J375,'Footnotes list'!$B$5:$C$103,2,FALSE)=0,\"\",VLOOKUP(J375,'Footnotes list'!$B$5:$C$103,2,FALSE) ) )","v":""},null,null,null,null,{"$f":"IF(TRIM(O375)=\"\", \"\", IF(VLOOKUP(O375,'Footnotes list'!$B$5:$C$103,2,FALSE)=0,\"\",VLOOKUP(O375,'Footnotes list'!$B$5:$C$103,2,FALSE) ) )","v":""}]
["DSP_LIN","SK",null,"SK","SLOVENSKO","Inert waste",null,null,null,null,{"$f":"IF(TRIM(J376)=\"\", \"\", IF(VLOOKUP(J376,'Footnotes list'!$B$5:$C$103,2,FALSE)=0,\"\",VLOOKUP(J376,'Footnotes list'!$B$5:$C$103,2,FALSE) ) )","v":""},null,null,null,null,{"$f":"IF(TRIM(O376)=\"\", \"\", IF(VLOOKUP(O376,'Footnotes list'!$B$5:$C$103,2,FALSE)=0,\"\",VLOOKUP(O376,'Footnotes list'!$B$5:$C$103,2,FALSE) ) )","v":""},null,null,null,null,{"$f":"IF(TRIM(T376)=\"\", \"\", IF(VLOOKUP(T376,'Footnotes list'!$B$5:$C$103,2,FALSE)=0,\"\",VLOOKUP(T376,'Footnotes list'!$B$5:$C$103,2,FALSE) ) )","v":""}]
["DSP_LNH",{"$f":"B376","v":"SK"},null,{"$f":"D376","v":"SK"},null,"Non-hazardous waste",null,null,null,null,{"$f":"IF(TRIM(J377)=\"\", \"\", IF(VLOOKUP(J377,'Footnotes list'!$B$5:$C$103,2,FALSE)=0,\"\",VLOOKUP(J377,'Footnotes list'!$B$5:$C$103,2,FALSE) ) )","v":""},null,null,null,null,{"$f":"IF(TRIM(O377)=\"\", \"\", IF(VLOOKUP(O377,'Footnotes list'!$B$5:$C$103,2,FALSE)=0,\"\",VLOOKUP(O377,'Footnotes list'!$B$5:$C$103,2,FALSE) ) )","v":""},null,null,null,null,{"$f":"IF(TRIM(T377)=\"\", \"\", IF(VLOOKUP(T377,'Footnotes list'!$B$5:$C$103,2,FALSE)=0,\"\",VLOOKUP(T377,'Footnotes list'!$B$5:$C$103,2,FALSE) ) )","v":""}]
["DSP_LH",{"$f":"B376","v":"SK"},null,{"$f":"D376","v":"SK"},null,"Hazardous waste",null,null,null,null,{"$f":"IF(TRIM(J378)=\"\", \"\", IF(VLOOKUP(J378,'Footnotes list'!$B$5:$C$103,2,FALSE)=0,\"\",VLOOKUP(J378,'Footnotes list'!$B$5:$C$103,2,FALSE) ) )","v":""},null,null,null,null,{"$f":"IF(TRIM(O378)=\"\", \"\", IF(VLOOKUP(O378,'Footnotes list'!$B$5:$C$103,2,FALSE)=0,\"\",VLOOKUP(O378,'Footnotes list'!$B$5:$C$103,2,FALSE) ) )","v":""},null,null,null,null,{"$f":"IF(TRIM(T378)=\"\", \"\", IF(VLOOKUP(T378,'Footnotes list'!$B$5:$C$103,2,FALSE)=0,\"\",VLOOKUP(T378,'Footnotes list'!$B$5:$C$103,2,FALSE) ) )","v":""}]
["DSP_L",{"$f":"B376","v":"SK"},null,{"$f":"D376","v":"SK"},null,"Total",{"$f":"IF(AND(TRIM(G376)=\"\",TRIM(G377)=\"\",TRIM(G378)=\"\"),\"\",G376+G377+G378)","v":""},null,null,null,{"$f":"IF(TRIM(J379)=\"\", \"\", IF(VLOOKUP(J379,'Footnotes list'!$B$5:$C$103,2,FALSE)=0,\"\",VLOOKUP(J379,'Footnotes list'!$B$5:$C$103,2,FALSE) ) )","v":""},{"$f":"IF(AND(TRIM(L376)=\"\",TRIM(L377)=\"\",TRIM(L378)=\"\"),\"\",L376+L377+L378)","v":""},null,null,null,{"$f":"IF(TRIM(O379)=\"\", \"\", IF(VLOOKUP(O379,'Footnotes list'!$B$5:$C$103,2,FALSE)=0,\"\",VLOOKUP(O379,'Footnotes list'!$B$5:$C$103,2,FALSE) ) )","v":""},null,null,null,null,{"$f":"IF(TRIM(T379)=\"\", \"\", IF(VLOOKUP(T379,'Footnotes list'!$B$5:$C$103,2,FALSE)=0,\"\",VLOOKUP(T379,'Footnotes list'!$B$5:$C$103,2,FALSE) ) )","v":""}]
["DSP_L","SK01",null,"SK01","    Bratislavský kraj","Total",null,null,null,null,{"$f":"IF(TRIM(J380)=\"\", \"\", IF(VLOOKUP(J380,'Footnotes list'!$B$5:$C$103,2,FALSE)=0,\"\",VLOOKUP(J380,'Footnotes list'!$B$5:$C$103,2,FALSE) ) )","v":""},null,null,null,null,{"$f":"IF(TRIM(O380)=\"\", \"\", IF(VLOOKUP(O380,'Footnotes list'!$B$5:$C$103,2,FALSE)=0,\"\",VLOOKUP(O380,'Footnotes list'!$B$5:$C$103,2,FALSE) ) )","v":""}]
["DSP_L","SK02",null,"SK02","    Západné Slovensko",null,null,null,null,null,{"$f":"IF(TRIM(J381)=\"\", \"\", IF(VLOOKUP(J381,'Footnotes list'!$B$5:$C$103,2,FALSE)=0,\"\",VLOOKUP(J381,'Footnotes list'!$B$5:$C$103,2,FALSE) ) )","v":""},null,null,null,null,{"$f":"IF(TRIM(O381)=\"\", \"\", IF(VLOOKUP(O381,'Footnotes list'!$B$5:$C$103,2,FALSE)=0,\"\",VLOOKUP(O381,'Footnotes list'!$B$5:$C$103,2,FALSE) ) )","v":""}]
["DSP_L","SK03",null,"SK03","    Stredné Slovensko",null,null,null,null,null,{"$f":"IF(TRIM(J382)=\"\", \"\", IF(VLOOKUP(J382,'Footnotes list'!$B$5:$C$103,2,FALSE)=0,\"\",VLOOKUP(J382,'Footnotes list'!$B$5:$C$103,2,FALSE) ) )","v":""},null,null,null,null,{"$f":"IF(TRIM(O382)=\"\", \"\", IF(VLOOKUP(O382,'Footnotes list'!$B$5:$C$103,2,FALSE)=0,\"\",VLOOKUP(O382,'Footnotes list'!$B$5:$C$103,2,FALSE) ) )","v":""}]
["DSP_L","SK04",null,"SK04","    Východné Slovensko",null,null,null,null,null,{"$f":"IF(TRIM(J383)=\"\", \"\", IF(VLOOKUP(J383,'Footnotes list'!$B$5:$C$103,2,FALSE)=0,\"\",VLOOKUP(J383,'Footnotes list'!$B$5:$C$103,2,FALSE) ) )","v":""},null,null,null,null,{"$f":"IF(TRIM(O383)=\"\", \"\", IF(VLOOKUP(O383,'Footnotes list'!$B$5:$C$103,2,FALSE)=0,\"\",VLOOKUP(O383,'Footnotes list'!$B$5:$C$103,2,FALSE) ) )","v":""}]
["DSP_LIN","FI",null,"FI","SUOMI / FINLAND","Inert waste",null,null,null,null,{"$f":"IF(TRIM(J384)=\"\", \"\", IF(VLOOKUP(J384,'Footnotes list'!$B$5:$C$103,2,FALSE)=0,\"\",VLOOKUP(J384,'Footnotes list'!$B$5:$C$103,2,FALSE) ) )","v":""},null,null,null,null,{"$f":"IF(TRIM(O384)=\"\", \"\", IF(VLOOKUP(O384,'Footnotes list'!$B$5:$C$103,2,FALSE)=0,\"\",VLOOKUP(O384,'Footnotes list'!$B$5:$C$103,2,FALSE) ) )","v":""},null,null,null,null,{"$f":"IF(TRIM(T384)=\"\", \"\", IF(VLOOKUP(T384,'Footnotes list'!$B$5:$C$103,2,FALSE)=0,\"\",VLOOKUP(T384,'Footnotes list'!$B$5:$C$103,2,FALSE) ) )","v":""}]
["DSP_LNH",{"$f":"B384","v":"FI"},null,{"$f":"D384","v":"FI"},null,"Non-hazardous waste",null,null,null,null,{"$f":"IF(TRIM(J385)=\"\", \"\", IF(VLOOKUP(J385,'Footnotes list'!$B$5:$C$103,2,FALSE)=0,\"\",VLOOKUP(J385,'Footnotes list'!$B$5:$C$103,2,FALSE) ) )","v":""},null,null,null,null,{"$f":"IF(TRIM(O385)=\"\", \"\", IF(VLOOKUP(O385,'Footnotes list'!$B$5:$C$103,2,FALSE)=0,\"\",VLOOKUP(O385,'Footnotes list'!$B$5:$C$103,2,FALSE) ) )","v":""},null,null,null,null,{"$f":"IF(TRIM(T385)=\"\", \"\", IF(VLOOKUP(T385,'Footnotes list'!$B$5:$C$103,2,FALSE)=0,\"\",VLOOKUP(T385,'Footnotes list'!$B$5:$C$103,2,FALSE) ) )","v":""}]
["DSP_LH",{"$f":"B384","v":"FI"},null,{"$f":"D384","v":"FI"},null,"Hazardous waste",null,null,null,null,{"$f":"IF(TRIM(J386)=\"\", \"\", IF(VLOOKUP(J386,'Footnotes list'!$B$5:$C$103,2,FALSE)=0,\"\",VLOOKUP(J386,'Footnotes list'!$B$5:$C$103,2,FALSE) ) )","v":""},null,null,null,null,{"$f":"IF(TRIM(O386)=\"\", \"\", IF(VLOOKUP(O386,'Footnotes list'!$B$5:$C$103,2,FALSE)=0,\"\",VLOOKUP(O386,'Footnotes list'!$B$5:$C$103,2,FALSE) ) )","v":""},null,null,null,null,{"$f":"IF(TRIM(T386)=\"\", \"\", IF(VLOOKUP(T386,'Footnotes list'!$B$5:$C$103,2,FALSE)=0,\"\",VLOOKUP(T386,'Footnotes list'!$B$5:$C$103,2,FALSE) ) )","v":""}]
["DSP_L",{"$f":"B384","v":"FI"},null,{"$f":"D384","v":"FI"},null,"Total",{"$f":"IF(AND(TRIM(G384)=\"\",TRIM(G385)=\"\",TRIM(G386)=\"\"),\"\",G384+G385+G386)","v":""},null,null,null,{"$f":"IF(TRIM(J387)=\"\", \"\", IF(VLOOKUP(J387,'Footnotes list'!$B$5:$C$103,2,FALSE)=0,\"\",VLOOKUP(J387,'Footnotes list'!$B$5:$C$103,2,FALSE) ) )","v":""},{"$f":"IF(AND(TRIM(L384)=\"\",TRIM(L385)=\"\",TRIM(L386)=\"\"),\"\",L384+L385+L386)","v":""},null,null,null,{"$f":"IF(TRIM(O387)=\"\", \"\", IF(VLOOKUP(O387,'Footnotes list'!$B$5:$C$103,2,FALSE)=0,\"\",VLOOKUP(O387,'Footnotes list'!$B$5:$C$103,2,FALSE) ) )","v":""},null,null,null,null,{"$f":"IF(TRIM(T387)=\"\", \"\", IF(VLOOKUP(T387,'Footnotes list'!$B$5:$C$103,2,FALSE)=0,\"\",VLOOKUP(T387,'Footnotes list'!$B$5:$C$103,2,FALSE) ) )","v":""}]
["DSP_L","FI1",null,"FI1","    MANNER-SUOMI",null,null,null,null,null,{"$f":"IF(TRIM(J388)=\"\", \"\", IF(VLOOKUP(J388,'Footnotes list'!$B$5:$C$103,2,FALSE)=0,\"\",VLOOKUP(J388,'Footnotes list'!$B$5:$C$103,2,FALSE) ) )","v":""},null,null,null,null,{"$f":"IF(TRIM(O388)=\"\", \"\", IF(VLOOKUP(O388,'Footnotes list'!$B$5:$C$103,2,FALSE)=0,\"\",VLOOKUP(O388,'Footnotes list'!$B$5:$C$103,2,FALSE) ) )","v":""}]
["DSP_L","FI19",null,"FI19","        Länsi-Suomi",null,null,null,null,null,{"$f":"IF(TRIM(J389)=\"\", \"\", IF(VLOOKUP(J389,'Footnotes list'!$B$5:$C$103,2,FALSE)=0,\"\",VLOOKUP(J389,'Footnotes list'!$B$5:$C$103,2,FALSE) ) )","v":""},null,null,null,null,{"$f":"IF(TRIM(O389)=\"\", \"\", IF(VLOOKUP(O389,'Footnotes list'!$B$5:$C$103,2,FALSE)=0,\"\",VLOOKUP(O389,'Footnotes list'!$B$5:$C$103,2,FALSE) ) )","v":""}]
["DSP_L","FI1B",null,"FI1B","        Helsinki-Uusimaa",null,null,null,null,null,{"$f":"IF(TRIM(J390)=\"\", \"\", IF(VLOOKUP(J390,'Footnotes list'!$B$5:$C$103,2,FALSE)=0,\"\",VLOOKUP(J390,'Footnotes list'!$B$5:$C$103,2,FALSE) ) )","v":""},null,null,null,null,{"$f":"IF(TRIM(O390)=\"\", \"\", IF(VLOOKUP(O390,'Footnotes list'!$B$5:$C$103,2,FALSE)=0,\"\",VLOOKUP(O390,'Footnotes list'!$B$5:$C$103,2,FALSE) ) )","v":""}]
["DSP_L","FI1C",null,"FI1C","        Etelä-Suomi",null,null,null,null,null,{"$f":"IF(TRIM(J391)=\"\", \"\", IF(VLOOKUP(J391,'Footnotes list'!$B$5:$C$103,2,FALSE)=0,\"\",VLOOKUP(J391,'Footnotes list'!$B$5:$C$103,2,FALSE) ) )","v":""},null,null,null,null,{"$f":"IF(TRIM(O391)=\"\", \"\", IF(VLOOKUP(O391,'Footnotes list'!$B$5:$C$103,2,FALSE)=0,\"\",VLOOKUP(O391,'Footnotes list'!$B$5:$C$103,2,FALSE) ) )","v":""}]
["DSP_L","FI1D",null,"FI1D","        Pohjois- ja Itä-Suomi",null,null,null,null,null,{"$f":"IF(TRIM(J392)=\"\", \"\", IF(VLOOKUP(J392,'Footnotes list'!$B$5:$C$103,2,FALSE)=0,\"\",VLOOKUP(J392,'Footnotes list'!$B$5:$C$103,2,FALSE) ) )","v":""},null,null,null,null,{"$f":"IF(TRIM(O392)=\"\", \"\", IF(VLOOKUP(O392,'Footnotes list'!$B$5:$C$103,2,FALSE)=0,\"\",VLOOKUP(O392,'Footnotes list'!$B$5:$C$103,2,FALSE) ) )","v":""}]
["DSP_L","FI2",null,"FI2","    ÅLAND",null,null,null,null,null,{"$f":"IF(TRIM(J393)=\"\", \"\", IF(VLOOKUP(J393,'Footnotes list'!$B$5:$C$103,2,FALSE)=0,\"\",VLOOKUP(J393,'Footnotes list'!$B$5:$C$103,2,FALSE) ) )","v":""},null,null,null,null,{"$f":"IF(TRIM(O393)=\"\", \"\", IF(VLOOKUP(O393,'Footnotes list'!$B$5:$C$103,2,FALSE)=0,\"\",VLOOKUP(O393,'Footnotes list'!$B$5:$C$103,2,FALSE) ) )","v":""}]
["DSP_LIN","SE",null,"SE","SVERIGE","Inert waste",null,null,null,null,{"$f":"IF(TRIM(J394)=\"\", \"\", IF(VLOOKUP(J394,'Footnotes list'!$B$5:$C$103,2,FALSE)=0,\"\",VLOOKUP(J394,'Footnotes list'!$B$5:$C$103,2,FALSE) ) )","v":""},null,null,null,null,{"$f":"IF(TRIM(O394)=\"\", \"\", IF(VLOOKUP(O394,'Footnotes list'!$B$5:$C$103,2,FALSE)=0,\"\",VLOOKUP(O394,'Footnotes list'!$B$5:$C$103,2,FALSE) ) )","v":""},null,null,null,null,{"$f":"IF(TRIM(T394)=\"\", \"\", IF(VLOOKUP(T394,'Footnotes list'!$B$5:$C$103,2,FALSE)=0,\"\",VLOOKUP(T394,'Footnotes list'!$B$5:$C$103,2,FALSE) ) )","v":""}]
["DSP_LNH",{"$f":"B394","v":"SE"},null,{"$f":"D394","v":"SE"},null,"Non-hazardous waste",null,null,null,null,{"$f":"IF(TRIM(J395)=\"\", \"\", IF(VLOOKUP(J395,'Footnotes list'!$B$5:$C$103,2,FALSE)=0,\"\",VLOOKUP(J395,'Footnotes list'!$B$5:$C$103,2,FALSE) ) )","v":""},null,null,null,null,{"$f":"IF(TRIM(O395)=\"\", \"\", IF(VLOOKUP(O395,'Footnotes list'!$B$5:$C$103,2,FALSE)=0,\"\",VLOOKUP(O395,'Footnotes list'!$B$5:$C$103,2,FALSE) ) )","v":""},null,null,null,null,{"$f":"IF(TRIM(T395)=\"\", \"\", IF(VLOOKUP(T395,'Footnotes list'!$B$5:$C$103,2,FALSE)=0,\"\",VLOOKUP(T395,'Footnotes list'!$B$5:$C$103,2,FALSE) ) )","v":""}]
["DSP_LH",{"$f":"B394","v":"SE"},null,{"$f":"D394","v":"SE"},null,"Hazardous waste",null,null,null,null,{"$f":"IF(TRIM(J396)=\"\", \"\", IF(VLOOKUP(J396,'Footnotes list'!$B$5:$C$103,2,FALSE)=0,\"\",VLOOKUP(J396,'Footnotes list'!$B$5:$C$103,2,FALSE) ) )","v":""},null,null,null,null,{"$f":"IF(TRIM(O396)=\"\", \"\", IF(VLOOKUP(O396,'Footnotes list'!$B$5:$C$103,2,FALSE)=0,\"\",VLOOKUP(O396,'Footnotes list'!$B$5:$C$103,2,FALSE) ) )","v":""},null,null,null,null,{"$f":"IF(TRIM(T396)=\"\", \"\", IF(VLOOKUP(T396,'Footnotes list'!$B$5:$C$103,2,FALSE)=0,\"\",VLOOKUP(T396,'Footnotes list'!$B$5:$C$103,2,FALSE) ) )","v":""}]
["DSP_L",{"$f":"B394","v":"SE"},null,{"$f":"D394","v":"SE"},null,"Total",{"$f":"IF(AND(TRIM(G394)=\"\",TRIM(G395)=\"\",TRIM(G396)=\"\"),\"\",G394+G395+G396)","v":""},null,null,null,{"$f":"IF(TRIM(J397)=\"\", \"\", IF(VLOOKUP(J397,'Footnotes list'!$B$5:$C$103,2,FALSE)=0,\"\",VLOOKUP(J397,'Footnotes list'!$B$5:$C$103,2,FALSE) ) )","v":""},{"$f":"IF(AND(TRIM(L394)=\"\",TRIM(L395)=\"\",TRIM(L396)=\"\"),\"\",L394+L395+L396)","v":""},null,null,null,{"$f":"IF(TRIM(O397)=\"\", \"\", IF(VLOOKUP(O397,'Footnotes list'!$B$5:$C$103,2,FALSE)=0,\"\",VLOOKUP(O397,'Footnotes list'!$B$5:$C$103,2,FALSE) ) )","v":""},null,null,null,null,{"$f":"IF(TRIM(T397)=\"\", \"\", IF(VLOOKUP(T397,'Footnotes list'!$B$5:$C$103,2,FALSE)=0,\"\",VLOOKUP(T397,'Footnotes list'!$B$5:$C$103,2,FALSE) ) )","v":""}]
["DSP_L","SE1",null,"SE1","    ÖSTRA SVERIGE",null,null,null,null,null,{"$f":"IF(TRIM(J398)=\"\", \"\", IF(VLOOKUP(J398,'Footnotes list'!$B$5:$C$103,2,FALSE)=0,\"\",VLOOKUP(J398,'Footnotes list'!$B$5:$C$103,2,FALSE) ) )","v":""},null,null,null,null,{"$f":"IF(TRIM(O398)=\"\", \"\", IF(VLOOKUP(O398,'Footnotes list'!$B$5:$C$103,2,FALSE)=0,\"\",VLOOKUP(O398,'Footnotes list'!$B$5:$C$103,2,FALSE) ) )","v":""}]
["DSP_L","SE11",null,"SE11","        Stockholm",null,null,null,null,null,{"$f":"IF(TRIM(J399)=\"\", \"\", IF(VLOOKUP(J399,'Footnotes list'!$B$5:$C$103,2,FALSE)=0,\"\",VLOOKUP(J399,'Footnotes list'!$B$5:$C$103,2,FALSE) ) )","v":""},null,null,null,null,{"$f":"IF(TRIM(O399)=\"\", \"\", IF(VLOOKUP(O399,'Footnotes list'!$B$5:$C$103,2,FALSE)=0,\"\",VLOOKUP(O399,'Footnotes list'!$B$5:$C$103,2,FALSE) ) )","v":""}]
["DSP_L","SE12",null,"SE12","        Östra Mellansverige",null,null,null,null,null,{"$f":"IF(TRIM(J400)=\"\", \"\", IF(VLOOKUP(J400,'Footnotes list'!$B$5:$C$103,2,FALSE)=0,\"\",VLOOKUP(J400,'Footnotes list'!$B$5:$C$103,2,FALSE) ) )","v":""},null,null,null,null,{"$f":"IF(TRIM(O400)=\"\", \"\", IF(VLOOKUP(O400,'Footnotes list'!$B$5:$C$103,2,FALSE)=0,\"\",VLOOKUP(O400,'Footnotes list'!$B$5:$C$103,2,FALSE) ) )","v":""}]
["DSP_L","SE2",null,"SE2","    SÖDRA SVERIGE",null,null,null,null,null,{"$f":"IF(TRIM(J401)=\"\", \"\", IF(VLOOKUP(J401,'Footnotes list'!$B$5:$C$103,2,FALSE)=0,\"\",VLOOKUP(J401,'Footnotes list'!$B$5:$C$103,2,FALSE) ) )","v":""},null,null,null,null,{"$f":"IF(TRIM(O401)=\"\", \"\", IF(VLOOKUP(O401,'Footnotes list'!$B$5:$C$103,2,FALSE)=0,\"\",VLOOKUP(O401,'Footnotes list'!$B$5:$C$103,2,FALSE) ) )","v":""}]
["DSP_L","SE21",null,"SE21","        Småland med öarna",null,null,null,null,null,{"$f":"IF(TRIM(J402)=\"\", \"\", IF(VLOOKUP(J402,'Footnotes list'!$B$5:$C$103,2,FALSE)=0,\"\",VLOOKUP(J402,'Footnotes list'!$B$5:$C$103,2,FALSE) ) )","v":""},null,null,null,null,{"$f":"IF(TRIM(O402)=\"\", \"\", IF(VLOOKUP(O402,'Footnotes list'!$B$5:$C$103,2,FALSE)=0,\"\",VLOOKUP(O402,'Footnotes list'!$B$5:$C$103,2,FALSE) ) )","v":""}]
["DSP_L","SE22",null,"SE22","        Sydsverige",null,null,null,null,null,{"$f":"IF(TRIM(J403)=\"\", \"\", IF(VLOOKUP(J403,'Footnotes list'!$B$5:$C$103,2,FALSE)=0,\"\",VLOOKUP(J403,'Footnotes list'!$B$5:$C$103,2,FALSE) ) )","v":""},null,null,null,null,{"$f":"IF(TRIM(O403)=\"\", \"\", IF(VLOOKUP(O403,'Footnotes list'!$B$5:$C$103,2,FALSE)=0,\"\",VLOOKUP(O403,'Footnotes list'!$B$5:$C$103,2,FALSE) ) )","v":""}]
["DSP_L","SE23",null,"SE23","        Västsverige",null,null,null,null,null,{"$f":"IF(TRIM(J404)=\"\", \"\", IF(VLOOKUP(J404,'Footnotes list'!$B$5:$C$103,2,FALSE)=0,\"\",VLOOKUP(J404,'Footnotes list'!$B$5:$C$103,2,FALSE) ) )","v":""},null,null,null,null,{"$f":"IF(TRIM(O404)=\"\", \"\", IF(VLOOKUP(O404,'Footnotes list'!$B$5:$C$103,2,FALSE)=0,\"\",VLOOKUP(O404,'Footnotes list'!$B$5:$C$103,2,FALSE) ) )","v":""}]
["DSP_L","SE3",null,"SE3","    NORRA SVERIGE",null,null,null,null,null,{"$f":"IF(TRIM(J405)=\"\", \"\", IF(VLOOKUP(J405,'Footnotes list'!$B$5:$C$103,2,FALSE)=0,\"\",VLOOKUP(J405,'Footnotes list'!$B$5:$C$103,2,FALSE) ) )","v":""},null,null,null,null,{"$f":"IF(TRIM(O405)=\"\", \"\", IF(VLOOKUP(O405,'Footnotes list'!$B$5:$C$103,2,FALSE)=0,\"\",VLOOKUP(O405,'Footnotes list'!$B$5:$C$103,2,FALSE) ) )","v":""}]
["DSP_L","SE31",null,"SE31","        Norra Mellansverige",null,null,null,null,null,{"$f":"IF(TRIM(J406)=\"\", \"\", IF(VLOOKUP(J406,'Footnotes list'!$B$5:$C$103,2,FALSE)=0,\"\",VLOOKUP(J406,'Footnotes list'!$B$5:$C$103,2,FALSE) ) )","v":""},null,null,null,null,{"$f":"IF(TRIM(O406)=\"\", \"\", IF(VLOOKUP(O406,'Footnotes list'!$B$5:$C$103,2,FALSE)=0,\"\",VLOOKUP(O406,'Footnotes list'!$B$5:$C$103,2,FALSE) ) )","v":""}]
["DSP_L","SE32",null,"SE32","        Mellersta Norrland",null,null,null,null,null,{"$f":"IF(TRIM(J407)=\"\", \"\", IF(VLOOKUP(J407,'Footnotes list'!$B$5:$C$103,2,FALSE)=0,\"\",VLOOKUP(J407,'Footnotes list'!$B$5:$C$103,2,FALSE) ) )","v":""},null,null,null,null,{"$f":"IF(TRIM(O407)=\"\", \"\", IF(VLOOKUP(O407,'Footnotes list'!$B$5:$C$103,2,FALSE)=0,\"\",VLOOKUP(O407,'Footnotes list'!$B$5:$C$103,2,FALSE) ) )","v":""}]
["DSP_L","SE33",null,"SE33","        Övre Norrland",null,null,null,null,null,{"$f":"IF(TRIM(J408)=\"\", \"\", IF(VLOOKUP(J408,'Footnotes list'!$B$5:$C$103,2,FALSE)=0,\"\",VLOOKUP(J408,'Footnotes list'!$B$5:$C$103,2,FALSE) ) )","v":""},null,null,null,null,{"$f":"IF(TRIM(O408)=\"\", \"\", IF(VLOOKUP(O408,'Footnotes list'!$B$5:$C$103,2,FALSE)=0,\"\",VLOOKUP(O408,'Footnotes list'!$B$5:$C$103,2,FALSE) ) )","v":""}]
["DSP_LIN","UK",null,"UK","UNITED KINGDOM","Inert waste",null,null,null,null,{"$f":"IF(TRIM(J409)=\"\", \"\", IF(VLOOKUP(J409,'Footnotes list'!$B$5:$C$103,2,FALSE)=0,\"\",VLOOKUP(J409,'Footnotes list'!$B$5:$C$103,2,FALSE) ) )","v":""},null,null,null,null,{"$f":"IF(TRIM(O409)=\"\", \"\", IF(VLOOKUP(O409,'Footnotes list'!$B$5:$C$103,2,FALSE)=0,\"\",VLOOKUP(O409,'Footnotes list'!$B$5:$C$103,2,FALSE) ) )","v":""},null,null,null,null,{"$f":"IF(TRIM(T409)=\"\", \"\", IF(VLOOKUP(T409,'Footnotes list'!$B$5:$C$103,2,FALSE)=0,\"\",VLOOKUP(T409,'Footnotes list'!$B$5:$C$103,2,FALSE) ) )","v":""}]
["DSP_LNH",{"$f":"B409","v":"UK"},null,{"$f":"D409","v":"UK"},null,"Non-hazardous waste",null,null,null,null,{"$f":"IF(TRIM(J410)=\"\", \"\", IF(VLOOKUP(J410,'Footnotes list'!$B$5:$C$103,2,FALSE)=0,\"\",VLOOKUP(J410,'Footnotes list'!$B$5:$C$103,2,FALSE) ) )","v":""},null,null,null,null,{"$f":"IF(TRIM(O410)=\"\", \"\", IF(VLOOKUP(O410,'Footnotes list'!$B$5:$C$103,2,FALSE)=0,\"\",VLOOKUP(O410,'Footnotes list'!$B$5:$C$103,2,FALSE) ) )","v":""},null,null,null,null,{"$f":"IF(TRIM(T410)=\"\", \"\", IF(VLOOKUP(T410,'Footnotes list'!$B$5:$C$103,2,FALSE)=0,\"\",VLOOKUP(T410,'Footnotes list'!$B$5:$C$103,2,FALSE) ) )","v":""}]
["DSP_LH",{"$f":"B409","v":"UK"},null,{"$f":"D409","v":"UK"},null,"Hazardous waste",null,null,null,null,{"$f":"IF(TRIM(J411)=\"\", \"\", IF(VLOOKUP(J411,'Footnotes list'!$B$5:$C$103,2,FALSE)=0,\"\",VLOOKUP(J411,'Footnotes list'!$B$5:$C$103,2,FALSE) ) )","v":""},null,null,null,null,{"$f":"IF(TRIM(O411)=\"\", \"\", IF(VLOOKUP(O411,'Footnotes list'!$B$5:$C$103,2,FALSE)=0,\"\",VLOOKUP(O411,'Footnotes list'!$B$5:$C$103,2,FALSE) ) )","v":""},null,null,null,null,{"$f":"IF(TRIM(T411)=\"\", \"\", IF(VLOOKUP(T411,'Footnotes list'!$B$5:$C$103,2,FALSE)=0,\"\",VLOOKUP(T411,'Footnotes list'!$B$5:$C$103,2,FALSE) ) )","v":""}]
["DSP_L",{"$f":"B409","v":"UK"},null,{"$f":"D409","v":"UK"},null,"Total",{"$f":"IF(AND(TRIM(G409)=\"\",TRIM(G410)=\"\",TRIM(G411)=\"\"),\"\",G409+G410+G411)","v":""},null,null,null,{"$f":"IF(TRIM(J412)=\"\", \"\", IF(VLOOKUP(J412,'Footnotes list'!$B$5:$C$103,2,FALSE)=0,\"\",VLOOKUP(J412,'Footnotes list'!$B$5:$C$103,2,FALSE) ) )","v":""},{"$f":"IF(AND(TRIM(L409)=\"\",TRIM(L410)=\"\",TRIM(L411)=\"\"),\"\",L409+L410+L411)","v":""},null,null,null,{"$f":"IF(TRIM(O412)=\"\", \"\", IF(VLOOKUP(O412,'Footnotes list'!$B$5:$C$103,2,FALSE)=0,\"\",VLOOKUP(O412,'Footnotes list'!$B$5:$C$103,2,FALSE) ) )","v":""},null,null,null,null,{"$f":"IF(TRIM(T412)=\"\", \"\", IF(VLOOKUP(T412,'Footnotes list'!$B$5:$C$103,2,FALSE)=0,\"\",VLOOKUP(T412,'Footnotes list'!$B$5:$C$103,2,FALSE) ) )","v":""}]
["DSP_L","UKC",null,"UKC","    NORTH EAST (ENGLAND)",null,null,null,null,null,{"$f":"IF(TRIM(J413)=\"\", \"\", IF(VLOOKUP(J413,'Footnotes list'!$B$5:$C$103,2,FALSE)=0,\"\",VLOOKUP(J413,'Footnotes list'!$B$5:$C$103,2,FALSE) ) )","v":""},null,null,null,null,{"$f":"IF(TRIM(O413)=\"\", \"\", IF(VLOOKUP(O413,'Footnotes list'!$B$5:$C$103,2,FALSE)=0,\"\",VLOOKUP(O413,'Footnotes list'!$B$5:$C$103,2,FALSE) ) )","v":""}]
["DSP_L","UKC1",null,"UKC1","        Tees Valley and Durham",null,null,null,null,null,{"$f":"IF(TRIM(J414)=\"\", \"\", IF(VLOOKUP(J414,'Footnotes list'!$B$5:$C$103,2,FALSE)=0,\"\",VLOOKUP(J414,'Footnotes list'!$B$5:$C$103,2,FALSE) ) )","v":""},null,null,null,null,{"$f":"IF(TRIM(O414)=\"\", \"\", IF(VLOOKUP(O414,'Footnotes list'!$B$5:$C$103,2,FALSE)=0,\"\",VLOOKUP(O414,'Footnotes list'!$B$5:$C$103,2,FALSE) ) )","v":""}]
["DSP_L","UKC2",null,"UKC2","        Northumberland and Tyne and Wear",null,null,null,null,null,{"$f":"IF(TRIM(J415)=\"\", \"\", IF(VLOOKUP(J415,'Footnotes list'!$B$5:$C$103,2,FALSE)=0,\"\",VLOOKUP(J415,'Footnotes list'!$B$5:$C$103,2,FALSE) ) )","v":""},null,null,null,null,{"$f":"IF(TRIM(O415)=\"\", \"\", IF(VLOOKUP(O415,'Footnotes list'!$B$5:$C$103,2,FALSE)=0,\"\",VLOOKUP(O415,'Footnotes list'!$B$5:$C$103,2,FALSE) ) )","v":""}]
["DSP_L","UKD",null,"UKD","    NORTH WEST (ENGLAND)",null,null,null,null,null,{"$f":"IF(TRIM(J416)=\"\", \"\", IF(VLOOKUP(J416,'Footnotes list'!$B$5:$C$103,2,FALSE)=0,\"\",VLOOKUP(J416,'Footnotes list'!$B$5:$C$103,2,FALSE) ) )","v":""},null,null,null,null,{"$f":"IF(TRIM(O416)=\"\", \"\", IF(VLOOKUP(O416,'Footnotes list'!$B$5:$C$103,2,FALSE)=0,\"\",VLOOKUP(O416,'Footnotes list'!$B$5:$C$103,2,FALSE) ) )","v":""}]
["DSP_L","UKD1",null,"UKD1","        Cumbria",null,null,null,null,null,{"$f":"IF(TRIM(J417)=\"\", \"\", IF(VLOOKUP(J417,'Footnotes list'!$B$5:$C$103,2,FALSE)=0,\"\",VLOOKUP(J417,'Footnotes list'!$B$5:$C$103,2,FALSE) ) )","v":""},null,null,null,null,{"$f":"IF(TRIM(O417)=\"\", \"\", IF(VLOOKUP(O417,'Footnotes list'!$B$5:$C$103,2,FALSE)=0,\"\",VLOOKUP(O417,'Footnotes list'!$B$5:$C$103,2,FALSE) ) )","v":""}]
["DSP_L","UKD6",null,"UKD6","        Cheshire",null,null,null,null,null,{"$f":"IF(TRIM(J418)=\"\", \"\", IF(VLOOKUP(J418,'Footnotes list'!$B$5:$C$103,2,FALSE)=0,\"\",VLOOKUP(J418,'Footnotes list'!$B$5:$C$103,2,FALSE) ) )","v":""},null,null,null,null,{"$f":"IF(TRIM(O418)=\"\", \"\", IF(VLOOKUP(O418,'Footnotes list'!$B$5:$C$103,2,FALSE)=0,\"\",VLOOKUP(O418,'Footnotes list'!$B$5:$C$103,2,FALSE) ) )","v":""}]
["DSP_L","UKD3",null,"UKD3","        Greater Manchester",null,null,null,null,null,{"$f":"IF(TRIM(J419)=\"\", \"\", IF(VLOOKUP(J419,'Footnotes list'!$B$5:$C$103,2,FALSE)=0,\"\",VLOOKUP(J419,'Footnotes list'!$B$5:$C$103,2,FALSE) ) )","v":""},null,null,null,null,{"$f":"IF(TRIM(O419)=\"\", \"\", IF(VLOOKUP(O419,'Footnotes list'!$B$5:$C$103,2,FALSE)=0,\"\",VLOOKUP(O419,'Footnotes list'!$B$5:$C$103,2,FALSE) ) )","v":""}]
["DSP_L","UKD4",null,"UKD4","        Lancashire",null,null,null,null,null,{"$f":"IF(TRIM(J420)=\"\", \"\", IF(VLOOKUP(J420,'Footnotes list'!$B$5:$C$103,2,FALSE)=0,\"\",VLOOKUP(J420,'Footnotes list'!$B$5:$C$103,2,FALSE) ) )","v":""},null,null,null,null,{"$f":"IF(TRIM(O420)=\"\", \"\", IF(VLOOKUP(O420,'Footnotes list'!$B$5:$C$103,2,FALSE)=0,\"\",VLOOKUP(O420,'Footnotes list'!$B$5:$C$103,2,FALSE) ) )","v":""}]
["DSP_L","UKD7",null,"UKD7","        Merseyside",null,null,null,null,null,{"$f":"IF(TRIM(J421)=\"\", \"\", IF(VLOOKUP(J421,'Footnotes list'!$B$5:$C$103,2,FALSE)=0,\"\",VLOOKUP(J421,'Footnotes list'!$B$5:$C$103,2,FALSE) ) )","v":""},null,null,null,null,{"$f":"IF(TRIM(O421)=\"\", \"\", IF(VLOOKUP(O421,'Footnotes list'!$B$5:$C$103,2,FALSE)=0,\"\",VLOOKUP(O421,'Footnotes list'!$B$5:$C$103,2,FALSE) ) )","v":""}]
["DSP_L","UKE",null,"UKE","    YORKSHIRE AND THE HUMBER",null,null,null,null,null,{"$f":"IF(TRIM(J422)=\"\", \"\", IF(VLOOKUP(J422,'Footnotes list'!$B$5:$C$103,2,FALSE)=0,\"\",VLOOKUP(J422,'Footnotes list'!$B$5:$C$103,2,FALSE) ) )","v":""},null,null,null,null,{"$f":"IF(TRIM(O422)=\"\", \"\", IF(VLOOKUP(O422,'Footnotes list'!$B$5:$C$103,2,FALSE)=0,\"\",VLOOKUP(O422,'Footnotes list'!$B$5:$C$103,2,FALSE) ) )","v":""}]
["DSP_L","UKE1",null,"UKE1","        East Yorkshire and Northern Lincolnshire",null,null,null,null,null,{"$f":"IF(TRIM(J423)=\"\", \"\", IF(VLOOKUP(J423,'Footnotes list'!$B$5:$C$103,2,FALSE)=0,\"\",VLOOKUP(J423,'Footnotes list'!$B$5:$C$103,2,FALSE) ) )","v":""},null,null,null,null,{"$f":"IF(TRIM(O423)=\"\", \"\", IF(VLOOKUP(O423,'Footnotes list'!$B$5:$C$103,2,FALSE)=0,\"\",VLOOKUP(O423,'Footnotes list'!$B$5:$C$103,2,FALSE) ) )","v":""}]
["DSP_L","UKE2",null,"UKE2","        North Yorkshire",null,null,null,null,null,{"$f":"IF(TRIM(J424)=\"\", \"\", IF(VLOOKUP(J424,'Footnotes list'!$B$5:$C$103,2,FALSE)=0,\"\",VLOOKUP(J424,'Footnotes list'!$B$5:$C$103,2,FALSE) ) )","v":""},null,null,null,null,{"$f":"IF(TRIM(O424)=\"\", \"\", IF(VLOOKUP(O424,'Footnotes list'!$B$5:$C$103,2,FALSE)=0,\"\",VLOOKUP(O424,'Footnotes list'!$B$5:$C$103,2,FALSE) ) )","v":""}]
["DSP_L","UKE3",null,"UKE3","        South Yorkshire",null,null,null,null,null,{"$f":"IF(TRIM(J425)=\"\", \"\", IF(VLOOKUP(J425,'Footnotes list'!$B$5:$C$103,2,FALSE)=0,\"\",VLOOKUP(J425,'Footnotes list'!$B$5:$C$103,2,FALSE) ) )","v":""},null,null,null,null,{"$f":"IF(TRIM(O425)=\"\", \"\", IF(VLOOKUP(O425,'Footnotes list'!$B$5:$C$103,2,FALSE)=0,\"\",VLOOKUP(O425,'Footnotes list'!$B$5:$C$103,2,FALSE) ) )","v":""}]
["DSP_L","UKE4",null,"UKE4","        West Yorkshire",null,null,null,null,null,{"$f":"IF(TRIM(J426)=\"\", \"\", IF(VLOOKUP(J426,'Footnotes list'!$B$5:$C$103,2,FALSE)=0,\"\",VLOOKUP(J426,'Footnotes list'!$B$5:$C$103,2,FALSE) ) )","v":""},null,null,null,null,{"$f":"IF(TRIM(O426)=\"\", \"\", IF(VLOOKUP(O426,'Footnotes list'!$B$5:$C$103,2,FALSE)=0,\"\",VLOOKUP(O426,'Footnotes list'!$B$5:$C$103,2,FALSE) ) )","v":""}]
["DSP_L","UKF",null,"UKF","    EAST MIDLANDS (ENGLAND)",null,null,null,null,null,{"$f":"IF(TRIM(J427)=\"\", \"\", IF(VLOOKUP(J427,'Footnotes list'!$B$5:$C$103,2,FALSE)=0,\"\",VLOOKUP(J427,'Footnotes list'!$B$5:$C$103,2,FALSE) ) )","v":""},null,null,null,null,{"$f":"IF(TRIM(O427)=\"\", \"\", IF(VLOOKUP(O427,'Footnotes list'!$B$5:$C$103,2,FALSE)=0,\"\",VLOOKUP(O427,'Footnotes list'!$B$5:$C$103,2,FALSE) ) )","v":""}]
["DSP_L","UKF1",null,"UKF1","        Derbyshire and Nottinghamshire",null,null,null,null,null,{"$f":"IF(TRIM(J428)=\"\", \"\", IF(VLOOKUP(J428,'Footnotes list'!$B$5:$C$103,2,FALSE)=0,\"\",VLOOKUP(J428,'Footnotes list'!$B$5:$C$103,2,FALSE) ) )","v":""},null,null,null,null,{"$f":"IF(TRIM(O428)=\"\", \"\", IF(VLOOKUP(O428,'Footnotes list'!$B$5:$C$103,2,FALSE)=0,\"\",VLOOKUP(O428,'Footnotes list'!$B$5:$C$103,2,FALSE) ) )","v":""}]
["DSP_L","UKF2",null,"UKF2","        Leicestershire, Rutland and Northamptonshire",null,null,null,null,null,{"$f":"IF(TRIM(J429)=\"\", \"\", IF(VLOOKUP(J429,'Footnotes list'!$B$5:$C$103,2,FALSE)=0,\"\",VLOOKUP(J429,'Footnotes list'!$B$5:$C$103,2,FALSE) ) )","v":""},null,null,null,null,{"$f":"IF(TRIM(O429)=\"\", \"\", IF(VLOOKUP(O429,'Footnotes list'!$B$5:$C$103,2,FALSE)=0,\"\",VLOOKUP(O429,'Footnotes list'!$B$5:$C$103,2,FALSE) ) )","v":""}]
["DSP_L","UKF3",null,"UKF3","        Lincolnshire",null,null,null,null,null,{"$f":"IF(TRIM(J430)=\"\", \"\", IF(VLOOKUP(J430,'Footnotes list'!$B$5:$C$103,2,FALSE)=0,\"\",VLOOKUP(J430,'Footnotes list'!$B$5:$C$103,2,FALSE) ) )","v":""},null,null,null,null,{"$f":"IF(TRIM(O430)=\"\", \"\", IF(VLOOKUP(O430,'Footnotes list'!$B$5:$C$103,2,FALSE)=0,\"\",VLOOKUP(O430,'Footnotes list'!$B$5:$C$103,2,FALSE) ) )","v":""}]
["DSP_L","UKG",null,"UKG","    WEST MIDLANDS (ENGLAND)",null,null,null,null,null,{"$f":"IF(TRIM(J431)=\"\", \"\", IF(VLOOKUP(J431,'Footnotes list'!$B$5:$C$103,2,FALSE)=0,\"\",VLOOKUP(J431,'Footnotes list'!$B$5:$C$103,2,FALSE) ) )","v":""},null,null,null,null,{"$f":"IF(TRIM(O431)=\"\", \"\", IF(VLOOKUP(O431,'Footnotes list'!$B$5:$C$103,2,FALSE)=0,\"\",VLOOKUP(O431,'Footnotes list'!$B$5:$C$103,2,FALSE) ) )","v":""}]
["DSP_L","UKG1",null,"UKG1","        Herefordshire, Worcestershire and Warwickshire",null,null,null,null,null,{"$f":"IF(TRIM(J432)=\"\", \"\", IF(VLOOKUP(J432,'Footnotes list'!$B$5:$C$103,2,FALSE)=0,\"\",VLOOKUP(J432,'Footnotes list'!$B$5:$C$103,2,FALSE) ) )","v":""},null,null,null,null,{"$f":"IF(TRIM(O432)=\"\", \"\", IF(VLOOKUP(O432,'Footnotes list'!$B$5:$C$103,2,FALSE)=0,\"\",VLOOKUP(O432,'Footnotes list'!$B$5:$C$103,2,FALSE) ) )","v":""}]
["DSP_L","UKG2",null,"UKG2","        Shropshire and Staffordshire",null,null,null,null,null,{"$f":"IF(TRIM(J433)=\"\", \"\", IF(VLOOKUP(J433,'Footnotes list'!$B$5:$C$103,2,FALSE)=0,\"\",VLOOKUP(J433,'Footnotes list'!$B$5:$C$103,2,FALSE) ) )","v":""},null,null,null,null,{"$f":"IF(TRIM(O433)=\"\", \"\", IF(VLOOKUP(O433,'Footnotes list'!$B$5:$C$103,2,FALSE)=0,\"\",VLOOKUP(O433,'Footnotes list'!$B$5:$C$103,2,FALSE) ) )","v":""}]
["DSP_L","UKG3",null,"UKG3","        West Midlands",null,null,null,null,null,{"$f":"IF(TRIM(J434)=\"\", \"\", IF(VLOOKUP(J434,'Footnotes list'!$B$5:$C$103,2,FALSE)=0,\"\",VLOOKUP(J434,'Footnotes list'!$B$5:$C$103,2,FALSE) ) )","v":""},null,null,null,null,{"$f":"IF(TRIM(O434)=\"\", \"\", IF(VLOOKUP(O434,'Footnotes list'!$B$5:$C$103,2,FALSE)=0,\"\",VLOOKUP(O434,'Footnotes list'!$B$5:$C$103,2,FALSE) ) )","v":""}]
["DSP_L","UKH",null,"UKH","    EAST OF ENGLAND",null,null,null,null,null,{"$f":"IF(TRIM(J435)=\"\", \"\", IF(VLOOKUP(J435,'Footnotes list'!$B$5:$C$103,2,FALSE)=0,\"\",VLOOKUP(J435,'Footnotes list'!$B$5:$C$103,2,FALSE) ) )","v":""},null,null,null,null,{"$f":"IF(TRIM(O435)=\"\", \"\", IF(VLOOKUP(O435,'Footnotes list'!$B$5:$C$103,2,FALSE)=0,\"\",VLOOKUP(O435,'Footnotes list'!$B$5:$C$103,2,FALSE) ) )","v":""}]
["DSP_L","UKH1",null,"UKH1","        East Anglia",null,null,null,null,null,{"$f":"IF(TRIM(J436)=\"\", \"\", IF(VLOOKUP(J436,'Footnotes list'!$B$5:$C$103,2,FALSE)=0,\"\",VLOOKUP(J436,'Footnotes list'!$B$5:$C$103,2,FALSE) ) )","v":""},null,null,null,null,{"$f":"IF(TRIM(O436)=\"\", \"\", IF(VLOOKUP(O436,'Footnotes list'!$B$5:$C$103,2,FALSE)=0,\"\",VLOOKUP(O436,'Footnotes list'!$B$5:$C$103,2,FALSE) ) )","v":""}]
["DSP_L","UKH2",null,"UKH2","        Bedfordshire and Hertfordshire",null,null,null,null,null,{"$f":"IF(TRIM(J437)=\"\", \"\", IF(VLOOKUP(J437,'Footnotes list'!$B$5:$C$103,2,FALSE)=0,\"\",VLOOKUP(J437,'Footnotes list'!$B$5:$C$103,2,FALSE) ) )","v":""},null,null,null,null,{"$f":"IF(TRIM(O437)=\"\", \"\", IF(VLOOKUP(O437,'Footnotes list'!$B$5:$C$103,2,FALSE)=0,\"\",VLOOKUP(O437,'Footnotes list'!$B$5:$C$103,2,FALSE) ) )","v":""}]
["DSP_L","UKH3",null,"UKH3","        Essex",null,null,null,null,null,{"$f":"IF(TRIM(J438)=\"\", \"\", IF(VLOOKUP(J438,'Footnotes list'!$B$5:$C$103,2,FALSE)=0,\"\",VLOOKUP(J438,'Footnotes list'!$B$5:$C$103,2,FALSE) ) )","v":""},null,null,null,null,{"$f":"IF(TRIM(O438)=\"\", \"\", IF(VLOOKUP(O438,'Footnotes list'!$B$5:$C$103,2,FALSE)=0,\"\",VLOOKUP(O438,'Footnotes list'!$B$5:$C$103,2,FALSE) ) )","v":""}]
["DSP_L","UKI",null,"UKI","    LONDON",null,null,null,null,null,{"$f":"IF(TRIM(J439)=\"\", \"\", IF(VLOOKUP(J439,'Footnotes list'!$B$5:$C$103,2,FALSE)=0,\"\",VLOOKUP(J439,'Footnotes list'!$B$5:$C$103,2,FALSE) ) )","v":""},null,null,null,null,{"$f":"IF(TRIM(O439)=\"\", \"\", IF(VLOOKUP(O439,'Footnotes list'!$B$5:$C$103,2,FALSE)=0,\"\",VLOOKUP(O439,'Footnotes list'!$B$5:$C$103,2,FALSE) ) )","v":""}]
["DSP_L","UKI3",null,"UKI3","        Inner London — West",null,null,null,null,null,{"$f":"IF(TRIM(J440)=\"\", \"\", IF(VLOOKUP(J440,'Footnotes list'!$B$5:$C$103,2,FALSE)=0,\"\",VLOOKUP(J440,'Footnotes list'!$B$5:$C$103,2,FALSE) ) )","v":""},null,null,null,null,{"$f":"IF(TRIM(O440)=\"\", \"\", IF(VLOOKUP(O440,'Footnotes list'!$B$5:$C$103,2,FALSE)=0,\"\",VLOOKUP(O440,'Footnotes list'!$B$5:$C$103,2,FALSE) ) )","v":""}]
["DSP_L","UKI4",null,"UKI4","        Inner London — East",null,null,null,null,null,{"$f":"IF(TRIM(J441)=\"\", \"\", IF(VLOOKUP(J441,'Footnotes list'!$B$5:$C$103,2,FALSE)=0,\"\",VLOOKUP(J441,'Footnotes list'!$B$5:$C$103,2,FALSE) ) )","v":""},null,null,null,null,{"$f":"IF(TRIM(O441)=\"\", \"\", IF(VLOOKUP(O441,'Footnotes list'!$B$5:$C$103,2,FALSE)=0,\"\",VLOOKUP(O441,'Footnotes list'!$B$5:$C$103,2,FALSE) ) )","v":""}]
["DSP_L","UKI5",null,"UKI5","        Outer London — East and North East",null,null,null,null,null,{"$f":"IF(TRIM(J442)=\"\", \"\", IF(VLOOKUP(J442,'Footnotes list'!$B$5:$C$103,2,FALSE)=0,\"\",VLOOKUP(J442,'Footnotes list'!$B$5:$C$103,2,FALSE) ) )","v":""},null,null,null,null,{"$f":"IF(TRIM(O442)=\"\", \"\", IF(VLOOKUP(O442,'Footnotes list'!$B$5:$C$103,2,FALSE)=0,\"\",VLOOKUP(O442,'Footnotes list'!$B$5:$C$103,2,FALSE) ) )","v":""}]
["DSP_L","UKI6",null,"UKI6","        Outer London — South",null,null,null,null,null,{"$f":"IF(TRIM(J443)=\"\", \"\", IF(VLOOKUP(J443,'Footnotes list'!$B$5:$C$103,2,FALSE)=0,\"\",VLOOKUP(J443,'Footnotes list'!$B$5:$C$103,2,FALSE) ) )","v":""},null,null,null,null,{"$f":"IF(TRIM(O443)=\"\", \"\", IF(VLOOKUP(O443,'Footnotes list'!$B$5:$C$103,2,FALSE)=0,\"\",VLOOKUP(O443,'Footnotes list'!$B$5:$C$103,2,FALSE) ) )","v":""}]
["DSP_L","UKI7",null,"UKI7","        Outer London — West and North West",null,null,null,null,null,{"$f":"IF(TRIM(J444)=\"\", \"\", IF(VLOOKUP(J444,'Footnotes list'!$B$5:$C$103,2,FALSE)=0,\"\",VLOOKUP(J444,'Footnotes list'!$B$5:$C$103,2,FALSE) ) )","v":""},null,null,null,null,{"$f":"IF(TRIM(O444)=\"\", \"\", IF(VLOOKUP(O444,'Footnotes list'!$B$5:$C$103,2,FALSE)=0,\"\",VLOOKUP(O444,'Footnotes list'!$B$5:$C$103,2,FALSE) ) )","v":""}]
["DSP_L","UKJ",null,"UKJ","    SOUTH EAST (ENGLAND)",null,null,null,null,null,{"$f":"IF(TRIM(J445)=\"\", \"\", IF(VLOOKUP(J445,'Footnotes list'!$B$5:$C$103,2,FALSE)=0,\"\",VLOOKUP(J445,'Footnotes list'!$B$5:$C$103,2,FALSE) ) )","v":""},null,null,null,null,{"$f":"IF(TRIM(O445)=\"\", \"\", IF(VLOOKUP(O445,'Footnotes list'!$B$5:$C$103,2,FALSE)=0,\"\",VLOOKUP(O445,'Footnotes list'!$B$5:$C$103,2,FALSE) ) )","v":""}]
["DSP_L","UKJ1",null,"UKJ1","        Berkshire, Buckinghamshire and Oxfordshire",null,null,null,null,null,{"$f":"IF(TRIM(J446)=\"\", \"\", IF(VLOOKUP(J446,'Footnotes list'!$B$5:$C$103,2,FALSE)=0,\"\",VLOOKUP(J446,'Footnotes list'!$B$5:$C$103,2,FALSE) ) )","v":""},null,null,null,null,{"$f":"IF(TRIM(O446)=\"\", \"\", IF(VLOOKUP(O446,'Footnotes list'!$B$5:$C$103,2,FALSE)=0,\"\",VLOOKUP(O446,'Footnotes list'!$B$5:$C$103,2,FALSE) ) )","v":""}]
["DSP_L","UKJ2",null,"UKJ2","        Surrey, East and West Sussex",null,null,null,null,null,{"$f":"IF(TRIM(J447)=\"\", \"\", IF(VLOOKUP(J447,'Footnotes list'!$B$5:$C$103,2,FALSE)=0,\"\",VLOOKUP(J447,'Footnotes list'!$B$5:$C$103,2,FALSE) ) )","v":""},null,null,null,null,{"$f":"IF(TRIM(O447)=\"\", \"\", IF(VLOOKUP(O447,'Footnotes list'!$B$5:$C$103,2,FALSE)=0,\"\",VLOOKUP(O447,'Footnotes list'!$B$5:$C$103,2,FALSE) ) )","v":""}]
["DSP_L","UKJ3",null,"UKJ3","        Hampshire and Isle of Wight",null,null,null,null,null,{"$f":"IF(TRIM(J448)=\"\", \"\", IF(VLOOKUP(J448,'Footnotes list'!$B$5:$C$103,2,FALSE)=0,\"\",VLOOKUP(J448,'Footnotes list'!$B$5:$C$103,2,FALSE) ) )","v":""},null,null,null,null,{"$f":"IF(TRIM(O448)=\"\", \"\", IF(VLOOKUP(O448,'Footnotes list'!$B$5:$C$103,2,FALSE)=0,\"\",VLOOKUP(O448,'Footnotes list'!$B$5:$C$103,2,FALSE) ) )","v":""}]
["DSP_L","UKJ4",null,"UKJ4","        Kent",null,null,null,null,null,{"$f":"IF(TRIM(J449)=\"\", \"\", IF(VLOOKUP(J449,'Footnotes list'!$B$5:$C$103,2,FALSE)=0,\"\",VLOOKUP(J449,'Footnotes list'!$B$5:$C$103,2,FALSE) ) )","v":""},null,null,null,null,{"$f":"IF(TRIM(O449)=\"\", \"\", IF(VLOOKUP(O449,'Footnotes list'!$B$5:$C$103,2,FALSE)=0,\"\",VLOOKUP(O449,'Footnotes list'!$B$5:$C$103,2,FALSE) ) )","v":""}]
["DSP_L","UKK",null,"UKK","    SOUTH WEST (ENGLAND)",null,null,null,null,null,{"$f":"IF(TRIM(J450)=\"\", \"\", IF(VLOOKUP(J450,'Footnotes list'!$B$5:$C$103,2,FALSE)=0,\"\",VLOOKUP(J450,'Footnotes list'!$B$5:$C$103,2,FALSE) ) )","v":""},null,null,null,null,{"$f":"IF(TRIM(O450)=\"\", \"\", IF(VLOOKUP(O450,'Footnotes list'!$B$5:$C$103,2,FALSE)=0,\"\",VLOOKUP(O450,'Footnotes list'!$B$5:$C$103,2,FALSE) ) )","v":""}]
["DSP_L","UKK1",null,"UKK1","        Gloucestershire, Wiltshire and Bristol/Bath area",null,null,null,null,null,{"$f":"IF(TRIM(J451)=\"\", \"\", IF(VLOOKUP(J451,'Footnotes list'!$B$5:$C$103,2,FALSE)=0,\"\",VLOOKUP(J451,'Footnotes list'!$B$5:$C$103,2,FALSE) ) )","v":""},null,null,null,null,{"$f":"IF(TRIM(O451)=\"\", \"\", IF(VLOOKUP(O451,'Footnotes list'!$B$5:$C$103,2,FALSE)=0,\"\",VLOOKUP(O451,'Footnotes list'!$B$5:$C$103,2,FALSE) ) )","v":""}]
["DSP_L","UKK2",null,"UKK2","        Dorset and Somerset",null,null,null,null,null,{"$f":"IF(TRIM(J452)=\"\", \"\", IF(VLOOKUP(J452,'Footnotes list'!$B$5:$C$103,2,FALSE)=0,\"\",VLOOKUP(J452,'Footnotes list'!$B$5:$C$103,2,FALSE) ) )","v":""},null,null,null,null,{"$f":"IF(TRIM(O452)=\"\", \"\", IF(VLOOKUP(O452,'Footnotes list'!$B$5:$C$103,2,FALSE)=0,\"\",VLOOKUP(O452,'Footnotes list'!$B$5:$C$103,2,FALSE) ) )","v":""}]
["DSP_L","UKK3",null,"UKK3","        Cornwall and Isles of Scilly",null,null,null,null,null,{"$f":"IF(TRIM(J453)=\"\", \"\", IF(VLOOKUP(J453,'Footnotes list'!$B$5:$C$103,2,FALSE)=0,\"\",VLOOKUP(J453,'Footnotes list'!$B$5:$C$103,2,FALSE) ) )","v":""},null,null,null,null,{"$f":"IF(TRIM(O453)=\"\", \"\", IF(VLOOKUP(O453,'Footnotes list'!$B$5:$C$103,2,FALSE)=0,\"\",VLOOKUP(O453,'Footnotes list'!$B$5:$C$103,2,FALSE) ) )","v":""}]
["DSP_L","UKK4",null,"UKK4","        Devon",null,null,null,null,null,{"$f":"IF(TRIM(J454)=\"\", \"\", IF(VLOOKUP(J454,'Footnotes list'!$B$5:$C$103,2,FALSE)=0,\"\",VLOOKUP(J454,'Footnotes list'!$B$5:$C$103,2,FALSE) ) )","v":""},null,null,null,null,{"$f":"IF(TRIM(O454)=\"\", \"\", IF(VLOOKUP(O454,'Footnotes list'!$B$5:$C$103,2,FALSE)=0,\"\",VLOOKUP(O454,'Footnotes list'!$B$5:$C$103,2,FALSE) ) )","v":""}]
["DSP_L","UKL",null,"UKL","    WALES",null,null,null,null,null,{"$f":"IF(TRIM(J455)=\"\", \"\", IF(VLOOKUP(J455,'Footnotes list'!$B$5:$C$103,2,FALSE)=0,\"\",VLOOKUP(J455,'Footnotes list'!$B$5:$C$103,2,FALSE) ) )","v":""},null,null,null,null,{"$f":"IF(TRIM(O455)=\"\", \"\", IF(VLOOKUP(O455,'Footnotes list'!$B$5:$C$103,2,FALSE)=0,\"\",VLOOKUP(O455,'Footnotes list'!$B$5:$C$103,2,FALSE) ) )","v":""}]
["DSP_L","UKL1",null,"UKL1","        West Wales and The Valleys",null,null,null,null,null,{"$f":"IF(TRIM(J456)=\"\", \"\", IF(VLOOKUP(J456,'Footnotes list'!$B$5:$C$103,2,FALSE)=0,\"\",VLOOKUP(J456,'Footnotes list'!$B$5:$C$103,2,FALSE) ) )","v":""},null,null,null,null,{"$f":"IF(TRIM(O456)=\"\", \"\", IF(VLOOKUP(O456,'Footnotes list'!$B$5:$C$103,2,FALSE)=0,\"\",VLOOKUP(O456,'Footnotes list'!$B$5:$C$103,2,FALSE) ) )","v":""}]
["DSP_L","UKL2",null,"UKL2","        East Wales",null,null,null,null,null,{"$f":"IF(TRIM(J457)=\"\", \"\", IF(VLOOKUP(J457,'Footnotes list'!$B$5:$C$103,2,FALSE)=0,\"\",VLOOKUP(J457,'Footnotes list'!$B$5:$C$103,2,FALSE) ) )","v":""},null,null,null,null,{"$f":"IF(TRIM(O457)=\"\", \"\", IF(VLOOKUP(O457,'Footnotes list'!$B$5:$C$103,2,FALSE)=0,\"\",VLOOKUP(O457,'Footnotes list'!$B$5:$C$103,2,FALSE) ) )","v":""}]
["DSP_L","UKM",null,"UKM","    SCOTLAND",null,null,null,null,null,{"$f":"IF(TRIM(J458)=\"\", \"\", IF(VLOOKUP(J458,'Footnotes list'!$B$5:$C$103,2,FALSE)=0,\"\",VLOOKUP(J458,'Footnotes list'!$B$5:$C$103,2,FALSE) ) )","v":""},null,null,null,null,{"$f":"IF(TRIM(O458)=\"\", \"\", IF(VLOOKUP(O458,'Footnotes list'!$B$5:$C$103,2,FALSE)=0,\"\",VLOOKUP(O458,'Footnotes list'!$B$5:$C$103,2,FALSE) ) )","v":""}]
["DSP_L","UKM5",null,"UKM5","        North Eastern Scotland",null,null,null,null,null,{"$f":"IF(TRIM(J459)=\"\", \"\", IF(VLOOKUP(J459,'Footnotes list'!$B$5:$C$103,2,FALSE)=0,\"\",VLOOKUP(J459,'Footnotes list'!$B$5:$C$103,2,FALSE) ) )","v":""},null,null,null,null,{"$f":"IF(TRIM(O459)=\"\", \"\", IF(VLOOKUP(O459,'Footnotes list'!$B$5:$C$103,2,FALSE)=0,\"\",VLOOKUP(O459,'Footnotes list'!$B$5:$C$103,2,FALSE) ) )","v":""}]
["DSP_L","UKM6",null,"UKM6","        Highlands and Islands",null,null,null,null,null,{"$f":"IF(TRIM(J460)=\"\", \"\", IF(VLOOKUP(J460,'Footnotes list'!$B$5:$C$103,2,FALSE)=0,\"\",VLOOKUP(J460,'Footnotes list'!$B$5:$C$103,2,FALSE) ) )","v":""},null,null,null,null,{"$f":"IF(TRIM(O460)=\"\", \"\", IF(VLOOKUP(O460,'Footnotes list'!$B$5:$C$103,2,FALSE)=0,\"\",VLOOKUP(O460,'Footnotes list'!$B$5:$C$103,2,FALSE) ) )","v":""}]
["DSP_L","UKM7",null,"UKM7","        Eastern Scotland",null,null,null,null,null,{"$f":"IF(TRIM(J461)=\"\", \"\", IF(VLOOKUP(J461,'Footnotes list'!$B$5:$C$103,2,FALSE)=0,\"\",VLOOKUP(J461,'Footnotes list'!$B$5:$C$103,2,FALSE) ) )","v":""},null,null,null,null,{"$f":"IF(TRIM(O461)=\"\", \"\", IF(VLOOKUP(O461,'Footnotes list'!$B$5:$C$103,2,FALSE)=0,\"\",VLOOKUP(O461,'Footnotes list'!$B$5:$C$103,2,FALSE) ) )","v":""}]
["DSP_L","UKM8",null,"UKM8","        West Central Scotland",null,null,null,null,null,{"$f":"IF(TRIM(J462)=\"\", \"\", IF(VLOOKUP(J462,'Footnotes list'!$B$5:$C$103,2,FALSE)=0,\"\",VLOOKUP(J462,'Footnotes list'!$B$5:$C$103,2,FALSE) ) )","v":""},null,null,null,null,{"$f":"IF(TRIM(O462)=\"\", \"\", IF(VLOOKUP(O462,'Footnotes list'!$B$5:$C$103,2,FALSE)=0,\"\",VLOOKUP(O462,'Footnotes list'!$B$5:$C$103,2,FALSE) ) )","v":""}]
["DSP_L","UKM9",null,"UKM9","        Southern Scotland",null,null,null,null,null,{"$f":"IF(TRIM(J463)=\"\", \"\", IF(VLOOKUP(J463,'Footnotes list'!$B$5:$C$103,2,FALSE)=0,\"\",VLOOKUP(J463,'Footnotes list'!$B$5:$C$103,2,FALSE) ) )","v":""},null,null,null,null,{"$f":"IF(TRIM(O463)=\"\", \"\", IF(VLOOKUP(O463,'Footnotes list'!$B$5:$C$103,2,FALSE)=0,\"\",VLOOKUP(O463,'Footnotes list'!$B$5:$C$103,2,FALSE) ) )","v":""}]
["DSP_L","UKN",null,"UKN","    NORTHERN IRELAND",null,null,null,null,null,{"$f":"IF(TRIM(J464)=\"\", \"\", IF(VLOOKUP(J464,'Footnotes list'!$B$5:$C$103,2,FALSE)=0,\"\",VLOOKUP(J464,'Footnotes list'!$B$5:$C$103,2,FALSE) ) )","v":""},null,null,null,null,{"$f":"IF(TRIM(O464)=\"\", \"\", IF(VLOOKUP(O464,'Footnotes list'!$B$5:$C$103,2,FALSE)=0,\"\",VLOOKUP(O464,'Footnotes list'!$B$5:$C$103,2,FALSE) ) )","v":""}]
["DSP_LIN","IS",null,"IS","ICELAND","Inert waste",null,null,null,null,{"$f":"IF(TRIM(J465)=\"\", \"\", IF(VLOOKUP(J465,'Footnotes list'!$B$5:$C$103,2,FALSE)=0,\"\",VLOOKUP(J465,'Footnotes list'!$B$5:$C$103,2,FALSE) ) )","v":""},null,null,null,null,{"$f":"IF(TRIM(O465)=\"\", \"\", IF(VLOOKUP(O465,'Footnotes list'!$B$5:$C$103,2,FALSE)=0,\"\",VLOOKUP(O465,'Footnotes list'!$B$5:$C$103,2,FALSE) ) )","v":""},null,null,null,null,{"$f":"IF(TRIM(T465)=\"\", \"\", IF(VLOOKUP(T465,'Footnotes list'!$B$5:$C$103,2,FALSE)=0,\"\",VLOOKUP(T465,'Footnotes list'!$B$5:$C$103,2,FALSE) ) )","v":""}]
["DSP_LNH",{"$f":"B465","v":"IS"},null,{"$f":"D465","v":"IS"},null,"Non-hazardous waste",null,null,null,null,{"$f":"IF(TRIM(J466)=\"\", \"\", IF(VLOOKUP(J466,'Footnotes list'!$B$5:$C$103,2,FALSE)=0,\"\",VLOOKUP(J466,'Footnotes list'!$B$5:$C$103,2,FALSE) ) )","v":""},null,null,null,null,{"$f":"IF(TRIM(O466)=\"\", \"\", IF(VLOOKUP(O466,'Footnotes list'!$B$5:$C$103,2,FALSE)=0,\"\",VLOOKUP(O466,'Footnotes list'!$B$5:$C$103,2,FALSE) ) )","v":""},null,null,null,null,{"$f":"IF(TRIM(T466)=\"\", \"\", IF(VLOOKUP(T466,'Footnotes list'!$B$5:$C$103,2,FALSE)=0,\"\",VLOOKUP(T466,'Footnotes list'!$B$5:$C$103,2,FALSE) ) )","v":""}]
["DSP_LH",{"$f":"B465","v":"IS"},null,{"$f":"D465","v":"IS"},null,"Hazardous waste",null,null,null,null,{"$f":"IF(TRIM(J467)=\"\", \"\", IF(VLOOKUP(J467,'Footnotes list'!$B$5:$C$103,2,FALSE)=0,\"\",VLOOKUP(J467,'Footnotes list'!$B$5:$C$103,2,FALSE) ) )","v":""},null,null,null,null,{"$f":"IF(TRIM(O467)=\"\", \"\", IF(VLOOKUP(O467,'Footnotes list'!$B$5:$C$103,2,FALSE)=0,\"\",VLOOKUP(O467,'Footnotes list'!$B$5:$C$103,2,FALSE) ) )","v":""},null,null,null,null,{"$f":"IF(TRIM(T467)=\"\", \"\", IF(VLOOKUP(T467,'Footnotes list'!$B$5:$C$103,2,FALSE)=0,\"\",VLOOKUP(T467,'Footnotes list'!$B$5:$C$103,2,FALSE) ) )","v":""}]
["DSP_L",{"$f":"B465","v":"IS"},null,{"$f":"D465","v":"IS"},null,"Total",{"$f":"IF(AND(TRIM(G465)=\"\",TRIM(G466)=\"\",TRIM(G467)=\"\"),\"\",G465+G466+G467)","v":""},null,null,null,{"$f":"IF(TRIM(J468)=\"\", \"\", IF(VLOOKUP(J468,'Footnotes list'!$B$5:$C$103,2,FALSE)=0,\"\",VLOOKUP(J468,'Footnotes list'!$B$5:$C$103,2,FALSE) ) )","v":""},{"$f":"IF(AND(TRIM(L465)=\"\",TRIM(L466)=\"\",TRIM(L467)=\"\"),\"\",L465+L466+L467)","v":""},null,null,null,{"$f":"IF(TRIM(O468)=\"\", \"\", IF(VLOOKUP(O468,'Footnotes list'!$B$5:$C$103,2,FALSE)=0,\"\",VLOOKUP(O468,'Footnotes list'!$B$5:$C$103,2,FALSE) ) )","v":""},null,null,null,null,{"$f":"IF(TRIM(T468)=\"\", \"\", IF(VLOOKUP(T468,'Footnotes list'!$B$5:$C$103,2,FALSE)=0,\"\",VLOOKUP(T468,'Footnotes list'!$B$5:$C$103,2,FALSE) ) )","v":""}]
["DSP_LIN","LI",null,"LI","LIECHTENSTEIN","Inert waste",null,null,null,null,{"$f":"IF(TRIM(J469)=\"\", \"\", IF(VLOOKUP(J469,'Footnotes list'!$B$5:$C$103,2,FALSE)=0,\"\",VLOOKUP(J469,'Footnotes list'!$B$5:$C$103,2,FALSE) ) )","v":""},null,null,null,null,{"$f":"IF(TRIM(O469)=\"\", \"\", IF(VLOOKUP(O469,'Footnotes list'!$B$5:$C$103,2,FALSE)=0,\"\",VLOOKUP(O469,'Footnotes list'!$B$5:$C$103,2,FALSE) ) )","v":""},null,null,null,null,{"$f":"IF(TRIM(T469)=\"\", \"\", IF(VLOOKUP(T469,'Footnotes list'!$B$5:$C$103,2,FALSE)=0,\"\",VLOOKUP(T469,'Footnotes list'!$B$5:$C$103,2,FALSE) ) )","v":""}]
["DSP_LNH",{"$f":"B469","v":"LI"},null,{"$f":"D469","v":"LI"},null,"Non-hazardous waste",null,null,null,null,{"$f":"IF(TRIM(J470)=\"\", \"\", IF(VLOOKUP(J470,'Footnotes list'!$B$5:$C$103,2,FALSE)=0,\"\",VLOOKUP(J470,'Footnotes list'!$B$5:$C$103,2,FALSE) ) )","v":""},null,null,null,null,{"$f":"IF(TRIM(O470)=\"\", \"\", IF(VLOOKUP(O470,'Footnotes list'!$B$5:$C$103,2,FALSE)=0,\"\",VLOOKUP(O470,'Footnotes list'!$B$5:$C$103,2,FALSE) ) )","v":""},null,null,null,null,{"$f":"IF(TRIM(T470)=\"\", \"\", IF(VLOOKUP(T470,'Footnotes list'!$B$5:$C$103,2,FALSE)=0,\"\",VLOOKUP(T470,'Footnotes list'!$B$5:$C$103,2,FALSE) ) )","v":""}]
["DSP_LH",{"$f":"B469","v":"LI"},null,{"$f":"D469","v":"LI"},null,"Hazardous waste",null,null,null,null,{"$f":"IF(TRIM(J471)=\"\", \"\", IF(VLOOKUP(J471,'Footnotes list'!$B$5:$C$103,2,FALSE)=0,\"\",VLOOKUP(J471,'Footnotes list'!$B$5:$C$103,2,FALSE) ) )","v":""},null,null,null,null,{"$f":"IF(TRIM(O471)=\"\", \"\", IF(VLOOKUP(O471,'Footnotes list'!$B$5:$C$103,2,FALSE)=0,\"\",VLOOKUP(O471,'Footnotes list'!$B$5:$C$103,2,FALSE) ) )","v":""},null,null,null,null,{"$f":"IF(TRIM(T471)=\"\", \"\", IF(VLOOKUP(T471,'Footnotes list'!$B$5:$C$103,2,FALSE)=0,\"\",VLOOKUP(T471,'Footnotes list'!$B$5:$C$103,2,FALSE) ) )","v":""}]
["DSP_L",{"$f":"B469","v":"LI"},null,{"$f":"D469","v":"LI"},null,"Total",{"$f":"IF(AND(TRIM(G469)=\"\",TRIM(G470)=\"\",TRIM(G471)=\"\"),\"\",G469+G470+G471)","v":""},null,null,null,{"$f":"IF(TRIM(J472)=\"\", \"\", IF(VLOOKUP(J472,'Footnotes list'!$B$5:$C$103,2,FALSE)=0,\"\",VLOOKUP(J472,'Footnotes list'!$B$5:$C$103,2,FALSE) ) )","v":""},{"$f":"IF(AND(TRIM(L469)=\"\",TRIM(L470)=\"\",TRIM(L471)=\"\"),\"\",L469+L470+L471)","v":""},null,null,null,{"$f":"IF(TRIM(O472)=\"\", \"\", IF(VLOOKUP(O472,'Footnotes list'!$B$5:$C$103,2,FALSE)=0,\"\",VLOOKUP(O472,'Footnotes list'!$B$5:$C$103,2,FALSE) ) )","v":""},null,null,null,null,{"$f":"IF(TRIM(T472)=\"\", \"\", IF(VLOOKUP(T472,'Footnotes list'!$B$5:$C$103,2,FALSE)=0,\"\",VLOOKUP(T472,'Footnotes list'!$B$5:$C$103,2,FALSE) ) )","v":""}]
["DSP_LIN","NO",null,"NO","NORWAY","Inert waste",null,null,null,null,{"$f":"IF(TRIM(J473)=\"\", \"\", IF(VLOOKUP(J473,'Footnotes list'!$B$5:$C$103,2,FALSE)=0,\"\",VLOOKUP(J473,'Footnotes list'!$B$5:$C$103,2,FALSE) ) )","v":""},null,null,null,null,{"$f":"IF(TRIM(O473)=\"\", \"\", IF(VLOOKUP(O473,'Footnotes list'!$B$5:$C$103,2,FALSE)=0,\"\",VLOOKUP(O473,'Footnotes list'!$B$5:$C$103,2,FALSE) ) )","v":""},null,null,null,null,{"$f":"IF(TRIM(T473)=\"\", \"\", IF(VLOOKUP(T473,'Footnotes list'!$B$5:$C$103,2,FALSE)=0,\"\",VLOOKUP(T473,'Footnotes list'!$B$5:$C$103,2,FALSE) ) )","v":""}]
["DSP_LNH",{"$f":"B473","v":"NO"},null,{"$f":"D473","v":"NO"},null,"Non-hazardous waste",null,null,null,null,{"$f":"IF(TRIM(J474)=\"\", \"\", IF(VLOOKUP(J474,'Footnotes list'!$B$5:$C$103,2,FALSE)=0,\"\",VLOOKUP(J474,'Footnotes list'!$B$5:$C$103,2,FALSE) ) )","v":""},null,null,null,null,{"$f":"IF(TRIM(O474)=\"\", \"\", IF(VLOOKUP(O474,'Footnotes list'!$B$5:$C$103,2,FALSE)=0,\"\",VLOOKUP(O474,'Footnotes list'!$B$5:$C$103,2,FALSE) ) )","v":""},null,null,null,null,{"$f":"IF(TRIM(T474)=\"\", \"\", IF(VLOOKUP(T474,'Footnotes list'!$B$5:$C$103,2,FALSE)=0,\"\",VLOOKUP(T474,'Footnotes list'!$B$5:$C$103,2,FALSE) ) )","v":""}]
["DSP_LH",{"$f":"B473","v":"NO"},null,{"$f":"D473","v":"NO"},null,"Hazardous waste",null,null,null,null,{"$f":"IF(TRIM(J475)=\"\", \"\", IF(VLOOKUP(J475,'Footnotes list'!$B$5:$C$103,2,FALSE)=0,\"\",VLOOKUP(J475,'Footnotes list'!$B$5:$C$103,2,FALSE) ) )","v":""},null,null,null,null,{"$f":"IF(TRIM(O475)=\"\", \"\", IF(VLOOKUP(O475,'Footnotes list'!$B$5:$C$103,2,FALSE)=0,\"\",VLOOKUP(O475,'Footnotes list'!$B$5:$C$103,2,FALSE) ) )","v":""},null,null,null,null,{"$f":"IF(TRIM(T475)=\"\", \"\", IF(VLOOKUP(T475,'Footnotes list'!$B$5:$C$103,2,FALSE)=0,\"\",VLOOKUP(T475,'Footnotes list'!$B$5:$C$103,2,FALSE) ) )","v":""}]
["DSP_L",{"$f":"B473","v":"NO"},null,{"$f":"D473","v":"NO"},null,"Total",{"$f":"IF(AND(TRIM(G473)=\"\",TRIM(G474)=\"\",TRIM(G475)=\"\"),\"\",G473+G474+G475)","v":""},null,null,null,{"$f":"IF(TRIM(J476)=\"\", \"\", IF(VLOOKUP(J476,'Footnotes list'!$B$5:$C$103,2,FALSE)=0,\"\",VLOOKUP(J476,'Footnotes list'!$B$5:$C$103,2,FALSE) ) )","v":""},{"$f":"IF(AND(TRIM(L473)=\"\",TRIM(L474)=\"\",TRIM(L475)=\"\"),\"\",L473+L474+L475)","v":""},null,null,null,{"$f":"IF(TRIM(O476)=\"\", \"\", IF(VLOOKUP(O476,'Footnotes list'!$B$5:$C$103,2,FALSE)=0,\"\",VLOOKUP(O476,'Footnotes list'!$B$5:$C$103,2,FALSE) ) )","v":""},null,null,null,null,{"$f":"IF(TRIM(T476)=\"\", \"\", IF(VLOOKUP(T476,'Footnotes list'!$B$5:$C$103,2,FALSE)=0,\"\",VLOOKUP(T476,'Footnotes list'!$B$5:$C$103,2,FALSE) ) )","v":""}]
["DSP_L","NO01",null,"NO01","    Oslo og Akershus","Total",null,null,null,null,{"$f":"IF(TRIM(J477)=\"\", \"\", IF(VLOOKUP(J477,'Footnotes list'!$B$5:$C$103,2,FALSE)=0,\"\",VLOOKUP(J477,'Footnotes list'!$B$5:$C$103,2,FALSE) ) )","v":""},null,null,null,null,{"$f":"IF(TRIM(O477)=\"\", \"\", IF(VLOOKUP(O477,'Footnotes list'!$B$5:$C$103,2,FALSE)=0,\"\",VLOOKUP(O477,'Footnotes list'!$B$5:$C$103,2,FALSE) ) )","v":""}]
["DSP_L","NO02",null,"NO02","    Hedmark og Oppland",null,null,null,null,null,{"$f":"IF(TRIM(J478)=\"\", \"\", IF(VLOOKUP(J478,'Footnotes list'!$B$5:$C$103,2,FALSE)=0,\"\",VLOOKUP(J478,'Footnotes list'!$B$5:$C$103,2,FALSE) ) )","v":""},null,null,null,null,{"$f":"IF(TRIM(O478)=\"\", \"\", IF(VLOOKUP(O478,'Footnotes list'!$B$5:$C$103,2,FALSE)=0,\"\",VLOOKUP(O478,'Footnotes list'!$B$5:$C$103,2,FALSE) ) )","v":""}]
["DSP_L","NO03",null,"NO03","    Sør-Østlandet",null,null,null,null,null,{"$f":"IF(TRIM(J479)=\"\", \"\", IF(VLOOKUP(J479,'Footnotes list'!$B$5:$C$103,2,FALSE)=0,\"\",VLOOKUP(J479,'Footnotes list'!$B$5:$C$103,2,FALSE) ) )","v":""},null,null,null,null,{"$f":"IF(TRIM(O479)=\"\", \"\", IF(VLOOKUP(O479,'Footnotes list'!$B$5:$C$103,2,FALSE)=0,\"\",VLOOKUP(O479,'Footnotes list'!$B$5:$C$103,2,FALSE) ) )","v":""}]
["DSP_L","NO04",null,"NO04","    Agder og Rogaland",null,null,null,null,null,{"$f":"IF(TRIM(J480)=\"\", \"\", IF(VLOOKUP(J480,'Footnotes list'!$B$5:$C$103,2,FALSE)=0,\"\",VLOOKUP(J480,'Footnotes list'!$B$5:$C$103,2,FALSE) ) )","v":""},null,null,null,null,{"$f":"IF(TRIM(O480)=\"\", \"\", IF(VLOOKUP(O480,'Footnotes list'!$B$5:$C$103,2,FALSE)=0,\"\",VLOOKUP(O480,'Footnotes list'!$B$5:$C$103,2,FALSE) ) )","v":""}]
["DSP_L","NO05",null,"NO05","    Vestlandet",null,null,null,null,null,{"$f":"IF(TRIM(J481)=\"\", \"\", IF(VLOOKUP(J481,'Footnotes list'!$B$5:$C$103,2,FALSE)=0,\"\",VLOOKUP(J481,'Footnotes list'!$B$5:$C$103,2,FALSE) ) )","v":""},null,null,null,null,{"$f":"IF(TRIM(O481)=\"\", \"\", IF(VLOOKUP(O481,'Footnotes list'!$B$5:$C$103,2,FALSE)=0,\"\",VLOOKUP(O481,'Footnotes list'!$B$5:$C$103,2,FALSE) ) )","v":""}]
["DSP_L","NO06",null,"NO06","    Trøndelag",null,null,null,null,null,{"$f":"IF(TRIM(J482)=\"\", \"\", IF(VLOOKUP(J482,'Footnotes list'!$B$5:$C$103,2,FALSE)=0,\"\",VLOOKUP(J482,'Footnotes list'!$B$5:$C$103,2,FALSE) ) )","v":""},null,null,null,null,{"$f":"IF(TRIM(O482)=\"\", \"\", IF(VLOOKUP(O482,'Footnotes list'!$B$5:$C$103,2,FALSE)=0,\"\",VLOOKUP(O482,'Footnotes list'!$B$5:$C$103,2,FALSE) ) )","v":""}]
["DSP_L","NO07",null,"NO07","    Nord-Norge",null,null,null,null,null,{"$f":"IF(TRIM(J483)=\"\", \"\", IF(VLOOKUP(J483,'Footnotes list'!$B$5:$C$103,2,FALSE)=0,\"\",VLOOKUP(J483,'Footnotes list'!$B$5:$C$103,2,FALSE) ) )","v":""},null,null,null,null,{"$f":"IF(TRIM(O483)=\"\", \"\", IF(VLOOKUP(O483,'Footnotes list'!$B$5:$C$103,2,FALSE)=0,\"\",VLOOKUP(O483,'Footnotes list'!$B$5:$C$103,2,FALSE) ) )","v":""}]
["DSP_LIN","CH",null,"CH","SWITZERLAND","Inert waste",null,null,null,null,{"$f":"IF(TRIM(J484)=\"\", \"\", IF(VLOOKUP(J484,'Footnotes list'!$B$5:$C$103,2,FALSE)=0,\"\",VLOOKUP(J484,'Footnotes list'!$B$5:$C$103,2,FALSE) ) )","v":""},null,null,null,null,{"$f":"IF(TRIM(O484)=\"\", \"\", IF(VLOOKUP(O484,'Footnotes list'!$B$5:$C$103,2,FALSE)=0,\"\",VLOOKUP(O484,'Footnotes list'!$B$5:$C$103,2,FALSE) ) )","v":""},null,null,null,null,{"$f":"IF(TRIM(T484)=\"\", \"\", IF(VLOOKUP(T484,'Footnotes list'!$B$5:$C$103,2,FALSE)=0,\"\",VLOOKUP(T484,'Footnotes list'!$B$5:$C$103,2,FALSE) ) )","v":""}]
["DSP_LNH",{"$f":"B484","v":"CH"},null,{"$f":"D484","v":"CH"},null,"Non-hazardous waste",null,null,null,null,{"$f":"IF(TRIM(J485)=\"\", \"\", IF(VLOOKUP(J485,'Footnotes list'!$B$5:$C$103,2,FALSE)=0,\"\",VLOOKUP(J485,'Footnotes list'!$B$5:$C$103,2,FALSE) ) )","v":""},null,null,null,null,{"$f":"IF(TRIM(O485)=\"\", \"\", IF(VLOOKUP(O485,'Footnotes list'!$B$5:$C$103,2,FALSE)=0,\"\",VLOOKUP(O485,'Footnotes list'!$B$5:$C$103,2,FALSE) ) )","v":""},null,null,null,null,{"$f":"IF(TRIM(T485)=\"\", \"\", IF(VLOOKUP(T485,'Footnotes list'!$B$5:$C$103,2,FALSE)=0,\"\",VLOOKUP(T485,'Footnotes list'!$B$5:$C$103,2,FALSE) ) )","v":""}]
["DSP_LH",{"$f":"B484","v":"CH"},null,{"$f":"D484","v":"CH"},null,"Hazardous waste",null,null,null,null,{"$f":"IF(TRIM(J486)=\"\", \"\", IF(VLOOKUP(J486,'Footnotes list'!$B$5:$C$103,2,FALSE)=0,\"\",VLOOKUP(J486,'Footnotes list'!$B$5:$C$103,2,FALSE) ) )","v":""},null,null,null,null,{"$f":"IF(TRIM(O486)=\"\", \"\", IF(VLOOKUP(O486,'Footnotes list'!$B$5:$C$103,2,FALSE)=0,\"\",VLOOKUP(O486,'Footnotes list'!$B$5:$C$103,2,FALSE) ) )","v":""},null,null,null,null,{"$f":"IF(TRIM(T486)=\"\", \"\", IF(VLOOKUP(T486,'Footnotes list'!$B$5:$C$103,2,FALSE)=0,\"\",VLOOKUP(T486,'Footnotes list'!$B$5:$C$103,2,FALSE) ) )","v":""}]
["DSP_L",{"$f":"B484","v":"CH"},null,{"$f":"D484","v":"CH"},null,"Total",{"$f":"IF(AND(TRIM(G484)=\"\",TRIM(G485)=\"\",TRIM(G486)=\"\"),\"\",G484+G485+G486)","v":""},null,null,null,{"$f":"IF(TRIM(J487)=\"\", \"\", IF(VLOOKUP(J487,'Footnotes list'!$B$5:$C$103,2,FALSE)=0,\"\",VLOOKUP(J487,'Footnotes list'!$B$5:$C$103,2,FALSE) ) )","v":""},{"$f":"IF(AND(TRIM(L484)=\"\",TRIM(L485)=\"\",TRIM(L486)=\"\"),\"\",L484+L485+L486)","v":""},null,null,null,{"$f":"IF(TRIM(O487)=\"\", \"\", IF(VLOOKUP(O487,'Footnotes list'!$B$5:$C$103,2,FALSE)=0,\"\",VLOOKUP(O487,'Footnotes list'!$B$5:$C$103,2,FALSE) ) )","v":""},null,null,null,null,{"$f":"IF(TRIM(T487)=\"\", \"\", IF(VLOOKUP(T487,'Footnotes list'!$B$5:$C$103,2,FALSE)=0,\"\",VLOOKUP(T487,'Footnotes list'!$B$5:$C$103,2,FALSE) ) )","v":""}]
["DSP_L","CH01",null,"CH01","    Région lémanique","Total",null,null,null,null,{"$f":"IF(TRIM(J488)=\"\", \"\", IF(VLOOKUP(J488,'Footnotes list'!$B$5:$C$103,2,FALSE)=0,\"\",VLOOKUP(J488,'Footnotes list'!$B$5:$C$103,2,FALSE) ) )","v":""},null,null,null,null,{"$f":"IF(TRIM(O488)=\"\", \"\", IF(VLOOKUP(O488,'Footnotes list'!$B$5:$C$103,2,FALSE)=0,\"\",VLOOKUP(O488,'Footnotes list'!$B$5:$C$103,2,FALSE) ) )","v":""}]
["DSP_L","CH02",null,"CH02","    Espace Mittelland",null,null,null,null,null,{"$f":"IF(TRIM(J489)=\"\", \"\", IF(VLOOKUP(J489,'Footnotes list'!$B$5:$C$103,2,FALSE)=0,\"\",VLOOKUP(J489,'Footnotes list'!$B$5:$C$103,2,FALSE) ) )","v":""},null,null,null,null,{"$f":"IF(TRIM(O489)=\"\", \"\", IF(VLOOKUP(O489,'Footnotes list'!$B$5:$C$103,2,FALSE)=0,\"\",VLOOKUP(O489,'Footnotes list'!$B$5:$C$103,2,FALSE) ) )","v":""}]
["DSP_L","CH03",null,"CH03","    Nordwestschweiz",null,null,null,null,null,{"$f":"IF(TRIM(J490)=\"\", \"\", IF(VLOOKUP(J490,'Footnotes list'!$B$5:$C$103,2,FALSE)=0,\"\",VLOOKUP(J490,'Footnotes list'!$B$5:$C$103,2,FALSE) ) )","v":""},null,null,null,null,{"$f":"IF(TRIM(O490)=\"\", \"\", IF(VLOOKUP(O490,'Footnotes list'!$B$5:$C$103,2,FALSE)=0,\"\",VLOOKUP(O490,'Footnotes list'!$B$5:$C$103,2,FALSE) ) )","v":""}]
["DSP_L","CH04",null,"CH04","    Zürich",null,null,null,null,null,{"$f":"IF(TRIM(J491)=\"\", \"\", IF(VLOOKUP(J491,'Footnotes list'!$B$5:$C$103,2,FALSE)=0,\"\",VLOOKUP(J491,'Footnotes list'!$B$5:$C$103,2,FALSE) ) )","v":""},null,null,null,null,{"$f":"IF(TRIM(O491)=\"\", \"\", IF(VLOOKUP(O491,'Footnotes list'!$B$5:$C$103,2,FALSE)=0,\"\",VLOOKUP(O491,'Footnotes list'!$B$5:$C$103,2,FALSE) ) )","v":""}]
["DSP_L","CH05",null,"CH05","    Ostschweiz",null,null,null,null,null,{"$f":"IF(TRIM(J492)=\"\", \"\", IF(VLOOKUP(J492,'Footnotes list'!$B$5:$C$103,2,FALSE)=0,\"\",VLOOKUP(J492,'Footnotes list'!$B$5:$C$103,2,FALSE) ) )","v":""},null,null,null,null,{"$f":"IF(TRIM(O492)=\"\", \"\", IF(VLOOKUP(O492,'Footnotes list'!$B$5:$C$103,2,FALSE)=0,\"\",VLOOKUP(O492,'Footnotes list'!$B$5:$C$103,2,FALSE) ) )","v":""}]
["DSP_L","CH06",null,"CH06","    Zentralschweiz",null,null,null,null,null,{"$f":"IF(TRIM(J493)=\"\", \"\", IF(VLOOKUP(J493,'Footnotes list'!$B$5:$C$103,2,FALSE)=0,\"\",VLOOKUP(J493,'Footnotes list'!$B$5:$C$103,2,FALSE) ) )","v":""},null,null,null,null,{"$f":"IF(TRIM(O493)=\"\", \"\", IF(VLOOKUP(O493,'Footnotes list'!$B$5:$C$103,2,FALSE)=0,\"\",VLOOKUP(O493,'Footnotes list'!$B$5:$C$103,2,FALSE) ) )","v":""}]
["DSP_L","CH07",null,"CH07","    Ticino",null,null,null,null,null,{"$f":"IF(TRIM(J494)=\"\", \"\", IF(VLOOKUP(J494,'Footnotes list'!$B$5:$C$103,2,FALSE)=0,\"\",VLOOKUP(J494,'Footnotes list'!$B$5:$C$103,2,FALSE) ) )","v":""},null,null,null,null,{"$f":"IF(TRIM(O494)=\"\", \"\", IF(VLOOKUP(O494,'Footnotes list'!$B$5:$C$103,2,FALSE)=0,\"\",VLOOKUP(O494,'Footnotes list'!$B$5:$C$103,2,FALSE) ) )","v":""}]
["DSP_LIN","ME",null,"ME","MONTENEGRO","Inert waste",null,null,null,null,{"$f":"IF(TRIM(J495)=\"\", \"\", IF(VLOOKUP(J495,'Footnotes list'!$B$5:$C$103,2,FALSE)=0,\"\",VLOOKUP(J495,'Footnotes list'!$B$5:$C$103,2,FALSE) ) )","v":""},null,null,null,null,{"$f":"IF(TRIM(O495)=\"\", \"\", IF(VLOOKUP(O495,'Footnotes list'!$B$5:$C$103,2,FALSE)=0,\"\",VLOOKUP(O495,'Footnotes list'!$B$5:$C$103,2,FALSE) ) )","v":""},null,null,null,null,{"$f":"IF(TRIM(T495)=\"\", \"\", IF(VLOOKUP(T495,'Footnotes list'!$B$5:$C$103,2,FALSE)=0,\"\",VLOOKUP(T495,'Footnotes list'!$B$5:$C$103,2,FALSE) ) )","v":""}]
["DSP_LNH",{"$f":"B495","v":"ME"},null,{"$f":"D495","v":"ME"},null,"Non-hazardous waste",null,null,null,null,{"$f":"IF(TRIM(J496)=\"\", \"\", IF(VLOOKUP(J496,'Footnotes list'!$B$5:$C$103,2,FALSE)=0,\"\",VLOOKUP(J496,'Footnotes list'!$B$5:$C$103,2,FALSE) ) )","v":""},null,null,null,null,{"$f":"IF(TRIM(O496)=\"\", \"\", IF(VLOOKUP(O496,'Footnotes list'!$B$5:$C$103,2,FALSE)=0,\"\",VLOOKUP(O496,'Footnotes list'!$B$5:$C$103,2,FALSE) ) )","v":""},null,null,null,null,{"$f":"IF(TRIM(T496)=\"\", \"\", IF(VLOOKUP(T496,'Footnotes list'!$B$5:$C$103,2,FALSE)=0,\"\",VLOOKUP(T496,'Footnotes list'!$B$5:$C$103,2,FALSE) ) )","v":""}]
["DSP_LH",{"$f":"B495","v":"ME"},null,{"$f":"D495","v":"ME"},null,"Hazardous waste",null,null,null,null,{"$f":"IF(TRIM(J497)=\"\", \"\", IF(VLOOKUP(J497,'Footnotes list'!$B$5:$C$103,2,FALSE)=0,\"\",VLOOKUP(J497,'Footnotes list'!$B$5:$C$103,2,FALSE) ) )","v":""},null,null,null,null,{"$f":"IF(TRIM(O497)=\"\", \"\", IF(VLOOKUP(O497,'Footnotes list'!$B$5:$C$103,2,FALSE)=0,\"\",VLOOKUP(O497,'Footnotes list'!$B$5:$C$103,2,FALSE) ) )","v":""},null,null,null,null,{"$f":"IF(TRIM(T497)=\"\", \"\", IF(VLOOKUP(T497,'Footnotes list'!$B$5:$C$103,2,FALSE)=0,\"\",VLOOKUP(T497,'Footnotes list'!$B$5:$C$103,2,FALSE) ) )","v":""}]
["DSP_L",{"$f":"B495","v":"ME"},null,{"$f":"D495","v":"ME"},null,"Total",{"$f":"IF(AND(TRIM(G495)=\"\",TRIM(G496)=\"\",TRIM(G497)=\"\"),\"\",G495+G496+G497)","v":""},null,null,null,{"$f":"IF(TRIM(J498)=\"\", \"\", IF(VLOOKUP(J498,'Footnotes list'!$B$5:$C$103,2,FALSE)=0,\"\",VLOOKUP(J498,'Footnotes list'!$B$5:$C$103,2,FALSE) ) )","v":""},{"$f":"IF(AND(TRIM(L495)=\"\",TRIM(L496)=\"\",TRIM(L497)=\"\"),\"\",L495+L496+L497)","v":""},null,null,null,{"$f":"IF(TRIM(O498)=\"\", \"\", IF(VLOOKUP(O498,'Footnotes list'!$B$5:$C$103,2,FALSE)=0,\"\",VLOOKUP(O498,'Footnotes list'!$B$5:$C$103,2,FALSE) ) )","v":""},null,null,null,null,{"$f":"IF(TRIM(T498)=\"\", \"\", IF(VLOOKUP(T498,'Footnotes list'!$B$5:$C$103,2,FALSE)=0,\"\",VLOOKUP(T498,'Footnotes list'!$B$5:$C$103,2,FALSE) ) )","v":""}]
["DSP_LIN","MK",null,"MK","NORTH MACEDONIA","Inert waste",null,null,null,null,{"$f":"IF(TRIM(J499)=\"\", \"\", IF(VLOOKUP(J499,'Footnotes list'!$B$5:$C$103,2,FALSE)=0,\"\",VLOOKUP(J499,'Footnotes list'!$B$5:$C$103,2,FALSE) ) )","v":""},null,null,null,null,{"$f":"IF(TRIM(O499)=\"\", \"\", IF(VLOOKUP(O499,'Footnotes list'!$B$5:$C$103,2,FALSE)=0,\"\",VLOOKUP(O499,'Footnotes list'!$B$5:$C$103,2,FALSE) ) )","v":""},null,null,null,null,{"$f":"IF(TRIM(T499)=\"\", \"\", IF(VLOOKUP(T499,'Footnotes list'!$B$5:$C$103,2,FALSE)=0,\"\",VLOOKUP(T499,'Footnotes list'!$B$5:$C$103,2,FALSE) ) )","v":""}]
["DSP_LNH",{"$f":"B499","v":"MK"},null,{"$f":"D499","v":"MK"},null,"Non-hazardous waste",null,null,null,null,{"$f":"IF(TRIM(J500)=\"\", \"\", IF(VLOOKUP(J500,'Footnotes list'!$B$5:$C$103,2,FALSE)=0,\"\",VLOOKUP(J500,'Footnotes list'!$B$5:$C$103,2,FALSE) ) )","v":""},null,null,null,null,{"$f":"IF(TRIM(O500)=\"\", \"\", IF(VLOOKUP(O500,'Footnotes list'!$B$5:$C$103,2,FALSE)=0,\"\",VLOOKUP(O500,'Footnotes list'!$B$5:$C$103,2,FALSE) ) )","v":""},null,null,null,null,{"$f":"IF(TRIM(T500)=\"\", \"\", IF(VLOOKUP(T500,'Footnotes list'!$B$5:$C$103,2,FALSE)=0,\"\",VLOOKUP(T500,'Footnotes list'!$B$5:$C$103,2,FALSE) ) )","v":""}]
["DSP_LH",{"$f":"B499","v":"MK"},null,{"$f":"D499","v":"MK"},null,"Hazardous waste",null,null,null,null,{"$f":"IF(TRIM(J501)=\"\", \"\", IF(VLOOKUP(J501,'Footnotes list'!$B$5:$C$103,2,FALSE)=0,\"\",VLOOKUP(J501,'Footnotes list'!$B$5:$C$103,2,FALSE) ) )","v":""},null,null,null,null,{"$f":"IF(TRIM(O501)=\"\", \"\", IF(VLOOKUP(O501,'Footnotes list'!$B$5:$C$103,2,FALSE)=0,\"\",VLOOKUP(O501,'Footnotes list'!$B$5:$C$103,2,FALSE) ) )","v":""},null,null,null,null,{"$f":"IF(TRIM(T501)=\"\", \"\", IF(VLOOKUP(T501,'Footnotes list'!$B$5:$C$103,2,FALSE)=0,\"\",VLOOKUP(T501,'Footnotes list'!$B$5:$C$103,2,FALSE) ) )","v":""}]
["DSP_L",{"$f":"B499","v":"MK"},null,{"$f":"D499","v":"MK"},null,"Total",{"$f":"IF(AND(TRIM(G499)=\"\",TRIM(G500)=\"\",TRIM(G501)=\"\"),\"\",G499+G500+G501)","v":""},null,null,null,{"$f":"IF(TRIM(J502)=\"\", \"\", IF(VLOOKUP(J502,'Footnotes list'!$B$5:$C$103,2,FALSE)=0,\"\",VLOOKUP(J502,'Footnotes list'!$B$5:$C$103,2,FALSE) ) )","v":""},{"$f":"IF(AND(TRIM(L499)=\"\",TRIM(L500)=\"\",TRIM(L501)=\"\"),\"\",L499+L500+L501)","v":""},null,null,null,{"$f":"IF(TRIM(O502)=\"\", \"\", IF(VLOOKUP(O502,'Footnotes list'!$B$5:$C$103,2,FALSE)=0,\"\",VLOOKUP(O502,'Footnotes list'!$B$5:$C$103,2,FALSE) ) )","v":""},null,null,null,null,{"$f":"IF(TRIM(T502)=\"\", \"\", IF(VLOOKUP(T502,'Footnotes list'!$B$5:$C$103,2,FALSE)=0,\"\",VLOOKUP(T502,'Footnotes list'!$B$5:$C$103,2,FALSE) ) )","v":""}]
["DSP_LIN","AL",null,"AL","ALBANIA","Inert waste",null,null,null,null,{"$f":"IF(TRIM(J503)=\"\", \"\", IF(VLOOKUP(J503,'Footnotes list'!$B$5:$C$103,2,FALSE)=0,\"\",VLOOKUP(J503,'Footnotes list'!$B$5:$C$103,2,FALSE) ) )","v":""},null,null,null,null,{"$f":"IF(TRIM(O503)=\"\", \"\", IF(VLOOKUP(O503,'Footnotes list'!$B$5:$C$103,2,FALSE)=0,\"\",VLOOKUP(O503,'Footnotes list'!$B$5:$C$103,2,FALSE) ) )","v":""},null,null,null,null,{"$f":"IF(TRIM(T503)=\"\", \"\", IF(VLOOKUP(T503,'Footnotes list'!$B$5:$C$103,2,FALSE)=0,\"\",VLOOKUP(T503,'Footnotes list'!$B$5:$C$103,2,FALSE) ) )","v":""}]
["DSP_LNH",{"$f":"B503","v":"AL"},null,{"$f":"D503","v":"AL"},null,"Non-hazardous waste",null,null,null,null,{"$f":"IF(TRIM(J504)=\"\", \"\", IF(VLOOKUP(J504,'Footnotes list'!$B$5:$C$103,2,FALSE)=0,\"\",VLOOKUP(J504,'Footnotes list'!$B$5:$C$103,2,FALSE) ) )","v":""},null,null,null,null,{"$f":"IF(TRIM(O504)=\"\", \"\", IF(VLOOKUP(O504,'Footnotes list'!$B$5:$C$103,2,FALSE)=0,\"\",VLOOKUP(O504,'Footnotes list'!$B$5:$C$103,2,FALSE) ) )","v":""},null,null,null,null,{"$f":"IF(TRIM(T504)=\"\", \"\", IF(VLOOKUP(T504,'Footnotes list'!$B$5:$C$103,2,FALSE)=0,\"\",VLOOKUP(T504,'Footnotes list'!$B$5:$C$103,2,FALSE) ) )","v":""}]
["DSP_LH",{"$f":"B503","v":"AL"},null,{"$f":"D503","v":"AL"},null,"Hazardous waste",null,null,null,null,{"$f":"IF(TRIM(J505)=\"\", \"\", IF(VLOOKUP(J505,'Footnotes list'!$B$5:$C$103,2,FALSE)=0,\"\",VLOOKUP(J505,'Footnotes list'!$B$5:$C$103,2,FALSE) ) )","v":""},null,null,null,null,{"$f":"IF(TRIM(O505)=\"\", \"\", IF(VLOOKUP(O505,'Footnotes list'!$B$5:$C$103,2,FALSE)=0,\"\",VLOOKUP(O505,'Footnotes list'!$B$5:$C$103,2,FALSE) ) )","v":""},null,null,null,null,{"$f":"IF(TRIM(T505)=\"\", \"\", IF(VLOOKUP(T505,'Footnotes list'!$B$5:$C$103,2,FALSE)=0,\"\",VLOOKUP(T505,'Footnotes list'!$B$5:$C$103,2,FALSE) ) )","v":""}]
["DSP_L",{"$f":"B503","v":"AL"},null,{"$f":"D503","v":"AL"},null,"Total",{"$f":"IF(AND(TRIM(G503)=\"\",TRIM(G504)=\"\",TRIM(G505)=\"\"),\"\",G503+G504+G505)","v":""},null,null,null,{"$f":"IF(TRIM(J506)=\"\", \"\", IF(VLOOKUP(J506,'Footnotes list'!$B$5:$C$103,2,FALSE)=0,\"\",VLOOKUP(J506,'Footnotes list'!$B$5:$C$103,2,FALSE) ) )","v":""},{"$f":"IF(AND(TRIM(L503)=\"\",TRIM(L504)=\"\",TRIM(L505)=\"\"),\"\",L503+L504+L505)","v":""},null,null,null,{"$f":"IF(TRIM(O506)=\"\", \"\", IF(VLOOKUP(O506,'Footnotes list'!$B$5:$C$103,2,FALSE)=0,\"\",VLOOKUP(O506,'Footnotes list'!$B$5:$C$103,2,FALSE) ) )","v":""},null,null,null,null,{"$f":"IF(TRIM(T506)=\"\", \"\", IF(VLOOKUP(T506,'Footnotes list'!$B$5:$C$103,2,FALSE)=0,\"\",VLOOKUP(T506,'Footnotes list'!$B$5:$C$103,2,FALSE) ) )","v":""}]
["DSP_LIN","RS",null,"RS","SERBIA","Inert waste",null,null,null,null,{"$f":"IF(TRIM(J507)=\"\", \"\", IF(VLOOKUP(J507,'Footnotes list'!$B$5:$C$103,2,FALSE)=0,\"\",VLOOKUP(J507,'Footnotes list'!$B$5:$C$103,2,FALSE) ) )","v":""},null,null,null,null,{"$f":"IF(TRIM(O507)=\"\", \"\", IF(VLOOKUP(O507,'Footnotes list'!$B$5:$C$103,2,FALSE)=0,\"\",VLOOKUP(O507,'Footnotes list'!$B$5:$C$103,2,FALSE) ) )","v":""},null,null,null,null,{"$f":"IF(TRIM(T507)=\"\", \"\", IF(VLOOKUP(T507,'Footnotes list'!$B$5:$C$103,2,FALSE)=0,\"\",VLOOKUP(T507,'Footnotes list'!$B$5:$C$103,2,FALSE) ) )","v":""}]
["DSP_LNH",{"$f":"B507","v":"RS"},null,{"$f":"D507","v":"RS"},null,"Non-hazardous waste",null,null,null,null,{"$f":"IF(TRIM(J508)=\"\", \"\", IF(VLOOKUP(J508,'Footnotes list'!$B$5:$C$103,2,FALSE)=0,\"\",VLOOKUP(J508,'Footnotes list'!$B$5:$C$103,2,FALSE) ) )","v":""},null,null,null,null,{"$f":"IF(TRIM(O508)=\"\", \"\", IF(VLOOKUP(O508,'Footnotes list'!$B$5:$C$103,2,FALSE)=0,\"\",VLOOKUP(O508,'Footnotes list'!$B$5:$C$103,2,FALSE) ) )","v":""},null,null,null,null,{"$f":"IF(TRIM(T508)=\"\", \"\", IF(VLOOKUP(T508,'Footnotes list'!$B$5:$C$103,2,FALSE)=0,\"\",VLOOKUP(T508,'Footnotes list'!$B$5:$C$103,2,FALSE) ) )","v":""}]
["DSP_LH",{"$f":"B507","v":"RS"},null,{"$f":"D507","v":"RS"},null,"Hazardous waste",null,null,null,null,{"$f":"IF(TRIM(J509)=\"\", \"\", IF(VLOOKUP(J509,'Footnotes list'!$B$5:$C$103,2,FALSE)=0,\"\",VLOOKUP(J509,'Footnotes list'!$B$5:$C$103,2,FALSE) ) )","v":""},null,null,null,null,{"$f":"IF(TRIM(O509)=\"\", \"\", IF(VLOOKUP(O509,'Footnotes list'!$B$5:$C$103,2,FALSE)=0,\"\",VLOOKUP(O509,'Footnotes list'!$B$5:$C$103,2,FALSE) ) )","v":""},null,null,null,null,{"$f":"IF(TRIM(T509)=\"\", \"\", IF(VLOOKUP(T509,'Footnotes list'!$B$5:$C$103,2,FALSE)=0,\"\",VLOOKUP(T509,'Footnotes list'!$B$5:$C$103,2,FALSE) ) )","v":""}]
["DSP_L",{"$f":"B507","v":"RS"},null,{"$f":"D507","v":"RS"},null,"Total",{"$f":"IF(AND(TRIM(G507)=\"\",TRIM(G508)=\"\",TRIM(G509)=\"\"),\"\",G507+G508+G509)","v":""},null,null,null,{"$f":"IF(TRIM(J510)=\"\", \"\", IF(VLOOKUP(J510,'Footnotes list'!$B$5:$C$103,2,FALSE)=0,\"\",VLOOKUP(J510,'Footnotes list'!$B$5:$C$103,2,FALSE) ) )","v":""},{"$f":"IF(AND(TRIM(L507)=\"\",TRIM(L508)=\"\",TRIM(L509)=\"\"),\"\",L507+L508+L509)","v":""},null,null,null,{"$f":"IF(TRIM(O510)=\"\", \"\", IF(VLOOKUP(O510,'Footnotes list'!$B$5:$C$103,2,FALSE)=0,\"\",VLOOKUP(O510,'Footnotes list'!$B$5:$C$103,2,FALSE) ) )","v":""},null,null,null,null,{"$f":"IF(TRIM(T510)=\"\", \"\", IF(VLOOKUP(T510,'Footnotes list'!$B$5:$C$103,2,FALSE)=0,\"\",VLOOKUP(T510,'Footnotes list'!$B$5:$C$103,2,FALSE) ) )","v":""}]
["DSP_L","RS1",null,"RS1","    SRBIJA - SEVER","Total",null,null,null,null,{"$f":"IF(TRIM(J511)=\"\", \"\", IF(VLOOKUP(J511,'Footnotes list'!$B$5:$C$103,2,FALSE)=0,\"\",VLOOKUP(J511,'Footnotes list'!$B$5:$C$103,2,FALSE) ) )","v":""},null,null,null,null,{"$f":"IF(TRIM(O511)=\"\", \"\", IF(VLOOKUP(O511,'Footnotes list'!$B$5:$C$103,2,FALSE)=0,\"\",VLOOKUP(O511,'Footnotes list'!$B$5:$C$103,2,FALSE) ) )","v":""}]
["DSP_L","RS11",null,"RS11","        Beogradski region",null,null,null,null,null,{"$f":"IF(TRIM(J512)=\"\", \"\", IF(VLOOKUP(J512,'Footnotes list'!$B$5:$C$103,2,FALSE)=0,\"\",VLOOKUP(J512,'Footnotes list'!$B$5:$C$103,2,FALSE) ) )","v":""},null,null,null,null,{"$f":"IF(TRIM(O512)=\"\", \"\", IF(VLOOKUP(O512,'Footnotes list'!$B$5:$C$103,2,FALSE)=0,\"\",VLOOKUP(O512,'Footnotes list'!$B$5:$C$103,2,FALSE) ) )","v":""}]
["DSP_L","RS12",null,"RS12","        Region Vojvodine",null,null,null,null,null,{"$f":"IF(TRIM(J513)=\"\", \"\", IF(VLOOKUP(J513,'Footnotes list'!$B$5:$C$103,2,FALSE)=0,\"\",VLOOKUP(J513,'Footnotes list'!$B$5:$C$103,2,FALSE) ) )","v":""},null,null,null,null,{"$f":"IF(TRIM(O513)=\"\", \"\", IF(VLOOKUP(O513,'Footnotes list'!$B$5:$C$103,2,FALSE)=0,\"\",VLOOKUP(O513,'Footnotes list'!$B$5:$C$103,2,FALSE) ) )","v":""}]
["DSP_L","RS2",null,"RS2","    SRBIJA - JUG",null,null,null,null,null,{"$f":"IF(TRIM(J514)=\"\", \"\", IF(VLOOKUP(J514,'Footnotes list'!$B$5:$C$103,2,FALSE)=0,\"\",VLOOKUP(J514,'Footnotes list'!$B$5:$C$103,2,FALSE) ) )","v":""},null,null,null,null,{"$f":"IF(TRIM(O514)=\"\", \"\", IF(VLOOKUP(O514,'Footnotes list'!$B$5:$C$103,2,FALSE)=0,\"\",VLOOKUP(O514,'Footnotes list'!$B$5:$C$103,2,FALSE) ) )","v":""}]
["DSP_L","RS21",null,"RS21","        Region Šumadije i Zapadne Srbije",null,null,null,null,null,{"$f":"IF(TRIM(J515)=\"\", \"\", IF(VLOOKUP(J515,'Footnotes list'!$B$5:$C$103,2,FALSE)=0,\"\",VLOOKUP(J515,'Footnotes list'!$B$5:$C$103,2,FALSE) ) )","v":""},null,null,null,null,{"$f":"IF(TRIM(O515)=\"\", \"\", IF(VLOOKUP(O515,'Footnotes list'!$B$5:$C$103,2,FALSE)=0,\"\",VLOOKUP(O515,'Footnotes list'!$B$5:$C$103,2,FALSE) ) )","v":""}]
["DSP_L","RS22",null,"RS22","        Region Južne i Istočne Srbije",null,null,null,null,null,{"$f":"IF(TRIM(J516)=\"\", \"\", IF(VLOOKUP(J516,'Footnotes list'!$B$5:$C$103,2,FALSE)=0,\"\",VLOOKUP(J516,'Footnotes list'!$B$5:$C$103,2,FALSE) ) )","v":""},null,null,null,null,{"$f":"IF(TRIM(O516)=\"\", \"\", IF(VLOOKUP(O516,'Footnotes list'!$B$5:$C$103,2,FALSE)=0,\"\",VLOOKUP(O516,'Footnotes list'!$B$5:$C$103,2,FALSE) ) )","v":""}]
["DSP_LIN","TR",null,"TR","TURKEY","Inert waste",null,null,null,null,{"$f":"IF(TRIM(J517)=\"\", \"\", IF(VLOOKUP(J517,'Footnotes list'!$B$5:$C$103,2,FALSE)=0,\"\",VLOOKUP(J517,'Footnotes list'!$B$5:$C$103,2,FALSE) ) )","v":""},null,null,null,null,{"$f":"IF(TRIM(O517)=\"\", \"\", IF(VLOOKUP(O517,'Footnotes list'!$B$5:$C$103,2,FALSE)=0,\"\",VLOOKUP(O517,'Footnotes list'!$B$5:$C$103,2,FALSE) ) )","v":""},null,null,null,null,{"$f":"IF(TRIM(T517)=\"\", \"\", IF(VLOOKUP(T517,'Footnotes list'!$B$5:$C$103,2,FALSE)=0,\"\",VLOOKUP(T517,'Footnotes list'!$B$5:$C$103,2,FALSE) ) )","v":""}]
["DSP_LNH",{"$f":"B517","v":"TR"},null,{"$f":"D517","v":"TR"},null,"Non-hazardous waste",null,null,null,null,{"$f":"IF(TRIM(J518)=\"\", \"\", IF(VLOOKUP(J518,'Footnotes list'!$B$5:$C$103,2,FALSE)=0,\"\",VLOOKUP(J518,'Footnotes list'!$B$5:$C$103,2,FALSE) ) )","v":""},null,null,null,null,{"$f":"IF(TRIM(O518)=\"\", \"\", IF(VLOOKUP(O518,'Footnotes list'!$B$5:$C$103,2,FALSE)=0,\"\",VLOOKUP(O518,'Footnotes list'!$B$5:$C$103,2,FALSE) ) )","v":""},null,null,null,null,{"$f":"IF(TRIM(T518)=\"\", \"\", IF(VLOOKUP(T518,'Footnotes list'!$B$5:$C$103,2,FALSE)=0,\"\",VLOOKUP(T518,'Footnotes list'!$B$5:$C$103,2,FALSE) ) )","v":""}]
["DSP_LH",{"$f":"B517","v":"TR"},null,{"$f":"D517","v":"TR"},null,"Hazardous waste",null,null,null,null,{"$f":"IF(TRIM(J519)=\"\", \"\", IF(VLOOKUP(J519,'Footnotes list'!$B$5:$C$103,2,FALSE)=0,\"\",VLOOKUP(J519,'Footnotes list'!$B$5:$C$103,2,FALSE) ) )","v":""},null,null,null,null,{"$f":"IF(TRIM(O519)=\"\", \"\", IF(VLOOKUP(O519,'Footnotes list'!$B$5:$C$103,2,FALSE)=0,\"\",VLOOKUP(O519,'Footnotes list'!$B$5:$C$103,2,FALSE) ) )","v":""},null,null,null,null,{"$f":"IF(TRIM(T519)=\"\", \"\", IF(VLOOKUP(T519,'Footnotes list'!$B$5:$C$103,2,FALSE)=0,\"\",VLOOKUP(T519,'Footnotes list'!$B$5:$C$103,2,FALSE) ) )","v":""}]
["DSP_L",{"$f":"B517","v":"TR"},null,{"$f":"D517","v":"TR"},null,"Total",{"$f":"IF(AND(TRIM(G517)=\"\",TRIM(G518)=\"\",TRIM(G519)=\"\"),\"\",G517+G518+G519)","v":""},null,null,null,{"$f":"IF(TRIM(J520)=\"\", \"\", IF(VLOOKUP(J520,'Footnotes list'!$B$5:$C$103,2,FALSE)=0,\"\",VLOOKUP(J520,'Footnotes list'!$B$5:$C$103,2,FALSE) ) )","v":""},{"$f":"IF(AND(TRIM(L517)=\"\",TRIM(L518)=\"\",TRIM(L519)=\"\"),\"\",L517+L518+L519)","v":""},null,null,null,{"$f":"IF(TRIM(O520)=\"\", \"\", IF(VLOOKUP(O520,'Footnotes list'!$B$5:$C$103,2,FALSE)=0,\"\",VLOOKUP(O520,'Footnotes list'!$B$5:$C$103,2,FALSE) ) )","v":""},null,null,null,null,{"$f":"IF(TRIM(T520)=\"\", \"\", IF(VLOOKUP(T520,'Footnotes list'!$B$5:$C$103,2,FALSE)=0,\"\",VLOOKUP(T520,'Footnotes list'!$B$5:$C$103,2,FALSE) ) )","v":""}]
["DSP_L","TR1",null,"TR1","    ISTANBUL",null,null,null,null,null,{"$f":"IF(TRIM(J521)=\"\", \"\", IF(VLOOKUP(J521,'Footnotes list'!$B$5:$C$103,2,FALSE)=0,\"\",VLOOKUP(J521,'Footnotes list'!$B$5:$C$103,2,FALSE) ) )","v":""},null,null,null,null,{"$f":"IF(TRIM(O521)=\"\", \"\", IF(VLOOKUP(O521,'Footnotes list'!$B$5:$C$103,2,FALSE)=0,\"\",VLOOKUP(O521,'Footnotes list'!$B$5:$C$103,2,FALSE) ) )","v":""}]
["DSP_L","TR2",null,"TR2","    BATI MARMARA",null,null,null,null,null,{"$f":"IF(TRIM(J522)=\"\", \"\", IF(VLOOKUP(J522,'Footnotes list'!$B$5:$C$103,2,FALSE)=0,\"\",VLOOKUP(J522,'Footnotes list'!$B$5:$C$103,2,FALSE) ) )","v":""},null,null,null,null,{"$f":"IF(TRIM(O522)=\"\", \"\", IF(VLOOKUP(O522,'Footnotes list'!$B$5:$C$103,2,FALSE)=0,\"\",VLOOKUP(O522,'Footnotes list'!$B$5:$C$103,2,FALSE) ) )","v":""}]
["DSP_L","TR21",null,"TR21","        Tekirdag",null,null,null,null,null,{"$f":"IF(TRIM(J523)=\"\", \"\", IF(VLOOKUP(J523,'Footnotes list'!$B$5:$C$103,2,FALSE)=0,\"\",VLOOKUP(J523,'Footnotes list'!$B$5:$C$103,2,FALSE) ) )","v":""},null,null,null,null,{"$f":"IF(TRIM(O523)=\"\", \"\", IF(VLOOKUP(O523,'Footnotes list'!$B$5:$C$103,2,FALSE)=0,\"\",VLOOKUP(O523,'Footnotes list'!$B$5:$C$103,2,FALSE) ) )","v":""}]
["DSP_L","TR22",null,"TR22","        Balikesir",null,null,null,null,null,{"$f":"IF(TRIM(J524)=\"\", \"\", IF(VLOOKUP(J524,'Footnotes list'!$B$5:$C$103,2,FALSE)=0,\"\",VLOOKUP(J524,'Footnotes list'!$B$5:$C$103,2,FALSE) ) )","v":""},null,null,null,null,{"$f":"IF(TRIM(O524)=\"\", \"\", IF(VLOOKUP(O524,'Footnotes list'!$B$5:$C$103,2,FALSE)=0,\"\",VLOOKUP(O524,'Footnotes list'!$B$5:$C$103,2,FALSE) ) )","v":""}]
["DSP_L","TR3",null,"TR3","    EGE",null,null,null,null,null,{"$f":"IF(TRIM(J525)=\"\", \"\", IF(VLOOKUP(J525,'Footnotes list'!$B$5:$C$103,2,FALSE)=0,\"\",VLOOKUP(J525,'Footnotes list'!$B$5:$C$103,2,FALSE) ) )","v":""},null,null,null,null,{"$f":"IF(TRIM(O525)=\"\", \"\", IF(VLOOKUP(O525,'Footnotes list'!$B$5:$C$103,2,FALSE)=0,\"\",VLOOKUP(O525,'Footnotes list'!$B$5:$C$103,2,FALSE) ) )","v":""}]
["DSP_L","TR31",null,"TR31","        Izmir",null,null,null,null,null,{"$f":"IF(TRIM(J526)=\"\", \"\", IF(VLOOKUP(J526,'Footnotes list'!$B$5:$C$103,2,FALSE)=0,\"\",VLOOKUP(J526,'Footnotes list'!$B$5:$C$103,2,FALSE) ) )","v":""},null,null,null,null,{"$f":"IF(TRIM(O526)=\"\", \"\", IF(VLOOKUP(O526,'Footnotes list'!$B$5:$C$103,2,FALSE)=0,\"\",VLOOKUP(O526,'Footnotes list'!$B$5:$C$103,2,FALSE) ) )","v":""}]
["DSP_L","TR32",null,"TR32","        Aydin",null,null,null,null,null,{"$f":"IF(TRIM(J527)=\"\", \"\", IF(VLOOKUP(J527,'Footnotes list'!$B$5:$C$103,2,FALSE)=0,\"\",VLOOKUP(J527,'Footnotes list'!$B$5:$C$103,2,FALSE) ) )","v":""},null,null,null,null,{"$f":"IF(TRIM(O527)=\"\", \"\", IF(VLOOKUP(O527,'Footnotes list'!$B$5:$C$103,2,FALSE)=0,\"\",VLOOKUP(O527,'Footnotes list'!$B$5:$C$103,2,FALSE) ) )","v":""}]
["DSP_L","TR33",null,"TR33","        Manisa",null,null,null,null,null,{"$f":"IF(TRIM(J528)=\"\", \"\", IF(VLOOKUP(J528,'Footnotes list'!$B$5:$C$103,2,FALSE)=0,\"\",VLOOKUP(J528,'Footnotes list'!$B$5:$C$103,2,FALSE) ) )","v":""},null,null,null,null,{"$f":"IF(TRIM(O528)=\"\", \"\", IF(VLOOKUP(O528,'Footnotes list'!$B$5:$C$103,2,FALSE)=0,\"\",VLOOKUP(O528,'Footnotes list'!$B$5:$C$103,2,FALSE) ) )","v":""}]
["DSP_L","TR4",null,"TR4","    DOGU MARMARA",null,null,null,null,null,{"$f":"IF(TRIM(J529)=\"\", \"\", IF(VLOOKUP(J529,'Footnotes list'!$B$5:$C$103,2,FALSE)=0,\"\",VLOOKUP(J529,'Footnotes list'!$B$5:$C$103,2,FALSE) ) )","v":""},null,null,null,null,{"$f":"IF(TRIM(O529)=\"\", \"\", IF(VLOOKUP(O529,'Footnotes list'!$B$5:$C$103,2,FALSE)=0,\"\",VLOOKUP(O529,'Footnotes list'!$B$5:$C$103,2,FALSE) ) )","v":""}]
["DSP_L","TR41",null,"TR41","        Bursa",null,null,null,null,null,{"$f":"IF(TRIM(J530)=\"\", \"\", IF(VLOOKUP(J530,'Footnotes list'!$B$5:$C$103,2,FALSE)=0,\"\",VLOOKUP(J530,'Footnotes list'!$B$5:$C$103,2,FALSE) ) )","v":""},null,null,null,null,{"$f":"IF(TRIM(O530)=\"\", \"\", IF(VLOOKUP(O530,'Footnotes list'!$B$5:$C$103,2,FALSE)=0,\"\",VLOOKUP(O530,'Footnotes list'!$B$5:$C$103,2,FALSE) ) )","v":""}]
["DSP_L","TR42",null,"TR42","        Kocaeli",null,null,null,null,null,{"$f":"IF(TRIM(J531)=\"\", \"\", IF(VLOOKUP(J531,'Footnotes list'!$B$5:$C$103,2,FALSE)=0,\"\",VLOOKUP(J531,'Footnotes list'!$B$5:$C$103,2,FALSE) ) )","v":""},null,null,null,null,{"$f":"IF(TRIM(O531)=\"\", \"\", IF(VLOOKUP(O531,'Footnotes list'!$B$5:$C$103,2,FALSE)=0,\"\",VLOOKUP(O531,'Footnotes list'!$B$5:$C$103,2,FALSE) ) )","v":""}]
["DSP_L","TR5",null,"TR5","    BATI ANADOLU",null,null,null,null,null,{"$f":"IF(TRIM(J532)=\"\", \"\", IF(VLOOKUP(J532,'Footnotes list'!$B$5:$C$103,2,FALSE)=0,\"\",VLOOKUP(J532,'Footnotes list'!$B$5:$C$103,2,FALSE) ) )","v":""},null,null,null,null,{"$f":"IF(TRIM(O532)=\"\", \"\", IF(VLOOKUP(O532,'Footnotes list'!$B$5:$C$103,2,FALSE)=0,\"\",VLOOKUP(O532,'Footnotes list'!$B$5:$C$103,2,FALSE) ) )","v":""}]
["DSP_L","TR51",null,"TR51","        Ankara",null,null,null,null,null,{"$f":"IF(TRIM(J533)=\"\", \"\", IF(VLOOKUP(J533,'Footnotes list'!$B$5:$C$103,2,FALSE)=0,\"\",VLOOKUP(J533,'Footnotes list'!$B$5:$C$103,2,FALSE) ) )","v":""},null,null,null,null,{"$f":"IF(TRIM(O533)=\"\", \"\", IF(VLOOKUP(O533,'Footnotes list'!$B$5:$C$103,2,FALSE)=0,\"\",VLOOKUP(O533,'Footnotes list'!$B$5:$C$103,2,FALSE) ) )","v":""}]
["DSP_L","TR52",null,"TR52","        Konya",null,null,null,null,null,{"$f":"IF(TRIM(J534)=\"\", \"\", IF(VLOOKUP(J534,'Footnotes list'!$B$5:$C$103,2,FALSE)=0,\"\",VLOOKUP(J534,'Footnotes list'!$B$5:$C$103,2,FALSE) ) )","v":""},null,null,null,null,{"$f":"IF(TRIM(O534)=\"\", \"\", IF(VLOOKUP(O534,'Footnotes list'!$B$5:$C$103,2,FALSE)=0,\"\",VLOOKUP(O534,'Footnotes list'!$B$5:$C$103,2,FALSE) ) )","v":""}]
["DSP_L","TR6",null,"TR6","    AKDENIZ",null,null,null,null,null,{"$f":"IF(TRIM(J535)=\"\", \"\", IF(VLOOKUP(J535,'Footnotes list'!$B$5:$C$103,2,FALSE)=0,\"\",VLOOKUP(J535,'Footnotes list'!$B$5:$C$103,2,FALSE) ) )","v":""},null,null,null,null,{"$f":"IF(TRIM(O535)=\"\", \"\", IF(VLOOKUP(O535,'Footnotes list'!$B$5:$C$103,2,FALSE)=0,\"\",VLOOKUP(O535,'Footnotes list'!$B$5:$C$103,2,FALSE) ) )","v":""}]
["DSP_L","TR61",null,"TR61","        Antalya",null,null,null,null,null,{"$f":"IF(TRIM(J536)=\"\", \"\", IF(VLOOKUP(J536,'Footnotes list'!$B$5:$C$103,2,FALSE)=0,\"\",VLOOKUP(J536,'Footnotes list'!$B$5:$C$103,2,FALSE) ) )","v":""},null,null,null,null,{"$f":"IF(TRIM(O536)=\"\", \"\", IF(VLOOKUP(O536,'Footnotes list'!$B$5:$C$103,2,FALSE)=0,\"\",VLOOKUP(O536,'Footnotes list'!$B$5:$C$103,2,FALSE) ) )","v":""}]
["DSP_L","TR62",null,"TR62","        Adana",null,null,null,null,null,{"$f":"IF(TRIM(J537)=\"\", \"\", IF(VLOOKUP(J537,'Footnotes list'!$B$5:$C$103,2,FALSE)=0,\"\",VLOOKUP(J537,'Footnotes list'!$B$5:$C$103,2,FALSE) ) )","v":""},null,null,null,null,{"$f":"IF(TRIM(O537)=\"\", \"\", IF(VLOOKUP(O537,'Footnotes list'!$B$5:$C$103,2,FALSE)=0,\"\",VLOOKUP(O537,'Footnotes list'!$B$5:$C$103,2,FALSE) ) )","v":""}]
["DSP_L","TR63",null,"TR63","        Hatay",null,null,null,null,null,{"$f":"IF(TRIM(J538)=\"\", \"\", IF(VLOOKUP(J538,'Footnotes list'!$B$5:$C$103,2,FALSE)=0,\"\",VLOOKUP(J538,'Footnotes list'!$B$5:$C$103,2,FALSE) ) )","v":""},null,null,null,null,{"$f":"IF(TRIM(O538)=\"\", \"\", IF(VLOOKUP(O538,'Footnotes list'!$B$5:$C$103,2,FALSE)=0,\"\",VLOOKUP(O538,'Footnotes list'!$B$5:$C$103,2,FALSE) ) )","v":""}]
["DSP_L","TR7",null,"TR7","    ORTA ANADOLU",null,null,null,null,null,{"$f":"IF(TRIM(J539)=\"\", \"\", IF(VLOOKUP(J539,'Footnotes list'!$B$5:$C$103,2,FALSE)=0,\"\",VLOOKUP(J539,'Footnotes list'!$B$5:$C$103,2,FALSE) ) )","v":""},null,null,null,null,{"$f":"IF(TRIM(O539)=\"\", \"\", IF(VLOOKUP(O539,'Footnotes list'!$B$5:$C$103,2,FALSE)=0,\"\",VLOOKUP(O539,'Footnotes list'!$B$5:$C$103,2,FALSE) ) )","v":""}]
["DSP_L","TR71",null,"TR71","        Kirikkale",null,null,null,null,null,{"$f":"IF(TRIM(J540)=\"\", \"\", IF(VLOOKUP(J540,'Footnotes list'!$B$5:$C$103,2,FALSE)=0,\"\",VLOOKUP(J540,'Footnotes list'!$B$5:$C$103,2,FALSE) ) )","v":""},null,null,null,null,{"$f":"IF(TRIM(O540)=\"\", \"\", IF(VLOOKUP(O540,'Footnotes list'!$B$5:$C$103,2,FALSE)=0,\"\",VLOOKUP(O540,'Footnotes list'!$B$5:$C$103,2,FALSE) ) )","v":""}]
["DSP_L","TR72",null,"TR72","        Kayseri",null,null,null,null,null,{"$f":"IF(TRIM(J541)=\"\", \"\", IF(VLOOKUP(J541,'Footnotes list'!$B$5:$C$103,2,FALSE)=0,\"\",VLOOKUP(J541,'Footnotes list'!$B$5:$C$103,2,FALSE) ) )","v":""},null,null,null,null,{"$f":"IF(TRIM(O541)=\"\", \"\", IF(VLOOKUP(O541,'Footnotes list'!$B$5:$C$103,2,FALSE)=0,\"\",VLOOKUP(O541,'Footnotes list'!$B$5:$C$103,2,FALSE) ) )","v":""}]
["DSP_L","TR8",null,"TR8","    BATI KARADENIZ",null,null,null,null,null,{"$f":"IF(TRIM(J542)=\"\", \"\", IF(VLOOKUP(J542,'Footnotes list'!$B$5:$C$103,2,FALSE)=0,\"\",VLOOKUP(J542,'Footnotes list'!$B$5:$C$103,2,FALSE) ) )","v":""},null,null,null,null,{"$f":"IF(TRIM(O542)=\"\", \"\", IF(VLOOKUP(O542,'Footnotes list'!$B$5:$C$103,2,FALSE)=0,\"\",VLOOKUP(O542,'Footnotes list'!$B$5:$C$103,2,FALSE) ) )","v":""}]
["DSP_L","TR81",null,"TR81","        Zonguldak",null,null,null,null,null,{"$f":"IF(TRIM(J543)=\"\", \"\", IF(VLOOKUP(J543,'Footnotes list'!$B$5:$C$103,2,FALSE)=0,\"\",VLOOKUP(J543,'Footnotes list'!$B$5:$C$103,2,FALSE) ) )","v":""},null,null,null,null,{"$f":"IF(TRIM(O543)=\"\", \"\", IF(VLOOKUP(O543,'Footnotes list'!$B$5:$C$103,2,FALSE)=0,\"\",VLOOKUP(O543,'Footnotes list'!$B$5:$C$103,2,FALSE) ) )","v":""}]
["DSP_L","TR82",null,"TR82","        Kastamonu",null,null,null,null,null,{"$f":"IF(TRIM(J544)=\"\", \"\", IF(VLOOKUP(J544,'Footnotes list'!$B$5:$C$103,2,FALSE)=0,\"\",VLOOKUP(J544,'Footnotes list'!$B$5:$C$103,2,FALSE) ) )","v":""},null,null,null,null,{"$f":"IF(TRIM(O544)=\"\", \"\", IF(VLOOKUP(O544,'Footnotes list'!$B$5:$C$103,2,FALSE)=0,\"\",VLOOKUP(O544,'Footnotes list'!$B$5:$C$103,2,FALSE) ) )","v":""}]
["DSP_L","TR83",null,"TR83","        Samsun",null,null,null,null,null,{"$f":"IF(TRIM(J545)=\"\", \"\", IF(VLOOKUP(J545,'Footnotes list'!$B$5:$C$103,2,FALSE)=0,\"\",VLOOKUP(J545,'Footnotes list'!$B$5:$C$103,2,FALSE) ) )","v":""},null,null,null,null,{"$f":"IF(TRIM(O545)=\"\", \"\", IF(VLOOKUP(O545,'Footnotes list'!$B$5:$C$103,2,FALSE)=0,\"\",VLOOKUP(O545,'Footnotes list'!$B$5:$C$103,2,FALSE) ) )","v":""}]
["DSP_L","TR9",null,"TR9","    DOGU KARADENIZ",null,null,null,null,null,{"$f":"IF(TRIM(J546)=\"\", \"\", IF(VLOOKUP(J546,'Footnotes list'!$B$5:$C$103,2,FALSE)=0,\"\",VLOOKUP(J546,'Footnotes list'!$B$5:$C$103,2,FALSE) ) )","v":""},null,null,null,null,{"$f":"IF(TRIM(O546)=\"\", \"\", IF(VLOOKUP(O546,'Footnotes list'!$B$5:$C$103,2,FALSE)=0,\"\",VLOOKUP(O546,'Footnotes list'!$B$5:$C$103,2,FALSE) ) )","v":""}]
["DSP_L","TRA",null,"TRA","    KUZEYDOGU ANADOLU",null,null,null,null,null,{"$f":"IF(TRIM(J547)=\"\", \"\", IF(VLOOKUP(J547,'Footnotes list'!$B$5:$C$103,2,FALSE)=0,\"\",VLOOKUP(J547,'Footnotes list'!$B$5:$C$103,2,FALSE) ) )","v":""},null,null,null,null,{"$f":"IF(TRIM(O547)=\"\", \"\", IF(VLOOKUP(O547,'Footnotes list'!$B$5:$C$103,2,FALSE)=0,\"\",VLOOKUP(O547,'Footnotes list'!$B$5:$C$103,2,FALSE) ) )","v":""}]
["DSP_L","TRA1",null,"TRA1","        Erzurum",null,null,null,null,null,{"$f":"IF(TRIM(J548)=\"\", \"\", IF(VLOOKUP(J548,'Footnotes list'!$B$5:$C$103,2,FALSE)=0,\"\",VLOOKUP(J548,'Footnotes list'!$B$5:$C$103,2,FALSE) ) )","v":""},null,null,null,null,{"$f":"IF(TRIM(O548)=\"\", \"\", IF(VLOOKUP(O548,'Footnotes list'!$B$5:$C$103,2,FALSE)=0,\"\",VLOOKUP(O548,'Footnotes list'!$B$5:$C$103,2,FALSE) ) )","v":""}]
["DSP_L","TRA2",null,"TRA2","        Agri",null,null,null,null,null,{"$f":"IF(TRIM(J549)=\"\", \"\", IF(VLOOKUP(J549,'Footnotes list'!$B$5:$C$103,2,FALSE)=0,\"\",VLOOKUP(J549,'Footnotes list'!$B$5:$C$103,2,FALSE) ) )","v":""},null,null,null,null,{"$f":"IF(TRIM(O549)=\"\", \"\", IF(VLOOKUP(O549,'Footnotes list'!$B$5:$C$103,2,FALSE)=0,\"\",VLOOKUP(O549,'Footnotes list'!$B$5:$C$103,2,FALSE) ) )","v":""}]
["DSP_L","TRB",null,"TRB","    ORTADOGU ANADOLU",null,null,null,null,null,{"$f":"IF(TRIM(J550)=\"\", \"\", IF(VLOOKUP(J550,'Footnotes list'!$B$5:$C$103,2,FALSE)=0,\"\",VLOOKUP(J550,'Footnotes list'!$B$5:$C$103,2,FALSE) ) )","v":""},null,null,null,null,{"$f":"IF(TRIM(O550)=\"\", \"\", IF(VLOOKUP(O550,'Footnotes list'!$B$5:$C$103,2,FALSE)=0,\"\",VLOOKUP(O550,'Footnotes list'!$B$5:$C$103,2,FALSE) ) )","v":""}]
["DSP_L","TRB1",null,"TRB1","        Malatya",null,null,null,null,null,{"$f":"IF(TRIM(J551)=\"\", \"\", IF(VLOOKUP(J551,'Footnotes list'!$B$5:$C$103,2,FALSE)=0,\"\",VLOOKUP(J551,'Footnotes list'!$B$5:$C$103,2,FALSE) ) )","v":""},null,null,null,null,{"$f":"IF(TRIM(O551)=\"\", \"\", IF(VLOOKUP(O551,'Footnotes list'!$B$5:$C$103,2,FALSE)=0,\"\",VLOOKUP(O551,'Footnotes list'!$B$5:$C$103,2,FALSE) ) )","v":""}]
["DSP_L","TRB2",null,"TRB2","        Van",null,null,null,null,null,{"$f":"IF(TRIM(J552)=\"\", \"\", IF(VLOOKUP(J552,'Footnotes list'!$B$5:$C$103,2,FALSE)=0,\"\",VLOOKUP(J552,'Footnotes list'!$B$5:$C$103,2,FALSE) ) )","v":""},null,null,null,null,{"$f":"IF(TRIM(O552)=\"\", \"\", IF(VLOOKUP(O552,'Footnotes list'!$B$5:$C$103,2,FALSE)=0,\"\",VLOOKUP(O552,'Footnotes list'!$B$5:$C$103,2,FALSE) ) )","v":""}]
["DSP_L","TRC",null,"TRC","    GÜNEYDOGU ANADOLU",null,null,null,null,null,{"$f":"IF(TRIM(J553)=\"\", \"\", IF(VLOOKUP(J553,'Footnotes list'!$B$5:$C$103,2,FALSE)=0,\"\",VLOOKUP(J553,'Footnotes list'!$B$5:$C$103,2,FALSE) ) )","v":""},null,null,null,null,{"$f":"IF(TRIM(O553)=\"\", \"\", IF(VLOOKUP(O553,'Footnotes list'!$B$5:$C$103,2,FALSE)=0,\"\",VLOOKUP(O553,'Footnotes list'!$B$5:$C$103,2,FALSE) ) )","v":""}]
["DSP_L","TRC1",null,"TRC1","        Gaziantep",null,null,null,null,null,{"$f":"IF(TRIM(J554)=\"\", \"\", IF(VLOOKUP(J554,'Footnotes list'!$B$5:$C$103,2,FALSE)=0,\"\",VLOOKUP(J554,'Footnotes list'!$B$5:$C$103,2,FALSE) ) )","v":""},null,null,null,null,{"$f":"IF(TRIM(O554)=\"\", \"\", IF(VLOOKUP(O554,'Footnotes list'!$B$5:$C$103,2,FALSE)=0,\"\",VLOOKUP(O554,'Footnotes list'!$B$5:$C$103,2,FALSE) ) )","v":""}]
["DSP_L","TRC2",null,"TRC2","        Sanliurfa",null,null,null,null,null,{"$f":"IF(TRIM(J555)=\"\", \"\", IF(VLOOKUP(J555,'Footnotes list'!$B$5:$C$103,2,FALSE)=0,\"\",VLOOKUP(J555,'Footnotes list'!$B$5:$C$103,2,FALSE) ) )","v":""},null,null,null,null,{"$f":"IF(TRIM(O555)=\"\", \"\", IF(VLOOKUP(O555,'Footnotes list'!$B$5:$C$103,2,FALSE)=0,\"\",VLOOKUP(O555,'Footnotes list'!$B$5:$C$103,2,FALSE) ) )","v":""}]
["DSP_L","TRC3",null,"TRC3","        Mardin",null,null,null,null,null,{"$f":"IF(TRIM(J556)=\"\", \"\", IF(VLOOKUP(J556,'Footnotes list'!$B$5:$C$103,2,FALSE)=0,\"\",VLOOKUP(J556,'Footnotes list'!$B$5:$C$103,2,FALSE) ) )","v":""},null,null,null,null,{"$f":"IF(TRIM(O556)=\"\", \"\", IF(VLOOKUP(O556,'Footnotes list'!$B$5:$C$103,2,FALSE)=0,\"\",VLOOKUP(O556,'Footnotes list'!$B$5:$C$103,2,FALSE) ) )","v":""}]
["DSP_LIN","BA",null,"BA","BOSNIA AND HERZEGOVINA","Inert waste",null,null,null,null,{"$f":"IF(TRIM(J557)=\"\", \"\", IF(VLOOKUP(J557,'Footnotes list'!$B$5:$C$103,2,FALSE)=0,\"\",VLOOKUP(J557,'Footnotes list'!$B$5:$C$103,2,FALSE) ) )","v":""},null,null,null,null,{"$f":"IF(TRIM(O557)=\"\", \"\", IF(VLOOKUP(O557,'Footnotes list'!$B$5:$C$103,2,FALSE)=0,\"\",VLOOKUP(O557,'Footnotes list'!$B$5:$C$103,2,FALSE) ) )","v":""},null,null,null,null,{"$f":"IF(TRIM(T557)=\"\", \"\", IF(VLOOKUP(T557,'Footnotes list'!$B$5:$C$103,2,FALSE)=0,\"\",VLOOKUP(T557,'Footnotes list'!$B$5:$C$103,2,FALSE) ) )","v":""}]
["DSP_LNH",{"$f":"B557","v":"BA"},null,{"$f":"D557","v":"BA"},null,"Non-hazardous waste",null,null,null,null,{"$f":"IF(TRIM(J558)=\"\", \"\", IF(VLOOKUP(J558,'Footnotes list'!$B$5:$C$103,2,FALSE)=0,\"\",VLOOKUP(J558,'Footnotes list'!$B$5:$C$103,2,FALSE) ) )","v":""},null,null,null,null,{"$f":"IF(TRIM(O558)=\"\", \"\", IF(VLOOKUP(O558,'Footnotes list'!$B$5:$C$103,2,FALSE)=0,\"\",VLOOKUP(O558,'Footnotes list'!$B$5:$C$103,2,FALSE) ) )","v":""},null,null,null,null,{"$f":"IF(TRIM(T558)=\"\", \"\", IF(VLOOKUP(T558,'Footnotes list'!$B$5:$C$103,2,FALSE)=0,\"\",VLOOKUP(T558,'Footnotes list'!$B$5:$C$103,2,FALSE) ) )","v":""}]
["DSP_LH",{"$f":"B557","v":"BA"},null,{"$f":"D557","v":"BA"},null,"Hazardous waste",null,null,null,null,{"$f":"IF(TRIM(J559)=\"\", \"\", IF(VLOOKUP(J559,'Footnotes list'!$B$5:$C$103,2,FALSE)=0,\"\",VLOOKUP(J559,'Footnotes list'!$B$5:$C$103,2,FALSE) ) )","v":""},null,null,null,null,{"$f":"IF(TRIM(O559)=\"\", \"\", IF(VLOOKUP(O559,'Footnotes list'!$B$5:$C$103,2,FALSE)=0,\"\",VLOOKUP(O559,'Footnotes list'!$B$5:$C$103,2,FALSE) ) )","v":""},null,null,null,null,{"$f":"IF(TRIM(T559)=\"\", \"\", IF(VLOOKUP(T559,'Footnotes list'!$B$5:$C$103,2,FALSE)=0,\"\",VLOOKUP(T559,'Footnotes list'!$B$5:$C$103,2,FALSE) ) )","v":""}]
["DSP_L",{"$f":"B557","v":"BA"},null,{"$f":"D557","v":"BA"},null,"Total",{"$f":"IF(AND(TRIM(G557)=\"\",TRIM(G558)=\"\",TRIM(G559)=\"\"),\"\",G557+G558+G559)","v":""},null,null,null,{"$f":"IF(TRIM(J560)=\"\", \"\", IF(VLOOKUP(J560,'Footnotes list'!$B$5:$C$103,2,FALSE)=0,\"\",VLOOKUP(J560,'Footnotes list'!$B$5:$C$103,2,FALSE) ) )","v":""},{"$f":"IF(AND(TRIM(L557)=\"\",TRIM(L558)=\"\",TRIM(L559)=\"\"),\"\",L557+L558+L559)","v":""},null,null,null,{"$f":"IF(TRIM(O560)=\"\", \"\", IF(VLOOKUP(O560,'Footnotes list'!$B$5:$C$103,2,FALSE)=0,\"\",VLOOKUP(O560,'Footnotes list'!$B$5:$C$103,2,FALSE) ) )","v":""},null,null,null,null,{"$f":"IF(TRIM(T560)=\"\", \"\", IF(VLOOKUP(T560,'Footnotes list'!$B$5:$C$103,2,FALSE)=0,\"\",VLOOKUP(T560,'Footnotes list'!$B$5:$C$103,2,FALSE) ) )","v":""}]
["DSP_LIN","XK",null,"XK","KOSOVO (UNSCR 1244)","Inert waste",null,null,null,null,{"$f":"IF(TRIM(J561)=\"\", \"\", IF(VLOOKUP(J561,'Footnotes list'!$B$5:$C$103,2,FALSE)=0,\"\",VLOOKUP(J561,'Footnotes list'!$B$5:$C$103,2,FALSE) ) )","v":""},null,null,null,null,{"$f":"IF(TRIM(O561)=\"\", \"\", IF(VLOOKUP(O561,'Footnotes list'!$B$5:$C$103,2,FALSE)=0,\"\",VLOOKUP(O561,'Footnotes list'!$B$5:$C$103,2,FALSE) ) )","v":""},null,null,null,null,{"$f":"IF(TRIM(T561)=\"\", \"\", IF(VLOOKUP(T561,'Footnotes list'!$B$5:$C$103,2,FALSE)=0,\"\",VLOOKUP(T561,'Footnotes list'!$B$5:$C$103,2,FALSE) ) )","v":""}]
["DSP_LNH",{"$f":"B561","v":"XK"},null,{"$f":"D561","v":"XK"},null,"Non-hazardous waste",null,null,null,null,{"$f":"IF(TRIM(J562)=\"\", \"\", IF(VLOOKUP(J562,'Footnotes list'!$B$5:$C$103,2,FALSE)=0,\"\",VLOOKUP(J562,'Footnotes list'!$B$5:$C$103,2,FALSE) ) )","v":""},null,null,null,null,{"$f":"IF(TRIM(O562)=\"\", \"\", IF(VLOOKUP(O562,'Footnotes list'!$B$5:$C$103,2,FALSE)=0,\"\",VLOOKUP(O562,'Footnotes list'!$B$5:$C$103,2,FALSE) ) )","v":""},null,null,null,null,{"$f":"IF(TRIM(T562)=\"\", \"\", IF(VLOOKUP(T562,'Footnotes list'!$B$5:$C$103,2,FALSE)=0,\"\",VLOOKUP(T562,'Footnotes list'!$B$5:$C$103,2,FALSE) ) )","v":""}]
["DSP_LH",{"$f":"B561","v":"XK"},null,{"$f":"D561","v":"XK"},null,"Hazardous waste",null,null,null,null,{"$f":"IF(TRIM(J563)=\"\", \"\", IF(VLOOKUP(J563,'Footnotes list'!$B$5:$C$103,2,FALSE)=0,\"\",VLOOKUP(J563,'Footnotes list'!$B$5:$C$103,2,FALSE) ) )","v":""},null,null,null,null,{"$f":"IF(TRIM(O563)=\"\", \"\", IF(VLOOKUP(O563,'Footnotes list'!$B$5:$C$103,2,FALSE)=0,\"\",VLOOKUP(O563,'Footnotes list'!$B$5:$C$103,2,FALSE) ) )","v":""},null,null,null,null,{"$f":"IF(TRIM(T563)=\"\", \"\", IF(VLOOKUP(T563,'Footnotes list'!$B$5:$C$103,2,FALSE)=0,\"\",VLOOKUP(T563,'Footnotes list'!$B$5:$C$103,2,FALSE) ) )","v":""}]
["DSP_L",{"$f":"B561","v":"XK"},null,{"$f":"D561","v":"XK"},null,"Total",{"$f":"IF(AND(TRIM(G561)=\"\",TRIM(G562)=\"\",TRIM(G563)=\"\"),\"\",G561+G562+G563)","v":""},null,null,null,{"$f":"IF(TRIM(J564)=\"\", \"\", IF(VLOOKUP(J564,'Footnotes list'!$B$5:$C$103,2,FALSE)=0,\"\",VLOOKUP(J564,'Footnotes list'!$B$5:$C$103,2,FALSE) ) )","v":""},{"$f":"IF(AND(TRIM(L561)=\"\",TRIM(L562)=\"\",TRIM(L563)=\"\"),\"\",L561+L562+L563)","v":""},null,null,null,{"$f":"IF(TRIM(O564)=\"\", \"\", IF(VLOOKUP(O564,'Footnotes list'!$B$5:$C$103,2,FALSE)=0,\"\",VLOOKUP(O564,'Footnotes list'!$B$5:$C$103,2,FALSE) ) )","v":""},null,null,null,null,{"$f":"IF(TRIM(T564)=\"\", \"\", IF(VLOOKUP(T564,'Footnotes list'!$B$5:$C$103,2,FALSE)=0,\"\",VLOOKUP(T564,'Footnotes list'!$B$5:$C$103,2,FALSE) ) )","v":""}]
["DSP_LIN","WL",null,"WL","WASTELAND (Dummy country for testing purposes)","Inert waste",null,null,null,null,{"$f":"IF(TRIM(J565)=\"\", \"\", IF(VLOOKUP(J565,'Footnotes list'!$B$5:$C$103,2,FALSE)=0,\"\",VLOOKUP(J565,'Footnotes list'!$B$5:$C$103,2,FALSE) ) )","v":""},null,null,null,null,{"$f":"IF(TRIM(O565)=\"\", \"\", IF(VLOOKUP(O565,'Footnotes list'!$B$5:$C$103,2,FALSE)=0,\"\",VLOOKUP(O565,'Footnotes list'!$B$5:$C$103,2,FALSE) ) )","v":""},null,null,null,null,{"$f":"IF(TRIM(T565)=\"\", \"\", IF(VLOOKUP(T565,'Footnotes list'!$B$5:$C$103,2,FALSE)=0,\"\",VLOOKUP(T565,'Footnotes list'!$B$5:$C$103,2,FALSE) ) )","v":""}]
["DSP_LNH",{"$f":"B565","v":"WL"},null,{"$f":"D565","v":"WL"},null,"Non-hazardous waste",null,null,null,null,{"$f":"IF(TRIM(J566)=\"\", \"\", IF(VLOOKUP(J566,'Footnotes list'!$B$5:$C$103,2,FALSE)=0,\"\",VLOOKUP(J566,'Footnotes list'!$B$5:$C$103,2,FALSE) ) )","v":""},null,null,null,null,{"$f":"IF(TRIM(O566)=\"\", \"\", IF(VLOOKUP(O566,'Footnotes list'!$B$5:$C$103,2,FALSE)=0,\"\",VLOOKUP(O566,'Footnotes list'!$B$5:$C$103,2,FALSE) ) )","v":""},null,null,null,null,{"$f":"IF(TRIM(T566)=\"\", \"\", IF(VLOOKUP(T566,'Footnotes list'!$B$5:$C$103,2,FALSE)=0,\"\",VLOOKUP(T566,'Footnotes list'!$B$5:$C$103,2,FALSE) ) )","v":""}]
["DSP_LH",{"$f":"B565","v":"WL"},null,{"$f":"D565","v":"WL"},null,"Hazardous waste",null,null,null,null,{"$f":"IF(TRIM(J567)=\"\", \"\", IF(VLOOKUP(J567,'Footnotes list'!$B$5:$C$103,2,FALSE)=0,\"\",VLOOKUP(J567,'Footnotes list'!$B$5:$C$103,2,FALSE) ) )","v":""},null,null,null,null,{"$f":"IF(TRIM(O567)=\"\", \"\", IF(VLOOKUP(O567,'Footnotes list'!$B$5:$C$103,2,FALSE)=0,\"\",VLOOKUP(O567,'Footnotes list'!$B$5:$C$103,2,FALSE) ) )","v":""},null,null,null,null,{"$f":"IF(TRIM(T567)=\"\", \"\", IF(VLOOKUP(T567,'Footnotes list'!$B$5:$C$103,2,FALSE)=0,\"\",VLOOKUP(T567,'Footnotes list'!$B$5:$C$103,2,FALSE) ) )","v":""}]
["DSP_L",{"$f":"B565","v":"WL"},null,{"$f":"D565","v":"WL"},null,"Total",{"$f":"IF(AND(TRIM(G565)=\"\",TRIM(G566)=\"\",TRIM(G567)=\"\"),\"\",G565+G566+G567)","v":""},null,null,null,{"$f":"IF(TRIM(J568)=\"\", \"\", IF(VLOOKUP(J568,'Footnotes list'!$B$5:$C$103,2,FALSE)=0,\"\",VLOOKUP(J568,'Footnotes list'!$B$5:$C$103,2,FALSE) ) )","v":""},{"$f":"IF(AND(TRIM(L565)=\"\",TRIM(L566)=\"\",TRIM(L567)=\"\"),\"\",L565+L566+L567)","v":""},null,null,null,{"$f":"IF(TRIM(O568)=\"\", \"\", IF(VLOOKUP(O568,'Footnotes list'!$B$5:$C$103,2,FALSE)=0,\"\",VLOOKUP(O568,'Footnotes list'!$B$5:$C$103,2,FALSE) ) )","v":""},null,null,null,null,{"$f":"IF(TRIM(T568)=\"\", \"\", IF(VLOOKUP(T568,'Footnotes list'!$B$5:$C$103,2,FALSE)=0,\"\",VLOOKUP(T568,'Footnotes list'!$B$5:$C$103,2,FALSE) ) )","v":""}]
["DSP_L","WL0",null,"WL0","    WASTELAND REGION 0","Total",null,null,null,null,{"$f":"IF(TRIM(J569)=\"\", \"\", IF(VLOOKUP(J569,'Footnotes list'!$B$5:$C$103,2,FALSE)=0,\"\",VLOOKUP(J569,'Footnotes list'!$B$5:$C$103,2,FALSE) ) )","v":""},null,null,null,null,{"$f":"IF(TRIM(O569)=\"\", \"\", IF(VLOOKUP(O569,'Footnotes list'!$B$5:$C$103,2,FALSE)=0,\"\",VLOOKUP(O569,'Footnotes list'!$B$5:$C$103,2,FALSE) ) )","v":""}]
["DSP_L","WL1",null,"WL1","    WASTELAND REGION 1",null,null,null,null,null,{"$f":"IF(TRIM(J570)=\"\", \"\", IF(VLOOKUP(J570,'Footnotes list'!$B$5:$C$103,2,FALSE)=0,\"\",VLOOKUP(J570,'Footnotes list'!$B$5:$C$103,2,FALSE) ) )","v":""},null,null,null,null,{"$f":"IF(TRIM(O570)=\"\", \"\", IF(VLOOKUP(O570,'Footnotes list'!$B$5:$C$103,2,FALSE)=0,\"\",VLOOKUP(O570,'Footnotes list'!$B$5:$C$103,2,FALSE) ) )","v":""}]
["DSP_L","WL11",null,"WL11","        Wasteland County A",null,null,null,null,null,{"$f":"IF(TRIM(J571)=\"\", \"\", IF(VLOOKUP(J571,'Footnotes list'!$B$5:$C$103,2,FALSE)=0,\"\",VLOOKUP(J571,'Footnotes list'!$B$5:$C$103,2,FALSE) ) )","v":""},null,null,null,null,{"$f":"IF(TRIM(O571)=\"\", \"\", IF(VLOOKUP(O571,'Footnotes list'!$B$5:$C$103,2,FALSE)=0,\"\",VLOOKUP(O571,'Footnotes list'!$B$5:$C$103,2,FALSE) ) )","v":""}]
["DSP_L","WL12",null,"WL12","        Wasteland County B",null,null,null,null,null,{"$f":"IF(TRIM(J572)=\"\", \"\", IF(VLOOKUP(J572,'Footnotes list'!$B$5:$C$103,2,FALSE)=0,\"\",VLOOKUP(J572,'Footnotes list'!$B$5:$C$103,2,FALSE) ) )","v":""},null,null,null,null,{"$f":"IF(TRIM(O572)=\"\", \"\", IF(VLOOKUP(O572,'Footnotes list'!$B$5:$C$103,2,FALSE)=0,\"\",VLOOKUP(O572,'Footnotes list'!$B$5:$C$103,2,FALSE) ) )","v":""}]
["DSP_L","WL2",null,"WL2","    WASTELAND REGION 2",null,null,null,null,null,{"$f":"IF(TRIM(J573)=\"\", \"\", IF(VLOOKUP(J573,'Footnotes list'!$B$5:$C$103,2,FALSE)=0,\"\",VLOOKUP(J573,'Footnotes list'!$B$5:$C$103,2,FALSE) ) )","v":""},null,null,null,null,{"$f":"IF(TRIM(O573)=\"\", \"\", IF(VLOOKUP(O573,'Footnotes list'!$B$5:$C$103,2,FALSE)=0,\"\",VLOOKUP(O573,'Footnotes list'!$B$5:$C$103,2,FALSE) ) )","v":""}]
["DSP_L","WL21",null,"WL21","        Wasteland County C",null,null,null,null,null,{"$f":"IF(TRIM(J574)=\"\", \"\", IF(VLOOKUP(J574,'Footnotes list'!$B$5:$C$103,2,FALSE)=0,\"\",VLOOKUP(J574,'Footnotes list'!$B$5:$C$103,2,FALSE) ) )","v":""},null,null,null,null,{"$f":"IF(TRIM(O574)=\"\", \"\", IF(VLOOKUP(O574,'Footnotes list'!$B$5:$C$103,2,FALSE)=0,\"\",VLOOKUP(O574,'Footnotes list'!$B$5:$C$103,2,FALSE) ) )","v":""}]
["DSP_L","WL22",null,"WL22","        Wasteland County D",null,null,null,null,null,{"$f":"IF(TRIM(J575)=\"\", \"\", IF(VLOOKUP(J575,'Footnotes list'!$B$5:$C$103,2,FALSE)=0,\"\",VLOOKUP(J575,'Footnotes list'!$B$5:$C$103,2,FALSE) ) )","v":""},null,null,null,null,{"$f":"IF(TRIM(O575)=\"\", \"\", IF(VLOOKUP(O575,'Footnotes list'!$B$5:$C$103,2,FALSE)=0,\"\",VLOOKUP(O575,'Footnotes list'!$B$5:$C$103,2,FALSE) ) )","v":""}]
[]
[null,"Notes:",null,"Notes:"]
[]
[null,"Cell shading:",null,"Cell shading:"]
[null,"White: Data provision is mandatory.",null,"White: Data provision is mandatory."]
[null,"Light grey: The calculation of data is automatic and cannot be edited.",null,"Light grey: Automatic calculation. Formula can exceptionally be changed by a value"]
[null,"Light orange: Footnotes (only to be filled-in when relevant)",null,"Light orange: Footnotes (only to be filled-in when relevant)"]
[null,"Black: Not applicable",null,"Black: Not applicable"]
[]
[]
[null,"Valid standard footnotes:",null,"Valid standard footnotes:"]
[null,"     B -  Break in time series",null,"     B -  Break in time series"]
[null,"     E -  Estimate",null,"     E -  Estimate"]
[null,"     P -  Provisional",null,"     P -  Provisional"]
[]
[null,"Valid confidentiality footnotes:",null,"Valid confidentiality footnotes:"]
[null,"     C -  Confidential",null,"     C -  Confidential"]
[null,"     D -  Secondary confidentiality set by the sender, not for publication",null,"     D -  Secondary confidentiality set by the sender, not for publication"]

{"sheet":"Validation rules","index":7,"n_rows":28,"n_cols":5,"rows_kept":28,"cut":false,"hidden":false,"merged":[]}
[]
[]
[]
[null,null,"Preliminary checks:","ESTAT technical instructions for VB rules development","ESTAT technical instructions for CONVAL rules development"]
[]
["COUNTRYCODE",null,"The reporting country name must be filled in the sheet \"Basic Instructions\".","See hidden sheet \"Country code\"","This looks more like a STRUVAL rule (country code must not be empty)"]
[]
[null,null,"Mandatory Data:"]
[]
["MANDATORY",null,"All the mandatory cells (white cells) in table 1 must be filled-in.","See hidden sheet \"Mandatory\". Specific condition will be needed (left(NUTS,2)=Country_code","E2 to provide list of mandatory primary keys. Notice it is allowed a null (NaN) obs_value if a footnote (obs_comment) is provided"]
[null,null,"If mandatory cells are left empty, an explanation why the data is missing has to be provided by means of the \"Explanatory footnote\" next to the missing value. ","This is controlled in the VB rule by the parameter \"EmptyIsValidIfFootnoteExists\". This parameter is defined in the hidden sheet \"Mandatory\". Notice we check the footnote in the hidden column copying the footnote text, and not for the visible column with the footnote call. This is in case the user set as footnote a number (call) with no text associated in the \"Footnote List\" sheet."]
[]
[null,null,"Arithmetic rules"]
[]
["ZEROORBIGGER",null,"All reported values must be numbers equal or greater than 0","See hidden sheet \"ZeroOrBiggerOrNull\". Null values are accepted but not strings. ISNUMBER(cell) is needed (a string is considered as zero)","Every obs_value must be null, zero or positive."]
[]
["TOTALVSADDENDUMS",null,"TABLE_1 and TABLE_2: The value of every country must be equal to the sum of the values of all NUTS 1 regions included in it.","To be analysed. Formulas to be defined in hidden sheets","Specific formulas per country (NUTS 1 and NUTS2) will be needed."]
[null,null,"TABLE_1 and TABLE_2: The value of every country must be equal to the sum of the values of all NUTS 2 regions included in it.",null,"CDD: I might have the formulas already in MDT. IF so I can provide B5 with all the formulas"]
[null,null,"TABLE_1 and TABLE_2: The value of every NUTS level 1 region must be equal to the sum of the values of all NUTS 2 regions included in it."]
[null,null,"TABLE_1 and TABLE_2: The waste treatment reported in the treatment questionnaire must not exceed capacity or rest-capacity of the treatment facility of the respective treatment operation in this questionnaire.","Only possible in MDT","Not for CONVAL. Only in MDT (This is a control cross questionnaires between Treatment and facilities questionnaires"]
[]
["FOOTNOTECONTENT",null,"Explanatory footnotes"]
[]
[null,null,"When an explanatory footnote is referenced (by means of a number selected from the drop-down list), the referenced footnote in the sheet \"Footnotes list\" must not be empty.","See hidden sheet FootnoteContent","length (obs_comment) must be > 6 characters"]
[]
["CONFIDENTIALITY",null,"Confidentiality"]
[]
[null,null,"Number of waste treatment facilities in both tables must not be confidential (Cells are locked)","Cells are locked.","if unit=NR then conf_status must be null"]

{"sheet":"ErrorLog","index":8,"n_rows":0,"n_cols":0,"rows_kept":0,"cut":false,"hidden":false,"merged":[]}

{"sheet":"Lists","index":9,"n_rows":42,"n_cols":8,"rows_kept":42,"cut":false,"hidden":true,"merged":[]}
["Country label","Country code",null,"Valid flags","Label",null,"Code","Description"]
["Belgium","BE",null,"B","Break in time series",null,"C","confidential"]
["Bulgaria","BG",null,"E","Estimated data",null,"D","secondary confidentiality set by the sender"]
["Czechia","CZ",null,"P","Provisional"]
["Denmark","DK",null,"BE","Break in time series, estimated"]
["Germany","DE",null,"BP","Break in time series, provisional"]
["Estonia","EE",null,"EP","Estimated, provisional"]
["Ireland","IE",null,"BEP","Break in time series, estimated, provisional"]
["Greece","EL"]
["Spain","ES"]
["France","FR"]
["Croatia","HR"]
["Italy","IT"]
["Cyprus","CY"]
["Latvia","LV"]
["Lithuania","LT"]
["Luxembourg","LU"]
["Hungary","HU"]
["Malta","MT"]
["Netherlands","NL"]
["Austria","AT"]
["Poland","PL"]
["Portugal","PT"]
["Romania","RO"]
["Slovenia","SI"]
["Slovakia","SK"]
["Finland","FI"]
["Sweden","SE"]
["United Kingdom","UK"]
["Iceland","IS"]
["Liechtenstein","LI"]
["Norway","NO"]
["Switzerland","CH"]
["Montenegro","ME"]
["North Macedonia","MK"]
["Albania","AL"]
["Serbia","RS"]
["Turkey","TR"]
["Bosnia and Herzegovina","BA"]
["Kosovo (UNSCR 1244)","XK"]
[]
["ESTAT-E2-WASTE-2020","CDD"]

{"sheet":"Locks","index":10,"n_rows":40,"n_cols":8,"rows_kept":40,"cut":false,"hidden":true,"merged":[]}
["SheetName","Top Left Cell","Bottom Right Cell","Row Step","Column Step","Lock Type","Focus Back To","IMPORTANT: The same cell must not be included in two ranges. In such a case the switch will operate twice, leaving the cell in the same original state"]
["Table_2","G11","L11",999,5,"Formulas","G5","BE"]
["Table_2","G28","L28",999,5,"Formulas","G5","BG"]
["Table_2","G40","L40",999,5,"Formulas","G5","CZ"]
["Table_2","G52","L52",999,5,"Formulas","G5","DK"]
["Table_2","G61","L61",999,5,"Formulas","G5","DE"]
["Table_2","G110","L110",999,5,"Formulas","G5","EE"]
["Table_2","G114","L114",999,5,"Formulas","G5","IE"]
["Table_2","G121","L121",999,5,"Formulas","G5","EL"]
["Table_2","G141","L141",999,5,"Formulas","G5","ES"]
["Table_2","G169","L169",999,5,"Formulas","G5","FR"]
["Table_2","G208","L208",999,5,"Formulas","G5","HR"]
["Table_2","G214","L214",999,5,"Formulas","G5","IT"]
["Table_2","G244","L244",999,5,"Formulas","G5","CY"]
["Table_2","G248","L248",999,5,"Formulas","G5","LV"]
["Table_2","G252","L252",999,5,"Formulas","G5","LT"]
["Table_2","G258","L258",999,5,"Formulas","G5","LU"]
["Table_2","G262","L262",999,5,"Formulas","G5","HU"]
["Table_2","G277","L277",999,5,"Formulas","G5","MT"]
["Table_2","G281","L281",999,5,"Formulas","G5","NL"]
["Table_2","G301","L301",999,5,"Formulas","G5","AT"]
["Table_2","G317","L317",999,5,"Formulas","G5","PL"]
["Table_2","G345","L345",999,5,"Formulas","G5","PT"]
["Table_2","G357","L357",999,5,"Formulas","G5","RO"]
["Table_2","G373","L373",999,5,"Formulas","G5","SI"]
["Table_2","G379","L379",999,5,"Formulas","G5","SK"]
["Table_2","G387","L387",999,5,"Formulas","G5","FI"]
["Table_2","G397","L397",999,5,"Formulas","G5","SE"]
["Table_2","G412","L412",999,5,"Formulas","G5","UK"]
["Table_2","G468","L468",999,5,"Formulas","G5","IS"]
["Table_2","G472","L472",999,5,"Formulas","G5","LI"]
["Table_2","G476","L476",999,5,"Formulas","G5","NO"]
["Table_2","G487","L487",999,5,"Formulas","G5","CH"]
["Table_2","G498","L498",999,5,"Formulas","G5","ME"]
["Table_2","G502","L502",999,5,"Formulas","G5","MK"]
["Table_2","G506","L506",999,5,"Formulas","G5","AL"]
["Table_2","G510","L510",999,5,"Formulas","G5","RS"]
["Table_2","G520","L520",999,5,"Formulas","G5","TR"]
["Table_2","G560","L560",999,5,"Formulas","G5","BA"]
["Table_2","G564","L564",999,5,"Formulas","G5","XK"]

{"sheet":"CountryName","index":11,"n_rows":16,"n_cols":6,"rows_kept":16,"cut":false,"hidden":false,"merged":[]}
["Severity","SheetName","TopLeftCell","BottomRightCell","RowStep","ColumnStep"]
["Error","Basic instructions","G11","G11",1,1]
[]
[]
[]
["DESCRIPTION"]
["Spot the position where the reporting country is defined"]
[]
["PARAMETERS"]
[{"$f":"B1","v":"SheetName"},"Name of the sheet to be validated (e.g. Table 1)"]
[{"$f":"C1","v":"TopLeftCell"},"Cell where the country name must be selected"]
[{"$f":"D1","v":"BottomRightCell"},"Same as TopLeftCell (*)  "]
[{"$f":"E1","v":"RowStep"},"Must be \"1\"  (*)  "]
[{"$f":"F1","v":"ColumnStep"},"Must be \"1\"  (*)  "]
[]
["(*) These parameters, apparently useless, are kept to make this validation compatible with other standard validation structures"]

{"sheet":"Summations","index":12,"n_rows":357,"n_cols":11,"rows_kept":357,"cut":false,"hidden":true,"merged":[[258,5,258,6]]}
["Severity","Sheet Name","List of Cells\n (first block)","First Total Cell (first block)","Last Total Cell\n(Last block)","Row Block Repetition Step","Column Block Repetition Step","Greater or Equal","Valid Threshold","Only if all data is available","Display text in error"]
["Error","Table_1","G9,G10,G16","G8","AF8",999,5,"GE",0.1,"NO","BE total"]
["Error","Table_1","G11,G12,G13,G14,G15","G10","AF10",999,5,"GE",0.1,"NO","BE2 total"]
["Error","Table_1","G17,G18,G19,G20,G21","G16","AF16",999,5,"GE",0.1,"NO","BE3 total"]
["Error","Table_1","G23,G28","G22","AF22",999,5,"GE",0.1,"NO","BG total"]
["Error","Table_1","G24,G25,G26,G27","G23","AF23",999,5,"GE",0.1,"NO","BG3 total"]
["Error","Table_1","G29,G30","G28","AF28",999,5,"GE",0.1,"NO","BG4 total"]
["Error","Table_1","G32,G33,G34,G35,G36,G37,G38,G39","G31","AF31",999,5,"GE",0.1,"NO","CZ total"]
["Error","Table_1","G41,G42,G43,G44,G45","G40","AF40",999,5,"GE",0.1,"NO","DK total"]
["Error","Table_1","G47,G52,G60,G61,G62,G63,G64,G68,G69,G74,G80,G84,G85,G89,G90,G91","G46","AF46",999,5,"GE",0.1,"NO","DE total"]
["Error","Table_1","G48,G49,G50,G51","G47","AF47",999,5,"GE",0.1,"NO","DE1 total"]
["Error","Table_1","G53,G54,G55,G56,G57,G58,G59","G52","AF52",999,5,"GE",0.1,"NO","DE2 total"]
["Error","Table_1","G65,G66,G67","G64","AF64",999,5,"GE",0.1,"NO","DE7 total"]
["Error","Table_1","G70,G71,G72,G73","G69","AF69",999,5,"GE",0.1,"NO","DE9 total"]
["Error","Table_1","G75,G76,G77,G78,G79","G74","AF74",999,5,"GE",0.1,"NO","DEA total"]
["Error","Table_1","G81,G82,G83","G80","AF80",999,5,"GE",0.1,"NO","DEB total"]
["Error","Table_1","G86,G87,G88","G85","AF85",999,5,"GE",0.1,"NO","DED total"]
["Error","Table_1","G94,G95,G96","G93","AF93",999,5,"GE",0.1,"NO","IE total"]
["Error","Table_1","G98,G99,G103,G108","G97","AF97",999,5,"GE",0.1,"NO","EL total"]
["Error","Table_1","G100,G101,G102","G99","AF99",999,5,"GE",0.1,"NO","EL4 total"]
["Error","Table_1","G104,G105,G106,G107","G103","AF103",999,5,"GE",0.1,"NO","EL5 total"]
["Error","Table_1","G109,G110,G111,G112,G113","G108","AF108",999,5,"GE",0.1,"NO","EL6 total"]
["Error","Table_1","G115,G119,G124,G125,G129,G133,G138","G114","AF114",999,5,"GE",0.1,"NO","ES total"]
["Error","Table_1","G116,G117,G118","G115","AF115",999,5,"GE",0.1,"NO","ES1 total"]
["Error","Table_1","G120,G121,G122,G123","G119","AF119",999,5,"GE",0.1,"NO","ES2 total"]
["Error","Table_1","G126,G127,G128","G125","AF125",999,5,"GE",0.1,"NO","ES4 total"]
["Error","Table_1","G130,G131,G132","G129","AF129",999,5,"GE",0.1,"NO","ES5 total"]
["Error","Table_1","G134,G135,G136,G137","G133","AF133",999,5,"GE",0.1,"NO","ES6 total"]
["Error","Table_1","G140,G141,G142,G145,G148,G151,G155,G156,G157,G161,G164,G167,G168,G169","G139","AF139",999,5,"GE",0.1,"NO","FR total"]
["Error","Table_1","G143,G144","G142","AF142",999,5,"GE",0.1,"NO","FRC total"]
["Error","Table_1","G146,G147","G145","AF145",999,5,"GE",0.1,"NO","FRD total"]
["Error","Table_1","G149,G150","G148","AF148",999,5,"GE",0.1,"NO","FRE total"]
["Error","Table_1","G152,G153,G154","G151","AF151",999,5,"GE",0.1,"NO","FRF total"]
["Error","Table_1","G158,G159,G160","G157","AF157",999,5,"GE",0.1,"NO","FRI total"]
["Error","Table_1","G162,G163","G161","AF161",999,5,"GE",0.1,"NO","FRJ total"]
["Error","Table_1","G165,G166","G164","AF164",999,5,"GE",0.1,"NO","FRK total"]
["Error","Table_1","G170,G171,G172,G173,G174","G169","AF169",999,5,"GE",0.1,"NO","FRY total"]
["Error","Table_1","G176,G177","G175","AF175",999,5,"GE",0.1,"NO","HR total"]
["Error","Table_1","G179,G184,G191,G194,G200","G178","AF178",999,5,"GE",0.1,"NO","IT total"]
["Error","Table_1","G180,G181,G182,G183","G179","AF179",999,5,"GE",0.1,"NO","ITC total"]
["Error","Table_1","G185,G186,G187,G188,G189,G190","G184","AF184",999,5,"GE",0.1,"NO","ITF total"]
["Error","Table_1","G192,G193","G191","AF191",999,5,"GE",0.1,"NO","ITG total"]
["Error","Table_1","G195,G196,G197,G198,G199","G194","AF194",999,5,"GE",0.1,"NO","ITH total"]
["Error","Table_1","G201,G202,G203,G204","G200","AF200",999,5,"GE",0.1,"NO","ITI total"]
["Error","Table_1","G208,G209","G207","AF207",999,5,"GE",0.1,"NO","LT total"]
["Error","Table_1","G212,G215,G219","G211","AF211",999,5,"GE",0.1,"NO","HU total"]
["Error","Table_1","G213,G214","G212","AF212",999,5,"GE",0.1,"NO","HU1 total"]
["Error","Table_1","G216,G217,G218","G215","AF215",999,5,"GE",0.1,"NO","HU2 total"]
["Error","Table_1","G220,G221,G222","G219","AF219",999,5,"GE",0.1,"NO","HU3 total"]
["Error","Table_1","G225,G229,G233,G238","G224","AF224",999,5,"GE",0.1,"NO","NL total"]
["Error","Table_1","G226,G227,G228","G225","AF225",999,5,"GE",0.1,"NO","NL1 total"]
["Error","Table_1","G230,G231,G232","G229","AF229",999,5,"GE",0.1,"NO","NL2 total"]
["Error","Table_1","G234,G235,G236,G237","G233","AF233",999,5,"GE",0.1,"NO","NL3 total"]
["Error","Table_1","G239,G240","G238","AF238",999,5,"GE",0.1,"NO","NL4 total"]
["Error","Table_1","G242,G246,G249","G241","AF241",999,5,"GE",0.1,"NO","AT total"]
["Error","Table_1","G243,G244,G245","G242","AF242",999,5,"GE",0.1,"NO","AT1 total"]
["Error","Table_1","G247,G248","G246","AF246",999,5,"GE",0.1,"NO","AT2 total"]
["Error","Table_1","G250,G251,G252,G253","G249","AF249",999,5,"GE",0.1,"NO","AT3 total"]
["Error","Table_1","G255,G258,G262,G265,G269,G272,G276","G254","AF254",999,5,"GE",0.1,"NO","PL total"]
["Error","Table_1","G257,G257","G255","AF255",999,5,"GE",0.1,"NO","PL2 total"]
["Error","Table_1","G259,G260,G261","G258","AF258",999,5,"GE",0.1,"NO","PL4 total"]
["Error","Table_1","G263,G264","G262","AF262",999,5,"GE",0.1,"NO","PL5 total"]
["Error","Table_1","G266,G267,G268","G265","AF265",999,5,"GE",0.1,"NO","PL6 total"]
["Error","Table_1","G270,G271","G269","AF269",999,5,"GE",0.1,"NO","PL7 total"]
["Error","Table_1","G273,G274,G275","G272","AF272",999,5,"GE",0.1,"NO","PL8 total"]
["Error","Table_1","G277,G278","G276","AF276",999,5,"GE",0.1,"NO","PL9 total"]
["Error","Table_1","G280,G286,G287","G279","AF279",999,5,"GE",0.1,"NO","PT total"]
["Error","Table_1","G281,G282,G283,G284,G285","G280","AF280",999,5,"GE",0.1,"NO","PT1 total"]
["Error","Table_1","G289,G292,G295,G298","G288","AF288",999,5,"GE",0.1,"NO","RO total"]
["Error","Table_1","G290,G291","G289","AF289",999,5,"GE",0.1,"NO","RO1 total"]
["Error","Table_1","G293,G294","G292","AF292",999,5,"GE",0.1,"NO","RO2 total"]
["Error","Table_1","G296,G297","G295","AF295",999,5,"GE",0.1,"NO","RO3 total"]
["Error","Table_1","G299,G300","G298","AF298",999,5,"GE",0.1,"NO","RO4 total"]
["Error","Table_1","G302,G303","G301","AF301",999,5,"GE",0.1,"NO","SI total"]
["Error","Table_1","G305,G306,G307,G308","G304","AF304",999,5,"GE",0.1,"NO","SK total"]
["Error","Table_1","G310,G315","G309","AF309",999,5,"GE",0.1,"NO","FI total"]
["Error","Table_1","G311,G312,G313,G314","G310","AF310",999,5,"GE",0.1,"NO","FI1 total"]
["Error","Table_1","G317,G320,G324","G316","AF316",999,5,"GE",0.1,"NO","SE total"]
["Error","Table_1","G318,G319","G317","AF317",999,5,"GE",0.1,"NO","SE1 total"]
["Error","Table_1","G321,G322,G323","G320","AF320",999,5,"GE",0.1,"NO","SE2 total"]
["Error","Table_1","G325,G326,G327","G324","AF324",999,5,"GE",0.1,"NO","SE3 total"]
["Error","Table_1","G329,G332,G338,G343,G347,G351,G355,G361,G366,G371,G374,G380","G328","AF328",999,5,"GE",0.1,"NO","UK total"]
["Error","Table_1","G330,G331","G329","AF329",999,5,"GE",0.1,"NO","UKC total"]
["Error","Table_1","G333,G334,G335,G336,G337","G332","AF332",999,5,"GE",0.1,"NO","UKD total"]
["Error","Table_1","G339, G340,G341,G342","G338","AF338",999,5,"GE",0.1,"NO","UKE total"]
["Error","Table_1","G344,G345,G346","G343","AF343",999,5,"GE",0.1,"NO","UKF total"]
["Error","Table_1","G348,G349,G350","G347","AF347",999,5,"GE",0.1,"NO","UKG total"]
["Error","Table_1","G352,G353,G354","G351","AF351",999,5,"GE",0.1,"NO","UKH total"]
["Error","Table_1","G356,G357,G358,G359,G360","G355","AF355",999,5,"GE",0.1,"NO","UKI total"]
["Error","Table_1","G362,G363,G364,G365","G361","AF361",999,5,"GE",0.1,"NO","UKJ total"]
["Error","Table_1","G367,G368,G369,G370","G366","AF366",999,5,"GE",0.1,"NO","UKK total"]
["Error","Table_1","G372,G373","G371","AF371",999,5,"GE",0.1,"NO","UKL total"]
["Error","Table_1","G375,G376,G377,G378,G379","G374","AF374",999,5,"GE",0.1,"NO","UKM total"]
["Error","Table_1","G384,G385,G386,G387,G388,G389,G390","G383","AF383",999,5,"GE",0.1,"NO","NO total"]
["Error","Table_1","G392,G393,G394,G395,G396,G397,G398","G391","AF391",999,5,"GE",0.1,"NO","CH total"]
["Error","Table_1","G403,G406","G402","AF402",999,5,"GE",0.1,"NO","RS total"]
["Error","Table_1","G404,G405","G403","AF403",999,5,"GE",0.1,"NO","RS1 total"]
["Error","Table_1","G407,G408","G406","AF406",999,5,"GE",0.1,"NO","RS2 total"]
["Error","Table_1","G410,G411,G414,G418,G421,G424,G428,G431,G435,G436,G439,G442","G409","AF409",999,5,"GE",0.1,"NO","TR total"]
["Error","Table_1","G412,G413","G411","AF411",999,5,"GE",0.1,"NO","TR2 total"]
["Error","Table_1","G415,G416,G417","G414","AF414",999,5,"GE",0.1,"NO","TR3 total"]
["Error","Table_1","G419,G420","G418","AF418",999,5,"GE",0.1,"NO","TR4 total"]
["Error","Table_1","G422,G423","G421","AF421",999,5,"GE",0.1,"NO","TR5 total"]
["Error","Table_1","G425,G426,G427","G424","AF424",999,5,"GE",0.1,"NO","TR6 total"]
["Error","Table_1","G429,G430","G428","AF428",999,5,"GE",0.1,"NO","TR7 total"]
["Error","Table_1","G432,G433,G434","G431","AF431",999,5,"GE",0.1,"NO","TR8 total"]
["Error","Table_1","G437,G438","G436","AF436",999,5,"GE",0.1,"NO","TRA total"]
["Error","Table_1","G440,G441","G439","AF439",999,5,"GE",0.1,"NO","TRB total"]
["Error","Table_1","G443,G444,G445","G442","AF442",999,5,"GE",0.1,"NO","TRC total"]
["Error","Table_2","G8,G9,G10","G11","L11",999,5,"GE",0.1,"NO"]
["Error","Table_2","G25,G26,G27","G28","L28",999,5,"GE",0.1,"NO"]
["Error","Table_2","G37,G38,G39","G40","L40",999,5,"GE",0.1,"NO"]
["Error","Table_2","G49,G50,G51","G52","L52",999,5,"GE",0.1,"NO"]
["Error","Table_2","G58,G59,G60","G61","L61",999,5,"GE",0.1,"NO"]
["Error","Table_2","G107,G108,G109","G110","L110",999,5,"GE",0.1,"NO"]
["Error","Table_2","G111,G112,G113","G114","L114",999,5,"GE",0.1,"NO"]
["Error","Table_2","G117,G118,G119","G121","L121",999,5,"GE",0.1,"NO"]
["Error","Table_2","G138,G139,G140","G141","L141",999,5,"GE",0.1,"NO"]
["Error","Table_2","G166,G167,G168","G169","L169",999,5,"GE",0.1,"NO"]
["Error","Table_2","G205,G206,G207","G208","L208",999,5,"GE",0.1,"NO"]
["Error","Table_2","G211,G212,G213","G214","L214",999,5,"GE",0.1,"NO"]
["Error","Table_2","G241,G242,G243","G244","L244",999,5,"GE",0.1,"NO"]
["Error","Table_2","G245,G246,G247","G248","L248",999,5,"GE",0.1,"NO"]
["Error","Table_2","G249,G250,G251","G252","L252",999,5,"GE",0.1,"NO"]
["Error","Table_2","G255,G256,G257","G258","L258",999,5,"GE",0.1,"NO"]
["Error","Table_2","G259,G260,G261","G262","L262",999,5,"GE",0.1,"NO"]
["Error","Table_2","G276,G277,G278","G277","L277",999,5,"GE",0.1,"NO"]
["Error","Table_2","G278,G279,G280","G281","L281",999,5,"GE",0.1,"NO"]
["Error","Table_2","G298,G299,G300","G301","L301",999,5,"GE",0.1,"NO"]
["Error","Table_2","G314,G315,G316","G317","L317",999,5,"GE",0.1,"NO"]
["Error","Table_2","G342,G343,G344","G345","L345",999,5,"GE",0.1,"NO"]
["Error","Table_2","G354,G355,G356","G357","L357",999,5,"GE",0.1,"NO"]
["Error","Table_2","G370,G371,G372","G373","L373",999,5,"GE",0.1,"NO"]
["Error","Table_2","G376,G377,G378","G379","L379",999,5,"GE",0.1,"NO"]
["Error","Table_2","G384,G385,G386","G387","L387",999,5,"GE",0.1,"NO"]
["Error","Table_2","G394,G395,G396","G397","L397",999,5,"GE",0.1,"NO"]
["Error","Table_2","G409,G410,G411","G412","L412",999,5,"GE",0.1,"NO"]
["Error","Table_2","G466,G467,G468","G469","L469",999,5,"GE",0.1,"NO"]
["Error","Table_2","G470,G471,G472","G473","L473",999,5,"GE",0.1,"NO"]
["Error","Table_2","G474,G475,G476","G477","L477",999,5,"GE",0.1,"NO"]
["Error","Table_2","G485,G486,G487","G488","L488",999,5,"GE",0.1,"NO"]
["Error","Table_2","G496,G497,G498","G499","L499",999,5,"GE",0.1,"NO"]
["Error","Table_2","G500,G501,G502","G503","L503",999,5,"GE",0.1,"NO"]
["Error","Table_2","G504,G505,G506","G507","L507",999,5,"GE",0.1,"NO"]
["Error","Table_2","G508,G509,G510","G511","L511",999,5,"GE",0.1,"NO"]
["Error","Table_2","G518,G519,G520","G521","L521",999,5,"GE",0.1,"NO"]
["Error","Table_2","G559,G560,G561","G562","L562",999,5,"GE",0.1,"NO"]
["Error","Table_2","G563,G564,G565","G566","L566",999,5,"GE",0.1,"NO"]
["Error","Table_2","G12,G13,G19","G11","L11",999,5,"GE",0.1,"NO","BE total"]
["Error","Table_2","G14,G15,G16,G17,G18","G13","L13",999,5,"GE",0.1,"NO","BE2 total"]
["Error","Table_2","G20,G21,G22,G23,G24","G19","L19",999,5,"GE",0.1,"NO","BE3 total"]
["Error","Table_2","G29,G34","G28","L28",999,5,"GE",0.1,"NO","BG total"]
["Error","Table_2","G30,G31,G32,G33","G29","L29",999,5,"GE",0.1,"NO","BG3 total"]
["Error","Table_2","G35,G36","G34","L34",999,5,"GE",0.1,"NO","BG4 total"]
["Error","Table_2","G41,G42,G43,G44,G45,G46,G47,G48","G40","L40",999,5,"GE",0.1,"NO","CZ total"]
["Error","Table_2","G53,G54,G55,G56,G57","G52","L52",999,5,"GE",0.1,"NO","DK total"]
["Error","Table_2","G62,G67,G75,G76,G77,G78,G79,G83,G84,G89,G95,G99,G100,G104,G105,G106","G61","L61",999,5,"GE",0.1,"NO","DE total"]
["Error","Table_2","G63,G64,G65,G66","G62","L62",999,5,"GE",0.1,"NO","DE1 total"]
["Error","Table_2","G68,G69,G70,G71,G72,G73,G74","G67","L67",999,5,"GE",0.1,"NO","DE2 total"]
["Error","Table_2","G80,G81,G82","G79","L79",999,5,"GE",0.1,"NO","DE7 total"]
["Error","Table_2","G85,G86,G87,G88","G84","L84",999,5,"GE",0.1,"NO","DE9 total"]
["Error","Table_2","G90,G91,G92,G93,G94","G89","L89",999,5,"GE",0.1,"NO","DEA total"]
["Error","Table_2","G96,G97,G98","G95","L95",999,5,"GE",0.1,"NO","DEB total"]
["Error","Table_2","G101,G102,G103","G100","L100",999,5,"GE",0.1,"NO","DED total"]
["Error","Table_2","G115,G116,G117","G114","L114",999,5,"GE",0.1,"NO","IE total"]
["Error","Table_2","G122,G123,G127,G132","G121","L121",999,5,"GE",0.1,"NO","EL total"]
["Error","Table_2","G124,G125,G126","G123","L123",999,5,"GE",0.1,"NO","EL4 total"]
["Error","Table_2","G128,G129,G130,G131","G127","L127",999,5,"GE",0.1,"NO","EL5 total"]
["Error","Table_2","G133,G134,G135,G136,G137","G132","L132",999,5,"GE",0.1,"NO","EL6 total"]
["Error","Table_2","G142,G146,G151,G152,G156,G160,G165","G141","L141",999,5,"GE",0.1,"NO","ES total"]
["Error","Table_2","G143,G144,G145","G142","L142",999,5,"GE",0.1,"NO","ES1 total"]
["Error","Table_2","G147,G148,G149,G150","G146","L146",999,5,"GE",0.1,"NO","ES2 total"]
["Error","Table_2","G153,G154,G155","G152","L152",999,5,"GE",0.1,"NO","ES4 total"]
["Error","Table_2","G157,G158,G159","G156","L156",999,5,"GE",0.1,"NO","ES5 total"]
["Error","Table_2","G161,G162,G163,G164","G160","L160",999,5,"GE",0.1,"NO","ES6 total"]
["Error","Table_2","G170,G171,G172,G175,G178,G181,G185,G186,G187,G191,G194,G197,G198,G199","G169","L169",999,5,"GE",0.1,"NO","FR total"]
["Error","Table_2","G173,G174","G172","L172",999,5,"GE",0.1,"NO","FRC total"]
["Error","Table_2","G176,G177","G175","L175",999,5,"GE",0.1,"NO","FRD total"]
["Error","Table_2","G179,G180","G178","L178",999,5,"GE",0.1,"NO","FRE total"]
["Error","Table_2","G182,G183,G184","G181","L181",999,5,"GE",0.1,"NO","FRF total"]
["Error","Table_2","G188,G189,G190","G187","L187",999,5,"GE",0.1,"NO","FRI total"]
["Error","Table_2","G192,G193","G191","L191",999,5,"GE",0.1,"NO","FRJ total"]
["Error","Table_2","G195,G196","G194","L194",999,5,"GE",0.1,"NO","FRK total"]
["Error","Table_2","G200,G201,G202,G203,G204","G199","L199",999,5,"GE",0.1,"NO","FRY total"]
["Error","Table_2","G209,G210","G208","L208",999,5,"GE",0.1,"NO","HR total"]
["Error","Table_2","G215,G220,G227,G230,G236","G214","L214",999,5,"GE",0.1,"NO","IT total"]
["Error","Table_2","G216,G217,G218,G219","G215","L215",999,5,"GE",0.1,"NO","ITC total"]
["Error","Table_2","G221,G222,G223,G224,G225,G226","G220","L220",999,5,"GE",0.1,"NO","ITF total"]
["Error","Table_2","G228,G229","G227","L227",999,5,"GE",0.1,"NO","ITG total"]
["Error","Table_2","G231,G232,G233,G234,G235","G230","L230",999,5,"GE",0.1,"NO","ITH total"]
["Error","Table_2","G237,G238,G239,G240","G236","L236",999,5,"GE",0.1,"NO","ITI total"]
["Error","Table_2","G252,G254","G252","L252",999,5,"GE",0.1,"NO","LT total"]
["Error","Table_2","G263,G266,G270","G262","L262",999,5,"GE",0.1,"NO","HU total"]
["Error","Table_2","G264,G265","G263","L263",999,5,"GE",0.1,"NO","HU1 total"]
["Error","Table_2","G267,G268,G269","G266","L266",999,5,"GE",0.1,"NO","HU2 total"]
["Error","Table_2","G271,G272,G273","G270","L270",999,5,"GE",0.1,"NO","HU3 total"]
["Error","Table_2","G282,G286,G290,G295","G281","L281",999,5,"GE",0.1,"NO","NL total"]
["Error","Table_2","G283,G284,G285","G282","L282",999,5,"GE",0.1,"NO","NL1 total"]
["Error","Table_2","G287,G288,G289","G286","L286",999,5,"GE",0.1,"NO","NL2 total"]
["Error","Table_2","G291,G292,G293,G294","G290","L290",999,5,"GE",0.1,"NO","NL3 total"]
["Error","Table_2","G296,G297","G295","L295",999,5,"GE",0.1,"NO","NL4 total"]
["Error","Table_2","G302,G306,G309","G301","L301",999,5,"GE",0.1,"NO","AT total"]
["Error","Table_2","G303,G304,G305","G302","L302",999,5,"GE",0.1,"NO","AT1 total"]
["Error","Table_2","G307,G308","G306","L306",999,5,"GE",0.1,"NO","AT2 total"]
["Error","Table_2","G310,G311,G312,G313","G309","L309",999,5,"GE",0.1,"NO","AT3 total"]
["Error","Table_2","G318,G321,G325,G328,G332,G335,G339","G317","L317",999,5,"GE",0.1,"NO","PL total"]
["Error","Table_2","G319,G320","G318","L318",999,5,"GE",0.1,"NO","PL2 total"]
["Error","Table_2","G322,G323,G324","G321","L321",999,5,"GE",0.1,"NO","PL4 total"]
["Error","Table_2","G326,G327","G325","L325",999,5,"GE",0.1,"NO","PL5 total"]
["Error","Table_2","G329,G330,G331","G328","L328",999,5,"GE",0.1,"NO","PL6 total"]
["Error","Table_2","G333,G334","G332","L332",999,5,"GE",0.1,"NO","PL7 total"]
["Error","Table_2","G336,G337,G338","G335","L335",999,5,"GE",0.1,"NO","PL8 total"]
["Error","Table_2","G340,G341","G339","L339",999,5,"GE",0.1,"NO","PL9 total"]
["Error","Table_2","G246,G352,G353","G345","L345",999,5,"GE",0.1,"NO","PT total"]
["Error","Table_2","G347,G348,G349,G350,G351","G346","L346",999,5,"GE",0.1,"NO","PT1 total"]
["Error","Table_2","G358,G361,G364,G367","G357","L357",999,5,"GE",0.1,"NO","RO total"]
["Error","Table_2","G359,G360","G358","L358",999,5,"GE",0.1,"NO","RO1 total"]
["Error","Table_2","G362,G363","G361","L361",999,5,"GE",0.1,"NO","RO2 total"]
["Error","Table_2","G365,G366","G364","L364",999,5,"GE",0.1,"NO","RO3 total"]
["Error","Table_2","G368,G369","G367","L367",999,5,"GE",0.1,"NO","RO4 total"]
["Error","Table_2","G374,G374","G373","L373",999,5,"GE",0.1,"NO","SI total"]
["Error","Table_2","G380,G381,G382,G383","G379","L379",999,5,"GE",0.1,"NO","SK total"]
["Error","Table_2","G388,G393","G387","L387",999,5,"GE",0.1,"NO","FI total"]
["Error","Table_2","G389,G390,G391,G392","G388","L388",999,5,"GE",0.1,"NO","FI1 total"]
["Error","Table_2","G398,G401,G405","G397","L397",999,5,"GE",0.1,"NO","SE total"]
["Error","Table_2","G399,G400","G398","L398",999,5,"GE",0.1,"NO","SE1 total"]
["Error","Table_2","G402,G403,G404","G401","L401",999,5,"GE",0.1,"NO","SE2 total"]
["Error","Table_2","G406,G407,G408","G405","L405",999,5,"GE",0.1,"NO","SE3 total"]
["Error","Table_2","G413,G416,G422,G427,G431,G435,G439,G445,G450,G455,G458,G464","G412","L412",999,5,"GE",0.1,"NO","UK total"]
["Error","Table_2","G414,G415","G413","L412",999,5,"GE",0.1,"NO","UKC total"]
["Error","Table_2","G417,G418,G419,G420,G421","G416","L416",999,5,"GE",0.1,"NO","UKD total"]
["Error","Table_2","G423, G424,G425,G426","G422","L422",999,5,"GE",0.1,"NO","UKE total"]
["Error","Table_2","G428,G429,G430","G427","L427",999,5,"GE",0.1,"NO","UKF total"]
["Error","Table_2","G432,G433,G434","G431","L431",999,5,"GE",0.1,"NO","UKG total"]
["Error","Table_2","G436,G437,G438","G435","L435",999,5,"GE",0.1,"NO","UKH total"]
["Error","Table_2","G440,G441,G442,G443,G444","G439","L439",999,5,"GE",0.1,"NO","UKI total"]
["Error","Table_2","G446,G447,G448,G449","G445","L445",999,5,"GE",0.1,"NO","UKJ total"]
["Error","Table_2","G451,G452,G453,G454","G450","L450",999,5,"GE",0.1,"NO","UKK total"]
["Error","Table_2","G456,G456","G455","L455",999,5,"GE",0.1,"NO","UKL total"]
["Error","Table_2","G459,G460,G461,G462,G463","G458","L458",999,5,"GE",0.1,"NO","UKM total"]
["Error","Table_2","G477,G478,G479,G480,G481,G482,G483","G476","L476",999,5,"GE",0.1,"NO","NO total"]
["Error","Table_2","G488,G489,G490,G491,G492,G493,G494","G487","L487",999,5,"GE",0.1,"NO","CH total"]
["Error","Table_2","G511,G514","G510","L510",999,5,"GE",0.1,"NO","RS total"]
["Error","Table_2","G512,G513","G511","L511",999,5,"GE",0.1,"NO","RS1 total"]
["Error","Table_2","G515,G516","G514","L514",999,5,"GE",0.1,"NO","RS2 total"]
["Error","Table_2","G521,G522,G525,G529,G532,G535,G539,G542,G546,G547,G550,G553","G520","L520",999,5,"GE",0.1,"NO","TR total"]
["Error","Table_2","G523,G524","G522","L522",999,5,"GE",0.1,"NO","TR2 total"]
["Error","Table_2","G526,G527,G528","G525","L525",999,5,"GE",0.1,"NO","TR3 total"]
["Error","Table_2","G530,G531","G529","L529",999,5,"GE",0.1,"NO","TR4 total"]
["Error","Table_2","G533,G534","G532","L532",999,5,"GE",0.1,"NO","TR5 total"]
["Error","Table_2","G536,G537,G538","G535","L535",999,5,"GE",0.1,"NO","TR6 total"]
["Error","Table_2","G540,G541","G539","L539",999,5,"GE",0.1,"NO","TR7 total"]
["Error","Table_2","G543,G544,G545","G542","L542",999,5,"GE",0.1,"NO","TR8 total"]
["Error","Table_2","G548,G549","G547","L547",999,5,"GE",0.1,"NO","TRA total"]
["Error","Table_2","G551,G552","G550","L550",999,5,"GE",0.1,"NO","TRB total"]
["Error","Table_2","G554,G555,G556","G553","L553",999,5,"GE",0.1,"NO","TRC total"]
[]
[]
[null,null,null,null,null,"Must be > 0 for a not relevant dimension. Else you get an infinite loop",null,"EQ or GE or GT","GT does not admit threshold","NO or YES"]
[]
["DESCRIPTION"]
["This sheet is meant to define the validation for summations in a row or in a column."]
["- A block is defined as a sequence of addendums in the same row or column"]
["- Only the first block must be explicitly defined"]
["- The block can be repeated at regular patterns through rows and columns at the same time"]
[]
[]
["PARAMETRES"]
["SheetName",null,"Name of the sheet to be validated (e.g. Table 1)"]
["List of Cells\n (first block)",null,"First cell in the first block to be validated"]
["First TotalCell (first block)"]
["Last TotalCell (Last block)"]
["Row Block Repetition Step"]
["Column Block Repetition Step"]
["Greater or Equal"]
["Valid Threshold"]
["Only if all data is available"]
["Display text in error",null,"Valid values: EQ (Strictly equal); GE (Greater or Equal); GT (Strictly greater - No threshold will be considered)"]
[]
[]
[]
[]
[]
[]
[]
[]
[]
[]
[]
[]
[]
[]
[]
[]
[]
[]
[]
[]
[]
[]
[]
[]
[]
[]
[]
[]
[]
[]
[]
[]
[]
[]
[]
[]
[]
[]
[]
[]
[]
[]
[]
[]
[]
[]
[]
[]
[]
[]
[]
[]
[]
[]
[]
[]
[]
[]
[]
[]
[]
[]
[]
[]
[]
[]
[]
[]
[]
[]
[]
[]
[]
[]
[]
[]
[]
[]
[null,null,null,{"$f":"SUM(Summations!B3º)","v":{"$error":"#NAME?"}}]

{"sheet":"IsFormula","index":13,"n_rows":40,"n_cols":7,"rows_kept":40,"cut":false,"hidden":true,"merged":[]}
["Severity","Sheet Name","Top Left Cell","Bottom Right Cell","Row Step","Column Step"]
["Info","Table_2","G11","L11",999,5,"BE"]
["Info","Table_2","G28","L28",999,5,"BG"]
["Info","Table_2","G40","L40",999,5,"CZ"]
["Info","Table_2","G52","L52",999,5,"DK"]
["Info","Table_2","G61","L61",999,5,"DE"]
["Info","Table_2","G110","L110",999,5,"EE"]
["Info","Table_2","G114","L114",999,5,"IE"]
["Info","Table_2","G121","L121",999,5,"EL"]
["Info","Table_2","G141","L141",999,5,"ES"]
["Info","Table_2","G169","L169",999,5,"FR"]
["Info","Table_2","G208","L208",999,5,"HR"]
["Info","Table_2","G214","L214",999,5,"IT"]
["Info","Table_2","G244","L244",999,5,"CY"]
["Info","Table_2","G248","L248",999,5,"LV"]
["Info","Table_2","G252","L252",999,5,"LT"]
["Info","Table_2","G258","L258",999,5,"LU"]
["Info","Table_2","G262","L262",999,5,"HU"]
["Info","Table_2","G277","L277",999,5,"MT"]
["Info","Table_2","G281","L281",999,5,"NL"]
["Info","Table_2","G301","L301",999,5,"AT"]
["Info","Table_2","G317","L317",999,5,"PL"]
["Info","Table_2","G345","L345",999,5,"PT"]
["Info","Table_2","G357","L357",999,5,"RO"]
["Info","Table_2","G373","L373",999,5,"SI"]
["Info","Table_2","G379","L379",999,5,"SK"]
["Info","Table_2","G387","L387",999,5,"FI"]
["Info","Table_2","G397","L397",999,5,"SE"]
["Info","Table_2","G412","L412",999,5,"UK"]
["Info","Table_2","G468","L468",999,5,"IS"]
["Info","Table_2","G472","L472",999,5,"LI"]
["Info","Table_2","G476","L476",999,5,"NO"]
["Info","Table_2","G487","L487",999,5,"CH"]
["Info","Table_2","G498","L498",999,5,"ME"]
["Info","Table_2","G502","L502",999,5,"MK"]
["Info","Table_2","G506","L506",999,5,"AL"]
["Info","Table_2","G510","L510",999,5,"RS"]
["Info","Table_2","G520","L520",999,5,"TR"]
["Info","Table_2","G560","L560",999,5,"BA"]
["Info","Table_2","G564","L564",999,5,"XK"]

{"sheet":"Mandatory","index":14,"n_rows":42,"n_cols":9,"rows_kept":42,"cut":false,"hidden":true,"merged":[]}
["Severity","Sheet Name","Top Left Cell","Bottom Right Cell","Row Step","Column Step","Empty Is Valid If Footnote Exists","Footnote Shift From Value"]
["Error","Table_1","G8","AF455",1,5,"YES",4]
["Error","Table_2","G8","L566",1,5,"YES",4,"ALL COUNTRIES"]
["Error","Table_2","Q8","Q10",1,5,"YES",4,"BE"]
["Error","Table_2","Q25","Q27",1,5,"YES",4,"BG"]
["Error","Table_2","Q37","Q39",1,5,"YES",4,"CZ"]
["Error","Table_2","Q49","Q51",1,5,"YES",4,"DK"]
["Error","Table_2","Q58","Q60",1,5,"YES",4,"DE"]
["Error","Table_2","Q107","Q109",1,5,"YES",4,"EE"]
["Error","Table_2","Q111","Q113",1,5,"YES",4,"IE"]
["Error","Table_2","Q117","Q119",1,5,"YES",4,"EL"]
["Error","Table_2","Q138","Q140",1,5,"YES",4,"ES"]
["Error","Table_2","Q166","Q168",1,5,"YES",4,"FR"]
["Error","Table_2","Q205","Q207",1,5,"YES",4,"HR"]
["Error","Table_2","Q211","Q213",1,5,"YES",4,"IT"]
["Error","Table_2","Q241","Q243",1,5,"YES",4,"CY"]
["Error","Table_2","Q245","Q247",1,5,"YES",4,"LV"]
["Error","Table_2","Q249","Q251",1,5,"YES",4,"LT"]
["Error","Table_2","Q255","Q257",1,5,"YES",4,"LU"]
["Error","Table_2","Q259","Q261",1,5,"YES",4,"HU"]
["Error","Table_2","Q276","Q278",1,5,"YES",4,"MT"]
["Error","Table_2","Q278","Q280",1,5,"YES",4,"NL"]
["Error","Table_2","Q298","Q300",1,5,"YES",4,"AT"]
["Error","Table_2","Q314","Q316",1,5,"YES",4,"PL"]
["Error","Table_2","Q342","Q344",1,5,"YES",4,"PT"]
["Error","Table_2","Q354","Q356",1,5,"YES",4,"RO"]
["Error","Table_2","Q370","Q372",1,5,"YES",4,"SI"]
["Error","Table_2","Q376","Q378",1,5,"YES",4,"SK"]
["Error","Table_2","Q384","Q386",1,5,"YES",4,"FI"]
["Error","Table_2","Q394","Q396",1,5,"YES",4,"SE"]
["Error","Table_2","Q409","Q411",1,5,"YES",4,"UK"]
["Error","Table_2","Q465","Q467",1,5,"YES",4,"IS"]
["Error","Table_2","Q469","Q471",1,5,"YES",4,"LI"]
["Error","Table_2","Q473","Q475",1,5,"YES",4,"NO"]
["Error","Table_2","Q484","Q486",1,5,"YES",4,"CH"]
["Error","Table_2","Q495","Q497",1,5,"YES",4,"ME"]
["Error","Table_2","Q499","Q501",1,5,"YES",4,"MK"]
["Error","Table_2","Q503","Q505",1,5,"YES",4,"AL"]
["Error","Table_2","Q507","Q509",1,5,"YES",4,"RS"]
["Error","Table_2","Q517","Q519",1,5,"YES",4,"TR"]
["Error","Table_2","Q557","Q559",1,5,"YES",4,"BA"]
["Error","Table_2","Q561","Q563",1,5,"YES",4,"XK"]

{"sheet":"FootnoteContent","index":15,"n_rows":3,"n_cols":7,"rows_kept":3,"cut":false,"hidden":true,"merged":[]}
["Severity","SheetName","TopLeftCell","BottomRightCell","RowStep","ColumnStep","DistanceFromReferenceToText"]
["Error","Table_1","J8","AN118",1,5,1]
["Error","Table_2","J8","T564",1,5,1]

{"sheet":"MustNotBeNegative","index":16,"n_rows":5,"n_cols":6,"rows_kept":5,"cut":false,"hidden":true,"merged":[]}
["Severity","SheetName","TopLeftCell","BottomRightCell","RowStep","ColumnStep"]
["Error","Table_1","G8","AF455",1,5]
["Error","Table_2","G8","Q564",1,5]
[]
["This rule is redundant to a validation rule applied to all numeric values"]

{"sheet":"IsNumeric","index":17,"n_rows":5,"n_cols":6,"rows_kept":5,"cut":false,"hidden":true,"merged":[]}
["Severity","SheetName","TopLeftCell","BottomRightCell","RowStep","ColumnStep"]
["Error","Table_1","G8","AF455",1,5]
["Error","Table_2","G8","Q564",1,5]
[]
["This rule is redundant to a validation rule applied to all numeric values"]

{"sheet":"SimpleRatios","index":18,"n_rows":6,"n_cols":15,"rows_kept":6,"cut":false,"hidden":true,"merged":[[5,6,5,7]]}
["Severity","Sheet Name","Numerator\n (first block)","Denominator (first block)","First result\n(First block)","Last result\n(Last block)","Row Block Repetition Step","Column Block Repetition Step","Numerator multiplied by ","Ratio Greater or Equal than result cell","Valid Tolerance","If denominator = 0","Display text in error","Accept error If Footnote Exists","Column shift from value to footnote"]
[]
[]
[]
[]
[null,null,null,null,null,null,"Must be > 0 for a not relevant dimension. Else you get an infinite loop"]

{"sheet":"Thresholds","index":19,"n_rows":1,"n_cols":8,"rows_kept":1,"cut":false,"hidden":true,"merged":[]}
["Severity","SheetName","Top Left Cell","Bottom Right Cell","Row Step","Column Step","Lower value","Upper value"]